Workbook

Sheet 日集計用
O1: ver.1.0
O2: ※緑、黄色の塗り潰し部は自動計算です
B3: 日付 | C3: 44927 | F3: 曜日 | G3: =C3 -> 44927 | H3: 1ロット | I3: 100000 | J3: 通貨 | K3: 前日残高 | M3: 10000000 | N3: 円
B4: 決済No. | C4: 通貨ペア | D4: 売買 | E4: 約定価格 | G4: ドル円 レート | H4: 取引数量 (Lot) | I4: リスク リワード | J4: 獲得pips | K4: 損益 | L4: 残高 | M4: 取引業者 | N4: 新規時間 | O4: 決済時間 | P4: 保有期間
E5: 新規 | F5: 決済
B6: 1 | C6: GBP/USD | D6: 売 | E6: 147 | F6: 146 | G6: 146 | H6: 1 | I6: 1:1 | J6: =IF(D6="売",(E6-F6)/VLOOKUP(C6,諸係数!$A$3:$B$20,2,FALSE),(F6-E6)/VLOOKUP(C6,諸係数!$A$3:$B$20,2,FALSE)) -> 10000 | K6: =IF(VLOOKUP(C6,諸係数!$A$3:$C$20,3,FALSE)="on",J6*H6*$I$3*G6*VLOOKUP(C6,諸係数!$A$3:$C$20,2,FALSE),J6*H6*$I$3*VLOOKUP(C6,諸係数!$A$3:$C$20,2,FALSE)) -> 14600000 | L6: =M3+K6 -> 24600000 | M6: exness | N6: 0.5 | O6: 0.55208333 | P6: =O6-N6 -> 0.052083333
B7: 備考 | C7: エントリー 写真 1分足 | M7: エントリー 根拠 | N7: ゴールデンクロス
C8: エントリー 写真 15分足 | M8: エントリー 根拠 | N8: ゴールデンクロス
C9: エントリー 写真 1時間足 | M9: エントリー 根拠 | N9: ゴールデンクロス
B10: 2 | C10: GBP/USD | D10: 買 | E10: 1.25 | F10: 1.251 | G10: 146 | H10: 1 | I10: 1:1 | J10: =IF(D10="売",(E10-F10)/VLOOKUP(C10,諸係数!$A$3:$B$20,2,FALSE),(F10-E10)/VLOOKUP(C10,諸係数!$A$3:$B$20,2,FALSE)) -> 10 | K10: =IF(VLOOKUP(C10,諸係数!$A$3:$C$20,3,FALSE)="on",J10*H10*$I$3*G10*VLOOKUP(C10,諸係数!$A$3:$C$20,2,FALSE),J10*H10*$I$3*VLOOKUP(C10,諸係数!$A$3:$C$20,2,FALSE)) -> 14600 | L10: =L6+K10 -> 24614600 | M10: スリートレーダー | N10: 0.5 | O10: 0.55208333 | P10: =O10-N10 -> 0.052083333
B11: 備考 | C11: エントリー 写真 1分足 | M11: エントリー 根拠
C12: エントリー 写真 15分足 | M12: エントリー 根拠
C13: エントリー 写真 1時間足 | M13: エントリー 根拠
B14: 3 | C14: AUD/USD | D14: 買 | E14: 1.5 | F14: 1.485 | G14: 146 | H14: 1 | I14: 1:1 | J14: =IF(D14="売",(E14-F14)/VLOOKUP(C14,諸係数!$A$3:$B$20,2,FALSE),(F14-E14)/VLOOKUP(C14,諸係数!$A$3:$B$20,2,FALSE)) -> -150 | K14: =IF(VLOOKUP(C14,諸係数!$A$3:$C$20,3,FALSE)="on",J14*H14*$I$3*G14*VLOOKUP(C14,諸係数!$A$3:$C$20,2,FALSE),J14*H14*$I$3*VLOOKUP(C14,諸係数!$A$3:$C$20,2,FALSE)) -> -219000 | L14: =L10+K14 -> 24395600 | M14: exness | N14: 0.5 | O14: 0.55208333 | P14: =O14-N14 -> 0.052083333
B15: 備考 | C15: エントリー 写真 1分足 | M15: エントリー 根拠
C16: エントリー 写真 15分足 | M16: エントリー 根拠
C17: エントリー 写真 1時間足 | M17: エントリー 根拠
B18: 4 | C18: GBP/JPY | D18: 買 | E18: 180 | F18: 187 | G18: 146 | H18: 1 | I18: 1:1 | J18: =IF(D18="売",(E18-F18)/VLOOKUP(C18,諸係数!$A$3:$B$20,2,FALSE),(F18-E18)/VLOOKUP(C18,諸係数!$A$3:$B$20,2,FALSE)) -> 700 | K18: =IF(VLOOKUP(C18,諸係数!$A$3:$C$20,3,FALSE)="on",J18*H18*$I$3*G18*VLOOKUP(C18,諸係数!$A$3:$C$20,2,FALSE),J18*H18*$I$3*VLOOKUP(C18,諸係数!$A$3:$C$20,2,FALSE)) -> 700000 | L18: =L14+K18 -> 25095600 | M18: exness | N18: 0.5 | O18: 0.55208333 | P18: =O18-N18 -> 0.052083333
B19: 備考 | C19: エントリー 写真 1分足 | M19: エントリー 根拠
C20: エントリー 写真 15分足 | M20: エントリー 根拠
C21: エントリー 写真 1時間足 | M21: エントリー 根拠
B22: 5 | C22: EUR/JPY | D22: 売 | E22: 150 | F22: 149 | G22: 146 | H22: 1 | I22: 1:1 | J22: =IF(D22="売",(E22-F22)/VLOOKUP(C22,諸係数!$A$3:$B$20,2,FALSE),(F22-E22)/VLOOKUP(C22,諸係数!$A$3:$B$20,2,FALSE)) -> 100 | K22: =IF(VLOOKUP(C22,諸係数!$A$3:$C$20,3,FALSE)="on",J22*H22*$I$3*G22*VLOOKUP(C22,諸係数!$A$3:$C$20,2,FALSE),J22*H22*$I$3*VLOOKUP(C22,諸係数!$A$3:$C$20,2,FALSE)) -> 100000 | L22: =L18+K22 -> 25195600 | M22: exness | N22: 0.5 | O22: 0.55208333 | P22: =O22-N22 -> 0.052083333
B23: 備考 | C23: エントリー 写真 1分足 | M23: エントリー 根拠
C24: エントリー 写真 15分足 | M24: エントリー 根拠
C25: エントリー 写真 1時間足 | M25: エントリー 根拠
B26: 6 | C26: AUD/JPY | D26: 売 | E26: 115 | F26: 116 | G26: 146 | H26: 1 | I26: 1:1 | J26: =IF(D26="売",(E26-F26)/VLOOKUP(C26,諸係数!$A$3:$B$20,2,FALSE),(F26-E26)/VLOOKUP(C26,諸係数!$A$3:$B$20,2,FALSE)) -> -100 | K26: =IF(VLOOKUP(C26,諸係数!$A$3:$C$20,3,FALSE)="on",J26*H26*$I$3*G26*VLOOKUP(C26,諸係数!$A$3:$C$20,2,FALSE),J26*H26*$I$3*VLOOKUP(C26,諸係数!$A$3:$C$20,2,FALSE)) -> -100000 | L26: =L22+K26 -> 25095600 | M26: exness | N26: 0.5 | O26: 0.55208333 | P26: =O26-N26 -> 0.052083333
B27: 備考 | C27: エントリー 写真 1分足 | M27: エントリー 根拠
C28: エントリー 写真 15分足 | M28: エントリー 根拠
C29: エントリー 写真 1時間足 | M29: エントリー 根拠
B30: 7 | C30: GOLD | D30: 買 | E30: 1950 | F30: 1952 | G30: 146 | H30: 0.01 | I30: 1:1 | J30: =IF(D30="売",(E30-F30)/VLOOKUP(C30,諸係数!$A$3:$B$20,2,FALSE),(F30-E30)/VLOOKUP(C30,諸係数!$A$3:$B$20,2,FALSE)) -> 20 | K30: =IF(VLOOKUP(C30,諸係数!$A$3:$C$20,3,FALSE)="on",J30*H30*$I$3*G30*VLOOKUP(C30,諸係数!$A$3:$C$20,2,FALSE),J30*H30*$I$3*VLOOKUP(C30,諸係数!$A$3:$C$20,2,FALSE)) -> 292000 | L30: =L26+K30 -> 25387600 | M30: exness | N30: 0.5 | O30: 0.55208333 | P30: =O30-N30 -> 0.052083333
B31: 備考 | C31: エントリー 写真 1分足 | M31: エントリー 根拠
C32: エントリー 写真 15分足 | M32: エントリー 根拠
C33: エントリー 写真 1時間足 | M33: エントリー 根拠
B34: 8 | C34: GBP/USD | D34: 買 | E34: 1.25 | F34: 1.251 | G34: 146 | H34: 1 | I34: 1:1 | J34: =IF(D34="売",(E34-F34)/VLOOKUP(C34,諸係数!$A$3:$B$20,2,FALSE),(F34-E34)/VLOOKUP(C34,諸係数!$A$3:$B$20,2,FALSE)) -> 10 | K34: =IF(VLOOKUP(C34,諸係数!$A$3:$C$20,3,FALSE)="on",J34*H34*$I$3*G34*VLOOKUP(C34,諸係数!$A$3:$C$20,2,FALSE),J34*H34*$I$3*VLOOKUP(C34,諸係数!$A$3:$C$20,2,FALSE)) -> 14600 | L34: =L30+K34 -> 25402200 | M34: exness | N34: 0.5 | O34: 0.55208333 | P34: =O34-N34 -> 0.052083333
B35: 備考 | C35: エントリー 写真 1分足 | M35: エントリー 根拠
C36: エントリー 写真 15分足 | M36: エントリー 根拠
C37: エントリー 写真 1時間足 | M37: エントリー 根拠
B38: 9 | C38: GBP/USD | D38: 買 | E38: 1.25 | F38: 1.251 | G38: 146 | H38: 1 | I38: 1:1 | J38: =IF(D38="売",(E38-F38)/VLOOKUP(C38,諸係数!$A$3:$B$20,2,FALSE),(F38-E38)/VLOOKUP(C38,諸係数!$A$3:$B$20,2,FALSE)) -> 10 | K38: =IF(VLOOKUP(C38,諸係数!$A$3:$C$20,3,FALSE)="on",J38*H38*$I$3*G38*VLOOKUP(C38,諸係数!$A$3:$C$20,2,FALSE),J38*H38*$I$3*VLOOKUP(C38,諸係数!$A$3:$C$20,2,FALSE)) -> 14600 | L38: =L34+K38 -> 25416800 | M38: exness | N38: 0.5 | O38: 0.55208333 | P38: =O38-N38 -> 0.052083333
B39: 備考 | C39: エントリー 写真 1分足 | M39: エントリー 根拠
C40: エントリー 写真 15分足 | M40: エントリー 根拠
C41: エントリー 写真 1時間足 | M41: エントリー 根拠
B42: 10 | C42: GBP/USD | D42: 買 | E42: 1.25 | F42: 1.251 | G42: 146 | H42: 1 | I42: 1:1 | J42: =IF(D42="売",(E42-F42)/VLOOKUP(C42,諸係数!$A$3:$B$20,2,FALSE),(F42-E42)/VLOOKUP(C42,諸係数!$A$3:$B$20,2,FALSE)) -> 10 | K42: =IF(VLOOKUP(C42,諸係数!$A$3:$C$20,3,FALSE)="on",J42*H42*$I$3*G42*VLOOKUP(C42,諸係数!$A$3:$C$20,2,FALSE),J42*H42*$I$3*VLOOKUP(C42,諸係数!$A$3:$C$20,2,FALSE)) -> 14600 | L42: =L38+K42 -> 25431400 | M42: exness | N42: 0.5 | O42: 0.55208333 | P42: =O42-N42 -> 0.052083333
B43: 備考 | C43: エントリー 写真 1分足 | M43: エントリー 根拠
C44: エントリー 写真 15分足 | M44: エントリー 根拠
C45: エントリー 写真 1時間足 | M45: エントリー 根拠
B46: 計 | H46: =SUM(H6:H45) -> 9.01 | J46: =SUM(J6:J42) -> 10610 | K46: =SUM(K6:K42) -> 15431400 | L46: =L42 -> 25431400 | M46: 決済回数 | N46: =COUNT(J6:J42) -> 10 | O46: 勝率 | P46: =COUNTIF(J6:J45,">0")/N46 -> 0.8

Sheet 月集計
H1: ver.1.0
H2: ※緑、黄色の塗り潰し部は自動計算です
A3: 日付 | B3: 2023 | C3: 年 | D3: 1 | E3: 月 | F3: 前月残高 | H3: 10000000 | J3: 円
B4: 曜日 | C4: 損益 | D4: 目標金額 | E4: 目標残金額 | F4: 達成率 | G4: 残高 | H4: pips | I4: 決済回数 | J4: 勝率
A5: =DAY(K5) -> 1 | B5: =TEXT(A5,"aaa") -> 日 | G5: =$H$3+C5 -> 10000000 | K5: =IF(DAY(DATE( $B$3, $D$3, ROW()-4))=ROW()-4, DATE( $B$3, $D$3, ROW()-4), "") -> 44927
A6: =DAY(K6) -> 2 | B6: =TEXT(A6,"aaa") -> 月 | C6: 843800 | D6: 1000000 | E6: =D6-C6 -> 156200 | F6: =C6/D6 -> 0.8438 | G6: =$G5+C6 -> 10843800 | H6: 650 | I6: 10 | J6: 0.7 | K6: =IF(DAY(DATE( $B$3, $D$3, ROW()-4))=ROW()-4, DATE( $B$3, $D$3, ROW()-4), "") -> 44928
A7: =DAY(K7) -> 3 | B7: =TEXT(A7,"aaa") -> 火 | C7: 35000 | D7: 1000000 | E7: =D7-C7 -> 965000 | F7: =C7/D7 -> 0.035 | G7: =$G6+C7 -> 10878800 | H7: 30 | I7: 10 | J7: 0.6 | K7: =IF(DAY(DATE( $B$3, $D$3, ROW()-4))=ROW()-4, DATE( $B$3, $D$3, ROW()-4), "") -> 44929
A8: =DAY(K8) -> 4 | B8: =TEXT(A8,"aaa") -> 水 | C8: -210000 | D8: 1000000 | E8: =D8-C8 -> 1210000 | F8: =C8/D8 -> -0.21 | G8: =$G7+C8 -> 10668800 | H8: -150 | I8: 10 | J8: 0.4 | K8: =IF(DAY(DATE( $B$3, $D$3, ROW()-4))=ROW()-4, DATE( $B$3, $D$3, ROW()-4), "") -> 44930
A9: =DAY(K9) -> 5 | B9: =TEXT(A9,"aaa") -> 木 | C9: 140000 | D9: 1000000 | E9: =D9-C9 -> 860000 | F9: =C9/D9 -> 0.14 | G9: =$G8+C9 -> 10808800 | H9: 20 | I9: 10 | J9: 0.5 | K9: =IF(DAY(DATE( $B$3, $D$3, ROW()-4))=ROW()-4, DATE( $B$3, $D$3, ROW()-4), "") -> 44931
A10: =DAY(K10) -> 6 | B10: =TEXT(A10,"aaa") -> 金 | C10: 30000 | D10: 1000000 | E10: =D10-C10 -> 970000 | F10: =C10/D10 -> 0.03 | G10: =$G9+C10 -> 10838800 | H10: 10 | I10: 10 | J10: 0.45 | K10: =IF(DAY(DATE( $B$3, $D$3, ROW()-4))=ROW()-4, DATE( $B$3, $D$3, ROW()-4), "") -> 44932
A11: =DAY(K11) -> 7 | B11: =TEXT(A11,"aaa") -> 土 | G11: =$G10+C11 -> 10838800 | K11: =IF(DAY(DATE( $B$3, $D$3, ROW()-4))=ROW()-4, DATE( $B$3, $D$3, ROW()-4), "") -> 44933
A12: =DAY(K12) -> 8 | B12: =TEXT(A12,"aaa") -> 日 | G12: =$G11+C12 -> 10838800 | K12: =IF(DAY(DATE( $B$3, $D$3, ROW()-4))=ROW()-4, DATE( $B$3, $D$3, ROW()-4), "") -> 44934
A13: =DAY(K13) -> 9 | B13: =TEXT(A13,"aaa") -> 月 | C13: 843800 | D13: 1000000 | E13: =D13-C13 -> 156200 | F13: =C13/D13 -> 0.8438 | G13: =$G12+C13 -> 11682600 | H13: 650 | I13: 10 | J13: 0.7 | K13: =IF(DAY(DATE( $B$3, $D$3, ROW()-4))=ROW()-4, DATE( $B$3, $D$3, ROW()-4), "") -> 44935
A14: =DAY(K14) -> 10 | B14: =TEXT(A14,"aaa") -> 火 | C14: 35000 | D14: 1000000 | E14: =D14-C14 -> 965000 | F14: =C14/D14 -> 0.035 | G14: =$G13+C14 -> 11717600 | H14: 30 | I14: 10 | J14: 0.6 | K14: =IF(DAY(DATE( $B$3, $D$3, ROW()-4))=ROW()-4, DATE( $B$3, $D$3, ROW()-4), "") -> 44936
A15: =DAY(K15) -> 11 | B15: =TEXT(A15,"aaa") -> 水 | C15: -210000 | D15: 1000000 | E15: =D15-C15 -> 1210000 | F15: =C15/D15 -> -0.21 | G15: =$G14+C15 -> 11507600 | H15: -150 | I15: 10 | J15: 0.4 | K15: =IF(DAY(DATE( $B$3, $D$3, ROW()-4))=ROW()-4, DATE( $B$3, $D$3, ROW()-4), "") -> 44937
A16: =DAY(K16) -> 12 | B16: =TEXT(A16,"aaa") -> 木 | C16: 140000 | D16: 1000000 | E16: =D16-C16 -> 860000 | F16: =C16/D16 -> 0.14 | G16: =$G15+C16 -> 11647600 | H16: 20 | I16: 10 | J16: 0.5 | K16: =IF(DAY(DATE( $B$3, $D$3, ROW()-4))=ROW()-4, DATE( $B$3, $D$3, ROW()-4), "") -> 44938
A17: =DAY(K17) -> 13 | B17: =TEXT(A17,"aaa") -> 金 | C17: 30000 | D17: 1000000 | E17: =D17-C17 -> 970000 | F17: =C17/D17 -> 0.03 | G17: =$G16+C17 -> 11677600 | H17: 10 | I17: 10 | J17: 0.45 | K17: =IF(DAY(DATE( $B$3, $D$3, ROW()-4))=ROW()-4, DATE( $B$3, $D$3, ROW()-4), "") -> 44939
A18: =DAY(K18) -> 14 | B18: =TEXT(A18,"aaa") -> 土 | G18: =$G17+C18 -> 11677600 | K18: =IF(DAY(DATE( $B$3, $D$3, ROW()-4))=ROW()-4, DATE( $B$3, $D$3, ROW()-4), "") -> 44940
A19: =DAY(K19) -> 15 | B19: =TEXT(A19,"aaa") -> 日 | G19: =$G18+C19 -> 11677600 | K19: =IF(DAY(DATE( $B$3, $D$3, ROW()-4))=ROW()-4, DATE( $B$3, $D$3, ROW()-4), "") -> 44941
A20: =DAY(K20) -> 16 | B20: =TEXT(A20,"aaa") -> 月 | C20: 843800 | D20: 1000000 | E20: =D20-C20 -> 156200 | F20: =C20/D20 -> 0.8438 | G20: =$G19+C20 -> 12521400 | H20: 650 | I20: 10 | J20: 0.7 | K20: =IF(DAY(DATE( $B$3, $D$3, ROW()-4))=ROW()-4, DATE( $B$3, $D$3, ROW()-4), "") -> 44942
A21: =DAY(K21) -> 17 | B21: =TEXT(A21,"aaa") -> 火 | C21: 35000 | D21: 1000000 | E21: =D21-C21 -> 965000 | F21: =C21/D21 -> 0.035 | G21: =$G20+C21 -> 12556400 | H21: 30 | I21: 10 | J21: 0.7 | K21: =IF(DAY(DATE( $B$3, $D$3, ROW()-4))=ROW()-4, DATE( $B$3, $D$3, ROW()-4), "") -> 44943
A22: =DAY(K22) -> 18 | B22: =TEXT(A22,"aaa") -> 水 | C22: -210000 | D22: 1000000 | E22: =D22-C22 -> 1210000 | F22: =C22/D22 -> -0.21 | G22: =$G21+C22 -> 12346400 | H22: -150 | I22: 10 | J22: 0.7 | K22: =IF(DAY(DATE( $B$3, $D$3, ROW()-4))=ROW()-4, DATE( $B$3, $D$3, ROW()-4), "") -> 44944
A23: =DAY(K23) -> 19 | B23: =TEXT(A23,"aaa") -> 木 | C23: 140000 | D23: 1000000 | E23: =D23-C23 -> 860000 | F23: =C23/D23 -> 0.14 | G23: =$G22+C23 -> 12486400 | H23: 20 | I23: 10 | J23: 0.7 | K23: =IF(DAY(DATE( $B$3, $D$3, ROW()-4))=ROW()-4, DATE( $B$3, $D$3, ROW()-4), "") -> 44945
A24: =DAY(K24) -> 20 | B24: =TEXT(A24,"aaa") -> 金 | C24: 30000 | D24: 1000000 | E24: =D24-C24 -> 970000 | F24: =C24/D24 -> 0.03 | G24: =$G23+C24 -> 12516400 | H24: 10 | I24: 10 | J24: 0.7 | K24: =IF(DAY(DATE( $B$3, $D$3, ROW()-4))=ROW()-4, DATE( $B$3, $D$3, ROW()-4), "") -> 44946
A25: =DAY(K25) -> 21 | B25: =TEXT(A25,"aaa") -> 土 | G25: =$G24+C25 -> 12516400 | K25: =IF(DAY(DATE( $B$3, $D$3, ROW()-4))=ROW()-4, DATE( $B$3, $D$3, ROW()-4), "") -> 44947
A26: =DAY(K26) -> 22 | B26: =TEXT(A26,"aaa") -> 日 | G26: =$G25+C26 -> 12516400 | K26: =IF(DAY(DATE( $B$3, $D$3, ROW()-4))=ROW()-4, DATE( $B$3, $D$3, ROW()-4), "") -> 44948
A27: =DAY(K27) -> 23 | B27: =TEXT(A27,"aaa") -> 月 | C27: 843800 | D27: 1000000 | E27: =D27-C27 -> 156200 | F27: =C27/D27 -> 0.8438 | G27: =$G26+C27 -> 13360200 | H27: 650 | I27: 10 | J27: 0.7 | K27: =IF(DAY(DATE( $B$3, $D$3, ROW()-4))=ROW()-4, DATE( $B$3, $D$3, ROW()-4), "") -> 44949
A28: =DAY(K28) -> 24 | B28: =TEXT(A28,"aaa") -> 火 | C28: 35000 | D28: 1000000 | E28: =D28-C28 -> 965000 | F28: =C28/D28 -> 0.035 | G28: =$G27+C28 -> 13395200 | H28: 30 | I28: 10 | J28: 0.7 | K28: =IF(DAY(DATE( $B$3, $D$3, ROW()-4))=ROW()-4, DATE( $B$3, $D$3, ROW()-4), "") -> 44950
A29: =DAY(K29) -> 25 | B29: =TEXT(A29,"aaa") -> 水 | C29: -210000 | D29: 1000000 | E29: =D29-C29 -> 1210000 | F29: =C29/D29 -> -0.21 | G29: =$G28+C29 -> 13185200 | H29: -150 | I29: 10 | J29: 0.7 | K29: =IF(DAY(DATE( $B$3, $D$3, ROW()-4))=ROW()-4, DATE( $B$3, $D$3, ROW()-4), "") -> 44951
A30: =DAY(K30) -> 26 | B30: =TEXT(A30,"aaa") -> 木 | C30: 140000 | D30: 1000000 | E30: =D30-C30 -> 860000 | F30: =C30/D30 -> 0.14 | G30: =$G29+C30 -> 13325200 | H30: 20 | I30: 10 | J30: 0.7 | K30: =IF(DAY(DATE( $B$3, $D$3, ROW()-4))=ROW()-4, DATE( $B$3, $D$3, ROW()-4), "") -> 44952
A31: =DAY(K31) -> 27 | B31: =TEXT(A31,"aaa") -> 金 | C31: 30000 | D31: 1000000 | E31: =D31-C31 -> 970000 | F31: =C31/D31 -> 0.03 | G31: =$G30+C31 -> 13355200 | H31: 10 | I31: 10 | J31: 0.7 | K31: =IF(DAY(DATE( $B$3, $D$3, ROW()-4))=ROW()-4, DATE( $B$3, $D$3, ROW()-4), "") -> 44953
A32: =DAY(K32) -> 28 | B32: =TEXT(A32,"aaa") -> 土 | G32: =$G31+C32 -> 13355200 | K32: =IF(DAY(DATE( $B$3, $D$3, ROW()-4))=ROW()-4, DATE( $B$3, $D$3, ROW()-4), "") -> 44954
A33: =DAY(K33) -> 29 | B33: =TEXT(A33,"aaa") -> 日 | G33: =$G32+C33 -> 13355200 | K33: =IF(DAY(DATE( $B$3, $D$3, ROW()-4))=ROW()-4, DATE( $B$3, $D$3, ROW()-4), "") -> 44955
A34: =DAY(K34) -> 30 | B34: =TEXT(A34,"aaa") -> 月 | C34: 843800 | D34: 1000000 | E34: =D34-C34 -> 156200 | F34: =C34/D34 -> 0.8438 | G34: =$G33+C34 -> 14199000 | H34: 650 | I34: 10 | J34: 0.7 | K34: =IF(DAY(DATE( $B$3, $D$3, ROW()-4))=ROW()-4, DATE( $B$3, $D$3, ROW()-4), "") -> 44956
A35: =DAY(K35) -> 31 | B35: =TEXT(A35,"aaa") -> 火 | C35: 843800 | D35: 1000000 | E35: =D35-C35 -> 156200 | F35: =C35/D35 -> 0.8438 | G35: =$G34+C35 -> 15042800 | H35: 650 | I35: 10 | J35: 0.7 | K35: =IF(DAY(DATE( $B$3, $D$3, ROW()-4))=ROW()-4, DATE( $B$3, $D$3, ROW()-4), "") -> 44957
A36: 計 | C36: =SUM(C5:C35) -> 5042800 | D36: =SUM(D5:D35) -> 22000000 | E36: =SUM(E5:E35) -> 16957200 | F36: =C36/D36 -> 0.22921818 | G36: =G35 -> 15042800 | H36: =SUM(H5:H35) -> 3540 | I36: =SUM(I5:I35) -> 220 | J36: =AVERAGE(J5:J35) -> 0.62272727

Sheet 各月集計
E1: ver.1.0
E2: ※緑、黄色の塗り潰し部は自動計算です
A3: 月 | B3: 2023 | C3: 年 | D3: 年初残高 | E3: 10000000 | G3: 円
B4: 損益 | C4: pips | D4: 残高 | E4: 決済回数 | F4: 勝ち数 | G4: 勝率
A5: 1 | B5: 843800 | C5: 650 | D5: =$E$3+B5 -> 10843800 | E5: 100 | F5: 90 | G5: =F5/E5 -> 0.9
A6: 2 | B6: 843800 | C6: 500 | D6: =$D5+B6 -> 11687600 | E6: 650 | F6: 450 | G6: =F6/E6 -> 0.69230769
A7: 3 | B7: 35000 | C7: 300 | D7: =$D6+B7 -> 11722600 | E7: 450 | F7: 300 | G7: =F7/E7 -> 0.66666667
A8: 4 | B8: -210000 | C8: -150 | D8: =$D7+B8 -> 11512600 | E8: 300 | F8: 100 | G8: =F8/E8 -> 0.33333333
A9: 5 | B9: 140000 | C9: 20 | D9: =$D8+B9 -> 11652600 | E9: 100 | F9: 80 | G9: =F9/E9 -> 0.8
A10: 6 | B10: 30000 | C10: 10 | D10: =$D9+B10 -> 11682600 | E10: 150 | F10: 120 | G10: =F10/E10 -> 0.8
A11: 7 | B11: 843800 | C11: 650 | D11: =$D10+B11 -> 12526400 | E11: 300 | F11: 220 | G11: =F11/E11 -> 0.73333333
A12: 8 | B12: 843800 | C12: 650 | D12: =$D11+B12 -> 13370200 | E12: 250 | F12: 200 | G12: =F12/E12 -> 0.8
A13: 9 | B13: 843800 | C13: 650 | D13: =$D12+B13 -> 14214000 | E13: 650 | F13: 590 | G13: =F13/E13 -> 0.90769231
A14: 10 | B14: 35000 | C14: 30 | D14: =$D13+B14 -> 14249000 | E14: 120 | F14: 100 | G14: =F14/E14 -> 0.83333333
A15: 11 | B15: -210000 | C15: -150 | D15: =$D14+B15 -> 14039000 | E15: 150 | F15: 60 | G15: =F15/E15 -> 0.4
A16: 12 | B16: 140000 | C16: 20 | D16: =$D15+B16 -> 14179000 | E16: 300 | F16: 250 | G16: =F16/E16 -> 0.83333333
A17: 計 | B17: =SUM(B5:B16) -> 4179000 | C17: =SUM(C5:C16) -> 3180 | D17: =D16 -> 14179000 | E17: =SUM(E5:E16) -> 3520 | F17: =SUM(F5:F16) -> 2560 | G17: =AVERAGE(G5:G16) -> 0.725

Sheet 諸係数
A1: 取引通貨ペアを下記に追加or削除 | E1: 取引口座
A2: 通貨ペア | B2: 1pips換算値 | C2: 円換算 | E2: exness
A3: USD/JPY | B3: 0.01 | C3: off | E3: スリートレーダー
A4: GBP/USD | B4: 0.0001 | C4: on
A5: EUR/USD | B5: 0.0001 | C5: on
A6: AUD/USD | B6: 0.0001 | C6: on
A7: GBP/JPY | B7: 0.01 | C7: off
A8: EUR/JPY | B8: 0.01 | C8: off
A9: AUD/JPY | B9: 0.01 | C9: off
A10: GOLD | B10: 0.1 | C10: on | D10: (ドル建て)
