{"text_format":"1","workbook":"xlsx","n_sheets":24,"sheets":["②OP記入欄改","条件ﾏｽﾀ","説明","仕様説明","自動作成","CPP ＃25 4000","CPP＃25 8000","CPＰ #25 4000 3丁","CPP＃25 8000 3丁","PET","PET 3","＃30 2丁","#30 3丁","15セット用","2丁","3丁","ＣＰＰ#40","3丁＃４０","CPP4000#20","CPP800 S#20","①入力手順","③伝票原本 改 記入方法","枠図","Sheet3"],"not_rendered":{"charts":0,"images":55,"macros":1,"external_links":0,"defined_names":18,"comments":0,"pivot_tables":0},"unopened":[],"bounds":{"document_bytes":16777216,"sheet_cells":100000,"rows_first":2000,"rows_last":500,"rows_between":2000,"halvings":0,"cell_chars":16384,"cell_head_chars":4096},"cells_cut":0,"cells_raw":0,"read":"whole","date_system":"1900"}

{"sheet":"②OP記入欄改","index":0,"n_rows":47,"n_cols":16,"rows_kept":47,"cut":false,"hidden":false,"merged":[[2,6,2,7],[2,8,2,9],[2,10,2,11],[3,6,3,7],[3,8,3,9],[3,10,3,11],[4,6,4,7],[4,8,4,9],[4,10,4,11],[5,6,5,7],[5,8,5,9],[5,10,5,11],[9,10,9,11],[6,6,6,7],[6,8,6,9],[6,10,6,11],[7,6,7,7],[7,8,7,9],[7,10,7,11],[4,2,5,2],[4,1,5,1],[12,6,12,7],[12,8,12,9],[12,10,12,11],[10,6,10,7],[10,8,10,9],[10,10,10,11],[11,6,11,7],[11,8,11,9],[11,10,11,11],[8,6,8,7],[8,8,8,9],[8,10,8,11],[9,6,9,7],[9,8,9,9]]}
[]
[]
[null,null,null,"スリットOP記入欄",null,null,"仕向先",null,"製品幅",null,"製品長さ",null,"計本","実","梱形"]
[null,1,"加工日","2025-10-23",null,1,{"$f":"$O$18","v":0},null,{"$f":"$G$18","v":840},null,{"$f":"$H$18","v":4000},null,{"$f":"J18","v":10},null,null,"P"]
[null,2,"LOTNo\n（ｽﾘｯﾄﾛｯﾄ時のみ\n2行目使用する）",60420357150,null,2,{"$f":"$O$19","v":0},null,{"$f":"$G$19","v":1080},null,{"$f":"$H$19","v":4000},null,10]
[null,null,null,null,null,3,{"$f":"O20","v":0},null,{"$f":"$G$20","v":1080},null,{"$f":"$H$20","v":4000},null,1,null,null,"P"]
[null,3,"製品区分","S",null,4,{"$f":"$O$21","v":0},null,{"$f":"$G$21","v":840},null,{"$f":"$H$21","v":4000},null,1]
[null,4,"品種","CPP 2073 KT3",null,5,{"$f":"$O$22","v":0},null,{"$f":"$G$22","v":0},null,{"$f":"$H$22","v":0},null,0]
[null,5,"番手",25,null,6,{"$f":"$O$23","v":0},null,{"$f":"$G$23","v":0},null,{"$f":"$H$23","v":0},null,0]
[null,6,"原反名",9041,null,7,{"$f":"$O$24","v":0},null,{"$f":"$G$24","v":0},null,{"$f":"$H$24","v":0},null,0]
[null,7,"原反幅",1960,null,8,{"$f":"$O$25","v":0},null,{"$f":"$G$25","v":0},null,{"$f":"$H$25","v":0},null,0]
[null,8,"原反長",46000,null,9,{"$f":"$O$26","v":0},null,{"$f":"$G$26","v":0},null,{"$f":"$H$26","v":0},null,0]
[null,9,"前工程Ｍ/Ｃ","DF7",null,10,{"$f":"$O$27","v":0},null,{"$f":"$G$27","v":0},null,{"$f":"$H$27","v":0},null,{"$f":"J27","v":0}]
[null,10,"スリット作業指示NO",44018360001]
[null,11,"スリットＭ/Ｃ",19]
[null,12,"Ｍ/Ｃ条件",2,null,null,"製品幅貼り付けＯＰ入力"]
[null,13,"検知器条件",2,null,null,"製品幅","製品長さ",null,"計本",null,null,null,"　　","仕向先","梱形"]
[null,null,null,null,null,1,840,4000,1,10,10,"2丁",null,"2026-04-30"]
[null,null,null,null,null,2,1080,4000,1,10,60,null,null,"2026-04-30"]
[null,null,null,"製品名",null,3,1080,4000,1,1,6,null,null,"2026-04-30"]
[null,null,null,"透明品種",null,4,840,4000,1,1,1,null,null,"2026-04-30"]
[null,null,null,"VM-PET 1011 HG -CR",null,5]
[null,null,null,"VM-PET 1011 HGM-CR",null,6]
[null,null,null,"VM-PET 1011 HG",null,7]
[null,null,null,"VM-PET 1031 HG",null,8]
[null,null,null,"VM-PET 1011 HG-CW",null,9]
[null,null,null,"VM-PET 1011 RG-CW",null,10]
[null,null,null,"VM-PET 1011 EG-C1"]
[null,null,null,"VM-PET 1011 SB-R2",null,"原反名","前工程M/C","大型ＳＬ"]
[null,null,null,"VM-PET 1011 CXR",null,"9021Ｔ","DF1",1]
[null,null,null,"VM-PET 1011HG-CA",null,9041,"DF3",6,null," "]
[null,null,null,"VM-PET 1011HG-CX",null,"9041A3","DF4",9]
[null,null,null,"VM-PET 1011 RG-CR",null,"9021A3","DF5",10]
[null,null,null,"VM-PET 1011CXR",null,9061,"DF6",11]
[null,null,null,null,null,"P60","DF7",13]
[null,null,null,"ＣＰＰ品種",null,"P60D","CF1",15]
[null,null,null,"ＣＰＰ2703",null,"PTJ-C","CF5",17]
[null,null,null,"ＣＰＰ2203",null,"PC","DNP",19]
[null,null,null,"ＣＰＰ2704",null,"Ｍ127"]
[null,null,null,"CPP2803EZ",null,"FE2001"]
[null,null,null,"ＣＰＰ2703  KT3",null,"FE2001A"]
[null,null,null,"ALPET品種",null,"BP216"]
[null,null,null,"BR-PET 1012",null,"BP216M"]
[null,null,null,"BR-PET 1312",null,"FHP310M"]
[null,null,null,"VM-PET 1310",null,"ＢＨＤＬ"]
[null,null,null,"BR-PET 1517"]
[null,null,null,"BR-PET 1019"]

{"sheet":"条件ﾏｽﾀ","index":1,"n_rows":55,"n_cols":22,"rows_kept":55,"cut":false,"hidden":false,"merged":[]}
[]
[]
[null,null,null,null,null,null,null,null,null,null,null,null,null,null,null,null,null,null,"特殊条件"]
[null,null,"欠点検出器エッジ設定"]
[null,null,"原反幅","エッジ幅",null,"品番","品名","原価区分","原反名","コード","表層ﾛｽ","品種","速度","M/C条件設定　呼び出しNo","欠点検出器",null,"仕向先",null,"製品コード","製品長","速度","M/C条件設定　呼び出しNo"]
[null,null,1600,475,null,25,"MCP",null,"9041A3",2703,100,"CPP 2073",480,2,1,null,"細川",null,1012,8000,450,8]
[null,null,1620,465,null,25,"MCP",null,9041,2203,100,"CPP 2203",480,2,1,null,"真丸"]
[null,null,1640,455,null,25,"MCP","3K",9041,2703,1000,"CPP 2073 KT3",480,2,2]
[null,null,1660,445,null,30,"MCP",null,9041,2703,0,"CPP 2073",480,2,1]
[null,null,1680,435]
[null,null,1700,425,null,12,"BR","3B7","P60",1012,0,"BR-PET 1012",450,0,3]
[null,null,1720,415,null,12,"BR",null,"P60D",1012,0,"BR-PET 1019",450,0,6]
[null,null,1740,405]
[null,null,1760,395]
[null,null,1780,385]
[null,null,1800,375]
[null,null,1820,365]
[null,null,1840,355]
[null,null,1860,345]
[null,null,1880,335]
[null,null,1900,325]
[null,null,1920,315]
[null,null,1940,305]
[null,null,1960,295]
[null,null,1980,285]
[null,null,2000,275]
[null,null,2020,265]
[null,null,2040,255]
[null,null,2060,245]
[null,null,2080,235]
[null,null,2100,225]
[null,null,2120,215]
[null,null,2140,205]
[null,null,2160,195]
[null,null,2180,185]
[null,null,2200,175]
[null,null,2220,165]
[null,null,2240,155]
[null,null,2260,145]
[null,null,2280,135]
[null,null,2300,125]
[null,null,2320,115]
[null,null,2340,105]
[null,null,2360,95]
[null,null,2380,85]
[null,null,2400,75]
[]
[]
[]
[]
[]
[]
[null,null,1600,475]
[null,null,1620,465]
[null,null,1640,455]

{"sheet":"説明","index":2,"n_rows":91,"n_cols":27,"rows_kept":91,"cut":false,"hidden":false,"merged":[]}
[]
[]
[null,null,null,null,null,null,null,null,null,null,null,null,null,null,null,"計算のルール"]
[null,"①セット位置計算"]
[]
[null,null,null,null,null,null,null,null,null,null,null,null,null,null,null,null,null,"表層ロス",null,"1セット目",null,"２セット目",null,"３セット目",null,"４セット目","以下同じ数値が続く"]
[null,"・自動作成シートのジョイント（セルAF１６）に値入力",null,null,null,null,null,null,null,null,null,null,null,null,null,"4000のみ",null,null,"＋",4050,"＋",4040,"＋",4040,"＋",4040,"・・・"]
[]
[null,"・計算結果をセット数（セルAF１８）長さ位置（セルAG１８）に転記",null,null,null,null,null,null,null,null,null,null,null,null,null,"4000と8000",null,null,"＋",4050,"＋",8080,"＋",8080,"＋",8080,"・・・"]
[]
[null,"計算方法",null,null,null,null,null,null,null,null,null,null,null,null,null,"8000のみ",null,null,"＋",8090,"＋",8080,"＋",8080,"＋",8080,"・・・"]
[]
[null,"1.長さ（AG5～AG14）までの値をみる。"]
[]
[null,"長さは以下の３つに分類される。",null,null,null,null,null,null,null,null,null,null,null,null,null,"例題１"]
[]
[null,"4000のみ、4000と8000、8000のみ",null,null,null,null,null,null,null,null,null,null,null,null,null,"4000のみでジョイント9200m、表層ロス100mの時"]
[]
[null,"2.右の計算（例題参照）",null,null,null,null,null,null,null,null,null,null,null,null,null,null,null,"表層ロス",null,"1セット目",null,"２セット目"]
[null,null,null,null,null,null,null,null,null,null,null,null,null,null,null,null,null,100,"＋",4050,"＋",4040,"＝",8190]
[null,null,null,null,null,null,null,null,null,null,null,null,null,null,null,null,null,null,null,null,null,null,null,"３セット目"]
[null,"3.表層ロスは自動作成シートの表層ロス（セルS42）を参照",null,null,null,null,null,null,null,null,null,null,null,null,null,null,null,null,null,9200,"ー",8190,"＝",1010]
[]
[null,"※表層ロスボタンは100⇔200を交互に切り替わります。"]
[null,null,null,null,null,null,null,null,null,null,null,null,null,null,null,null,null,null,null,"セット数",null,"長さ位置"]
[null,"切替たとき長さ位置の結果も100⇔200の差し引きされるようにしたい。",null,null,null,null,null,null,null,null,null,null,null,null,null,null,null,null,null,3,null,"1010m"]
[null,null,null,null,null,null,null,null,null,null,null,null,null,null,null,"例題2"]
[]
[null,null,null,null,null,null,null,null,null,null,null,null,null,null,null,"4000、8000でジョイント19200m、表層ロス100mの時"]
[null,"※ジョイントクリアした際"]
[null,null,null,null,null,null,null,null,null,null,null,null,null,null,null,null,null,"表層ロス",null,"1セット目",null,"２セット目"]
[null,"セット数と長さ位置の値もクリアする",null,null,null,null,null,null,null,null,null,null,null,null,null,null,null,0,"＋",4050,"＋",8080,"＝",12130]
[null,null,null,null,null,null,null,null,null,null,null,null,null,null,null,null,null,null,null,null,null,null,null,"３セット目"]
[null,null,null,null,null,null,null,null,null,null,null,null,null,null,null,null,null,null,null,19200,"ー",12130,"＝",7070]
[]
[]
[null,null,null,null,null,null,null,null,null,null,null,null,null,null,null,null,null,null,null,"セット数",null,"長さ位置"]
[null,null,null,null,null,null,null,null,null,null,null,null,null,null,null,null,null,null,null,3,null,"7070m"]
[null,"②塗りつぶしの行の変更"]
[]
[]
[null,"現状"]
[null,"生産予定表ファイルのDF6DF7生産予定シートで"]
[null,"A列（生産予定日）をクリックしフォーム画面を表示し"]
[null,"加工終了ボタンおす。"]
[]
[null,"・選択しした行のみが塗りつぶし"]
[]
[]
[]
[]
[null,"変更"]
[null,"選択した行からY列（品名コード）に値が表示されている"]
[null,"行までを塗りつぶす。"]
[]
[]
[]
[]
[null,"③作業ステータス選択のリセットボタンの仕様変更"]
[]
[]
[null,"現状"]
[null,"リセットでCSVファイルのデータをクリアされる。"]
[]
[]
[null,"変更"]
[null,"リセットでCSVファイルのデータをリセット登録"]
[]
[]
[null,"２台のPCで使用"]
[null,"PC１で準備を押す。色変わる"]
[null,"PC2で更新。PC１で準備とした項目の色が反映"]
[null,"PC1でリセットする。色もとに戻る。"]
[null,"PC2で更新。準備の色はもとに戻らない※CSVデータが削除されたため※コメントも同じ"]
[]
[null,"↑準備、加工中、加工終了、コメントがもとに戻るようにしたい。"]
[]
[]
[]
[null,"生産予定表ファイルのDF6,DF7シート"]
[null,"④貼り付けボタンの丁数計算の分離（丁数計算ボタン追加）"]
[]
[]
[null,"現状"]
[null,"貼り付けボタンを押すと予定表貼り付けと丁数計算を同時実施"]
[]
[]
[null,"変更"]
[null,"『貼り付け』ボタン→予定表貼り付けのみ"]
[]
[null,"『丁数計算』ボタン→丁数計算を実行"]

{"sheet":"仕様説明","index":3,"n_rows":279,"n_cols":21,"rows_kept":279,"cut":false,"hidden":true,"merged":[]}
[]
[]
[]
[null,"仕様説明"]
[]
[]
[null,"予定表の行をコピー"]
[]
[]
[]
[]
[]
[]
[]
[]
[]
[null,"自動作成シートの実行ボタンを押す。"]
[null,null,null,null,null,null,null,null,null,null,null,null,null,null,null,null,null,null,null,"手入力の項目"]
[]
[null,null,null,null,null,null,null,null,null,null,null,null,null,null,null,null,null,null,null,"日付とマシンは手入力してください。"]
[]
[]
[]
[]
[]
[]
[]
[]
[]
[]
[]
[]
[]
[]
[]
[]
[]
[]
[null,"ロットNo確認画面が表示"]
[]
[null,"投入する原反Lotを入力する。　※表示されているＬｏｔＮｏが違う場合は入力しなおしてください。"]
[]
[null,null,null,null,null,null,"※Ｌｏｔ確認画面が開いたときは次の製造LotNoを表示します。"]
[]
[null,null,null,null,null,null,"※予定表に製造Lotが記載されている場合は自動で転記されLot確認画面は表示されません。"]
[null,null,null,null,null,null,"　　基本予定表に製造Lot記載されていることはない前提なので常に確認画面が表示されると思います。"]
[]
[]
[]
[]
[]
[null,"下記項目はすべて自動で転記します。"]
[]
[null,"予定表","製品区分","番手","原反名","原反幅","原反長","作業指示Ｎｏ","仕向先","製品幅","製品長さ","計本"]
[null,"条件マスタ","エッジ幅","品種","表層ロス","ライン速度","条件設定No","検知器条件"]
[null,"原反Lot","前工程M/C"]
[null,"関数式","梱形","ﾛｯｸｼｬﾌﾄ","ｺｱ"]
[null,null,null,null,null,null,null,null,null,null,null,null,null,null,null,null,null,null,null,"予定表と実際の原反長さ違う時はここを打ち変える。"]
[]
[null,"仕向先の確認"]
[]
[null,null,null,null,null,null,null,null,null,null,null,null,null,null,null,null,null,null,null,"仕向先について"]
[]
[null,null,null,null,null,null,null,null,null,null,null,null,null,null,null,null,null,null,null,"・転記後、不要な文字を削除してください。"]
[]
[]
[]
[]
[]
[]
[]
[null,null,null,null,null,null,null,null,null,null,null,null,null,null,null,null,null,null,null,"展開図の再描画について"]
[]
[null,null,null,null,null,null,null,null,null,null,null,null,null,null,null,null,null,null,null,"製品セット数が予定表と違う場合は本数を打ち替えて"]
[null,null,null,null,null,null,null,null,null,null,null,null,null,null,null,null,null,null,null,"再度、実行ボタンを押して展開図を作成しなおしてください。"]
[]
[]
[]
[]
[]
[null,null,null,null,null,null,null,null,null,null,null,null,null,null,null,null,null,null,null,null,"図形上移動ボタン追加"]
[]
[null,null,null,null,null,null,null,null,null,null,null,null,null,null,null,"展開図を印刷。印刷後、製造ＬｏｔがＬｏｔｕｐします。"]
[]
[]
[]
[]
[null,null,null,null,null,null,null,null,null,null,null,null,null,null,null,"反転動作について",null,null,null,null,"図形上移動ボタンでﾏｯﾌﾟを上部に移動します。"]
[null,null,null,null,null,null,null,null,null,null,null,null,null,null,null,null,null,null,null,null,"元に戻したい場合はMD方向ボタンを押してください。"]
[null,null,null,null,null,null,null,null,null,null,null,null,null,null,null,"・下記の時にボタンを押すと展開図が反転します。"]
[]
[null,null,null,null,null,null,null,null,null,null,null,null,null,null,null,"ＭＤ方向"]
[null,null,null,null,null,null,null,null,null,null,null,null,null,null,null,"・4000ｍと8000ｍが混在しているとき"]
[null,null,null,null,null,null,null,null,null,null,null,null,null,null,null,"・2丁取り3丁取りが混在しているとき"]
[null,null,null,null,null,null,null,null,null,null,null,null,null,null,null,"・複数の取り幅があるとき"]
[]
[]
[null,null,null,null,null,null,null,null,null,null,null,null,null,null,null,"ＴＤ方向"]
[null,null,null,null,null,null,null,null,null,null,null,null,null,null,null,"・2丁取り　","左右反転"]
[null,null,null,null,null,null,null,null,null,null,null,null,null,null,null,"・3丁取り　一番長い幅を中央とし左右を反転"]
[]
[]
[]
[]
[null,null,null,null,null,null,null,null,null,null,null,null,null,null,null,"展開図のスタート部に図形を表示します。"]
[null,null,null,null,null,null,null,null,null,null,null,null,null,null,null,"①スタート②スタート/ラスト③ラスト④無し"]
[]
[]
[]
[]
[]
[]
[null,null,null,null,null,null,null,null,null,null,null,null,null,null,null,"100ｍ⇔200ｍを交互に表示します。"]
[null,null,null,null,null,null,null,null,null,null,null,null,null,null,null,"・表層ロスが100ｍの場合のみ対応する仕様です。"]
[null,null,null,null,null,null,null,null,null,null,null,null,null,null,null,"・表層ロスを200ｍとしたとき、表層ロス100mｎ製品が連続する場合"]
[null,null,null,null,null,null,null,null,null,null,null,null,null,null,null,"　表層ロス200mを維持します。"]
[]
[]
[]
[]
[]
[]
[]
[]
[]
[null,null,null,null,null,null,null,null,"〇表示"]
[]
[]
[null,"その他"]
[null,"・エッジ幅でリストにない幅がいくつかありました。一応エラーメッセージを出すようにしています。",null,null,null,null,null,null,null,null,null,null,null,null,null,null,null,null,"特殊条件について"]
[null,"・条件マスタは番手/品名/原反名/コードで検索します。　※一致しない場合はエラーメッセージを表示し条件マスタからの転記は実行されません。"]
[null,"　※原価区分を入力した場合番手/品名/原価区分/原反名/コードの５つをキーで検索します。",null,null,null,null,null,null,null,null,null,null,null,null,null,null,null,null,"製品長さでライン速度が違う条件は特殊条件マスタに"]
[null,null,null,null,null,null,null,null,null,null,null,null,null,null,null,null,null,null,"製品コード/長さ/速度を記載してください。"]
[]
[]
[]
[]
[]
[]
[]
[]
[]
[]
[]
[null,null,null,null,null,null,null,null,null,null,null,null,null,null,null,null,null,null,"条件設定追加"]
[]
[]
[]
[]
[null,"予定表ファイルについて"]
[]
[]
[]
[null,"前準備"]
[]
[null,"１．データ格納ファイルを共有フォルダーに入れる。"]
[]
[null,"２．生産予定表ファイルのファイル指定ボタンを押しデータ格納ファイルを選択する。"]
[]
[null,"３．スリットM/Cを入力"]
[]
[]
[]
[]
[]
[]
[]
[]
[]
[]
[]
[null,"塗りつぶしの色選択"]
[]
[]
[null,"DF6予定表とDF7予定表の色を選択　※両方のシートで指定してください。"]
[]
[null,"『準備、加工中』、『加工終了』に色を付けダブルクリックで設定する。"]
[]
[]
[]
[]
[]
[]
[]
[]
[]
[]
[]
[]
[]
[]
[]
[null,"予定表貼り付け"]
[]
[null,"CF6予定表、DF7予定表ｼｰﾄの貼り付けボタンを押し予定表を貼り付ける　※元となる予定表を開いてから実行して下さい。"]
[]
[]
[null,null,null,null,null,null,"※生産予定表の名前が『～〇〇〇〇〇〇〇』の場合は貼り付けボタンでファイルの読み取りができない為、"]
[null,null,null,null,null,null,"　ファイル選択画面が表示されるのでそこからファイルを指定してください。"]
[]
[]
[]
[]
[]
[]
[]
[]
[]
[]
[]
[null,"ステータスの選択"]
[]
[null,"予定表の日付をダブルクリックして選択画面を表示"]
[]
[null,null,null,null,null,null,null,"各ボタンの詳細"]
[]
[null,null,null,null,null,null,null,"準備","生産予定日を塗りつぶし　"]
[]
[null,null,null,null,null,null,null,"加工中","生産予定日～受付Noまでを塗りつぶし　　※加工中を複数選択できない仕様にしています。",null,null,null,null,null,null,null,"※加工中ではないのに加工中を選択できない場合はAW列に加工中の文字があるか確認してください。あったら消して"]
[]
[null,null,null,null,null,null,null,"加工終了","行全体を塗りつぶし　"]
[]
[null,null,null,null,null,null,null,"コメント","コメントを入力して戻るで転記します。　デフォルトは赤"]
[]
[null,null,null,null,null,null,null,"リセット","トラブル等により加工中止した際にコメント及び塗りつぶした項目をもとに戻す"]
[]
[null,null,null,null,null,null,null,"各項目を実行した際CSVファイルにデータが記録されます。"]
[]
[null,null,null,null,null,null,null,"※注　生計Noを検索キーとしている為、生計Noが空白の場合は実行できません。"]
[]
[]
[]
[]
[null,"コアチェック表示"]
[]
[null,"コアチェックは予定表のAV列に直接入力してください。　※入力時自動で記録されます。"]
[]
[]
[null,null,null,null,null,null,null,null,"予定表を張り替えた際、一度コアチェックはクリアされます。"]
[]
[null,null,null,null,null,null,null,null,"更新ボタンを押すとチェックを入れた該当のセルに再度転記されます。"]
[]
[]
[]
[]
[null,null,null,null,null,null,null,null,"コアチェックを消すと記録からもリセットされます。"]
[]
[]
[]
[]
[]
[]
[]
[]
[]
[]
[]
[]
[]
[null,"ステータス更新"]
[]
[]
[null,"予定表CF6予定表、DF7予定表ｼｰﾄの更新ボタンを押すと記録されなﾃﾞｰﾀが転記されます。"]
[]
[]
[]
[null,null,null,null,null,"CF6予定表、DF7予定表ｼｰﾄ両方にボタンを設置していますがどちらか1つを押せば両方の予定を更新します。"]
[]
[]
[]
[]
[]
[]
[]
[null,"保存データについて"]
[]
[null,"基本2か月以上経過したデータは自動でクリアされる仕様ですが"]
[null,"更新時の処理が重たい場合のクリアボタンを設置しています。"]
[null,"押すと記録されているすべてのデータが1度リセットされます。"]

{"sheet":"自動作成","index":4,"n_rows":71,"n_cols":36,"rows_kept":71,"cut":false,"hidden":false,"merged":[[0,1,1,6],[0,7,1,10],[0,11,1,12],[0,13,1,13],[0,14,1,15],[0,16,1,22],[4,2,4,3],[4,4,4,5],[4,6,4,7],[4,11,4,14],[4,15,4,17],[4,18,4,20],[2,16,2,19],[2,20,2,22],[3,2,3,3],[3,4,3,5],[3,6,3,7],[3,11,3,14],[3,15,3,17],[3,18,3,20],[2,4,2,5],[2,6,2,7],[2,8,2,9],[2,10,2,11],[2,12,2,13],[2,14,2,15],[6,2,6,3],[6,4,6,5],[6,6,6,7],[6,11,6,14],[6,15,6,17],[6,18,6,20],[5,2,5,3],[5,4,5,5],[5,6,5,7],[5,11,5,14],[5,15,5,17],[5,18,5,20],[8,2,8,3],[8,4,8,5],[8,6,8,7],[8,11,8,14],[8,15,8,17],[8,18,8,20],[7,2,7,3],[7,4,7,5],[7,6,7,7],[7,11,7,14],[7,15,7,17],[7,18,7,20],[10,2,10,3],[10,4,10,5],[10,6,10,7],[10,11,10,14],[10,15,10,17],[10,18,10,20],[9,2,9,3],[9,4,9,5],[9,6,9,7],[9,11,9,14],[9,15,9,17],[9,18,9,20],[12,2,12,3],[12,4,12,5],[12,6,12,7],[12,11,12,14],[12,15,12,17],[12,18,12,20],[11,2,11,3],[11,4,11,5],[11,6,11,7],[11,11,11,14],[11,15,11,17],[11,18,11,20],[14,12,14,14],[14,15,14,18],[14,19,14,22],[13,2,13,3],[13,4,13,5],[13,6,13,7],[13,11,13,14],[13,15,13,17],[13,18,13,20],[14,1,14,5],[14,6,14,7],[14,8,14,11],[15,12,15,14],[15,16,15,18],[15,20,15,22],[16,1,17,1],[16,15,17,15],[16,16,17,18],[16,19,17,19],[16,20,17,22],[15,1,15,5],[15,8,15,11],[21,15,21,17],[21,18,21,22],[22,15,22,17],[22,18,22,22],[23,15,23,17],[23,18,23,22],[18,15,18,17],[18,18,18,22],[19,15,19,17],[19,18,19,22],[20,15,20,17],[20,18,20,22],[24,15,24,17],[24,18,24,22],[25,15,25,17],[25,18,25,22],[26,15,30,15],[26,16,26,18],[26,21,26,22],[27,16,27,18],[27,19,27,20],[27,21,27,22],[31,15,31,22],[32,15,32,18],[32,19,32,20],[32,21,32,22],[33,15,33,22],[34,15,34,22],[28,16,28,18],[28,19,28,22],[29,16,29,18],[29,19,29,20],[30,16,30,18],[30,19,30,20],[44,1,44,14],[45,1,45,2],[45,3,45,4],[45,5,45,6],[45,7,45,8],[45,9,45,10],[45,11,45,12],[45,13,45,14],[39,15,39,22],[40,18,40,20],[41,18,41,20],[42,15,42,18],[42,19,42,22],[43,2,43,7],[43,8,43,13],[43,15,43,18],[43,19,43,22],[46,13,46,14],[47,1,47,2],[47,3,47,4],[47,5,47,6],[47,7,47,8],[47,9,47,10],[47,11,47,12],[47,13,47,14],[46,1,46,2],[46,3,46,4],[46,5,46,6],[46,7,46,8],[46,9,46,10],[46,11,46,12],[70,1,70,4],[60,7,60,16],[60,17,60,19],[68,1,68,4],[68,5,68,8],[68,9,68,12],[68,13,68,16],[68,17,68,21],[58,4,58,5],[58,7,58,16],[58,17,58,19],[59,4,59,5],[59,7,59,16],[59,17,59,19],[69,1,69,4],[69,5,69,8],[69,9,69,12],[11,34,11,36],[12,34,12,36],[13,34,13,36],[69,13,69,16],[69,17,69,21],[55,16,55,19],[55,20,55,22],[56,4,56,5],[57,4,57,5],[57,7,57,16],[57,17,57,19],[55,4,55,5],[55,6,55,7],[55,8,55,9],[55,10,55,11],[55,12,55,13],[55,14,55,15],[53,1,54,6],[53,7,53,10],[53,11,54,12],[53,13,54,13],[53,14,54,15],[53,16,54,22],[54,7,54,10],[0,32,0,33],[3,34,3,36],[4,34,4,36],[5,34,5,36],[6,34,6,36],[7,34,7,36],[8,34,8,36],[9,34,9,36],[10,34,10,36]]}
[null,"スリット伝票　ＬＯＴ",null,null,null,null,null,{"$f":"②OP記入欄改!$D$5","v":60420357150},null,null,null,"製区",null,{"$f":"②OP記入欄改!$D$7","v":"S"},"品種",null,{"$f":"②OP記入欄改!$D$8","v":"CPP 2073 KT3"},null,null,null,null,null,null,null,null,null,null,"表示モード",0,null,null,"加工日","2025-10-23",null,"原反長",46000]
[null,null,null,null,null,null,null,null,null,null,null,null,null,null,null,null,null,null,null,null,null,null,null,null,null,null,null,"表示モード",0,1,0,null,null,null,"スリットＭ/Ｃ",15]
[null,"番手",null,{"$f":"②OP記入欄改!$D$9","v":25},"原反名",null,{"$f":"②OP記入欄改!$D$10","v":9041},null,"原反幅",null,1960,null,"原反長",null,45000,null,"前工程M/C",null,null,null,{"$f":"②OP記入欄改!$D$13","v":"DF7"},null,null,null,null,null,null,"総長さ",44000]
[null,null,{"$f":"②OP記入欄改!G3","v":"仕向先"},null,{"$f":"②OP記入欄改!I3","v":"製品幅"},null,{"$f":"②OP記入欄改!K3","v":"製品長さ"},null,{"$f":"②OP記入欄改!M3","v":"計本"},{"$f":"②OP記入欄改!N3","v":"実"},{"$f":"②OP記入欄改!O3","v":"梱形"},"Ａ保枝番",null,null,null,"ミル枝番",null,null,"Ｂ級枝番",null,null,"ロック\nシャフト","コア",null,null,null,null,"完了メッセージ","あり",null,null,"幅","長さ","本数","備考"]
[null,1,{"$f":"AI5","v":"ユーザーフリー　ＴＡＦＫ原反使用可"},null,{"$f":"AF5","v":840},null,{"$f":"AG5","v":4000},null,{"$f":"AH5","v":10},null,{"$f":"IF(AND(I5<>\"\", I5<>0), \"P\", \"\")","v":"P"},null,null,null,null,null,null,null,null,null,null,{"$f":"IF(OR(E5=\"\", E5=0), \"\", IF(E5>=990, \"〇\", \"-\"))","v":"-"},{"$f":"IF(OR(E5=\"\", E5=0), \"\", 3)","v":3},null,null,null,null,null,null,"MCP",2703,840,4000,10,"ユーザーフリー　ＴＡＦＫ原反使用可"]
[null,2,{"$f":"AI6","v":"ユーザーフリー　ＴＡＦＫ原反使用可"},null,{"$f":"AF6","v":1080},null,{"$f":"AG6","v":4000},null,{"$f":"AH6","v":10},null,{"$f":"IF(AND(I6<>\"\", I6<>0), \"P\", \"\")","v":"P"},null,null,null,null,null,null,null,null,null,null,"〇",3,null,null,null,null,null,null,"MCP",2703,1080,4000,10,"ユーザーフリー　ＴＡＦＫ原反使用可"]
[null,3,"４０００ｍ余剰分",null,1080,null,4000,null,1,null,"P",null,null,null,null,null,null,null,null,null,null,{"$f":"IF(OR(E7=\"\", E7=0), \"\", IF(E7>=990, \"〇\", \"-\"))","v":"〇"},3,null,null,null,null,{"$f":"SUM(AH5:AH14)","v":22},null,"MCP",2703,1080,4000,1,"４０００ｍ余剰分"]
[null,4,"４０００ｍ余剰分",null,840,null,4000,null,1,null,"P",null,null,null,null,null,null,null,null,null,null,"-",3,null,null,null,null,{"$f":"SUM(②OP記入欄改!J18:J27)","v":22},null,"MCP",2703,840,4000,1,"４０００ｍ余剰分"]
[null,5,0,null,0,null,0,null,0,null,"",null,null,null,null,null,null,null,null,null,null,{"$f":"IF(OR(E9=\"\", E9=0), \"\", IF(E9>=990, \"〇\", \"-\"))","v":""},"",null,null,null,null,{"$f":"IF(AB7=AB8,1,0)","v":1}]
[null,6,0,null,0,null,0,null,0,null,"",null,null,null,null,null,null,null,null,null,null,"",{"$f":"IF(OR(E10=\"\", E10=0), \"\", 3)","v":""}]
[null,7,0,null,0,null,0,null,0,null,{"$f":"IF(AND(I11<>\"\", I11<>0), \"P\", \"\")","v":""},null,null,null,null,null,null,null,null,null,null,{"$f":"IF(OR(E11=\"\", E11=0), \"\", IF(E11>=990, \"〇\", \"-\"))","v":""},""]
[null,8,0,null,0,null,0,null,0,null,"",null,null,null,null,null,null,null,null,null,null,"",{"$f":"IF(OR(E12=\"\", E12=0), \"\", 3)","v":""}]
[null,9,0,null,0,null,0,null,0,null,"",null,null,null,null,null,null,null,null,null,null,{"$f":"IF(OR(E13=\"\", E13=0), \"\", IF(E13>=990, \"〇\", \"-\"))","v":""},""]
[null,10,0,null,0,null,0,null,0,null,"",null,null,null,null,null,null,null,null,null,null,"",""]
[null,"スリット作業指示№",null,null,null,null,"M/C№",null,"加工日",null,null,null,"前工程品質情報",null,null,"切断シフト1",null,null,null,"切断シフト2",null,null,null,null,null,null,null,null,null,null,null,"ジョイント"]
[null,44001610001,null,null,null,null,"ＳＬ-",{"$f":"AJ2","v":15},{"$f":"AG1","v":"2025-10-23"},null,null,null,"確認　　　□",null,null,"組","作業者",null,null,"組","作業者",null,null,null,null,null,null,null,null,null,null,2530]
[null,null,null,null,null,null,null,null,null,null,null,null,null,null,null,null,null,null,null,null,null,null,null,null,null,null,null,null,null,null,null,"セット数","長さ位置"]
[null,null,null,null,null,null,null,null,null,null,null,null,null,null,null,null,null,null,null,null,null,null,null,null,null,null,null,null,null,null,null,5,250]
[null,null,null,null,null,null,null,null,null,null,null,null,null,null,null,"切替開始",null,null,"　　　　　時　　　　　分"]
[null,null,null,null,null,null,null,null,null,null,null,null,null,null,null,"切断開始",null,null,"　　　　　時　　　　　分"]
[null,null,null,null,null,null,null,null,null,null,null,null,null,null,null,"切断完了",null,null,"　　　　　時　　　　　分"]
[null,null,null,null,null,null,null,null,null,null,null,null,null,null,null,"食事開始",null,null,"　　　　　時　　　　　分"]
[null,null,null,null,null,null,null,null,null,null,null,null,null,null,null,"食事完了",null,null,"　　　　　時　　　　　分"]
[null,null,null,null,null,null,null,null,null,null,null,null,null,null,null,"停機開始",null,null,"　　　　　時　　　　　分"]
[null,null,null,null,null,null,null,null,null,null,null,null,null,null,null,"停機完了",null,null,"　　　　　時　　　　　分"]
[null,null,null,null,null,null,null,null,null,null,null,null,null,null,null,"停機理由"]
[null,null,null,null,null,null,null,null,null,null,null,null,null,null,null,"条件確認","M/C条件設定",null,null,"呼出№",null,{"$f":"IF(②OP記入欄改!D16=\"\",\"\",IF(②OP記入欄改!D16=0,\"0\",②OP記入欄改!D16))","v":2}]
[null,null,null,null,null,null,null,null,null,null,null,null,null,null,null,null,"欠点検出機",null,null,"使用条件№",null,{"$f":"②OP記入欄改!D17","v":2}]
[null,null,null,null,null,null,null,null,null,null,null,null,null,null,null,null,"速度(m/min)",null,null,480]
[null,null,null,null,null,null,null,null,null,null,null,null,null,null,null,null,"張力(N/ｍ・kg)"]
[null,null,null,null,null,null,null,null,null,null,null,null,null,null,null,null,"接圧(N/ｍ・kg)"]
[null,null,null,null,null,null,null,null,null,null,null,null,null,null,null,"外観確認"]
[null,null,null,null,null,null,null,null,null,null,null,null,null,null,null,"表層透過検査",null,null,null,"OK",null,"NG"]
[null,null,null,null,null,null,null,null,null,null,null,null,null,null,null,"巻姿外観確認[ｽﾀｰﾄ/中間/ﾗｽﾄ]"]
[null,null,null,null,null,null,null,null,null,null,null,null,null,null,null,"各枝番に問題無『〇』問題有『☓』を記載"]
[]
[]
[]
[]
[null,null,null,null,null,null,null,null,null,null,null,null,null,null,null,"※『☓』の場合は展開図に内容を記載する"]
[null,null,null,null,null,null,null,null,null,null,null,null,null,null,null,"検材エッジ",null,null,295]
[null,null,null,null,null,null,null,null,null,null,null,null,null,null,null,"表層ロス",null,null,1000,null,null,"m"]
[null,null,null,null,null,null,null,null,null,null,null,null,null,null,null,"レザー/丸刃交換",null,null,null,"レザー/丸刃廃棄"]
[null,null,null,null,null,null,null,null,null,null,null,null,null,null,null,"　枚",null,null,null,"　　枚"]
[null,"膜厚測定（ＣＰＰ・VMPET・BRPET）",null,null,null,null,null,null,null,null,null,null,null,null,null,"備考"]
[null,"ラスト"]
[null,"1セット表層"]
[null,"1セット芯"]
[]
[]
[]
[]
[]
[null,"スリット伝票　ＬＯＴ",null,null,null,null,null,{"$f":"②OP記入欄改!$D$5","v":60420357150},null,null,null,"製区",null,{"$f":"②OP記入欄改!$D$7","v":"S"},"品種",null,{"$f":"②OP記入欄改!$D$8","v":"CPP 2073 KT3"}]
[]
[null,"番手",null,{"$f":"②OP記入欄改!$D$9","v":25},"原反名",null,{"$f":"②OP記入欄改!$D$10","v":9041},null,"原反幅",null,{"$f":"②OP記入欄改!$D$11","v":1960},null,"原反長",null,{"$f":"②OP記入欄改!$D$12","v":46000},null,"前工程M/C",null,null,null,{"$f":"②OP記入欄改!$D$13","v":"DF7"}]
[null,"停機内容",null,null,null,null,null,null,null,null,null,null,null,null,null,null,null,"停機時間"]
[null,"Ｆ破れ",null,null,null,null,null,null,null,null,null,null,null,null,null,null,null,null,null,null,"hr"]
[null,"耳切れ",null,null,null,null,null,null,null,null,null,null,null,null,null,null,null,null,null,null,"hr"]
[null,"紙管切断",null,null,null,null,null,null,null,null,null,null,null,null,null,null,null,null,null,null,"hr"]
[null,"その他停機内容",null,null,null,null,null,null,null,null,null,null,null,null,null,null,null,null,null,null,"hr"]
[null,"備考"]
[]
[]
[]
[]
[]
[null,"外観確認内容"]
[null,"原反ズレ",null,null,null,"当てキズ",null,null,null,"溝ロール痕",null,null,null,"ＴＤスジ",null,null,null,"ピッチキズ"]
[null,"スリキズ",null,null,null,"クボミシワ",null,null,null,"シワムラ",null,null,null,"変色",null,null,null,"巻芯シワ"]
[null,"切断面・異物"]

{"sheet":"CPP ＃25 4000","index":5,"n_rows":71,"n_cols":25,"rows_kept":71,"cut":false,"hidden":false,"merged":[[0,1,1,6],[0,11,1,12],[0,13,1,13],[0,14,1,15],[0,16,1,22],[4,2,4,3],[4,4,4,5],[4,6,4,7],[4,11,4,14],[4,15,4,17],[4,18,4,20],[2,16,2,19],[2,20,2,22],[3,2,3,3],[3,4,3,5],[3,6,3,7],[3,11,3,14],[3,15,3,17],[3,18,3,20],[2,4,2,5],[2,6,2,7],[2,8,2,9],[2,10,2,11],[2,12,2,13],[2,14,2,15],[6,2,6,3],[6,4,6,5],[6,6,6,7],[6,11,6,14],[6,15,6,17],[6,18,6,20],[5,2,5,3],[5,4,5,5],[5,6,5,7],[5,11,5,14],[5,15,5,17],[5,18,5,20],[8,2,8,3],[8,4,8,5],[8,6,8,7],[8,11,8,14],[8,15,8,17],[8,18,8,20],[7,2,7,3],[7,4,7,5],[7,6,7,7],[7,11,7,14],[7,15,7,17],[7,18,7,20],[10,2,10,3],[10,4,10,5],[10,6,10,7],[10,11,10,14],[10,15,10,17],[10,18,10,20],[9,2,9,3],[9,4,9,5],[9,6,9,7],[9,11,9,14],[9,15,9,17],[9,18,9,20],[12,2,12,3],[12,4,12,5],[12,6,12,7],[12,11,12,14],[12,15,12,17],[12,18,12,20],[11,2,11,3],[11,4,11,5],[11,6,11,7],[11,11,11,14],[11,15,11,17],[11,18,11,20],[14,1,14,5],[14,6,14,7],[14,8,14,11],[14,12,14,14],[14,15,14,18],[14,19,14,22],[13,2,13,3],[13,4,13,5],[13,6,13,7],[13,11,13,14],[13,15,13,17],[13,18,13,20],[15,1,15,5],[15,8,15,11],[15,12,15,14],[15,16,15,18],[15,20,15,22],[16,1,17,1],[16,15,17,15],[16,16,17,18],[16,19,17,19],[16,20,17,22],[21,15,21,17],[21,18,21,22],[22,15,22,17],[22,18,22,22],[23,15,23,17],[23,18,23,22],[18,15,18,17],[18,18,18,22],[19,15,19,17],[19,18,19,22],[20,15,20,17],[20,18,20,22],[31,15,31,22],[32,15,32,18],[32,19,32,20],[32,21,32,22],[33,15,33,22],[34,15,34,22],[24,15,24,17],[24,18,24,22],[25,15,25,17],[25,18,25,22],[26,15,30,15],[26,16,26,18],[27,16,27,18],[28,16,28,18],[29,16,29,18],[30,16,30,18],[27,19,27,20],[27,21,27,22],[28,19,28,22],[29,19,29,20],[30,19,30,20],[26,21,26,22],[44,1,44,14],[45,1,45,2],[45,3,45,4],[45,5,45,6],[45,7,45,8],[45,9,45,10],[45,11,45,12],[45,13,45,14],[39,15,39,22],[42,15,42,18],[42,19,42,22],[43,15,43,18],[43,19,43,22],[40,18,40,20],[41,18,41,20],[53,1,54,6],[53,7,53,10],[53,11,54,12],[53,13,54,13],[53,14,54,15],[53,16,54,22],[54,7,54,10],[46,13,46,14],[47,1,47,2],[47,3,47,4],[47,5,47,6],[47,7,47,8],[47,9,47,10],[47,11,47,12],[47,13,47,14],[46,1,46,2],[46,3,46,4],[46,5,46,6],[46,7,46,8],[46,9,46,10],[46,11,46,12],[56,4,56,5],[57,4,57,5],[57,7,57,16],[57,17,57,19],[55,4,55,5],[55,6,55,7],[55,8,55,9],[55,10,55,11],[55,12,55,13],[55,14,55,15],[0,7,1,10],[43,2,43,7],[43,8,43,13],[70,1,70,4],[68,1,68,4],[68,5,68,8],[68,9,68,12],[68,13,68,16],[68,17,68,21],[69,1,69,4],[69,5,69,8],[69,9,69,12],[69,13,69,16],[69,17,69,21],[60,7,60,16],[60,17,60,19],[58,4,58,5],[58,7,58,16],[58,17,58,19],[59,4,59,5],[59,7,59,16],[59,17,59,19],[55,16,55,19],[55,20,55,22]]}
[null,"スリット伝票　ＬＯＴ",null,null,null,null,null,{"$f":"②OP記入欄改!$D$5","v":60420357150},null,null,null,"製区",null,{"$f":"②OP記入欄改!$D$7","v":"S"},"品種",null,{"$f":"②OP記入欄改!$D$8","v":"CPP 2073 KT3"}]
[]
[null,"番手",null,{"$f":"②OP記入欄改!$D$9","v":25},"原反名",null,{"$f":"②OP記入欄改!$D$10","v":9041},null,"原反幅",null,{"$f":"②OP記入欄改!$D$11","v":1960},null,"原反長",null,{"$f":"②OP記入欄改!$D$12","v":46000},null,"前工程M/C",null,null,null,{"$f":"②OP記入欄改!$D$13","v":"DF7"}]
[null,null,{"$f":"②OP記入欄改!G3","v":"仕向先"},null,{"$f":"②OP記入欄改!I3","v":"製品幅"},null,{"$f":"②OP記入欄改!K3","v":"製品長さ"},null,{"$f":"②OP記入欄改!M3","v":"計本"},{"$f":"②OP記入欄改!N3","v":"実"},{"$f":"②OP記入欄改!O3","v":"梱形"},"Ａ保枝番",null,null,null,"ミル枝番",null,null,"Ｂ級枝番",null,null,"ロック\nシャフト","コア"]
[null,{"$f":"②OP記入欄改!F4","v":1},{"$f":"②OP記入欄改!G4","v":0},null,{"$f":"②OP記入欄改!I4","v":840},null,{"$f":"②OP記入欄改!K4","v":4000},null,{"$f":"②OP記入欄改!M4","v":10},{"$f":"②OP記入欄改!N4","v":0},{"$f":"②OP記入欄改!O4","v":0},null,null,null,null,null,null,null,null,null,null,"-",3,null,"-"]
[null,{"$f":"②OP記入欄改!F5","v":2},{"$f":"②OP記入欄改!G5","v":0},null,{"$f":"②OP記入欄改!I5","v":1080},null,{"$f":"②OP記入欄改!K5","v":4000},null,{"$f":"②OP記入欄改!M5","v":10},{"$f":"②OP記入欄改!N5","v":0},{"$f":"②OP記入欄改!O5","v":0},null,null,null,null,null,null,null,null,null,null,"〇",3,null,"〇"]
[null,{"$f":"②OP記入欄改!F6","v":3},{"$f":"②OP記入欄改!G6","v":0},null,{"$f":"②OP記入欄改!I6","v":1080},null,{"$f":"②OP記入欄改!K6","v":4000},null,{"$f":"②OP記入欄改!M6","v":1},{"$f":"②OP記入欄改!N6","v":0}]
[null,{"$f":"②OP記入欄改!F7","v":4},{"$f":"②OP記入欄改!G7","v":0},null,{"$f":"②OP記入欄改!I7","v":840},null,{"$f":"②OP記入欄改!K7","v":4000},null,{"$f":"②OP記入欄改!M7","v":1},{"$f":"②OP記入欄改!N7","v":0},{"$f":"②OP記入欄改!O7","v":0}]
[null,{"$f":"②OP記入欄改!F8","v":5},{"$f":"②OP記入欄改!G8","v":0},null,{"$f":"②OP記入欄改!I8","v":0},null,{"$f":"②OP記入欄改!K8","v":0},null,{"$f":"②OP記入欄改!M8","v":0},{"$f":"②OP記入欄改!N8","v":0},{"$f":"②OP記入欄改!O8","v":0}]
[null,{"$f":"②OP記入欄改!F9","v":6},{"$f":"②OP記入欄改!G9","v":0},null,{"$f":"②OP記入欄改!I9","v":0},null,{"$f":"②OP記入欄改!K9","v":0},null,{"$f":"②OP記入欄改!M9","v":0},{"$f":"②OP記入欄改!N9","v":0},{"$f":"②OP記入欄改!O9","v":0}]
[null,{"$f":"②OP記入欄改!F10","v":7},{"$f":"②OP記入欄改!G10","v":0},null,{"$f":"②OP記入欄改!I10","v":0},null,{"$f":"②OP記入欄改!K10","v":0},null,{"$f":"②OP記入欄改!M10","v":0},{"$f":"②OP記入欄改!N10","v":0},{"$f":"②OP記入欄改!O10","v":0}]
[null,{"$f":"②OP記入欄改!F11","v":8},{"$f":"②OP記入欄改!G11","v":0},null,{"$f":"②OP記入欄改!I11","v":0},null,{"$f":"②OP記入欄改!K11","v":0},null,{"$f":"②OP記入欄改!M11","v":0},{"$f":"②OP記入欄改!N11","v":0},{"$f":"②OP記入欄改!O11","v":0}]
[null,{"$f":"②OP記入欄改!F12","v":9},{"$f":"②OP記入欄改!G12","v":0},null,{"$f":"②OP記入欄改!I12","v":0},null,{"$f":"②OP記入欄改!K12","v":0},null,{"$f":"②OP記入欄改!M12","v":0},{"$f":"②OP記入欄改!N12","v":0},{"$f":"②OP記入欄改!O12","v":0}]
[null,{"$f":"②OP記入欄改!F13","v":10},{"$f":"②OP記入欄改!G13","v":0},null,{"$f":"②OP記入欄改!I13","v":0},null,{"$f":"②OP記入欄改!K13","v":0},null,{"$f":"②OP記入欄改!M13","v":0},{"$f":"②OP記入欄改!N13","v":0},{"$f":"②OP記入欄改!O13","v":0}]
[null,"スリット作業指示№",null,null,null,null,"M/C№",null,"加工日",null,null,null,"前工程品質情報",null,null,"切断シフト1",null,null,null,"切断シフト2"]
[null,{"$f":"②OP記入欄改!$D$14","v":44018360001},null,null,null,null,"ＳＬ-",{"$f":"②OP記入欄改!$D$15","v":19},{"$f":"②OP記入欄改!$D$4","v":"2025-10-23"},null,null,null,"確認　　　□",null,null,"組","作業者",null,null,"組","作業者"]
[null,"巻芯\n確認"]
[]
[null,null,null,null,null,null,null,null,null,null,null,null,null,null,null,"切替開始",null,null,"　　　　　時　　　　　分"]
[null,null,null,null,null,null,null,null,null,null,null,null,null,null,null,"切断開始",null,null,"　　　　　時　　　　　分"]
[null,null,null,null,null,null,null,null,null,null,null,null,null,null,null,"切断完了",null,null,"　　　　　時　　　　　分"]
[null,null,null,null,null,null,null,null,null,null,null,null,null,null,null,"食事開始",null,null,"　　　　　時　　　　　分"]
[null,null,null,null,null,null,null,null,null,null,null,null,null,null,null,"食事完了",null,null,"　　　　　時　　　　　分"]
[null,null,null,null,null,null,null,null,null,null,null,null,null,null,null,"停機開始",null,null,"　　　　　時　　　　　分"]
[null,null,null,null,null,null,null,null,null,null,null,null,null,null,null,"停機完了",null,null,"　　　　　時　　　　　分"]
[null,null,null,null,null,null,null,null,null,null,null,null,null,null,null,"停機理由"]
[null,null,null,null,null,null,null,null,null,null,null,null,null,null,null,"条件確認","M/C条件設定",null,null,"呼出№",null,{"$f":"②OP記入欄改!$D$16","v":2}]
[null,null,null,null,null,null,null,null,null,null,null,null,null,null,null,null,"欠点検出機",null,null,"使用条件№",null,{"$f":"②OP記入欄改!$D$17","v":2}]
[null,null,null,null,null,null,null,null,null,null,null,null,null,null,null,null,"速度(m/min)",null,null,480]
[null,null,null,null,null,null,null,null,null,null,null,null,null,null,null,null,"張力(N/ｍ・kg)"]
[null,null,null,null,null,null,null,null,null,null,null,null,null,null,null,null,"接圧(N/ｍ・kg)"]
[null,null,null,null,null,null,null,null,null,null,null,null,null,null,null,"外観確認"]
[null,null,null,null,null,null,null,null,null,null,null,null,null,null,null,"表層透過検査",null,null,null,"OK",null,"NG"]
[null,null,null,null,null,null,null,null,null,null,null,null,null,null,null,"巻姿外観確認[ｽﾀｰﾄ/中間/ﾗｽﾄ]"]
[null,null,null,null,null,null,null,null,null,null,null,null,null,null,null,"各枝番に問題無『〇』問題有『☓』を記載"]
[]
[]
[]
[]
[null,null,null,null,null,null,null,null,null,null,null,null,null,null,null,"※『☓』の場合は展開図に内容を記載する"]
[null,null,null,null,null,null,null,null,null,null,null,null,null,null,null,"検材エッジ",null,null,255]
[null,20,null,null,null,null,null,null,null,null,null,null,null,null,20,"表層ロス",null,null,100,null,null,"m"]
[null,null,null,null,null,null,null,null,null,null,null,null,null,null,null,"レザー/丸刃交換",null,null,null,"レザー/丸刃廃棄"]
[null,null,1020,null,null,null,null,null,980,null,null,null,null,null,null,"　枚",null,null,null,"　　枚"]
[null,"膜厚測定（ＣＰＰ・VMPET・BRPET）",null,null,null,null,null,null,null,null,null,null,null,null,null,"備考"]
[null,"ラスト"]
[null,"1セット表層"]
[null,"1セット芯"]
[]
[]
[]
[]
[]
[null,"スリット伝票　ＬＯＴ",null,null,null,null,null,{"$f":"②OP記入欄改!$D$5","v":60420357150},null,null,null,"製区",null,{"$f":"②OP記入欄改!$D$7","v":"S"},"品種",null,{"$f":"②OP記入欄改!$D$8","v":"CPP 2073 KT3"}]
[]
[null,"番手",null,{"$f":"②OP記入欄改!$D$9","v":25},"原反名",null,{"$f":"②OP記入欄改!$D$10","v":9041},null,"原反幅",null,{"$f":"②OP記入欄改!$D$11","v":1960},null,"原反長",null,{"$f":"②OP記入欄改!$D$12","v":46000},null,"前工程M/C",null,null,null,{"$f":"②OP記入欄改!$D$13","v":"DF7"}]
[null,"停機内容",null,null,null,null,null,"停機詳細",null,null,null,null,null,null,null,null,null,"停機時間"]
[null,"Ｆ破れ",null,null,"有/無",null,null,null,null,null,null,null,null,null,null,null,null,null,null,null,"hr"]
[null,"耳切れ",null,null,"有/無",null,null,null,null,null,null,null,null,null,null,null,null,null,null,null,"hr"]
[null,"紙管切断",null,null,"有/無",null,null,null,null,null,null,null,null,null,null,null,null,null,null,null,"hr"]
[null,"その他停機内容",null,null,null,null,null,null,null,null,null,null,null,null,null,null,null,null,null,null,"hr"]
[null,"備考"]
[]
[]
[]
[]
[]
[null,"外観確認内容"]
[null,"原反ズレ",null,null,null,"当てキズ",null,null,null,"溝ロール痕",null,null,null,"ＴＤスジ",null,null,null,"ピッチキズ"]
[null,"スリキズ",null,null,null,"クボミシワ",null,null,null,"シワムラ",null,null,null,"変色",null,null,null,"巻芯シワ"]
[null,"切断面・異物"]

{"sheet":"CPP＃25 8000","index":6,"n_rows":71,"n_cols":26,"rows_kept":71,"cut":false,"hidden":false,"merged":[[0,1,1,6],[0,11,1,12],[0,13,1,13],[0,14,1,15],[0,16,1,22],[4,2,4,3],[4,4,4,5],[4,6,4,7],[4,11,4,14],[4,15,4,17],[4,18,4,20],[2,16,2,19],[2,20,2,22],[3,2,3,3],[3,4,3,5],[3,6,3,7],[3,11,3,14],[3,15,3,17],[3,18,3,20],[2,4,2,5],[2,6,2,7],[2,8,2,9],[2,10,2,11],[2,12,2,13],[2,14,2,15],[6,2,6,3],[6,4,6,5],[6,6,6,7],[6,11,6,14],[6,15,6,17],[6,18,6,20],[5,2,5,3],[5,4,5,5],[5,6,5,7],[5,11,5,14],[5,15,5,17],[5,18,5,20],[8,2,8,3],[8,4,8,5],[8,6,8,7],[8,11,8,14],[8,15,8,17],[8,18,8,20],[7,2,7,3],[7,4,7,5],[7,6,7,7],[7,11,7,14],[7,15,7,17],[7,18,7,20],[10,2,10,3],[10,4,10,5],[10,6,10,7],[10,11,10,14],[10,15,10,17],[10,18,10,20],[9,2,9,3],[9,4,9,5],[9,6,9,7],[9,11,9,14],[9,15,9,17],[9,18,9,20],[12,2,12,3],[12,4,12,5],[12,6,12,7],[12,11,12,14],[12,15,12,17],[12,18,12,20],[11,2,11,3],[11,4,11,5],[11,6,11,7],[11,11,11,14],[11,15,11,17],[11,18,11,20],[14,1,14,5],[14,6,14,7],[14,8,14,11],[14,12,14,14],[14,15,14,18],[14,19,14,22],[13,2,13,3],[13,4,13,5],[13,6,13,7],[13,11,13,14],[13,15,13,17],[13,18,13,20],[15,1,15,5],[15,8,15,11],[15,12,15,14],[15,16,15,18],[15,20,15,22],[16,1,17,1],[16,15,17,15],[16,16,17,18],[16,19,17,19],[16,20,17,22],[21,15,21,17],[21,18,21,22],[22,15,22,17],[22,18,22,22],[23,15,23,17],[23,18,23,22],[18,15,18,17],[18,18,18,22],[19,15,19,17],[19,18,19,22],[20,15,20,17],[20,18,20,22],[31,15,31,22],[32,15,32,18],[32,19,32,20],[32,21,32,22],[33,15,33,22],[34,15,34,22],[24,15,24,17],[24,18,24,22],[25,15,25,17],[25,18,25,22],[26,15,30,15],[26,16,26,18],[27,16,27,18],[28,16,28,18],[29,16,29,18],[30,16,30,18],[27,19,27,20],[27,21,27,22],[28,19,28,22],[29,19,29,20],[30,19,30,20],[26,21,26,22],[44,1,44,14],[45,1,45,2],[45,3,45,4],[45,5,45,6],[45,7,45,8],[45,9,45,10],[45,11,45,12],[45,13,45,14],[39,15,39,22],[42,15,42,18],[42,19,42,22],[43,15,43,18],[43,19,43,22],[43,2,43,7],[43,8,43,13],[40,18,40,20],[41,18,41,20],[46,13,46,14],[47,1,47,2],[47,3,47,4],[47,5,47,6],[47,7,47,8],[47,9,47,10],[47,11,47,12],[47,13,47,14],[46,1,46,2],[46,3,46,4],[46,5,46,6],[46,7,46,8],[46,9,46,10],[46,11,46,12],[57,7,57,16],[57,17,57,19],[55,4,55,5],[55,6,55,7],[55,8,55,9],[55,10,55,11],[55,12,55,13],[55,14,55,15],[53,1,54,6],[53,7,53,10],[53,11,54,12],[53,13,54,13],[53,14,54,15],[53,16,54,22],[54,7,54,10],[0,7,1,10],[70,1,70,4],[68,1,68,4],[68,5,68,8],[68,9,68,12],[68,13,68,16],[68,17,68,21],[69,1,69,4],[69,5,69,8],[69,9,69,12],[69,13,69,16],[69,17,69,21],[60,7,60,16],[60,17,60,19],[58,4,58,5],[58,7,58,16],[58,17,58,19],[59,4,59,5],[59,7,59,16],[59,17,59,19],[55,16,55,19],[55,20,55,22],[56,4,56,5],[57,4,57,5]]}
[null,"スリット伝票　ＬＯＴ",null,null,null,null,null,{"$f":"②OP記入欄改!$D$5","v":60420357150},null,null,null,"製区",null,{"$f":"②OP記入欄改!$D$7","v":"S"},"品種",null,{"$f":"②OP記入欄改!$D$8","v":"CPP 2073 KT3"}]
[]
[null,"番手",null,{"$f":"②OP記入欄改!$D$9","v":25},"原反名",null,{"$f":"②OP記入欄改!$D$10","v":9041},null,"原反幅",null,{"$f":"②OP記入欄改!$D$11","v":1960},null,"原反長",null,{"$f":"②OP記入欄改!$D$12","v":46000},null,"前工程M/C",null,null,null,{"$f":"②OP記入欄改!$D$13","v":"DF7"}]
[null,null,{"$f":"②OP記入欄改!G3","v":"仕向先"},null,{"$f":"②OP記入欄改!I3","v":"製品幅"},null,{"$f":"②OP記入欄改!K3","v":"製品長さ"},null,{"$f":"②OP記入欄改!M3","v":"計本"},{"$f":"②OP記入欄改!N3","v":"実"},{"$f":"②OP記入欄改!O3","v":"梱形"},"Ａ保枝番",null,null,null,"ミル枝番",null,null,"Ｂ級枝番",null,null,"ロック\nシャフト","コア"]
[null,{"$f":"②OP記入欄改!F4","v":1},{"$f":"②OP記入欄改!G4","v":0},null,{"$f":"②OP記入欄改!I4","v":840},null,{"$f":"②OP記入欄改!K4","v":4000},null,{"$f":"②OP記入欄改!M4","v":10},{"$f":"②OP記入欄改!N4","v":0},{"$f":"②OP記入欄改!O4","v":0},null,null,null,null,null,null,null,null,null,null,"-",3,null,"-"]
[null,{"$f":"②OP記入欄改!F5","v":2},{"$f":"②OP記入欄改!G5","v":0},null,{"$f":"②OP記入欄改!I5","v":1080},null,{"$f":"②OP記入欄改!K5","v":4000},null,{"$f":"②OP記入欄改!M5","v":10},{"$f":"②OP記入欄改!N5","v":0},{"$f":"②OP記入欄改!O5","v":0},null,null,null,null,null,null,null,null,null,null,"-",3,null,"〇"]
[null,{"$f":"②OP記入欄改!F6","v":3},{"$f":"②OP記入欄改!G6","v":0},null,{"$f":"②OP記入欄改!I6","v":1080},null,{"$f":"②OP記入欄改!K6","v":4000},null,{"$f":"②OP記入欄改!M6","v":1},{"$f":"②OP記入欄改!N6","v":0},{"$f":"②OP記入欄改!O6","v":0}]
[null,{"$f":"②OP記入欄改!F7","v":4},{"$f":"②OP記入欄改!G7","v":0},null,{"$f":"②OP記入欄改!I7","v":840},null,{"$f":"②OP記入欄改!K7","v":4000},null,{"$f":"②OP記入欄改!M7","v":1},{"$f":"②OP記入欄改!N7","v":0},{"$f":"②OP記入欄改!O7","v":0}]
[null,{"$f":"②OP記入欄改!F8","v":5},{"$f":"②OP記入欄改!G8","v":0},null,{"$f":"②OP記入欄改!I8","v":0},null,{"$f":"②OP記入欄改!K8","v":0},null,{"$f":"②OP記入欄改!M8","v":0},{"$f":"②OP記入欄改!N8","v":0},{"$f":"②OP記入欄改!O8","v":0}]
[null,{"$f":"②OP記入欄改!F9","v":6},{"$f":"②OP記入欄改!G9","v":0},null,{"$f":"②OP記入欄改!I9","v":0},null,{"$f":"②OP記入欄改!K9","v":0},null,{"$f":"②OP記入欄改!M9","v":0},{"$f":"②OP記入欄改!N9","v":0},{"$f":"②OP記入欄改!O9","v":0}]
[null,{"$f":"②OP記入欄改!F10","v":7},{"$f":"②OP記入欄改!G10","v":0},null,{"$f":"②OP記入欄改!I10","v":0},null,{"$f":"②OP記入欄改!K10","v":0},null,{"$f":"②OP記入欄改!M10","v":0},{"$f":"②OP記入欄改!N10","v":0},{"$f":"②OP記入欄改!O10","v":0}]
[null,{"$f":"②OP記入欄改!F11","v":8},{"$f":"②OP記入欄改!G11","v":0},null,{"$f":"②OP記入欄改!I11","v":0},null,{"$f":"②OP記入欄改!K11","v":0},null,{"$f":"②OP記入欄改!M11","v":0},{"$f":"②OP記入欄改!N11","v":0},{"$f":"②OP記入欄改!O11","v":0}]
[null,{"$f":"②OP記入欄改!F12","v":9},{"$f":"②OP記入欄改!G12","v":0},null,{"$f":"②OP記入欄改!I12","v":0},null,{"$f":"②OP記入欄改!K12","v":0},null,{"$f":"②OP記入欄改!M12","v":0},{"$f":"②OP記入欄改!N12","v":0},{"$f":"②OP記入欄改!O12","v":0}]
[null,{"$f":"②OP記入欄改!F13","v":10},{"$f":"②OP記入欄改!G13","v":0},null,{"$f":"②OP記入欄改!I13","v":0},null,{"$f":"②OP記入欄改!K13","v":0},null,{"$f":"②OP記入欄改!M13","v":0},{"$f":"②OP記入欄改!N13","v":0},{"$f":"②OP記入欄改!O13","v":0}]
[null,"スリット作業指示№",null,null,null,null,"M/C№",null,"加工日",null,null,null,"前工程品質情報",null,null,"切断シフト1",null,null,null,"切断シフト2"]
[null,{"$f":"②OP記入欄改!$D$14","v":44018360001},null,null,null,null,"ＳＬ-",{"$f":"②OP記入欄改!$D$15","v":19},{"$f":"②OP記入欄改!$D$4","v":"2025-10-23"},null,null,null,"確認　　　□",null,null,"組","作業者",null,null,"組","作業者"]
[null,"巻芯\n確認"]
[]
[null,null,null,null,null,null,null,null,null,null,null,null,null,null,null,"切替開始",null,null,"　　　　　時　　　　　分"]
[null,null,null,null,null,null,null,null,null,null,null,null,null,null,null,"切断開始",null,null,"　　　　　時　　　　　分"]
[null,null,null,null,null,null,null,null,null,null,null,null,null,null,null,"切断完了",null,null,"　　　　　時　　　　　分"]
[null,null,null,null,null,null,null,null,null,null,null,null,null,null,null,"食事開始",null,null,"　　　　　時　　　　　分"]
[null,null,null,null,null,null,null,null,null,null,null,null,null,null,null,"食事完了",null,null,"　　　　　時　　　　　分"]
[null,null,null,null,null,null,null,null,null,null,null,null,null,null,null,"停機開始",null,null,"　　　　　時　　　　　分"]
[null,null,null,null,null,null,null,null,null,null,null,null,null,null,null,"停機完了",null,null,"　　　　　時　　　　　分"]
[null,null,null,null,null,null,null,null,null,null,null,null,null,null,null,"停機理由"]
[null,null,null,null,null,null,null,null,null,null,null,null,null,null,null,"条件確認","M/C条件設定",null,null,"呼出№",null,{"$f":"②OP記入欄改!$D$16","v":2}]
[null,null,null,null,null,null,null,null,null,null,null,null,null,null,null,null,"欠点検出機",null,null,"使用条件№",null,{"$f":"②OP記入欄改!$D$17","v":2}]
[null,null,null,null,null,null,null,null,null,null,null,null,null,null,null,null,"速度(m/min)",null,null,480]
[null,null,null,null,null,null,null,null,null,null,null,null,null,null,null,null,"張力(N/ｍ・kg)"]
[null,null,null,null,null,null,null,null,null,null,null,null,null,null,null,null,"接圧(N/ｍ・kg)"]
[null,null,null,null,null,null,null,null,null,null,null,null,null,null,null,"外観確認"]
[null,null,null,null,null,null,null,null,null,null,null,null,null,null,null,"表層透過検査",null,null,null,"OK",null,"NG"]
[null,null,null,null,null,null,null,null,null,null,null,null,null,null,null,"巻姿外観確認[ｽﾀｰﾄ/中間/ﾗｽﾄ]"]
[null,null,null,null,null,null,null,null,null,null,null,null,null,null,null,"各枝番に問題無『〇』問題有『☓』を記載"]
[]
[]
[]
[]
[null,null,null,null,null,null,null,null,null,null,null,null,null,null,null,"※『☓』の場合は展開図に内容を記載する"]
[null,null,null,null,null,null,null,null,null,null,null,null,null,null,null,"検材エッジ",null,null,275,null,null,null,null,null,null,"　"]
[null,20,null,null,null,null,null,null,null,null,null,null,null,null,20,"表層ロス",null,null,100,null,null,"m"]
[null,null,null,null,null,null,null,null,null,null,null,null,null,null,null,"レザー/丸刃交換",null,null,null,"レザー/丸刃廃棄"]
[null,null,980,null,null,null,null,null,980,null,null,null,null,null,null,"　枚",null,null,null,"　枚"]
[null,"膜厚測定（ＣＰＰ・VMPET・BRPET）",null,null,null,null,null,null,null,null,null,null,null,null,null,"備考"]
[null,"ラスト"]
[null,"1セット表層"]
[null,"1セット芯"]
[]
[]
[]
[]
[]
[null,"スリット伝票　ＬＯＴ",null,null,null,null,null,{"$f":"②OP記入欄改!$D$5","v":60420357150},null,null,null,"製区",null,{"$f":"②OP記入欄改!$D$7","v":"S"},"品種",null,{"$f":"②OP記入欄改!$D$8","v":"CPP 2073 KT3"}]
[]
[null,"番手",null,{"$f":"②OP記入欄改!$D$9","v":25},"原反名",null,{"$f":"②OP記入欄改!$D$10","v":9041},null,"原反幅",null,{"$f":"②OP記入欄改!$D$11","v":1960},null,"原反長",null,{"$f":"②OP記入欄改!$D$12","v":46000},null,"前工程M/C",null,null,null,{"$f":"②OP記入欄改!$D$13","v":"DF7"}]
[null,"停機内容",null,null,null,null,null,"停機詳細",null,null,null,null,null,null,null,null,null,"停機時間"]
[null,"Ｆ破れ",null,null,"有/無",null,null,null,null,null,null,null,null,null,null,null,null,null,null,null,"hr"]
[null,"耳切れ",null,null,"有/無",null,null,null,null,null,null,null,null,null,null,null,null,null,null,null,"hr"]
[null,"紙管切断",null,null,"有/無",null,null,null,null,null,null,null,null,null,null,null,null,null,null,null,"hr"]
[null,"その他停機内容",null,null,null,null,null,null,null,null,null,null,null,null,null,null,null,null,null,null,"hr"]
[null,"備考"]
[]
[]
[]
[]
[]
[null,"外観確認内容"]
[null,"原反ズレ",null,null,null,"当てキズ",null,null,null,"溝ロール痕",null,null,null,"ＴＤスジ",null,null,null,"ピッチキズ"]
[null,"スリキズ",null,null,null,"クボミシワ",null,null,null,"シワムラ",null,null,null,"変色",null,null,null,"巻芯シワ"]
[null,"切断面・異物"]

{"sheet":"CPＰ #25 4000 3丁","index":7,"n_rows":71,"n_cols":25,"rows_kept":71,"cut":false,"hidden":false,"merged":[[0,1,1,6],[0,11,1,12],[0,13,1,13],[0,14,1,15],[0,16,1,22],[4,2,4,3],[4,4,4,5],[4,6,4,7],[4,11,4,14],[4,15,4,17],[4,18,4,20],[2,16,2,19],[2,20,2,22],[3,2,3,3],[3,4,3,5],[3,6,3,7],[3,11,3,14],[3,15,3,17],[3,18,3,20],[2,4,2,5],[2,6,2,7],[2,8,2,9],[2,10,2,11],[2,12,2,13],[2,14,2,15],[6,2,6,3],[6,4,6,5],[6,6,6,7],[6,11,6,14],[6,15,6,17],[6,18,6,20],[5,2,5,3],[5,4,5,5],[5,6,5,7],[5,11,5,14],[5,15,5,17],[5,18,5,20],[8,2,8,3],[8,4,8,5],[8,6,8,7],[8,11,8,14],[8,15,8,17],[8,18,8,20],[7,2,7,3],[7,4,7,5],[7,6,7,7],[7,11,7,14],[7,15,7,17],[7,18,7,20],[10,2,10,3],[10,4,10,5],[10,6,10,7],[10,11,10,14],[10,15,10,17],[10,18,10,20],[9,2,9,3],[9,4,9,5],[9,6,9,7],[9,11,9,14],[9,15,9,17],[9,18,9,20],[12,2,12,3],[12,4,12,5],[12,6,12,7],[12,11,12,14],[12,15,12,17],[12,18,12,20],[11,2,11,3],[11,4,11,5],[11,6,11,7],[11,11,11,14],[11,15,11,17],[11,18,11,20],[14,1,14,5],[14,6,14,7],[14,8,14,11],[14,12,14,14],[14,15,14,18],[14,19,14,22],[13,2,13,3],[13,4,13,5],[13,6,13,7],[13,11,13,14],[13,15,13,17],[13,18,13,20],[15,1,15,5],[15,8,15,11],[15,12,15,14],[15,16,15,18],[15,20,15,22],[16,1,17,1],[16,15,17,15],[16,16,17,18],[16,19,17,19],[16,20,17,22],[21,15,21,17],[21,18,21,22],[22,15,22,17],[22,18,22,22],[23,15,23,17],[23,18,23,22],[18,15,18,17],[18,18,18,22],[19,15,19,17],[19,18,19,22],[20,15,20,17],[20,18,20,22],[31,15,31,22],[32,15,32,18],[32,19,32,20],[32,21,32,22],[33,15,33,22],[34,15,34,22],[24,15,24,17],[24,18,24,22],[25,15,25,17],[25,18,25,22],[26,15,30,15],[26,16,26,18],[27,16,27,18],[28,16,28,18],[29,16,29,18],[30,16,30,18],[27,19,27,20],[27,21,27,22],[28,19,28,22],[29,19,29,22],[30,19,30,22],[26,21,26,22],[44,1,44,14],[45,1,45,2],[45,3,45,4],[45,5,45,6],[45,7,45,8],[45,9,45,10],[45,11,45,12],[45,13,45,14],[39,15,39,22],[42,15,42,18],[42,19,42,22],[43,15,43,18],[43,19,43,22],[43,3,43,4],[43,7,43,8],[43,11,43,12],[40,18,40,20],[41,18,41,20],[46,13,46,14],[47,1,47,2],[47,3,47,4],[47,5,47,6],[47,7,47,8],[47,9,47,10],[47,11,47,12],[47,13,47,14],[46,1,46,2],[46,3,46,4],[46,5,46,6],[46,7,46,8],[46,9,46,10],[46,11,46,12],[57,7,57,16],[57,17,57,19],[55,4,55,5],[55,6,55,7],[55,8,55,9],[55,10,55,11],[55,12,55,13],[55,14,55,15],[53,1,54,6],[53,7,53,10],[53,11,54,12],[53,13,54,13],[53,14,54,15],[53,16,54,22],[54,7,54,10],[0,7,1,10],[70,1,70,4],[68,1,68,4],[68,5,68,8],[68,9,68,12],[68,13,68,16],[68,17,68,21],[69,1,69,4],[69,5,69,8],[69,9,69,12],[69,13,69,16],[69,17,69,21],[60,7,60,16],[60,17,60,19],[58,4,58,5],[58,7,58,16],[58,17,58,19],[59,4,59,5],[59,7,59,16],[59,17,59,19],[55,16,55,19],[55,20,55,22],[56,4,56,5],[57,4,57,5]]}
[null,"スリット伝票　ＬＯＴ",null,null,null,null,null,{"$f":"②OP記入欄改!$D$5","v":60420357150},null,null,null,"製区",null,{"$f":"②OP記入欄改!$D$7","v":"S"},"品種",null,{"$f":"②OP記入欄改!$D$8","v":"CPP 2073 KT3"}]
[]
[null,"番手",null,{"$f":"②OP記入欄改!$D$9","v":25},"原反名",null,{"$f":"②OP記入欄改!$D$10","v":9041},null,"原反幅",null,{"$f":"②OP記入欄改!$D$11","v":1960},null,"原反長",null,{"$f":"②OP記入欄改!$D$12","v":46000},null,"前工程M/C",null,null,null,{"$f":"②OP記入欄改!$D$13","v":"DF7"}]
[null,null,{"$f":"②OP記入欄改!G3","v":"仕向先"},null,{"$f":"②OP記入欄改!I3","v":"製品幅"},null,{"$f":"②OP記入欄改!K3","v":"製品長さ"},null,{"$f":"②OP記入欄改!M3","v":"計本"},{"$f":"②OP記入欄改!N3","v":"実"},{"$f":"②OP記入欄改!O3","v":"梱形"},"Ａ保枝番",null,null,null,"ミル枝番",null,null,"Ｂ級枝番",null,null,"ロック\nシャフト","コア"]
[null,{"$f":"②OP記入欄改!F4","v":1},{"$f":"②OP記入欄改!G4","v":0},null,{"$f":"②OP記入欄改!I4","v":840},null,{"$f":"②OP記入欄改!K4","v":4000},null,{"$f":"②OP記入欄改!M4","v":10},{"$f":"②OP記入欄改!N4","v":0},{"$f":"②OP記入欄改!O4","v":0},null,null,null,null,null,null,null,null,null,null,"-",3,null,"-"]
[null,{"$f":"②OP記入欄改!F5","v":2},{"$f":"②OP記入欄改!G5","v":0},null,{"$f":"②OP記入欄改!I5","v":1080},null,{"$f":"②OP記入欄改!K5","v":4000},null,{"$f":"②OP記入欄改!M5","v":10},{"$f":"②OP記入欄改!N5","v":0},{"$f":"②OP記入欄改!O5","v":0},null,null,null,null,null,null,null,null,null,null,"-",3,null,"〇"]
[null,{"$f":"②OP記入欄改!F6","v":3},{"$f":"②OP記入欄改!G6","v":0},null,{"$f":"②OP記入欄改!I6","v":1080},null,{"$f":"②OP記入欄改!K6","v":4000},null,{"$f":"②OP記入欄改!M6","v":1},{"$f":"②OP記入欄改!N6","v":0},{"$f":"②OP記入欄改!O6","v":0},null,null,null,null,null,null,null,null,null,null,"-",3]
[null,{"$f":"②OP記入欄改!F7","v":4},{"$f":"②OP記入欄改!G7","v":0},null,{"$f":"②OP記入欄改!I7","v":840},null,{"$f":"②OP記入欄改!K7","v":4000},null,{"$f":"②OP記入欄改!M7","v":1},{"$f":"②OP記入欄改!N7","v":0},{"$f":"②OP記入欄改!O7","v":0}]
[null,{"$f":"②OP記入欄改!F8","v":5},{"$f":"②OP記入欄改!G8","v":0},null,{"$f":"②OP記入欄改!I8","v":0},null,{"$f":"②OP記入欄改!K8","v":0},null,{"$f":"②OP記入欄改!M8","v":0},{"$f":"②OP記入欄改!N8","v":0},{"$f":"②OP記入欄改!O8","v":0}]
[null,{"$f":"②OP記入欄改!F9","v":6},{"$f":"②OP記入欄改!G9","v":0},null,{"$f":"②OP記入欄改!I9","v":0},null,{"$f":"②OP記入欄改!K9","v":0},null,{"$f":"②OP記入欄改!M9","v":0},{"$f":"②OP記入欄改!N9","v":0},{"$f":"②OP記入欄改!O9","v":0}]
[null,{"$f":"②OP記入欄改!F10","v":7},{"$f":"②OP記入欄改!G10","v":0},null,{"$f":"②OP記入欄改!I10","v":0},null,{"$f":"②OP記入欄改!K10","v":0},null,{"$f":"②OP記入欄改!M10","v":0},{"$f":"②OP記入欄改!N10","v":0},{"$f":"②OP記入欄改!O10","v":0}]
[null,{"$f":"②OP記入欄改!F11","v":8},{"$f":"②OP記入欄改!G11","v":0},null,{"$f":"②OP記入欄改!I11","v":0},null,{"$f":"②OP記入欄改!K11","v":0},null,{"$f":"②OP記入欄改!M11","v":0},{"$f":"②OP記入欄改!N11","v":0},{"$f":"②OP記入欄改!O11","v":0}]
[null,{"$f":"②OP記入欄改!F12","v":9},{"$f":"②OP記入欄改!G12","v":0},null,{"$f":"②OP記入欄改!I12","v":0},null,{"$f":"②OP記入欄改!K12","v":0},null,{"$f":"②OP記入欄改!M12","v":0},{"$f":"②OP記入欄改!N12","v":0},{"$f":"②OP記入欄改!O12","v":0}]
[null,{"$f":"②OP記入欄改!F13","v":10},{"$f":"②OP記入欄改!G13","v":0},null,{"$f":"②OP記入欄改!I13","v":0},null,{"$f":"②OP記入欄改!K13","v":0},null,{"$f":"②OP記入欄改!M13","v":0},{"$f":"②OP記入欄改!N13","v":0},{"$f":"②OP記入欄改!O13","v":0}]
[null,"スリット作業指示№",null,null,null,null,"M/C№",null,"加工日",null,null,null,"前工程品質情報",null,null,"切断シフト1",null,null,null,"切断シフト2"]
[null,{"$f":"②OP記入欄改!$D$14","v":44018360001},null,null,null,null,"ＳＬ-",{"$f":"②OP記入欄改!$D$15","v":19},{"$f":"②OP記入欄改!$D$4","v":"2025-10-23"},null,null,null,"確認　　　□",null,null,"組","作業者",null,null,"組","作業者"]
[null,"巻芯\n確認"]
[]
[null,null,null,null,null,null,null,null,null,null,null,null,null,null,null,"切替開始",null,null,"　　　　　時　　　　　分"]
[null,null,null,null,null,null,null,null,null,null,null,null,null,null,null,"切断開始",null,null,"　　　　　時　　　　　分"]
[null,null,null,null,null,null,null,null,null,null,null,null,null,null,null,"切断完了",null,null,"　　　　　時　　　　　分"]
[null,null,null,null,null,null,null,null,null,null,null,null,null,null,null,"食事開始",null,null,"　　　　　時　　　　　分"]
[null,null,null,null,null,null,null,null,null,null,null,null,null,null,null,"食事完了",null,null,"　　　　　時　　　　　分"]
[null,null,null,null,null,null,null,null,null,null,null,null,null,null,null,"停機開始",null,null,"　　　　　時　　　　　分"]
[null,null,null,null,null,null,null,null,null,null,null,null,null,null,null,"停機完了",null,null,"　　　　　時　　　　　分"]
[null,null,null,null,null,null,null,null,null,null,null,null,null,null,null,"停機理由"]
[null,null,null,null,null,null,null,null,null,null,null,null,null,null,null,"条件確認","M/C条件設定",null,null,"呼出№",null,{"$f":"②OP記入欄改!$D$16","v":2}]
[null,null,null,null,null,null,null,null,null,null,null,null,null,null,null,null,"欠点検出機",null,null,"使用条件№",null,{"$f":"②OP記入欄改!$D$17","v":2}]
[null,null,null,null,null,null,null,null,null,null,null,null,null,null,null,null,"速度(m/min)",null,null,480]
[null,null,null,null,null,null,null,null,null,null,null,null,null,null,null,null,"張力(N/ｍ・kg)"]
[null,null,null,null,null,null,null,null,null,null,null,null,null,null,null,null,"接圧(N/ｍ・kg)"]
[null,null,null,null,null,null,null,null,null,null,null,null,null,null,null,"外観確認"]
[null,null,null,null,null,null,null,null,null,null,null,null,null,null,null,"表層透過検査",null,null,null,"OK",null,"NG"]
[null,null,null,null,null,null,null,null,null,null,null,null,null,null,null,"巻姿外観確認[ｽﾀｰﾄ/中間/ﾗｽﾄ]"]
[null,null,null,null,null,null,null,null,null,null,null,null,null,null,null,"各枝番に問題無『〇』問題有『☓』を記載"]
[]
[]
[]
[]
[null,null,null,null,null,null,null,null,null,null,null,null,null,null,null,"※『☓』の場合は展開図に内容を記載する"]
[null,null,null,null,null,null,null,null,null,null,null,null,null,null,null,"検材エッジ",null,null,245]
[null,20,null,null,null,null,null,null,null,null,null,null,null,null,20,"表層ロス",null,null,100,null,null,"m"]
[null,null,null,null,null,null,null,null,null,null,null,null,null,null,null,"レザー/丸刃交換",null,null,null,"レザー/丸刃廃棄"]
[null,null,null,580,null,null,null,820,null,null,null,620,null,null,null,"枚",null,null,null,"枚"]
[null,"膜厚測定（ＣＰＰ・VMPET・BRPET）",null,null,null,null,null,null,null,null,null,null,null,null,null,"備考"]
[null,"ラスト"]
[null,"1セット表層"]
[null,"1セット芯"]
[]
[]
[]
[]
[]
[null,"スリット伝票　ＬＯＴ",null,null,null,null,null,{"$f":"②OP記入欄改!$D$5","v":60420357150},null,null,null,"製区",null,{"$f":"②OP記入欄改!$D$7","v":"S"},"品種",null,{"$f":"②OP記入欄改!$D$8","v":"CPP 2073 KT3"}]
[]
[null,"番手",null,{"$f":"②OP記入欄改!$D$9","v":25},"原反名",null,{"$f":"②OP記入欄改!$D$10","v":9041},null,"原反幅",null,{"$f":"②OP記入欄改!$D$11","v":1960},null,"原反長",null,{"$f":"②OP記入欄改!$D$12","v":46000},null,"前工程M/C",null,null,null,{"$f":"②OP記入欄改!$D$13","v":"DF7"}]
[null,"停機内容",null,null,null,null,null,"停機詳細",null,null,null,null,null,null,null,null,null,"停機時間"]
[null,"Ｆ破れ",null,null,"有/無",null,null,null,null,null,null,null,null,null,null,null,null,null,null,null,"hr"]
[null,"耳切れ",null,null,"有/無",null,null,null,null,null,null,null,null,null,null,null,null,null,null,null,"hr"]
[null,"紙管切断",null,null,"有/無",null,null,null,null,null,null,null,null,null,null,null,null,null,null,null,"hr"]
[null,"その他停機内容",null,null,null,null,null,null,null,null,null,null,null,null,null,null,null,null,null,null,"hr"]
[null,"備考"]
[]
[]
[]
[]
[]
[null,"外観確認内容"]
[null,"原反ズレ",null,null,null,"当てキズ",null,null,null,"溝ロール痕",null,null,null,"ＴＤスジ",null,null,null,"ピッチキズ"]
[null,"スリキズ",null,null,null,"クボミシワ",null,null,null,"シワムラ",null,null,null,"変色",null,null,null,"巻芯シワ"]
[null,"切断面・異物"]

{"sheet":"CPP＃25 8000 3丁","index":8,"n_rows":71,"n_cols":25,"rows_kept":71,"cut":false,"hidden":false,"merged":[[0,1,1,6],[0,7,0,10],[0,11,1,12],[0,13,1,13],[0,14,1,15],[0,16,1,22],[1,7,1,10],[4,2,4,3],[4,4,4,5],[4,6,4,7],[4,11,4,14],[4,15,4,17],[4,18,4,20],[2,16,2,19],[2,20,2,22],[3,2,3,3],[3,4,3,5],[3,6,3,7],[3,11,3,14],[3,15,3,17],[3,18,3,20],[2,4,2,5],[2,6,2,7],[2,8,2,9],[2,10,2,11],[2,12,2,13],[2,14,2,15],[6,2,6,3],[6,4,6,5],[6,6,6,7],[6,11,6,14],[6,15,6,17],[6,18,6,20],[5,2,5,3],[5,4,5,5],[5,6,5,7],[5,11,5,14],[5,15,5,17],[5,18,5,20],[8,2,8,3],[8,4,8,5],[8,6,8,7],[8,11,8,14],[8,15,8,17],[8,18,8,20],[7,2,7,3],[7,4,7,5],[7,6,7,7],[7,11,7,14],[7,15,7,17],[7,18,7,20],[10,2,10,3],[10,4,10,5],[10,6,10,7],[10,11,10,14],[10,15,10,17],[10,18,10,20],[9,2,9,3],[9,4,9,5],[9,6,9,7],[9,11,9,14],[9,15,9,17],[9,18,9,20],[12,2,12,3],[12,4,12,5],[12,6,12,7],[12,11,12,14],[12,15,12,17],[12,18,12,20],[11,2,11,3],[11,4,11,5],[11,6,11,7],[11,11,11,14],[11,15,11,17],[11,18,11,20],[14,1,14,5],[14,6,14,7],[14,8,14,11],[14,12,14,14],[14,15,14,18],[14,19,14,22],[13,2,13,3],[13,4,13,5],[13,6,13,7],[13,11,13,14],[13,15,13,17],[13,18,13,20],[15,1,15,5],[15,8,15,11],[15,12,15,14],[15,16,15,18],[15,20,15,22],[16,1,17,1],[16,15,17,15],[16,16,17,18],[16,19,17,19],[16,20,17,22],[21,15,21,17],[21,18,21,22],[22,15,22,17],[22,18,22,22],[23,15,23,17],[23,18,23,22],[18,15,18,17],[18,18,18,22],[19,15,19,17],[19,18,19,22],[20,15,20,17],[20,18,20,22],[31,15,31,22],[32,15,32,18],[32,19,32,20],[32,21,32,22],[33,15,33,22],[34,15,34,22],[24,15,24,17],[24,18,24,22],[25,15,25,17],[25,18,25,22],[26,15,30,15],[26,16,26,18],[27,16,27,18],[28,16,28,18],[29,16,29,18],[30,16,30,18],[27,19,27,20],[27,21,27,22],[28,19,28,22],[29,19,29,20],[30,19,30,20],[26,21,26,22],[44,1,44,14],[45,1,45,2],[45,3,45,4],[45,5,45,6],[45,7,45,8],[45,9,45,10],[45,11,45,12],[45,13,45,14],[39,15,39,22],[42,15,42,18],[42,19,42,22],[43,15,43,18],[43,19,43,22],[40,18,40,20],[43,3,43,4],[43,7,43,8],[43,11,43,12],[41,18,41,20],[53,1,54,6],[53,7,53,10],[53,11,54,12],[53,13,54,13],[53,14,54,15],[53,16,54,22],[54,7,54,10],[46,13,46,14],[47,1,47,2],[47,3,47,4],[47,5,47,6],[47,7,47,8],[47,9,47,10],[47,11,47,12],[47,13,47,14],[46,1,46,2],[46,3,46,4],[46,5,46,6],[46,7,46,8],[46,9,46,10],[46,11,46,12],[55,20,55,22],[56,4,56,5],[57,4,57,5],[57,7,57,16],[57,17,57,19],[55,4,55,5],[55,6,55,7],[55,8,55,9],[55,10,55,11],[55,12,55,13],[55,14,55,15],[60,7,60,16],[60,17,60,19],[58,4,58,5],[58,7,58,16],[58,17,58,19],[59,4,59,5],[59,7,59,16],[59,17,59,19],[55,16,55,19],[70,1,70,4],[68,1,68,4],[68,5,68,8],[68,9,68,12],[68,13,68,16],[68,17,68,21],[69,1,69,4],[69,5,69,8],[69,9,69,12],[69,13,69,16],[69,17,69,21]]}
[null,"スリット伝票　ＬＯＴ",null,null,null,null,null,{"$f":"②OP記入欄改!$D$5","v":60420357150},null,null,null,"製区",null,{"$f":"②OP記入欄改!$D$7","v":"S"},"品種",null,{"$f":"②OP記入欄改!$D$8","v":"CPP 2073 KT3"}]
[]
[null,"番手",null,{"$f":"②OP記入欄改!$D$9","v":25},"原反名",null,{"$f":"②OP記入欄改!$D$10","v":9041},null,"原反幅",null,{"$f":"②OP記入欄改!$D$11","v":1960},null,"原反長",null,{"$f":"②OP記入欄改!$D$12","v":46000},null,"前工程M/C",null,null,null,{"$f":"②OP記入欄改!$D$13","v":"DF7"}]
[null,null,{"$f":"②OP記入欄改!G3","v":"仕向先"},null,{"$f":"②OP記入欄改!I3","v":"製品幅"},null,{"$f":"②OP記入欄改!K3","v":"製品長さ"},null,{"$f":"②OP記入欄改!M3","v":"計本"},{"$f":"②OP記入欄改!N3","v":"実"},{"$f":"②OP記入欄改!O3","v":"梱形"},"Ａ保枝番",null,null,null,"ミル枝番",null,null,"Ｂ級枝番",null,null,"ロック\nシャフト","コア"]
[null,{"$f":"②OP記入欄改!F4","v":1},{"$f":"②OP記入欄改!G4","v":0},null,{"$f":"②OP記入欄改!I4","v":840},null,{"$f":"②OP記入欄改!K4","v":4000},null,{"$f":"②OP記入欄改!M4","v":10},{"$f":"②OP記入欄改!N4","v":0},{"$f":"②OP記入欄改!O4","v":0},null,null,null,null,null,null,null,null,null,null,"-",3]
[null,{"$f":"②OP記入欄改!F5","v":2},{"$f":"②OP記入欄改!G5","v":0},null,{"$f":"②OP記入欄改!I5","v":1080},null,{"$f":"②OP記入欄改!K5","v":4000},null,{"$f":"②OP記入欄改!M5","v":10},{"$f":"②OP記入欄改!N5","v":0},{"$f":"②OP記入欄改!O5","v":0},null,null,null,null,null,null,null,null,null,null,"-",3,null,"-"]
[null,{"$f":"②OP記入欄改!F6","v":3},{"$f":"②OP記入欄改!G6","v":0},null,{"$f":"②OP記入欄改!I6","v":1080},null,{"$f":"②OP記入欄改!K6","v":4000},null,{"$f":"②OP記入欄改!M6","v":1},{"$f":"②OP記入欄改!N6","v":0},{"$f":"②OP記入欄改!O6","v":0},null,null,null,null,null,null,null,null,null,null,"-",3,null,"〇"]
[null,{"$f":"②OP記入欄改!F7","v":4},{"$f":"②OP記入欄改!G7","v":0},null,{"$f":"②OP記入欄改!I7","v":840},null,{"$f":"②OP記入欄改!K7","v":4000},null,{"$f":"②OP記入欄改!M7","v":1},{"$f":"②OP記入欄改!N7","v":0},{"$f":"②OP記入欄改!O7","v":0}]
[null,{"$f":"②OP記入欄改!F8","v":5},{"$f":"②OP記入欄改!G8","v":0},null,{"$f":"②OP記入欄改!I8","v":0},null,{"$f":"②OP記入欄改!K8","v":0},null,{"$f":"②OP記入欄改!M8","v":0},{"$f":"②OP記入欄改!N8","v":0},{"$f":"②OP記入欄改!O8","v":0}]
[null,{"$f":"②OP記入欄改!F9","v":6},{"$f":"②OP記入欄改!G9","v":0},null,{"$f":"②OP記入欄改!I9","v":0},null,{"$f":"②OP記入欄改!K9","v":0},null,{"$f":"②OP記入欄改!M9","v":0},{"$f":"②OP記入欄改!N9","v":0},{"$f":"②OP記入欄改!O9","v":0}]
[null,{"$f":"②OP記入欄改!F10","v":7},{"$f":"②OP記入欄改!G10","v":0},null,{"$f":"②OP記入欄改!I10","v":0},null,{"$f":"②OP記入欄改!K10","v":0},null,{"$f":"②OP記入欄改!M10","v":0},{"$f":"②OP記入欄改!N10","v":0},{"$f":"②OP記入欄改!O10","v":0}]
[null,{"$f":"②OP記入欄改!F11","v":8},{"$f":"②OP記入欄改!G11","v":0},null,{"$f":"②OP記入欄改!I11","v":0},null,{"$f":"②OP記入欄改!K11","v":0},null,{"$f":"②OP記入欄改!M11","v":0},{"$f":"②OP記入欄改!N11","v":0},{"$f":"②OP記入欄改!O11","v":0}]
[null,{"$f":"②OP記入欄改!F12","v":9},{"$f":"②OP記入欄改!G12","v":0},null,{"$f":"②OP記入欄改!I12","v":0},null,{"$f":"②OP記入欄改!K12","v":0},null,{"$f":"②OP記入欄改!M12","v":0},{"$f":"②OP記入欄改!N12","v":0},{"$f":"②OP記入欄改!O12","v":0}]
[null,{"$f":"②OP記入欄改!F13","v":10},{"$f":"②OP記入欄改!G13","v":0},null,{"$f":"②OP記入欄改!I13","v":0},null,{"$f":"②OP記入欄改!K13","v":0},null,{"$f":"②OP記入欄改!M13","v":0},{"$f":"②OP記入欄改!N13","v":0},{"$f":"②OP記入欄改!O13","v":0}]
[null,"スリット作業指示№",null,null,null,null,"M/C№",null,"加工日",null,null,null,"前工程品質情報",null,null,"切断シフト1",null,null,null,"切断シフト2"]
[null,{"$f":"②OP記入欄改!$D$14","v":44018360001},null,null,null,null,"ＳＬ-",{"$f":"②OP記入欄改!$D$15","v":19},{"$f":"②OP記入欄改!$D$4","v":"2025-10-23"},null,null,null,"確認　　　□",null,null,"組","作業者",null,null,"組","作業者"]
[null,"巻芯\n確認"]
[]
[null,null,null,null,null,null,null,null,null,null,null,null,null,null,null,"切替開始",null,null,"　　　　　時　　　　　分"]
[null,null,null,null,null,null,null,null,null,null,null,null,null,null,null,"切断開始",null,null,"　　　　　時　　　　　分"]
[null,null,null,null,null,null,null,null,null,null,null,null,null,null,null,"切断完了",null,null,"　　　　　時　　　　　分"]
[null,null,null,null,null,null,null,null,null,null,null,null,null,null,null,"食事開始",null,null,"　　　　　時　　　　　分"]
[null,null,null,null,null,null,null,null,null,null,null,null,null,null,null,"食事完了",null,null,"　　　　　時　　　　　分"]
[null,null,null,null,null,null,null,null,null,null,null,null,null,null,null,"停機開始",null,null,"　　　　　時　　　　　分"]
[null,null,null,null,null,null,null,null,null,null,null,null,null,null,null,"停機完了",null,null,"　　　　　時　　　　　分"]
[null,null,null,null,null,null,null,null,null,null,null,null,null,null,null,"停機理由"]
[null,null,null,null,null,null,null,null,null,null,null,null,null,null,null,"条件確認","M/C条件設定",null,null,"呼出№",null,{"$f":"②OP記入欄改!$D$16","v":2}]
[null,null,null,null,null,null,null,null,null,null,null,null,null,null,null,null,"欠点検出機",null,null,"使用条件№",null,{"$f":"②OP記入欄改!$D$17","v":2}]
[null,null,null,null,null,null,null,null,null,null,null,null,null,null,null,null,"速度(m/min)",null,null,480]
[null,null,null,null,null,null,null,null,null,null,null,null,null,null,null,null,"張力(N/ｍ・kg)"]
[null,null,null,null,null,null,null,null,null,null,null,null,null,null,null,null,"接圧(N/ｍ・kg)"]
[null,null,null,null,null,null,null,null,null,null,null,null,null,null,null,"外観確認"]
[null,null,null,null,null,null,null,null,null,null,null,null,null,null,null,"表層透過検査",null,null,null,"OK",null,"NG"]
[null,null,null,null,null,null,null,null,null,null,null,null,null,null,null,"巻姿外観確認[ｽﾀｰﾄ/中間/ﾗｽﾄ]"]
[null,null,null,null,null,null,null,null,null,null,null,null,null,null,null,"各枝番に問題無『〇』問題有『☓』を記載"]
[]
[]
[]
[]
[null,null,null,null,null,null,null,null,null,null,null,null,null,null,null,"※『☓』の場合は展開図に内容を記載する"]
[null,null,null,null,null,null,null,null,null,null,null,null,null,null,null,"検材エッジ",null,null,115]
[null,20,null,null,null,null,null,null,null,null,null,null,null,null,20,"表層ロス　　　　　　　ⅿ",null,null,100,null,null,"m"]
[null,null,null,null,null,null,null,null,null,null,null,null,null,null,null,"レザー/丸刃交換",null,null,null,"レザー/丸刃廃棄"]
[null,null,null,620,null,null,null,860,null,null,null,800,null,null,null,"枚",null,null,null,"枚"]
[null,"膜厚測定（ＣＰＰ・VMPET・BRPET）",null,null,null,null,null,null,null,null,null,null,null,null,null,"備考"]
[null,"ラスト"]
[null,"1セット表層"]
[null,"1セット芯"]
[]
[]
[]
[]
[]
[null,"スリット伝票　ＬＯＴ",null,null,null,null,null,{"$f":"②OP記入欄改!$D$5","v":60420357150},null,null,null,"製区",null,{"$f":"②OP記入欄改!$D$7","v":"S"},"品種",null,{"$f":"②OP記入欄改!$D$8","v":"CPP 2073 KT3"}]
[]
[null,"番手",null,{"$f":"②OP記入欄改!$D$9","v":25},"原反名",null,{"$f":"②OP記入欄改!$D$10","v":9041},null,"原反幅",null,{"$f":"②OP記入欄改!$D$11","v":1960},null,"原反長",null,{"$f":"②OP記入欄改!$D$12","v":46000},null,"前工程M/C",null,null,null,{"$f":"②OP記入欄改!$D$13","v":"DF7"}]
[null,"停機内容",null,null,null,null,null,"停機詳細",null,null,null,null,null,null,null,null,null,"停機時間"]
[null,"Ｆ破れ",null,null,"有/無",null,null,null,null,null,null,null,null,null,null,null,null,null,null,null,"hr"]
[null,"耳切れ",null,null,"有/無",null,null,null,null,null,null,null,null,null,null,null,null,null,null,null,"hr"]
[null,"紙管切断",null,null,"有/無",null,null,null,null,null,null,null,null,null,null,null,null,null,null,null,"hr"]
[null,"その他停機内容",null,null,null,null,null,null,null,null,null,null,null,null,null,null,null,null,null,null,"hr"]
[null,"備考"]
[]
[]
[]
[]
[]
[null,"外観確認内容"]
[null,"原反ズレ",null,null,null,"当てキズ",null,null,null,"溝ロール痕",null,null,null,"ＴＤスジ",null,null,null,"ピッチキズ"]
[null,"スリキズ",null,null,null,"クボミシワ",null,null,null,"シワムラ",null,null,null,"変色",null,null,null,"巻芯シワ"]
[null,"切断面・異物"]

{"sheet":"PET","index":9,"n_rows":71,"n_cols":25,"rows_kept":71,"cut":false,"hidden":false,"merged":[[0,1,1,6],[0,7,0,10],[0,11,1,12],[0,13,1,13],[0,14,1,15],[0,16,1,22],[1,7,1,10],[4,2,4,3],[4,4,4,5],[4,6,4,7],[4,11,4,14],[4,15,4,17],[4,18,4,20],[2,16,2,19],[2,20,2,22],[3,2,3,3],[3,4,3,5],[3,6,3,7],[3,11,3,14],[3,15,3,17],[3,18,3,20],[2,4,2,5],[2,6,2,7],[2,8,2,9],[2,10,2,11],[2,12,2,13],[2,14,2,15],[6,2,6,3],[6,4,6,5],[6,6,6,7],[6,11,6,14],[6,15,6,17],[6,18,6,20],[5,2,5,3],[5,4,5,5],[5,6,5,7],[5,11,5,14],[5,15,5,17],[5,18,5,20],[8,2,8,3],[8,4,8,5],[8,6,8,7],[8,11,8,14],[8,15,8,17],[8,18,8,20],[7,2,7,3],[7,4,7,5],[7,6,7,7],[7,11,7,14],[7,15,7,17],[7,18,7,20],[10,2,10,3],[10,4,10,5],[10,6,10,7],[10,11,10,14],[10,15,10,17],[10,18,10,20],[9,2,9,3],[9,4,9,5],[9,6,9,7],[9,11,9,14],[9,15,9,17],[9,18,9,20],[12,2,12,3],[12,4,12,5],[12,6,12,7],[12,11,12,14],[12,15,12,17],[12,18,12,20],[11,2,11,3],[11,4,11,5],[11,6,11,7],[11,11,11,14],[11,15,11,17],[11,18,11,20],[14,1,14,5],[14,6,14,7],[14,8,14,11],[14,12,14,14],[14,15,14,18],[14,19,14,22],[13,2,13,3],[13,4,13,5],[13,6,13,7],[13,11,13,14],[13,15,13,17],[13,18,13,20],[15,1,15,5],[15,8,15,11],[15,12,15,14],[15,16,15,18],[15,20,15,22],[16,1,17,1],[16,15,17,15],[16,16,17,18],[16,19,17,19],[16,20,17,22],[21,15,21,17],[21,18,21,22],[22,15,22,17],[22,18,22,22],[23,15,23,17],[23,18,23,22],[18,15,18,17],[18,18,18,22],[19,15,19,17],[19,18,19,22],[20,15,20,17],[20,18,20,22],[31,15,31,22],[32,15,32,18],[32,19,32,20],[32,21,32,22],[33,15,33,22],[34,15,34,22],[24,15,24,17],[24,18,24,22],[25,15,25,17],[25,18,25,22],[26,15,30,15],[26,16,26,18],[27,16,27,18],[28,16,28,18],[29,16,29,18],[30,16,30,18],[27,19,27,20],[27,21,27,22],[26,21,26,22],[28,19,28,22],[44,1,44,14],[45,1,45,2],[45,3,45,4],[45,5,45,6],[45,7,45,8],[45,9,45,10],[45,11,45,12],[45,13,45,14],[39,15,39,22],[42,15,42,18],[42,19,42,22],[43,15,43,18],[43,19,43,22],[40,18,40,20],[41,18,41,20],[43,4,43,5],[43,10,43,11],[53,1,54,6],[53,7,53,10],[53,11,54,12],[53,13,54,13],[53,14,54,15],[53,16,54,22],[54,7,54,10],[46,13,46,14],[47,1,47,2],[47,3,47,4],[47,5,47,6],[47,7,47,8],[47,9,47,10],[47,11,47,12],[47,13,47,14],[46,1,46,2],[46,3,46,4],[46,5,46,6],[46,7,46,8],[46,9,46,10],[46,11,46,12],[55,20,55,22],[56,4,56,5],[57,4,57,5],[57,7,57,16],[57,17,57,19],[55,4,55,5],[55,6,55,7],[55,8,55,9],[55,10,55,11],[55,12,55,13],[55,14,55,15],[60,7,60,16],[60,17,60,19],[58,4,58,5],[58,7,58,16],[58,17,58,19],[59,4,59,5],[59,7,59,16],[59,17,59,19],[55,16,55,19],[70,1,70,4],[68,1,68,4],[68,5,68,8],[68,9,68,12],[68,13,68,16],[68,17,68,21],[69,1,69,4],[69,5,69,8],[69,9,69,12],[69,13,69,16],[69,17,69,21]]}
[null,"スリット伝票　ＬＯＴ",null,null,null,null,null,{"$f":"②OP記入欄改!$D$5","v":60420357150},null,null,null,"製区",null,{"$f":"②OP記入欄改!$D$7","v":"S"},"品種",null,{"$f":"②OP記入欄改!$D$8","v":"CPP 2073 KT3"}]
[]
[null,"番手",null,{"$f":"②OP記入欄改!$D$9","v":25},"原反名",null,{"$f":"②OP記入欄改!$D$10","v":9041},null,"原反幅",null,{"$f":"②OP記入欄改!$D$11","v":1960},null,"原反長",null,{"$f":"②OP記入欄改!$D$12","v":46000},null,"前工程M/C",null,null,null,{"$f":"②OP記入欄改!$D$13","v":"DF7"}]
[null,null,{"$f":"②OP記入欄改!G3","v":"仕向先"},null,{"$f":"②OP記入欄改!I3","v":"製品幅"},null,{"$f":"②OP記入欄改!K3","v":"製品長さ"},null,{"$f":"②OP記入欄改!M3","v":"計本"},{"$f":"②OP記入欄改!N3","v":"実"},{"$f":"②OP記入欄改!O3","v":"梱形"},"Ａ保枝番",null,null,null,"ミル枝番",null,null,"Ｂ級枝番",null,null,"ロック\nシャフト","コア"]
[null,{"$f":"②OP記入欄改!F4","v":1},{"$f":"②OP記入欄改!G4","v":0},null,{"$f":"②OP記入欄改!I4","v":840},null,{"$f":"②OP記入欄改!K4","v":4000},null,{"$f":"②OP記入欄改!M4","v":10},{"$f":"②OP記入欄改!N4","v":0},{"$f":"②OP記入欄改!O4","v":0},null,null,null,null,null,null,null,null,null,null,"-",3,null,"-"]
[null,{"$f":"②OP記入欄改!F5","v":2},{"$f":"②OP記入欄改!G5","v":0},null,{"$f":"②OP記入欄改!I5","v":1080},null,{"$f":"②OP記入欄改!K5","v":4000},null,{"$f":"②OP記入欄改!M5","v":10},{"$f":"②OP記入欄改!N5","v":0},{"$f":"②OP記入欄改!O5","v":0},null,null,null,null,null,null,null,null,null,null,"〇",3,null,"〇"]
[null,{"$f":"②OP記入欄改!F6","v":3},{"$f":"②OP記入欄改!G6","v":0},null,{"$f":"②OP記入欄改!I6","v":1080},null,{"$f":"②OP記入欄改!K6","v":4000},null,{"$f":"②OP記入欄改!M6","v":1},{"$f":"②OP記入欄改!N6","v":0}]
[null,{"$f":"②OP記入欄改!F7","v":4},{"$f":"②OP記入欄改!G7","v":0},null,{"$f":"②OP記入欄改!I7","v":840},null,{"$f":"②OP記入欄改!K7","v":4000},null,{"$f":"②OP記入欄改!M7","v":1},{"$f":"②OP記入欄改!N7","v":0}]
[null,{"$f":"②OP記入欄改!F8","v":5},{"$f":"②OP記入欄改!G8","v":0},null,{"$f":"②OP記入欄改!I8","v":0},null,{"$f":"②OP記入欄改!K8","v":0},null,{"$f":"②OP記入欄改!M8","v":0},{"$f":"②OP記入欄改!N8","v":0},{"$f":"②OP記入欄改!O8","v":0}]
[null,{"$f":"②OP記入欄改!F9","v":6},{"$f":"②OP記入欄改!G9","v":0},null,{"$f":"②OP記入欄改!I9","v":0},null,{"$f":"②OP記入欄改!K9","v":0},null,{"$f":"②OP記入欄改!M9","v":0},{"$f":"②OP記入欄改!N9","v":0},{"$f":"②OP記入欄改!O9","v":0}]
[null,{"$f":"②OP記入欄改!F10","v":7},{"$f":"②OP記入欄改!G10","v":0},null,{"$f":"②OP記入欄改!I10","v":0},null,{"$f":"②OP記入欄改!K10","v":0},null,{"$f":"②OP記入欄改!M10","v":0},{"$f":"②OP記入欄改!N10","v":0},{"$f":"②OP記入欄改!O10","v":0}]
[null,{"$f":"②OP記入欄改!F11","v":8},{"$f":"②OP記入欄改!G11","v":0},null,{"$f":"②OP記入欄改!I11","v":0},null,{"$f":"②OP記入欄改!K11","v":0},null,{"$f":"②OP記入欄改!M11","v":0},{"$f":"②OP記入欄改!N11","v":0},{"$f":"②OP記入欄改!O11","v":0}]
[null,{"$f":"②OP記入欄改!F12","v":9},{"$f":"②OP記入欄改!G12","v":0},null,{"$f":"②OP記入欄改!I12","v":0},null,{"$f":"②OP記入欄改!K12","v":0},null,{"$f":"②OP記入欄改!M12","v":0},{"$f":"②OP記入欄改!N12","v":0},{"$f":"②OP記入欄改!O12","v":0}]
[null,{"$f":"②OP記入欄改!F13","v":10},{"$f":"②OP記入欄改!G13","v":0},null,{"$f":"②OP記入欄改!I13","v":0},null,{"$f":"②OP記入欄改!K13","v":0},null,{"$f":"②OP記入欄改!M13","v":0},{"$f":"②OP記入欄改!N13","v":0},{"$f":"②OP記入欄改!O13","v":0}]
[null,"スリット作業指示№",null,null,null,null,"M/C№",null,"加工日",null,null,null,"前工程品質情報",null,null,"切断シフト1",null,null,null,"切断シフト2"]
[null,{"$f":"②OP記入欄改!$D$14","v":44018360001},null,null,null,null,"ＳＬ-",{"$f":"②OP記入欄改!$D$15","v":19},{"$f":"②OP記入欄改!$D$4","v":"2025-10-23"},null,null,null,"確認　　　□",null,null,"組","作業者",null,null,"組","作業者"]
[null,"巻芯\n確認"]
[]
[null,null,null,null,null,null,null,null,null,null,null,null,null,null,null,"切替開始",null,null,"　　　　　時　　　　　分"]
[null,null,null,null,null,null,null,null,null,null,null,null,null,null,null,"切断開始",null,null,"　　　　　時　　　　　分"]
[null,null,null,null,null,null,null,null,null,null,null,null,null,null,null,"切断完了",null,null,"　　　　　時　　　　　分"]
[null,null,null,null,null,null,null,null,null,null,null,null,null,null,null,"食事開始",null,null,"　　　　　時　　　　　分"]
[null,null,null,null,null,null,null,null,null,null,null,null,null,null,null,"食事完了",null,null,"　　　　　時　　　　　分"]
[null,null,null,null,null,null,null,null,null,null,null,null,null,null,null,"停機開始",null,null,"　　　　　時　　　　　分"]
[null,null,null,null,null,null,null,null,null,null,null,null,null,null,null,"停機完了",null,null,"　　　　　時　　　　　分"]
[null,null,null,null,null,null,null,null,null,null,null,null,null,null,null,"停機理由"]
[null,null,null,null,null,null,null,null,null,null,null,null,null,null,null,"条件確認","M/C条件設定",null,null,"呼出№",null,{"$f":"②OP記入欄改!$D$16","v":2}]
[null,null,null,null,null,null,null,null,null,null,null,null,null,null,null,null,"欠点検出機",null,null,"使用条件№",null,{"$f":"②OP記入欄改!$D$17","v":2}]
[null,null,null,null,null,null,null,null,null,null,null,null,null,null,null,null,"速度(m/min)",null,null,450]
[null,null,null,null,null,null,null,null,null,null,null,null,null,null,null,null,"張力(N/ｍ・kg)"]
[null,null,null,null,null,null,null,null,null,null,null,null,null,null,null,null,"接圧(N/ｍ・kg)"]
[null,null,null,null,null,null,null,null,null,null,null,null,null,null,null,"外観確認"]
[null,null,null,null,null,null,null,null,null,null,null,null,null,null,null,"表層透過検査",null,null,null,"OK",null,"NG"]
[null,null,null,null,null,null,null,null,null,null,null,null,null,null,null,"巻姿外観確認[ｽﾀｰﾄ/中間/ﾗｽﾄ]"]
[null,null,null,null,null,null,null,null,null,null,null,null,null,null,null,"各枝番に問題無『〇』問題有『☓』を記載"]
[]
[]
[]
[]
[null,null,null,null,null,null,null,null,null,null,null,null,null,null,null,"※『☓』の場合は展開図に内容を記載する"]
[null,null,null,null,null,null,null,null,null,null,null,null,null,null,null,"検材エッジ",null,null,305]
[null,60,null,null,null,null,null,null,null,null,null,null,null,null,60,"表層ロス",null,null,"―",null,null,"m"]
[null,null,null,null,null,null,null,null,null,null,null,null,null,null,null,"レザー/丸刃交換",null,null,null,"レザー/丸刃廃棄"]
[null,null,null,null,1080,null,null,null,null,null,740,null,null,null,null,"枚",null,null,null,"枚"]
[null,null,null,null,null,null,null,null,null,null,null,null,null,null,null,"備考"]
[null,"ラスト"]
[null,"1セット表層"]
[null,"1セット芯"]
[]
[]
[]
[]
[]
[null,"スリット伝票　ＬＯＴ",null,null,null,null,null,{"$f":"②OP記入欄改!$D$5","v":60420357150},null,null,null,"製区",null,{"$f":"②OP記入欄改!$D$7","v":"S"},"品種",null,{"$f":"②OP記入欄改!$D$8","v":"CPP 2073 KT3"}]
[]
[null,"番手",null,{"$f":"②OP記入欄改!$D$9","v":25},"原反名",null,{"$f":"②OP記入欄改!$D$10","v":9041},null,"原反幅",null,{"$f":"②OP記入欄改!$D$11","v":1960},null,"原反長",null,{"$f":"②OP記入欄改!$D$12","v":46000},null,"前工程M/C",null,null,null,{"$f":"②OP記入欄改!$D$13","v":"DF7"}]
[null,"停機内容",null,null,null,null,null,"停機詳細",null,null,null,null,null,null,null,null,null,"停機時間"]
[null,"Ｆ破れ",null,null,"有/無",null,null,null,null,null,null,null,null,null,null,null,null,null,null,null,"hr"]
[null,"耳切れ",null,null,"有/無",null,null,null,null,null,null,null,null,null,null,null,null,null,null,null,"hr"]
[null,"紙管切断",null,null,"有/無",null,null,null,null,null,null,null,null,null,null,null,null,null,null,null,"hr"]
[null,"その他停機内容",null,null,null,null,null,null,null,null,null,null,null,null,null,null,null,null,null,null,"hr"]
[null,"備考"]
[]
[]
[]
[]
[]
[null,"外観確認内容"]
[null,"原反ズレ",null,null,null,"当てキズ",null,null,null,"溝ロール痕",null,null,null,"ＴＤスジ",null,null,null,"ピッチキズ"]
[null,"スリキズ",null,null,null,"クボミシワ",null,null,null,"シワムラ",null,null,null,"変色",null,null,null,"巻芯シワ"]
[null,"切断面・異物"]

{"sheet":"PET 3","index":10,"n_rows":71,"n_cols":25,"rows_kept":71,"cut":false,"hidden":false,"merged":[[0,1,1,6],[0,7,0,10],[0,11,1,12],[0,13,1,13],[0,14,1,15],[0,16,1,22],[1,7,1,10],[4,2,4,3],[4,4,4,5],[4,6,4,7],[4,11,4,14],[4,15,4,17],[4,18,4,20],[2,16,2,19],[2,20,2,22],[3,2,3,3],[3,4,3,5],[3,6,3,7],[3,11,3,14],[3,15,3,17],[3,18,3,20],[2,4,2,5],[2,6,2,7],[2,8,2,9],[2,10,2,11],[2,12,2,13],[2,14,2,15],[6,2,6,3],[6,4,6,5],[6,6,6,7],[6,11,6,14],[6,15,6,17],[6,18,6,20],[5,2,5,3],[5,4,5,5],[5,6,5,7],[5,11,5,14],[5,15,5,17],[5,18,5,20],[8,2,8,3],[8,4,8,5],[8,6,8,7],[8,11,8,14],[8,15,8,17],[8,18,8,20],[7,2,7,3],[7,4,7,5],[7,6,7,7],[7,11,7,14],[7,15,7,17],[7,18,7,20],[10,2,10,3],[10,4,10,5],[10,6,10,7],[10,11,10,14],[10,15,10,17],[10,18,10,20],[9,2,9,3],[9,4,9,5],[9,6,9,7],[9,11,9,14],[9,15,9,17],[9,18,9,20],[12,2,12,3],[12,4,12,5],[12,6,12,7],[12,11,12,14],[12,15,12,17],[12,18,12,20],[11,2,11,3],[11,4,11,5],[11,6,11,7],[11,11,11,14],[11,15,11,17],[11,18,11,20],[14,1,14,5],[14,6,14,7],[14,8,14,11],[14,12,14,14],[14,15,14,18],[14,19,14,22],[13,2,13,3],[13,4,13,5],[13,6,13,7],[13,11,13,14],[13,15,13,17],[13,18,13,20],[15,1,15,5],[15,8,15,11],[15,12,15,14],[15,16,15,18],[15,20,15,22],[16,1,17,1],[16,15,17,15],[16,16,17,18],[16,19,17,19],[16,20,17,22],[21,15,21,17],[21,18,21,22],[22,15,22,17],[22,18,22,22],[23,15,23,17],[23,18,23,22],[18,15,18,17],[18,18,18,22],[19,15,19,17],[19,18,19,22],[20,15,20,17],[20,18,20,22],[31,15,31,22],[32,15,32,18],[32,19,32,20],[32,21,32,22],[33,15,33,22],[34,15,34,22],[24,15,24,17],[24,18,24,22],[25,15,25,17],[25,18,25,22],[26,15,30,15],[26,16,26,18],[27,16,27,18],[28,16,28,18],[29,16,29,18],[30,16,30,18],[27,19,27,20],[27,21,27,22],[26,21,26,22],[28,19,28,22],[44,1,44,14],[45,1,45,2],[45,3,45,4],[45,5,45,6],[45,7,45,8],[45,9,45,10],[45,11,45,12],[45,13,45,14],[39,15,39,22],[42,15,42,18],[42,19,42,22],[43,15,43,18],[43,19,43,22],[40,18,40,20],[41,18,41,20],[43,10,43,13],[43,6,43,9],[43,2,43,5],[53,1,54,6],[53,7,53,10],[53,11,54,12],[53,13,54,13],[53,14,54,15],[53,16,54,22],[54,7,54,10],[46,13,46,14],[47,1,47,2],[47,3,47,4],[47,5,47,6],[47,7,47,8],[47,9,47,10],[47,11,47,12],[47,13,47,14],[46,1,46,2],[46,3,46,4],[46,5,46,6],[46,7,46,8],[46,9,46,10],[46,11,46,12],[57,4,57,5],[57,7,57,16],[57,17,57,19],[55,4,55,5],[55,6,55,7],[55,8,55,9],[55,10,55,11],[55,12,55,13],[55,14,55,15],[24,3,24,6],[24,10,24,12],[70,1,70,4],[68,1,68,4],[68,5,68,8],[68,9,68,12],[68,13,68,16],[68,17,68,21],[69,1,69,4],[69,5,69,8],[69,9,69,12],[69,13,69,16],[69,17,69,21],[60,7,60,16],[60,17,60,19],[58,4,58,5],[58,7,58,16],[58,17,58,19],[59,4,59,5],[59,7,59,16],[59,17,59,19],[55,16,55,19],[55,20,55,22],[56,4,56,5]]}
[null,"スリット伝票　ＬＯＴ",null,null,null,null,null,{"$f":"②OP記入欄改!$D$5","v":60420357150},null,null,null,"製区",null,{"$f":"②OP記入欄改!$D$7","v":"S"},"品種",null,{"$f":"②OP記入欄改!$D$8","v":"CPP 2073 KT3"}]
[]
[null,"番手",null,{"$f":"②OP記入欄改!$D$9","v":25},"原反名",null,{"$f":"②OP記入欄改!$D$10","v":9041},null,"原反幅",null,{"$f":"②OP記入欄改!$D$11","v":1960},null,"原反長",null,{"$f":"②OP記入欄改!$D$12","v":46000},null,"前工程M/C",null,null,null,{"$f":"②OP記入欄改!$D$13","v":"DF7"}]
[null,null,{"$f":"②OP記入欄改!G3","v":"仕向先"},null,{"$f":"②OP記入欄改!I3","v":"製品幅"},null,{"$f":"②OP記入欄改!K3","v":"製品長さ"},null,{"$f":"②OP記入欄改!M3","v":"計本"},{"$f":"②OP記入欄改!N3","v":"実"},{"$f":"②OP記入欄改!O3","v":"梱形"},"Ａ保枝番",null,null,null,"ミル枝番",null,null,"Ｂ級枝番",null,null,"ロック\nシャフト","コア"]
[null,{"$f":"②OP記入欄改!F4","v":1},{"$f":"②OP記入欄改!G4","v":0},null,{"$f":"②OP記入欄改!I4","v":840},null,{"$f":"②OP記入欄改!K4","v":4000},null,{"$f":"②OP記入欄改!M4","v":10},{"$f":"②OP記入欄改!N4","v":0},{"$f":"②OP記入欄改!O4","v":0},null,null,null,null,null,null,null,null,null,null,"-",3,null,"-"]
[null,{"$f":"②OP記入欄改!F5","v":2},{"$f":"②OP記入欄改!G5","v":0},null,{"$f":"②OP記入欄改!I5","v":1080},null,{"$f":"②OP記入欄改!K5","v":4000},null,{"$f":"②OP記入欄改!M5","v":10},{"$f":"②OP記入欄改!N5","v":0},{"$f":"②OP記入欄改!O5","v":0},null,null,null,null,null,null,null,null,null,null,"-",3,null,"〇"]
[null,{"$f":"②OP記入欄改!F6","v":3},{"$f":"②OP記入欄改!G6","v":0},null,{"$f":"②OP記入欄改!I6","v":1080},null,{"$f":"②OP記入欄改!K6","v":4000},null,{"$f":"②OP記入欄改!M6","v":1},{"$f":"②OP記入欄改!N6","v":0},{"$f":"②OP記入欄改!O6","v":0},null,null,null,null,null,null,null,null,null,null,"-",3]
[null,{"$f":"②OP記入欄改!F7","v":4},{"$f":"②OP記入欄改!G7","v":0},null,{"$f":"②OP記入欄改!I7","v":840},null,{"$f":"②OP記入欄改!K7","v":4000},null,{"$f":"②OP記入欄改!M7","v":1},{"$f":"②OP記入欄改!N7","v":0},{"$f":"②OP記入欄改!O7","v":0},null,null,null,null,null,null,null,null,null,null,"-",3]
[null,{"$f":"②OP記入欄改!F8","v":5},{"$f":"②OP記入欄改!G8","v":0},null,{"$f":"②OP記入欄改!I8","v":0},null,{"$f":"②OP記入欄改!K8","v":0},null,{"$f":"②OP記入欄改!M8","v":0},{"$f":"②OP記入欄改!N8","v":0},{"$f":"②OP記入欄改!O8","v":0},null,null,null,null,null,null,null,null,null,null,"-",3]
[null,{"$f":"②OP記入欄改!F9","v":6},{"$f":"②OP記入欄改!G9","v":0},null,{"$f":"②OP記入欄改!I9","v":0},null,{"$f":"②OP記入欄改!K9","v":0},null,{"$f":"②OP記入欄改!M9","v":0},{"$f":"②OP記入欄改!N9","v":0},{"$f":"②OP記入欄改!O9","v":0}]
[null,{"$f":"②OP記入欄改!F10","v":7},{"$f":"②OP記入欄改!G10","v":0},null,{"$f":"②OP記入欄改!I10","v":0},null,{"$f":"②OP記入欄改!K10","v":0},null,{"$f":"②OP記入欄改!M10","v":0},{"$f":"②OP記入欄改!N10","v":0},{"$f":"②OP記入欄改!O10","v":0}]
[null,{"$f":"②OP記入欄改!F11","v":8},{"$f":"②OP記入欄改!G11","v":0},null,{"$f":"②OP記入欄改!I11","v":0},null,{"$f":"②OP記入欄改!K11","v":0},null,{"$f":"②OP記入欄改!M11","v":0},{"$f":"②OP記入欄改!N11","v":0},{"$f":"②OP記入欄改!O11","v":0}]
[null,{"$f":"②OP記入欄改!F12","v":9},{"$f":"②OP記入欄改!G12","v":0},null,{"$f":"②OP記入欄改!I12","v":0},null,{"$f":"②OP記入欄改!K12","v":0},null,{"$f":"②OP記入欄改!M12","v":0},{"$f":"②OP記入欄改!N12","v":0},{"$f":"②OP記入欄改!O12","v":0}]
[null,{"$f":"②OP記入欄改!F13","v":10},{"$f":"②OP記入欄改!G13","v":0},null,{"$f":"②OP記入欄改!I13","v":0},null,{"$f":"②OP記入欄改!K13","v":0},null,{"$f":"②OP記入欄改!M13","v":0},{"$f":"②OP記入欄改!N13","v":0},{"$f":"②OP記入欄改!O13","v":0}]
[null,"スリット作業指示№",null,null,null,null,"M/C№",null,"加工日",null,null,null,"前工程品質情報",null,null,"切断シフト1",null,null,null,"切断シフト2"]
[null,{"$f":"②OP記入欄改!$D$14","v":44018360001},null,null,null,null,"ＳＬ-",{"$f":"②OP記入欄改!$D$15","v":19},{"$f":"②OP記入欄改!$D$4","v":"2025-10-23"},null,null,null,"確認　　　□",null,null,"組","作業者",null,null,"組","作業者"]
[null,"巻芯\n確認"]
[]
[null,null,null,null,null,null,null,null,null,null,null,null,null,null,null,"切替開始",null,null,"　　　　　時　　　　　分"]
[null,null,null,null,null,null,null,null,null,null,null,null,null,null,null,"切断開始",null,null,"　　　　　時　　　　　分"]
[null,null,null,null,null,null,null,null,null,null,null,null,null,null,null,"切断完了",null,null,"　　　　　時　　　　　分"]
[null,null,null,null,null,null,null,null,null,null,null,null,null,null,null,"食事開始",null,null,"　　　　　時　　　　　分"]
[null,null,null,null,null,null,null,null,null,null,null,null,null,null,null,"食事完了",null,null,"　　　　　時　　　　　分"]
[null,null,null,null,null,null,null,null,null,null,null,null,null,null,null,"停機開始",null,null,"　　　　　時　　　　　分"]
[null,null,null,null,null,null,null,null,null,null,null,null,null,null,null,"停機完了",null,null,"　　　　　時　　　　　分"]
[null,null,null,null,null,null,null,null,null,null,null,null,null,null,null,"停機理由"]
[null,null,null,null,null,null,null,null,null,null,null,null,null,null,null,"条件確認","M/C条件設定",null,null,"呼出№",null,{"$f":"②OP記入欄改!$D$16","v":2}]
[null,null,null,null,null,null,null,null,null,null,null,null,null,null,null,null,"欠点検出機",null,null,"使用条件№",null,{"$f":"②OP記入欄改!$D$17","v":2}]
[null,null,null,null,null,null,null,null,null,null,null,null,null,null,null,null,"速度(m/min)",null,null,450]
[null,null,null,null,null,null,null,null,null,null,null,null,null,null,null,null,"張力(N/ｍ・kg)"]
[null,null,null,null,null,null,null,null,null,null,null,null,null,null,null,null,"接圧(N/ｍ・kg)"]
[null,null,null,null,null,null,null,null,null,null,null,null,null,null,null,"外観確認"]
[null,null,null,null,null,null,null,null,null,null,null,null,null,null,null,"表層透過検査",null,null,null,"OK",null,"NG"]
[null,20,null,null,null,null,null,null,null,null,null,null,null,null,20,"巻姿外観確認[ｽﾀｰﾄ/中間/ﾗｽﾄ]"]
[null,null,null,null,null,null,null,null,null,null,null,null,null,null,null,"各枝番に問題無『〇』問題有『☓』を記載"]
[]
[]
[]
[]
[null,null,null,null,null,null,null,null,null,null,null,null,null,null,null,"※『☓』の場合は展開図に内容を記載する"]
[null,null,null,null,null,null,null,null,null,null,null,null,null,null,null,"検材エッジ",null,null,455]
[null,20,null,null,null,null,null,null,null,null,null,null,null,null,20,"表層ロス",null,null,"―",null,null,"m"]
[null,null,null,null,null,null,null,null,null,null,null,null,null,null,null,"レザー/丸刃交換",null,null,null,"レザー/丸刃廃棄"]
[null,null,520,null,null,null,560,null,null,null,520,null,null,null,null,"枚",null,null,null,"枚"]
[null,"膜厚測定（ＣＰＰ・VMPET・BRPET）",null,null,null,null,null,null,null,null,null,null,null,null,null,"備考"]
[null,"ラスト"]
[null,"1セット表層"]
[null,"1セット芯"]
[]
[]
[]
[]
[]
[null,"スリット伝票　ＬＯＴ",null,null,null,null,null,{"$f":"②OP記入欄改!$D$5","v":60420357150},null,null,null,"製区",null,{"$f":"②OP記入欄改!$D$7","v":"S"},"品種",null,{"$f":"②OP記入欄改!$D$8","v":"CPP 2073 KT3"}]
[]
[null,"番手",null,{"$f":"②OP記入欄改!$D$9","v":25},"原反名",null,{"$f":"②OP記入欄改!$D$10","v":9041},null,"原反幅",null,{"$f":"②OP記入欄改!$D$11","v":1960},null,"原反長",null,{"$f":"②OP記入欄改!$D$12","v":46000},null,"前工程M/C",null,null,null,{"$f":"②OP記入欄改!$D$13","v":"DF7"}]
[null,"停機内容",null,null,null,null,null,"停機詳細",null,null,null,null,null,null,null,null,null,"停機時間"]
[null,"Ｆ破れ",null,null,"有/無",null,null,null,null,null,null,null,null,null,null,null,null,null,null,null,"hr"]
[null,"耳切れ",null,null,"有/無",null,null,null,null,null,null,null,null,null,null,null,null,null,null,null,"hr"]
[null,"紙管切断",null,null,"有/無",null,null,null,null,null,null,null,null,null,null,null,null,null,null,null,"hr"]
[null,"その他停機内容",null,null,null,null,null,null,null,null,null,null,null,null,null,null,null,null,null,null,"hr"]
[null,"備考"]
[]
[]
[]
[]
[]
[null,"外観確認内容"]
[null,"原反ズレ",null,null,null,"当てキズ",null,null,null,"溝ロール痕",null,null,null,"ＴＤスジ",null,null,null,"ピッチキズ"]
[null,"スリキズ",null,null,null,"クボミシワ",null,null,null,"シワムラ",null,null,null,"変色",null,null,null,"巻芯シワ"]
[null,"切断面・異物"]

{"sheet":"＃30 2丁","index":11,"n_rows":71,"n_cols":25,"rows_kept":71,"cut":false,"hidden":false,"merged":[[0,1,1,6],[0,11,1,12],[0,13,1,13],[0,14,1,15],[0,16,1,22],[4,2,4,3],[4,4,4,5],[4,6,4,7],[4,11,4,14],[4,15,4,17],[4,18,4,20],[2,16,2,19],[2,20,2,22],[3,2,3,3],[3,4,3,5],[3,6,3,7],[3,11,3,14],[3,15,3,17],[3,18,3,20],[2,4,2,5],[2,6,2,7],[2,8,2,9],[2,10,2,11],[2,12,2,13],[2,14,2,15],[6,2,6,3],[6,4,6,5],[6,6,6,7],[6,11,6,14],[6,15,6,17],[6,18,6,20],[5,2,5,3],[5,4,5,5],[5,6,5,7],[5,11,5,14],[5,15,5,17],[5,18,5,20],[8,2,8,3],[8,4,8,5],[8,6,8,7],[8,11,8,14],[8,15,8,17],[8,18,8,20],[7,2,7,3],[7,4,7,5],[7,6,7,7],[7,11,7,14],[7,15,7,17],[7,18,7,20],[10,2,10,3],[10,4,10,5],[10,6,10,7],[10,11,10,14],[10,15,10,17],[10,18,10,20],[9,2,9,3],[9,4,9,5],[9,6,9,7],[9,11,9,14],[9,15,9,17],[9,18,9,20],[12,2,12,3],[12,4,12,5],[12,6,12,7],[12,11,12,14],[12,15,12,17],[12,18,12,20],[11,2,11,3],[11,4,11,5],[11,6,11,7],[11,11,11,14],[11,15,11,17],[11,18,11,20],[14,1,14,5],[14,6,14,7],[14,8,14,11],[14,12,14,14],[14,15,14,18],[14,19,14,22],[13,2,13,3],[13,4,13,5],[13,6,13,7],[13,11,13,14],[13,15,13,17],[13,18,13,20],[15,1,15,5],[15,8,15,11],[15,12,15,14],[15,16,15,18],[15,20,15,22],[16,1,17,1],[16,15,17,15],[16,16,17,18],[16,19,17,19],[16,20,17,22],[21,15,21,17],[21,18,21,22],[22,15,22,17],[22,18,22,22],[23,15,23,17],[23,18,23,22],[18,15,18,17],[18,18,18,22],[19,15,19,17],[19,18,19,22],[20,15,20,17],[20,18,20,22],[28,19,28,22],[29,16,29,18],[29,19,29,20],[30,16,30,18],[30,19,30,20],[31,15,31,22],[24,15,24,17],[24,18,24,22],[25,15,25,17],[25,18,25,22],[26,15,30,15],[26,16,26,18],[27,16,27,18],[27,19,27,20],[27,21,27,22],[28,16,28,18],[26,21,26,22],[42,19,42,22],[43,15,43,18],[43,19,43,22],[43,8,43,13],[43,2,43,7],[40,18,40,20],[41,18,41,20],[32,15,32,18],[32,19,32,20],[32,21,32,22],[33,15,33,22],[34,15,34,22],[39,15,39,22],[44,1,44,14],[45,1,45,2],[45,3,45,4],[45,5,45,6],[45,7,45,8],[45,9,45,10],[45,11,45,12],[45,13,45,14],[42,15,42,18],[46,13,46,14],[47,1,47,2],[47,3,47,4],[47,5,47,6],[47,7,47,8],[47,9,47,10],[47,11,47,12],[47,13,47,14],[46,1,46,2],[46,3,46,4],[46,5,46,6],[46,7,46,8],[46,9,46,10],[46,11,46,12],[57,7,57,16],[57,17,57,19],[55,4,55,5],[55,6,55,7],[55,8,55,9],[55,10,55,11],[55,12,55,13],[55,14,55,15],[53,1,54,6],[53,7,53,10],[53,11,54,12],[53,13,54,13],[53,14,54,15],[53,16,54,22],[54,7,54,10],[0,7,1,10],[69,1,69,4],[69,5,69,8],[69,9,69,12],[69,13,69,16],[69,17,69,21],[70,1,70,4],[60,7,60,16],[60,17,60,19],[68,1,68,4],[68,5,68,8],[68,9,68,12],[68,13,68,16],[68,17,68,21],[58,4,58,5],[58,7,58,16],[58,17,58,19],[59,4,59,5],[59,7,59,16],[59,17,59,19],[55,16,55,19],[55,20,55,22],[56,4,56,5],[57,4,57,5]]}
[null,"スリット伝票　ＬＯＴ",null,null,null,null,null,{"$f":"②OP記入欄改!$D$5","v":60420357150},null,null,null,"製区",null,{"$f":"②OP記入欄改!$D$7","v":"S"},"品種",null,{"$f":"②OP記入欄改!$D$8","v":"CPP 2073 KT3"}]
[]
[null,"番手",null,{"$f":"②OP記入欄改!$D$9","v":25},"原反名",null,{"$f":"②OP記入欄改!$D$10","v":9041},null,"原反幅",null,{"$f":"②OP記入欄改!$D$11","v":1960},null,"原反長",null,{"$f":"②OP記入欄改!$D$12","v":46000},null,"前工程M/C",null,null,null,{"$f":"②OP記入欄改!$D$13","v":"DF7"}]
[null,null,{"$f":"②OP記入欄改!G3","v":"仕向先"},null,{"$f":"②OP記入欄改!I3","v":"製品幅"},null,{"$f":"②OP記入欄改!K3","v":"製品長さ"},null,{"$f":"②OP記入欄改!M3","v":"計本"},{"$f":"②OP記入欄改!N3","v":"実"},{"$f":"②OP記入欄改!O3","v":"梱形"},"Ａ保枝番",null,null,null,"ミル枝番",null,null,"Ｂ級枝番",null,null,"ロック\nシャフト","コア"]
[null,{"$f":"②OP記入欄改!F4","v":1},{"$f":"②OP記入欄改!G4","v":0},null,{"$f":"②OP記入欄改!I4","v":840},null,{"$f":"②OP記入欄改!K4","v":4000},null,{"$f":"②OP記入欄改!M4","v":10},{"$f":"②OP記入欄改!N4","v":0},{"$f":"②OP記入欄改!O4","v":0},null,null,null,null,null,null,null,null,null,null,"-",3,null,"-"]
[null,{"$f":"②OP記入欄改!F5","v":2},{"$f":"②OP記入欄改!G5","v":0},null,{"$f":"②OP記入欄改!I5","v":1080},null,{"$f":"②OP記入欄改!K5","v":4000},null,{"$f":"②OP記入欄改!M5","v":10},{"$f":"②OP記入欄改!N5","v":0},{"$f":"②OP記入欄改!O5","v":0},null,null,null,null,null,null,null,null,null,null,null,null,null,"〇"]
[null,{"$f":"②OP記入欄改!F6","v":3},{"$f":"②OP記入欄改!G6","v":0},null,{"$f":"②OP記入欄改!I6","v":1080},null,{"$f":"②OP記入欄改!K6","v":4000},null,{"$f":"②OP記入欄改!M6","v":1},{"$f":"②OP記入欄改!N6","v":0},{"$f":"②OP記入欄改!O6","v":0}]
[null,{"$f":"②OP記入欄改!F7","v":4},{"$f":"②OP記入欄改!G7","v":0},null,{"$f":"②OP記入欄改!I7","v":840},null,{"$f":"②OP記入欄改!K7","v":4000},null,{"$f":"②OP記入欄改!M7","v":1},{"$f":"②OP記入欄改!N7","v":0},{"$f":"②OP記入欄改!O7","v":0}]
[null,{"$f":"②OP記入欄改!F8","v":5},{"$f":"②OP記入欄改!G8","v":0},null,{"$f":"②OP記入欄改!I8","v":0},null,{"$f":"②OP記入欄改!K8","v":0},null,{"$f":"②OP記入欄改!M8","v":0},{"$f":"②OP記入欄改!N8","v":0},{"$f":"②OP記入欄改!O8","v":0}]
[null,{"$f":"②OP記入欄改!F9","v":6},{"$f":"②OP記入欄改!G9","v":0},null,{"$f":"②OP記入欄改!I9","v":0},null,{"$f":"②OP記入欄改!K9","v":0},null,{"$f":"②OP記入欄改!M9","v":0},{"$f":"②OP記入欄改!N9","v":0}]
[null,{"$f":"②OP記入欄改!F10","v":7},{"$f":"②OP記入欄改!G10","v":0},null,{"$f":"②OP記入欄改!I10","v":0},null,{"$f":"②OP記入欄改!K10","v":0},null,{"$f":"②OP記入欄改!M10","v":0},{"$f":"②OP記入欄改!N10","v":0}]
[null,{"$f":"②OP記入欄改!F11","v":8},{"$f":"②OP記入欄改!G11","v":0},null,{"$f":"②OP記入欄改!I11","v":0},null,{"$f":"②OP記入欄改!K11","v":0},null,{"$f":"②OP記入欄改!M11","v":0},{"$f":"②OP記入欄改!N11","v":0}]
[null,{"$f":"②OP記入欄改!F12","v":9},{"$f":"②OP記入欄改!G12","v":0},null,{"$f":"②OP記入欄改!I12","v":0},null,{"$f":"②OP記入欄改!K12","v":0},null,{"$f":"②OP記入欄改!M12","v":0},{"$f":"②OP記入欄改!N12","v":0}]
[null,{"$f":"②OP記入欄改!F13","v":10},{"$f":"②OP記入欄改!G13","v":0},null,{"$f":"②OP記入欄改!I13","v":0},null,{"$f":"②OP記入欄改!K13","v":0},null,{"$f":"②OP記入欄改!M13","v":0},{"$f":"②OP記入欄改!N13","v":0}]
[null,"スリット作業指示№",null,null,null,null,"M/C№",null,"加工日",null,null,null,"前工程品質情報",null,null,"切断シフト1",null,null,null,"切断シフト2"]
[null,{"$f":"②OP記入欄改!$D$14","v":44018360001},null,null,null,null,"ＳＬ-",{"$f":"②OP記入欄改!$D$15","v":19},{"$f":"②OP記入欄改!$D$4","v":"2025-10-23"},null,null,null,"確認　　　□",null,null,"組","作業者",null,null,"組","作業者"]
[null,"巻芯\n確認"]
[]
[null,null,null,null,null,null,null,null,null,null,null,null,null,null,null,"切替開始",null,null,"　　　　　時　　　　　分"]
[null,null,null,null,null,null,null,null,null,null,null,null,null,null,null,"切断開始",null,null,"　　　　　時　　　　　分"]
[null,null,null,null,null,null,null,null,null,null,null,null,null,null,null,"切断完了",null,null,"　　　　　時　　　　　分"]
[null,null,null,null,null,null,null,null,null,null,null,null,null,null,null,"食事開始",null,null,"　　　　　時　　　　　分"]
[null,null,null,null,null,null,null,null,null,null,null,null,null,null,null,"食事完了",null,null,"　　　　　時　　　　　分"]
[null,null,null,null,null,null,null,null,null,null,null,null,null,null,null,"停機開始",null,null,"　　　　　時　　　　　分"]
[null,null,null,null,null,null,null,null,null,null,null,null,null,null,null,"停機完了",null,null,"　　　　　時　　　　　分"]
[null,null,null,null,null,null,null,null,null,null,null,null,null,null,null,"停機理由"]
[null,null,null,null,null,null,null,null,null,null,null,null,null,null,null,"条件確認","M/C条件設定",null,null,"呼出№",null,{"$f":"②OP記入欄改!$D$16","v":2}]
[null,null,null,null,null,null,null,null,null,null,null,null,null,null,null,null,"欠点検出機",null,null,"使用条件№",null,{"$f":"②OP記入欄改!$D$17","v":2}]
[null,null,null,null,null,null,null,null,null,null,null,null,null,null,null,null,"速度(m/min)",null,null,480]
[null,null,null,null,null,null,null,null,null,null,null,null,null,null,null,null,"張力(N/ｍ・kg)"]
[null,null,null,null,null,null,null,null,null,null,null,null,null,null,null,null,"接圧(N/ｍ・kg)"]
[null,null,null,null,null,null,null,null,null,null,null,null,null,null,null,"外観確認"]
[null,null,null,null,null,null,null,null,null,null,null,null,null,null,null,"表層透過検査",null,null,null,"OK",null,"NG"]
[null,null,null,null,null,null,null,null,null,null,null,null,null,null,null,"巻姿外観確認[ｽﾀｰﾄ/中間/ﾗｽﾄ]"]
[null,null,null,null,null,null,null,null,null,null,null,null,null,null,null,"各枝番に問題無『〇』問題有『☓』を記載"]
[]
[]
[]
[]
[null,null,null,null,null,null,null,null,null,null,null,null,null,null,null,"※『☓』の場合は展開図に内容を記載する"]
[null,null,null,null,null,null,null,null,null,null,null,null,null,null,null,"検材エッジ",null,null,415]
[null,20,null,null,null,null,null,null,null,null,null,null,null,null,20,"表層ロス",null,null,0,null,null,"m"]
[null,null,null,null,null,null,null,null,null,null,null,null,null,null,null,"レザー/丸刃交換",null,null,null,"レザー/丸刃廃棄"]
[null,null,840,null,null,null,null,null,840,null,null,null,null,null,null,"  枚",null,null,null,"　枚"]
[null,"膜厚測定（ＣＰＰ・VMPET・BRPET）",null,null,null,null,null,null,null,null,null,null,null,null,null,"備考"]
[null,"ラスト"]
[null,"1セット表層"]
[null,"1セット芯"]
[]
[]
[]
[]
[]
[null,"スリット伝票　ＬＯＴ",null,null,null,null,null,{"$f":"②OP記入欄改!$D$5","v":60420357150},null,null,null,"製区",null,{"$f":"②OP記入欄改!$D$7","v":"S"},"品種",null,{"$f":"②OP記入欄改!$D$8","v":"CPP 2073 KT3"}]
[]
[null,"番手",null,{"$f":"②OP記入欄改!$D$9","v":25},"原反名",null,{"$f":"②OP記入欄改!$D$10","v":9041},null,"原反幅",null,{"$f":"②OP記入欄改!$D$11","v":1960},null,"原反長",null,{"$f":"②OP記入欄改!$D$12","v":46000},null,"前工程M/C",null,null,null,{"$f":"②OP記入欄改!$D$13","v":"DF7"}]
[null,"停機内容",null,null,null,null,null,"停機詳細",null,null,null,null,null,null,null,null,null,"停機時間"]
[null,"Ｆ破れ",null,null,"有/無",null,null,null,null,null,null,null,null,null,null,null,null,null,null,null,"hr"]
[null,"耳切れ",null,null,"有/無",null,null,null,null,null,null,null,null,null,null,null,null,null,null,null,"hr"]
[null,"紙管切断",null,null,"有/無",null,null,null,null,null,null,null,null,null,null,null,null,null,null,null,"hr"]
[null,"その他停機内容",null,null,null,null,null,null,null,null,null,null,null,null,null,null,null,null,null,null,"hr"]
[null,"備考"]
[]
[]
[]
[]
[]
[null,"外観確認内容"]
[null,"原反ズレ",null,null,null,"当てキズ",null,null,null,"溝ロール痕",null,null,null,"ＴＤスジ",null,null,null,"ピッチキズ"]
[null,"スリキズ",null,null,null,"クボミシワ",null,null,null,"シワムラ",null,null,null,"変色",null,null,null,"巻芯シワ"]
[null,"切断面・異物"]

{"sheet":"#30 3丁","index":12,"n_rows":71,"n_cols":25,"rows_kept":71,"cut":false,"hidden":false,"merged":[[69,1,69,4],[69,5,69,8],[69,9,69,12],[69,13,69,16],[69,17,69,21],[70,1,70,4],[60,7,60,16],[60,17,60,19],[68,1,68,4],[68,5,68,8],[68,9,68,12],[68,13,68,16],[68,17,68,21],[55,20,55,22],[56,4,56,5],[57,4,57,5],[57,7,57,16],[57,17,57,19],[55,4,55,5],[55,6,55,7],[55,8,55,9],[55,10,55,11],[55,12,55,13],[55,14,55,15],[46,3,46,4],[46,5,46,6],[46,7,46,8],[46,9,46,10],[46,11,46,12],[58,4,58,5],[58,7,58,16],[58,17,58,19],[59,4,59,5],[59,7,59,16],[59,17,59,19],[55,16,55,19],[42,19,42,22],[43,15,43,18],[43,19,43,22],[43,3,43,4],[43,7,43,8],[43,11,43,12],[40,18,40,20],[41,18,41,20],[53,1,54,6],[53,7,53,10],[53,11,54,12],[53,13,54,13],[53,14,54,15],[53,16,54,22],[54,7,54,10],[46,13,46,14],[47,1,47,2],[47,3,47,4],[47,5,47,6],[47,7,47,8],[47,9,47,10],[47,11,47,12],[47,13,47,14],[46,1,46,2],[44,1,44,14],[45,1,45,2],[45,3,45,4],[45,5,45,6],[45,7,45,8],[45,9,45,10],[45,11,45,12],[45,13,45,14],[42,15,42,18],[32,15,32,18],[32,19,32,20],[32,21,32,22],[33,15,33,22],[34,15,34,22],[39,15,39,22],[28,19,28,22],[29,16,29,18],[29,19,29,22],[30,16,30,18],[30,19,30,22],[31,15,31,22],[24,15,24,17],[24,18,24,22],[25,15,25,17],[25,18,25,22],[26,15,30,15],[26,16,26,18],[27,16,27,18],[27,19,27,20],[27,21,27,22],[28,16,28,18],[26,21,26,22],[21,15,21,17],[21,18,21,22],[22,15,22,17],[22,18,22,22],[23,15,23,17],[23,18,23,22],[18,15,18,17],[18,18,18,22],[19,15,19,17],[19,18,19,22],[20,15,20,17],[20,18,20,22],[15,1,15,5],[15,8,15,11],[15,12,15,14],[15,16,15,18],[15,20,15,22],[16,1,17,1],[16,15,17,15],[16,16,17,18],[16,19,17,19],[16,20,17,22],[14,1,14,5],[14,6,14,7],[14,8,14,11],[14,12,14,14],[14,15,14,18],[14,19,14,22],[13,2,13,3],[13,4,13,5],[13,6,13,7],[13,11,13,14],[13,15,13,17],[13,18,13,20],[12,2,12,3],[12,4,12,5],[12,6,12,7],[12,11,12,14],[12,15,12,17],[12,18,12,20],[11,2,11,3],[11,4,11,5],[11,6,11,7],[11,11,11,14],[11,15,11,17],[11,18,11,20],[10,2,10,3],[10,4,10,5],[10,6,10,7],[10,11,10,14],[10,15,10,17],[10,18,10,20],[9,2,9,3],[9,4,9,5],[9,6,9,7],[9,11,9,14],[9,15,9,17],[9,18,9,20],[8,2,8,3],[8,4,8,5],[8,6,8,7],[8,11,8,14],[8,15,8,17],[8,18,8,20],[7,2,7,3],[7,4,7,5],[7,6,7,7],[7,11,7,14],[7,15,7,17],[7,18,7,20],[2,12,2,13],[2,14,2,15],[6,2,6,3],[6,4,6,5],[6,6,6,7],[6,11,6,14],[6,15,6,17],[6,18,6,20],[5,2,5,3],[5,4,5,5],[5,6,5,7],[5,11,5,14],[5,15,5,17],[5,18,5,20],[0,7,1,10],[0,1,1,6],[0,11,1,12],[0,13,1,13],[0,14,1,15],[0,16,1,22],[4,2,4,3],[4,4,4,5],[4,6,4,7],[4,11,4,14],[4,15,4,17],[4,18,4,20],[2,16,2,19],[2,20,2,22],[3,2,3,3],[3,4,3,5],[3,6,3,7],[3,11,3,14],[3,15,3,17],[3,18,3,20],[2,4,2,5],[2,6,2,7],[2,8,2,9],[2,10,2,11]]}
[null,"スリット伝票　ＬＯＴ",null,null,null,null,null,{"$f":"②OP記入欄改!$D$5","v":60420357150},null,null,null,"製区",null,{"$f":"②OP記入欄改!$D$7","v":"S"},"品種",null,{"$f":"②OP記入欄改!$D$8","v":"CPP 2073 KT3"}]
[]
[null,"番手",null,{"$f":"②OP記入欄改!$D$9","v":25},"原反名",null,{"$f":"②OP記入欄改!$D$10","v":9041},null,"原反幅",null,{"$f":"②OP記入欄改!$D$11","v":1960},null,"原反長",null,{"$f":"②OP記入欄改!$D$12","v":46000},null,"前工程M/C",null,null,null,{"$f":"②OP記入欄改!$D$13","v":"DF7"}]
[null,null,{"$f":"②OP記入欄改!G3","v":"仕向先"},null,{"$f":"②OP記入欄改!I3","v":"製品幅"},null,{"$f":"②OP記入欄改!K3","v":"製品長さ"},null,{"$f":"②OP記入欄改!M3","v":"計本"},{"$f":"②OP記入欄改!N3","v":"実"},{"$f":"②OP記入欄改!O3","v":"梱形"},"Ａ保枝番",null,null,null,"ミル枝番",null,null,"Ｂ級枝番",null,null,"ロック\nシャフト","コア"]
[null,{"$f":"②OP記入欄改!F4","v":1},{"$f":"②OP記入欄改!G4","v":0},null,{"$f":"②OP記入欄改!I4","v":840},null,{"$f":"②OP記入欄改!K4","v":4000},null,{"$f":"②OP記入欄改!M4","v":10},{"$f":"②OP記入欄改!N4","v":0},{"$f":"②OP記入欄改!O4","v":0},null,null,null,null,null,null,null,null,null,null,"-",3,null,"-"]
[null,{"$f":"②OP記入欄改!F5","v":2},{"$f":"②OP記入欄改!G5","v":0},null,{"$f":"②OP記入欄改!I5","v":1080},null,{"$f":"②OP記入欄改!K5","v":4000},null,{"$f":"②OP記入欄改!M5","v":10},{"$f":"②OP記入欄改!N5","v":0},{"$f":"②OP記入欄改!O5","v":0},null,null,null,null,null,null,null,null,null,null,"-",3,null,"〇"]
[null,{"$f":"②OP記入欄改!F6","v":3},{"$f":"②OP記入欄改!G6","v":0},null,{"$f":"②OP記入欄改!I6","v":1080},null,{"$f":"②OP記入欄改!K6","v":4000},null,{"$f":"②OP記入欄改!M6","v":1},{"$f":"②OP記入欄改!N6","v":0},{"$f":"②OP記入欄改!O6","v":0},null,null,null,null,null,null,null,null,null,null,"-",3]
[null,{"$f":"②OP記入欄改!F7","v":4},{"$f":"②OP記入欄改!G7","v":0},null,{"$f":"②OP記入欄改!I7","v":840},null,{"$f":"②OP記入欄改!K7","v":4000},null,{"$f":"②OP記入欄改!M7","v":1},{"$f":"②OP記入欄改!N7","v":0},{"$f":"②OP記入欄改!O7","v":0}]
[null,{"$f":"②OP記入欄改!F8","v":5},{"$f":"②OP記入欄改!G8","v":0},null,{"$f":"②OP記入欄改!I8","v":0},null,{"$f":"②OP記入欄改!K8","v":0},null,{"$f":"②OP記入欄改!M8","v":0},{"$f":"②OP記入欄改!N8","v":0},{"$f":"②OP記入欄改!O8","v":0}]
[null,{"$f":"②OP記入欄改!F9","v":6},{"$f":"②OP記入欄改!G9","v":0},null,{"$f":"②OP記入欄改!I9","v":0},null,{"$f":"②OP記入欄改!K9","v":0},null,{"$f":"②OP記入欄改!M9","v":0},{"$f":"②OP記入欄改!N9","v":0},{"$f":"②OP記入欄改!O9","v":0}]
[null,{"$f":"②OP記入欄改!F10","v":7},{"$f":"②OP記入欄改!G10","v":0},null,{"$f":"②OP記入欄改!I10","v":0},null,{"$f":"②OP記入欄改!K10","v":0},null,{"$f":"②OP記入欄改!M10","v":0},{"$f":"②OP記入欄改!N10","v":0},{"$f":"②OP記入欄改!O10","v":0}]
[null,{"$f":"②OP記入欄改!F11","v":8},{"$f":"②OP記入欄改!G11","v":0},null,{"$f":"②OP記入欄改!I11","v":0},null,{"$f":"②OP記入欄改!K11","v":0},null,{"$f":"②OP記入欄改!M11","v":0},{"$f":"②OP記入欄改!N11","v":0},{"$f":"②OP記入欄改!O11","v":0}]
[null,{"$f":"②OP記入欄改!F12","v":9},{"$f":"②OP記入欄改!G12","v":0},null,{"$f":"②OP記入欄改!I12","v":0},null,{"$f":"②OP記入欄改!K12","v":0},null,{"$f":"②OP記入欄改!M12","v":0},{"$f":"②OP記入欄改!N12","v":0},{"$f":"②OP記入欄改!O12","v":0}]
[null,{"$f":"②OP記入欄改!F13","v":10},{"$f":"②OP記入欄改!G13","v":0},null,{"$f":"②OP記入欄改!I13","v":0},null,{"$f":"②OP記入欄改!K13","v":0},null,{"$f":"②OP記入欄改!M13","v":0},{"$f":"②OP記入欄改!N13","v":0},{"$f":"②OP記入欄改!O13","v":0}]
[null,"スリット作業指示№",null,null,null,null,"M/C№",null,"加工日",null,null,null,"前工程品質情報",null,null,"切断シフト1",null,null,null,"切断シフト2"]
[null,{"$f":"②OP記入欄改!$D$14","v":44018360001},null,null,null,null,"ＳＬ-",{"$f":"②OP記入欄改!$D$15","v":19},{"$f":"②OP記入欄改!$D$4","v":"2025-10-23"},null,null,null,"確認　　　□",null,null,"組","作業者",null,null,"組","作業者"]
[null,"巻芯\n確認"]
[]
[null,null,null,null,null,null,null,null,null,null,null,null,null,null,null,"切替開始",null,null,"　　　　　時　　　　　分"]
[null,null,null,null,null,null,null,null,null,null,null,null,null,null,null,"切断開始",null,null,"　　　　　時　　　　　分"]
[null,null,null,null,null,null,null,null,null,null,null,null,null,null,null,"切断完了",null,null,"　　　　　時　　　　　分"]
[null,null,null,null,null,null,null,null,null,null,null,null,null,null,null,"食事開始",null,null,"　　　　　時　　　　　分"]
[null,null,null,null,null,null,null,null,null,null,null,null,null,null,null,"食事完了",null,null,"　　　　　時　　　　　分"]
[null,null,null,null,null,null,null,null,null,null,null,null,null,null,null,"停機開始",null,null,"　　　　　時　　　　　分"]
[null,null,null,null,null,null,null,null,null,null,null,null,null,null,null,"停機完了",null,null,"　　　　　時　　　　　分"]
[null,null,null,null,null,null,null,null,null,null,null,null,null,null,null,"停機理由"]
[null,null,null,null,null,null,null,null,null,null,null,null,null,null,null,"条件確認","M/C条件設定",null,null,"呼出№",null,{"$f":"②OP記入欄改!$D$16","v":2}]
[null,null,null,null,null,null,null,null,null,null,null,null,null,null,null,null,"欠点検出機",null,null,"使用条件№",null,{"$f":"②OP記入欄改!$D$17","v":2}]
[null,null,null,null,null,null,null,null,null,null,null,null,null,null,null,null,"速度(m/min)",null,null,480]
[null,null,null,null,null,null,null,null,null,null,null,null,null,null,null,null,"張力(N/ｍ・kg)"]
[null,null,null,null,null,null,null,null,null,null,null,null,null,null,null,null,"接圧(N/ｍ・kg)"]
[null,null,null,null,null,null,null,null,null,null,null,null,null,null,null,"外観確認"]
[null,null,null,null,null,null,null,null,null,null,null,null,null,null,null,"表層透過検査",null,null,null,"OK",null,"NG"]
[null,null,null,null,null,null,null,null,null,null,null,null,null,null,null,"巻姿外観確認[ｽﾀｰﾄ/中間/ﾗｽﾄ]"]
[null,null,null,null,null,null,null,null,null,null,null,null,null,null,null,"各枝番に問題無『〇』問題有『☓』を記載"]
[]
[]
[]
[]
[null,null,null,null,null,null,null,null,null,null,null,null,null,null,null,"※『☓』の場合は展開図に内容を記載する"]
[null,null,null,null,null,null,null,null,null,null,null,null,null,null,null,"検材エッジ",null,null,265]
[null,20,null,null,null,null,null,null,null,null,null,null,null,null,20,"表層ロス",null,null,0,null,null,"m"]
[null,null,null,null,null,null,null,null,null,null,null,null,null,null,null,"レザー/丸刃交換",null,null,null,"レザー/丸刃廃棄"]
[null,null,null,500,null,null,null,840,null,null,null,640,null,null,null,"枚",null,null,null,"枚"]
[null,"膜厚測定（ＣＰＰ・VMPET・BRPET）",null,null,null,null,null,null,null,null,null,null,null,null,null,"備考"]
[null,"ラスト"]
[null,"1セット表層"]
[null,"1セット芯"]
[]
[]
[]
[]
[]
[null,"スリット伝票　ＬＯＴ",null,null,null,null,null,{"$f":"②OP記入欄改!$D$5","v":60420357150},null,null,null,"製区",null,{"$f":"②OP記入欄改!$D$7","v":"S"},"品種",null,{"$f":"②OP記入欄改!$D$8","v":"CPP 2073 KT3"}]
[]
[null,"番手",null,{"$f":"②OP記入欄改!$D$9","v":25},"原反名",null,{"$f":"②OP記入欄改!$D$10","v":9041},null,"原反幅",null,{"$f":"②OP記入欄改!$D$11","v":1960},null,"原反長",null,{"$f":"②OP記入欄改!$D$12","v":46000},null,"前工程M/C",null,null,null,{"$f":"②OP記入欄改!$D$13","v":"DF7"}]
[null,"停機内容",null,null,null,null,null,"停機詳細",null,null,null,null,null,null,null,null,null,"停機時間"]
[null,"Ｆ破れ",null,null,"有/無",null,null,null,null,null,null,null,null,null,null,null,null,null,null,null,"hr"]
[null,"耳切れ",null,null,"有/無",null,null,null,null,null,null,null,null,null,null,null,null,null,null,null,"hr"]
[null,"紙管切断",null,null,"有/無",null,null,null,null,null,null,null,null,null,null,null,null,null,null,null,"hr"]
[null,"その他停機内容",null,null,null,null,null,null,null,null,null,null,null,null,null,null,null,null,null,null,"hr"]
[null,"備考"]
[]
[]
[]
[]
[]
[null,"外観確認内容"]
[null,"原反ズレ",null,null,null,"当てキズ",null,null,null,"溝ロール痕",null,null,null,"ＴＤスジ",null,null,null,"ピッチキズ"]
[null,"スリキズ",null,null,null,"クボミシワ",null,null,null,"シワムラ",null,null,null,"変色",null,null,null,"巻芯シワ"]
[null,"切断面・異物"]

{"sheet":"15セット用","index":13,"n_rows":71,"n_cols":23,"rows_kept":71,"cut":false,"hidden":false,"merged":[[0,7,1,10],[0,1,1,6],[0,11,1,12],[0,13,1,13],[0,14,1,15],[0,16,1,22],[4,2,4,3],[4,4,4,5],[4,6,4,7],[4,11,4,14],[4,15,4,17],[4,18,4,20],[2,16,2,19],[2,20,2,22],[3,2,3,3],[3,4,3,5],[3,6,3,7],[3,11,3,14],[3,15,3,17],[3,18,3,20],[2,4,2,5],[2,6,2,7],[2,8,2,9],[2,10,2,11],[2,12,2,13],[2,14,2,15],[6,2,6,3],[6,4,6,5],[6,6,6,7],[6,11,6,14],[6,15,6,17],[6,18,6,20],[5,2,5,3],[5,4,5,5],[5,6,5,7],[5,11,5,14],[5,15,5,17],[5,18,5,20],[8,2,8,3],[8,4,8,5],[8,6,8,7],[8,11,8,14],[8,15,8,17],[8,18,8,20],[7,2,7,3],[7,4,7,5],[7,6,7,7],[7,11,7,14],[7,15,7,17],[7,18,7,20],[10,2,10,3],[10,4,10,5],[10,6,10,7],[10,11,10,14],[10,15,10,17],[10,18,10,20],[9,2,9,3],[9,4,9,5],[9,6,9,7],[9,11,9,14],[9,15,9,17],[9,18,9,20],[12,2,12,3],[12,4,12,5],[12,6,12,7],[12,11,12,14],[12,15,12,17],[12,18,12,20],[11,2,11,3],[11,4,11,5],[11,6,11,7],[11,11,11,14],[11,15,11,17],[11,18,11,20],[14,1,14,5],[14,6,14,7],[14,8,14,11],[14,12,14,14],[14,15,14,18],[14,19,14,22],[13,2,13,3],[13,4,13,5],[13,6,13,7],[13,11,13,14],[13,15,13,17],[13,18,13,20],[15,1,15,5],[15,8,15,11],[15,12,15,14],[15,16,15,18],[15,20,15,22],[16,1,17,1],[16,15,17,15],[16,16,17,18],[16,19,17,19],[16,20,17,22],[21,15,21,17],[21,18,21,22],[22,15,22,17],[22,18,22,22],[23,15,23,17],[23,18,23,22],[18,15,18,17],[18,18,18,22],[19,15,19,17],[19,18,19,22],[20,15,20,17],[20,18,20,22],[31,15,31,22],[32,15,32,18],[32,19,32,20],[32,21,32,22],[33,15,33,22],[34,15,34,22],[24,15,24,17],[24,18,24,22],[25,15,25,17],[25,18,25,22],[26,15,30,15],[26,16,26,18],[27,16,27,18],[28,16,28,18],[29,16,29,18],[30,16,30,18],[27,19,27,20],[27,21,27,22],[26,21,26,22],[28,19,28,22],[29,19,29,20],[30,19,30,20],[44,1,44,14],[45,1,45,2],[45,3,45,4],[45,5,45,6],[45,7,45,8],[45,9,45,10],[45,11,45,12],[45,13,45,14],[39,15,39,22],[42,15,42,18],[42,19,42,22],[43,15,43,18],[43,19,43,22],[40,18,40,20],[41,18,41,20],[53,1,54,6],[53,7,53,10],[53,11,54,12],[53,13,54,13],[53,14,54,15],[53,16,54,22],[54,7,54,10],[46,13,46,14],[47,1,47,2],[47,3,47,4],[47,5,47,6],[47,7,47,8],[47,9,47,10],[47,11,47,12],[47,13,47,14],[46,1,46,2],[46,3,46,4],[46,5,46,6],[46,7,46,8],[46,9,46,10],[46,11,46,12],[55,20,55,22],[56,4,56,5],[57,4,57,5],[57,7,57,16],[57,17,57,19],[55,4,55,5],[55,6,55,7],[55,8,55,9],[55,10,55,11],[55,12,55,13],[55,14,55,15],[60,7,60,16],[60,17,60,19],[58,4,58,5],[58,7,58,16],[58,17,58,19],[59,4,59,5],[59,7,59,16],[59,17,59,19],[55,16,55,19],[70,1,70,4],[68,1,68,4],[68,5,68,8],[68,9,68,12],[68,13,68,16],[68,17,68,21],[69,1,69,4],[69,5,69,8],[69,9,69,12],[69,13,69,16],[69,17,69,21]]}
[null,"スリット伝票　ＬＯＴ",null,null,null,null,null,{"$f":"②OP記入欄改!$D$5","v":60420357150},null,null,null,"製区",null,{"$f":"②OP記入欄改!$D$7","v":"S"},"品種",null,{"$f":"②OP記入欄改!$D$8","v":"CPP 2073 KT3"}]
[]
[null,"番手",null,{"$f":"②OP記入欄改!$D$9","v":25},"原反名",null,{"$f":"②OP記入欄改!$D$10","v":9041},null,"原反幅",null,{"$f":"②OP記入欄改!$D$11","v":1960},null,"原反長",null,{"$f":"②OP記入欄改!$D$12","v":46000},null,"前工程M/C",null,null,null,{"$f":"②OP記入欄改!$D$13","v":"DF7"}]
[null,null,{"$f":"②OP記入欄改!G3","v":"仕向先"},null,{"$f":"②OP記入欄改!I3","v":"製品幅"},null,{"$f":"②OP記入欄改!K3","v":"製品長さ"},null,{"$f":"②OP記入欄改!M3","v":"計本"},{"$f":"②OP記入欄改!N3","v":"実"},{"$f":"②OP記入欄改!O3","v":"梱形"},"Ａ保枝番",null,null,null,"ミル枝番",null,null,"Ｂ級枝番",null,null,"ロック\nシャフト","コア"]
[null,{"$f":"②OP記入欄改!F4","v":1},{"$f":"②OP記入欄改!G4","v":0},null,{"$f":"②OP記入欄改!I4","v":840},null,{"$f":"②OP記入欄改!K4","v":4000},null,{"$f":"②OP記入欄改!M4","v":10},{"$f":"②OP記入欄改!N4","v":0},{"$f":"②OP記入欄改!O4","v":0},null,null,null,null,null,null,null,null,null,null,"-",3]
[null,{"$f":"②OP記入欄改!F5","v":2},{"$f":"②OP記入欄改!G5","v":0},null,{"$f":"②OP記入欄改!I5","v":1080},null,{"$f":"②OP記入欄改!K5","v":4000},null,{"$f":"②OP記入欄改!M5","v":10},{"$f":"②OP記入欄改!N5","v":0},{"$f":"②OP記入欄改!O5","v":0},null,null,null,null,null,null,null,null,null,null,"-",3]
[null,{"$f":"②OP記入欄改!F6","v":3},{"$f":"②OP記入欄改!G6","v":0},null,{"$f":"②OP記入欄改!I6","v":1080},null,{"$f":"②OP記入欄改!K6","v":4000},null,{"$f":"②OP記入欄改!M6","v":1},{"$f":"②OP記入欄改!N6","v":0},{"$f":"②OP記入欄改!O6","v":0},null,null,null,null,null,null,null,null,null,null,"-",3]
[null,{"$f":"②OP記入欄改!F7","v":4},{"$f":"②OP記入欄改!G7","v":0},null,{"$f":"②OP記入欄改!I7","v":840},null,{"$f":"②OP記入欄改!K7","v":4000},null,{"$f":"②OP記入欄改!M7","v":1},{"$f":"②OP記入欄改!N7","v":0},{"$f":"②OP記入欄改!O7","v":0},null,null,null,null,null,null,null,null,null,null,"-",3]
[null,{"$f":"②OP記入欄改!F8","v":5},{"$f":"②OP記入欄改!G8","v":0},null,{"$f":"②OP記入欄改!I8","v":0},null,{"$f":"②OP記入欄改!K8","v":0},null,{"$f":"②OP記入欄改!M8","v":0},{"$f":"②OP記入欄改!N8","v":0},{"$f":"②OP記入欄改!O8","v":0}]
[null,{"$f":"②OP記入欄改!F9","v":6},{"$f":"②OP記入欄改!G9","v":0},null,{"$f":"②OP記入欄改!I9","v":0},null,{"$f":"②OP記入欄改!K9","v":0},null,{"$f":"②OP記入欄改!M9","v":0},{"$f":"②OP記入欄改!N9","v":0},{"$f":"②OP記入欄改!O9","v":0}]
[null,{"$f":"②OP記入欄改!F10","v":7},{"$f":"②OP記入欄改!G10","v":0},null,{"$f":"②OP記入欄改!I10","v":0},null,{"$f":"②OP記入欄改!K10","v":0},null,{"$f":"②OP記入欄改!M10","v":0},{"$f":"②OP記入欄改!N10","v":0},{"$f":"②OP記入欄改!O10","v":0}]
[null,{"$f":"②OP記入欄改!F11","v":8},{"$f":"②OP記入欄改!G11","v":0},null,{"$f":"②OP記入欄改!I11","v":0},null,{"$f":"②OP記入欄改!K11","v":0},null,{"$f":"②OP記入欄改!M11","v":0},{"$f":"②OP記入欄改!N11","v":0},{"$f":"②OP記入欄改!O11","v":0}]
[null,{"$f":"②OP記入欄改!F12","v":9},{"$f":"②OP記入欄改!G12","v":0},null,{"$f":"②OP記入欄改!I12","v":0},null,{"$f":"②OP記入欄改!K12","v":0},null,{"$f":"②OP記入欄改!M12","v":0},{"$f":"②OP記入欄改!N12","v":0},{"$f":"②OP記入欄改!O12","v":0}]
[null,{"$f":"②OP記入欄改!F13","v":10},{"$f":"②OP記入欄改!G13","v":0},null,{"$f":"②OP記入欄改!I13","v":0},null,{"$f":"②OP記入欄改!K13","v":0},null,{"$f":"②OP記入欄改!M13","v":0},{"$f":"②OP記入欄改!N13","v":0},{"$f":"②OP記入欄改!O13","v":0}]
[null,"スリット作業指示№",null,null,null,null,"M/C№",null,"加工日",null,null,null,"前工程品質情報",null,null,"切断シフト1",null,null,null,"切断シフト2"]
[null,{"$f":"②OP記入欄改!$D$14","v":44018360001},null,null,null,null,"ＳＬ-",{"$f":"②OP記入欄改!$D$15","v":19},{"$f":"②OP記入欄改!$D$4","v":"2025-10-23"},null,null,null,"確認　　　□",null,null,"組","作業者",null,null,"組","作業者"]
[null,"巻芯\n確認"]
[]
[null,null,null,null,null,null,null,null,null,null,null,null,null,null,null,"切替開始",null,null,"　　　　　時　　　　　分"]
[null,null,null,null,null,null,null,null,null,null,null,null,null,null,null,"切断開始",null,null,"　　　　　時　　　　　分"]
[null,null,null,null,null,null,null,null,null,null,null,null,null,null,null,"切断完了",null,null,"　　　　　時　　　　　分"]
[null,null,null,null,null,null,null,null,null,null,null,null,null,null,null,"食事開始",null,null,"　　　　　時　　　　　分"]
[null,null,null,null,null,null,null,null,null,null,null,null,null,null,null,"食事完了",null,null,"　　　　　時　　　　　分"]
[null,null,null,null,null,null,null,null,null,null,null,null,null,null,null,"停機開始",null,null,"　　　　　時　　　　　分"]
[null,null,null,null,null,null,null,null,null,null,null,null,null,null,null,"停機完了",null,null,"　　　　　時　　　　　分"]
[null,null,null,null,null,null,null,null,null,null,null,null,null,null,null,"停機理由"]
[null,null,null,null,null,null,null,null,null,null,null,null,null,null,null,"条件確認","M/C条件設定",null,null,"呼出№",null,{"$f":"②OP記入欄改!$D$16","v":2}]
[null,null,null,null,null,null,null,null,null,null,null,null,null,null,null,null,"欠点検出機",null,null,"使用条件№",null,{"$f":"②OP記入欄改!$D$17","v":2}]
[null,null,null,null,null,null,null,null,null,null,null,null,null,null,null,null,"速度(m/min)",null,null,480]
[null,null,null,null,null,null,null,null,null,null,null,null,null,null,null,null,"張力(N/ｍ・kg)"]
[null,null,null,null,null,null,null,null,null,null,null,null,null,null,null,null,"接圧(N/ｍ・kg)"]
[null,null,null,null,null,null,null,null,null,null,null,null,null,null,null,"外観確認"]
[null,null,null,null,null,null,null,null,null,null,null,null,null,null,null,"表層透過検査",null,null,null,"OK",null,"NG"]
[null,null,null,null,null,null,null,null,null,null,null,null,null,null,null,"巻姿外観確認[ｽﾀｰﾄ/中間/ﾗｽﾄ]"]
[null,null,null,null,null,null,null,null,null,null,null,null,null,null,null,"各枝番に問題無『〇』問題有『☓』を記載"]
[]
[]
[]
[]
[null,null,null,null,null,null,null,null,null,null,null,null,null,null,null,"※『☓』の場合は展開図に内容を記載する"]
[null,null,null,null,null,null,null,null,null,null,null,null,null,null,null,"検材エッジ",null,null,355]
[null,null,null,null,null,null,null,null,null,null,null,null,null,null,null,"表層ロス",null,null,null,null,null,"m"]
[null,null,null,null,null,null,null,null,null,null,null,null,null,null,null,"レザー/丸刃交換",null,null,null,"レザー/丸刃廃棄"]
[null,null,null,null,null,null,null,null,null,null,null,null,null,null,null,"枚",null,null,null,"枚"]
[null,"膜厚測定（ＣＰＰ・VMPET・BRPET）",null,null,null,null,null,null,null,null,null,null,null,null,null,"備考"]
[null,"ラスト"]
[null,"1セット表層"]
[null,"1セット芯"]
[]
[]
[]
[]
[]
[null,"スリット伝票　ＬＯＴ",null,null,null,null,null,{"$f":"②OP記入欄改!$D$5","v":60420357150},null,null,null,"製区",null,{"$f":"②OP記入欄改!$D$7","v":"S"},"品種",null,{"$f":"②OP記入欄改!$D$8","v":"CPP 2073 KT3"}]
[]
[null,"番手",null,{"$f":"②OP記入欄改!$D$9","v":25},"原反名",null,{"$f":"②OP記入欄改!$D$10","v":9041},null,"原反幅",null,{"$f":"②OP記入欄改!$D$11","v":1960},null,"原反長",null,{"$f":"②OP記入欄改!$D$12","v":46000},null,"前工程M/C",null,null,null,{"$f":"②OP記入欄改!$D$13","v":"DF7"}]
[null,"停機内容",null,null,null,null,null,"停機詳細",null,null,null,null,null,null,null,null,null,"停機時間"]
[null,"Ｆ破れ",null,null,"有/無",null,null,null,null,null,null,null,null,null,null,null,null,null,null,null,"hr"]
[null,"耳切れ",null,null,"有/無",null,null,null,null,null,null,null,null,null,null,null,null,null,null,null,"hr"]
[null,"紙管切断",null,null,"有/無",null,null,null,null,null,null,null,null,null,null,null,null,null,null,null,"hr"]
[null,"その他停機内容",null,null,null,null,null,null,null,null,null,null,null,null,null,null,null,null,null,null,"hr"]
[null,"備考"]
[]
[]
[]
[]
[]
[null,"外観確認内容"]
[null,"原反ズレ",null,null,null,"当てキズ",null,null,null,"溝ロール痕",null,null,null,"ＴＤスジ",null,null,null,"ピッチキズ"]
[null,"スリキズ",null,null,null,"クボミシワ",null,null,null,"シワムラ",null,null,null,"変色",null,null,null,"巻芯シワ"]
[null,"切断面・異物"]

{"sheet":"2丁","index":14,"n_rows":71,"n_cols":26,"rows_kept":71,"cut":false,"hidden":false,"merged":[[69,1,69,4],[69,5,69,8],[69,9,69,12],[69,13,69,16],[69,17,69,21],[70,1,70,4],[60,7,60,16],[60,17,60,19],[68,1,68,4],[68,5,68,8],[68,9,68,12],[68,13,68,16],[68,17,68,21],[58,4,58,5],[58,7,58,16],[58,17,58,19],[59,4,59,5],[59,7,59,16],[59,17,59,19],[55,16,55,19],[55,20,55,22],[56,4,56,5],[57,4,57,5],[57,7,57,16],[57,17,57,19],[55,4,55,5],[55,6,55,7],[55,8,55,9],[55,10,55,11],[55,12,55,13],[55,14,55,15],[53,1,54,6],[53,7,53,10],[53,11,54,12],[53,13,54,13],[53,14,54,15],[53,16,54,22],[54,7,54,10],[46,13,46,14],[47,1,47,2],[47,3,47,4],[47,5,47,6],[47,7,47,8],[47,9,47,10],[47,11,47,12],[47,13,47,14],[46,1,46,2],[46,3,46,4],[46,5,46,6],[46,7,46,8],[46,9,46,10],[46,11,46,12],[44,1,44,14],[45,1,45,2],[45,3,45,4],[45,5,45,6],[45,7,45,8],[45,9,45,10],[45,11,45,12],[45,13,45,14],[39,15,39,22],[40,15,40,22],[42,15,42,18],[42,19,42,22],[43,15,43,18],[43,19,43,22],[43,2,43,7],[43,8,43,13],[31,15,31,22],[32,15,32,18],[32,19,32,20],[32,21,32,22],[33,15,33,22],[34,15,34,22],[24,15,24,17],[24,18,24,22],[25,15,25,17],[25,18,25,22],[26,15,30,15],[26,16,26,18],[27,16,27,18],[28,16,28,18],[29,16,29,18],[30,16,30,18],[27,21,27,22],[27,19,27,20],[28,19,28,22],[29,19,29,20],[30,19,30,20],[26,21,26,22],[21,15,21,17],[21,18,21,22],[22,15,22,17],[22,18,22,22],[23,15,23,17],[23,18,23,22],[18,15,18,17],[18,18,18,22],[19,15,19,17],[19,18,19,22],[20,15,20,17],[20,18,20,22],[15,1,15,5],[15,8,15,11],[15,12,15,14],[15,16,15,18],[15,20,15,22],[16,1,17,1],[16,15,17,15],[16,16,17,18],[16,19,17,19],[16,20,17,22],[14,1,14,5],[14,6,14,7],[14,8,14,11],[14,12,14,14],[14,15,14,18],[14,19,14,22],[13,2,13,3],[13,4,13,5],[13,6,13,7],[13,11,13,14],[13,15,13,17],[13,18,13,20],[12,2,12,3],[12,4,12,5],[12,6,12,7],[12,11,12,14],[12,15,12,17],[12,18,12,20],[11,2,11,3],[11,4,11,5],[11,6,11,7],[11,11,11,14],[11,15,11,17],[11,18,11,20],[10,2,10,3],[10,4,10,5],[10,6,10,7],[10,11,10,14],[10,15,10,17],[10,18,10,20],[9,2,9,3],[9,4,9,5],[9,6,9,7],[9,11,9,14],[9,15,9,17],[9,18,9,20],[8,2,8,3],[8,4,8,5],[8,6,8,7],[8,11,8,14],[8,15,8,17],[8,18,8,20],[7,2,7,3],[7,4,7,5],[7,6,7,7],[7,11,7,14],[7,15,7,17],[7,18,7,20],[2,12,2,13],[2,14,2,15],[6,2,6,3],[6,4,6,5],[6,6,6,7],[6,11,6,14],[6,15,6,17],[6,18,6,20],[5,2,5,3],[5,4,5,5],[5,6,5,7],[5,11,5,14],[5,15,5,17],[5,18,5,20],[0,7,1,10],[0,1,1,6],[0,11,1,12],[0,13,1,13],[0,14,1,15],[0,16,1,22],[4,2,4,3],[4,4,4,5],[4,6,4,7],[4,11,4,14],[4,15,4,17],[4,18,4,20],[2,16,2,19],[2,20,2,22],[3,2,3,3],[3,4,3,5],[3,6,3,7],[3,11,3,14],[3,15,3,17],[3,18,3,20],[2,4,2,5],[2,6,2,7],[2,8,2,9],[2,10,2,11]]}
[null,"スリット伝票　ＬＯＴ",null,null,null,null,null,{"$f":"②OP記入欄改!$D$5","v":60420357150},null,null,null,"製区",null,{"$f":"②OP記入欄改!$D$7","v":"S"},"品種",null,{"$f":"②OP記入欄改!$D$8","v":"CPP 2073 KT3"}]
[]
[null,"番手",null,{"$f":"②OP記入欄改!$D$9","v":25},"原反名",null,{"$f":"②OP記入欄改!$D$10","v":9041},null,"原反幅",null,{"$f":"②OP記入欄改!$D$11","v":1960},null,"原反長",null,{"$f":"②OP記入欄改!$D$12","v":46000},null,"前工程M/C",null,null,null,{"$f":"②OP記入欄改!$D$13","v":"DF7"}]
[null,null,{"$f":"②OP記入欄改!G3","v":"仕向先"},null,{"$f":"②OP記入欄改!I3","v":"製品幅"},null,{"$f":"②OP記入欄改!K3","v":"製品長さ"},null,{"$f":"②OP記入欄改!M3","v":"計本"},{"$f":"②OP記入欄改!N3","v":"実"},{"$f":"②OP記入欄改!O3","v":"梱形"},"Ａ保枝番",null,null,null,"ミル枝番",null,null,"Ｂ級枝番",null,null,"ロック\nシャフト","コア"]
[null,{"$f":"②OP記入欄改!F4","v":1},{"$f":"②OP記入欄改!G4","v":0},null,{"$f":"②OP記入欄改!I4","v":840},null,{"$f":"②OP記入欄改!K4","v":4000},null,{"$f":"②OP記入欄改!M4","v":10},{"$f":"②OP記入欄改!N4","v":0},{"$f":"②OP記入欄改!O4","v":0},null,null,null,null,null,null,null,null,null,null,"〇",3]
[null,{"$f":"②OP記入欄改!F5","v":2},{"$f":"②OP記入欄改!G5","v":0},null,{"$f":"②OP記入欄改!I5","v":1080},null,{"$f":"②OP記入欄改!K5","v":4000},null,{"$f":"②OP記入欄改!M5","v":10},{"$f":"②OP記入欄改!N5","v":0},{"$f":"②OP記入欄改!O5","v":0},null,null,null,null,null,null,null,null,null,null,"-",3,null,null,"-"]
[null,{"$f":"②OP記入欄改!F6","v":3},{"$f":"②OP記入欄改!G6","v":0},null,{"$f":"②OP記入欄改!I6","v":1080},null,{"$f":"②OP記入欄改!K6","v":4000},null,{"$f":"②OP記入欄改!M6","v":1},{"$f":"②OP記入欄改!N6","v":0},{"$f":"②OP記入欄改!O6","v":0},null,null,null,null,null,null,null,null,null,null,null,null,null,null,"〇"]
[null,{"$f":"②OP記入欄改!F7","v":4},{"$f":"②OP記入欄改!G7","v":0},null,{"$f":"②OP記入欄改!I7","v":840},null,{"$f":"②OP記入欄改!K7","v":4000},null,{"$f":"②OP記入欄改!M7","v":1},{"$f":"②OP記入欄改!N7","v":0},{"$f":"②OP記入欄改!O7","v":0}]
[null,{"$f":"②OP記入欄改!F8","v":5},{"$f":"②OP記入欄改!G8","v":0},null,{"$f":"②OP記入欄改!I8","v":0},null,{"$f":"②OP記入欄改!K8","v":0},null,{"$f":"②OP記入欄改!M8","v":0},{"$f":"②OP記入欄改!N8","v":0},{"$f":"②OP記入欄改!O8","v":0}]
[null,{"$f":"②OP記入欄改!F9","v":6},{"$f":"②OP記入欄改!G9","v":0},null,{"$f":"②OP記入欄改!I9","v":0},null,{"$f":"②OP記入欄改!K9","v":0},null,{"$f":"②OP記入欄改!M9","v":0},{"$f":"②OP記入欄改!N9","v":0},{"$f":"②OP記入欄改!O9","v":0}]
[null,{"$f":"②OP記入欄改!F10","v":7},{"$f":"②OP記入欄改!G10","v":0},null,{"$f":"②OP記入欄改!I10","v":0},null,{"$f":"②OP記入欄改!K10","v":0},null,{"$f":"②OP記入欄改!M10","v":0},{"$f":"②OP記入欄改!N10","v":0},{"$f":"②OP記入欄改!O10","v":0}]
[null,{"$f":"②OP記入欄改!F11","v":8},{"$f":"②OP記入欄改!G11","v":0},null,{"$f":"②OP記入欄改!I11","v":0},null,{"$f":"②OP記入欄改!K11","v":0},null,{"$f":"②OP記入欄改!M11","v":0},{"$f":"②OP記入欄改!N11","v":0},{"$f":"②OP記入欄改!O11","v":0}]
[null,{"$f":"②OP記入欄改!F12","v":9},{"$f":"②OP記入欄改!G12","v":0},null,{"$f":"②OP記入欄改!I12","v":0},null,{"$f":"②OP記入欄改!K12","v":0},null,{"$f":"②OP記入欄改!M12","v":0},{"$f":"②OP記入欄改!N12","v":0},{"$f":"②OP記入欄改!O12","v":0}]
[null,{"$f":"②OP記入欄改!F13","v":10},{"$f":"②OP記入欄改!G13","v":0},null,{"$f":"②OP記入欄改!I13","v":0},null,{"$f":"②OP記入欄改!K13","v":0},null,{"$f":"②OP記入欄改!M13","v":0},{"$f":"②OP記入欄改!N13","v":0},{"$f":"②OP記入欄改!O13","v":0}]
[null,"スリット作業指示№",null,null,null,null,"M/C№",null,"加工日",null,null,null,"前工程品質情報",null,null,"切断シフト1",null,null,null,"切断シフト2"]
[null,{"$f":"②OP記入欄改!$D$14","v":44018360001},null,null,null,null,"ＳＬ-",{"$f":"②OP記入欄改!$D$15","v":19},{"$f":"②OP記入欄改!$D$4","v":"2025-10-23"},null,null,null,"確認　　　□",null,null,"組","作業者",null,null,"組","作業者"]
[null,"巻芯\n確認"]
[]
[null,null,null,null,null,null,null,null,null,null,null,null,null,null,null,"切替開始",null,null,"　　　　　時　　　　　分"]
[null,null,null,null,null,null,null,null,null,null,null,null,null,null,null,"切断開始",null,null,"　　　　　時　　　　　分"]
[null,null,null,null,null,null,null,null,null,null,null,null,null,null,null,"切断完了",null,null,"　　　　　時　　　　　分"]
[null,null,null,null,null,null,null,null,null,null,null,null,null,null,null,"食事開始",null,null,"　　　　　時　　　　　分"]
[null,null,null,null,null,null,null,null,null,null,null,null,null,null,null,"食事完了",null,null,"　　　　　時　　　　　分"]
[null,null,null,null,null,null,null,null,null,null,null,null,null,null,null,"停機開始",null,null,"　　　　　時　　　　　分"]
[null,null,null,null,null,null,null,null,null,null,null,null,null,null,null,"停機完了",null,null,"　　　　　時　　　　　分"]
[null,null,null,null,null,null,null,null,null,null,null,null,null,null,null,"停機理由"]
[null,null,null,null,null,null,null,null,null,null,null,null,null,null,null,"条件確認","M/C条件設定",null,null,"呼出№",null,{"$f":"②OP記入欄改!$D$16","v":2}]
[null,null,null,null,null,null,null,null,null,null,null,null,null,null,null,null,"欠点検出機",null,null,"使用条件№",null,{"$f":"②OP記入欄改!$D$17","v":2}]
[null,null,null,null,null,null,null,null,null,null,null,null,null,null,null,null,"速度(m/min)",null,null,450]
[null,null,null,null,null,null,null,null,null,null,null,null,null,null,null,null,"張力(N/ｍ・kg)"]
[null,null,null,null,null,null,null,null,null,null,null,null,null,null,null,null,"接圧(N/ｍ・kg)"]
[null,null,null,null,null,null,null,null,null,null,null,null,null,null,null,"外観確認"]
[null,null,null,null,null,null,null,null,null,null,null,null,null,null,null,"表層透過検査",null,null,null,"OK",null,"NG"]
[null,null,null,null,null,null,null,null,null,null,null,null,null,null,null,"巻姿外観確認[ｽﾀｰﾄ/中間/ﾗｽﾄ]"]
[null,null,null,null,null,null,null,null,null,null,null,null,null,null,null,"各枝番に問題無『〇』問題有『☓』を記載"]
[]
[]
[]
[]
[null,null,null,null,null,null,null,null,null,null,null,null,null,null,null,"※『☓』の場合は展開図に内容を記載する"]
[null,null,null,null,null,null,null,null,null,null,null,null,null,null,null,"検材エッジ　225ⅿｍ"]
[null,null,null,null,null,null,null,null,null,null,null,null,null,null,null,"表層ロス　　　　　　　ⅿ"]
[null,null,null,null,null,null,null,null,null,null,null,null,null,null,null,"レザー/丸刃交換",null,null,null,"レザー/丸刃廃棄"]
[null,null,null,null,null,null,null,null,null,null,null,null,null,null,null,"　枚",null,null,null,"　枚"]
[null,"膜厚測定（ＣＰＰ・VMPET・BRPET）"]
[null,"ラスト"]
[null,"1セット表層"]
[null,"1セット芯",null,null,null,null,null,null,null,null,null,null,null,null,null,"残",null,null,"m",null,null,null,"Φ"]
[]
[]
[]
[]
[]
[null,"スリット伝票　ＬＯＴ",null,null,null,null,null,{"$f":"②OP記入欄改!$D$5","v":60420357150},null,null,null,"製区",null,{"$f":"②OP記入欄改!$D$7","v":"S"},"品種",null,{"$f":"②OP記入欄改!$D$8","v":"CPP 2073 KT3"}]
[]
[null,"番手",null,{"$f":"②OP記入欄改!$D$9","v":25},"原反名",null,{"$f":"②OP記入欄改!$D$10","v":9041},null,"原反幅",null,{"$f":"②OP記入欄改!$D$11","v":1960},null,"原反長",null,{"$f":"②OP記入欄改!$D$12","v":46000},null,"前工程M/C",null,null,null,{"$f":"②OP記入欄改!$D$13","v":"DF7"}]
[null,"停機内容",null,null,null,null,null,"停機詳細",null,null,null,null,null,null,null,null,null,"停機時間"]
[null,"Ｆ破れ",null,null,"有/無",null,null,null,null,null,null,null,null,null,null,null,null,null,null,null,"hr"]
[null,"耳切れ",null,null,"有/無",null,null,null,null,null,null,null,null,null,null,null,null,null,null,null,"hr"]
[null,"紙管切断",null,null,"有/無",null,null,null,null,null,null,null,null,null,null,null,null,null,null,null,"hr"]
[null,"その他停機内容",null,null,null,null,null,null,null,null,null,null,null,null,null,null,null,null,null,null,"hr"]
[null,"備考"]
[]
[]
[]
[]
[]
[null,"外観確認内容"]
[null,"原反ズレ",null,null,null,"当てキズ",null,null,null,"溝ロール痕",null,null,null,"ＴＤスジ",null,null,null,"ピッチキズ"]
[null,"スリキズ",null,null,null,"クボミシワ",null,null,null,"シワムラ",null,null,null,"変色",null,null,null,"巻芯シワ"]
[null,"切断面・異物"]

{"sheet":"3丁","index":15,"n_rows":71,"n_cols":23,"rows_kept":71,"cut":false,"hidden":false,"merged":[[60,7,60,16],[60,17,60,19],[58,4,58,5],[58,7,58,16],[58,17,58,19],[59,4,59,5],[59,7,59,16],[59,17,59,19],[55,16,55,19],[55,20,55,22],[56,4,56,5],[57,4,57,5],[57,7,57,16],[57,17,57,19],[55,4,55,5],[55,6,55,7],[55,8,55,9],[55,10,55,11],[55,12,55,13],[55,14,55,15],[53,1,54,6],[53,7,53,10],[53,11,54,12],[53,13,54,13],[53,14,54,15],[53,16,54,22],[54,7,54,10],[46,13,46,14],[47,1,47,2],[47,3,47,4],[47,5,47,6],[47,7,47,8],[47,9,47,10],[47,11,47,12],[47,13,47,14],[46,1,46,2],[46,3,46,4],[46,5,46,6],[46,7,46,8],[46,9,46,10],[46,11,46,12],[44,1,44,14],[45,1,45,2],[45,3,45,4],[45,5,45,6],[45,7,45,8],[45,9,45,10],[45,11,45,12],[45,13,45,14],[39,15,39,22],[40,15,40,22],[42,15,42,18],[42,19,42,22],[43,15,43,18],[43,19,43,22],[43,3,43,4],[43,7,43,8],[43,11,43,12],[31,15,31,22],[32,15,32,18],[32,19,32,20],[32,21,32,22],[33,15,33,22],[34,15,34,22],[24,15,24,17],[24,18,24,22],[25,15,25,17],[25,18,25,22],[26,15,30,15],[26,16,26,18],[27,16,27,18],[28,16,28,18],[29,16,29,18],[30,16,30,18],[27,19,27,20],[27,21,27,22],[28,19,28,22],[29,19,29,22],[30,19,30,22],[21,15,21,17],[21,18,21,22],[22,15,22,17],[22,18,22,22],[23,15,23,17],[23,18,23,22],[18,15,18,17],[18,18,18,22],[19,15,19,17],[19,18,19,22],[20,15,20,17],[20,18,20,22],[15,1,15,5],[15,8,15,11],[15,12,15,14],[15,16,15,18],[15,20,15,22],[16,1,17,1],[16,15,17,15],[16,16,17,18],[16,19,17,19],[16,20,17,22],[14,1,14,5],[14,6,14,7],[14,8,14,11],[14,12,14,14],[14,15,14,18],[14,19,14,22],[13,2,13,3],[13,4,13,5],[13,6,13,7],[13,11,13,14],[13,15,13,17],[13,18,13,20],[12,2,12,3],[12,4,12,5],[12,6,12,7],[12,11,12,14],[12,15,12,17],[12,18,12,20],[11,2,11,3],[11,4,11,5],[11,6,11,7],[11,11,11,14],[11,15,11,17],[11,18,11,20],[10,2,10,3],[10,4,10,5],[10,6,10,7],[10,11,10,14],[10,15,10,17],[10,18,10,20],[9,2,9,3],[9,4,9,5],[9,6,9,7],[9,11,9,14],[9,15,9,17],[9,18,9,20],[8,2,8,3],[8,4,8,5],[8,6,8,7],[8,11,8,14],[8,15,8,17],[8,18,8,20],[7,2,7,3],[7,4,7,5],[7,6,7,7],[7,11,7,14],[7,15,7,17],[7,18,7,20],[6,2,6,3],[6,4,6,5],[6,6,6,7],[6,11,6,14],[6,15,6,17],[6,18,6,20],[5,2,5,3],[5,4,5,5],[5,6,5,7],[5,11,5,14],[5,15,5,17],[5,18,5,20],[2,20,2,22],[3,2,3,3],[3,4,3,5],[3,6,3,7],[3,11,3,14],[3,15,3,17],[3,18,3,20],[2,4,2,5],[2,6,2,7],[2,8,2,9],[2,10,2,11],[2,12,2,13],[2,14,2,15],[0,7,1,10],[70,1,70,4],[68,1,68,4],[68,5,68,8],[68,9,68,12],[68,13,68,16],[68,17,68,21],[69,1,69,4],[69,5,69,8],[69,9,69,12],[69,13,69,16],[69,17,69,21],[0,1,1,6],[0,11,1,12],[0,13,1,13],[0,14,1,15],[0,16,1,22],[4,2,4,3],[4,4,4,5],[4,6,4,7],[4,11,4,14],[4,15,4,17],[4,18,4,20],[2,16,2,19]]}
[null,"スリット伝票　ＬＯＴ",null,null,null,null,null,{"$f":"②OP記入欄改!$D$5","v":60420357150},null,null,null,"製区",null,{"$f":"②OP記入欄改!$D$7","v":"S"},"品種",null,{"$f":"②OP記入欄改!$D$8","v":"CPP 2073 KT3"}]
[]
[null,"番手",null,{"$f":"②OP記入欄改!$D$9","v":25},"原反名",null,{"$f":"②OP記入欄改!$D$10","v":9041},null,"原反幅",null,{"$f":"②OP記入欄改!$D$11","v":1960},null,"原反長",null,{"$f":"②OP記入欄改!$D$12","v":46000},null,"前工程M/C",null,null,null,{"$f":"②OP記入欄改!$D$13","v":"DF7"}]
[null,null,{"$f":"②OP記入欄改!G3","v":"仕向先"},null,{"$f":"②OP記入欄改!I3","v":"製品幅"},null,{"$f":"②OP記入欄改!K3","v":"製品長さ"},null,{"$f":"②OP記入欄改!M3","v":"計本"},{"$f":"②OP記入欄改!N3","v":"実"},{"$f":"②OP記入欄改!O3","v":"梱形"},"Ａ保枝番",null,null,null,"ミル枝番",null,null,"Ｂ級枝番",null,null,"ロック\nシャフト","コア"]
[null,{"$f":"②OP記入欄改!F4","v":1},{"$f":"②OP記入欄改!G4","v":0},null,{"$f":"②OP記入欄改!I4","v":840},null,{"$f":"②OP記入欄改!K4","v":4000},null,{"$f":"②OP記入欄改!M4","v":10},{"$f":"②OP記入欄改!N4","v":0},{"$f":"②OP記入欄改!O4","v":0},null,null,null,null,null,null,null,null,null,null,null,6]
[null,{"$f":"②OP記入欄改!F5","v":2},{"$f":"②OP記入欄改!G5","v":0},null,{"$f":"②OP記入欄改!I5","v":1080},null,{"$f":"②OP記入欄改!K5","v":4000},null,{"$f":"②OP記入欄改!M5","v":10},{"$f":"②OP記入欄改!N5","v":0},{"$f":"②OP記入欄改!O5","v":0},null,null,null,null,null,null,null,null,null,null,null,6]
[null,{"$f":"②OP記入欄改!F6","v":3},{"$f":"②OP記入欄改!G6","v":0},null,{"$f":"②OP記入欄改!I6","v":1080},null,{"$f":"②OP記入欄改!K6","v":4000},null,{"$f":"②OP記入欄改!M6","v":1},{"$f":"②OP記入欄改!N6","v":0},{"$f":"②OP記入欄改!O6","v":0},null,null,null,null,null,null,null,null,null,null,null,6]
[null,{"$f":"②OP記入欄改!F7","v":4},{"$f":"②OP記入欄改!G7","v":0},null,{"$f":"②OP記入欄改!I7","v":840},null,{"$f":"②OP記入欄改!K7","v":4000},null,{"$f":"②OP記入欄改!M7","v":1},{"$f":"②OP記入欄改!N7","v":0},{"$f":"②OP記入欄改!O7","v":0},null,null,null,null,null,null,null,null,null,null,null,6]
[null,{"$f":"②OP記入欄改!F8","v":5},{"$f":"②OP記入欄改!G8","v":0},null,{"$f":"②OP記入欄改!I8","v":0},null,{"$f":"②OP記入欄改!K8","v":0},null,{"$f":"②OP記入欄改!M8","v":0},{"$f":"②OP記入欄改!N8","v":0},"Ｐ",null,null,null,null,null,null,null,null,null,null,null,6]
[null,{"$f":"②OP記入欄改!F9","v":6},{"$f":"②OP記入欄改!G9","v":0},null,740,null,{"$f":"②OP記入欄改!K9","v":0},null,{"$f":"②OP記入欄改!M9","v":0},{"$f":"②OP記入欄改!N9","v":0},"Ｐ",null,null,null,null,null,null,null,null,null,null,null,6]
[null,{"$f":"②OP記入欄改!F10","v":7},{"$f":"②OP記入欄改!G10","v":0},null,{"$f":"②OP記入欄改!I10","v":0},null,{"$f":"②OP記入欄改!K10","v":0},null,{"$f":"②OP記入欄改!M10","v":0},{"$f":"②OP記入欄改!N10","v":0},{"$f":"②OP記入欄改!O10","v":0},null,null,null,null,null,null,null,null,null,null,null,6]
[null,{"$f":"②OP記入欄改!F11","v":8},{"$f":"②OP記入欄改!G11","v":0},null,{"$f":"②OP記入欄改!I11","v":0},null,{"$f":"②OP記入欄改!K11","v":0},null,{"$f":"②OP記入欄改!M11","v":0},{"$f":"②OP記入欄改!N11","v":0},{"$f":"②OP記入欄改!O11","v":0},null,null,null,null,null,null,null,null,null,null,null,6]
[null,{"$f":"②OP記入欄改!F12","v":9},{"$f":"②OP記入欄改!G12","v":0},null,{"$f":"②OP記入欄改!I12","v":0},null,{"$f":"②OP記入欄改!K12","v":0},null,{"$f":"②OP記入欄改!M12","v":0},{"$f":"②OP記入欄改!N12","v":0},{"$f":"②OP記入欄改!O12","v":0},null,null,null,null,null,null,null,null,null,null,null,6]
[null,{"$f":"②OP記入欄改!F13","v":10},{"$f":"②OP記入欄改!G13","v":0},null,{"$f":"②OP記入欄改!I13","v":0},null,{"$f":"②OP記入欄改!K13","v":0},null,{"$f":"②OP記入欄改!M13","v":0},{"$f":"②OP記入欄改!N13","v":0},{"$f":"②OP記入欄改!O13","v":0},null,null,null,null,null,null,null,null,null,null,null,6]
[null,"スリット作業指示№",null,null,null,null,"M/C№",null,"加工日",null,null,null,"前工程品質情報",null,null,"切断シフト1",null,null,null,"切断シフト2"]
[null,{"$f":"②OP記入欄改!$D$14","v":44018360001},null,null,null,null,"ＳＬ-",{"$f":"②OP記入欄改!$D$15","v":19},{"$f":"②OP記入欄改!$D$4","v":"2025-10-23"},null,null,null,"確認　　　□",null,null,"組","作業者",null,null,"組","作業者"]
[null,"巻芯\n確認"]
[]
[null,null,null,null,null,null,null,null,null,null,null,null,null,null,null,"切替開始",null,null,"　　　　　時　　　　　分"]
[null,null,null,null,null,null,null,null,null,null,null,null,null,null,null,"切断開始",null,null,"　　　　　時　　　　　分"]
[null,null,null,null,null,null,null,null,null,null,null,null,null,null,null,"切断完了",null,null,"　　　　　時　　　　　分"]
[null,null,null,null,null,null,null,null,null,null,null,null,null,null,null,"食事開始",null,null,"　　　　　時　　　　　分"]
[null,null,null,null,null,null,null,null,null,null,null,null,null,null,null,"食事完了",null,null,"　　　　　時　　　　　分"]
[null,null,null,null,null,null,null,null,null,null,null,null,null,null,null,"停機開始",null,null,"　　　　　時　　　　　分"]
[null,null,null,null,null,null,null,null,null,null,null,null,null,null,null,"停機完了",null,null,"　　　　　時　　　　　分"]
[null,null,null,null,null,null,null,null,null,null,null,null,null,null,null,"停機理由"]
[null,null,null,null,null,null,null,null,null,null,null,null,null,null,null,"条件確認","M/C条件設定",null,null,"呼出№",null,null,{"$f":"②OP記入欄改!$D$16","v":2}]
[null,null,null,null,null,null,null,null,null,null,null,null,null,null,null,null,"欠点検出機",null,null,"使用条件№",null,{"$f":"②OP記入欄改!$D$17","v":2}]
[null,null,null,null,null,null,null,null,null,null,null,null,null,null,null,null,"速度(m/min)",null,null,450]
[null,null,null,null,null,null,null,null,null,null,null,null,null,null,null,null,"張力(N/ｍ・kg)",null,null,14]
[null,null,null,null,null,null,null,null,null,null,null,null,null,null,null,null,"接圧(N/ｍ・kg)",null,null,20]
[null,null,null,null,null,null,null,null,null,null,null,null,null,null,null,"外観確認"]
[null,null,null,null,null,null,null,null,null,null,null,null,null,null,null,"表層透過検査",null,null,null,"OK",null,"NG"]
[null,null,null,null,null,null,null,null,null,null,null,null,null,null,null,"巻姿外観確認[ｽﾀｰﾄ/中間/ﾗｽﾄ]"]
[null,null,null,null,null,null,null,null,null,null,null,null,null,null,null,"各枝番に問題無『〇』問題有『☓』を記載"]
[]
[]
[]
[]
[null,null,null,null,null,null,null,null,null,null,null,null,null,null,null,"※『☓』の場合は展開図に内容を記載する"]
[null,null,null,null,null,null,null,null,null,null,null,null,null,null,null,"検材エッジ　　　　　　ⅿｍ"]
[null,20,null,null,null,null,null,null,null,null,null,null,null,null,20,"表層ロス　　　　　　　ⅿ"]
[null,null,null,null,null,null,null,null,null,null,null,null,null,null,null,"レザー/丸刃交換",null,null,null,"レザー/丸刃廃棄"]
[null,null,null,580,null,null,null,720,null,null,null,640,null,null,null,"　　枚",null,null,null,"　　枚"]
[null,"膜厚測定（ＣＰＰ・VMPET・BRPET）",null,null,null,null,null,null,null,null,null,null,null,null,null,"備考"]
[null,"ラスト"]
[null,"1セット表層"]
[null,"1セット芯",null,null,null,null,null,null,null,null,null,null,null,null,null,"残",null,null,"m",null,null,null,"Φ"]
[]
[]
[]
[]
[]
[null,"スリット伝票　ＬＯＴ",null,null,null,null,null,{"$f":"②OP記入欄改!$D$5","v":60420357150},null,null,null,"製区",null,{"$f":"②OP記入欄改!$D$7","v":"S"},"品種",null,{"$f":"②OP記入欄改!$D$8","v":"CPP 2073 KT3"}]
[]
[null,"番手",null,{"$f":"②OP記入欄改!$D$9","v":25},"原反名",null,{"$f":"②OP記入欄改!$D$10","v":9041},null,"原反幅",null,{"$f":"②OP記入欄改!$D$11","v":1960},null,"原反長",null,{"$f":"②OP記入欄改!$D$12","v":46000},null,"前工程M/C",null,null,null,{"$f":"②OP記入欄改!$D$13","v":"DF7"}]
[null,"停機内容",null,null,null,null,null,"停機詳細",null,null,null,null,null,null,null,null,null,"停機時間"]
[null,"Ｆ破れ",null,null,"有/無",null,null,null,null,null,null,null,null,null,null,null,null,null,null,null,"hr"]
[null,"耳切れ",null,null,"有/無",null,null,null,null,null,null,null,null,null,null,null,null,null,null,null,"hr"]
[null,"紙管切断",null,null,"有/無",null,null,null,null,null,null,null,null,null,null,null,null,null,null,null,"hr"]
[null,"その他停機内容",null,null,null,null,null,null,null,null,null,null,null,null,null,null,null,null,null,null,"hr"]
[null,"備考"]
[]
[]
[]
[]
[]
[null,"外観確認内容"]
[null,"原反ズレ",null,null,null,"当てキズ",null,null,null,"溝ロール痕",null,null,null,"ＴＤスジ",null,null,null,"ピッチキズ"]
[null,"スリキズ",null,null,null,"クボミシワ",null,null,null,"シワムラ",null,null,null,"変色",null,null,null,"巻芯シワ"]
[null,"切断面・異物"]

{"sheet":"ＣＰＰ#40","index":16,"n_rows":71,"n_cols":23,"rows_kept":71,"cut":false,"hidden":false,"merged":[[0,1,1,6],[0,11,1,12],[0,13,1,13],[0,14,1,15],[0,16,1,22],[0,7,1,10],[4,2,4,3],[4,4,4,5],[4,6,4,7],[4,11,4,14],[4,15,4,17],[4,18,4,20],[2,16,2,19],[2,20,2,22],[3,2,3,3],[3,4,3,5],[3,6,3,7],[3,11,3,14],[3,15,3,17],[3,18,3,20],[2,4,2,5],[2,6,2,7],[2,8,2,9],[2,10,2,11],[2,12,2,13],[2,14,2,15],[6,2,6,3],[6,4,6,5],[6,6,6,7],[6,11,6,14],[6,15,6,17],[6,18,6,20],[5,2,5,3],[5,4,5,5],[5,6,5,7],[5,11,5,14],[5,15,5,17],[5,18,5,20],[8,2,8,3],[8,4,8,5],[8,6,8,7],[8,11,8,14],[8,15,8,17],[8,18,8,20],[7,2,7,3],[7,4,7,5],[7,6,7,7],[7,11,7,14],[7,15,7,17],[7,18,7,20],[10,2,10,3],[10,4,10,5],[10,6,10,7],[10,11,10,14],[10,15,10,17],[10,18,10,20],[9,2,9,3],[9,4,9,5],[9,6,9,7],[9,11,9,14],[9,15,9,17],[9,18,9,20],[12,2,12,3],[12,4,12,5],[12,6,12,7],[12,11,12,14],[12,15,12,17],[12,18,12,20],[11,2,11,3],[11,4,11,5],[11,6,11,7],[11,11,11,14],[11,15,11,17],[11,18,11,20],[14,1,14,5],[14,6,14,7],[14,8,14,11],[14,12,14,14],[14,15,14,18],[14,19,14,22],[13,2,13,3],[13,4,13,5],[13,6,13,7],[13,11,13,14],[13,15,13,17],[13,18,13,20],[15,1,15,5],[15,8,15,11],[15,12,15,14],[15,16,15,18],[15,20,15,22],[16,1,17,1],[16,15,17,15],[16,16,17,18],[16,19,17,19],[16,20,17,22],[21,15,21,17],[21,18,21,22],[22,15,22,17],[22,18,22,22],[23,15,23,17],[23,18,23,22],[18,15,18,17],[18,18,18,22],[19,15,19,17],[19,18,19,22],[20,15,20,17],[20,18,20,22],[24,15,24,17],[24,18,24,22],[25,15,25,17],[25,18,25,22],[26,15,30,15],[26,16,26,18],[27,16,27,18],[27,19,27,20],[27,21,27,22],[28,16,28,18],[32,15,32,18],[32,19,32,20],[32,21,32,22],[33,15,33,22],[34,15,34,22],[39,15,39,22],[28,19,28,22],[29,16,29,18],[29,19,29,20],[30,16,30,18],[30,19,30,20],[31,15,31,22],[44,1,44,14],[45,1,45,2],[45,3,45,4],[45,5,45,6],[45,7,45,8],[45,9,45,10],[45,11,45,12],[45,13,45,14],[42,15,42,18],[42,19,42,22],[43,2,43,7],[43,8,43,13],[43,15,43,18],[43,19,43,22],[40,18,40,20],[53,1,54,6],[53,7,53,10],[53,11,54,12],[53,13,54,13],[53,14,54,15],[53,16,54,22],[54,7,54,10],[46,13,46,14],[47,1,47,2],[47,3,47,4],[47,5,47,6],[47,7,47,8],[47,9,47,10],[47,11,47,12],[47,13,47,14],[46,1,46,2],[46,3,46,4],[46,5,46,6],[46,7,46,8],[46,9,46,10],[46,11,46,12],[58,4,58,5],[58,7,58,16],[58,17,58,19],[59,4,59,5],[59,7,59,16],[59,17,59,19],[55,16,55,19],[55,20,55,22],[56,4,56,5],[57,4,57,5],[57,7,57,16],[57,17,57,19],[55,4,55,5],[55,6,55,7],[55,8,55,9],[55,10,55,11],[55,12,55,13],[55,14,55,15],[69,1,69,4],[69,5,69,8],[69,9,69,12],[69,13,69,16],[69,17,69,21],[70,1,70,4],[60,7,60,16],[60,17,60,19],[68,1,68,4],[68,5,68,8],[68,9,68,12],[68,13,68,16],[68,17,68,21]]}
[null,"スリット伝票　ＬＯＴ",null,null,null,null,null,{"$f":"②OP記入欄改!$D$5","v":60420357150},null,null,null,"製区",null,{"$f":"②OP記入欄改!$D$7","v":"S"},"品種",null,{"$f":"②OP記入欄改!$D$8","v":"CPP 2073 KT3"}]
[]
[null,"番手",null,{"$f":"②OP記入欄改!$D$9","v":25},"原反名",null,{"$f":"②OP記入欄改!$D$10","v":9041},null,"原反幅",null,{"$f":"②OP記入欄改!$D$11","v":1960},null,"原反長",null,{"$f":"②OP記入欄改!$D$12","v":46000},null,"前工程M/C",null,null,null,{"$f":"②OP記入欄改!$D$13","v":"DF7"}]
[null,null,{"$f":"②OP記入欄改!G3","v":"仕向先"},null,{"$f":"②OP記入欄改!I3","v":"製品幅"},null,{"$f":"②OP記入欄改!K3","v":"製品長さ"},null,{"$f":"②OP記入欄改!M3","v":"計本"},{"$f":"②OP記入欄改!N3","v":"実"},{"$f":"②OP記入欄改!O3","v":"梱形"},"Ａ保枝番",null,null,null,"ミル枝番",null,null,"Ｂ級枝番",null,null,"ロック\nシャフト","コア"]
[null,{"$f":"②OP記入欄改!F4","v":1},{"$f":"②OP記入欄改!G4","v":0},null,{"$f":"②OP記入欄改!I4","v":840},null,{"$f":"②OP記入欄改!K4","v":4000},null,{"$f":"②OP記入欄改!M4","v":10},{"$f":"②OP記入欄改!N4","v":0},{"$f":"②OP記入欄改!O4","v":0},null,null,null,null,null,null,null,null,null,null,null,6]
[null,{"$f":"②OP記入欄改!F5","v":2},{"$f":"②OP記入欄改!G5","v":0},null,{"$f":"②OP記入欄改!I5","v":1080},null,{"$f":"②OP記入欄改!K5","v":4000},null,{"$f":"②OP記入欄改!M5","v":10},{"$f":"②OP記入欄改!N5","v":0},{"$f":"②OP記入欄改!O5","v":0},null,null,null,null,null,null,null,null,null,null,null,6]
[null,{"$f":"②OP記入欄改!F6","v":3},{"$f":"②OP記入欄改!G6","v":0},null,{"$f":"②OP記入欄改!I6","v":1080},null,{"$f":"②OP記入欄改!K6","v":4000},null,{"$f":"②OP記入欄改!M6","v":1},{"$f":"②OP記入欄改!N6","v":0},{"$f":"②OP記入欄改!O6","v":0},null,null,null,null,null,null,null,null,null,null,null,6]
[null,{"$f":"②OP記入欄改!F7","v":4},{"$f":"②OP記入欄改!G7","v":0},null,{"$f":"②OP記入欄改!I7","v":840},null,{"$f":"②OP記入欄改!K7","v":4000},null,{"$f":"②OP記入欄改!M7","v":1},{"$f":"②OP記入欄改!N7","v":0},{"$f":"②OP記入欄改!O7","v":0},null,null,null,null,null,null,null,null,null,null,null,6]
[null,{"$f":"②OP記入欄改!F8","v":5},{"$f":"②OP記入欄改!G8","v":0},null,{"$f":"②OP記入欄改!I8","v":0},null,{"$f":"②OP記入欄改!K8","v":0},null,{"$f":"②OP記入欄改!M8","v":0},{"$f":"②OP記入欄改!N8","v":0}," ",null,null,null,null,null,null,null,null,null,null,null,6]
[null,{"$f":"②OP記入欄改!F9","v":6},{"$f":"②OP記入欄改!G9","v":0},null,{"$f":"②OP記入欄改!I9","v":0},null,{"$f":"②OP記入欄改!K9","v":0},null,{"$f":"②OP記入欄改!M9","v":0},{"$f":"②OP記入欄改!N9","v":0}," ",null,null,null,null,null,null,null,null,null,null,null,6]
[null,{"$f":"②OP記入欄改!F10","v":7},{"$f":"②OP記入欄改!G10","v":0},null,{"$f":"②OP記入欄改!I10","v":0},null,{"$f":"②OP記入欄改!K10","v":0},null,{"$f":"②OP記入欄改!M10","v":0},{"$f":"②OP記入欄改!N10","v":0},{"$f":"②OP記入欄改!O10","v":0},null,null,null,null,null,null,null,null,null,null,null,6]
[null,{"$f":"②OP記入欄改!F11","v":8},{"$f":"②OP記入欄改!G11","v":0},null,{"$f":"②OP記入欄改!I11","v":0},null,{"$f":"②OP記入欄改!K11","v":0},null,{"$f":"②OP記入欄改!M11","v":0},{"$f":"②OP記入欄改!N11","v":0},{"$f":"②OP記入欄改!O11","v":0},null,null,null,null,null,null,null,null,null,null,null,6]
[null,{"$f":"②OP記入欄改!F12","v":9},{"$f":"②OP記入欄改!G12","v":0},null,{"$f":"②OP記入欄改!I12","v":0},null,{"$f":"②OP記入欄改!K12","v":0},null,{"$f":"②OP記入欄改!M12","v":0},{"$f":"②OP記入欄改!N12","v":0},{"$f":"②OP記入欄改!O12","v":0},null,null,null,null,null,null,null,null,null,null,null,6]
[null,{"$f":"②OP記入欄改!F13","v":10},{"$f":"②OP記入欄改!G13","v":0},null,{"$f":"②OP記入欄改!I13","v":0},null,{"$f":"②OP記入欄改!K13","v":0},null,{"$f":"②OP記入欄改!M13","v":0},{"$f":"②OP記入欄改!N13","v":0},{"$f":"②OP記入欄改!O13","v":0},null,null,null,null,null,null,null,null,null,null,null,6]
[null,"スリット作業指示№",null,null,null,null,"M/C№",null,"加工日",null,null,null,"前工程品質情報",null,null,"切断シフト1",null,null,null,"切断シフト2"]
[null,{"$f":"②OP記入欄改!$D$14","v":44018360001},null,null,null,null,"ＳＬ-",{"$f":"②OP記入欄改!$D$15","v":19},{"$f":"②OP記入欄改!$D$4","v":"2025-10-23"},null,null,null,"確認　　　□",null,null,"組","作業者",null,null,"組","作業者"]
[null,"巻芯\n確認"]
[]
[null,null,null,null,null,null,null,null,null,null,null,null,null,null,null,"切替開始",null,null,"　　　　　時　　　　　分"]
[null,null,null,null,null,null,null,null,null,null,null,null,null,null,null,"切断開始",null,null,"　　　　　時　　　　　分"]
[null,null,null,null,null,null,null,null,null,null,null,null,null,null,null,"切断完了",null,null,"　　　　　時　　　　　分"]
[null,null,null,null,null,null,null,null,null,null,null,null,null,null,null,"食事開始",null,null,"　　　　　時　　　　　分"]
[null,null,null,null,null,null,null,null,null,null,null,null,null,null,null,"食事完了",null,null,"　　　　　時　　　　　分"]
[null,null,null,null,null,null,null,null,null,null,null,null,null,null,null,"停機開始",null,null,"　　　　　時　　　　　分"]
[null,null,null,null,null,null,null,null,null,null,null,null,null,null,null,"停機完了",null,null,"　　　　　時　　　　　分"]
[null,null,null,null,null,null,null,null,null,null,null,null,null,null,null,"停機理由"]
[null,null,null,null,null,null,null,null,null,null,null,null,null,null,null,"条件確認","M/C条件設定",null,null,"呼出№",null,null,{"$f":"②OP記入欄改!$D$16","v":2}]
[null,null,null,null,null,null,null,null,null,null,null,null,null,null,null,null,"欠点検出機",null,null,"使用条件№",null,{"$f":"②OP記入欄改!$D$17","v":2}]
[null,null,null,null,null,null,null,null,null,null,null,null,null,null,null,null,"速度(m/min)",null,null,400]
[null,null,null,null,null,null,null,null,null,null,null,null,null,null,null,null,"張力(N/ｍ・kg)"]
[null,null,null,null,null,null,null,null,null,null,null,null,null,null,null,null,"接圧(N/ｍ・kg)",null,null,20]
[null,null,null,null,null,null,null,null,null,null,null,null,null,null,null,"外観確認"]
[null,null,null,null,null,null,null,null,null,null,null,null,null,null,null,"表層透過検査",null,null,null,"OK",null,"NG"]
[null,null,null,null,null,null,null,null,null,null,null,null,null,null,null,"巻姿外観確認[ｽﾀｰﾄ/中間/ﾗｽﾄ]"]
[null,null,null,null,null,null,null,null,null,null,null,null,null,null,null,"各枝番に問題無『〇』問題有『☓』を記載"]
[]
[]
[]
[]
[null,null,null,null,null,null,null,null,null,null,null,null,null,null,null,"※『☓』の場合は展開図に内容を記載する"]
[null,null,null,null,null,null,null,null,null,null,null,null,null,null,null,"検材エッジ",null,null,285]
[null,null,null,null,null,null,null,null,null,null,null,null,null,null,null,"表層ロス　　　　　　　ⅿ"]
[null,null,null,null,null,null,null,null,null,null,null,null,null,null,null,"レザー/丸刃交換",null,null,null,"レザー/丸刃廃棄"]
[null,20,860,null,null,null,null,null,900,null,null,null,null,null,20,"3　 枚",null,null,null,"3　 枚"]
[null,"膜厚測定（ＣＰＰ・VMPET・BRPET）",null,null,null,null,null,null,null,null,null,null,null,null,null,"備考"]
[null,"ラスト"]
[null,"1セット表層"]
[null,"1セット芯",null,null,null,null,null,null,null,null,null,null,null,null,null,"残",null,null,"m",null,null,null,"Φ"]
[]
[]
[]
[]
[]
[null,"スリット伝票　ＬＯＴ",null,null,null,null,null,{"$f":"②OP記入欄改!$D$5","v":60420357150},null,null,null,"製区",null,{"$f":"②OP記入欄改!$D$7","v":"S"},"品種",null,{"$f":"②OP記入欄改!$D$8","v":"CPP 2073 KT3"}]
[]
[null,"番手",null,{"$f":"②OP記入欄改!$D$9","v":25},"原反名",null,{"$f":"②OP記入欄改!$D$10","v":9041},null,"原反幅",null,{"$f":"②OP記入欄改!$D$11","v":1960},null,"原反長",null,{"$f":"②OP記入欄改!$D$12","v":46000},null,"前工程M/C",null,null,null,{"$f":"②OP記入欄改!$D$13","v":"DF7"}]
[null,"停機内容",null,null,null,null,null,"停機詳細",null,null,null,null,null,null,null,null,null,"停機時間"]
[null,"Ｆ破れ",null,null,"有/無",null,null,null,null,null,null,null,null,null,null,null,null,null,null,null,"hr"]
[null,"耳切れ",null,null,"有/無",null,null,null,null,null,null,null,null,null,null,null,null,null,null,null,"hr"]
[null,"紙管切断",null,null,"有/無",null,null,null,null,null,null,null,null,null,null,null,null,null,null,null,"hr"]
[null,"その他停機内容",null,null,null,null,null,null,null,null,null,null,null,null,null,null,null,null,null,null,"hr"]
[null,"備考"]
[]
[]
[]
[]
[]
[null,"外観確認内容"]
[null,"原反ズレ",null,null,null,"当てキズ",null,null,null,"溝ロール痕",null,null,null,"ＴＤスジ",null,null,null,"ピッチキズ"]
[null,"スリキズ",null,null,null,"クボミシワ",null,null,null,"シワムラ",null,null,null,"変色",null,null,null,"巻芯シワ"]
[null,"切断面・異物"]

{"sheet":"3丁＃４０","index":17,"n_rows":71,"n_cols":23,"rows_kept":71,"cut":false,"hidden":false,"merged":[[69,1,69,4],[69,5,69,8],[69,9,69,12],[69,13,69,16],[69,17,69,21],[70,1,70,4],[60,7,60,16],[60,17,60,19],[68,1,68,4],[68,5,68,8],[68,9,68,12],[68,13,68,16],[68,17,68,21],[58,4,58,5],[58,7,58,16],[58,17,58,19],[59,4,59,5],[59,7,59,16],[59,17,59,19],[55,16,55,19],[55,20,55,22],[56,4,56,5],[57,4,57,5],[57,7,57,16],[57,17,57,19],[55,4,55,5],[55,6,55,7],[55,8,55,9],[55,10,55,11],[55,12,55,13],[55,14,55,15],[53,1,54,6],[53,7,53,10],[53,11,54,12],[53,13,54,13],[53,14,54,15],[53,16,54,22],[54,7,54,10],[46,13,46,14],[47,1,47,2],[47,3,47,4],[47,5,47,6],[47,7,47,8],[47,9,47,10],[47,11,47,12],[47,13,47,14],[46,1,46,2],[46,3,46,4],[46,5,46,6],[46,7,46,8],[46,9,46,10],[46,11,46,12],[44,1,44,14],[45,1,45,2],[45,3,45,4],[45,5,45,6],[45,7,45,8],[45,9,45,10],[45,11,45,12],[45,13,45,14],[42,15,42,18],[42,19,42,22],[43,15,43,18],[43,19,43,22],[43,2,43,5],[43,6,43,10],[43,11,43,13],[40,18,40,20],[32,15,32,18],[32,19,32,20],[32,21,32,22],[33,15,33,22],[34,15,34,22],[39,15,39,22],[28,19,28,22],[29,16,29,18],[29,19,29,20],[30,16,30,18],[30,19,30,20],[31,15,31,22],[24,15,24,17],[24,18,24,22],[25,15,25,17],[25,18,25,22],[26,15,30,15],[26,16,26,18],[27,16,27,18],[27,19,27,20],[27,21,27,22],[28,16,28,18],[21,15,21,17],[21,18,21,22],[22,15,22,17],[22,18,22,22],[23,15,23,17],[23,18,23,22],[18,15,18,17],[18,18,18,22],[19,15,19,17],[19,18,19,22],[20,15,20,17],[20,18,20,22],[15,1,15,5],[15,8,15,11],[15,12,15,14],[15,16,15,18],[15,20,15,22],[16,1,17,1],[16,15,17,15],[16,16,17,18],[16,19,17,19],[16,20,17,22],[14,1,14,5],[14,6,14,7],[14,8,14,11],[14,12,14,14],[14,15,14,18],[14,19,14,22],[13,2,13,3],[13,4,13,5],[13,6,13,7],[13,11,13,14],[13,15,13,17],[13,18,13,20],[12,2,12,3],[12,4,12,5],[12,6,12,7],[12,11,12,14],[12,15,12,17],[12,18,12,20],[11,2,11,3],[11,4,11,5],[11,6,11,7],[11,11,11,14],[11,15,11,17],[11,18,11,20],[10,2,10,3],[10,4,10,5],[10,6,10,7],[10,11,10,14],[10,15,10,17],[10,18,10,20],[9,2,9,3],[9,4,9,5],[9,6,9,7],[9,11,9,14],[9,15,9,17],[9,18,9,20],[8,2,8,3],[8,4,8,5],[8,6,8,7],[8,11,8,14],[8,15,8,17],[8,18,8,20],[7,2,7,3],[7,4,7,5],[7,6,7,7],[7,11,7,14],[7,15,7,17],[7,18,7,20],[2,12,2,13],[2,14,2,15],[6,2,6,3],[6,4,6,5],[6,6,6,7],[6,11,6,14],[6,15,6,17],[6,18,6,20],[5,2,5,3],[5,4,5,5],[5,6,5,7],[5,11,5,14],[5,15,5,17],[5,18,5,20],[0,1,1,6],[0,7,1,10],[0,11,1,12],[0,13,1,13],[0,14,1,15],[0,16,1,22],[4,2,4,3],[4,4,4,5],[4,6,4,7],[4,11,4,14],[4,15,4,17],[4,18,4,20],[2,16,2,19],[2,20,2,22],[3,2,3,3],[3,4,3,5],[3,6,3,7],[3,11,3,14],[3,15,3,17],[3,18,3,20],[2,4,2,5],[2,6,2,7],[2,8,2,9],[2,10,2,11]]}
[null,"スリット伝票　ＬＯＴ",null,null,null,null,null,{"$f":"②OP記入欄改!$D$5","v":60420357150},null,null,null,"製区",null,{"$f":"②OP記入欄改!$D$7","v":"S"},"品種",null,{"$f":"②OP記入欄改!$D$8","v":"CPP 2073 KT3"}]
[]
[null,"番手",null,{"$f":"②OP記入欄改!$D$9","v":25},"原反名",null,{"$f":"②OP記入欄改!$D$10","v":9041},null,"原反幅",null,{"$f":"②OP記入欄改!$D$11","v":1960},null,"原反長",null,{"$f":"②OP記入欄改!$D$12","v":46000},null,"前工程M/C",null,null,null,{"$f":"②OP記入欄改!$D$13","v":"DF7"}]
[null,null,{"$f":"②OP記入欄改!G3","v":"仕向先"},null,{"$f":"②OP記入欄改!I3","v":"製品幅"},null,{"$f":"②OP記入欄改!K3","v":"製品長さ"},null,{"$f":"②OP記入欄改!M3","v":"計本"},{"$f":"②OP記入欄改!N3","v":"実"},{"$f":"②OP記入欄改!O3","v":"梱形"},"Ａ保枝番",null,null,null,"ミル枝番",null,null,"Ｂ級枝番",null,null,"ロック\nシャフト","コア"]
[null,{"$f":"②OP記入欄改!F4","v":1},{"$f":"②OP記入欄改!G4","v":0},null,{"$f":"②OP記入欄改!I4","v":840},null,{"$f":"②OP記入欄改!K4","v":4000},null,{"$f":"②OP記入欄改!M4","v":10},{"$f":"②OP記入欄改!N4","v":0},{"$f":"②OP記入欄改!O4","v":0},null,null,null,null,null,null,null,null,null,null,null,6]
[null,{"$f":"②OP記入欄改!F5","v":2},{"$f":"②OP記入欄改!G5","v":0},null,{"$f":"②OP記入欄改!I5","v":1080},null,{"$f":"②OP記入欄改!K5","v":4000},null,{"$f":"②OP記入欄改!M5","v":10},{"$f":"②OP記入欄改!N5","v":0},{"$f":"②OP記入欄改!O5","v":0},null,null,null,null,null,null,null,null,null,null,null,6]
[null,{"$f":"②OP記入欄改!F6","v":3},{"$f":"②OP記入欄改!G6","v":0},null,{"$f":"②OP記入欄改!I6","v":1080},null,{"$f":"②OP記入欄改!K6","v":4000},null,{"$f":"②OP記入欄改!M6","v":1},{"$f":"②OP記入欄改!N6","v":0},{"$f":"②OP記入欄改!O6","v":0},null,null,null,null,null,null,null,null,null,null,null,6]
[null,{"$f":"②OP記入欄改!F7","v":4},{"$f":"②OP記入欄改!G7","v":0},null,{"$f":"②OP記入欄改!I7","v":840},null,{"$f":"②OP記入欄改!K7","v":4000},null,{"$f":"②OP記入欄改!M7","v":1},{"$f":"②OP記入欄改!N7","v":0},{"$f":"②OP記入欄改!O7","v":0},null,null,null,null,null,null,null,null,null,null,null,6]
[null,{"$f":"②OP記入欄改!F8","v":5},{"$f":"②OP記入欄改!G8","v":0},null,{"$f":"②OP記入欄改!I8","v":0},null,{"$f":"②OP記入欄改!K8","v":0},null,{"$f":"②OP記入欄改!M8","v":0},{"$f":"②OP記入欄改!N8","v":0},{"$f":"②OP記入欄改!O8","v":0},null,null,null,null,null,null,null,null,null,null,null,6]
[null,{"$f":"②OP記入欄改!F9","v":6},{"$f":"②OP記入欄改!G9","v":0},null,{"$f":"②OP記入欄改!I9","v":0},null,{"$f":"②OP記入欄改!K9","v":0},null,{"$f":"②OP記入欄改!M9","v":0},{"$f":"②OP記入欄改!N9","v":0},{"$f":"②OP記入欄改!O9","v":0},null,null,null,null,null,null,null,null,null,null,null,6]
[null,{"$f":"②OP記入欄改!F10","v":7},{"$f":"②OP記入欄改!G10","v":0},null,{"$f":"②OP記入欄改!I10","v":0},null,{"$f":"②OP記入欄改!K10","v":0},null,{"$f":"②OP記入欄改!M10","v":0},{"$f":"②OP記入欄改!N10","v":0},{"$f":"②OP記入欄改!O10","v":0},null,null,null,null,null,null,null,null,null,null,null,6]
[null,{"$f":"②OP記入欄改!F11","v":8},{"$f":"②OP記入欄改!G11","v":0},null,{"$f":"②OP記入欄改!I11","v":0},null,{"$f":"②OP記入欄改!K11","v":0},null,{"$f":"②OP記入欄改!M11","v":0},{"$f":"②OP記入欄改!N11","v":0},{"$f":"②OP記入欄改!O11","v":0},null,null,null,null,null,null,null,null,null,null,null,6]
[null,{"$f":"②OP記入欄改!F12","v":9},{"$f":"②OP記入欄改!G12","v":0},null,{"$f":"②OP記入欄改!I12","v":0},null,{"$f":"②OP記入欄改!K12","v":0},null,{"$f":"②OP記入欄改!M12","v":0},{"$f":"②OP記入欄改!N12","v":0},{"$f":"②OP記入欄改!O12","v":0},null,null,null,null,null,null,null,null,null,null,null,6]
[null,{"$f":"②OP記入欄改!F13","v":10},{"$f":"②OP記入欄改!G13","v":0},null,{"$f":"②OP記入欄改!I13","v":0},null,{"$f":"②OP記入欄改!K13","v":0},null,{"$f":"②OP記入欄改!M13","v":0},{"$f":"②OP記入欄改!N13","v":0},{"$f":"②OP記入欄改!O13","v":0},null,null,null,null,null,null,null,null,null,null,null,6]
[null,"スリット作業指示№",null,null,null,null,"M/C№",null,"加工日",null,null,null,"前工程品質情報",null,null,"切断シフト1",null,null,null,"切断シフト2"]
[null,{"$f":"②OP記入欄改!$D$14","v":44018360001},null,null,null,null,"ＳＬ-",{"$f":"②OP記入欄改!$D$15","v":19},{"$f":"②OP記入欄改!$D$4","v":"2025-10-23"},null,null,null,"確認　　　□",null,null,"組","作業者",null,null,"組","作業者"]
[null,"巻芯\n確認"]
[]
[null,null,null,null,null,null,null,null,null,null,null,null,null,null,null,"切替開始",null,null,"　　　　　時　　　　　分"]
[null,null,null,null,null,null,null,null,null,null,null,null,null,null,null,"切断開始",null,null,"　　　　　時　　　　　分"]
[null,null,null,null,null,null,null,null,null,null,null,null,null,null,null,"切断完了",null,null,"　　　　　時　　　　　分"]
[null,null,null,null,null,null,null,null,null,null,null,null,null,null,null,"食事開始",null,null,"　　　　　時　　　　　分"]
[null,null,null,null,null,null,null,null,null,null,null,null,null,null,null,"食事完了",null,null,"　　　　　時　　　　　分"]
[null,null,null,null,null,null,null,null,null,null,null,null,null,null,null,"停機開始",null,null,"　　　　　時　　　　　分"]
[null,null,null,null,null,null,null,null,null,null,null,null,null,null,null,"停機完了",null,null,"　　　　　時　　　　　分"]
[null,null,null,null,null,null,null,null,null,null,null,null,null,null,null,"停機理由"]
[null,null,null,null,null,null,null,null,null,null,null,null,null,null,null,"条件確認","M/C条件設定",null,null,"呼出№",null,null,{"$f":"②OP記入欄改!$D$16","v":2}]
[null,null,null,null,null,null,null,null,null,null,null,null,null,null,null,null,"欠点検出機",null,null,"使用条件№",null,{"$f":"②OP記入欄改!$D$17","v":2}]
[null,null,null,null,null,null,null,null,null,null,null,null,null,null,null,null,"速度(m/min)",null,null,400]
[null,null,null,null,null,null,null,null,null,null,null,null,null,null,null,null,"張力(N/ｍ・kg)"]
[null,null,null,null,null,null,null,null,null,null,null,null,null,null,null,null,"接圧(N/ｍ・kg)"]
[null,null,null,null,null,null,null,null,null,null,null,null,null,null,null,"外観確認"]
[null,null,null,null,null,null,null,null,null,null,null,null,null,null,null,"表層透過検査",null,null,null,"OK",null,"NG"]
[null,null,null,null,null,null,null,null,null,null,null,null,null,null,null,"巻姿外観確認[ｽﾀｰﾄ/中間/ﾗｽﾄ]"]
[null,null,null,null,null,null,null,null,null,null,null,null,null,null,null,"各枝番に問題無『〇』問題有『☓』を記載"]
[]
[]
[]
[]
[null,null,null,null,null,null,null,null,null,null,null,null,null,null,null,"※『☓』の場合は展開図に内容を記載する"]
[null,null,null,null,null,null,null,null,null,null,null,null,null,null,null,"検材エッジ",null,null,285]
[null,null,null,null,null,null,null,null,null,null,null,null,null,null,null,"表層ロス　　　　　　　ⅿ"]
[null,null,null,null,null,null,null,null,null,null,null,null,null,null,null,"レザー/丸刃交換",null,null,null,"レザー/丸刃廃棄"]
[null,20,680,null,null,null,1000,null,null,null,null,560,null,null,20,"0　枚",null,null,null,"0　枚"]
[null,"膜厚測定（ＣＰＰ・VMPET・BRPET）"]
[null,"ラスト"]
[null,"1セット表層"]
[null,"1セット芯",null,null,null,null,null,null,null,null,null,null,null,null,null,"残",null,null,"m",null,null,null,"Φ"]
[]
[]
[]
[]
[]
[null,"スリット伝票　ＬＯＴ",null,null,null,null,null,{"$f":"②OP記入欄改!$D$5","v":60420357150},null,null,null,"製区",null,{"$f":"②OP記入欄改!$D$7","v":"S"},"品種",null,{"$f":"②OP記入欄改!$D$8","v":"CPP 2073 KT3"}]
[]
[null,"番手",null,{"$f":"②OP記入欄改!$D$9","v":25},"原反名",null,{"$f":"②OP記入欄改!$D$10","v":9041},null,"原反幅",null,{"$f":"②OP記入欄改!$D$11","v":1960},null,"原反長",null,{"$f":"②OP記入欄改!$D$12","v":46000},null,"前工程M/C",null,null,null,{"$f":"②OP記入欄改!$D$13","v":"DF7"}]
[null,"停機内容",null,null,null,null,null,"停機詳細",null,null,null,null,null,null,null,null,null,"停機時間"]
[null,"Ｆ破れ",null,null,"有/無",null,null,null,null,null,null,null,null,null,null,null,null,null,null,null,"hr"]
[null,"耳切れ",null,null,"有/無",null,null,null,null,null,null,null,null,null,null,null,null,null,null,null,"hr"]
[null,"紙管切断",null,null,"有/無",null,null,null,null,null,null,null,null,null,null,null,null,null,null,null,"hr"]
[null,"その他停機内容",null,null,null,null,null,null,null,null,null,null,null,null,null,null,null,null,null,null,"hr"]
[null,"備考"]
[]
[]
[]
[]
[]
[null,"外観確認内容"]
[null,"原反ズレ",null,null,null,"当てキズ",null,null,null,"溝ロール痕",null,null,null,"ＴＤスジ",null,null,null,"ピッチキズ"]
[null,"スリキズ",null,null,null,"クボミシワ",null,null,null,"シワムラ",null,null,null,"変色",null,null,null,"巻芯シワ"]
[null,"切断面・異物"]

{"sheet":"CPP4000#20","index":18,"n_rows":71,"n_cols":23,"rows_kept":71,"cut":false,"hidden":false,"merged":[[69,1,69,4],[69,5,69,8],[69,9,69,12],[69,13,69,16],[69,17,69,21],[70,1,70,4],[60,7,60,16],[60,17,60,19],[68,1,68,4],[68,5,68,8],[68,9,68,12],[68,13,68,16],[68,17,68,21],[58,4,58,5],[58,7,58,16],[58,17,58,19],[59,4,59,5],[59,7,59,16],[59,17,59,19],[55,16,55,19],[55,20,55,22],[56,4,56,5],[57,4,57,5],[57,7,57,16],[57,17,57,19],[55,4,55,5],[55,6,55,7],[55,8,55,9],[55,10,55,11],[55,12,55,13],[55,14,55,15],[53,1,54,6],[53,7,53,10],[53,11,54,12],[53,13,54,13],[53,14,54,15],[53,16,54,22],[54,7,54,10],[46,13,46,14],[47,1,47,2],[47,3,47,4],[47,5,47,6],[47,7,47,8],[47,9,47,10],[47,11,47,12],[47,13,47,14],[46,1,46,2],[46,3,46,4],[46,5,46,6],[46,7,46,8],[46,9,46,10],[46,11,46,12],[44,1,44,14],[45,1,45,2],[45,3,45,4],[45,5,45,6],[45,7,45,8],[45,9,45,10],[45,11,45,12],[45,13,45,14],[40,15,40,22],[42,15,42,18],[42,19,42,22],[43,2,43,7],[43,8,43,13],[43,15,43,18],[43,19,43,22],[32,15,32,18],[32,19,32,20],[32,21,32,22],[33,15,33,22],[34,15,34,22],[39,15,39,22],[28,19,28,22],[29,16,29,18],[30,16,30,18],[31,15,31,22],[24,15,24,17],[24,18,24,22],[25,15,25,17],[25,18,25,22],[26,15,30,15],[26,16,26,18],[27,16,27,18],[27,19,27,20],[27,21,27,22],[28,16,28,18],[21,15,21,17],[21,18,21,22],[22,15,22,17],[22,18,22,22],[23,15,23,17],[23,18,23,22],[18,15,18,17],[18,18,18,22],[19,15,19,17],[19,18,19,22],[20,15,20,17],[20,18,20,22],[15,1,15,5],[15,8,15,11],[15,12,15,14],[15,16,15,18],[15,20,15,22],[16,1,17,1],[16,15,17,15],[16,16,17,18],[16,19,17,19],[16,20,17,22],[14,1,14,5],[14,6,14,7],[14,8,14,11],[14,12,14,14],[14,15,14,18],[14,19,14,22],[13,2,13,3],[13,4,13,5],[13,6,13,7],[13,11,13,14],[13,15,13,17],[13,18,13,20],[12,2,12,3],[12,4,12,5],[12,6,12,7],[12,11,12,14],[12,15,12,17],[12,18,12,20],[11,2,11,3],[11,4,11,5],[11,6,11,7],[11,11,11,14],[11,15,11,17],[11,18,11,20],[10,2,10,3],[10,4,10,5],[10,6,10,7],[10,11,10,14],[10,15,10,17],[10,18,10,20],[9,2,9,3],[9,4,9,5],[9,6,9,7],[9,11,9,14],[9,15,9,17],[9,18,9,20],[6,18,6,20],[5,2,5,3],[5,4,5,5],[5,6,5,7],[5,11,5,14],[5,15,5,17],[5,18,5,20],[8,2,8,3],[8,4,8,5],[8,6,8,7],[8,11,8,14],[8,15,8,17],[8,18,8,20],[7,2,7,3],[7,4,7,5],[7,6,7,7],[7,11,7,14],[7,15,7,17],[7,18,7,20],[2,8,2,9],[2,10,2,11],[2,12,2,13],[2,14,2,15],[6,2,6,3],[6,4,6,5],[6,6,6,7],[6,11,6,14],[6,15,6,17],[0,7,1,10],[29,19,29,22],[30,19,30,22],[0,1,1,6],[0,11,1,12],[0,13,1,13],[0,14,1,15],[0,16,1,22],[4,2,4,3],[4,4,4,5],[4,6,4,7],[4,11,4,14],[4,15,4,17],[4,18,4,20],[2,16,2,19],[2,20,2,22],[3,2,3,3],[3,4,3,5],[3,6,3,7],[3,11,3,14],[3,15,3,17],[3,18,3,20],[2,4,2,5],[2,6,2,7]]}
[null,"スリット伝票　ＬＯＴ",null,null,null,null,null,{"$f":"②OP記入欄改!$D$5","v":60420357150},null,null,null,"製区",null,{"$f":"②OP記入欄改!$D$7","v":"S"},"品種",null,{"$f":"②OP記入欄改!$D$8","v":"CPP 2073 KT3"}]
[]
[null,"番手",null,{"$f":"②OP記入欄改!$D$9","v":25},"原反名",null,{"$f":"②OP記入欄改!$D$10","v":9041},null,"原反幅",null,{"$f":"②OP記入欄改!$D$11","v":1960},null,"原反長",null,{"$f":"②OP記入欄改!$D$12","v":46000},null,"前工程M/C",null,null,null,{"$f":"②OP記入欄改!$D$13","v":"DF7"}]
[null,null,{"$f":"②OP記入欄改!G3","v":"仕向先"},null,{"$f":"②OP記入欄改!I3","v":"製品幅"},null,{"$f":"②OP記入欄改!K3","v":"製品長さ"},null,{"$f":"②OP記入欄改!M3","v":"計本"},{"$f":"②OP記入欄改!N3","v":"実"},{"$f":"②OP記入欄改!O3","v":"梱形"},"Ａ保枝番",null,null,null,"ミル枝番",null,null,"Ｂ級枝番",null,null,"ロック\nシャフト","コア"]
[null,{"$f":"②OP記入欄改!F4","v":1},{"$f":"②OP記入欄改!G4","v":0},null,{"$f":"②OP記入欄改!I4","v":840},null,{"$f":"②OP記入欄改!K4","v":4000},null,{"$f":"②OP記入欄改!M4","v":10},{"$f":"②OP記入欄改!N4","v":0},{"$f":"②OP記入欄改!O4","v":0},null,null,null,null,null,null,null,null,null,null,null,6]
[null,{"$f":"②OP記入欄改!F5","v":2},{"$f":"②OP記入欄改!G5","v":0},null,{"$f":"②OP記入欄改!I5","v":1080},null,{"$f":"②OP記入欄改!K5","v":4000},null,{"$f":"②OP記入欄改!M5","v":10},{"$f":"②OP記入欄改!N5","v":0},{"$f":"②OP記入欄改!O5","v":0},null,null,null,null,null,null,null,null,null,null,null,6]
[null,{"$f":"②OP記入欄改!F6","v":3},{"$f":"②OP記入欄改!G6","v":0},null,{"$f":"②OP記入欄改!I6","v":1080},null,{"$f":"②OP記入欄改!K6","v":4000},null,{"$f":"②OP記入欄改!M6","v":1},{"$f":"②OP記入欄改!N6","v":0},{"$f":"②OP記入欄改!O6","v":0},null,null,null,null,null,null,null,null,null,null,null,6]
[null,{"$f":"②OP記入欄改!F7","v":4},{"$f":"②OP記入欄改!G7","v":0},null,{"$f":"②OP記入欄改!I7","v":840},null,{"$f":"②OP記入欄改!K7","v":4000},null,{"$f":"②OP記入欄改!M7","v":1},{"$f":"②OP記入欄改!N7","v":0},{"$f":"②OP記入欄改!O7","v":0},null,null,null,null,null,null,null,null,null,null,null,6]
[null,{"$f":"②OP記入欄改!F8","v":5},{"$f":"②OP記入欄改!G8","v":0},null,{"$f":"②OP記入欄改!I8","v":0},null,{"$f":"②OP記入欄改!K8","v":0},null,{"$f":"②OP記入欄改!M8","v":0},{"$f":"②OP記入欄改!N8","v":0},{"$f":"②OP記入欄改!O8","v":0},null,null,null,null,null,null,null,null,null,null,null,6]
[null,{"$f":"②OP記入欄改!F9","v":6},{"$f":"②OP記入欄改!G9","v":0},null,{"$f":"②OP記入欄改!I9","v":0},null,{"$f":"②OP記入欄改!K9","v":0},null,{"$f":"②OP記入欄改!M9","v":0},{"$f":"②OP記入欄改!N9","v":0},{"$f":"②OP記入欄改!O9","v":0},null,null,null,null,null,null,null,null,null,null,null,6]
[null,{"$f":"②OP記入欄改!F10","v":7},{"$f":"②OP記入欄改!G10","v":0},null,{"$f":"②OP記入欄改!I10","v":0},null,{"$f":"②OP記入欄改!K10","v":0},null,{"$f":"②OP記入欄改!M10","v":0},{"$f":"②OP記入欄改!N10","v":0},{"$f":"②OP記入欄改!O10","v":0},null,null,null,null,null,null,null,null,null,null,null,6]
[null,{"$f":"②OP記入欄改!F11","v":8},{"$f":"②OP記入欄改!G11","v":0},null,{"$f":"②OP記入欄改!I11","v":0},null,{"$f":"②OP記入欄改!K11","v":0},null,{"$f":"②OP記入欄改!M11","v":0},{"$f":"②OP記入欄改!N11","v":0},{"$f":"②OP記入欄改!O11","v":0},null,null,null,null,null,null,null,null,null,null,null,6]
[null,{"$f":"②OP記入欄改!F12","v":9},{"$f":"②OP記入欄改!G12","v":0},null,{"$f":"②OP記入欄改!I12","v":0},null,{"$f":"②OP記入欄改!K12","v":0},null,{"$f":"②OP記入欄改!M12","v":0},{"$f":"②OP記入欄改!N12","v":0},{"$f":"②OP記入欄改!O12","v":0},null,null,null,null,null,null,null,null,null,null,null,6]
[null,{"$f":"②OP記入欄改!F13","v":10},{"$f":"②OP記入欄改!G13","v":0},null,{"$f":"②OP記入欄改!I13","v":0},null,{"$f":"②OP記入欄改!K13","v":0},null,{"$f":"②OP記入欄改!M13","v":0},{"$f":"②OP記入欄改!N13","v":0},{"$f":"②OP記入欄改!O13","v":0},null,null,null,null,null,null,null,null,null,null,null,6]
[null,"スリット作業指示№",null,null,null,null,"M/C№",null,"加工日",null,null,null,"前工程品質情報",null,null,"切断シフト1",null,null,null,"切断シフト2"]
[null,{"$f":"②OP記入欄改!$D$14","v":44018360001},null,null,null,null,"ＳＬ-",{"$f":"②OP記入欄改!$D$15","v":19},{"$f":"②OP記入欄改!$D$4","v":"2025-10-23"},null,null,null,"確認　　　□",null,null,"組","作業者",null,null,"組","作業者"]
[null,"巻芯\n確認"]
[]
[null,null,"25",null,null,null,null,null,"26",null,null,null,null,null,null,"切替開始",null,null,"　　　　　時　　　　　分"]
[null,null,null,null,null,null,null,null,null,null,null,null,null,null,null,"切断開始",null,null,"　　　　　時　　　　　分"]
[null,null,"23",null,null,null,null,null,"24",null,null,null,null,null,null,"切断完了",null,null,"　　　　　時　　　　　分"]
[null,null,null,null,null,null,null,null,null,null,null,null,null,null,null,"食事開始",null,null,"　　　　　時　　　　　分"]
[null,null,"21",null,null,null,null,null,"22",null,null,null,null,null,null,"食事完了",null,null,"　　　　　時　　　　　分"]
[null,null,null,null,null,null,null,null,null,null,null,null,null,null,null,"停機開始",null,null,"　　　　　時　　　　　分"]
[null,null,"19",null,null,null,null,null,"20",null,null,null,null,null,null,"停機完了",null,null,"　　　　　時　　　　　分"]
[null,null,null,null,null,null,null,null,null,null,null,null,null,null,null,"停機理由"]
[null,null,"17",null,null,null,null,null,"18",null,null,null,null,null,null,"条件確認","M/C条件設定",null,null,"呼出№",null,null,{"$f":"②OP記入欄改!$D$16","v":2}]
[null,null,null,null,null,null,null,null,null,null,null,null,null,null,null,null,"欠点検出機",null,null,"使用条件№",null,{"$f":"②OP記入欄改!$D$17","v":2}]
[null,null,"15",null,null,null,null,null,"16",null,null,null,null,null,null,null,"速度(m/min)",null,null,450]
[null,null,null,null,null,null,null,null,null,null,null,null,null,null,null,null,"張力(N/ｍ・kg)",null,null,14]
[null,null,"13",null,null,null,null,null,"14",null,null,null,null,null,null,null,"接圧(N/ｍ・kg)",null,null,22]
[null,null,null,null,null,null,null,null,null,null,null,null,null,null,null,"外観確認"]
[null,null,"11",null,null,null,null,null,"12",null,null,null,null,null,null,"表層透過検査",null,null,null,"OK",null,"NG"]
[null,null,null,null,null,null,null,null,null,null,null,null,null,null,null,"巻姿外観確認[ｽﾀｰﾄ/中間/ﾗｽﾄ]"]
[null,null,"09",null,null,null,null,null,"10",null,null,null,null,null,null,"各枝番に問題無『〇』問題有『☓』を記載"]
[]
[null,null,"07",null,null,null,null,null,"08"]
[]
[null,null,"05",null,null,null,null,null,"06"]
[null,null,null,null,null,null,null,null,null,null,null,null,null,null,null,"※『☓』の場合は展開図に内容を記載する"]
[null,null,"03",null,null,null,null,null,"04",null,null,null,null,null,null,"検材エッジ　　　　　　ⅿｍ"]
[null,null,null,null,null,null,null,null,null,null,null,null,null,null,null,"表層ロス　　　　　　　ⅿ"]
[null,null,"01",null,null,null,null,null,"02",null,null,null,null,null,null,"レザー/丸刃交換",null,null,null,"レザー/丸刃廃棄"]
[null,20,980,null,null,null,null,null,1000,null,null,null,null,null,20,"0　枚",null,null,null,"0　枚"]
[null,"膜厚測定（ＣＰＰ・VMPET・BRPET）",null,null,null,null,null,null,null,null,null,null,null,null,null,"備考"]
[null,"ラスト"]
[null,"1セット表層"]
[null,"1セット芯",null,null,null,null,null,null,null,null,null,null,null,null,null,"残",null,null,"m",null,null,null,"Φ"]
[]
[]
[]
[]
[]
[null,"スリット伝票　ＬＯＴ",null,null,null,null,null,{"$f":"②OP記入欄改!$D$5","v":60420357150},null,null,null,"製区",null,{"$f":"②OP記入欄改!$D$7","v":"S"},"品種",null,{"$f":"②OP記入欄改!$D$8","v":"CPP 2073 KT3"}]
[]
[null,"番手",null,{"$f":"②OP記入欄改!$D$9","v":25},"原反名",null,{"$f":"②OP記入欄改!$D$10","v":9041},null,"原反幅",null,{"$f":"②OP記入欄改!$D$11","v":1960},null,"原反長",null,{"$f":"②OP記入欄改!$D$12","v":46000},null,"前工程M/C",null,null,null,{"$f":"②OP記入欄改!$D$13","v":"DF7"}]
[null,"停機内容",null,null,null,null,null,"停機詳細",null,null,null,null,null,null,null,null,null,"停機時間"]
[null,"Ｆ破れ",null,null,"有/無",null,null,null,null,null,null,null,null,null,null,null,null,null,null,null,"hr"]
[null,"耳切れ",null,null,"有/無",null,null,null,null,null,null,null,null,null,null,null,null,null,null,null,"hr"]
[null,"紙管切断",null,null,"有/無",null,null,null,null,null,null,null,null,null,null,null,null,null,null,null,"hr"]
[null,"その他停機内容",null,null,null,null,null,null,null,null,null,null,null,null,null,null,null,null,null,null,"hr"]
[null,"備考"]
[]
[]
[]
[]
[]
[null,"外観確認内容"]
[null,"原反ズレ",null,null,null,"当てキズ",null,null,null,"溝ロール痕",null,null,null,"ＴＤスジ",null,null,null,"ピッチキズ"]
[null,"スリキズ",null,null,null,"クボミシワ",null,null,null,"シワムラ",null,null,null,"変色",null,null,null,"巻芯シワ"]
[null,"切断面・異物"]

{"sheet":"CPP800 S#20","index":19,"n_rows":71,"n_cols":27,"rows_kept":71,"cut":false,"hidden":false,"merged":[[69,1,69,4],[69,5,69,8],[69,9,69,12],[69,13,69,16],[69,17,69,21],[70,1,70,4],[60,7,60,16],[60,17,60,19],[68,1,68,4],[68,5,68,8],[68,9,68,12],[68,13,68,16],[68,17,68,21],[58,4,58,5],[58,7,58,16],[58,17,58,19],[59,4,59,5],[59,7,59,16],[59,17,59,19],[55,16,55,19],[55,20,55,22],[56,4,56,5],[57,4,57,5],[57,7,57,16],[57,17,57,19],[55,4,55,5],[55,6,55,7],[55,8,55,9],[55,10,55,11],[55,12,55,13],[55,14,55,15],[53,1,54,6],[53,7,53,10],[53,11,54,12],[53,13,54,13],[53,14,54,15],[53,16,54,22],[54,7,54,10],[46,13,46,14],[47,1,47,2],[47,3,47,4],[47,5,47,6],[47,7,47,8],[47,9,47,10],[47,11,47,12],[47,13,47,14],[46,1,46,2],[46,3,46,4],[46,5,46,6],[46,7,46,8],[46,9,46,10],[46,11,46,12],[44,1,44,14],[45,1,45,2],[45,3,45,4],[45,5,45,6],[45,7,45,8],[45,9,45,10],[45,11,45,12],[45,13,45,14],[42,15,42,18],[42,19,42,22],[43,2,43,7],[43,8,43,13],[43,15,43,18],[43,19,43,22],[40,18,40,20],[32,15,32,18],[32,19,32,20],[32,21,32,22],[33,15,33,22],[34,15,34,22],[39,15,39,22],[28,19,28,22],[29,16,29,18],[29,19,29,20],[30,16,30,18],[30,19,30,20],[31,15,31,22],[24,15,24,17],[24,18,24,22],[25,15,25,17],[25,18,25,22],[26,15,30,15],[26,16,26,18],[27,16,27,18],[27,19,27,20],[27,21,27,22],[28,16,28,18],[21,15,21,17],[21,18,21,22],[22,15,22,17],[22,18,22,22],[23,15,23,17],[23,18,23,22],[18,15,18,17],[18,18,18,22],[19,15,19,17],[19,18,19,22],[20,15,20,17],[20,18,20,22],[15,1,15,5],[15,8,15,11],[15,12,15,14],[15,16,15,18],[15,20,15,22],[16,1,17,1],[16,15,17,15],[16,16,17,18],[16,19,17,19],[16,20,17,22],[14,1,14,5],[14,6,14,7],[14,8,14,11],[14,12,14,14],[14,15,14,18],[14,19,14,22],[13,2,13,3],[13,4,13,5],[13,6,13,7],[13,11,13,14],[13,15,13,17],[13,18,13,20],[12,2,12,3],[12,4,12,5],[12,6,12,7],[12,11,12,14],[12,15,12,17],[12,18,12,20],[11,2,11,3],[11,4,11,5],[11,6,11,7],[11,11,11,14],[11,15,11,17],[11,18,11,20],[10,2,10,3],[10,4,10,5],[10,6,10,7],[10,11,10,14],[10,15,10,17],[10,18,10,20],[9,2,9,3],[9,4,9,5],[9,6,9,7],[9,11,9,14],[9,15,9,17],[9,18,9,20],[8,2,8,3],[8,4,8,5],[8,6,8,7],[8,11,8,14],[8,15,8,17],[8,18,8,20],[7,2,7,3],[7,4,7,5],[7,6,7,7],[7,11,7,14],[7,15,7,17],[7,18,7,20],[2,12,2,13],[2,14,2,15],[6,2,6,3],[6,4,6,5],[6,6,6,7],[6,11,6,14],[6,15,6,17],[6,18,6,20],[5,2,5,3],[5,4,5,5],[5,6,5,7],[5,11,5,14],[5,15,5,17],[5,18,5,20],[0,7,1,10],[0,1,1,6],[0,11,1,12],[0,13,1,13],[0,14,1,15],[0,16,1,22],[4,2,4,3],[4,4,4,5],[4,6,4,7],[4,11,4,14],[4,15,4,17],[4,18,4,20],[2,16,2,19],[2,20,2,22],[3,2,3,3],[3,4,3,5],[3,6,3,7],[3,11,3,14],[3,15,3,17],[3,18,3,20],[2,4,2,5],[2,6,2,7],[2,8,2,9],[2,10,2,11]]}
[null,"スリット伝票　ＬＯＴ",null,null,null,null,null,{"$f":"②OP記入欄改!$D$5","v":60420357150},null,null,null,"製区",null,{"$f":"②OP記入欄改!$D$7","v":"S"},"品種",null,{"$f":"②OP記入欄改!$D$8","v":"CPP 2073 KT3"}]
[]
[null,"番手",null,{"$f":"②OP記入欄改!$D$9","v":25},"原反名",null,{"$f":"②OP記入欄改!$D$10","v":9041},null,"原反幅",null,{"$f":"②OP記入欄改!$D$11","v":1960},null,"原反長",null,{"$f":"②OP記入欄改!$D$12","v":46000},null,"前工程M/C",null,null,null,{"$f":"②OP記入欄改!$D$13","v":"DF7"}]
[null,null,{"$f":"②OP記入欄改!G3","v":"仕向先"},null,{"$f":"②OP記入欄改!I3","v":"製品幅"},null,{"$f":"②OP記入欄改!K3","v":"製品長さ"},null,{"$f":"②OP記入欄改!M3","v":"計本"},{"$f":"②OP記入欄改!N3","v":"実"},{"$f":"②OP記入欄改!O3","v":"梱形"},"Ａ保枝番",null,null,null,"ミル枝番",null,null,"Ｂ級枝番",null,null,"ロック\nシャフト","コア"]
[null,{"$f":"②OP記入欄改!F4","v":1},{"$f":"②OP記入欄改!G4","v":0},null,{"$f":"②OP記入欄改!I4","v":840},null,{"$f":"②OP記入欄改!K4","v":4000},null,{"$f":"②OP記入欄改!M4","v":10},{"$f":"②OP記入欄改!N4","v":0},{"$f":"②OP記入欄改!O4","v":0},null,null,null,null,null,null,null,null,null,null,null,6]
[null,{"$f":"②OP記入欄改!F5","v":2},{"$f":"②OP記入欄改!G5","v":0},null,{"$f":"②OP記入欄改!I5","v":1080},null,{"$f":"②OP記入欄改!K5","v":4000},null,{"$f":"②OP記入欄改!M5","v":10},{"$f":"②OP記入欄改!N5","v":0},{"$f":"②OP記入欄改!O5","v":0},null,null,null,null,null,null,null,null,null,null,null,6]
[null,{"$f":"②OP記入欄改!F6","v":3},{"$f":"②OP記入欄改!G6","v":0},null,{"$f":"②OP記入欄改!I6","v":1080},null,{"$f":"②OP記入欄改!K6","v":4000},null,{"$f":"②OP記入欄改!M6","v":1},{"$f":"②OP記入欄改!N6","v":0},{"$f":"②OP記入欄改!O6","v":0},null,null,null,null,null,null,null,null,null,null,null,6]
[null,{"$f":"②OP記入欄改!F7","v":4},{"$f":"②OP記入欄改!G7","v":0},null,{"$f":"②OP記入欄改!I7","v":840},null,{"$f":"②OP記入欄改!K7","v":4000},null,{"$f":"②OP記入欄改!M7","v":1},{"$f":"②OP記入欄改!N7","v":0},{"$f":"②OP記入欄改!O7","v":0},null,null,null,null,null,null,null,null,null,null,null,6]
[null,{"$f":"②OP記入欄改!F8","v":5},{"$f":"②OP記入欄改!G8","v":0},null,{"$f":"②OP記入欄改!I8","v":0},null,{"$f":"②OP記入欄改!K8","v":0},null,{"$f":"②OP記入欄改!M8","v":0},{"$f":"②OP記入欄改!N8","v":0},{"$f":"②OP記入欄改!O8","v":0},null,null,null,null,null,null,null,null,null,null,null,6]
[null,{"$f":"②OP記入欄改!F9","v":6},{"$f":"②OP記入欄改!G9","v":0},null,{"$f":"②OP記入欄改!I9","v":0},null,{"$f":"②OP記入欄改!K9","v":0},null,{"$f":"②OP記入欄改!M9","v":0},{"$f":"②OP記入欄改!N9","v":0},{"$f":"②OP記入欄改!O9","v":0},null,null,null,null,null,null,null,null,null,null,null,6]
[null,{"$f":"②OP記入欄改!F10","v":7},{"$f":"②OP記入欄改!G10","v":0},null,{"$f":"②OP記入欄改!I10","v":0},null,{"$f":"②OP記入欄改!K10","v":0},null,{"$f":"②OP記入欄改!M10","v":0},{"$f":"②OP記入欄改!N10","v":0},{"$f":"②OP記入欄改!O10","v":0},null,null,null,null,null,null,null,null,null,null,null,6]
[null,{"$f":"②OP記入欄改!F11","v":8},{"$f":"②OP記入欄改!G11","v":0},null,{"$f":"②OP記入欄改!I11","v":0},null,{"$f":"②OP記入欄改!K11","v":0},null,{"$f":"②OP記入欄改!M11","v":0},{"$f":"②OP記入欄改!N11","v":0},{"$f":"②OP記入欄改!O11","v":0},null,null,null,null,null,null,null,null,null,null,null,6]
[null,{"$f":"②OP記入欄改!F12","v":9},{"$f":"②OP記入欄改!G12","v":0},null,{"$f":"②OP記入欄改!I12","v":0},null,{"$f":"②OP記入欄改!K12","v":0},null,{"$f":"②OP記入欄改!M12","v":0},{"$f":"②OP記入欄改!N12","v":0},{"$f":"②OP記入欄改!O12","v":0},null,null,null,null,null,null,null,null,null,null,null,6]
[null,{"$f":"②OP記入欄改!F13","v":10},{"$f":"②OP記入欄改!G13","v":0},null,{"$f":"②OP記入欄改!I13","v":0},null,{"$f":"②OP記入欄改!K13","v":0},null,{"$f":"②OP記入欄改!M13","v":0},{"$f":"②OP記入欄改!N13","v":0},{"$f":"②OP記入欄改!O13","v":0},null,null,null,null,null,null,null,null,null,null,null,6]
[null,"スリット作業指示№",null,null,null,null,"M/C№",null,"加工日",null,null,null,"前工程品質情報",null,null,"切断シフト1",null,null,null,"切断シフト2"]
[null,{"$f":"②OP記入欄改!$D$14","v":44018360001},null,null,null,null,"ＳＬ-",{"$f":"②OP記入欄改!$D$15","v":19},{"$f":"②OP記入欄改!$D$4","v":"2025-10-23"},null,null,null,"確認　　　□",null,null,"組","作業者",null,null,"組","作業者"]
[null,"巻芯\n確認"]
[]
[null,null,null,null,null,null,null,null,null,null,null,null,null,null,null,"切替開始",null,null,"　　　　　時　　　　　分"]
[null,null,"13",null,null,null,null,null,"14",null,null,null,null,null,null,"切断開始",null,null,"　　　　　時　　　　　分"]
[null,null,null,null,null,null,null,null,null,null,null,null,null,null,null,"切断完了",null,null,"　　　　　時　　　　　分"]
[null,null,null,null,null,null,null,null,null,null,null,null,null,null,null,"食事開始",null,null,"　　　　　時　　　　　分"]
[null,null,null,null,null,null,null,null,null,null,null,null,null,null,null,"食事完了",null,null,"　　　　　時　　　　　分"]
[null,null,"11",null,null,null,null,null,"12",null,null,null,null,null,null,"停機開始",null,null,"　　　　　時　　　　　分"]
[null,null,null,null,null,null,null,null,null,null,null,null,null,null,null,"停機完了",null,null,"　　　　　時　　　　　分"]
[null,null,null,null,null,null,null,null,null,null,null,null,null,null,null,"停機理由"]
[null,null,null,null,null,null,null,null,null,null,null,null,null,null,null,"条件確認","M/C条件設定",null,null,"呼出№",null,null,{"$f":"②OP記入欄改!$D$16","v":2}]
[null,null,"09",null,null,null,null,null,"10",null,null,null,null,null,null,null,"欠点検出機",null,null,"使用条件№",null,{"$f":"②OP記入欄改!$D$17","v":2}]
[null,null,null,null,null,null,null,null,null,null,null,null,null,null,null,null,"速度(m/min)",null,null,450]
[null,null,null,null,null,null,null,null,null,null,null,null,null,null,null,null,"張力(N/ｍ・kg)",null,null,14]
[null,null,null,null,null,null,null,null,null,null,null,null,null,null,null,null,"接圧(N/ｍ・kg)",null,null,"22/24"]
[null,null,"07",null,null,null,null,null,"08",null,null,null,null,null,null,"外観確認"]
[null,null,null,null,null,null,null,null,null,null,null,null,null,null,null,"表層透過検査",null,null,null,"OK",null,"NG"]
[null,null,null,null,null,null,null,null,null,null,null,null,null,null,null,"巻姿外観確認[ｽﾀｰﾄ/中間/ﾗｽﾄ]"]
[null,null,null,null,null,null,null,null,null,null,null,null,null,null,null,"各枝番に問題無『〇』問題有『☓』を記載"]
[null,null,"05",null,null,null,null,null,"06",null,null,null,null,null,null,null,null,null,null,null,null,null,null,null,null,null,"　"]
[]
[]
[]
[null,null,"03",null,null,null,null,null,"04",null,null,null,null,null,null,"※『☓』の場合は展開図に内容を記載する"]
[null,null,null,null,null,null,null,null,null,null,null,null,null,null,null,"検材エッジ",null,null,285]
[null,null,null,null,null,null,null,null,null,null,null,null,null,null,null,"表層ロス　　　　　　　ⅿ"]
[null,null,"01",null,null,null,null,null,"02",null,null,null,null,null,null,"レザー/丸刃交換",null,null,null,"レザー/丸刃廃棄"]
[null,20,1020,null,null,null,null,null,1020,null,null,null,null,null,20,"3　 枚",null,null,null,"3　 枚"]
[null,"膜厚測定（ＣＰＰ・VMPET・BRPET）",null,null,null,null,null,null,null,null,null,null,null,null,null,"備考"]
[null,"ラスト"]
[null,"1セット表層"]
[null,"1セット芯",null,null,null,null,null,null,null,null,null,null,null,null,null,"残",null,null,"m",null,null,null,"Φ"]
[]
[]
[]
[]
[]
[null,"スリット伝票　ＬＯＴ",null,null,null,null,null,{"$f":"②OP記入欄改!$D$5","v":60420357150},null,null,null,"製区",null,{"$f":"②OP記入欄改!$D$7","v":"S"},"品種",null,{"$f":"②OP記入欄改!$D$8","v":"CPP 2073 KT3"}]
[]
[null,"番手",null,{"$f":"②OP記入欄改!$D$9","v":25},"原反名",null,{"$f":"②OP記入欄改!$D$10","v":9041},null,"原反幅",null,{"$f":"②OP記入欄改!$D$11","v":1960},null,"原反長",null,{"$f":"②OP記入欄改!$D$12","v":46000},null,"前工程M/C",null,null,null,{"$f":"②OP記入欄改!$D$13","v":"DF7"}]
[null,"停機内容",null,null,null,null,null,"停機詳細",null,null,null,null,null,null,null,null,null,"停機時間"]
[null,"Ｆ破れ",null,null,"有/無",null,null,null,null,null,null,null,null,null,null,null,null,null,null,null,"hr"]
[null,"耳切れ",null,null,"有/無",null,null,null,null,null,null,null,null,null,null,null,null,null,null,null,"hr"]
[null,"紙管切断",null,null,"有/無",null,null,null,null,null,null,null,null,null,null,null,null,null,null,null,"hr"]
[null,"その他停機内容",null,null,null,null,null,null,null,null,null,null,null,null,null,null,null,null,null,null,"hr"]
[null,"備考"]
[]
[]
[]
[]
[]
[null,"外観確認内容"]
[null,"原反ズレ",null,null,null,"当てキズ",null,null,null,"溝ロール痕",null,null,null,"ＴＤスジ",null,null,null,"ピッチキズ"]
[null,"スリキズ",null,null,null,"クボミシワ",null,null,null,"シワムラ",null,null,null,"変色",null,null,null,"巻芯シワ"]
[null,"切断面・異物"]

{"sheet":"①入力手順","index":20,"n_rows":0,"n_cols":0,"rows_kept":0,"cut":false,"hidden":false,"merged":[]}

{"sheet":"③伝票原本 改 記入方法","index":21,"n_rows":71,"n_cols":23,"rows_kept":71,"cut":false,"hidden":false,"merged":[[3,2,3,3],[3,4,3,5],[3,6,3,7],[3,11,3,14],[3,15,3,17],[3,18,3,20],[2,4,2,5],[2,6,2,7],[2,8,2,9],[2,10,2,11],[2,12,2,13],[2,14,2,15],[0,1,1,6],[0,7,0,10],[0,11,1,12],[0,13,1,13],[0,14,1,15],[0,16,1,22],[1,7,1,10],[2,16,2,19],[2,20,2,22],[5,4,5,5],[5,6,5,7],[5,11,5,14],[5,15,5,17],[5,18,5,20],[4,2,4,3],[4,4,4,5],[4,6,4,7],[4,11,4,14],[4,15,4,17],[4,18,4,20],[5,2,5,3],[7,2,7,3],[7,4,7,5],[7,6,7,7],[7,11,7,14],[7,15,7,17],[7,18,7,20],[6,2,6,3],[6,4,6,5],[6,6,6,7],[6,11,6,14],[6,15,6,17],[6,18,6,20],[9,2,9,3],[9,4,9,5],[9,6,9,7],[9,11,9,14],[9,15,9,17],[9,18,9,20],[8,2,8,3],[8,4,8,5],[8,6,8,7],[8,11,8,14],[8,15,8,17],[8,18,8,20],[11,2,11,3],[11,4,11,5],[11,6,11,7],[11,11,11,14],[11,15,11,17],[11,18,11,20],[10,2,10,3],[10,4,10,5],[10,6,10,7],[10,11,10,14],[10,15,10,17],[10,18,10,20],[13,2,13,3],[13,4,13,5],[13,6,13,7],[13,11,13,14],[13,15,13,17],[13,18,13,20],[12,2,12,3],[12,4,12,5],[12,6,12,7],[12,11,12,14],[12,15,12,17],[12,18,12,20],[15,1,15,5],[15,8,15,11],[15,12,15,14],[15,16,15,18],[15,20,15,22],[16,1,17,1],[14,1,14,5],[14,6,14,7],[14,8,14,11],[14,12,14,14],[14,15,14,18],[14,19,14,22],[21,15,21,17],[21,18,21,22],[22,15,22,17],[22,18,22,22],[23,15,23,17],[23,18,23,22],[18,15,18,17],[18,18,18,22],[19,15,19,17],[19,18,19,22],[20,15,20,17],[20,18,20,22],[31,15,31,22],[32,15,32,18],[32,19,32,20],[32,21,32,22],[33,15,33,22],[34,15,34,22],[24,15,24,17],[24,18,24,22],[25,15,25,17],[25,18,25,22],[26,15,30,15],[26,16,26,18],[27,16,27,18],[28,16,28,18],[29,16,29,18],[30,16,30,18],[27,19,27,20],[27,21,27,22],[44,1,44,14],[45,1,45,2],[45,3,45,4],[45,5,45,6],[45,7,45,8],[45,9,45,10],[45,11,45,12],[45,13,45,14],[39,15,39,22],[40,15,40,22],[42,15,42,18],[42,19,42,22],[43,15,43,18],[43,19,43,22],[53,1,54,6],[53,7,53,10],[53,11,54,12],[53,13,54,13],[53,14,54,15],[53,16,54,22],[54,7,54,10],[46,13,46,14],[47,1,47,2],[47,3,47,4],[47,5,47,6],[47,7,47,8],[47,9,47,10],[47,11,47,12],[47,13,47,14],[46,1,46,2],[46,3,46,4],[46,5,46,6],[46,7,46,8],[46,9,46,10],[46,11,46,12],[55,20,55,22],[56,4,56,5],[57,4,57,5],[57,7,57,16],[57,17,57,19],[55,4,55,5],[55,6,55,7],[55,8,55,9],[55,10,55,11],[55,12,55,13],[55,14,55,15],[60,7,60,16],[60,17,60,19],[58,4,58,5],[58,7,58,16],[58,17,58,19],[59,4,59,5],[59,7,59,16],[59,17,59,19],[55,16,55,19],[70,1,70,4],[68,1,68,4],[68,5,68,8],[68,9,68,12],[68,13,68,16],[68,17,68,21],[69,1,69,4],[69,5,69,8],[69,9,69,12],[69,13,69,16],[69,17,69,21]]}
[null,"スリット伝票　ＬＯＴ",null,null,null,null,null,null,null,null,null,"製区",null,null,"品種"]
[]
[null,"番手",null,null,"原反名",null,null,null,"原反幅",null,null,null,"原反長",null,null,null,"前工程M/C"]
[null,null,"仕向先",null,"製品幅",null,"製品長さ",null,"計本","実","梱形","Ａ保枝番",null,null,null,"ミル枝番",null,null,"Ｂ級枝番",null,null,"ロック\nシャフト","コア"]
[null,1,null,null,null,null,null,null,null,null,null,null,null,null,null,null,null,null,null,null,null,null,6]
[null,2,null,null,null,null,null,null,null,null,null,null,null,null,null,null,null,null,null,null,null,null,6]
[null,3,null,null,null,null,null,null,null,null,null,null,null,null,null,null,null,null,null,null,null,null,6]
[null,4,null,null,null,null,null,null,null,null,null,null,null,null,null,null,null,null,null,null,null,null,6]
[null,5,null,null,null,null,null,null,null,null,null,null,null,null,null,null,null,null,null,null,null,null,6]
[null,6,null,null,null,null,null,null,null,null,null,null,null,null,null,null,null,null,null,null,null,null,6]
[null,7,null,null,null,null,null,null,null,null,null,null,null,null,null,null,null,null,null,null,null,null,6]
[null,8,null,null,null,null,null,null,null,null,null,null,null,null,null,null,null,null,null,null,null,null,6]
[null,9,null,null,null,null,null,null,null,null,null,null,null,null,null,null,null,null,null,null,null,null,6]
[null,10,null,null,null,null,null,null,null,null,null,null,null,null,null,null,null,null,null,null,null,null,6]
[null,"スリット作業指示№",null,null,null,null,"M/C№",null,"加工日",null,null,null,"前工程品質情報",null,null,"切断シフト1",null,null,null,"切断シフト2"]
[null,null,null,null,null,null,"ＳＬ-",null,"　　　　年　　　月　　　日",null,null,null,"確認　　　□",null,null,"組","作業者",null,null,"組","作業者"]
[null,"巻芯\n確認"]
[]
[null,null,null,null,null,null,null,null,null,null,null,null,null,null,null,"切替開始",null,null,"　　　　　時　　　　　分"]
[null,null,null,null,null,null,null,null,null,null,null,null,null,null,null,"切断開始",null,null,"　　　　　時　　　　　分"]
[null,null,null,null,null,null,null,null,null,null,null,null,null,null,null,"切断完了",null,null,"　　　　　時　　　　　分"]
[null,null,null,null,null,null,null,null,null,null,null,null,null,null,null,"食事開始",null,null,"　　　　　時　　　　　分"]
[null,null,null,null,null,null,null,null,null,null,null,null,null,null,null,"食事完了",null,null,"　　　　　時　　　　　分"]
[null,null,null,null,null,null,null,null,null,null,null,null,null,null,null,"停機開始",null,null,"　　　　　時　　　　　分"]
[null,null,null,null,null,null,null,null,null,null,null,null,null,null,null,"停機完了",null,null,"　　　　　時　　　　　分"]
[null,null,null,null,null,null,null,null,null,null,null,null,null,null,null,"停機理由"]
[null,null,null,null,null,null,null,null,null,null,null,null,null,null,null,"条件確認","M/C条件設定",null,null,"呼出№"]
[null,null,null,null,null,null,null,null,null,null,null,null,null,null,null,null,"欠点検出機",null,null,"使用条件№"]
[null,null,null,null,null,null,null,null,null,null,null,null,null,null,null,null,"速度(m/min)"]
[null,null,null,null,null,null,null,null,null,null,null,null,null,null,null,null,"張力(N/ｍ・kg)"]
[null,null,null,null,null,null,null,null,null,null,null,null,null,null,null,null,"接圧(N/ｍ・kg)"]
[null,null,null,null,null,null,null,null,null,null,null,null,null,null,null,"外観確認"]
[null,null,null,null,null,null,null,null,null,null,null,null,null,null,null,"表層透過検査",null,null,null,"OK",null,"NG"]
[null,null,null,null,null,null,null,null,null,null,null,null,null,null,null,"巻姿外観確認[ｽﾀｰﾄ/中間/ﾗｽﾄ]"]
[null,null,null,null,null,null,null,null,null,null,null,null,null,null,null,"各枝番に問題無『〇』問題有『☓』を記載"]
[]
[]
[]
[]
[null,null,null,null,null,null,null,null,null,null,null,null,null,null,null,"※『☓』の場合は展開図に内容を記載する"]
[null,null,null,null,null,null,null,null,null,null,null,null,null,null,null,"検材エッジ　　　　　　ⅿｍ"]
[null,null,null,null,null,null,null,null,null,null,null,null,null,null,null,"表層ロス　　　　　　　ⅿ"]
[null,null,null,null,null,null,null,null,null,null,null,null,null,null,null,"レザー/丸刃交換",null,null,null,"レザー/丸刃廃棄"]
[null,null,null,null,null,null,null,null,null,null,null,null,null,null,null,"枚",null,null,null,"枚"]
[null,"膜厚測定（ＣＰＰ・VMPET・BRPET）",null,null,null,null,null,null,null,null,null,null,null,null,null,"備考"]
[null,"ラスト"]
[null,"1セット表層"]
[null,"1セット芯"]
[]
[]
[]
[]
[]
[null,"スリット伝票　ＬＯＴ",null,null,null,null,null,null,null,null,null,"製区",null,null,"品種"]
[]
[null,"番手",null,null,"原反名",null,null,null,"原反幅",null,null,null,"原反長",null,null,null,"前工程M/C"]
[null,"停機内容",null,null,null,null,null,"停機詳細",null,null,null,null,null,null,null,null,null,"停機時間"]
[null,"Ｆ破れ",null,null,"有/無",null,null,null,null,null,null,null,null,null,null,null,null,null,null,null,"hr"]
[null,"耳切れ",null,null,"有/無",null,null,null,null,null,null,null,null,null,null,null,null,null,null,null,"hr"]
[null,"紙管切断",null,null,"有/無",null,null,null,null,null,null,null,null,null,null,null,null,null,null,null,"hr"]
[null,"その他停機内容",null,null,null,null,null,null,null,null,null,null,null,null,null,null,null,null,null,null,"hr"]
[null,"備考"]
[]
[]
[]
[]
[]
[null,"外観確認内容"]
[null,"原反ズレ",null,null,null,"当てキズ",null,null,null,"溝ロール痕",null,null,null,"ＴＤスジ",null,null,null,"ピッチキズ"]
[null,"スリキズ",null,null,null,"クボミシワ",null,null,null,"シワムラ",null,null,null,"変色",null,null,null,"巻芯シワ"]
[null,"切断面・異物"]

{"sheet":"枠図","index":22,"n_rows":40,"n_cols":3,"rows_kept":40,"cut":false,"hidden":false,"merged":[]}
[]
[]
[]
[]
[]
[]
[]
[]
[]
[]
[]
[]
[]
[]
[]
[]
[]
[]
[]
[]
[]
[]
[]
[]
[]
[]
[]
[]
[]
[]
[]
[]
[]
[]
[]
[]
[]
[]
[]
[null,null,"１５セット用"]

{"sheet":"Sheet3","index":23,"n_rows":0,"n_cols":0,"rows_kept":0,"cut":false,"hidden":false,"merged":[]}