Workbook
Name asamoney: #REF!
Name asatime: #REF!
Name rank: [1]メンバー№!$B$369:$C$391
Name timeout: #REF!
Name ｗせｒｆ: #REF!
Name コード: [1]メンバー№!$A$2:$A$200
Name ランク: [1]メンバー№!$C$2:$C$300
Name ランク表: [1]メンバー№!$B$370:$C$391
Name 氏名: [1]メンバー№!$B$2:$B$300

Sheet 変換前
X1: =[2]メンバー表!AE5 -> ウィンダミア | Y1: 1 | Z1: =[2]メンバー表!AG5 -> 1
X2: =[2]メンバー表!AE6 -> グリニッジ | Y2: 2 | Z2: =[2]メンバー表!AG6 -> 1
L3: 人数 | M3: 時間 | P3: =SUM(P4:P14) -> 0 | S3: =SUM(S4:S14) -> 0 | X3: =[2]メンバー表!AE7 -> リッチモンド | Y3: 3 | Z3: =[2]メンバー表!AG7 -> 1
C4: =SUMIF($BN$73:$BN$116,D4) -> 0 | D4: =SMALL($BN$73:$BN$348,1) -> #NUM! | F4: 1 | G4: ウィンダミア | I4: 1 | J4: 宴会 | L4: =SUMIF($AI$40:$AI$293,J4,$AJ$40:$AJ$293) -> 5 | M4: =SUMIF($AI$40:$AI$293,J4,$AK$40:$AK$293) -> 31.5 | N4: △ | O4: 宿泊 | P4: =COUNTIF($AM$45:$AM$348,CONCATENATE(I4,$N$4)) -> 0 | Q4: ○ | R4: 出張 | S4: =COUNTIF($AN$45:$AN$348,CONCATENATE(I4,$Q$4)) -> 0 | T4: SS | U4: =COUNTIF($O$45:$O$348,T4)/2 -> 1 | X4: =[2]メンバー表!AE8 -> 来賓控室 | Y4: 4 | Z4: =[2]メンバー表!AG8 -> 1
C5: =SUMIF($BN$73:$BN$116,D5) -> 0 | D5: =SMALL($BN$73:$BN$348,2) -> #NUM! | F5: 23 | G5: グリニッジ | I5: 2 | J5: アトモス | L5: =SUMIF($AI$40:$AI$293,J5,$AJ$40:$AJ$293) -> 3 | M5: =SUMIF($AI$40:$AI$293,J5,$AK$40:$AK$293) -> 15 | P5: =COUNTIF($AM$45:$AM$348,CONCATENATE(I5,$N$4)) -> 0 | S5: =COUNTIF($AN$45:$AN$348,CONCATENATE(I5,$Q$4)) -> 0 | T5: SSS | U5: =COUNTIF($O$45:$O$348,T5)/3 -> 0 | X5: =[2]メンバー表!AE9 -> 24F親族控室 | Y5: 5 | Z5: =[2]メンバー表!AG9 -> 1
C6: =SUMIF($BN$73:$BN$116,D6) -> 0 | D6: =SMALL($BN$73:$BN$348,3) -> #NUM! | F6: 35 | G6: リッチモンド | I6: 3 | J6: C:GRILL | L6: =SUMIF($AI$40:$AI$293,J6,$AJ$40:$AJ$293) -> 1 | M6: =SUMIF($AI$40:$AI$293,J6,$AK$40:$AK$293) -> 4 | P6: =COUNTIF($AM$45:$AM$348,CONCATENATE(I6,$N$4)) -> 0 | S6: =COUNTIF($AN$45:$AN$348,CONCATENATE(I6,$Q$4)) -> 0 | X6: =[2]メンバー表!AE10 -> アマリー① | Y6: 6 | Z6: =[2]メンバー表!AG10 -> 1
C7: =SUMIF($BN$73:$BN$116,D7) -> 0 | D7: =SMALL($BN$73:$BN$348,4) -> #NUM! | F7: 41 | G7: 来賓控室 | I7: 4 | J7: 40SKY | L7: =SUMIF($AI$40:$AI$293,J7,$AJ$40:$AJ$293) -> 4 | M7: =SUMIF($AI$40:$AI$293,J7,$AK$40:$AK$293) -> 31 | P7: =COUNTIF($AM$45:$AM$348,CONCATENATE(I7,$N$4)) -> 0 | S7: =COUNTIF($AN$45:$AN$348,CONCATENATE(I7,$Q$4)) -> 0 | X7: =[2]メンバー表!AE11 -> アマリー② | Y7: 7 | Z7: =[2]メンバー表!AG11 -> 1
C8: =SUMIF($BN$73:$BN$116,D8) -> 0 | D8: =SMALL($BN$73:$BN$348,5) -> #NUM! | F8: 57 | G8: アマリー① | I8: 5 | J8: フィットネス | L8: =SUMIF($AI$40:$AI$293,J8,$AJ$40:$AJ$293) -> 0 | M8: =SUMIF($AI$40:$AI$293,J8,$AK$40:$AK$293) -> 0 | P8: =COUNTIF($AM$45:$AM$348,CONCATENATE(I8,$N$4)) -> 0 | S8: =COUNTIF($AN$45:$AN$348,CONCATENATE(I8,$Q$4)) -> 0 | X8: =[2]メンバー表!AE12 -> ハートウェル | Y8: 8 | Z8: =[2]メンバー表!AG12 -> 1
C9: =SUMIF($BN$73:$BN$116,D9) -> 0 | D9: =SMALL($BN$73:$BN$348,6) -> #NUM! | F9: 65 | G9: アマリー② | I9: 6 | J9: 蔵 | L9: =SUMIF($AI$40:$AI$293,J9,$AJ$40:$AJ$293) -> 0 | M9: =SUMIF($AI$40:$AI$293,J9,$AK$40:$AK$293) -> 0 | P9: =COUNTIF($AM$45:$AM$348,CONCATENATE(I9,$N$4)) -> 0 | S9: =COUNTIF($AN$45:$AN$348,CONCATENATE(I9,$Q$4)) -> 0 | X9: =[2]メンバー表!AE13 -> ティーラウンジ | Y9: 9 | Z9: =[2]メンバー表!AG13 -> 1
C10: =SUMIF($BN$73:$BN$116,D10) -> 0 | D10: =SMALL($BN$73:$BN$348,7) -> #NUM! | F10: 71 | G10: ハートウェル | I10: 7 | J10: ラウンジ | L10: =SUMIF($AI$40:$AI$293,J10,$AJ$40:$AJ$293) -> 0 | M10: =SUMIF($AI$40:$AI$293,J10,$AK$40:$AK$293) -> 0 | P10: =COUNTIF($AM$45:$AM$348,CONCATENATE(I10,$N$4)) -> 0 | S10: =COUNTIF($AN$45:$AN$348,CONCATENATE(I10,$Q$4)) -> 0 | X10: =[2]メンバー表!AE14 -> 雅 | Y10: 10 | Z10: =[2]メンバー表!AG14 -> 1
C11: =SUMIF($BN$73:$BN$116,D11) -> 0 | D11: =SMALL($BN$73:$BN$348,8) -> #NUM! | F11: 83 | G11: ティーラウンジ | I11: 8 | J11: ベル(GS) | L11: =SUMIF($AI$40:$AI$293,J11,$AJ$40:$AJ$293) -> 0 | M11: =SUMIF($AI$40:$AI$293,J11,$AK$40:$AK$293) -> 0 | P11: =COUNTIF($AM$45:$AM$348,CONCATENATE(I11,$N$4)) -> 0 | S11: =COUNTIF($AN$45:$AN$348,CONCATENATE(I11,$Q$4)) -> 0 | X11: =[2]メンバー表!AE15 -> 翡翠 | Y11: 11 | Z11: =[2]メンバー表!AG15 -> 1
C12: =SUMIF($BN$73:$BN$116,D12) -> 0 | D12: =SMALL($BN$73:$BN$348,9) -> #NUM! | F12: 91 | G12: 雅 | I12: 9 | J12: 有給休暇 | L12: =SUMIF($AI$40:$AI$293,J12,$AJ$40:$AJ$293) -> 0 | M12: =SUMIF($AI$40:$AI$293,J12,$AK$40:$AK$293) -> 0 | P12: =COUNTIF($AM$45:$AM$348,CONCATENATE(I12,$N$4)) -> 0 | S12: =COUNTIF($AN$45:$AN$348,CONCATENATE(I12,$Q$4)) -> 0 | X12: =[2]メンバー表!AE16 -> 瑠璃 | Y12: 12 | Z12: =[2]メンバー表!AG16 -> 1
C13: =SUMIF($BN$73:$BN$116,D13) -> 0 | D13: =SMALL($BN$73:$BN$348,10) -> #NUM! | F13: 109 | G13: 翡翠 | I13: 10 | J13: アエリア | L13: =SUMIF($AI$40:$AI$293,J13,$AJ$40:$AJ$293) -> 0 | M13: =SUMIF($AI$40:$AI$293,J13,$AK$40:$AK$293) -> 0 | P13: =COUNTIF($AM$45:$AM$348,CONCATENATE(I13,$N$4)) -> 0 | S13: =COUNTIF($AN$45:$AN$348,CONCATENATE(I13,$Q$4)) -> 0 | X13: =[2]メンバー表!AE17 -> 伽羅 | Y13: 13 | Z13: =[2]メンバー表!AG17 -> 1
C14: =SUMIF($BN$73:$BN$116,D14) -> 0 | D14: =SMALL($BN$73:$BN$348,11) -> #NUM! | F14: 1131 | G14: 瑠璃 | I14: 12 | J14: 休業補償 | L14: =SUMIF($AI$40:$AI$293,J14,$AJ$40:$AJ$293) -> 0 | M14: =SUMIF($AI$40:$AI$293,J14,$AK$40:$AK$293) -> 0 | P14: =COUNTIF($AM$45:$AM$348,CONCATENATE(I14,$N$4)) -> 0 | S14: =COUNTIF($AN$45:$AN$348,CONCATENATE(I14,$Q$4)) -> 0 | X14: =[2]メンバー表!AE18 -> スノーベリー | Y14: 14 | Z14: =[2]メンバー表!AG18 -> 1
C15: =SUMIF($BN$73:$BN$116,D15) -> 0 | D15: =SMALL($BN$73:$BN$348,12) -> #NUM! | F15: 1215 | G15: 伽羅 | I15: 11 | J15: HR | L15: =SUMIF($AI$40:$AI$293,J15,$AJ$40:$AJ$293) -> 0 | M15: =SUMIF($AI$40:$AI$293,J15,$AK$40:$AK$293) -> 0 | P15: =COUNTIF($AM$45:$AM$348,CONCATENATE(I15,$N$4)) -> 0 | S15: =COUNTIF($AN$45:$AN$348,CONCATENATE(I15,$Q$4)) -> 0 | X15: =[2]メンバー表!AE19 -> ラベンダー | Y15: 15 | Z15: =[2]メンバー表!AG19 -> 1
C16: =SUMIF($BN$73:$BN$116,D16) -> 0 | D16: =SMALL($BN$73:$BN$348,13) -> #NUM! | F16: 1313 | G16: エスカーレ | X16: =[2]メンバー表!AE20 -> ルピナス | Y16: 16 | Z16: =[2]メンバー表!AG20 -> 1
C17: =SUMIF($BN$73:$BN$116,D17) -> 0 | D17: =SMALL($BN$73:$BN$348,14) -> #NUM! | F17: 1411 | G17: スノーベリー | X17: =[2]メンバー表!AE21 -> ブルーベル | Y17: 17 | Z17: =[2]メンバー表!AG21 -> 1
C18: =SUMIF($BN$73:$BN$116,D18) -> 0 | D18: =SMALL($BN$73:$BN$348,15) -> #NUM! | F18: 1515 | G18: ラベンダー | X18: =[2]メンバー表!AE22 -> ブルーベル | Y18: 18 | Z18: =[2]メンバー表!AG22 -> 1
C19: =SUMIF($BN$73:$BN$116,D19) -> 0 | D19: =SMALL($BN$73:$BN$348,16) -> #NUM! | F19: 1617 | G19: ルピナス | X19: =[2]メンバー表!AE23 -> VIPルーム | Y19: 19 | Z19: =[2]メンバー表!AG23 -> 1
C20: =SUMIF($BN$73:$BN$116,D20) -> 0 | D20: =SMALL($BN$73:$BN$348,17) -> #NUM! | F20: 1717 | G20: ブルーベル | X20: =[2]メンバー表!AE24 -> ブルーム | Y20: 20 | Z20: =[2]メンバー表!AG24 -> 1
C21: =SUMIF($BN$73:$BN$116,D21) -> 0 | D21: =SMALL($BN$73:$BN$348,18) -> #NUM! | F21: 1811 | G21: プリムローズ | X21: =[2]メンバー表!AE25 -> ディジー | Y21: 21 | Z21: =[2]メンバー表!AG25 -> 1
C22: =SUMIF($BN$73:$BN$116,D22) -> 0 | D22: =SMALL($BN$73:$BN$348,19) -> #NUM! | F22: 1913 | G22: VIPルーム | X22: =[2]メンバー表!AE26 -> ミント | Y22: 22 | Z22: =[2]メンバー表!AG26 -> 1
C23: =SUMIF($BN$73:$BN$116,D23) -> 0 | D23: =SMALL($BN$73:$BN$348,20) -> #NUM! | F23: 2027 | G23: ブルーム | X23: =[2]メンバー表!AE27 -> レモングラス | Y23: 23 | Z23: =[2]メンバー表!AG27 -> 1
C24: =SUMIF($BN$73:$BN$116,D24) -> 0 | D24: =SMALL($BN$73:$BN$348,21) -> #NUM! | F24: 2121 | G24: ディジー | X24: =[2]メンバー表!AE28 -> ローズマリー① | Y24: 24 | Z24: =[2]メンバー表!AG28 -> 1
C25: =SUMIF($BN$73:$BN$116,D25) -> 0 | D25: =SMALL($BN$73:$BN$348,22) -> #NUM! | F25: 2227 | G25: ミント | X25: =[2]メンバー表!AE29 -> ローズマリー② | Y25: 25 | Z25: =[2]メンバー表!AG29 -> 1
C26: =SUMIF($BN$73:$BN$116,D26) -> 0 | D26: =SMALL($BN$73:$BN$348,23) -> #NUM! | F26: 2323 | G26: レモングラス | X26: =[2]メンバー表!AE30 -> カモミール① | Y26: 26 | Z26: =[2]メンバー表!AG30 -> 1
C27: =SUMIF($BN$73:$BN$116,D27) -> 0 | D27: =SMALL($BN$73:$BN$348,24) -> #NUM! | F27: 2424 | G27: ローズマリー① | X27: =[2]メンバー表!AE31 -> カモミール② | Y27: 27 | Z27: =[2]メンバー表!AG31 -> 1
C28: =SUMIF($BN$73:$BN$116,D28) -> 0 | D28: =SMALL($BN$73:$BN$348,25) -> #NUM! | F28: 2525 | G28: ローズマリー② | X28: =[2]メンバー表!AE32 -> タイム① | Y28: 28 | Z28: =[2]メンバー表!AG32 -> 1
C29: =SUMIF($BN$73:$BN$116,D29) -> 0 | D29: =SMALL($BN$73:$BN$348,26) -> #NUM! | F29: 2626 | G29: カモミール① | X29: =[2]メンバー表!AE33 -> タイム② | Y29: 29 | Z29: =[2]メンバー表!AG33 -> 1
C30: =SUMIF($BN$73:$BN$116,D30) -> 0 | D30: =SMALL($BN$73:$BN$348,27) -> #NUM! | F30: 2727 | G30: カモミール② | X30: =[2]メンバー表!AE34 -> オレガノ | Y30: 30 | Z30: =[2]メンバー表!AG34 -> 1
C31: =SUMIF($BN$73:$BN$116,D31) -> 0 | D31: =SMALL($BN$73:$BN$348,28) -> #NUM! | F31: 2828 | G31: タイム① | X31: =[2]メンバー表!AE35 -> フェンネル | Y31: 31 | Z31: =[2]メンバー表!AG35 -> 1
C32: =SUMIF($BN$73:$BN$116,D32) -> 0 | D32: =IF(E31>10,IF(E30>10,IF(E29>10,IF(E28>10,SMALL($BK$73:$BK$348,3),SMALL($BK$73:$BK$348,4)),SMALL($BK$73:$BK$348,5)),SMALL($BK$73:$BK$348,5)),IF(E30<10,IF(E29<10,IF(E28<10,SMALL($BK$73:$BK$348,6),SMALL($BK$73:$BK$348,5)),SMALL($BK$73:$BK$348,5)),SMALL($BK$73:$BK$348,4))) -> 0 | F32: 2929 | G32: タイム② | X32: =[2]メンバー表!AE36 -> B Q | Y32: 32 | Z32: =[2]メンバー表!AG36 -> 1
C33: =SUMIF($BN$73:$BN$116,D33) -> 0 | D33: =IF(E32>10,IF(E31>10,IF(E30>10,IF(E29>10,SMALL($BK$73:$BK$348,3),SMALL($BK$73:$BK$348,4)),SMALL($BK$73:$BK$348,5)),SMALL($BK$73:$BK$348,5)),IF(E31<10,IF(E30<10,IF(E29<10,SMALL($BK$73:$BK$348,6),SMALL($BK$73:$BK$348,5)),SMALL($BK$73:$BK$348,5)),SMALL($BK$73:$BK$348,4))) -> 0 | F33: 3030 | G33: オレガノ | X33: =[2]メンバー表!AE37 -> B Q. | Y33: 33 | Z33: =[2]メンバー表!AG37 -> 1 | AP33: =SUMIF($AM$45:$AM$293,AL33,$Y$45:$Y$293) -> 0
F34: 3131 | G34: フェンネル | X34: =[2]メンバー表!AE38 -> 随 縁 亭 | Y34: 34 | Z34: =[2]メンバー表!AG38 -> 1
F35: 3232 | X35: =[2]メンバー表!AE39 -> エスカーレ | Y35: 35 | Z35: =[2]メンバー表!AG39 -> 1
F36: 3333 | X36: =[2]メンバー表!AE40 -> 神 戸 | Y36: 36 | Z36: =[2]メンバー表!AG40 -> 1
F37: 3434 | M37: =COUNTIF($Q$35:$Q$37,$O$37) -> 1 | O37: 1 | P37: =COUNTIF($Q$37:$AC$37,$O$37) -> 4 | Q37: =IF($O$42=0,"",IF($O$42<=25,"1","")) -> 1 | R37: =IF($M$71=0,"",IF($M$71<=6,"1","")) -> 1 | S37: =IF($M$99=0,"",IF($M$99<=6,"1","")) -> 1 | T37: =IF($M$127=0,"",IF($M$127<=6,"1","")) -> 1 | U37: =IF($M$155=0,"",IF($M$155<=6,"1","")) | V37: =IF($M$183=0,"",IF($M$183<=6,"1","")) | W37: =IF($M$211=0,"",IF($M$211<=6,"1","")) | X37: =IF($M$239=0,"",IF($M$239<=6,"1","")) | Y37: =IF($M$267=0,"",IF($M$267<=6,"1",""))
P38: =COUNTIF($Q$37:$AC$37,$O$37)+SUM($R$38:$AC$38) -> 4 | R38: =IF($M71="","",IF($M71>=6,1,"")) | S38: =IF($M99="","",IF($M99>=6,1,"")) | T38: =IF($M127="","",IF($M127>=6,1,"")) | U38: =IF($M155="","",IF($M155>=6,1,"")) | V38: =IF($M183="","",IF($M183>=6,1,"")) | W38: =IF($M211="","",IF($M211>=6,1,"")) | X38: =IF($M239="","",IF($M239>=6,1,"")) | Y38: =IF($M267="","",IF($M267>=6,1,""))
AI39: 人数 | AJ39: =COUNT(I45:I69) -> 3
P40: 1 | Q40: =IF(O42>=25,"",COUNT($P$40)) -> 1 | R40: =IF($F$40="","",IF($F$40<=25,"",COUNTIF($Q$35,$O$37))) | AI40: =L42 -> アトモス | AJ40: =AJ39 -> 3 | AK40: =SUM(Y45:Y69) -> 15
...
