Workbook
Name asamoney: #REF!
Name asatime: #REF!
Name rank: [1]メンバー№!$B$369:$C$391
Name timeout: #REF!
Name ｗせｒｆ: #REF!
Name コード: [1]メンバー№!$A$2:$A$200
Name ランク: [1]メンバー№!$C$2:$C$300
Name ランク表: [1]メンバー№!$B$370:$C$391
Name 氏名: [1]メンバー№!$B$2:$B$300

Sheet 変換前
X1: =[2]メンバー表!AE5 -> ウィンダミア | Y1: 1 | Z1: =[2]メンバー表!AG5 -> 1
X2: =[2]メンバー表!AE6 -> グリニッジ | Y2: 2 | Z2: =[2]メンバー表!AG6 -> 1
L3: 人数 | M3: 時間 | P3: =SUM(P4:P14) -> 0 | S3: =SUM(S4:S14) -> 0 | X3: =[2]メンバー表!AE7 -> リッチモンド | Y3: 3 | Z3: =[2]メンバー表!AG7 -> 1
C4: =SUMIF($BN$73:$BN$116,D4) -> 0 | D4: =SMALL($BN$73:$BN$348,1) -> #NUM! | F4: 1 | G4: ウィンダミア | I4: 1 | J4: 宴会 | L4: =SUMIF($AI$40:$AI$293,J4,$AJ$40:$AJ$293) -> 5 | M4: =SUMIF($AI$40:$AI$293,J4,$AK$40:$AK$293) -> 31.5 | N4: △ | O4: 宿泊 | P4: =COUNTIF($AM$45:$AM$348,CONCATENATE(I4,$N$4)) -> 0 | Q4: ○ | R4: 出張 | S4: =COUNTIF($AN$45:$AN$348,CONCATENATE(I4,$Q$4)) -> 0 | T4: SS | U4: =COUNTIF($O$45:$O$348,T4)/2 -> 1 | X4: =[2]メンバー表!AE8 -> 来賓控室 | Y4: 4 | Z4: =[2]メンバー表!AG8 -> 1
C5: =SUMIF($BN$73:$BN$116,D5) -> 0 | D5: =SMALL($BN$73:$BN$348,2) -> #NUM! | F5: 23 | G5: グリニッジ | I5: 2 | J5: アトモス | L5: =SUMIF($AI$40:$AI$293,J5,$AJ$40:$AJ$293) -> 3 | M5: =SUMIF($AI$40:$AI$293,J5,$AK$40:$AK$293) -> 15 | P5: =COUNTIF($AM$45:$AM$348,CONCATENATE(I5,$N$4)) -> 0 | S5: =COUNTIF($AN$45:$AN$348,CONCATENATE(I5,$Q$4)) -> 0 | T5: SSS | U5: =COUNTIF($O$45:$O$348,T5)/3 -> 0 | X5: =[2]メンバー表!AE9 -> 24F親族控室 | Y5: 5 | Z5: =[2]メンバー表!AG9 -> 1
C6: =SUMIF($BN$73:$BN$116,D6) -> 0 | D6: =SMALL($BN$73:$BN$348,3) -> #NUM! | F6: 35 | G6: リッチモンド | I6: 3 | J6: C:GRILL | L6: =SUMIF($AI$40:$AI$293,J6,$AJ$40:$AJ$293) -> 1 | M6: =SUMIF($AI$40:$AI$293,J6,$AK$40:$AK$293) -> 4 | P6: =COUNTIF($AM$45:$AM$348,CONCATENATE(I6,$N$4)) -> 0 | S6: =COUNTIF($AN$45:$AN$348,CONCATENATE(I6,$Q$4)) -> 0 | X6: =[2]メンバー表!AE10 -> アマリー① | Y6: 6 | Z6: =[2]メンバー表!AG10 -> 1
C7: =SUMIF($BN$73:$BN$116,D7) -> 0 | D7: =SMALL($BN$73:$BN$348,4) -> #NUM! | F7: 41 | G7: 来賓控室 | I7: 4 | J7: 40SKY | L7: =SUMIF($AI$40:$AI$293,J7,$AJ$40:$AJ$293) -> 4 | M7: =SUMIF($AI$40:$AI$293,J7,$AK$40:$AK$293) -> 31 | P7: =COUNTIF($AM$45:$AM$348,CONCATENATE(I7,$N$4)) -> 0 | S7: =COUNTIF($AN$45:$AN$348,CONCATENATE(I7,$Q$4)) -> 0 | X7: =[2]メンバー表!AE11 -> アマリー② | Y7: 7 | Z7: =[2]メンバー表!AG11 -> 1
C8: =SUMIF($BN$73:$BN$116,D8) -> 0 | D8: =SMALL($BN$73:$BN$348,5) -> #NUM! | F8: 57 | G8: アマリー① | I8: 5 | J8: フィットネス | L8: =SUMIF($AI$40:$AI$293,J8,$AJ$40:$AJ$293) -> 0 | M8: =SUMIF($AI$40:$AI$293,J8,$AK$40:$AK$293) -> 0 | P8: =COUNTIF($AM$45:$AM$348,CONCATENATE(I8,$N$4)) -> 0 | S8: =COUNTIF($AN$45:$AN$348,CONCATENATE(I8,$Q$4)) -> 0 | X8: =[2]メンバー表!AE12 -> ハートウェル | Y8: 8 | Z8: =[2]メンバー表!AG12 -> 1
C9: =SUMIF($BN$73:$BN$116,D9) -> 0 | D9: =SMALL($BN$73:$BN$348,6) -> #NUM! | F9: 65 | G9: アマリー② | I9: 6 | J9: 蔵 | L9: =SUMIF($AI$40:$AI$293,J9,$AJ$40:$AJ$293) -> 0 | M9: =SUMIF($AI$40:$AI$293,J9,$AK$40:$AK$293) -> 0 | P9: =COUNTIF($AM$45:$AM$348,CONCATENATE(I9,$N$4)) -> 0 | S9: =COUNTIF($AN$45:$AN$348,CONCATENATE(I9,$Q$4)) -> 0 | X9: =[2]メンバー表!AE13 -> ティーラウンジ | Y9: 9 | Z9: =[2]メンバー表!AG13 -> 1
C10: =SUMIF($BN$73:$BN$116,D10) -> 0 | D10: =SMALL($BN$73:$BN$348,7) -> #NUM! | F10: 71 | G10: ハートウェル | I10: 7 | J10: ラウンジ | L10: =SUMIF($AI$40:$AI$293,J10,$AJ$40:$AJ$293) -> 0 | M10: =SUMIF($AI$40:$AI$293,J10,$AK$40:$AK$293) -> 0 | P10: =COUNTIF($AM$45:$AM$348,CONCATENATE(I10,$N$4)) -> 0 | S10: =COUNTIF($AN$45:$AN$348,CONCATENATE(I10,$Q$4)) -> 0 | X10: =[2]メンバー表!AE14 -> 雅 | Y10: 10 | Z10: =[2]メンバー表!AG14 -> 1
C11: =SUMIF($BN$73:$BN$116,D11) -> 0 | D11: =SMALL($BN$73:$BN$348,8) -> #NUM! | F11: 83 | G11: ティーラウンジ | I11: 8 | J11: ベル(GS) | L11: =SUMIF($AI$40:$AI$293,J11,$AJ$40:$AJ$293) -> 0 | M11: =SUMIF($AI$40:$AI$293,J11,$AK$40:$AK$293) -> 0 | P11: =COUNTIF($AM$45:$AM$348,CONCATENATE(I11,$N$4)) -> 0 | S11: =COUNTIF($AN$45:$AN$348,CONCATENATE(I11,$Q$4)) -> 0 | X11: =[2]メンバー表!AE15 -> 翡翠 | Y11: 11 | Z11: =[2]メンバー表!AG15 -> 1
C12: =SUMIF($BN$73:$BN$116,D12) -> 0 | D12: =SMALL($BN$73:$BN$348,9) -> #NUM! | F12: 91 | G12: 雅 | I12: 9 | J12: 有給休暇 | L12: =SUMIF($AI$40:$AI$293,J12,$AJ$40:$AJ$293) -> 0 | M12: =SUMIF($AI$40:$AI$293,J12,$AK$40:$AK$293) -> 0 | P12: =COUNTIF($AM$45:$AM$348,CONCATENATE(I12,$N$4)) -> 0 | S12: =COUNTIF($AN$45:$AN$348,CONCATENATE(I12,$Q$4)) -> 0 | X12: =[2]メンバー表!AE16 -> 瑠璃 | Y12: 12 | Z12: =[2]メンバー表!AG16 -> 1
C13: =SUMIF($BN$73:$BN$116,D13) -> 0 | D13: =SMALL($BN$73:$BN$348,10) -> #NUM! | F13: 109 | G13: 翡翠 | I13: 10 | J13: アエリア | L13: =SUMIF($AI$40:$AI$293,J13,$AJ$40:$AJ$293) -> 0 | M13: =SUMIF($AI$40:$AI$293,J13,$AK$40:$AK$293) -> 0 | P13: =COUNTIF($AM$45:$AM$348,CONCATENATE(I13,$N$4)) -> 0 | S13: =COUNTIF($AN$45:$AN$348,CONCATENATE(I13,$Q$4)) -> 0 | X13: =[2]メンバー表!AE17 -> 伽羅 | Y13: 13 | Z13: =[2]メンバー表!AG17 -> 1
C14: =SUMIF($BN$73:$BN$116,D14) -> 0 | D14: =SMALL($BN$73:$BN$348,11) -> #NUM! | F14: 1131 | G14: 瑠璃 | I14: 12 | J14: 休業補償 | L14: =SUMIF($AI$40:$AI$293,J14,$AJ$40:$AJ$293) -> 0 | M14: =SUMIF($AI$40:$AI$293,J14,$AK$40:$AK$293) -> 0 | P14: =COUNTIF($AM$45:$AM$348,CONCATENATE(I14,$N$4)) -> 0 | S14: =COUNTIF($AN$45:$AN$348,CONCATENATE(I14,$Q$4)) -> 0 | X14: =[2]メンバー表!AE18 -> スノーベリー | Y14: 14 | Z14: =[2]メンバー表!AG18 -> 1
C15: =SUMIF($BN$73:$BN$116,D15) -> 0 | D15: =SMALL($BN$73:$BN$348,12) -> #NUM! | F15: 1215 | G15: 伽羅 | I15: 11 | J15: HR | L15: =SUMIF($AI$40:$AI$293,J15,$AJ$40:$AJ$293) -> 0 | M15: =SUMIF($AI$40:$AI$293,J15,$AK$40:$AK$293) -> 0 | P15: =COUNTIF($AM$45:$AM$348,CONCATENATE(I15,$N$4)) -> 0 | S15: =COUNTIF($AN$45:$AN$348,CONCATENATE(I15,$Q$4)) -> 0 | X15: =[2]メンバー表!AE19 -> ラベンダー | Y15: 15 | Z15: =[2]メンバー表!AG19 -> 1
C16: =SUMIF($BN$73:$BN$116,D16) -> 0 | D16: =SMALL($BN$73:$BN$348,13) -> #NUM! | F16: 1313 | G16: エスカーレ | X16: =[2]メンバー表!AE20 -> ルピナス | Y16: 16 | Z16: =[2]メンバー表!AG20 -> 1
C17: =SUMIF($BN$73:$BN$116,D17) -> 0 | D17: =SMALL($BN$73:$BN$348,14) -> #NUM! | F17: 1411 | G17: スノーベリー | X17: =[2]メンバー表!AE21 -> ブルーベル | Y17: 17 | Z17: =[2]メンバー表!AG21 -> 1
C18: =SUMIF($BN$73:$BN$116,D18) -> 0 | D18: =SMALL($BN$73:$BN$348,15) -> #NUM! | F18: 1515 | G18: ラベンダー | X18: =[2]メンバー表!AE22 -> ブルーベル | Y18: 18 | Z18: =[2]メンバー表!AG22 -> 1
C19: =SUMIF($BN$73:$BN$116,D19) -> 0 | D19: =SMALL($BN$73:$BN$348,16) -> #NUM! | F19: 1617 | G19: ルピナス | X19: =[2]メンバー表!AE23 -> VIPルーム | Y19: 19 | Z19: =[2]メンバー表!AG23 -> 1
C20: =SUMIF($BN$73:$BN$116,D20) -> 0 | D20: =SMALL($BN$73:$BN$348,17) -> #NUM! | F20: 1717 | G20: ブルーベル | X20: =[2]メンバー表!AE24 -> ブルーム | Y20: 20 | Z20: =[2]メンバー表!AG24 -> 1
C21: =SUMIF($BN$73:$BN$116,D21) -> 0 | D21: =SMALL($BN$73:$BN$348,18) -> #NUM! | F21: 1811 | G21: プリムローズ | X21: =[2]メンバー表!AE25 -> ディジー | Y21: 21 | Z21: =[2]メンバー表!AG25 -> 1
C22: =SUMIF($BN$73:$BN$116,D22) -> 0 | D22: =SMALL($BN$73:$BN$348,19) -> #NUM! | F22: 1913 | G22: VIPルーム | X22: =[2]メンバー表!AE26 -> ミント | Y22: 22 | Z22: =[2]メンバー表!AG26 -> 1
C23: =SUMIF($BN$73:$BN$116,D23) -> 0 | D23: =SMALL($BN$73:$BN$348,20) -> #NUM! | F23: 2027 | G23: ブルーム | X23: =[2]メンバー表!AE27 -> レモングラス | Y23: 23 | Z23: =[2]メンバー表!AG27 -> 1
C24: =SUMIF($BN$73:$BN$116,D24) -> 0 | D24: =SMALL($BN$73:$BN$348,21) -> #NUM! | F24: 2121 | G24: ディジー | X24: =[2]メンバー表!AE28 -> ローズマリー① | Y24: 24 | Z24: =[2]メンバー表!AG28 -> 1
C25: =SUMIF($BN$73:$BN$116,D25) -> 0 | D25: =SMALL($BN$73:$BN$348,22) -> #NUM! | F25: 2227 | G25: ミント | X25: =[2]メンバー表!AE29 -> ローズマリー② | Y25: 25 | Z25: =[2]メンバー表!AG29 -> 1
C26: =SUMIF($BN$73:$BN$116,D26) -> 0 | D26: =SMALL($BN$73:$BN$348,23) -> #NUM! | F26: 2323 | G26: レモングラス | X26: =[2]メンバー表!AE30 -> カモミール① | Y26: 26 | Z26: =[2]メンバー表!AG30 -> 1
C27: =SUMIF($BN$73:$BN$116,D27) -> 0 | D27: =SMALL($BN$73:$BN$348,24) -> #NUM! | F27: 2424 | G27: ローズマリー① | X27: =[2]メンバー表!AE31 -> カモミール② | Y27: 27 | Z27: =[2]メンバー表!AG31 -> 1
C28: =SUMIF($BN$73:$BN$116,D28) -> 0 | D28: =SMALL($BN$73:$BN$348,25) -> #NUM! | F28: 2525 | G28: ローズマリー② | X28: =[2]メンバー表!AE32 -> タイム① | Y28: 28 | Z28: =[2]メンバー表!AG32 -> 1
C29: =SUMIF($BN$73:$BN$116,D29) -> 0 | D29: =SMALL($BN$73:$BN$348,26) -> #NUM! | F29: 2626 | G29: カモミール① | X29: =[2]メンバー表!AE33 -> タイム② | Y29: 29 | Z29: =[2]メンバー表!AG33 -> 1
C30: =SUMIF($BN$73:$BN$116,D30) -> 0 | D30: =SMALL($BN$73:$BN$348,27) -> #NUM! | F30: 2727 | G30: カモミール② | X30: =[2]メンバー表!AE34 -> オレガノ | Y30: 30 | Z30: =[2]メンバー表!AG34 -> 1
C31: =SUMIF($BN$73:$BN$116,D31) -> 0 | D31: =SMALL($BN$73:$BN$348,28) -> #NUM! | F31: 2828 | G31: タイム① | X31: =[2]メンバー表!AE35 -> フェンネル | Y31: 31 | Z31: =[2]メンバー表!AG35 -> 1
C32: =SUMIF($BN$73:$BN$116,D32) -> 0 | D32: =IF(E31>10,IF(E30>10,IF(E29>10,IF(E28>10,SMALL($BK$73:$BK$348,3),SMALL($BK$73:$BK$348,4)),SMALL($BK$73:$BK$348,5)),SMALL($BK$73:$BK$348,5)),IF(E30<10,IF(E29<10,IF(E28<10,SMALL($BK$73:$BK$348,6),SMALL($BK$73:$BK$348,5)),SMALL($BK$73:$BK$348,5)),SMALL($BK$73:$BK$348,4))) -> 0 | F32: 2929 | G32: タイム② | X32: =[2]メンバー表!AE36 -> B Q | Y32: 32 | Z32: =[2]メンバー表!AG36 -> 1
C33: =SUMIF($BN$73:$BN$116,D33) -> 0 | D33: =IF(E32>10,IF(E31>10,IF(E30>10,IF(E29>10,SMALL($BK$73:$BK$348,3),SMALL($BK$73:$BK$348,4)),SMALL($BK$73:$BK$348,5)),SMALL($BK$73:$BK$348,5)),IF(E31<10,IF(E30<10,IF(E29<10,SMALL($BK$73:$BK$348,6),SMALL($BK$73:$BK$348,5)),SMALL($BK$73:$BK$348,5)),SMALL($BK$73:$BK$348,4))) -> 0 | F33: 3030 | G33: オレガノ | X33: =[2]メンバー表!AE37 -> B Q. | Y33: 33 | Z33: =[2]メンバー表!AG37 -> 1 | AP33: =SUMIF($AM$45:$AM$293,AL33,$Y$45:$Y$293) -> 0
F34: 3131 | G34: フェンネル | X34: =[2]メンバー表!AE38 -> 随 縁 亭 | Y34: 34 | Z34: =[2]メンバー表!AG38 -> 1
F35: 3232 | X35: =[2]メンバー表!AE39 -> エスカーレ | Y35: 35 | Z35: =[2]メンバー表!AG39 -> 1
F36: 3333 | X36: =[2]メンバー表!AE40 -> 神 戸 | Y36: 36 | Z36: =[2]メンバー表!AG40 -> 1
F37: 3434 | M37: =COUNTIF($Q$35:$Q$37,$O$37) -> 1 | O37: 1 | P37: =COUNTIF($Q$37:$AC$37,$O$37) -> 4 | Q37: =IF($O$42=0,"",IF($O$42<=25,"1","")) -> 1 | R37: =IF($M$71=0,"",IF($M$71<=6,"1","")) -> 1 | S37: =IF($M$99=0,"",IF($M$99<=6,"1","")) -> 1 | T37: =IF($M$127=0,"",IF($M$127<=6,"1","")) -> 1 | U37: =IF($M$155=0,"",IF($M$155<=6,"1","")) | V37: =IF($M$183=0,"",IF($M$183<=6,"1","")) | W37: =IF($M$211=0,"",IF($M$211<=6,"1","")) | X37: =IF($M$239=0,"",IF($M$239<=6,"1","")) | Y37: =IF($M$267=0,"",IF($M$267<=6,"1",""))
P38: =COUNTIF($Q$37:$AC$37,$O$37)+SUM($R$38:$AC$38) -> 4 | R38: =IF($M71="","",IF($M71>=6,1,"")) | S38: =IF($M99="","",IF($M99>=6,1,"")) | T38: =IF($M127="","",IF($M127>=6,1,"")) | U38: =IF($M155="","",IF($M155>=6,1,"")) | V38: =IF($M183="","",IF($M183>=6,1,"")) | W38: =IF($M211="","",IF($M211>=6,1,"")) | X38: =IF($M239="","",IF($M239>=6,1,"")) | Y38: =IF($M267="","",IF($M267>=6,1,""))
AI39: 人数 | AJ39: =COUNT(I45:I69) -> 3
P40: 1 | Q40: =IF(O42>=25,"",COUNT($P$40)) -> 1 | R40: =IF($F$40="","",IF($F$40<=25,"",COUNTIF($Q$35,$O$37))) | AI40: =L42 -> アトモス | AJ40: =AJ39 -> 3 | AK40: =SUM(Y45:Y69) -> 15
O41: =O37+O35+L37-1 -> 0 | P41: =IF(M37=1,P37+M37-1,"") -> 4 | Q41: =IF(O42>=25,"",COUNTIF($Q$37:$AH$37,$O$37)) -> 4 | R41: =IF(F40="","",IF($F$40<=25,"",COUNTIF($Q$35:$AH$35,$O$37)))
G42: =SUMIF($X$1:$X$40,L42,$Z$1:$Z$40) -> 0 | L42: アトモス | O42: =IF(L42="","",SUMIF($J$4:$J$32,L42,$I$4:$I$32)) -> 2 | W42: 実働時間 | Y42: 実働 | Z42: 実働労働 | AA42: 早朝 | AB42: 深夜 | AC42: 時間外 | AD42: 早朝割増 | AE42: 深夜割増 | AF42: 時間外
I43: 44896 | N43: 朝食 休憩 | W43: 始業 | X43: 終業 | Y43: 労働 | AG43: 700 | AH43: 賃金
H44: 名前 | I44: コード | J44: ＩＮ | K44: ＯＵＴ | L44: 休憩 | M44: 出張 | P44: 名 前 | S44: フリガナ | U44: ランク | V44: 賃金 | W44: 時間 | X44: 時間 | Y44: 時間 | Z44: 賃金 | AA44: 時間 | AB44: 時間 | AC44: 時間 | AD44: 賃金 | AE44: 賃金 | AF44: 賃金 | AG44: 交通費 | AH44: 総合計 | AM44: =CONCATENATE($F44,$N43) -> 朝食 休憩 | AN44: =CONCATENATE($F44,M44) -> 出張
A45: =IF(I45="","",CONCATENATE(AO45,CONCATENATE(SUMIF($G$4:$G$32,G45,$F$4:$F$32),I45))) -> 1035452 | E45: =IF(G45="","",SUMIF($G$4:$G$32,G45,$F$4:$F$32)) -> 0 | F45: 1 | G45: =CONCATENATE($G$42,F45) -> 01 | H45: =IF(I45="","",VLOOKUP(I45,[3]マスター!$B$2:$C$5000,2,0)) -> 矢野 有香 | I45: 35452 | J45: 8 | K45: 12 | L45: 0 | O45: =IF(J45="","",IF(AV45>2,IF(BG45=3,"ssS",IF(BG45=2,"sSs","Sss")),IF(AV45=2,IF(BG45=3,"sS","Ss"),""))) | P45: =IF(I45="","",VLOOKUP(I45,[3]マスター!$B$2:$C$5000,2,0)) -> 矢野 有香 | Q45: =VLOOKUP(R45,[3]マスター!$B$2:$C$5000,2,0) -> #N/A | R45: =VLOOKUP(S45,[3]マスター!$B$2:$C$5000,2,0) -> #N/A | S45: =IF(I45="","",VLOOKUP(I45,[3]マスター!$B$2:$D$5000,3,0)) -> ヤノ ユカ | U45: =IF(I45="","",VLOOKUP(I45,[3]マスター!$B$2:$L$5000,11,0)) -> F | V45: =IF(I45="","",VLOOKUP(I45,[3]マスター!$B$2:$K$5000,10,0)) -> 1500 | W45: =J45+L45 -> 8 | X45: =K45-N45 -> 12 | Y45: =IF(V45<>"",X45-W45,"") -> 4 | Z45: =IF(V45<>"",V45*Y45,"") -> 6000 | AA45: =IF(V45<>"",IF(W45<7,7-W45,0),"") -> 0 | AB45: =IF(V45<>"",IF(X45>22,X45-22,0),"") -> 0 | AC45: =IF(V45<>"",IF(P45=V45,IF((Y45+Y46)>8,(Y45+Y46)-8),IF(Y45>8,Y45-8,0)),"") -> 0 | AD45: =IF(V45<>"",V45*AA45*0.25,"") -> 0 | AE45: =IF(V45<>"",V45*AB45*0.25,"") -> 0 | AF45: =IF(AC45<>"",V45*0.25*AC45,"") -> 0 | AG45: =IF(I45="","",IF(AV45>2,IF(BG45=3,$AG$42,IF(BG45=2,$AG$42,$AG$43)),IF(AV45=2,IF(BG45=3,$AG$42,$AG$43),$AG$43))) -> 700 | AH45: =IF(V45<>"",Z45+AD45+AE45+AF45,"") -> 6000 | AL45: 1 | AM45: =CONCATENATE($F45,$N45) -> 1 | AN45: =CONCATENATE($F45,$M45) -> 1 | AO45: =COUNTIF($I45:I$72,I45) -> 1 | AP45: =Y45 -> 4 | AQ45: =AH45 -> 6000 | AU45: =IF(I45>1,1,"") -> 1 | AV45: =SUMIF($I$45:$I$348,I45,$AU$45:$AU$348) -> 1 | AW45: 0 | AX45: =IF(AV45<2,0,SUMIF($I46:I$348,I45,$W46:W$348)) -> 0 | AY45: =IF(AV45=2,IF(BG45=2,0,IF(BC45>=8,IF(Y45>8,(8-Y45)+Y45,Y45),IF(BC45+Y45<8,0,BC45+Y45-8))),0) -> 0 | AZ45: =IF(BG45=1,0,IF(BG45=2,IF(BH45>8,IF(Y45>8,8-Y45+Y45,Y45),IF(Y45>8,Y45+BH45-8-(Y45-8),IF(BH45+Y45>8,BH45+Y45-8,0))),IF(BG45=3,IF(BC45+BD40>8,IF(Y45>=8,8,Y45),IF(Y45+BC45+BD40>8,Y45+BC45+BD40-8,0)),0))) -> 0 | BA45: =IF(AW45+AX45=0,0,IF(AW45=0,VLOOKUP(I45,I46:$W$348,15,FALSE),VLOOKUP(I45,$I45:$W$45,15,FALSE))) -> 0 | BB45: =IF(BA45>W45,1,0)+IF(BA45>BD45,1,0) -> 0 | BC45: =IF(AW45+AX45=0,0,IF(AW45=0,VLOOKUP(I45,I46:$Y$348,17,FALSE),VLOOKUP(I45,$I$45:$Y45,17,FALSE))) -> 0 | BD45: =IF(AND(AW45>1,AX45>1),AX45,AW45+AX45-BA45) -> 0 | BE45: =IF(BD45>BA45,1,0)+IF(BD45>W45,1,0) -> 0 | BF45: =IF(I45="","",SUMIF($I$45:$I$348,I45,$Y$45:$Y$348)-BC45-Y45) -> 0 | BG45: =IF(AW45+AX45=0,0,IF(BB45+BE45=3,1,IF(BB45+BE45=2,2,3))) -> 0 | BH45: =IF(BE45=2,BC45,BF45) -> 0
A46: =IF(I46="","",CONCATENATE(AO46,CONCATENATE(SUMIF($G$4:$G$32,G46,$F$4:$F$32),I46))) -> 1016706 | E46: =IF(G46="","",SUMIF($G$4:$G$32,G46,$F$4:$F$32)) -> 0 | F46: 2 | G46: =CONCATENATE($G$42,F46) -> 02 | H46: =IF(I46="","",VLOOKUP(I46,[3]マスター!$B$2:$C$5000,2,0)) -> 横山 幸一 | I46: 16706 | J46: 8 | K46: 12 | O46: =IF(J46="","",IF(AV46>2,IF(BG46=3,"ssS",IF(BG46=2,"sSs","Sss")),IF(AV46=2,IF(BG46=3,"sS","Ss"),""))) | P46: =IF(I46="","",VLOOKUP(I46,[3]マスター!$B$2:$C$5000,2,0)) -> 横山 幸一 | Q46: =VLOOKUP(R46,[3]マスター!$B$2:$C$5000,2,0) -> #N/A | R46: =VLOOKUP(S46,[3]マスター!$B$2:$C$5000,2,0) -> #N/A | S46: =IF(I46="","",VLOOKUP(I46,[3]マスター!$B$2:$D$5000,3,0)) -> ヨコヤマ コウイチ | U46: =IF(I46="","",VLOOKUP(I46,[3]マスター!$B$2:$L$5000,11,0)) -> F | V46: =IF(I46="","",VLOOKUP(I46,[3]マスター!$B$2:$K$5000,10,0)) -> 1500 | W46: =J46+L46 -> 8 | X46: =K46-N46 -> 12 | Y46: =IF(V46<>"",X46-W46,"") -> 4 | Z46: =IF(V46<>"",V46*Y46,"") -> 6000 | AA46: =IF(V46<>"",IF(W46<7,7-W46,0),"") -> 0 | AB46: =IF(V46<>"",IF(X46>22,X46-22,0),"") -> 0 | AC46: =IF(V46<>"",IF(P46=V46,IF((Y46+Y47)>8,(Y46+Y47)-8),IF(Y46>8,Y46-8,0)),"") -> 0 | AD46: =IF(V46<>"",V46*AA46*0.25,"") -> 0 | AE46: =IF(V46<>"",V46*AB46*0.25,"") -> 0 | AF46: =IF(AC46<>"",V46*0.25*AC46,"") -> 0 | AG46: =IF(I46="","",IF(AV46>2,IF(BG46=3,$AG$42,IF(BG46=2,$AG$42,$AG$43)),IF(AV46=2,IF(BG46=3,$AG$42,$AG$43),$AG$43))) -> 700 | AH46: =IF(V46<>"",Z46+AD46+AE46+AF46,"") -> 6000 | AL46: 1 | AM46: =CONCATENATE($F46,$N46) -> 2 | AN46: =CONCATENATE($F46,$M46) -> 2 | AO46: =COUNTIF($I46:I$72,I46) -> 1 | AP46: =Y46 -> 4 | AQ46: =AH46 -> 6000 | AU46: =IF(I46>1,1,"") -> 1 | AV46: =SUMIF($I$45:$I$348,I46,$AU$45:$AU$348) -> 1 | AW46: =IF(AV46<1,0,SUMIF($I$44:I45,I46,$W$44:W45)) -> 0 | AX46: =IF(AV46<2,0,SUMIF($I47:I$348,I46,$W47:W$348)) -> 0 | AY46: =IF(AV46=2,IF(BG46=2,0,IF(BC46>=8,IF(Y46>8,(8-Y46)+Y46,Y46),IF(BC46+Y46<8,0,BC46+Y46-8))),0) -> 0 | AZ46: =IF(BG46=1,0,IF(BG46=2,IF(BH46>8,IF(Y46>8,8-Y46+Y46,Y46),IF(Y46>8,Y46+BH46-8-(Y46-8),IF(BH46+Y46>8,BH46+Y46-8,0))),IF(BG46=3,IF(BC46+BD41>8,IF(Y46>=8,8,Y46),IF(Y46+BC46+BD41>8,Y46+BC46+BD41-8,0)),0))) -> 0 | BA46: =IF(AW46+AX46=0,0,IF(AW46=0,VLOOKUP(I46,I47:$W$348,15,FALSE),VLOOKUP(I46,$I$45:$W46,15,FALSE))) -> 0 | BB46: =IF(BA46>W46,1,0)+IF(BA46>BD46,1,0) -> 0 | BC46: =IF(AW46+AX46=0,0,IF(AW46=0,VLOOKUP(I46,I47:$Y$348,17,FALSE),VLOOKUP(I46,$I$45:$Y46,17,FALSE))) -> 0 | BD46: =IF(AND(AW46>1,AX46>1),AX46,AW46+AX46-BA46) -> 0 | BE46: =IF(BD46>BA46,1,0)+IF(BD46>W46,1,0) -> 0 | BF46: =IF(I46="","",SUMIF($I$45:$I$348,I46,$Y$45:$Y$348)-BC46-Y46) -> 0 | BG46: =IF(AW46+AX46=0,0,IF(BB46+BE46=3,1,IF(BB46+BE46=2,2,3))) -> 0 | BH46: =IF(BE46=2,BC46,BF46) -> 0
A47: =IF(I47="","",CONCATENATE(AO47,CONCATENATE(SUMIF($G$4:$G$32,G47,$F$4:$F$32),I47))) -> 1036520 | E47: =IF(G47="","",SUMIF($G$4:$G$32,G47,$F$4:$F$32)) -> 0 | F47: 3 | G47: =CONCATENATE($G$42,F47) -> 03 | H47: =IF(I47="","",VLOOKUP(I47,[3]マスター!$B$2:$C$5000,2,0)) -> 小倉 弥桜 | I47: 36520 | J47: 10 | K47: 18 | L47: 1 | O47: =IF(J47="","",IF(AV47>2,IF(BG47=3,"ssS",IF(BG47=2,"sSs","Sss")),IF(AV47=2,IF(BG47=3,"sS","Ss"),""))) | P47: =IF(I47="","",VLOOKUP(I47,[3]マスター!$B$2:$C$5000,2,0)) -> 小倉 弥桜 | Q47: =VLOOKUP(R47,[3]マスター!$B$2:$C$5000,2,0) -> #N/A | R47: =VLOOKUP(S47,[3]マスター!$B$2:$C$5000,2,0) -> #N/A | S47: =IF(I47="","",VLOOKUP(I47,[3]マスター!$B$2:$D$5000,3,0)) -> オグラ ミオ | U47: =IF(I47="","",VLOOKUP(I47,[3]マスター!$B$2:$L$5000,11,0)) -> D50 | V47: =IF(I47="","",VLOOKUP(I47,[3]マスター!$B$2:$K$5000,10,0)) -> 1350 | W47: =J47+L47 -> 11 | X47: =K47-N47 -> 18 | Y47: =IF(V47<>"",X47-W47,"") -> 7 | Z47: =IF(V47<>"",V47*Y47,"") -> 9450 | AA47: =IF(V47<>"",IF(W47<7,7-W47,0),"") -> 0 | AB47: =IF(V47<>"",IF(X47>22,X47-22,0),"") -> 0 | AC47: =IF(V47<>"",IF(P47=V47,IF((Y47+Y48)>8,(Y47+Y48)-8),IF(Y47>8,Y47-8,0)),"") -> 0 | AD47: =IF(V47<>"",V47*AA47*0.25,"") -> 0 | AE47: =IF(V47<>"",V47*AB47*0.25,"") -> 0 | AF47: =IF(AC47<>"",V47*0.25*AC47,"") -> 0 | AG47: =IF(I47="","",IF(AV47>2,IF(BG47=3,$AG$42,IF(BG47=2,$AG$42,$AG$43)),IF(AV47=2,IF(BG47=3,$AG$42,$AG$43),$AG$43))) -> 700 | AH47: =IF(V47<>"",Z47+AD47+AE47+AF47,"") -> 9450 | AL47: 1 | AM47: =CONCATENATE($F47,$N47) -> 3 | AN47: =CONCATENATE($F47,$M47) -> 3 | AO47: =COUNTIF($I47:I$72,I47) -> 1 | AP47: =Y47 -> 7 | AQ47: =AH47 -> 9450 | AU47: =IF(I47>1,1,"") -> 1 | AV47: =SUMIF($I$45:$I$348,I47,$AU$45:$AU$348) -> 1 | AW47: =IF(AV47<1,0,SUMIF($I$44:I46,I47,$W$44:W46)) -> 0 | AX47: =IF(AV47<2,0,SUMIF($I48:I$348,I47,$W48:W$348)) -> 0 | AY47: =IF(AV47=2,IF(BG47=2,0,IF(BC47>=8,IF(Y47>8,(8-Y47)+Y47,Y47),IF(BC47+Y47<8,0,BC47+Y47-8))),0) -> 0 | AZ47: =IF(BG47=1,0,IF(BG47=2,IF(BH47>8,IF(Y47>8,8-Y47+Y47,Y47),IF(Y47>8,Y47+BH47-8-(Y47-8),IF(BH47+Y47>8,BH47+Y47-8,0))),IF(BG47=3,IF(BC47+BD42>8,IF(Y47>=8,8,Y47),IF(Y47+BC47+BD42>8,Y47+BC47+BD42-8,0)),0))) -> 0 | BA47: =IF(AW47+AX47=0,0,IF(AW47=0,VLOOKUP(I47,I48:$W$348,15,FALSE),VLOOKUP(I47,$I$45:$W47,15,FALSE))) -> 0 | BB47: =IF(BA47>W47,1,0)+IF(BA47>BD47,1,0) -> 0 | BC47: =IF(AW47+AX47=0,0,IF(AW47=0,VLOOKUP(I47,I48:$Y$348,17,FALSE),VLOOKUP(I47,$I$45:$Y47,17,FALSE))) -> 0 | BD47: =IF(AND(AW47>1,AX47>1),AX47,AW47+AX47-BA47) -> 0 | BE47: =IF(BD47>BA47,1,0)+IF(BD47>W47,1,0) -> 0 | BF47: =IF(I47="","",SUMIF($I$45:$I$348,I47,$Y$45:$Y$348)-BC47-Y47) -> 0 | BG47: =IF(AW47+AX47=0,0,IF(BB47+BE47=3,1,IF(BB47+BE47=2,2,3))) -> 0 | BH47: =IF(BE47=2,BC47,BF47) -> 0
A48: =IF(I48="","",CONCATENATE(AO48,CONCATENATE(SUMIF($G$4:$G$32,G48,$F$4:$F$32),I48))) | E48: =IF(G48="","",SUMIF($G$4:$G$32,G48,$F$4:$F$32)) -> 0 | F48: 4 | G48: =CONCATENATE($G$42,F48) -> 04 | H48: =IF(I48="","",VLOOKUP(I48,[3]マスター!$B$2:$C$5000,2,0)) | O48: =IF(J48="","",IF(AV48>2,IF(BG48=3,"ssS",IF(BG48=2,"sSs","Sss")),IF(AV48=2,IF(BG48=3,"sS","Ss"),""))) | P48: =IF(I48="","",VLOOKUP(I48,[3]マスター!$B$2:$C$5000,2,0)) | Q48: =VLOOKUP(R48,[3]マスター!$B$2:$C$5000,2,0) -> #N/A | R48: =VLOOKUP(S48,[3]マスター!$B$2:$C$5000,2,0) -> #N/A | S48: =IF(I48="","",VLOOKUP(I48,[3]マスター!$B$2:$D$5000,3,0)) | U48: =IF(I48="","",VLOOKUP(I48,[3]マスター!$B$2:$L$5000,11,0)) | V48: =IF(I48="","",VLOOKUP(I48,[3]マスター!$B$2:$K$5000,10,0)) | W48: =J48+L48 -> 0 | X48: =K48-N48 -> 0 | Y48: =IF(V48<>"",X48-W48,"") | Z48: =IF(V48<>"",V48*Y48,"") | AA48: =IF(V48<>"",IF(W48<7,7-W48,0),"") | AB48: =IF(V48<>"",IF(X48>22,X48-22,0),"") | AC48: =IF(V48<>"",IF(P48=V48,IF((Y48+Y49)>8,(Y48+Y49)-8),IF(Y48>8,Y48-8,0)),"") | AD48: =IF(V48<>"",V48*AA48*0.25,"") | AE48: =IF(V48<>"",V48*AB48*0.25,"") | AF48: =IF(AC48<>"",V48*0.25*AC48,"") | AG48: =IF(I48="","",IF(AV48>2,IF(BG48=3,$AG$42,IF(BG48=2,$AG$42,$AG$43)),IF(AV48=2,IF(BG48=3,$AG$42,$AG$43),$AG$43))) | AH48: =IF(V48<>"",Z48+AD48+AE48+AF48,"") | AL48: 1 | AM48: =CONCATENATE($F48,$N48) -> 4 | AN48: =CONCATENATE($F48,$M48) -> 4 | AO48: =COUNTIF($I48:I$72,I48) -> 1 | AP48: =Y48 | AQ48: =AH48 | AU48: =IF(I48>1,1,"") | AV48: =SUMIF($I$45:$I$348,I48,$AU$45:$AU$348) -> 0 | AW48: =IF(AV48<1,0,SUMIF($I$44:I47,I48,$W$44:W47)) -> 0 | AX48: =IF(AV48<2,0,SUMIF($I49:I$348,I48,$W49:W$348)) -> 0 | AY48: =IF(AV48=2,IF(BG48=2,0,IF(BC48>=8,IF(Y48>8,(8-Y48)+Y48,Y48),IF(BC48+Y48<8,0,BC48+Y48-8))),0) -> 0 | AZ48: =IF(BG48=1,0,IF(BG48=2,IF(BH48>8,IF(Y48>8,8-Y48+Y48,Y48),IF(Y48>8,Y48+BH48-8-(Y48-8),IF(BH48+Y48>8,BH48+Y48-8,0))),IF(BG48=3,IF(BC48+BD43>8,IF(Y48>=8,8,Y48),IF(Y48+BC48+BD43>8,Y48+BC48+BD43-8,0)),0))) -> 0 | BA48: =IF(AW48+AX48=0,0,IF(AW48=0,VLOOKUP(I48,I49:$W$348,15,FALSE),VLOOKUP(I48,$I$45:$W48,15,FALSE))) -> 0 | BB48: =IF(BA48>W48,1,0)+IF(BA48>BD48,1,0) -> 0 | BC48: =IF(AW48+AX48=0,0,IF(AW48=0,VLOOKUP(I48,I49:$Y$348,17,FALSE),VLOOKUP(I48,$I$45:$Y48,17,FALSE))) -> 0 | BD48: =IF(AND(AW48>1,AX48>1),AX48,AW48+AX48-BA48) -> 0 | BE48: =IF(BD48>BA48,1,0)+IF(BD48>W48,1,0) -> 0 | BF48: =IF(I48="","",SUMIF($I$45:$I$348,I48,$Y$45:$Y$348)-BC48-Y48) | BG48: =IF(AW48+AX48=0,0,IF(BB48+BE48=3,1,IF(BB48+BE48=2,2,3))) -> 0 | BH48: =IF(BE48=2,BC48,BF48)
A49: =IF(I49="","",CONCATENATE(AO49,CONCATENATE(SUMIF($G$4:$G$32,G49,$F$4:$F$32),I49))) | E49: =IF(G49="","",SUMIF($G$4:$G$32,G49,$F$4:$F$32)) -> 0 | F49: 5 | G49: =CONCATENATE($G$42,F49) -> 05 | H49: =IF(I49="","",VLOOKUP(I49,[3]マスター!$B$2:$C$5000,2,0)) | O49: =IF(J49="","",IF(AV49>2,IF(BG49=3,"ssS",IF(BG49=2,"sSs","Sss")),IF(AV49=2,IF(BG49=3,"sS","Ss"),""))) | P49: =IF(I49="","",VLOOKUP(I49,[3]マスター!$B$2:$C$5000,2,0)) | Q49: =VLOOKUP(R49,[3]マスター!$B$2:$C$5000,2,0) -> #N/A | R49: =VLOOKUP(S49,[3]マスター!$B$2:$C$5000,2,0) -> #N/A | S49: =IF(I49="","",VLOOKUP(I49,[3]マスター!$B$2:$D$5000,3,0)) | U49: =IF(I49="","",VLOOKUP(I49,[3]マスター!$B$2:$L$5000,11,0)) | V49: =IF(I49="","",VLOOKUP(I49,[3]マスター!$B$2:$K$5000,10,0)) | W49: =J49+L49 -> 0 | X49: =K49-N49 -> 0 | Y49: =IF(V49<>"",X49-W49,"") | Z49: =IF(V49<>"",V49*Y49,"") | AA49: =IF(V49<>"",IF(W49<7,7-W49,0),"") | AB49: =IF(V49<>"",IF(X49>22,X49-22,0),"") | AC49: =IF(V49<>"",IF(P49=V49,IF((Y49+Y50)>8,(Y49+Y50)-8),IF(Y49>8,Y49-8,0)),"") | AD49: =IF(V49<>"",V49*AA49*0.25,"") | AE49: =IF(V49<>"",V49*AB49*0.25,"") | AF49: =IF(AC49<>"",V49*0.25*AC49,"") | AG49: =IF(I49="","",IF(AV49>2,IF(BG49=3,$AG$42,IF(BG49=2,$AG$42,$AG$43)),IF(AV49=2,IF(BG49=3,$AG$42,$AG$43),$AG$43))) | AH49: =IF(V49<>"",Z49+AD49+AE49+AF49,"") | AL49: 1 | AM49: =CONCATENATE($F49,$N49) -> 5 | AN49: =CONCATENATE($F49,$M49) -> 5 | AO49: =COUNTIF($I49:I$72,I49) -> 1 | AP49: =Y49 | AQ49: =AH49 | AU49: =IF(I49>1,1,"") | AV49: =SUMIF($I$45:$I$348,I49,$AU$45:$AU$348) -> 0 | AW49: =IF(AV49<1,0,SUMIF($I$44:I48,I49,$W$44:W48)) -> 0 | AX49: =IF(AV49<2,0,SUMIF($I50:I$348,I49,$W50:W$348)) -> 0 | AY49: =IF(AV49=2,IF(BG49=2,0,IF(BC49>=8,IF(Y49>8,(8-Y49)+Y49,Y49),IF(BC49+Y49<8,0,BC49+Y49-8))),0) -> 0 | AZ49: =IF(BG49=1,0,IF(BG49=2,IF(BH49>8,IF(Y49>8,8-Y49+Y49,Y49),IF(Y49>8,Y49+BH49-8-(Y49-8),IF(BH49+Y49>8,BH49+Y49-8,0))),IF(BG49=3,IF(BC49+BD44>8,IF(Y49>=8,8,Y49),IF(Y49+BC49+BD44>8,Y49+BC49+BD44-8,0)),0))) -> 0 | BA49: =IF(AW49+AX49=0,0,IF(AW49=0,VLOOKUP(I49,I50:$W$348,15,FALSE),VLOOKUP(I49,$I$45:$W49,15,FALSE))) -> 0 | BB49: =IF(BA49>W49,1,0)+IF(BA49>BD49,1,0) -> 0 | BC49: =IF(AW49+AX49=0,0,IF(AW49=0,VLOOKUP(I49,I50:$Y$348,17,FALSE),VLOOKUP(I49,$I$45:$Y49,17,FALSE))) -> 0 | BD49: =IF(AND(AW49>1,AX49>1),AX49,AW49+AX49-BA49) -> 0 | BE49: =IF(BD49>BA49,1,0)+IF(BD49>W49,1,0) -> 0 | BF49: =IF(I49="","",SUMIF($I$45:$I$348,I49,$Y$45:$Y$348)-BC49-Y49) | BG49: =IF(AW49+AX49=0,0,IF(BB49+BE49=3,1,IF(BB49+BE49=2,2,3))) -> 0 | BH49: =IF(BE49=2,BC49,BF49)
A50: =IF(I50="","",CONCATENATE(AO50,CONCATENATE(SUMIF($G$4:$G$32,G50,$F$4:$F$32),I50))) | E50: =IF(G50="","",SUMIF($G$4:$G$32,G50,$F$4:$F$32)) -> 0 | F50: 6 | G50: =CONCATENATE($G$42,F50) -> 06 | H50: =IF(I50="","",VLOOKUP(I50,[3]マスター!$B$2:$C$5000,2,0)) | O50: =IF(J50="","",IF(AV50>2,IF(BG50=3,"ssS",IF(BG50=2,"sSs","Sss")),IF(AV50=2,IF(BG50=3,"sS","Ss"),""))) | P50: =IF(I50="","",VLOOKUP(I50,[3]マスター!$B$2:$C$5000,2,0)) | Q50: =VLOOKUP(R50,[3]マスター!$B$2:$C$5000,2,0) -> #N/A | R50: =VLOOKUP(S50,[3]マスター!$B$2:$C$5000,2,0) -> #N/A | S50: =IF(I50="","",VLOOKUP(I50,[3]マスター!$B$2:$D$5000,3,0)) | U50: =IF(I50="","",VLOOKUP(I50,[3]マスター!$B$2:$L$5000,11,0)) | V50: =IF(I50="","",VLOOKUP(I50,[3]マスター!$B$2:$K$5000,10,0)) | W50: =J50+L50 -> 0 | X50: =K50-N50 -> 0 | Y50: =IF(V50<>"",X50-W50,"") | Z50: =IF(V50<>"",V50*Y50,"") | AA50: =IF(V50<>"",IF(W50<7,7-W50,0),"") | AB50: =IF(V50<>"",IF(X50>22,X50-22,0),"") | AC50: =IF(V50<>"",IF(P50=V50,IF((Y50+Y51)>8,(Y50+Y51)-8),IF(Y50>8,Y50-8,0)),"") | AD50: =IF(V50<>"",V50*AA50*0.25,"") | AE50: =IF(V50<>"",V50*AB50*0.25,"") | AF50: =IF(AC50<>"",V50*0.25*AC50,"") | AG50: =IF(I50="","",IF(AV50>2,IF(BG50=3,$AG$42,IF(BG50=2,$AG$42,$AG$43)),IF(AV50=2,IF(BG50=3,$AG$42,$AG$43),$AG$43))) | AH50: =IF(V50<>"",Z50+AD50+AE50+AF50,"") | AL50: 1 | AM50: =CONCATENATE($F50,$N50) -> 6 | AN50: =CONCATENATE($F50,$M50) -> 6 | AO50: =COUNTIF($I50:I$72,I50) -> 1 | AP50: =Y50 | AQ50: =AH50 | AU50: =IF(I50>1,1,"") | AV50: =SUMIF($I$45:$I$348,I50,$AU$45:$AU$348) -> 0 | AW50: =IF(AV50<1,0,SUMIF($I$44:I49,I50,$W$44:W49)) -> 0 | AX50: =IF(AV50<2,0,SUMIF($I51:I$348,I50,$W51:W$348)) -> 0 | AY50: =IF(AV50=2,IF(BG50=2,0,IF(BC50>=8,IF(Y50>8,(8-Y50)+Y50,Y50),IF(BC50+Y50<8,0,BC50+Y50-8))),0) -> 0 | AZ50: =IF(BG50=1,0,IF(BG50=2,IF(BH50>8,IF(Y50>8,8-Y50+Y50,Y50),IF(Y50>8,Y50+BH50-8-(Y50-8),IF(BH50+Y50>8,BH50+Y50-8,0))),IF(BG50=3,IF(BC50+BD45>8,IF(Y50>=8,8,Y50),IF(Y50+BC50+BD45>8,Y50+BC50+BD45-8,0)),0))) -> 0 | BA50: =IF(AW50+AX50=0,0,IF(AW50=0,VLOOKUP(I50,I51:$W$348,15,FALSE),VLOOKUP(I50,$I$45:$W50,15,FALSE))) -> 0 | BB50: =IF(BA50>W50,1,0)+IF(BA50>BD50,1,0) -> 0 | BC50: =IF(AW50+AX50=0,0,IF(AW50=0,VLOOKUP(I50,I51:$Y$348,17,FALSE),VLOOKUP(I50,$I$45:$Y50,17,FALSE))) -> 0 | BD50: =IF(AND(AW50>1,AX50>1),AX50,AW50+AX50-BA50) -> 0 | BE50: =IF(BD50>BA50,1,0)+IF(BD50>W50,1,0) -> 0 | BF50: =IF(I50="","",SUMIF($I$45:$I$348,I50,$Y$45:$Y$348)-BC50-Y50) | BG50: =IF(AW50+AX50=0,0,IF(BB50+BE50=3,1,IF(BB50+BE50=2,2,3))) -> 0 | BH50: =IF(BE50=2,BC50,BF50)
A51: =IF(I51="","",CONCATENATE(AO51,CONCATENATE(SUMIF($G$4:$G$32,G51,$F$4:$F$32),I51))) | E51: =IF(G51="","",SUMIF($G$4:$G$32,G51,$F$4:$F$32)) -> 0 | F51: 7 | G51: =CONCATENATE($G$42,F51) -> 07 | H51: =IF(I51="","",VLOOKUP(I51,[3]マスター!$B$2:$C$5000,2,0)) | O51: =IF(J51="","",IF(AV51>2,IF(BG51=3,"ssS",IF(BG51=2,"sSs","Sss")),IF(AV51=2,IF(BG51=3,"sS","Ss"),""))) | P51: =IF(I51="","",VLOOKUP(I51,[3]マスター!$B$2:$C$5000,2,0)) | Q51: =VLOOKUP(R51,[3]マスター!$B$2:$C$5000,2,0) -> #N/A | R51: =VLOOKUP(S51,[3]マスター!$B$2:$C$5000,2,0) -> #N/A | S51: =IF(I51="","",VLOOKUP(I51,[3]マスター!$B$2:$D$5000,3,0)) | U51: =IF(I51="","",VLOOKUP(I51,[3]マスター!$B$2:$L$5000,11,0)) | V51: =IF(I51="","",VLOOKUP(I51,[3]マスター!$B$2:$K$5000,10,0)) | W51: =J51+L51 -> 0 | X51: =K51-N51 -> 0 | Y51: =IF(V51<>"",X51-W51,"") | Z51: =IF(V51<>"",V51*Y51,"") | AA51: =IF(V51<>"",IF(W51<7,7-W51,0),"") | AB51: =IF(V51<>"",IF(X51>22,X51-22,0),"") | AC51: =IF(V51<>"",IF(P51=V51,IF((Y51+Y52)>8,(Y51+Y52)-8),IF(Y51>8,Y51-8,0)),"") | AD51: =IF(V51<>"",V51*AA51*0.25,"") | AE51: =IF(V51<>"",V51*AB51*0.25,"") | AF51: =IF(AC51<>"",V51*0.25*AC51,"") | AG51: =IF(I51="","",IF(AV51>2,IF(BG51=3,$AG$42,IF(BG51=2,$AG$42,$AG$43)),IF(AV51=2,IF(BG51=3,$AG$42,$AG$43),$AG$43))) | AH51: =IF(V51<>"",Z51+AD51+AE51+AF51,"") | AL51: 1 | AM51: =CONCATENATE($F51,$N51) -> 7 | AN51: =CONCATENATE($F51,$M51) -> 7 | AO51: =COUNTIF($I51:I$72,I51) -> 1 | AP51: =Y51 | AQ51: =AH51 | AU51: =IF(I51>1,1,"") | AV51: =SUMIF($I$45:$I$348,I51,$AU$45:$AU$348) -> 0 | AW51: =IF(AV51<1,0,SUMIF($I$44:I50,I51,$W$44:W50)) -> 0 | AX51: =IF(AV51<2,0,SUMIF($I52:I$348,I51,$W52:W$348)) -> 0 | AY51: =IF(AV51=2,IF(BG51=2,0,IF(BC51>=8,IF(Y51>8,(8-Y51)+Y51,Y51),IF(BC51+Y51<8,0,BC51+Y51-8))),0) -> 0 | AZ51: =IF(BG51=1,0,IF(BG51=2,IF(BH51>8,IF(Y51>8,8-Y51+Y51,Y51),IF(Y51>8,Y51+BH51-8-(Y51-8),IF(BH51+Y51>8,BH51+Y51-8,0))),IF(BG51=3,IF(BC51+BD46>8,IF(Y51>=8,8,Y51),IF(Y51+BC51+BD46>8,Y51+BC51+BD46-8,0)),0))) -> 0 | BA51: =IF(AW51+AX51=0,0,IF(AW51=0,VLOOKUP(I51,I52:$W$348,15,FALSE),VLOOKUP(I51,$I$45:$W51,15,FALSE))) -> 0 | BB51: =IF(BA51>W51,1,0)+IF(BA51>BD51,1,0) -> 0 | BC51: =IF(AW51+AX51=0,0,IF(AW51=0,VLOOKUP(I51,I52:$Y$348,17,FALSE),VLOOKUP(I51,$I$45:$Y51,17,FALSE))) -> 0 | BD51: =IF(AND(AW51>1,AX51>1),AX51,AW51+AX51-BA51) -> 0 | BE51: =IF(BD51>BA51,1,0)+IF(BD51>W51,1,0) -> 0 | BF51: =IF(I51="","",SUMIF($I$45:$I$348,I51,$Y$45:$Y$348)-BC51-Y51) | BG51: =IF(AW51+AX51=0,0,IF(BB51+BE51=3,1,IF(BB51+BE51=2,2,3))) -> 0 | BH51: =IF(BE51=2,BC51,BF51)
A52: =IF(I52="","",CONCATENATE(AO52,CONCATENATE(SUMIF($G$4:$G$32,G52,$F$4:$F$32),I52))) | E52: =IF(G52="","",SUMIF($G$4:$G$32,G52,$F$4:$F$32)) -> 0 | F52: 8 | G52: =CONCATENATE($G$42,F52) -> 08 | H52: =IF(I52="","",VLOOKUP(I52,[3]マスター!$B$2:$C$5000,2,0)) | O52: =IF(J52="","",IF(AV52>2,IF(BG52=3,"ssS",IF(BG52=2,"sSs","Sss")),IF(AV52=2,IF(BG52=3,"sS","Ss"),""))) | P52: =IF(I52="","",VLOOKUP(I52,[3]マスター!$B$2:$C$5000,2,0)) | Q52: =VLOOKUP(R52,[3]マスター!$B$2:$C$5000,2,0) -> #N/A | R52: =VLOOKUP(S52,[3]マスター!$B$2:$C$5000,2,0) -> #N/A | S52: =IF(I52="","",VLOOKUP(I52,[3]マスター!$B$2:$D$5000,3,0)) | U52: =IF(I52="","",VLOOKUP(I52,[3]マスター!$B$2:$L$5000,11,0)) | V52: =IF(I52="","",VLOOKUP(I52,[3]マスター!$B$2:$K$5000,10,0)) | W52: =J52+L52 -> 0 | X52: =K52-N52 -> 0 | Y52: =IF(V52<>"",X52-W52,"") | Z52: =IF(V52<>"",V52*Y52,"") | AA52: =IF(V52<>"",IF(W52<7,7-W52,0),"") | AB52: =IF(V52<>"",IF(X52>22,X52-22,0),"") | AC52: =IF(V52<>"",IF(P52=V52,IF((Y52+Y53)>8,(Y52+Y53)-8),IF(Y52>8,Y52-8,0)),"") | AD52: =IF(V52<>"",V52*AA52*0.25,"") | AE52: =IF(V52<>"",V52*AB52*0.25,"") | AF52: =IF(AC52<>"",V52*0.25*AC52,"") | AG52: =IF(I52="","",IF(AV52>2,IF(BG52=3,$AG$42,IF(BG52=2,$AG$42,$AG$43)),IF(AV52=2,IF(BG52=3,$AG$42,$AG$43),$AG$43))) | AH52: =IF(V52<>"",Z52+AD52+AE52+AF52,"") | AL52: 1 | AM52: =CONCATENATE($F52,$N52) -> 8 | AN52: =CONCATENATE($F52,$M52) -> 8 | AO52: =COUNTIF($I52:I$72,I52) -> 1 | AP52: =Y52 | AQ52: =AH52 | AU52: =IF(I52>1,1,"") | AV52: =SUMIF($I$45:$I$348,I52,$AU$45:$AU$348) -> 0 | AW52: =IF(AV52<1,0,SUMIF($I$44:I51,I52,$W$44:W51)) -> 0 | AX52: =IF(AV52<2,0,SUMIF($I53:I$348,I52,$W53:W$348)) -> 0 | AY52: =IF(AV52=2,IF(BG52=2,0,IF(BC52>=8,IF(Y52>8,(8-Y52)+Y52,Y52),IF(BC52+Y52<8,0,BC52+Y52-8))),0) -> 0 | AZ52: =IF(BG52=1,0,IF(BG52=2,IF(BH52>8,IF(Y52>8,8-Y52+Y52,Y52),IF(Y52>8,Y52+BH52-8-(Y52-8),IF(BH52+Y52>8,BH52+Y52-8,0))),IF(BG52=3,IF(BC52+BD47>8,IF(Y52>=8,8,Y52),IF(Y52+BC52+BD47>8,Y52+BC52+BD47-8,0)),0))) -> 0 | BA52: =IF(AW52+AX52=0,0,IF(AW52=0,VLOOKUP(I52,I53:$W$348,15,FALSE),VLOOKUP(I52,$I$45:$W52,15,FALSE))) -> 0 | BB52: =IF(BA52>W52,1,0)+IF(BA52>BD52,1,0) -> 0 | BC52: =IF(AW52+AX52=0,0,IF(AW52=0,VLOOKUP(I52,I53:$Y$348,17,FALSE),VLOOKUP(I52,$I$45:$Y52,17,FALSE))) -> 0 | BD52: =IF(AND(AW52>1,AX52>1),AX52,AW52+AX52-BA52) -> 0 | BE52: =IF(BD52>BA52,1,0)+IF(BD52>W52,1,0) -> 0 | BF52: =IF(I52="","",SUMIF($I$45:$I$348,I52,$Y$45:$Y$348)-BC52-Y52) | BG52: =IF(AW52+AX52=0,0,IF(BB52+BE52=3,1,IF(BB52+BE52=2,2,3))) -> 0 | BH52: =IF(BE52=2,BC52,BF52)
A53: =IF(I53="","",CONCATENATE(AO53,CONCATENATE(SUMIF($G$4:$G$32,G53,$F$4:$F$32),I53))) | E53: =IF(G53="","",SUMIF($G$4:$G$32,G53,$F$4:$F$32)) -> 0 | F53: 9 | G53: =CONCATENATE($G$42,F53) -> 09 | H53: =IF(I53="","",VLOOKUP(I53,[3]マスター!$B$2:$C$5000,2,0)) | O53: =IF(J53="","",IF(AV53>2,IF(BG53=3,"ssS",IF(BG53=2,"sSs","Sss")),IF(AV53=2,IF(BG53=3,"sS","Ss"),""))) | P53: =IF(I53="","",VLOOKUP(I53,[3]マスター!$B$2:$C$5000,2,0)) | Q53: =VLOOKUP(R53,[3]マスター!$B$2:$C$5000,2,0) -> #N/A | R53: =VLOOKUP(S53,[3]マスター!$B$2:$C$5000,2,0) -> #N/A | S53: =IF(I53="","",VLOOKUP(I53,[3]マスター!$B$2:$D$5000,3,0)) | U53: =IF(I53="","",VLOOKUP(I53,[3]マスター!$B$2:$L$5000,11,0)) | V53: =IF(I53="","",VLOOKUP(I53,[3]マスター!$B$2:$K$5000,10,0)) | W53: =J53+L53 -> 0 | X53: =K53-N53 -> 0 | Y53: =IF(V53<>"",X53-W53,"") | Z53: =IF(V53<>"",V53*Y53,"") | AA53: =IF(V53<>"",IF(W53<7,7-W53,0),"") | AB53: =IF(V53<>"",IF(X53>22,X53-22,0),"") | AC53: =IF(V53<>"",IF(P53=V53,IF((Y53+Y54)>8,(Y53+Y54)-8),IF(Y53>8,Y53-8,0)),"") | AD53: =IF(V53<>"",V53*AA53*0.25,"") | AE53: =IF(V53<>"",V53*AB53*0.25,"") | AF53: =IF(AC53<>"",V53*0.25*AC53,"") | AG53: =IF(I53="","",IF(AV53>2,IF(BG53=3,$AG$42,IF(BG53=2,$AG$42,$AG$43)),IF(AV53=2,IF(BG53=3,$AG$42,$AG$43),$AG$43))) | AH53: =IF(V53<>"",Z53+AD53+AE53+AF53,"") | AL53: 1 | AM53: =CONCATENATE($F53,$N53) -> 9 | AN53: =CONCATENATE($F53,$M53) -> 9 | AO53: =COUNTIF($I53:I$72,I53) -> 1 | AP53: =Y53 | AQ53: =AH53 | AU53: =IF(I53>1,1,"") | AV53: =SUMIF($I$45:$I$348,I53,$AU$45:$AU$348) -> 0 | AW53: =IF(AV53<1,0,SUMIF($I$44:I52,I53,$W$44:W52)) -> 0 | AX53: =IF(AV53<2,0,SUMIF($I54:I$348,I53,$W54:W$348)) -> 0 | AY53: =IF(AV53=2,IF(BG53=2,0,IF(BC53>=8,IF(Y53>8,(8-Y53)+Y53,Y53),IF(BC53+Y53<8,0,BC53+Y53-8))),0) -> 0 | AZ53: =IF(BG53=1,0,IF(BG53=2,IF(BH53>8,IF(Y53>8,8-Y53+Y53,Y53),IF(Y53>8,Y53+BH53-8-(Y53-8),IF(BH53+Y53>8,BH53+Y53-8,0))),IF(BG53=3,IF(BC53+BD48>8,IF(Y53>=8,8,Y53),IF(Y53+BC53+BD48>8,Y53+BC53+BD48-8,0)),0))) -> 0 | BA53: =IF(AW53+AX53=0,0,IF(AW53=0,VLOOKUP(I53,I54:$W$348,15,FALSE),VLOOKUP(I53,$I$45:$W53,15,FALSE))) -> 0 | BB53: =IF(BA53>W53,1,0)+IF(BA53>BD53,1,0) -> 0 | BC53: =IF(AW53+AX53=0,0,IF(AW53=0,VLOOKUP(I53,I54:$Y$348,17,FALSE),VLOOKUP(I53,$I$45:$Y53,17,FALSE))) -> 0 | BD53: =IF(AND(AW53>1,AX53>1),AX53,AW53+AX53-BA53) -> 0 | BE53: =IF(BD53>BA53,1,0)+IF(BD53>W53,1,0) -> 0 | BF53: =IF(I53="","",SUMIF($I$45:$I$348,I53,$Y$45:$Y$348)-BC53-Y53) | BG53: =IF(AW53+AX53=0,0,IF(BB53+BE53=3,1,IF(BB53+BE53=2,2,3))) -> 0 | BH53: =IF(BE53=2,BC53,BF53)
A54: =IF(I54="","",CONCATENATE(AO54,CONCATENATE(SUMIF($G$4:$G$32,G54,$F$4:$F$32),I54))) | E54: =IF(G54="","",SUMIF($G$4:$G$32,G54,$F$4:$F$32)) -> 0 | F54: 10 | G54: =CONCATENATE($G$42,F54) -> 010 | H54: =IF(I54="","",VLOOKUP(I54,[3]マスター!$B$2:$C$5000,2,0)) | O54: =IF(J54="","",IF(AV54>2,IF(BG54=3,"ssS",IF(BG54=2,"sSs","Sss")),IF(AV54=2,IF(BG54=3,"sS","Ss"),""))) | P54: =IF(I54="","",VLOOKUP(I54,[3]マスター!$B$2:$C$5000,2,0)) | Q54: =VLOOKUP(R54,[3]マスター!$B$2:$C$5000,2,0) -> #N/A | R54: =VLOOKUP(S54,[3]マスター!$B$2:$C$5000,2,0) -> #N/A | S54: =IF(I54="","",VLOOKUP(I54,[3]マスター!$B$2:$D$5000,3,0)) | U54: =IF(I54="","",VLOOKUP(I54,[3]マスター!$B$2:$L$5000,11,0)) | V54: =IF(I54="","",VLOOKUP(I54,[3]マスター!$B$2:$K$5000,10,0)) | W54: =J54+L54 -> 0 | X54: =K54-N54 -> 0 | Y54: =IF(V54<>"",X54-W54,"") | Z54: =IF(V54<>"",V54*Y54,"") | AA54: =IF(V54<>"",IF(W54<7,7-W54,0),"") | AB54: =IF(V54<>"",IF(X54>22,X54-22,0),"") | AC54: =IF(V54<>"",IF(P54=V54,IF((Y54+Y55)>8,(Y54+Y55)-8),IF(Y54>8,Y54-8,0)),"") | AD54: =IF(V54<>"",V54*AA54*0.25,"") | AE54: =IF(V54<>"",V54*AB54*0.25,"") | AF54: =IF(AC54<>"",V54*0.25*AC54,"") | AG54: =IF(I54="","",IF(AV54>2,IF(BG54=3,$AG$42,IF(BG54=2,$AG$42,$AG$43)),IF(AV54=2,IF(BG54=3,$AG$42,$AG$43),$AG$43))) | AH54: =IF(V54<>"",Z54+AD54+AE54+AF54,"") | AL54: 1 | AM54: =CONCATENATE($F54,$N54) -> 10 | AN54: =CONCATENATE($F54,$M54) -> 10 | AO54: =COUNTIF($I54:I$72,I54) -> 1 | AP54: =Y54 | AQ54: =AH54 | AU54: =IF(I54>1,1,"") | AV54: =SUMIF($I$45:$I$348,I54,$AU$45:$AU$348) -> 0 | AW54: =IF(AV54<1,0,SUMIF($I$44:I53,I54,$W$44:W53)) -> 0 | AX54: =IF(AV54<2,0,SUMIF($I55:I$348,I54,$W55:W$348)) -> 0 | AY54: =IF(AV54=2,IF(BG54=2,0,IF(BC54>=8,IF(Y54>8,(8-Y54)+Y54,Y54),IF(BC54+Y54<8,0,BC54+Y54-8))),0) -> 0 | AZ54: =IF(BG54=1,0,IF(BG54=2,IF(BH54>8,IF(Y54>8,8-Y54+Y54,Y54),IF(Y54>8,Y54+BH54-8-(Y54-8),IF(BH54+Y54>8,BH54+Y54-8,0))),IF(BG54=3,IF(BC54+BD49>8,IF(Y54>=8,8,Y54),IF(Y54+BC54+BD49>8,Y54+BC54+BD49-8,0)),0))) -> 0 | BA54: =IF(AW54+AX54=0,0,IF(AW54=0,VLOOKUP(I54,I55:$W$348,15,FALSE),VLOOKUP(I54,$I$45:$W54,15,FALSE))) -> 0 | BB54: =IF(BA54>W54,1,0)+IF(BA54>BD54,1,0) -> 0 | BC54: =IF(AW54+AX54=0,0,IF(AW54=0,VLOOKUP(I54,I55:$Y$348,17,FALSE),VLOOKUP(I54,$I$45:$Y54,17,FALSE))) -> 0 | BD54: =IF(AND(AW54>1,AX54>1),AX54,AW54+AX54-BA54) -> 0 | BE54: =IF(BD54>BA54,1,0)+IF(BD54>W54,1,0) -> 0 | BF54: =IF(I54="","",SUMIF($I$45:$I$348,I54,$Y$45:$Y$348)-BC54-Y54) | BG54: =IF(AW54+AX54=0,0,IF(BB54+BE54=3,1,IF(BB54+BE54=2,2,3))) -> 0 | BH54: =IF(BE54=2,BC54,BF54)
A55: =IF(I55="","",CONCATENATE(AO55,CONCATENATE(SUMIF($G$4:$G$32,G55,$F$4:$F$32),I55))) | E55: =IF(G55="","",SUMIF($G$4:$G$32,G55,$F$4:$F$32)) -> 0 | F55: 11 | G55: =CONCATENATE($G$42,F55) -> 011 | H55: =IF(I55="","",VLOOKUP(I55,[3]マスター!$B$2:$C$5000,2,0)) | O55: =IF(J55="","",IF(AV55>2,IF(BG55=3,"ssS",IF(BG55=2,"sSs","Sss")),IF(AV55=2,IF(BG55=3,"sS","Ss"),""))) | P55: =IF(I55="","",VLOOKUP(I55,[3]マスター!$B$2:$C$5000,2,0)) | Q55: =VLOOKUP(R55,[3]マスター!$B$2:$C$5000,2,0) -> #N/A | R55: =VLOOKUP(S55,[3]マスター!$B$2:$C$5000,2,0) -> #N/A | S55: =IF(I55="","",VLOOKUP(I55,[3]マスター!$B$2:$D$5000,3,0)) | U55: =IF(I55="","",VLOOKUP(I55,[3]マスター!$B$2:$L$5000,11,0)) | V55: =IF(I55="","",VLOOKUP(I55,[3]マスター!$B$2:$K$5000,10,0)) | W55: =J55+L55 -> 0 | X55: =K55-N55 -> 0 | Y55: =IF(V55<>"",X55-W55,"") | Z55: =IF(V55<>"",V55*Y55,"") | AA55: =IF(V55<>"",IF(W55<7,7-W55,0),"") | AB55: =IF(V55<>"",IF(X55>22,X55-22,0),"") | AC55: =IF(V55<>"",IF(P55=V55,IF((Y55+Y56)>8,(Y55+Y56)-8),IF(Y55>8,Y55-8,0)),"") | AD55: =IF(V55<>"",V55*AA55*0.25,"") | AE55: =IF(V55<>"",V55*AB55*0.25,"") | AF55: =IF(AC55<>"",V55*0.25*AC55,"") | AG55: =IF(I55="","",IF(AV55>2,IF(BG55=3,$AG$42,IF(BG55=2,$AG$42,$AG$43)),IF(AV55=2,IF(BG55=3,$AG$42,$AG$43),$AG$43))) | AH55: =IF(V55<>"",Z55+AD55+AE55+AF55,"") | AJ55: =AJ54 -> 0 | AL55: 1 | AM55: =CONCATENATE($F55,$N55) -> 11 | AN55: =CONCATENATE($F55,$M55) -> 11 | AO55: =COUNTIF($I55:I$72,I55) -> 1 | AP55: =Y55 | AQ55: =AH55 | AU55: =IF(I55>1,1,"") | AV55: =SUMIF($I$45:$I$348,I55,$AU$45:$AU$348) -> 0 | AW55: =IF(AV55<1,0,SUMIF($I$44:I54,I55,$W$44:W54)) -> 0 | AX55: =IF(AV55<2,0,SUMIF($I56:I$348,I55,$W56:W$348)) -> 0 | AY55: =IF(AV55=2,IF(BG55=2,0,IF(BC55>=8,IF(Y55>8,(8-Y55)+Y55,Y55),IF(BC55+Y55<8,0,BC55+Y55-8))),0) -> 0 | AZ55: =IF(BG55=1,0,IF(BG55=2,IF(BH55>8,IF(Y55>8,8-Y55+Y55,Y55),IF(Y55>8,Y55+BH55-8-(Y55-8),IF(BH55+Y55>8,BH55+Y55-8,0))),IF(BG55=3,IF(BC55+BD50>8,IF(Y55>=8,8,Y55),IF(Y55+BC55+BD50>8,Y55+BC55+BD50-8,0)),0))) -> 0 | BA55: =IF(AW55+AX55=0,0,IF(AW55=0,VLOOKUP(I55,I56:$W$348,15,FALSE),VLOOKUP(I55,$I$45:$W55,15,FALSE))) -> 0 | BB55: =IF(BA55>W55,1,0)+IF(BA55>BD55,1,0) -> 0 | BC55: =IF(AW55+AX55=0,0,IF(AW55=0,VLOOKUP(I55,I56:$Y$348,17,FALSE),VLOOKUP(I55,$I$45:$Y55,17,FALSE))) -> 0 | BD55: =IF(AND(AW55>1,AX55>1),AX55,AW55+AX55-BA55) -> 0 | BE55: =IF(BD55>BA55,1,0)+IF(BD55>W55,1,0) -> 0 | BF55: =IF(I55="","",SUMIF($I$45:$I$348,I55,$Y$45:$Y$348)-BC55-Y55) | BG55: =IF(AW55+AX55=0,0,IF(BB55+BE55=3,1,IF(BB55+BE55=2,2,3))) -> 0 | BH55: =IF(BE55=2,BC55,BF55)
A56: =IF(I56="","",CONCATENATE(AO56,CONCATENATE(SUMIF($G$4:$G$32,G56,$F$4:$F$32),I56))) | E56: =IF(G56="","",SUMIF($G$4:$G$32,G56,$F$4:$F$32)) -> 0 | F56: 12 | G56: =CONCATENATE($G$42,F56) -> 012 | H56: =IF(I56="","",VLOOKUP(I56,[3]マスター!$B$2:$C$5000,2,0)) | O56: =IF(J56="","",IF(AV56>2,IF(BG56=3,"ssS",IF(BG56=2,"sSs","Sss")),IF(AV56=2,IF(BG56=3,"sS","Ss"),""))) | P56: =IF(I56="","",VLOOKUP(I56,[3]マスター!$B$2:$C$5000,2,0)) | Q56: =VLOOKUP(R56,[3]マスター!$B$2:$C$5000,2,0) -> #N/A | R56: =VLOOKUP(S56,[3]マスター!$B$2:$C$5000,2,0) -> #N/A | S56: =IF(I56="","",VLOOKUP(I56,[3]マスター!$B$2:$D$5000,3,0)) | U56: =IF(I56="","",VLOOKUP(I56,[3]マスター!$B$2:$L$5000,11,0)) | V56: =IF(I56="","",VLOOKUP(I56,[3]マスター!$B$2:$K$5000,10,0)) | W56: =J56+L56 -> 0 | X56: =K56-N56 -> 0 | Y56: =IF(V56<>"",X56-W56,"") | Z56: =IF(V56<>"",V56*Y56,"") | AA56: =IF(V56<>"",IF(W56<7,7-W56,0),"") | AB56: =IF(V56<>"",IF(X56>22,X56-22,0),"") | AC56: =IF(V56<>"",IF(P56=V56,IF((Y56+Y57)>8,(Y56+Y57)-8),IF(Y56>8,Y56-8,0)),"") | AD56: =IF(V56<>"",V56*AA56*0.25,"") | AE56: =IF(V56<>"",V56*AB56*0.25,"") | AF56: =IF(AC56<>"",V56*0.25*AC56,"") | AG56: =IF(I56="","",IF(AV56>2,IF(BG56=3,$AG$42,IF(BG56=2,$AG$42,$AG$43)),IF(AV56=2,IF(BG56=3,$AG$42,$AG$43),$AG$43))) | AH56: =IF(V56<>"",Z56+AD56+AE56+AF56,"") | AL56: 1 | AM56: =CONCATENATE($F56,$N56) -> 12 | AN56: =CONCATENATE($F56,$M56) -> 12 | AO56: =COUNTIF($I56:I$72,I56) -> 1 | AP56: =Y56 | AQ56: =AH56 | AU56: =IF(I56>1,1,"") | AV56: =SUMIF($I$45:$I$348,I56,$AU$45:$AU$348) -> 0 | AW56: =IF(AV56<1,0,SUMIF($I$44:I55,I56,$W$44:W55)) -> 0 | AX56: =IF(AV56<2,0,SUMIF($I57:I$348,I56,$W57:W$348)) -> 0 | AY56: =IF(AV56=2,IF(BG56=2,0,IF(BC56>=8,IF(Y56>8,(8-Y56)+Y56,Y56),IF(BC56+Y56<8,0,BC56+Y56-8))),0) -> 0 | AZ56: =IF(BG56=1,0,IF(BG56=2,IF(BH56>8,IF(Y56>8,8-Y56+Y56,Y56),IF(Y56>8,Y56+BH56-8-(Y56-8),IF(BH56+Y56>8,BH56+Y56-8,0))),IF(BG56=3,IF(BC56+BD51>8,IF(Y56>=8,8,Y56),IF(Y56+BC56+BD51>8,Y56+BC56+BD51-8,0)),0))) -> 0 | BA56: =IF(AW56+AX56=0,0,IF(AW56=0,VLOOKUP(I56,I57:$W$348,15,FALSE),VLOOKUP(I56,$I$45:$W56,15,FALSE))) -> 0 | BB56: =IF(BA56>W56,1,0)+IF(BA56>BD56,1,0) -> 0 | BC56: =IF(AW56+AX56=0,0,IF(AW56=0,VLOOKUP(I56,I57:$Y$348,17,FALSE),VLOOKUP(I56,$I$45:$Y56,17,FALSE))) -> 0 | BD56: =IF(AND(AW56>1,AX56>1),AX56,AW56+AX56-BA56) -> 0 | BE56: =IF(BD56>BA56,1,0)+IF(BD56>W56,1,0) -> 0 | BF56: =IF(I56="","",SUMIF($I$45:$I$348,I56,$Y$45:$Y$348)-BC56-Y56) | BG56: =IF(AW56+AX56=0,0,IF(BB56+BE56=3,1,IF(BB56+BE56=2,2,3))) -> 0 | BH56: =IF(BE56=2,BC56,BF56)
A57: =IF(I57="","",CONCATENATE(AO57,CONCATENATE(SUMIF($G$4:$G$32,G57,$F$4:$F$32),I57))) | E57: =IF(G57="","",SUMIF($G$4:$G$32,G57,$F$4:$F$32)) -> 0 | F57: 13 | G57: =CONCATENATE($G$42,F57) -> 013 | H57: =IF(I57="","",VLOOKUP(I57,[3]マスター!$B$2:$C$5000,2,0)) | O57: =IF(J57="","",IF(AV57>2,IF(BG57=3,"ssS",IF(BG57=2,"sSs","Sss")),IF(AV57=2,IF(BG57=3,"sS","Ss"),""))) | P57: =IF(I57="","",VLOOKUP(I57,[3]マスター!$B$2:$C$5000,2,0)) | Q57: =VLOOKUP(R57,[3]マスター!$B$2:$C$5000,2,0) -> #N/A | R57: =VLOOKUP(S57,[3]マスター!$B$2:$C$5000,2,0) -> #N/A | S57: =IF(I57="","",VLOOKUP(I57,[3]マスター!$B$2:$D$5000,3,0)) | U57: =IF(I57="","",VLOOKUP(I57,[3]マスター!$B$2:$L$5000,11,0)) | V57: =IF(I57="","",VLOOKUP(I57,[3]マスター!$B$2:$K$5000,10,0)) | W57: =J57+L57 -> 0 | X57: =K57-N57 -> 0 | Y57: =IF(V57<>"",X57-W57,"") | Z57: =IF(V57<>"",V57*Y57,"") | AA57: =IF(V57<>"",IF(W57<7,7-W57,0),"") | AB57: =IF(V57<>"",IF(X57>22,X57-22,0),"") | AC57: =IF(V57<>"",IF(P57=V57,IF((Y57+Y58)>8,(Y57+Y58)-8),IF(Y57>8,Y57-8,0)),"") | AD57: =IF(V57<>"",V57*AA57*0.25,"") | AE57: =IF(V57<>"",V57*AB57*0.25,"") | AF57: =IF(AC57<>"",V57*0.25*AC57,"") | AG57: =IF(I57="","",IF(AV57>2,IF(BG57=3,$AG$42,IF(BG57=2,$AG$42,$AG$43)),IF(AV57=2,IF(BG57=3,$AG$42,$AG$43),$AG$43))) | AH57: =IF(V57<>"",Z57+AD57+AE57+AF57,"") | AL57: 1 | AM57: =CONCATENATE($F57,$N57) -> 13 | AN57: =CONCATENATE($F57,$M57) -> 13 | AO57: =COUNTIF($I57:I$72,I57) -> 1 | AP57: =Y57 | AQ57: =AH57 | AU57: =IF(I57>1,1,"") | AV57: =SUMIF($I$45:$I$348,I57,$AU$45:$AU$348) -> 0 | AW57: =IF(AV57<1,0,SUMIF($I$44:I56,I57,$W$44:W56)) -> 0 | AX57: =IF(AV57<2,0,SUMIF($I58:I$348,I57,$W58:W$348)) -> 0 | AY57: =IF(AV57=2,IF(BG57=2,0,IF(BC57>=8,IF(Y57>8,(8-Y57)+Y57,Y57),IF(BC57+Y57<8,0,BC57+Y57-8))),0) -> 0 | AZ57: =IF(BG57=1,0,IF(BG57=2,IF(BH57>8,IF(Y57>8,8-Y57+Y57,Y57),IF(Y57>8,Y57+BH57-8-(Y57-8),IF(BH57+Y57>8,BH57+Y57-8,0))),IF(BG57=3,IF(BC57+BD52>8,IF(Y57>=8,8,Y57),IF(Y57+BC57+BD52>8,Y57+BC57+BD52-8,0)),0))) -> 0 | BA57: =IF(AW57+AX57=0,0,IF(AW57=0,VLOOKUP(I57,I58:$W$348,15,FALSE),VLOOKUP(I57,$I$45:$W57,15,FALSE))) -> 0 | BB57: =IF(BA57>W57,1,0)+IF(BA57>BD57,1,0) -> 0 | BC57: =IF(AW57+AX57=0,0,IF(AW57=0,VLOOKUP(I57,I58:$Y$348,17,FALSE),VLOOKUP(I57,$I$45:$Y57,17,FALSE))) -> 0 | BD57: =IF(AND(AW57>1,AX57>1),AX57,AW57+AX57-BA57) -> 0 | BE57: =IF(BD57>BA57,1,0)+IF(BD57>W57,1,0) -> 0 | BF57: =IF(I57="","",SUMIF($I$45:$I$348,I57,$Y$45:$Y$348)-BC57-Y57) | BG57: =IF(AW57+AX57=0,0,IF(BB57+BE57=3,1,IF(BB57+BE57=2,2,3))) -> 0 | BH57: =IF(BE57=2,BC57,BF57)
A58: =IF(I58="","",CONCATENATE(AO58,CONCATENATE(SUMIF($G$4:$G$32,G58,$F$4:$F$32),I58))) | E58: =IF(G58="","",SUMIF($G$4:$G$32,G58,$F$4:$F$32)) -> 0 | F58: 14 | G58: =CONCATENATE($G$42,F58) -> 014 | H58: =IF(I58="","",VLOOKUP(I58,[3]マスター!$B$2:$C$5000,2,0)) | O58: =IF(J58="","",IF(AV58>2,IF(BG58=3,"ssS",IF(BG58=2,"sSs","Sss")),IF(AV58=2,IF(BG58=3,"sS","Ss"),""))) | P58: =IF(I58="","",VLOOKUP(I58,[3]マスター!$B$2:$C$5000,2,0)) | Q58: =VLOOKUP(R58,[3]マスター!$B$2:$C$5000,2,0) -> #N/A | R58: =VLOOKUP(S58,[3]マスター!$B$2:$C$5000,2,0) -> #N/A | S58: =IF(I58="","",VLOOKUP(I58,[3]マスター!$B$2:$D$5000,3,0)) | U58: =IF(I58="","",VLOOKUP(I58,[3]マスター!$B$2:$L$5000,11,0)) | V58: =IF(I58="","",VLOOKUP(I58,[3]マスター!$B$2:$K$5000,10,0)) | W58: =J58+L58 -> 0 | X58: =K58-N58 -> 0 | Y58: =IF(V58<>"",X58-W58,"") | Z58: =IF(V58<>"",V58*Y58,"") | AA58: =IF(V58<>"",IF(W58<7,7-W58,0),"") | AB58: =IF(V58<>"",IF(X58>22,X58-22,0),"") | AC58: =IF(V58<>"",IF(P58=V58,IF((Y58+Y59)>8,(Y58+Y59)-8),IF(Y58>8,Y58-8,0)),"") | AD58: =IF(V58<>"",V58*AA58*0.25,"") | AE58: =IF(V58<>"",V58*AB58*0.25,"") | AF58: =IF(AC58<>"",V58*0.25*AC58,"") | AG58: =IF(I58="","",IF(AV58>2,IF(BG58=3,$AG$42,IF(BG58=2,$AG$42,$AG$43)),IF(AV58=2,IF(BG58=3,$AG$42,$AG$43),$AG$43))) | AH58: =IF(V58<>"",Z58+AD58+AE58+AF58,"") | AL58: 1 | AM58: =CONCATENATE($F58,$N58) -> 14 | AN58: =CONCATENATE($F58,$M58) -> 14 | AO58: =COUNTIF($I58:I$72,I58) -> 1 | AP58: =Y58 | AQ58: =AH58 | AU58: =IF(I58>1,1,"") | AV58: =SUMIF($I$45:$I$348,I58,$AU$45:$AU$348) -> 0 | AW58: =IF(AV58<1,0,SUMIF($I$44:I57,I58,$W$44:W57)) -> 0 | AX58: =IF(AV58<2,0,SUMIF($I59:I$348,I58,$W59:W$348)) -> 0 | AY58: =IF(AV58=2,IF(BG58=2,0,IF(BC58>=8,IF(Y58>8,(8-Y58)+Y58,Y58),IF(BC58+Y58<8,0,BC58+Y58-8))),0) -> 0 | AZ58: =IF(BG58=1,0,IF(BG58=2,IF(BH58>8,IF(Y58>8,8-Y58+Y58,Y58),IF(Y58>8,Y58+BH58-8-(Y58-8),IF(BH58+Y58>8,BH58+Y58-8,0))),IF(BG58=3,IF(BC58+BD53>8,IF(Y58>=8,8,Y58),IF(Y58+BC58+BD53>8,Y58+BC58+BD53-8,0)),0))) -> 0 | BA58: =IF(AW58+AX58=0,0,IF(AW58=0,VLOOKUP(I58,I59:$W$348,15,FALSE),VLOOKUP(I58,$I$45:$W58,15,FALSE))) -> 0 | BB58: =IF(BA58>W58,1,0)+IF(BA58>BD58,1,0) -> 0 | BC58: =IF(AW58+AX58=0,0,IF(AW58=0,VLOOKUP(I58,I59:$Y$348,17,FALSE),VLOOKUP(I58,$I$45:$Y58,17,FALSE))) -> 0 | BD58: =IF(AND(AW58>1,AX58>1),AX58,AW58+AX58-BA58) -> 0 | BE58: =IF(BD58>BA58,1,0)+IF(BD58>W58,1,0) -> 0 | BF58: =IF(I58="","",SUMIF($I$45:$I$348,I58,$Y$45:$Y$348)-BC58-Y58) | BG58: =IF(AW58+AX58=0,0,IF(BB58+BE58=3,1,IF(BB58+BE58=2,2,3))) -> 0 | BH58: =IF(BE58=2,BC58,BF58)
A59: =IF(I59="","",CONCATENATE(AO59,CONCATENATE(SUMIF($G$4:$G$32,G59,$F$4:$F$32),I59))) | E59: =IF(G59="","",SUMIF($G$4:$G$32,G59,$F$4:$F$32)) -> 0 | F59: 15 | G59: =CONCATENATE($G$42,F59) -> 015 | H59: =IF(I59="","",VLOOKUP(I59,[3]マスター!$B$2:$C$5000,2,0)) | O59: =IF(J59="","",IF(AV59>2,IF(BG59=3,"ssS",IF(BG59=2,"sSs","Sss")),IF(AV59=2,IF(BG59=3,"sS","Ss"),""))) | P59: =IF(I59="","",VLOOKUP(I59,[3]マスター!$B$2:$C$5000,2,0)) | Q59: =VLOOKUP(R59,[3]マスター!$B$2:$C$5000,2,0) -> #N/A | R59: =VLOOKUP(S59,[3]マスター!$B$2:$C$5000,2,0) -> #N/A | S59: =IF(I59="","",VLOOKUP(I59,[3]マスター!$B$2:$D$5000,3,0)) | U59: =IF(I59="","",VLOOKUP(I59,[3]マスター!$B$2:$L$5000,11,0)) | V59: =IF(I59="","",VLOOKUP(I59,[3]マスター!$B$2:$K$5000,10,0)) | W59: =J59+L59 -> 0 | X59: =K59-N59 -> 0 | Y59: =IF(V59<>"",X59-W59,"") | Z59: =IF(V59<>"",V59*Y59,"") | AA59: =IF(V59<>"",IF(W59<7,7-W59,0),"") | AB59: =IF(V59<>"",IF(X59>22,X59-22,0),"") | AC59: =IF(V59<>"",IF(P59=V59,IF((Y59+Y60)>8,(Y59+Y60)-8),IF(Y59>8,Y59-8,0)),"") | AD59: =IF(V59<>"",V59*AA59*0.25,"") | AE59: =IF(V59<>"",V59*AB59*0.25,"") | AF59: =IF(AC59<>"",V59*0.25*AC59,"") | AG59: =IF(I59="","",IF(AV59>2,IF(BG59=3,$AG$42,IF(BG59=2,$AG$42,$AG$43)),IF(AV59=2,IF(BG59=3,$AG$42,$AG$43),$AG$43))) | AH59: =IF(V59<>"",Z59+AD59+AE59+AF59,"") | AL59: 1 | AM59: =CONCATENATE($F59,$N59) -> 15 | AN59: =CONCATENATE($F59,$M59) -> 15 | AO59: =COUNTIF($I59:I$72,I59) -> 1 | AP59: =Y59 | AQ59: =AH59 | AU59: =IF(I59>1,1,"") | AV59: =SUMIF($I$45:$I$348,I59,$AU$45:$AU$348) -> 0 | AW59: =IF(AV59<1,0,SUMIF($I$44:I58,I59,$W$44:W58)) -> 0 | AX59: =IF(AV59<2,0,SUMIF($I60:I$348,I59,$W60:W$348)) -> 0 | AY59: =IF(AV59=2,IF(BG59=2,0,IF(BC59>=8,IF(Y59>8,(8-Y59)+Y59,Y59),IF(BC59+Y59<8,0,BC59+Y59-8))),0) -> 0 | AZ59: =IF(BG59=1,0,IF(BG59=2,IF(BH59>8,IF(Y59>8,8-Y59+Y59,Y59),IF(Y59>8,Y59+BH59-8-(Y59-8),IF(BH59+Y59>8,BH59+Y59-8,0))),IF(BG59=3,IF(BC59+BD54>8,IF(Y59>=8,8,Y59),IF(Y59+BC59+BD54>8,Y59+BC59+BD54-8,0)),0))) -> 0 | BA59: =IF(AW59+AX59=0,0,IF(AW59=0,VLOOKUP(I59,I60:$W$348,15,FALSE),VLOOKUP(I59,$I$45:$W59,15,FALSE))) -> 0 | BB59: =IF(BA59>W59,1,0)+IF(BA59>BD59,1,0) -> 0 | BC59: =IF(AW59+AX59=0,0,IF(AW59=0,VLOOKUP(I59,I60:$Y$348,17,FALSE),VLOOKUP(I59,$I$45:$Y59,17,FALSE))) -> 0 | BD59: =IF(AND(AW59>1,AX59>1),AX59,AW59+AX59-BA59) -> 0 | BE59: =IF(BD59>BA59,1,0)+IF(BD59>W59,1,0) -> 0 | BF59: =IF(I59="","",SUMIF($I$45:$I$348,I59,$Y$45:$Y$348)-BC59-Y59) | BG59: =IF(AW59+AX59=0,0,IF(BB59+BE59=3,1,IF(BB59+BE59=2,2,3))) -> 0 | BH59: =IF(BE59=2,BC59,BF59)
A60: =IF(I60="","",CONCATENATE(AO60,CONCATENATE(SUMIF($G$4:$G$32,G60,$F$4:$F$32),I60))) | E60: =IF(G60="","",SUMIF($G$4:$G$32,G60,$F$4:$F$32)) -> 0 | F60: 16 | G60: =CONCATENATE($G$42,F60) -> 016 | H60: =IF(I60="","",VLOOKUP(I60,[3]マスター!$B$2:$C$5000,2,0)) | O60: =IF(J60="","",IF(AV60>2,IF(BG60=3,"ssS",IF(BG60=2,"sSs","Sss")),IF(AV60=2,IF(BG60=3,"sS","Ss"),""))) | P60: =IF(I60="","",VLOOKUP(I60,[3]マスター!$B$2:$C$5000,2,0)) | Q60: =VLOOKUP(R60,[3]マスター!$B$2:$C$5000,2,0) -> #N/A | R60: =VLOOKUP(S60,[3]マスター!$B$2:$C$5000,2,0) -> #N/A | S60: =IF(I60="","",VLOOKUP(I60,[3]マスター!$B$2:$D$5000,3,0)) | U60: =IF(I60="","",VLOOKUP(I60,[3]マスター!$B$2:$L$5000,11,0)) | V60: =IF(I60="","",VLOOKUP(I60,[3]マスター!$B$2:$K$5000,10,0)) | W60: =J60+L60 -> 0 | X60: =K60-N60 -> 0 | Y60: =IF(V60<>"",X60-W60,"") | Z60: =IF(V60<>"",V60*Y60,"") | AA60: =IF(V60<>"",IF(W60<7,7-W60,0),"") | AB60: =IF(V60<>"",IF(X60>22,X60-22,0),"") | AC60: =IF(V60<>"",IF(P60=V60,IF((Y60+Y61)>8,(Y60+Y61)-8),IF(Y60>8,Y60-8,0)),"") | AD60: =IF(V60<>"",V60*AA60*0.25,"") | AE60: =IF(V60<>"",V60*AB60*0.25,"") | AF60: =IF(AC60<>"",V60*0.25*AC60,"") | AG60: =IF(I60="","",IF(AV60>2,IF(BG60=3,$AG$42,IF(BG60=2,$AG$42,$AG$43)),IF(AV60=2,IF(BG60=3,$AG$42,$AG$43),$AG$43))) | AH60: =IF(V60<>"",Z60+AD60+AE60+AF60,"") | AL60: 1 | AM60: =CONCATENATE($F60,$N60) -> 16 | AN60: =CONCATENATE($F60,$M60) -> 16 | AO60: =COUNTIF($I60:I$72,I60) -> 1 | AP60: =Y60 | AQ60: =AH60 | AU60: =IF(I60>1,1,"") | AV60: =SUMIF($I$45:$I$348,I60,$AU$45:$AU$348) -> 0 | AW60: =IF(AV60<1,0,SUMIF($I$44:I59,I60,$W$44:W59)) -> 0 | AX60: =IF(AV60<2,0,SUMIF($I61:I$348,I60,$W61:W$348)) -> 0 | AY60: =IF(AV60=2,IF(BG60=2,0,IF(BC60>=8,IF(Y60>8,(8-Y60)+Y60,Y60),IF(BC60+Y60<8,0,BC60+Y60-8))),0) -> 0 | AZ60: =IF(BG60=1,0,IF(BG60=2,IF(BH60>8,IF(Y60>8,8-Y60+Y60,Y60),IF(Y60>8,Y60+BH60-8-(Y60-8),IF(BH60+Y60>8,BH60+Y60-8,0))),IF(BG60=3,IF(BC60+BD55>8,IF(Y60>=8,8,Y60),IF(Y60+BC60+BD55>8,Y60+BC60+BD55-8,0)),0))) -> 0 | BA60: =IF(AW60+AX60=0,0,IF(AW60=0,VLOOKUP(I60,I61:$W$348,15,FALSE),VLOOKUP(I60,$I$45:$W60,15,FALSE))) -> 0 | BB60: =IF(BA60>W60,1,0)+IF(BA60>BD60,1,0) -> 0 | BC60: =IF(AW60+AX60=0,0,IF(AW60=0,VLOOKUP(I60,I61:$Y$348,17,FALSE),VLOOKUP(I60,$I$45:$Y60,17,FALSE))) -> 0 | BD60: =IF(AND(AW60>1,AX60>1),AX60,AW60+AX60-BA60) -> 0 | BE60: =IF(BD60>BA60,1,0)+IF(BD60>W60,1,0) -> 0 | BF60: =IF(I60="","",SUMIF($I$45:$I$348,I60,$Y$45:$Y$348)-BC60-Y60) | BG60: =IF(AW60+AX60=0,0,IF(BB60+BE60=3,1,IF(BB60+BE60=2,2,3))) -> 0 | BH60: =IF(BE60=2,BC60,BF60)
A61: =IF(I61="","",CONCATENATE(AO61,CONCATENATE(SUMIF($G$4:$G$32,G61,$F$4:$F$32),I61))) | E61: =IF(G61="","",SUMIF($G$4:$G$32,G61,$F$4:$F$32)) -> 0 | F61: 17 | G61: =CONCATENATE($G$42,F61) -> 017 | H61: =IF(I61="","",VLOOKUP(I61,[3]マスター!$B$2:$C$5000,2,0)) | O61: =IF(J61="","",IF(AV61>2,IF(BG61=3,"ssS",IF(BG61=2,"sSs","Sss")),IF(AV61=2,IF(BG61=3,"sS","Ss"),""))) | P61: =IF(I61="","",VLOOKUP(I61,[3]マスター!$B$2:$C$5000,2,0)) | Q61: =VLOOKUP(R61,[3]マスター!$B$2:$C$5000,2,0) -> #N/A | R61: =VLOOKUP(S61,[3]マスター!$B$2:$C$5000,2,0) -> #N/A | S61: =IF(I61="","",VLOOKUP(I61,[3]マスター!$B$2:$D$5000,3,0)) | U61: =IF(I61="","",VLOOKUP(I61,[3]マスター!$B$2:$L$5000,11,0)) | V61: =IF(I61="","",VLOOKUP(I61,[3]マスター!$B$2:$K$5000,10,0)) | W61: =J61+L61 -> 0 | X61: =K61-N61 -> 0 | Y61: =IF(V61<>"",X61-W61,"") | Z61: =IF(V61<>"",V61*Y61,"") | AA61: =IF(V61<>"",IF(W61<7,7-W61,0),"") | AB61: =IF(V61<>"",IF(X61>22,X61-22,0),"") | AC61: =IF(V61<>"",IF(P61=V61,IF((Y61+Y62)>8,(Y61+Y62)-8),IF(Y61>8,Y61-8,0)),"") | AD61: =IF(V61<>"",V61*AA61*0.25,"") | AE61: =IF(V61<>"",V61*AB61*0.25,"") | AF61: =IF(AC61<>"",V61*0.25*AC61,"") | AG61: =IF(I61="","",IF(AV61>2,IF(BG61=3,$AG$42,IF(BG61=2,$AG$42,$AG$43)),IF(AV61=2,IF(BG61=3,$AG$42,$AG$43),$AG$43))) | AH61: =IF(V61<>"",Z61+AD61+AE61+AF61,"") | AL61: 1 | AM61: =CONCATENATE($F61,$N61) -> 17 | AN61: =CONCATENATE($F61,$M61) -> 17 | AO61: =COUNTIF($I61:I$72,I61) -> 1 | AP61: =Y61 | AQ61: =AH61 | AU61: =IF(I61>1,1,"") | AV61: =SUMIF($I$45:$I$348,I61,$AU$45:$AU$348) -> 0 | AW61: =IF(AV61<1,0,SUMIF($I$44:I60,I61,$W$44:W60)) -> 0 | AX61: =IF(AV61<2,0,SUMIF($I62:I$348,I61,$W62:W$348)) -> 0 | AY61: =IF(AV61=2,IF(BG61=2,0,IF(BC61>=8,IF(Y61>8,(8-Y61)+Y61,Y61),IF(BC61+Y61<8,0,BC61+Y61-8))),0) -> 0 | AZ61: =IF(BG61=1,0,IF(BG61=2,IF(BH61>8,IF(Y61>8,8-Y61+Y61,Y61),IF(Y61>8,Y61+BH61-8-(Y61-8),IF(BH61+Y61>8,BH61+Y61-8,0))),IF(BG61=3,IF(BC61+BD56>8,IF(Y61>=8,8,Y61),IF(Y61+BC61+BD56>8,Y61+BC61+BD56-8,0)),0))) -> 0 | BA61: =IF(AW61+AX61=0,0,IF(AW61=0,VLOOKUP(I61,I62:$W$348,15,FALSE),VLOOKUP(I61,$I$45:$W61,15,FALSE))) -> 0 | BB61: =IF(BA61>W61,1,0)+IF(BA61>BD61,1,0) -> 0 | BC61: =IF(AW61+AX61=0,0,IF(AW61=0,VLOOKUP(I61,I62:$Y$348,17,FALSE),VLOOKUP(I61,$I$45:$Y61,17,FALSE))) -> 0 | BD61: =IF(AND(AW61>1,AX61>1),AX61,AW61+AX61-BA61) -> 0 | BE61: =IF(BD61>BA61,1,0)+IF(BD61>W61,1,0) -> 0 | BF61: =IF(I61="","",SUMIF($I$45:$I$348,I61,$Y$45:$Y$348)-BC61-Y61) | BG61: =IF(AW61+AX61=0,0,IF(BB61+BE61=3,1,IF(BB61+BE61=2,2,3))) -> 0 | BH61: =IF(BE61=2,BC61,BF61)
A62: =IF(I62="","",CONCATENATE(AO62,CONCATENATE(SUMIF($G$4:$G$32,G62,$F$4:$F$32),I62))) | E62: =IF(G62="","",SUMIF($G$4:$G$32,G62,$F$4:$F$32)) -> 0 | F62: 18 | G62: =CONCATENATE($G$42,F62) -> 018 | H62: =IF(I62="","",VLOOKUP(I62,[3]マスター!$B$2:$C$5000,2,0)) | O62: =IF(J62="","",IF(AV62>2,IF(BG62=3,"ssS",IF(BG62=2,"sSs","Sss")),IF(AV62=2,IF(BG62=3,"sS","Ss"),""))) | P62: =IF(I62="","",VLOOKUP(I62,[3]マスター!$B$2:$C$5000,2,0)) | Q62: =VLOOKUP(R62,[3]マスター!$B$2:$C$5000,2,0) -> #N/A | R62: =VLOOKUP(S62,[3]マスター!$B$2:$C$5000,2,0) -> #N/A | S62: =IF(I62="","",VLOOKUP(I62,[3]マスター!$B$2:$D$5000,3,0)) | U62: =IF(I62="","",VLOOKUP(I62,[3]マスター!$B$2:$L$5000,11,0)) | V62: =IF(I62="","",VLOOKUP(I62,[3]マスター!$B$2:$K$5000,10,0)) | W62: =J62+L62 -> 0 | X62: =K62-N62 -> 0 | Y62: =IF(V62<>"",X62-W62,"") | Z62: =IF(V62<>"",V62*Y62,"") | AA62: =IF(V62<>"",IF(W62<7,7-W62,0),"") | AB62: =IF(V62<>"",IF(X62>22,X62-22,0),"") | AC62: =IF(V62<>"",IF(P62=V62,IF((Y62+Y63)>8,(Y62+Y63)-8),IF(Y62>8,Y62-8,0)),"") | AD62: =IF(V62<>"",V62*AA62*0.25,"") | AE62: =IF(V62<>"",V62*AB62*0.25,"") | AF62: =IF(AC62<>"",V62*0.25*AC62,"") | AG62: =IF(I62="","",IF(AV62>2,IF(BG62=3,$AG$42,IF(BG62=2,$AG$42,$AG$43)),IF(AV62=2,IF(BG62=3,$AG$42,$AG$43),$AG$43))) | AH62: =IF(V62<>"",Z62+AD62+AE62+AF62,"") | AL62: 1 | AM62: =CONCATENATE($F62,$N62) -> 18 | AN62: =CONCATENATE($F62,$M62) -> 18 | AO62: =COUNTIF($I62:I$72,I62) -> 1 | AP62: =Y62 | AQ62: =AH62 | AU62: =IF(I62>1,1,"") | AV62: =SUMIF($I$45:$I$348,I62,$AU$45:$AU$348) -> 0 | AW62: =IF(AV62<1,0,SUMIF($I$44:I61,I62,$W$44:W61)) -> 0 | AX62: =IF(AV62<2,0,SUMIF($I63:I$348,I62,$W63:W$348)) -> 0 | AY62: =IF(AV62=2,IF(BG62=2,0,IF(BC62>=8,IF(Y62>8,(8-Y62)+Y62,Y62),IF(BC62+Y62<8,0,BC62+Y62-8))),0) -> 0 | AZ62: =IF(BG62=1,0,IF(BG62=2,IF(BH62>8,IF(Y62>8,8-Y62+Y62,Y62),IF(Y62>8,Y62+BH62-8-(Y62-8),IF(BH62+Y62>8,BH62+Y62-8,0))),IF(BG62=3,IF(BC62+BD57>8,IF(Y62>=8,8,Y62),IF(Y62+BC62+BD57>8,Y62+BC62+BD57-8,0)),0))) -> 0 | BA62: =IF(AW62+AX62=0,0,IF(AW62=0,VLOOKUP(I62,I63:$W$348,15,FALSE),VLOOKUP(I62,$I$45:$W62,15,FALSE))) -> 0 | BB62: =IF(BA62>W62,1,0)+IF(BA62>BD62,1,0) -> 0 | BC62: =IF(AW62+AX62=0,0,IF(AW62=0,VLOOKUP(I62,I63:$Y$348,17,FALSE),VLOOKUP(I62,$I$45:$Y62,17,FALSE))) -> 0 | BD62: =IF(AND(AW62>1,AX62>1),AX62,AW62+AX62-BA62) -> 0 | BE62: =IF(BD62>BA62,1,0)+IF(BD62>W62,1,0) -> 0 | BF62: =IF(I62="","",SUMIF($I$45:$I$348,I62,$Y$45:$Y$348)-BC62-Y62) | BG62: =IF(AW62+AX62=0,0,IF(BB62+BE62=3,1,IF(BB62+BE62=2,2,3))) -> 0 | BH62: =IF(BE62=2,BC62,BF62)
A63: =IF(I63="","",CONCATENATE(AO63,CONCATENATE(SUMIF($G$4:$G$32,G63,$F$4:$F$32),I63))) | E63: =IF(G63="","",SUMIF($G$4:$G$32,G63,$F$4:$F$32)) -> 0 | F63: 19 | G63: =CONCATENATE($G$42,F63) -> 019 | H63: =IF(I63="","",VLOOKUP(I63,[3]マスター!$B$2:$C$5000,2,0)) | O63: =IF(J63="","",IF(AV63>2,IF(BG63=3,"ssS",IF(BG63=2,"sSs","Sss")),IF(AV63=2,IF(BG63=3,"sS","Ss"),""))) | P63: =IF(I63="","",VLOOKUP(I63,[3]マスター!$B$2:$C$5000,2,0)) | Q63: =VLOOKUP(R63,[3]マスター!$B$2:$C$5000,2,0) -> #N/A | R63: =VLOOKUP(S63,[3]マスター!$B$2:$C$5000,2,0) -> #N/A | S63: =IF(I63="","",VLOOKUP(I63,[3]マスター!$B$2:$D$5000,3,0)) | U63: =IF(I63="","",VLOOKUP(I63,[3]マスター!$B$2:$L$5000,11,0)) | V63: =IF(I63="","",VLOOKUP(I63,[3]マスター!$B$2:$K$5000,10,0)) | W63: =J63+L63 -> 0 | X63: =K63-N63 -> 0 | Y63: =IF(V63<>"",X63-W63,"") | Z63: =IF(V63<>"",V63*Y63,"") | AA63: =IF(V63<>"",IF(W63<7,7-W63,0),"") | AB63: =IF(V63<>"",IF(X63>22,X63-22,0),"") | AC63: =IF(V63<>"",IF(P63=V63,IF((Y63+Y64)>8,(Y63+Y64)-8),IF(Y63>8,Y63-8,0)),"") | AD63: =IF(V63<>"",V63*AA63*0.25,"") | AE63: =IF(V63<>"",V63*AB63*0.25,"") | AF63: =IF(AC63<>"",V63*0.25*AC63,"") | AG63: =IF(I63="","",IF(AV63>2,IF(BG63=3,$AG$42,IF(BG63=2,$AG$42,$AG$43)),IF(AV63=2,IF(BG63=3,$AG$42,$AG$43),$AG$43))) | AH63: =IF(V63<>"",Z63+AD63+AE63+AF63,"") | AL63: 1 | AM63: =CONCATENATE($F63,$N63) -> 19 | AN63: =CONCATENATE($F63,$M63) -> 19 | AO63: =COUNTIF($I63:I$72,I63) -> 1 | AP63: =Y63 | AQ63: =AH63 | AU63: =IF(I63>1,1,"") | AV63: =SUMIF($I$45:$I$348,I63,$AU$45:$AU$348) -> 0 | AW63: =IF(AV63<1,0,SUMIF($I$44:I62,I63,$W$44:W62)) -> 0 | AX63: =IF(AV63<2,0,SUMIF($I64:I$348,I63,$W64:W$348)) -> 0 | AY63: =IF(AV63=2,IF(BG63=2,0,IF(BC63>=8,IF(Y63>8,(8-Y63)+Y63,Y63),IF(BC63+Y63<8,0,BC63+Y63-8))),0) -> 0 | AZ63: =IF(BG63=1,0,IF(BG63=2,IF(BH63>8,IF(Y63>8,8-Y63+Y63,Y63),IF(Y63>8,Y63+BH63-8-(Y63-8),IF(BH63+Y63>8,BH63+Y63-8,0))),IF(BG63=3,IF(BC63+BD58>8,IF(Y63>=8,8,Y63),IF(Y63+BC63+BD58>8,Y63+BC63+BD58-8,0)),0))) -> 0 | BA63: =IF(AW63+AX63=0,0,IF(AW63=0,VLOOKUP(I63,I64:$W$348,15,FALSE),VLOOKUP(I63,$I$45:$W63,15,FALSE))) -> 0 | BB63: =IF(BA63>W63,1,0)+IF(BA63>BD63,1,0) -> 0 | BC63: =IF(AW63+AX63=0,0,IF(AW63=0,VLOOKUP(I63,I64:$Y$348,17,FALSE),VLOOKUP(I63,$I$45:$Y63,17,FALSE))) -> 0 | BD63: =IF(AND(AW63>1,AX63>1),AX63,AW63+AX63-BA63) -> 0 | BE63: =IF(BD63>BA63,1,0)+IF(BD63>W63,1,0) -> 0 | BF63: =IF(I63="","",SUMIF($I$45:$I$348,I63,$Y$45:$Y$348)-BC63-Y63) | BG63: =IF(AW63+AX63=0,0,IF(BB63+BE63=3,1,IF(BB63+BE63=2,2,3))) -> 0 | BH63: =IF(BE63=2,BC63,BF63)
A64: =IF(I64="","",CONCATENATE(AO64,CONCATENATE(SUMIF($G$4:$G$32,G64,$F$4:$F$32),I64))) | E64: =IF(G64="","",SUMIF($G$4:$G$32,G64,$F$4:$F$32)) -> 0 | F64: 20 | G64: =CONCATENATE($G$42,F64) -> 020 | H64: =IF(I64="","",VLOOKUP(I64,[3]マスター!$B$2:$C$5000,2,0)) | O64: =IF(J64="","",IF(AV64>2,IF(BG64=3,"ssS",IF(BG64=2,"sSs","Sss")),IF(AV64=2,IF(BG64=3,"sS","Ss"),""))) | P64: =IF(I64="","",VLOOKUP(I64,[3]マスター!$B$2:$C$5000,2,0)) | Q64: =VLOOKUP(R64,[3]マスター!$B$2:$C$5000,2,0) -> #N/A | R64: =VLOOKUP(S64,[3]マスター!$B$2:$C$5000,2,0) -> #N/A | S64: =IF(I64="","",VLOOKUP(I64,[3]マスター!$B$2:$D$5000,3,0)) | U64: =IF(I64="","",VLOOKUP(I64,[3]マスター!$B$2:$L$5000,11,0)) | V64: =IF(I64="","",VLOOKUP(I64,[3]マスター!$B$2:$K$5000,10,0)) | W64: =J64+L64 -> 0 | X64: =K64-N64 -> 0 | Y64: =IF(V64<>"",X64-W64,"") | Z64: =IF(V64<>"",V64*Y64,"") | AA64: =IF(V64<>"",IF(W64<7,7-W64,0),"") | AB64: =IF(V64<>"",IF(X64>22,X64-22,0),"") | AC64: =IF(V64<>"",IF(P64=V64,IF((Y64+Y65)>8,(Y64+Y65)-8),IF(Y64>8,Y64-8,0)),"") | AD64: =IF(V64<>"",V64*AA64*0.25,"") | AE64: =IF(V64<>"",V64*AB64*0.25,"") | AF64: =IF(AC64<>"",V64*0.25*AC64,"") | AG64: =IF(I64="","",IF(AV64>2,IF(BG64=3,$AG$42,IF(BG64=2,$AG$42,$AG$43)),IF(AV64=2,IF(BG64=3,$AG$42,$AG$43),$AG$43))) | AH64: =IF(V64<>"",Z64+AD64+AE64+AF64,"") | AL64: 1 | AM64: =CONCATENATE($F64,$N64) -> 20 | AN64: =CONCATENATE($F64,$M64) -> 20 | AO64: =COUNTIF($I64:I$72,I64) -> 1 | AP64: =Y64 | AQ64: =AH64 | AU64: =IF(I64>1,1,"") | AV64: =SUMIF($I$45:$I$348,I64,$AU$45:$AU$348) -> 0 | AW64: =IF(AV64<1,0,SUMIF($I$44:I63,I64,$W$44:W63)) -> 0 | AX64: =IF(AV64<2,0,SUMIF($I65:I$348,I64,$W65:W$348)) -> 0 | AY64: =IF(AV64=2,IF(BG64=2,0,IF(BC64>=8,IF(Y64>8,(8-Y64)+Y64,Y64),IF(BC64+Y64<8,0,BC64+Y64-8))),0) -> 0 | AZ64: =IF(BG64=1,0,IF(BG64=2,IF(BH64>8,IF(Y64>8,8-Y64+Y64,Y64),IF(Y64>8,Y64+BH64-8-(Y64-8),IF(BH64+Y64>8,BH64+Y64-8,0))),IF(BG64=3,IF(BC64+BD59>8,IF(Y64>=8,8,Y64),IF(Y64+BC64+BD59>8,Y64+BC64+BD59-8,0)),0))) -> 0 | BA64: =IF(AW64+AX64=0,0,IF(AW64=0,VLOOKUP(I64,I65:$W$348,15,FALSE),VLOOKUP(I64,$I$45:$W64,15,FALSE))) -> 0 | BB64: =IF(BA64>W64,1,0)+IF(BA64>BD64,1,0) -> 0 | BC64: =IF(AW64+AX64=0,0,IF(AW64=0,VLOOKUP(I64,I65:$Y$348,17,FALSE),VLOOKUP(I64,$I$45:$Y64,17,FALSE))) -> 0 | BD64: =IF(AND(AW64>1,AX64>1),AX64,AW64+AX64-BA64) -> 0 | BE64: =IF(BD64>BA64,1,0)+IF(BD64>W64,1,0) -> 0 | BF64: =IF(I64="","",SUMIF($I$45:$I$348,I64,$Y$45:$Y$348)-BC64-Y64) | BG64: =IF(AW64+AX64=0,0,IF(BB64+BE64=3,1,IF(BB64+BE64=2,2,3))) -> 0 | BH64: =IF(BE64=2,BC64,BF64)
A65: =IF(I65="","",CONCATENATE(AO65,CONCATENATE(SUMIF($G$4:$G$32,G65,$F$4:$F$32),I65))) | E65: =IF(G65="","",SUMIF($G$4:$G$32,G65,$F$4:$F$32)) -> 0 | F65: 21 | G65: =CONCATENATE($G$42,F65) -> 021 | H65: =IF(I65="","",VLOOKUP(I65,[3]マスター!$B$2:$C$5000,2,0)) | O65: =IF(J65="","",IF(AV65>2,IF(BG65=3,"ssS",IF(BG65=2,"sSs","Sss")),IF(AV65=2,IF(BG65=3,"sS","Ss"),""))) | P65: =IF(I65="","",VLOOKUP(I65,[3]マスター!$B$2:$C$5000,2,0)) | Q65: =VLOOKUP(R65,[3]マスター!$B$2:$C$5000,2,0) -> #N/A | R65: =VLOOKUP(S65,[3]マスター!$B$2:$C$5000,2,0) -> #N/A | S65: =IF(I65="","",VLOOKUP(I65,[3]マスター!$B$2:$D$5000,3,0)) | U65: =IF(I65="","",VLOOKUP(I65,[3]マスター!$B$2:$L$5000,11,0)) | V65: =IF(I65="","",VLOOKUP(I65,[3]マスター!$B$2:$K$5000,10,0)) | W65: =J65+L65 -> 0 | X65: =K65-N65 -> 0 | Y65: =IF(V65<>"",X65-W65,"") | Z65: =IF(V65<>"",V65*Y65,"") | AA65: =IF(V65<>"",IF(W65<7,7-W65,0),"") | AB65: =IF(V65<>"",IF(X65>22,X65-22,0),"") | AC65: =IF(V65<>"",IF(P65=V65,IF((Y65+Y66)>8,(Y65+Y66)-8),IF(Y65>8,Y65-8,0)),"") | AD65: =IF(V65<>"",V65*AA65*0.25,"") | AE65: =IF(V65<>"",V65*AB65*0.25,"") | AF65: =IF(AC65<>"",V65*0.25*AC65,"") | AG65: =IF(I65="","",IF(AV65>2,IF(BG65=3,$AG$42,IF(BG65=2,$AG$42,$AG$43)),IF(AV65=2,IF(BG65=3,$AG$42,$AG$43),$AG$43))) | AH65: =IF(V65<>"",Z65+AD65+AE65+AF65,"") | AL65: 1 | AM65: =CONCATENATE($F65,$N65) -> 21 | AN65: =CONCATENATE($F65,$M65) -> 21 | AO65: =COUNTIF($I65:I$72,I65) -> 1 | AP65: =Y65 | AQ65: =AH65 | AU65: =IF(I65>1,1,"") | AV65: =SUMIF($I$45:$I$348,I65,$AU$45:$AU$348) -> 0 | AW65: =IF(AV65<1,0,SUMIF($I$44:I64,I65,$W$44:W64)) -> 0 | AX65: =IF(AV65<2,0,SUMIF($I66:I$348,I65,$W66:W$348)) -> 0 | AY65: =IF(AV65=2,IF(BG65=2,0,IF(BC65>=8,IF(Y65>8,(8-Y65)+Y65,Y65),IF(BC65+Y65<8,0,BC65+Y65-8))),0) -> 0 | AZ65: =IF(BG65=1,0,IF(BG65=2,IF(BH65>8,IF(Y65>8,8-Y65+Y65,Y65),IF(Y65>8,Y65+BH65-8-(Y65-8),IF(BH65+Y65>8,BH65+Y65-8,0))),IF(BG65=3,IF(BC65+BD60>8,IF(Y65>=8,8,Y65),IF(Y65+BC65+BD60>8,Y65+BC65+BD60-8,0)),0))) -> 0 | BA65: =IF(AW65+AX65=0,0,IF(AW65=0,VLOOKUP(I65,I66:$W$348,15,FALSE),VLOOKUP(I65,$I$45:$W65,15,FALSE))) -> 0 | BB65: =IF(BA65>W65,1,0)+IF(BA65>BD65,1,0) -> 0 | BC65: =IF(AW65+AX65=0,0,IF(AW65=0,VLOOKUP(I65,I66:$Y$348,17,FALSE),VLOOKUP(I65,$I$45:$Y65,17,FALSE))) -> 0 | BD65: =IF(AND(AW65>1,AX65>1),AX65,AW65+AX65-BA65) -> 0 | BE65: =IF(BD65>BA65,1,0)+IF(BD65>W65,1,0) -> 0 | BF65: =IF(I65="","",SUMIF($I$45:$I$348,I65,$Y$45:$Y$348)-BC65-Y65) | BG65: =IF(AW65+AX65=0,0,IF(BB65+BE65=3,1,IF(BB65+BE65=2,2,3))) -> 0 | BH65: =IF(BE65=2,BC65,BF65)
A66: =IF(I66="","",CONCATENATE(AO66,CONCATENATE(SUMIF($G$4:$G$32,G66,$F$4:$F$32),I66))) | E66: =IF(G66="","",SUMIF($G$4:$G$32,G66,$F$4:$F$32)) -> 0 | F66: 22 | G66: =CONCATENATE($G$42,F66) -> 022 | H66: =IF(I66="","",VLOOKUP(I66,[3]マスター!$B$2:$C$5000,2,0)) | O66: =IF(J66="","",IF(AV66>2,IF(BG66=3,"ssS",IF(BG66=2,"sSs","Sss")),IF(AV66=2,IF(BG66=3,"sS","Ss"),""))) | P66: =IF(I66="","",VLOOKUP(I66,[3]マスター!$B$2:$C$5000,2,0)) | Q66: =VLOOKUP(R66,[3]マスター!$B$2:$C$5000,2,0) -> #N/A | R66: =VLOOKUP(S66,[3]マスター!$B$2:$C$5000,2,0) -> #N/A | S66: =IF(I66="","",VLOOKUP(I66,[3]マスター!$B$2:$D$5000,3,0)) | U66: =IF(I66="","",VLOOKUP(I66,[3]マスター!$B$2:$L$5000,11,0)) | V66: =IF(I66="","",VLOOKUP(I66,[3]マスター!$B$2:$K$5000,10,0)) | W66: =J66+L66 -> 0 | X66: =K66-N66 -> 0 | Y66: =IF(V66<>"",X66-W66,"") | Z66: =IF(V66<>"",V66*Y66,"") | AA66: =IF(V66<>"",IF(W66<7,7-W66,0),"") | AB66: =IF(V66<>"",IF(X66>22,X66-22,0),"") | AC66: =IF(V66<>"",IF(P66=V66,IF((Y66+Y67)>8,(Y66+Y67)-8),IF(Y66>8,Y66-8,0)),"") | AD66: =IF(V66<>"",V66*AA66*0.25,"") | AE66: =IF(V66<>"",V66*AB66*0.25,"") | AF66: =IF(AC66<>"",V66*0.25*AC66,"") | AG66: =IF(I66="","",IF(AV66>2,IF(BG66=3,$AG$42,IF(BG66=2,$AG$42,$AG$43)),IF(AV66=2,IF(BG66=3,$AG$42,$AG$43),$AG$43))) | AH66: =IF(V66<>"",Z66+AD66+AE66+AF66,"") | AL66: 1 | AM66: =CONCATENATE($F66,$N66) -> 22 | AN66: =CONCATENATE($F66,$M66) -> 22 | AO66: =COUNTIF($I66:I$72,I66) -> 1 | AP66: =Y66 | AQ66: =AH66 | AU66: =IF(I66>1,1,"") | AV66: =SUMIF($I$45:$I$348,I66,$AU$45:$AU$348) -> 0 | AW66: =IF(AV66<1,0,SUMIF($I$44:I65,I66,$W$44:W65)) -> 0 | AX66: =IF(AV66<2,0,SUMIF($I67:I$348,I66,$W67:W$348)) -> 0 | AY66: =IF(AV66=2,IF(BG66=2,0,IF(BC66>=8,IF(Y66>8,(8-Y66)+Y66,Y66),IF(BC66+Y66<8,0,BC66+Y66-8))),0) -> 0 | AZ66: =IF(BG66=1,0,IF(BG66=2,IF(BH66>8,IF(Y66>8,8-Y66+Y66,Y66),IF(Y66>8,Y66+BH66-8-(Y66-8),IF(BH66+Y66>8,BH66+Y66-8,0))),IF(BG66=3,IF(BC66+BD61>8,IF(Y66>=8,8,Y66),IF(Y66+BC66+BD61>8,Y66+BC66+BD61-8,0)),0))) -> 0 | BA66: =IF(AW66+AX66=0,0,IF(AW66=0,VLOOKUP(I66,I67:$W$348,15,FALSE),VLOOKUP(I66,$I$45:$W66,15,FALSE))) -> 0 | BB66: =IF(BA66>W66,1,0)+IF(BA66>BD66,1,0) -> 0 | BC66: =IF(AW66+AX66=0,0,IF(AW66=0,VLOOKUP(I66,I67:$Y$348,17,FALSE),VLOOKUP(I66,$I$45:$Y66,17,FALSE))) -> 0 | BD66: =IF(AND(AW66>1,AX66>1),AX66,AW66+AX66-BA66) -> 0 | BE66: =IF(BD66>BA66,1,0)+IF(BD66>W66,1,0) -> 0 | BF66: =IF(I66="","",SUMIF($I$45:$I$348,I66,$Y$45:$Y$348)-BC66-Y66) | BG66: =IF(AW66+AX66=0,0,IF(BB66+BE66=3,1,IF(BB66+BE66=2,2,3))) -> 0 | BH66: =IF(BE66=2,BC66,BF66)
A67: =IF(I67="","",CONCATENATE(AO67,CONCATENATE(SUMIF($G$4:$G$32,G67,$F$4:$F$32),I67))) | E67: =IF(G67="","",SUMIF($G$4:$G$32,G67,$F$4:$F$32)) -> 0 | F67: 23 | G67: =CONCATENATE($G$42,F67) -> 023 | H67: =IF(I67="","",VLOOKUP(I67,[3]マスター!$B$2:$C$5000,2,0)) | O67: =IF(J67="","",IF(AV67>2,IF(BG67=3,"ssS",IF(BG67=2,"sSs","Sss")),IF(AV67=2,IF(BG67=3,"sS","Ss"),""))) | P67: =IF(I67="","",VLOOKUP(I67,[3]マスター!$B$2:$C$5000,2,0)) | Q67: =VLOOKUP(R67,[3]マスター!$B$2:$C$5000,2,0) -> #N/A | R67: =VLOOKUP(S67,[3]マスター!$B$2:$C$5000,2,0) -> #N/A | S67: =IF(I67="","",VLOOKUP(I67,[3]マスター!$B$2:$D$5000,3,0)) | U67: =IF(I67="","",VLOOKUP(I67,[3]マスター!$B$2:$L$5000,11,0)) | V67: =IF(I67="","",VLOOKUP(I67,[3]マスター!$B$2:$K$5000,10,0)) | W67: =J67+L67 -> 0 | X67: =K67-N67 -> 0 | Y67: =IF(V67<>"",X67-W67,"") | Z67: =IF(V67<>"",V67*Y67,"") | AA67: =IF(V67<>"",IF(W67<7,7-W67,0),"") | AB67: =IF(V67<>"",IF(X67>22,X67-22,0),"") | AC67: =IF(V67<>"",IF(P67=V67,IF((Y67+Y68)>8,(Y67+Y68)-8),IF(Y67>8,Y67-8,0)),"") | AD67: =IF(V67<>"",V67*AA67*0.25,"") | AE67: =IF(V67<>"",V67*AB67*0.25,"") | AF67: =IF(AC67<>"",V67*0.25*AC67,"") | AG67: =IF(I67="","",IF(AV67>2,IF(BG67=3,$AG$42,IF(BG67=2,$AG$42,$AG$43)),IF(AV67=2,IF(BG67=3,$AG$42,$AG$43),$AG$43))) | AH67: =IF(V67<>"",Z67+AD67+AE67+AF67,"") | AL67: 1 | AM67: =CONCATENATE($F67,$N67) -> 23 | AN67: =CONCATENATE($F67,$M67) -> 23 | AO67: =COUNTIF($I67:I$72,I67) -> 1 | AP67: =Y67 | AQ67: =AH67 | AU67: =IF(I67>1,1,"") | AV67: =SUMIF($I$45:$I$348,I67,$AU$45:$AU$348) -> 0 | AW67: =IF(AV67<1,0,SUMIF($I$44:I66,I67,$W$44:W66)) -> 0 | AX67: =IF(AV67<2,0,SUMIF($I68:I$348,I67,$W68:W$348)) -> 0 | AY67: =IF(AV67=2,IF(BG67=2,0,IF(BC67>=8,IF(Y67>8,(8-Y67)+Y67,Y67),IF(BC67+Y67<8,0,BC67+Y67-8))),0) -> 0 | AZ67: =IF(BG67=1,0,IF(BG67=2,IF(BH67>8,IF(Y67>8,8-Y67+Y67,Y67),IF(Y67>8,Y67+BH67-8-(Y67-8),IF(BH67+Y67>8,BH67+Y67-8,0))),IF(BG67=3,IF(BC67+BD62>8,IF(Y67>=8,8,Y67),IF(Y67+BC67+BD62>8,Y67+BC67+BD62-8,0)),0))) -> 0 | BA67: =IF(AW67+AX67=0,0,IF(AW67=0,VLOOKUP(I67,I68:$W$348,15,FALSE),VLOOKUP(I67,$I$45:$W67,15,FALSE))) -> 0 | BB67: =IF(BA67>W67,1,0)+IF(BA67>BD67,1,0) -> 0 | BC67: =IF(AW67+AX67=0,0,IF(AW67=0,VLOOKUP(I67,I68:$Y$348,17,FALSE),VLOOKUP(I67,$I$45:$Y67,17,FALSE))) -> 0 | BD67: =IF(AND(AW67>1,AX67>1),AX67,AW67+AX67-BA67) -> 0 | BE67: =IF(BD67>BA67,1,0)+IF(BD67>W67,1,0) -> 0 | BF67: =IF(I67="","",SUMIF($I$45:$I$348,I67,$Y$45:$Y$348)-BC67-Y67) | BG67: =IF(AW67+AX67=0,0,IF(BB67+BE67=3,1,IF(BB67+BE67=2,2,3))) -> 0 | BH67: =IF(BE67=2,BC67,BF67)
... A69: =IF(I69="","",CONCATENATE(AO69,CONCATENATE(SUMIF($G$4:$G$32,G69,$F$4:$F$32),I69))) | E69: =IF(G69="","",SUMIF($G$4:$G$32,G69,$F$4:$F$32)) -> 0 | F69: 25 | G69: =CONCATENATE($G$42,F69) -> 025 | H69: =IF(I69="","",VLOOKUP(I69,[3]マスター!$B$2:$C$5000,2,0)) | O69: =IF(J69="","",IF(AV69>2,IF(BG69=3,"ssS",IF(BG69=2,"sSs","Sss")),IF(AV69=2,IF(BG69=3,"sS","Ss"),""))) | P69: =IF(I69="","",VLOOKUP(I69,[3]マスター!$B$2:$C$5000,2,0)) | Q69: =VLOOKUP(R69,[3]マスター!$B$2:$C$5000,2,0) -> #N/A | R69: =VLOOKUP(S69,[3]マスター!$B$2:$C$5000,2,0) -> #N/A | S69: =IF(I69="","",VLOOKUP(I69,[3]マスター!$B$2:$D$5000,3,0)) | U69: =IF(I69="","",VLOOKUP(I69,[3]マスター!$B$2:$L$5000,11,0)) | V69: =IF(I69="","",VLOOKUP(I69,[3]マスター!$B$2:$K$5000,10,0)) | W69: =J69+L69 -> 0 | X69: =K69-N69 -> 0 | Y69: =IF(V69<>"",X69-W69,"") | Z69: =IF(V69<>"",V69*Y69,"") | AA69: =IF(V69<>"",IF(W69<7,7-W69,0),"") | AB69: =IF(V69<>"",IF(X69>22,X69-22,0),"") | AC69: =IF(V69<>"",IF(P69=V69,IF((Y69+Y70)>8,(Y69+Y70)-8),IF(Y69>8,Y69-8,0)),"") | AD69: =IF(V69<>"",V69*AA69*0.25,"") | AE69: =IF(V69<>"",V69*AB69*0.25,"") | AF69: =IF(AC69<>"",V69*0.25*AC69,"") | AG69: =IF(I69="","",IF(AV69>2,IF(BG69=3,$AG$42,IF(BG69=2,$AG$42,$AG$43)),IF(AV69=2,IF(BG69=3,$AG$42,$AG$43),$AG$43))) | AH69: =IF(V69<>"",Z69+AD69+AE69+AF69,"") | AL69: 1 | AM69: =CONCATENATE($F69,$N69) -> 25 | AN69: =CONCATENATE($F69,$M69) -> 25 | AO69: =COUNTIF($I69:I$72,I69) -> 1 | AP69: =Y69 | AQ69: =AH69 | AU69: =IF(I69>1,1,"") | AV69: =SUMIF($I$45:$I$348,I69,$AU$45:$AU$348) -> 0 | AW69: =IF(AV69<1,0,SUMIF($I$44:I68,I69,$W$44:W68)) -> 0 | AX69: =IF(AV69<2,0,SUMIF($I70:I$348,I69,$W70:W$348)) -> 0 | AY69: =IF(AV69=2,IF(BG69=2,0,IF(BC69>=8,IF(Y69>8,(8-Y69)+Y69,Y69),IF(BC69+Y69<8,0,BC69+Y69-8))),0) -> 0 | AZ69: =IF(BG69=1,0,IF(BG69=2,IF(BH69>8,IF(Y69>8,8-Y69+Y69,Y69),IF(Y69>8,Y69+BH69-8-(Y69-8),IF(BH69+Y69>8,BH69+Y69-8,0))),IF(BG69=3,IF(BC69+BD64>8,IF(Y69>=8,8,Y69),IF(Y69+BC69+BD64>8,Y69+BC69+BD64-8,0)),0))) -> 0 | BA69: =IF(AW69+AX69=0,0,IF(AW69=0,VLOOKUP(I69,I70:$W$348,15,FALSE),VLOOKUP(I69,$I$45:$W69,15,FALSE))) -> 0 | BB69: =IF(BA69>W69,1,0)+IF(BA69>BD69,1,0) -> 0 | BC69: =IF(AW69+AX69=0,0,IF(AW69=0,VLOOKUP(I69,I70:$Y$348,17,FALSE),VLOOKUP(I69,$I$45:$Y69,17,FALSE))) -> 0 | BD69: =IF(AND(AW69>1,AX69>1),AX69,AW69+AX69-BA69) -> 0 | BE69: =IF(BD69>BA69,1,0)+IF(BD69>W69,1,0) -> 0 | BF69: =IF(I69="","",SUMIF($I$45:$I$348,I69,$Y$45:$Y$348)-BC69-Y69) | BG69: =IF(AW69+AX69=0,0,IF(BB69+BE69=3,1,IF(BB69+BE69=2,2,3))) -> 0 | BH69: =IF(BE69=2,BC69,BF69)
I70: =$I$42 -> 0 | P70: 1 | Q70: =IF(M71>=25,"",COUNT($Q$40,$P$70)) -> 2 | AI70: 人数 | AJ70: =COUNT(I73:I97) -> 4
G71: =SUMIF($X$1:$X$40,I71,$Z$1:$Z$40) -> 0 | I71: 40SKY | M71: =IF(I71="","",SUMIF($J$4:$J$32,I71,$I$4:$I$32)) -> 4 | Q71: =IF(M71>=25,"",COUNTIF($Q$37:$AH$37,$O$37)) -> 4 | AI71: =I71 -> 40SKY | AJ71: =AJ70 -> 4 | AK71: =SUM(Y73:Y97) -> 31
F72: =$F$44 -> 0 | G72: 会場 | H72: =H44 -> 名前 | I72: =I44 -> コード | J72: =J44 -> ＩＮ | K72: =K44 -> ＯＵＴ | L72: =L44 -> 休憩 | M72: =M44 -> 出張 | N72: =N43 -> 朝食 休憩 | O72: =$O$44 -> 0 | AM72: =CONCATENATE($F72,$N72) -> 0朝食 休憩 | AN72: =CONCATENATE($F72,$M72) -> 0出張 | AO72: カウント | AP72: 実労Ｈ | AQ72: 合計 | AR72: 部屋№ | AS72: ランク
A73: =IF(I73="","",CONCATENATE(AO73,CONCATENATE(SUMIF($G$4:$G$32,G73,$F$4:$F$32),I73))) -> 1036683 | B73: =IF(G73="","",SUMIF($G$4:$G$32,G73,$F$4:$F$32)) -> 0 | C73: =AO73 -> 1 | D73: =CONCATENATE(AR73,CONCATENATE(E73,F73)) -> 0026 | E73: =IF(I73="","",IF(AR72=AR73,SUMIF($AR$73:$AR$348,AR73),IF(AR74="",AR73,IF(AR73=AR74,SUMIF($AR$73:$AR$348,AR73))))) -> 0 | F73: =IF(G71=G42,26,1) -> 26 | G73: =CONCATENATE($G$71,F73) -> 026 | H73: =IF(I73="","",VLOOKUP(I73,[3]マスター!$B$2:$C$5000,2,0)) -> 村上 祐多 | I73: 36683 | J73: 7.5 | K73: 16.5 | L73: 1 | O73: =IF(J73="","",IF(AV73>2,IF(BG73=3,"ssS",IF(BG73=2,"sSs","Sss")),IF(AV73=2,IF(BG73=3,"sS","Ss"),""))) | P73: =IF(I73="","",VLOOKUP(I73,[3]マスター!$B$2:$C$5000,2,0)) -> 村上 祐多 | Q73: =VLOOKUP(R73,[3]マスター!$B$2:$C$5000,2,0) -> #N/A | R73: =VLOOKUP(S73,[3]マスター!$B$2:$C$5000,2,0) -> #N/A | S73: =IF(I73="","",VLOOKUP(I73,[3]マスター!$B$2:$D$5000,3,0)) -> ムラカミ ユウタ | U73: =IF(I73="","",VLOOKUP(I73,[3]マスター!$B$2:$L$5000,11,0)) -> E | V73: =IF(I73="","",VLOOKUP(I73,[3]マスター!$B$2:$K$5000,10,0)) -> 1400 | W73: =J73+L73 -> 8.5 | X73: =K73-N73 -> 16.5 | Y73: =IF(V73<>"",X73-W73,"") -> 8 | Z73: =IF(V73<>"",V73*Y73,"") -> 11200 | AA73: =IF(V73<>"",IF(W73<7,7-W73,0),"") -> 0 | AB73: =IF(V73<>"",IF(X73>22,X73-22,0),"") -> 0 | AC73: =IF(V73<>"",IF(P73=V73,IF((Y73+Y74)>8,(Y73+Y74)-8),IF(Y73>8,Y73-8,0)),"") -> 0 | AD73: =IF(V73<>"",V73*AA73*0.25,"") -> 0 | AE73: =IF(V73<>"",V73*AB73*0.25,"") -> 0 | AF73: =IF(AC73<>"",V73*0.25*AC73,"") -> 0 | AG73: =IF(I73="","",IF(AV73>2,IF(BG73=3,$AG$42,IF(BG73=2,$AG$42,$AG$43)),IF(AV73=2,IF(BG73=3,$AG$42,$AG$43),$AG$43))) -> 700 | AH73: =IF(V73<>"",Z73+AD73+AE73+AF73,"") -> 11200 | AL73: 1 | AM73: =CONCATENATE($M$71,$N73) -> 4 | AN73: =CONCATENATE($M$71,$M73) -> 4 | AO73: =COUNTIF($I$72:I73,I73) -> 1 | AP73: =Y73 -> 8 | AQ73: =AH73 -> 11200 | AR73: =IF(G73="","",SUMIF($G$4:$G$32,G73,$F$4:$F$32)) -> 0 | AS73: =IF($I73="","",RANK($I73,$I$73:$I$348,0)) -> 3 | AU73: =IF(I73>1,1,"") -> 1 | AV73: =SUMIF($I$45:$I$348,I73,$AU$45:$AU$348) -> 1 | AW73: =IF(AV73<1,0,SUMIF($I$44:I72,I73,$W$44:W72)) -> 0 | AX73: =IF(AV73<2,0,SUMIF($I74:I$348,I73,$W74:W$348)) -> 0 | AY73: =IF(AV73=2,IF(BG73=2,0,IF(BC73>=8,IF(Y73>8,(8-Y73)+Y73,Y73),IF(BC73+Y73<8,0,BC73+Y73-8))),0) -> 0 | AZ73: =IF(BG73=1,0,IF(BG73=2,IF(BH73>8,IF(Y73>8,8-Y73+Y73,Y73),IF(Y73>8,Y73+BH73-8-(Y73-8),IF(BH73+Y73>8,BH73+Y73-8,0))),IF(BG73=3,IF(BC73+BD68>8,IF(Y73>=8,8,Y73),IF(Y73+BC73+BD68>8,Y73+BC73+BD68-8,0)),0))) -> 0 | BA73: =IF(AW73+AX73=0,0,IF(AW73=0,VLOOKUP(I73,I74:$W$348,15,FALSE),VLOOKUP(I73,$I$45:$W73,15,FALSE))) -> 0 | BB73: =IF(BA73>W73,1,0)+IF(BA73>BD73,1,0) -> 0 | BC73: =IF(AW73+AX73=0,0,IF(AW73=0,VLOOKUP(I73,I74:$Y$348,17,FALSE),VLOOKUP(I73,$I$45:$Y73,17,FALSE))) -> 0 | BD73: =IF(AND(AW73>1,AX73>1),AX73,AW73+AX73-BA73) -> 0 | BE73: =IF(BD73>BA73,1,0)+IF(BD73>W73,1,0) -> 0 | BF73: =IF(I73="","",SUMIF($I$45:$I$348,I73,$Y$45:$Y$348)-BC73-Y73) -> 0 | BG73: =IF(AW73+AX73=0,0,IF(BB73+BE73=3,1,IF(BB73+BE73=2,2,3))) -> 0 | BH73: =IF(BE73=2,BC73,BF73) -> 0 | BI73: =IF($BG73<>"",$J73,IF($BG73=3,$J73,IF($BG73=2,$J73,IF($BG73=1,$J73,"")))) -> 7.5 | BJ73: =IF($BG73<>"",$K73,IF($BG73=3,$K73,IF($BG73=2,$K73,IF($BG73=1,$K73,"")))) -> 16.5 | BK73: =IF(I73="","",AR73) -> 0 | BL73: =COUNTIF($B$73:B73,B73) -> 1 | BM73: =(SUMIF(変換前!$AR$73:$AR$348,BP73)/BP73) -> 0 | BN73: =IF($BM$73>=1,1,"") | BO73: =$G$4 -> ウィンダミア | BP73: =F4 -> 1
A74: =IF(I74="","",CONCATENATE(AO74,CONCATENATE(SUMIF($G$4:$G$32,G74,$F$4:$F$32),I74))) -> 1036789 | B74: =IF(G74="","",SUMIF($G$4:$G$32,G74,$F$4:$F$32)) -> 0 | C74: =AO74 -> 1 | D74: =CONCATENATE(AR74,CONCATENATE(E74,F74)) -> 0027 | E74: =IF(I74="","",IF(AR73=AR74,SUMIF($AR$73:$AR$348,AR74),IF(AR75="",AR74,IF(AR74=AR75,SUMIF($AR$73:$AR$348,AR74))))) -> 0 | F74: =F73+1 -> 27 | G74: =CONCATENATE($G$71,F74) -> 027 | H74: =IF(I74="","",VLOOKUP(I74,[3]マスター!$B$2:$C$5000,2,0)) -> 北村 希保 | I74: 36789 | J74: 11 | K74: 17.75 | L74: 0.5 | O74: =IF(J74="","",IF(AV74>2,IF(BG74=3,"ssS",IF(BG74=2,"sSs","Sss")),IF(AV74=2,IF(BG74=3,"sS","Ss"),""))) | P74: =IF(I74="","",VLOOKUP(I74,[3]マスター!$B$2:$C$5000,2,0)) -> 北村 希保 | Q74: =VLOOKUP(R74,[3]マスター!$B$2:$C$5000,2,0) -> #N/A | R74: =VLOOKUP(S74,[3]マスター!$B$2:$C$5000,2,0) -> #N/A | S74: =IF(I74="","",VLOOKUP(I74,[3]マスター!$B$2:$D$5000,3,0)) -> キタムラ キホ | U74: =IF(I74="","",VLOOKUP(I74,[3]マスター!$B$2:$L$5000,11,0)) -> D50 | V74: =IF(I74="","",VLOOKUP(I74,[3]マスター!$B$2:$K$5000,10,0)) -> 1350 | W74: =J74+L74 -> 11.5 | X74: =K74-N74 -> 17.75 | Y74: =IF(V74<>"",X74-W74,"") -> 6.25 | Z74: =IF(V74<>"",V74*Y74,"") -> 8437.5 | AA74: =IF(V74<>"",IF(W74<7,7-W74,0),"") -> 0 | AB74: =IF(V74<>"",IF(X74>22,X74-22,0),"") -> 0 | AC74: =IF(V74<>"",IF(P74=V74,IF((Y74+Y75)>8,(Y74+Y75)-8),IF(Y74>8,Y74-8,0)),"") -> 0 | AD74: =IF(V74<>"",V74*AA74*0.25,"") -> 0 | AE74: =IF(V74<>"",V74*AB74*0.25,"") -> 0 | AF74: =IF(AC74<>"",V74*0.25*AC74,"") -> 0 | AG74: =IF(I74="","",IF(AV74>2,IF(BG74=3,$AG$42,IF(BG74=2,$AG$42,$AG$43)),IF(AV74=2,IF(BG74=3,$AG$42,$AG$43),$AG$43))) -> 700 | AH74: =IF(V74<>"",Z74+AD74+AE74+AF74,"") -> 8437.5 | AL74: 1 | AM74: =CONCATENATE($M$71,$N74) -> 4 | AN74: =CONCATENATE($M$71,$M74) -> 4 | AO74: =COUNTIF($I$72:I74,I74) -> 1 | AP74: =Y74 -> 6.25 | AQ74: =AH74 -> 8437.5 | AR74: =IF(G74="","",SUMIF($G$4:$G$32,G74,$F$4:$F$32)) -> 0 | AS74: =IF($I74="","",RANK($I74,$I$73:$I$348,0)) -> 2 | AU74: =IF(I74>1,1,"") -> 1 | AV74: =SUMIF($I$45:$I$348,I74,$AU$45:$AU$348) -> 1 | AW74: =IF(AV74<1,0,SUMIF($I$44:I73,I74,$W$44:W73)) -> 0 | AX74: =IF(AV74<2,0,SUMIF($I75:I$348,I74,$W75:W$348)) -> 0 | AY74: =IF(AV74=2,IF(BG74=2,0,IF(BC74>=8,IF(Y74>8,(8-Y74)+Y74,Y74),IF(BC74+Y74<8,0,BC74+Y74-8))),0) -> 0 | AZ74: =IF(BG74=1,0,IF(BG74=2,IF(BH74>8,IF(Y74>8,8-Y74+Y74,Y74),IF(Y74>8,Y74+BH74-8-(Y74-8),IF(BH74+Y74>8,BH74+Y74-8,0))),IF(BG74=3,IF(BC74+BD69>8,IF(Y74>=8,8,Y74),IF(Y74+BC74+BD69>8,Y74+BC74+BD69-8,0)),0))) -> 0 | BA74: =IF(AW74+AX74=0,0,IF(AW74=0,VLOOKUP(I74,I75:$W$348,15,FALSE),VLOOKUP(I74,$I$45:$W74,15,FALSE))) -> 0 | BB74: =IF(BA74>W74,1,0)+IF(BA74>BD74,1,0) -> 0 | BC74: =IF(AW74+AX74=0,0,IF(AW74=0,VLOOKUP(I74,I75:$Y$348,17,FALSE),VLOOKUP(I74,$I$45:$Y74,17,FALSE))) -> 0 | BD74: =IF(AND(AW74>1,AX74>1),AX74,AW74+AX74-BA74) -> 0 | BE74: =IF(BD74>BA74,1,0)+IF(BD74>W74,1,0) -> 0 | BF74: =IF(I74="","",SUMIF($I$45:$I$348,I74,$Y$45:$Y$348)-BC74-Y74) -> 0 | BG74: =IF(AW74+AX74=0,0,IF(BB74+BE74=3,1,IF(BB74+BE74=2,2,3))) -> 0 | BH74: =IF(BE74=2,BC74,BF74) -> 0 | BI74: =IF($BG74<>"",$J74,IF($BG74=3,$J74,IF($BG74=2,$J74,IF($BG74=1,$J74,"")))) -> 11 | BJ74: =IF($BG74<>"",$K74,IF($BG74=3,$K74,IF($BG74=2,$K74,IF($BG74=1,$K74,"")))) -> 17.75 | BK74: =IF(AR74=AR73,"",AR74) | BL74: =COUNTIF($B$73:B74,B74) -> 2 | BN74: =IF($BM$73>=11,2,"") | BO74: =$G$4 -> ウィンダミア
A75: =IF(I75="","",CONCATENATE(AO75,CONCATENATE(SUMIF($G$4:$G$32,G75,$F$4:$F$32),I75))) -> 1022470 | B75: =IF(G75="","",SUMIF($G$4:$G$32,G75,$F$4:$F$32)) -> 0 | C75: =AO75 -> 1 | D75: =CONCATENATE(AR75,CONCATENATE(E75,F75)) -> 0028 | E75: =IF(I75="","",IF(AR74=AR75,SUMIF($AR$73:$AR$348,AR75),IF(AR76="",AR75,IF(AR75=AR76,SUMIF($AR$73:$AR$348,AR75))))) -> 0 | F75: =F74+1 -> 28 | G75: =CONCATENATE($G$71,F75) -> 028 | H75: =IF(I75="","",VLOOKUP(I75,[3]マスター!$B$2:$C$5000,2,0)) -> 東海林 知恵美 | I75: 22470 | J75: 10.5 | K75: 20 | L75: 1 | O75: =IF(J75="","",IF(AV75>2,IF(BG75=3,"ssS",IF(BG75=2,"sSs","Sss")),IF(AV75=2,IF(BG75=3,"sS","Ss"),""))) | P75: =IF(I75="","",VLOOKUP(I75,[3]マスター!$B$2:$C$5000,2,0)) -> 東海林 知恵美 | Q75: =VLOOKUP(R75,[3]マスター!$B$2:$C$5000,2,0) -> #N/A | R75: =VLOOKUP(S75,[3]マスター!$B$2:$C$5000,2,0) -> #N/A | S75: =IF(I75="","",VLOOKUP(I75,[3]マスター!$B$2:$D$5000,3,0)) -> ショウジ チエミ | U75: =IF(I75="","",VLOOKUP(I75,[3]マスター!$B$2:$L$5000,11,0)) -> G | V75: =IF(I75="","",VLOOKUP(I75,[3]マスター!$B$2:$K$5000,10,0)) -> 1600 | W75: =J75+L75 -> 11.5 | X75: =K75-N75 -> 20 | Y75: =IF(V75<>"",X75-W75,"") -> 8.5 | Z75: =IF(V75<>"",V75*Y75,"") -> 13600 | AA75: =IF(V75<>"",IF(W75<7,7-W75,0),"") -> 0 | AB75: =IF(V75<>"",IF(X75>22,X75-22,0),"") -> 0 | AC75: =IF(V75<>"",IF(P75=V75,IF((Y75+Y76)>8,(Y75+Y76)-8),IF(Y75>8,Y75-8,0)),"") -> 0.5 | AD75: =IF(V75<>"",V75*AA75*0.25,"") -> 0 | AE75: =IF(V75<>"",V75*AB75*0.25,"") -> 0 | AF75: =IF(AC75<>"",V75*0.25*AC75,"") -> 200 | AG75: =IF(I75="","",IF(AV75>2,IF(BG75=3,$AG$42,IF(BG75=2,$AG$42,$AG$43)),IF(AV75=2,IF(BG75=3,$AG$42,$AG$43),$AG$43))) -> 700 | AH75: =IF(V75<>"",Z75+AD75+AE75+AF75,"") -> 13800 | AL75: 1 | AM75: =CONCATENATE($M$71,$N75) -> 4 | AN75: =CONCATENATE($M$71,$M75) -> 4 | AO75: =COUNTIF($I$72:I75,I75) -> 1 | AP75: =Y75 -> 8.5 | AQ75: =AH75 -> 13800 | AR75: =IF(G75="","",SUMIF($G$4:$G$32,G75,$F$4:$F$32)) -> 0 | AS75: =IF($I75="","",RANK($I75,$I$73:$I$348,0)) -> 10 | AU75: =IF(I75>1,1,"") -> 1 | AV75: =SUMIF($I$45:$I$348,I75,$AU$45:$AU$348) -> 1 | AW75: =IF(AV75<1,0,SUMIF($I$44:I74,I75,$W$44:W74)) -> 0 | AX75: =IF(AV75<2,0,SUMIF($I76:I$348,I75,$W76:W$348)) -> 0 | AY75: =IF(AV75=2,IF(BG75=2,0,IF(BC75>=8,IF(Y75>8,(8-Y75)+Y75,Y75),IF(BC75+Y75<8,0,BC75+Y75-8))),0) -> 0 | AZ75: =IF(BG75=1,0,IF(BG75=2,IF(BH75>8,IF(Y75>8,8-Y75+Y75,Y75),IF(Y75>8,Y75+BH75-8-(Y75-8),IF(BH75+Y75>8,BH75+Y75-8,0))),IF(BG75=3,IF(BC75+BD70>8,IF(Y75>=8,8,Y75),IF(Y75+BC75+BD70>8,Y75+BC75+BD70-8,0)),0))) -> 0 | BA75: =IF(AW75+AX75=0,0,IF(AW75=0,VLOOKUP(I75,I76:$W$348,15,FALSE),VLOOKUP(I75,$I$45:$W75,15,FALSE))) -> 0 | BB75: =IF(BA75>W75,1,0)+IF(BA75>BD75,1,0) -> 0 | BC75: =IF(AW75+AX75=0,0,IF(AW75=0,VLOOKUP(I75,I76:$Y$348,17,FALSE),VLOOKUP(I75,$I$45:$Y75,17,FALSE))) -> 0 | BD75: =IF(AND(AW75>1,AX75>1),AX75,AW75+AX75-BA75) -> 0 | BE75: =IF(BD75>BA75,1,0)+IF(BD75>W75,1,0) -> 0 | BF75: =IF(I75="","",SUMIF($I$45:$I$348,I75,$Y$45:$Y$348)-BC75-Y75) -> 0 | BG75: =IF(AW75+AX75=0,0,IF(BB75+BE75=3,1,IF(BB75+BE75=2,2,3))) -> 0 | BH75: =IF(BE75=2,BC75,BF75) -> 0 | BI75: =IF($BG75<>"",$J75,IF($BG75=3,$J75,IF($BG75=2,$J75,IF($BG75=1,$J75,"")))) -> 10.5 | BJ75: =IF($BG75<>"",$K75,IF($BG75=3,$K75,IF($BG75=2,$K75,IF($BG75=1,$K75,"")))) -> 20 | BK75: =IF(AR75=AR74,"",AR75) | BL75: =COUNTIF($B$73:B75,B75) -> 3 | BN75: =IF($BM$73>=21,3,"") | BO75: =$G$4 -> ウィンダミア
A76: =IF(I76="","",CONCATENATE(AO76,CONCATENATE(SUMIF($G$4:$G$32,G76,$F$4:$F$32),I76))) -> 1035302 | B76: =IF(G76="","",SUMIF($G$4:$G$32,G76,$F$4:$F$32)) -> 0 | C76: =AO76 -> 1 | D76: =CONCATENATE(AR76,CONCATENATE(E76,F76)) -> 0029 | E76: =IF(I76="","",IF(AR75=AR76,SUMIF($AR$73:$AR$348,AR76),IF(AR77="",AR76,IF(AR76=AR77,SUMIF($AR$73:$AR$348,AR76))))) -> 0 | F76: =F75+1 -> 29 | G76: =CONCATENATE($G$71,F76) -> 029 | H76: =IF(I76="","",VLOOKUP(I76,[3]マスター!$B$2:$C$5000,2,0)) -> 山下 莉里花 | I76: 35302 | J76: 14 | K76: 23.25 | L76: 1 | O76: =IF(J76="","",IF(AV76>2,IF(BG76=3,"ssS",IF(BG76=2,"sSs","Sss")),IF(AV76=2,IF(BG76=3,"sS","Ss"),""))) | P76: =IF(I76="","",VLOOKUP(I76,[3]マスター!$B$2:$C$5000,2,0)) -> 山下 莉里花 | Q76: =VLOOKUP(R76,[3]マスター!$B$2:$C$5000,2,0) -> #N/A | R76: =VLOOKUP(S76,[3]マスター!$B$2:$C$5000,2,0) -> #N/A | S76: =IF(I76="","",VLOOKUP(I76,[3]マスター!$B$2:$D$5000,3,0)) -> ヤマシタ リリカ | U76: =IF(I76="","",VLOOKUP(I76,[3]マスター!$B$2:$L$5000,11,0)) -> E | V76: =IF(I76="","",VLOOKUP(I76,[3]マスター!$B$2:$K$5000,10,0)) -> 1400 | W76: =J76+L76 -> 15 | X76: =K76-N76 -> 23.25 | Y76: =IF(V76<>"",X76-W76,"") -> 8.25 | Z76: =IF(V76<>"",V76*Y76,"") -> 11550 | AA76: =IF(V76<>"",IF(W76<7,7-W76,0),"") -> 0 | AB76: =IF(V76<>"",IF(X76>22,X76-22,0),"") -> 1.25 | AC76: =IF(V76<>"",IF(P76=V76,IF((Y76+Y77)>8,(Y76+Y77)-8),IF(Y76>8,Y76-8,0)),"") -> 0.25 | AD76: =IF(V76<>"",V76*AA76*0.25,"") -> 0 | AE76: =IF(V76<>"",V76*AB76*0.25,"") -> 437.5 | AF76: =IF(AC76<>"",V76*0.25*AC76,"") -> 87.5 | AG76: =IF(I76="","",IF(AV76>2,IF(BG76=3,$AG$42,IF(BG76=2,$AG$42,$AG$43)),IF(AV76=2,IF(BG76=3,$AG$42,$AG$43),$AG$43))) -> 700 | AH76: =IF(V76<>"",Z76+AD76+AE76+AF76,"") -> 12075 | AL76: 1 | AM76: =CONCATENATE($M$71,$N76) -> 4 | AN76: =CONCATENATE($M$71,$M76) -> 4 | AO76: =COUNTIF($I$72:I76,I76) -> 1 | AP76: =Y76 -> 8.25 | AQ76: =AH76 -> 12075 | AR76: =IF(G76="","",SUMIF($G$4:$G$32,G76,$F$4:$F$32)) -> 0 | AS76: =IF($I76="","",RANK($I76,$I$73:$I$348,0)) -> 8 | AU76: =IF(I76>1,1,"") -> 1 | AV76: =SUMIF($I$45:$I$348,I76,$AU$45:$AU$348) -> 1 | AW76: =IF(AV76<1,0,SUMIF($I$44:I75,I76,$W$44:W75)) -> 0 | AX76: =IF(AV76<2,0,SUMIF($I77:I$348,I76,$W77:W$348)) -> 0 | AY76: =IF(AV76=2,IF(BG76=2,0,IF(BC76>=8,IF(Y76>8,(8-Y76)+Y76,Y76),IF(BC76+Y76<8,0,BC76+Y76-8))),0) -> 0 | AZ76: =IF(BG76=1,0,IF(BG76=2,IF(BH76>8,IF(Y76>8,8-Y76+Y76,Y76),IF(Y76>8,Y76+BH76-8-(Y76-8),IF(BH76+Y76>8,BH76+Y76-8,0))),IF(BG76=3,IF(BC76+BD71>8,IF(Y76>=8,8,Y76),IF(Y76+BC76+BD71>8,Y76+BC76+BD71-8,0)),0))) -> 0 | BA76: =IF(AW76+AX76=0,0,IF(AW76=0,VLOOKUP(I76,I77:$W$348,15,FALSE),VLOOKUP(I76,$I$45:$W76,15,FALSE))) -> 0 | BB76: =IF(BA76>W76,1,0)+IF(BA76>BD76,1,0) -> 0 | BC76: =IF(AW76+AX76=0,0,IF(AW76=0,VLOOKUP(I76,I77:$Y$348,17,FALSE),VLOOKUP(I76,$I$45:$Y76,17,FALSE))) -> 0 | BD76: =IF(AND(AW76>1,AX76>1),AX76,AW76+AX76-BA76) -> 0 | BE76: =IF(BD76>BA76,1,0)+IF(BD76>W76,1,0) -> 0 | BF76: =IF(I76="","",SUMIF($I$45:$I$348,I76,$Y$45:$Y$348)-BC76-Y76) -> 0 | BG76: =IF(AW76+AX76=0,0,IF(BB76+BE76=3,1,IF(BB76+BE76=2,2,3))) -> 0 | BH76: =IF(BE76=2,BC76,BF76) -> 0 | BI76: =IF($BG76<>"",$J76,IF($BG76=3,$J76,IF($BG76=2,$J76,IF($BG76=1,$J76,"")))) -> 14 | BJ76: =IF($BG76<>"",$K76,IF($BG76=3,$K76,IF($BG76=2,$K76,IF($BG76=1,$K76,"")))) -> 23.25 | BK76: =IF(AR76=AR75,"",AR76) | BL76: =COUNTIF($B$73:B76,B76) -> 4 | BM76: =(SUMIF(変換前!$AR$73:$AR$348,BP76)/BP76) -> 0 | BN76: =IF($BM$76>=1,4,"") | BO76: =$G$5 -> グリニッジ | BP76: =F5 -> 23
A77: =IF(I77="","",CONCATENATE(AO77,CONCATENATE(SUMIF($G$4:$G$32,G77,$F$4:$F$32),I77))) | B77: =IF(G77="","",SUMIF($G$4:$G$32,G77,$F$4:$F$32)) -> 0 | C77: =AO77 -> 0 | D77: =CONCATENATE(AR77,CONCATENATE(E77,F77)) -> 030 | E77: =IF(I77="","",IF(AR76=AR77,SUMIF($AR$73:$AR$348,AR77),IF(AR78="",AR77,IF(AR77=AR78,SUMIF($AR$73:$AR$348,AR77))))) | F77: =F76+1 -> 30 | G77: =CONCATENATE($G$71,F77) -> 030 | H77: =IF(I77="","",VLOOKUP(I77,[3]マスター!$B$2:$C$5000,2,0)) | O77: =IF(J77="","",IF(AV77>2,IF(BG77=3,"ssS",IF(BG77=2,"sSs","Sss")),IF(AV77=2,IF(BG77=3,"sS","Ss"),""))) | P77: =IF(I77="","",VLOOKUP(I77,[3]マスター!$B$2:$C$5000,2,0)) | Q77: =VLOOKUP(R77,[3]マスター!$B$2:$C$5000,2,0) -> #N/A | R77: =VLOOKUP(S77,[3]マスター!$B$2:$C$5000,2,0) -> #N/A | S77: =IF(I77="","",VLOOKUP(I77,[3]マスター!$B$2:$D$5000,3,0)) | U77: =IF(I77="","",VLOOKUP(I77,[3]マスター!$B$2:$L$5000,11,0)) | V77: =IF(I77="","",VLOOKUP(I77,[3]マスター!$B$2:$K$5000,10,0)) | W77: =J77+L77 -> 0 | X77: =K77-N77 -> 0 | Y77: =IF(V77<>"",X77-W77,"") | Z77: =IF(V77<>"",V77*Y77,"") | AA77: =IF(V77<>"",IF(W77<7,7-W77,0),"") | AB77: =IF(V77<>"",IF(X77>22,X77-22,0),"") | AC77: =IF(V77<>"",IF(P77=V77,IF((Y77+Y78)>8,(Y77+Y78)-8),IF(Y77>8,Y77-8,0)),"") | AD77: =IF(V77<>"",V77*AA77*0.25,"") | AE77: =IF(V77<>"",V77*AB77*0.25,"") | AF77: =IF(AC77<>"",V77*0.25*AC77,"") | AG77: =IF(I77="","",IF(AV77>2,IF(BG77=3,$AG$42,IF(BG77=2,$AG$42,$AG$43)),IF(AV77=2,IF(BG77=3,$AG$42,$AG$43),$AG$43))) | AH77: =IF(V77<>"",Z77+AD77+AE77+AF77,"") | AL77: 1 | AM77: =CONCATENATE($M$71,$N77) -> 4 | AN77: =CONCATENATE($M$71,$M77) -> 4 | AO77: =COUNTIF($I$72:I77,I77) -> 0 | AP77: =Y77 | AQ77: =AH77 | AR77: =IF(G77="","",SUMIF($G$4:$G$32,G77,$F$4:$F$32)) -> 0 | AS77: =IF($I77="","",RANK($I77,$I$73:$I$348,0)) | AU77: =IF(I77>1,1,"") | AV77: =SUMIF($I$45:$I$348,I77,$AU$45:$AU$348) -> 0 | AW77: =IF(AV77<1,0,SUMIF($I$44:I76,I77,$W$44:W76)) -> 0 | AX77: =IF(AV77<2,0,SUMIF($I78:I$348,I77,$W78:W$348)) -> 0 | AY77: =IF(AV77=2,IF(BG77=2,0,IF(BC77>=8,IF(Y77>8,(8-Y77)+Y77,Y77),IF(BC77+Y77<8,0,BC77+Y77-8))),0) -> 0 | AZ77: =IF(BG77=1,0,IF(BG77=2,IF(BH77>8,IF(Y77>8,8-Y77+Y77,Y77),IF(Y77>8,Y77+BH77-8-(Y77-8),IF(BH77+Y77>8,BH77+Y77-8,0))),IF(BG77=3,IF(BC77+BD72>8,IF(Y77>=8,8,Y77),IF(Y77+BC77+BD72>8,Y77+BC77+BD72-8,0)),0))) -> 0 | BA77: =IF(AW77+AX77=0,0,IF(AW77=0,VLOOKUP(I77,I78:$W$348,15,FALSE),VLOOKUP(I77,$I$45:$W77,15,FALSE))) -> 0 | BB77: =IF(BA77>W77,1,0)+IF(BA77>BD77,1,0) -> 0 | BC77: =IF(AW77+AX77=0,0,IF(AW77=0,VLOOKUP(I77,I78:$Y$348,17,FALSE),VLOOKUP(I77,$I$45:$Y77,17,FALSE))) -> 0 | BD77: =IF(AND(AW77>1,AX77>1),AX77,AW77+AX77-BA77) -> 0 | BE77: =IF(BD77>BA77,1,0)+IF(BD77>W77,1,0) -> 0 | BF77: =IF(I77="","",SUMIF($I$45:$I$348,I77,$Y$45:$Y$348)-BC77-Y77) | BG77: =IF(AW77+AX77=0,0,IF(BB77+BE77=3,1,IF(BB77+BE77=2,2,3))) -> 0 | BH77: =IF(BE77=2,BC77,BF77) | BI77: =IF($BG77<>"",$J77,IF($BG77=3,$J77,IF($BG77=2,$J77,IF($BG77=1,$J77,"")))) -> 0 | BJ77: =IF($BG77<>"",$K77,IF($BG77=3,$K77,IF($BG77=2,$K77,IF($BG77=1,$K77,"")))) -> 0 | BK77: =IF(AR77=AR76,"",AR77) | BL77: =COUNTIF($B$73:B77,B77) -> 5 | BN77: =IF($BM$76>=11,5,"") | BO77: =$G$5 -> グリニッジ
A78: =IF(I78="","",CONCATENATE(AO78,CONCATENATE(SUMIF($G$4:$G$32,G78,$F$4:$F$32),I78))) | B78: =IF(G78="","",SUMIF($G$4:$G$32,G78,$F$4:$F$32)) -> 0 | C78: =AO78 -> 0 | D78: =CONCATENATE(AR78,CONCATENATE(E78,F78)) -> 031 | E78: =IF(I78="","",IF(AR77=AR78,SUMIF($AR$73:$AR$348,AR78),IF(AR79="",AR78,IF(AR78=AR79,SUMIF($AR$73:$AR$348,AR78))))) | F78: =F77+1 -> 31 | G78: =CONCATENATE($G$71,F78) -> 031 | H78: =IF(I78="","",VLOOKUP(I78,[3]マスター!$B$2:$C$5000,2,0)) | O78: =IF(J78="","",IF(AV78>2,IF(BG78=3,"ssS",IF(BG78=2,"sSs","Sss")),IF(AV78=2,IF(BG78=3,"sS","Ss"),""))) | P78: =IF(I78="","",VLOOKUP(I78,[3]マスター!$B$2:$C$5000,2,0)) | Q78: =VLOOKUP(R78,[3]マスター!$B$2:$C$5000,2,0) -> #N/A | R78: =VLOOKUP(S78,[3]マスター!$B$2:$C$5000,2,0) -> #N/A | S78: =IF(I78="","",VLOOKUP(I78,[3]マスター!$B$2:$D$5000,3,0)) | U78: =IF(I78="","",VLOOKUP(I78,[3]マスター!$B$2:$L$5000,11,0)) | V78: =IF(I78="","",VLOOKUP(I78,[3]マスター!$B$2:$K$5000,10,0)) | W78: =J78+L78 -> 0 | X78: =K78-N78 -> 0 | Y78: =IF(V78<>"",X78-W78,"") | Z78: =IF(V78<>"",V78*Y78,"") | AA78: =IF(V78<>"",IF(W78<7,7-W78,0),"") | AB78: =IF(V78<>"",IF(X78>22,X78-22,0),"") | AC78: =IF(V78<>"",IF(P78=V78,IF((Y78+Y79)>8,(Y78+Y79)-8),IF(Y78>8,Y78-8,0)),"") | AD78: =IF(V78<>"",V78*AA78*0.25,"") | AE78: =IF(V78<>"",V78*AB78*0.25,"") | AF78: =IF(AC78<>"",V78*0.25*AC78,"") | AG78: =IF(I78="","",IF(AV78>2,IF(BG78=3,$AG$42,IF(BG78=2,$AG$42,$AG$43)),IF(AV78=2,IF(BG78=3,$AG$42,$AG$43),$AG$43))) | AH78: =IF(V78<>"",Z78+AD78+AE78+AF78,"") | AL78: 1 | AM78: =CONCATENATE($M$71,$N78) -> 4 | AN78: =CONCATENATE($M$71,$M78) -> 4 | AO78: =COUNTIF($I$72:I78,I78) -> 0 | AP78: =Y78 | AQ78: =AH78 | AR78: =IF(G78="","",SUMIF($G$4:$G$32,G78,$F$4:$F$32)) -> 0 | AS78: =IF($I78="","",RANK($I78,$I$73:$I$348,0)) | AU78: =IF(I78>1,1,"") | AV78: =SUMIF($I$45:$I$348,I78,$AU$45:$AU$348) -> 0 | AW78: =IF(AV78<1,0,SUMIF($I$44:I77,I78,$W$44:W77)) -> 0 | AX78: =IF(AV78<2,0,SUMIF($I79:I$348,I78,$W79:W$348)) -> 0 | AY78: =IF(AV78=2,IF(BG78=2,0,IF(BC78>=8,IF(Y78>8,(8-Y78)+Y78,Y78),IF(BC78+Y78<8,0,BC78+Y78-8))),0) -> 0 | AZ78: =IF(BG78=1,0,IF(BG78=2,IF(BH78>8,IF(Y78>8,8-Y78+Y78,Y78),IF(Y78>8,Y78+BH78-8-(Y78-8),IF(BH78+Y78>8,BH78+Y78-8,0))),IF(BG78=3,IF(BC78+BD73>8,IF(Y78>=8,8,Y78),IF(Y78+BC78+BD73>8,Y78+BC78+BD73-8,0)),0))) -> 0 | BA78: =IF(AW78+AX78=0,0,IF(AW78=0,VLOOKUP(I78,I79:$W$348,15,FALSE),VLOOKUP(I78,$I$45:$W78,15,FALSE))) -> 0 | BB78: =IF(BA78>W78,1,0)+IF(BA78>BD78,1,0) -> 0 | BC78: =IF(AW78+AX78=0,0,IF(AW78=0,VLOOKUP(I78,I79:$Y$348,17,FALSE),VLOOKUP(I78,$I$45:$Y78,17,FALSE))) -> 0 | BD78: =IF(AND(AW78>1,AX78>1),AX78,AW78+AX78-BA78) -> 0 | BE78: =IF(BD78>BA78,1,0)+IF(BD78>W78,1,0) -> 0 | BF78: =IF(I78="","",SUMIF($I$45:$I$348,I78,$Y$45:$Y$348)-BC78-Y78) | BG78: =IF(AW78+AX78=0,0,IF(BB78+BE78=3,1,IF(BB78+BE78=2,2,3))) -> 0 | BH78: =IF(BE78=2,BC78,BF78) | BI78: =IF($BG78<>"",$J78,IF($BG78=3,$J78,IF($BG78=2,$J78,IF($BG78=1,$J78,"")))) -> 0 | BJ78: =IF($BG78<>"",$K78,IF($BG78=3,$K78,IF($BG78=2,$K78,IF($BG78=1,$K78,"")))) -> 0 | BK78: =IF(AR78=AR77,"",AR78) | BL78: =COUNTIF($B$73:B78,B78) -> 6 | BN78: =IF($BM$76>=21,6,"") | BO78: =$G$5 -> グリニッジ
A79: =IF(I79="","",CONCATENATE(AO79,CONCATENATE(SUMIF($G$4:$G$32,G79,$F$4:$F$32),I79))) | B79: =IF(G79="","",SUMIF($G$4:$G$32,G79,$F$4:$F$32)) -> 0 | C79: =AO79 -> 0 | D79: =CONCATENATE(AR79,CONCATENATE(E79,F79)) -> 032 | E79: =IF(I79="","",IF(AR78=AR79,SUMIF($AR$73:$AR$348,AR79),IF(AR80="",AR79,IF(AR79=AR80,SUMIF($AR$73:$AR$348,AR79))))) | F79: =F78+1 -> 32 | G79: =CONCATENATE($G$71,F79) -> 032 | H79: =IF(I79="","",VLOOKUP(I79,[3]マスター!$B$2:$C$5000,2,0)) | O79: =IF(J79="","",IF(AV79>2,IF(BG79=3,"ssS",IF(BG79=2,"sSs","Sss")),IF(AV79=2,IF(BG79=3,"sS","Ss"),""))) | P79: =IF(I79="","",VLOOKUP(I79,[3]マスター!$B$2:$C$5000,2,0)) | Q79: =VLOOKUP(R79,[3]マスター!$B$2:$C$5000,2,0) -> #N/A | R79: =VLOOKUP(S79,[3]マスター!$B$2:$C$5000,2,0) -> #N/A | S79: =IF(I79="","",VLOOKUP(I79,[3]マスター!$B$2:$D$5000,3,0)) | U79: =IF(I79="","",VLOOKUP(I79,[3]マスター!$B$2:$L$5000,11,0)) | V79: =IF(I79="","",VLOOKUP(I79,[3]マスター!$B$2:$K$5000,10,0)) | W79: =J79+L79 -> 0 | X79: =K79-N79 -> 0 | Y79: =IF(V79<>"",X79-W79,"") | Z79: =IF(V79<>"",V79*Y79,"") | AA79: =IF(V79<>"",IF(W79<7,7-W79,0),"") | AB79: =IF(V79<>"",IF(X79>22,X79-22,0),"") | AC79: =IF(V79<>"",IF(P79=V79,IF((Y79+Y80)>8,(Y79+Y80)-8),IF(Y79>8,Y79-8,0)),"") | AD79: =IF(V79<>"",V79*AA79*0.25,"") | AE79: =IF(V79<>"",V79*AB79*0.25,"") | AF79: =IF(AC79<>"",V79*0.25*AC79,"") | AG79: =IF(I79="","",IF(AV79>2,IF(BG79=3,$AG$42,IF(BG79=2,$AG$42,$AG$43)),IF(AV79=2,IF(BG79=3,$AG$42,$AG$43),$AG$43))) | AH79: =IF(V79<>"",Z79+AD79+AE79+AF79,"") | AL79: 1 | AM79: =CONCATENATE($M$71,$N79) -> 4 | AN79: =CONCATENATE($M$71,$M79) -> 4 | AO79: =COUNTIF($I$72:I79,I79) -> 0 | AP79: =Y79 | AQ79: =AH79 | AR79: =IF(G79="","",SUMIF($G$4:$G$32,G79,$F$4:$F$32)) -> 0 | AS79: =IF($I79="","",RANK($I79,$I$73:$I$348,0)) | AU79: =IF(I79>1,1,"") | AV79: =SUMIF($I$45:$I$348,I79,$AU$45:$AU$348) -> 0 | AW79: =IF(AV79<1,0,SUMIF($I$44:I78,I79,$W$44:W78)) -> 0 | AX79: =IF(AV79<2,0,SUMIF($I80:I$348,I79,$W80:W$348)) -> 0 | AY79: =IF(AV79=2,IF(BG79=2,0,IF(BC79>=8,IF(Y79>8,(8-Y79)+Y79,Y79),IF(BC79+Y79<8,0,BC79+Y79-8))),0) -> 0 | AZ79: =IF(BG79=1,0,IF(BG79=2,IF(BH79>8,IF(Y79>8,8-Y79+Y79,Y79),IF(Y79>8,Y79+BH79-8-(Y79-8),IF(BH79+Y79>8,BH79+Y79-8,0))),IF(BG79=3,IF(BC79+BD74>8,IF(Y79>=8,8,Y79),IF(Y79+BC79+BD74>8,Y79+BC79+BD74-8,0)),0))) -> 0 | BA79: =IF(AW79+AX79=0,0,IF(AW79=0,VLOOKUP(I79,I80:$W$348,15,FALSE),VLOOKUP(I79,$I$45:$W79,15,FALSE))) -> 0 | BB79: =IF(BA79>W79,1,0)+IF(BA79>BD79,1,0) -> 0 | BC79: =IF(AW79+AX79=0,0,IF(AW79=0,VLOOKUP(I79,I80:$Y$348,17,FALSE),VLOOKUP(I79,$I$45:$Y79,17,FALSE))) -> 0 | BD79: =IF(AND(AW79>1,AX79>1),AX79,AW79+AX79-BA79) -> 0 | BE79: =IF(BD79>BA79,1,0)+IF(BD79>W79,1,0) -> 0 | BF79: =IF(I79="","",SUMIF($I$45:$I$348,I79,$Y$45:$Y$348)-BC79-Y79) | BG79: =IF(AW79+AX79=0,0,IF(BB79+BE79=3,1,IF(BB79+BE79=2,2,3))) -> 0 | BH79: =IF(BE79=2,BC79,BF79) | BI79: =IF($BG79<>"",$J79,IF($BG79=3,$J79,IF($BG79=2,$J79,IF($BG79=1,$J79,"")))) -> 0 | BJ79: =IF($BG79<>"",$K79,IF($BG79=3,$K79,IF($BG79=2,$K79,IF($BG79=1,$K79,"")))) -> 0 | BK79: =IF(AR79=AR78,"",AR79) | BL79: =COUNTIF($B$73:B79,B79) -> 7 | BM79: =(SUMIF(変換前!$AR$73:$AR$348,BP79)/BP79) -> 0 | BN79: =IF($BM$79>=1,7,"") | BO79: =$G$6 -> リッチモンド | BP79: =F6 -> 35
A80: =IF(I80="","",CONCATENATE(AO80,CONCATENATE(SUMIF($G$4:$G$32,G80,$F$4:$F$32),I80))) | B80: =IF(G80="","",SUMIF($G$4:$G$32,G80,$F$4:$F$32)) -> 0 | C80: =AO80 -> 0 | D80: =CONCATENATE(AR80,CONCATENATE(E80,F80)) -> 033 | E80: =IF(I80="","",IF(AR79=AR80,SUMIF($AR$73:$AR$348,AR80),IF(AR81="",AR80,IF(AR80=AR81,SUMIF($AR$73:$AR$348,AR80))))) | F80: =F79+1 -> 33 | G80: =CONCATENATE($G$71,F80) -> 033 | H80: =IF(I80="","",VLOOKUP(I80,[3]マスター!$B$2:$C$5000,2,0)) | O80: =IF(J80="","",IF(AV80>2,IF(BG80=3,"ssS",IF(BG80=2,"sSs","Sss")),IF(AV80=2,IF(BG80=3,"sS","Ss"),""))) | P80: =IF(I80="","",VLOOKUP(I80,[3]マスター!$B$2:$C$5000,2,0)) | Q80: =VLOOKUP(R80,[3]マスター!$B$2:$C$5000,2,0) -> #N/A | R80: =VLOOKUP(S80,[3]マスター!$B$2:$C$5000,2,0) -> #N/A | S80: =IF(I80="","",VLOOKUP(I80,[3]マスター!$B$2:$D$5000,3,0)) | U80: =IF(I80="","",VLOOKUP(I80,[3]マスター!$B$2:$L$5000,11,0)) | V80: =IF(I80="","",VLOOKUP(I80,[3]マスター!$B$2:$K$5000,10,0)) | W80: =J80+L80 -> 0 | X80: =K80-N80 -> 0 | Y80: =IF(V80<>"",X80-W80,"") | Z80: =IF(V80<>"",V80*Y80,"") | AA80: =IF(V80<>"",IF(W80<7,7-W80,0),"") | AB80: =IF(V80<>"",IF(X80>22,X80-22,0),"") | AC80: =IF(V80<>"",IF(P80=V80,IF((Y80+Y81)>8,(Y80+Y81)-8),IF(Y80>8,Y80-8,0)),"") | AD80: =IF(V80<>"",V80*AA80*0.25,"") | AE80: =IF(V80<>"",V80*AB80*0.25,"") | AF80: =IF(AC80<>"",V80*0.25*AC80,"") | AG80: =IF(I80="","",IF(AV80>2,IF(BG80=3,$AG$42,IF(BG80=2,$AG$42,$AG$43)),IF(AV80=2,IF(BG80=3,$AG$42,$AG$43),$AG$43))) | AH80: =IF(V80<>"",Z80+AD80+AE80+AF80,"") | AL80: 1 | AM80: =CONCATENATE($M$71,$N80) -> 4 | AN80: =CONCATENATE($M$71,$M80) -> 4 | AO80: =COUNTIF($I$72:I80,I80) -> 0 | AP80: =Y80 | AQ80: =AH80 | AR80: =IF(G80="","",SUMIF($G$4:$G$32,G80,$F$4:$F$32)) -> 0 | AS80: =IF($I80="","",RANK($I80,$I$73:$I$348,0)) | AU80: =IF(I80>1,1,"") | AV80: =SUMIF($I$45:$I$348,I80,$AU$45:$AU$348) -> 0 | AW80: =IF(AV80<1,0,SUMIF($I$44:I79,I80,$W$44:W79)) -> 0 | AX80: =IF(AV80<2,0,SUMIF($I81:I$348,I80,$W81:W$348)) -> 0 | AY80: =IF(AV80=2,IF(BG80=2,0,IF(BC80>=8,IF(Y80>8,(8-Y80)+Y80,Y80),IF(BC80+Y80<8,0,BC80+Y80-8))),0) -> 0 | AZ80: =IF(BG80=1,0,IF(BG80=2,IF(BH80>8,IF(Y80>8,8-Y80+Y80,Y80),IF(Y80>8,Y80+BH80-8-(Y80-8),IF(BH80+Y80>8,BH80+Y80-8,0))),IF(BG80=3,IF(BC80+BD75>8,IF(Y80>=8,8,Y80),IF(Y80+BC80+BD75>8,Y80+BC80+BD75-8,0)),0))) -> 0 | BA80: =IF(AW80+AX80=0,0,IF(AW80=0,VLOOKUP(I80,I81:$W$348,15,FALSE),VLOOKUP(I80,$I$45:$W80,15,FALSE))) -> 0 | BB80: =IF(BA80>W80,1,0)+IF(BA80>BD80,1,0) -> 0 | BC80: =IF(AW80+AX80=0,0,IF(AW80=0,VLOOKUP(I80,I81:$Y$348,17,FALSE),VLOOKUP(I80,$I$45:$Y80,17,FALSE))) -> 0 | BD80: =IF(AND(AW80>1,AX80>1),AX80,AW80+AX80-BA80) -> 0 | BE80: =IF(BD80>BA80,1,0)+IF(BD80>W80,1,0) -> 0 | BF80: =IF(I80="","",SUMIF($I$45:$I$348,I80,$Y$45:$Y$348)-BC80-Y80) | BG80: =IF(AW80+AX80=0,0,IF(BB80+BE80=3,1,IF(BB80+BE80=2,2,3))) -> 0 | BH80: =IF(BE80=2,BC80,BF80) | BI80: =IF($BG80<>"",$J80,IF($BG80=3,$J80,IF($BG80=2,$J80,IF($BG80=1,$J80,"")))) -> 0 | BJ80: =IF($BG80<>"",$K80,IF($BG80=3,$K80,IF($BG80=2,$K80,IF($BG80=1,$K80,"")))) -> 0 | BK80: =IF(AR80=AR79,"",AR80) | BL80: =COUNTIF($B$73:B80,B80) -> 8 | BN80: =IF($BM$79>=11,8,"") | BO80: =$G$6 -> リッチモンド
A81: =IF(I81="","",CONCATENATE(AO81,CONCATENATE(SUMIF($G$4:$G$32,G81,$F$4:$F$32),I81))) | B81: =IF(G81="","",SUMIF($G$4:$G$32,G81,$F$4:$F$32)) -> 0 | C81: =AO81 -> 0 | D81: =CONCATENATE(AR81,CONCATENATE(E81,F81)) -> 034 | E81: =IF(I81="","",IF(AR80=AR81,SUMIF($AR$73:$AR$348,AR81),IF(AR82="",AR81,IF(AR81=AR82,SUMIF($AR$73:$AR$348,AR81))))) | F81: =F80+1 -> 34 | G81: =CONCATENATE($G$71,F81) -> 034 | H81: =IF(I81="","",VLOOKUP(I81,[3]マスター!$B$2:$C$5000,2,0)) | O81: =IF(J81="","",IF(AV81>2,IF(BG81=3,"ssS",IF(BG81=2,"sSs","Sss")),IF(AV81=2,IF(BG81=3,"sS","Ss"),""))) | P81: =IF(I81="","",VLOOKUP(I81,[3]マスター!$B$2:$C$5000,2,0)) | Q81: =VLOOKUP(R81,[3]マスター!$B$2:$C$5000,2,0) -> #N/A | R81: =VLOOKUP(S81,[3]マスター!$B$2:$C$5000,2,0) -> #N/A | S81: =IF(I81="","",VLOOKUP(I81,[3]マスター!$B$2:$D$5000,3,0)) | U81: =IF(I81="","",VLOOKUP(I81,[3]マスター!$B$2:$L$5000,11,0)) | V81: =IF(I81="","",VLOOKUP(I81,[3]マスター!$B$2:$K$5000,10,0)) | W81: =J81+L81 -> 0 | X81: =K81-N81 -> 0 | Y81: =IF(V81<>"",X81-W81,"") | Z81: =IF(V81<>"",V81*Y81,"") | AA81: =IF(V81<>"",IF(W81<7,7-W81,0),"") | AB81: =IF(V81<>"",IF(X81>22,X81-22,0),"") | AC81: =IF(V81<>"",IF(P81=V81,IF((Y81+Y82)>8,(Y81+Y82)-8),IF(Y81>8,Y81-8,0)),"") | AD81: =IF(V81<>"",V81*AA81*0.25,"") | AE81: =IF(V81<>"",V81*AB81*0.25,"") | AF81: =IF(AC81<>"",V81*0.25*AC81,"") | AG81: =IF(I81="","",IF(AV81>2,IF(BG81=3,$AG$42,IF(BG81=2,$AG$42,$AG$43)),IF(AV81=2,IF(BG81=3,$AG$42,$AG$43),$AG$43))) | AH81: =IF(V81<>"",Z81+AD81+AE81+AF81,"") | AL81: 1 | AM81: =CONCATENATE($M$71,$N81) -> 4 | AN81: =CONCATENATE($M$71,$M81) -> 4 | AO81: =COUNTIF($I$72:I81,I81) -> 0 | AP81: =Y81 | AQ81: =AH81 | AR81: =IF(G81="","",SUMIF($G$4:$G$32,G81,$F$4:$F$32)) -> 0 | AS81: =IF($I81="","",RANK($I81,$I$73:$I$348,0)) | AU81: =IF(I81>1,1,"") | AV81: =SUMIF($I$45:$I$348,I81,$AU$45:$AU$348) -> 0 | AW81: =IF(AV81<1,0,SUMIF($I$44:I80,I81,$W$44:W80)) -> 0 | AX81: =IF(AV81<2,0,SUMIF($I82:I$348,I81,$W82:W$348)) -> 0 | AY81: =IF(AV81=2,IF(BG81=2,0,IF(BC81>=8,IF(Y81>8,(8-Y81)+Y81,Y81),IF(BC81+Y81<8,0,BC81+Y81-8))),0) -> 0 | AZ81: =IF(BG81=1,0,IF(BG81=2,IF(BH81>8,IF(Y81>8,8-Y81+Y81,Y81),IF(Y81>8,Y81+BH81-8-(Y81-8),IF(BH81+Y81>8,BH81+Y81-8,0))),IF(BG81=3,IF(BC81+BD76>8,IF(Y81>=8,8,Y81),IF(Y81+BC81+BD76>8,Y81+BC81+BD76-8,0)),0))) -> 0 | BA81: =IF(AW81+AX81=0,0,IF(AW81=0,VLOOKUP(I81,I82:$W$348,15,FALSE),VLOOKUP(I81,$I$45:$W81,15,FALSE))) -> 0 | BB81: =IF(BA81>W81,1,0)+IF(BA81>BD81,1,0) -> 0 | BC81: =IF(AW81+AX81=0,0,IF(AW81=0,VLOOKUP(I81,I82:$Y$348,17,FALSE),VLOOKUP(I81,$I$45:$Y81,17,FALSE))) -> 0 | BD81: =IF(AND(AW81>1,AX81>1),AX81,AW81+AX81-BA81) -> 0 | BE81: =IF(BD81>BA81,1,0)+IF(BD81>W81,1,0) -> 0 | BF81: =IF(I81="","",SUMIF($I$45:$I$348,I81,$Y$45:$Y$348)-BC81-Y81) | BG81: =IF(AW81+AX81=0,0,IF(BB81+BE81=3,1,IF(BB81+BE81=2,2,3))) -> 0 | BH81: =IF(BE81=2,BC81,BF81) | BI81: =IF($BG81<>"",$J81,IF($BG81=3,$J81,IF($BG81=2,$J81,IF($BG81=1,$J81,"")))) -> 0 | BJ81: =IF($BG81<>"",$K81,IF($BG81=3,$K81,IF($BG81=2,$K81,IF($BG81=1,$K81,"")))) -> 0 | BK81: =IF(AR81=AR80,"",AR81) | BL81: =COUNTIF($B$73:B81,B81) -> 9 | BN81: =IF($BM$79>=21,9,"") | BO81: =$G$6 -> リッチモンド
A82: =IF(I82="","",CONCATENATE(AO82,CONCATENATE(SUMIF($G$4:$G$32,G82,$F$4:$F$32),I82))) | B82: =IF(G82="","",SUMIF($G$4:$G$32,G82,$F$4:$F$32)) -> 0 | C82: =AO82 -> 0 | D82: =CONCATENATE(AR82,CONCATENATE(E82,F82)) -> 035 | E82: =IF(I82="","",IF(AR81=AR82,SUMIF($AR$73:$AR$348,AR82),IF(AR83="",AR82,IF(AR82=AR83,SUMIF($AR$73:$AR$348,AR82))))) | F82: =F81+1 -> 35 | G82: =CONCATENATE($G$71,F82) -> 035 | H82: =IF(I82="","",VLOOKUP(I82,[3]マスター!$B$2:$C$5000,2,0)) | O82: =IF(J82="","",IF(AV82>2,IF(BG82=3,"ssS",IF(BG82=2,"sSs","Sss")),IF(AV82=2,IF(BG82=3,"sS","Ss"),""))) | P82: =IF(I82="","",VLOOKUP(I82,[3]マスター!$B$2:$C$5000,2,0)) | Q82: =VLOOKUP(R82,[3]マスター!$B$2:$C$5000,2,0) -> #N/A | R82: =VLOOKUP(S82,[3]マスター!$B$2:$C$5000,2,0) -> #N/A | S82: =IF(I82="","",VLOOKUP(I82,[3]マスター!$B$2:$D$5000,3,0)) | U82: =IF(I82="","",VLOOKUP(I82,[3]マスター!$B$2:$L$5000,11,0)) | V82: =IF(I82="","",VLOOKUP(I82,[3]マスター!$B$2:$K$5000,10,0)) | W82: =J82+L82 -> 0 | X82: =K82-N82 -> 0 | Y82: =IF(V82<>"",X82-W82,"") | Z82: =IF(V82<>"",V82*Y82,"") | AA82: =IF(V82<>"",IF(W82<7,7-W82,0),"") | AB82: =IF(V82<>"",IF(X82>22,X82-22,0),"") | AC82: =IF(V82<>"",IF(P82=V82,IF((Y82+Y83)>8,(Y82+Y83)-8),IF(Y82>8,Y82-8,0)),"") | AD82: =IF(V82<>"",V82*AA82*0.25,"") | AE82: =IF(V82<>"",V82*AB82*0.25,"") | AF82: =IF(AC82<>"",V82*0.25*AC82,"") | AG82: =IF(I82="","",IF(AV82>2,IF(BG82=3,$AG$42,IF(BG82=2,$AG$42,$AG$43)),IF(AV82=2,IF(BG82=3,$AG$42,$AG$43),$AG$43))) | AH82: =IF(V82<>"",Z82+AD82+AE82+AF82,"") | AL82: 1 | AM82: =CONCATENATE($M$71,$N82) -> 4 | AN82: =CONCATENATE($M$71,$M82) -> 4 | AO82: =COUNTIF($I$72:I82,I82) -> 0 | AP82: =Y82 | AQ82: =AH82 | AR82: =IF(G82="","",SUMIF($G$4:$G$32,G82,$F$4:$F$32)) -> 0 | AS82: =IF($I82="","",RANK($I82,$I$73:$I$348,0)) | AU82: =IF(I82>1,1,"") | AV82: =SUMIF($I$45:$I$348,I82,$AU$45:$AU$348) -> 0 | AW82: =IF(AV82<1,0,SUMIF($I$44:I81,I82,$W$44:W81)) -> 0 | AX82: =IF(AV82<2,0,SUMIF($I83:I$348,I82,$W83:W$348)) -> 0 | AY82: =IF(AV82=2,IF(BG82=2,0,IF(BC82>=8,IF(Y82>8,(8-Y82)+Y82,Y82),IF(BC82+Y82<8,0,BC82+Y82-8))),0) -> 0 | AZ82: =IF(BG82=1,0,IF(BG82=2,IF(BH82>8,IF(Y82>8,8-Y82+Y82,Y82),IF(Y82>8,Y82+BH82-8-(Y82-8),IF(BH82+Y82>8,BH82+Y82-8,0))),IF(BG82=3,IF(BC82+BD77>8,IF(Y82>=8,8,Y82),IF(Y82+BC82+BD77>8,Y82+BC82+BD77-8,0)),0))) -> 0 | BA82: =IF(AW82+AX82=0,0,IF(AW82=0,VLOOKUP(I82,I83:$W$348,15,FALSE),VLOOKUP(I82,$I$45:$W82,15,FALSE))) -> 0 | BB82: =IF(BA82>W82,1,0)+IF(BA82>BD82,1,0) -> 0 | BC82: =IF(AW82+AX82=0,0,IF(AW82=0,VLOOKUP(I82,I83:$Y$348,17,FALSE),VLOOKUP(I82,$I$45:$Y82,17,FALSE))) -> 0 | BD82: =IF(AND(AW82>1,AX82>1),AX82,AW82+AX82-BA82) -> 0 | BE82: =IF(BD82>BA82,1,0)+IF(BD82>W82,1,0) -> 0 | BF82: =IF(I82="","",SUMIF($I$45:$I$348,I82,$Y$45:$Y$348)-BC82-Y82) | BG82: =IF(AW82+AX82=0,0,IF(BB82+BE82=3,1,IF(BB82+BE82=2,2,3))) -> 0 | BH82: =IF(BE82=2,BC82,BF82) | BI82: =IF($BG82<>"",$J82,IF($BG82=3,$J82,IF($BG82=2,$J82,IF($BG82=1,$J82,"")))) -> 0 | BJ82: =IF($BG82<>"",$K82,IF($BG82=3,$K82,IF($BG82=2,$K82,IF($BG82=1,$K82,"")))) -> 0 | BK82: =IF(AR82=AR81,"",AR82) | BL82: =COUNTIF($B$73:B82,B82) -> 10 | BM82: =(SUMIF(変換前!$AR$73:$AR$348,BP82)/BP82) -> 0 | BN82: =IF($BM$82>=1,10,"") | BO82: =$G$7 -> 来賓控室 | BP82: =F7 -> 41
A83: =IF(I83="","",CONCATENATE(AO83,CONCATENATE(SUMIF($G$4:$G$32,G83,$F$4:$F$32),I83))) | B83: =IF(G83="","",SUMIF($G$4:$G$32,G83,$F$4:$F$32)) -> 0 | C83: =AO83 -> 0 | D83: =CONCATENATE(AR83,CONCATENATE(E83,F83)) -> 036 | E83: =IF(I83="","",IF(AR82=AR83,SUMIF($AR$73:$AR$348,AR83),IF(AR84="",AR83,IF(AR83=AR84,SUMIF($AR$73:$AR$348,AR83))))) | F83: =F82+1 -> 36 | G83: =CONCATENATE($G$71,F83) -> 036 | H83: =IF(I83="","",VLOOKUP(I83,[3]マスター!$B$2:$C$5000,2,0)) | O83: =IF(J83="","",IF(AV83>2,IF(BG83=3,"ssS",IF(BG83=2,"sSs","Sss")),IF(AV83=2,IF(BG83=3,"sS","Ss"),""))) | P83: =IF(I83="","",VLOOKUP(I83,[3]マスター!$B$2:$C$5000,2,0)) | Q83: =VLOOKUP(R83,[3]マスター!$B$2:$C$5000,2,0) -> #N/A | R83: =VLOOKUP(S83,[3]マスター!$B$2:$C$5000,2,0) -> #N/A | S83: =IF(I83="","",VLOOKUP(I83,[3]マスター!$B$2:$D$5000,3,0)) | U83: =IF(I83="","",VLOOKUP(I83,[3]マスター!$B$2:$L$5000,11,0)) | V83: =IF(I83="","",VLOOKUP(I83,[3]マスター!$B$2:$K$5000,10,0)) | W83: =J83+L83 -> 0 | X83: =K83-N83 -> 0 | Y83: =IF(V83<>"",X83-W83,"") | Z83: =IF(V83<>"",V83*Y83,"") | AA83: =IF(V83<>"",IF(W83<7,7-W83,0),"") | AB83: =IF(V83<>"",IF(X83>22,X83-22,0),"") | AC83: =IF(V83<>"",IF(P83=V83,IF((Y83+Y84)>8,(Y83+Y84)-8),IF(Y83>8,Y83-8,0)),"") | AD83: =IF(V83<>"",V83*AA83*0.25,"") | AE83: =IF(V83<>"",V83*AB83*0.25,"") | AF83: =IF(AC83<>"",V83*0.25*AC83,"") | AG83: =IF(I83="","",IF(AV83>2,IF(BG83=3,$AG$42,IF(BG83=2,$AG$42,$AG$43)),IF(AV83=2,IF(BG83=3,$AG$42,$AG$43),$AG$43))) | AH83: =IF(V83<>"",Z83+AD83+AE83+AF83,"") | AL83: 1 | AM83: =CONCATENATE($M$71,$N83) -> 4 | AN83: =CONCATENATE($M$71,$M83) -> 4 | AO83: =COUNTIF($I$72:I83,I83) -> 0 | AP83: =Y83 | AQ83: =AH83 | AR83: =IF(G83="","",SUMIF($G$4:$G$32,G83,$F$4:$F$32)) -> 0 | AS83: =IF($I83="","",RANK($I83,$I$73:$I$348,0)) | AU83: =IF(I83>1,1,"") | AV83: =SUMIF($I$45:$I$348,I83,$AU$45:$AU$348) -> 0 | AW83: =IF(AV83<1,0,SUMIF($I$44:I82,I83,$W$44:W82)) -> 0 | AX83: =IF(AV83<2,0,SUMIF($I84:I$348,I83,$W84:W$348)) -> 0 | AY83: =IF(AV83=2,IF(BG83=2,0,IF(BC83>=8,IF(Y83>8,(8-Y83)+Y83,Y83),IF(BC83+Y83<8,0,BC83+Y83-8))),0) -> 0 | AZ83: =IF(BG83=1,0,IF(BG83=2,IF(BH83>8,IF(Y83>8,8-Y83+Y83,Y83),IF(Y83>8,Y83+BH83-8-(Y83-8),IF(BH83+Y83>8,BH83+Y83-8,0))),IF(BG83=3,IF(BC83+BD78>8,IF(Y83>=8,8,Y83),IF(Y83+BC83+BD78>8,Y83+BC83+BD78-8,0)),0))) -> 0 | BA83: =IF(AW83+AX83=0,0,IF(AW83=0,VLOOKUP(I83,I84:$W$348,15,FALSE),VLOOKUP(I83,$I$45:$W83,15,FALSE))) -> 0 | BB83: =IF(BA83>W83,1,0)+IF(BA83>BD83,1,0) -> 0 | BC83: =IF(AW83+AX83=0,0,IF(AW83=0,VLOOKUP(I83,I84:$Y$348,17,FALSE),VLOOKUP(I83,$I$45:$Y83,17,FALSE))) -> 0 | BD83: =IF(AND(AW83>1,AX83>1),AX83,AW83+AX83-BA83) -> 0 | BE83: =IF(BD83>BA83,1,0)+IF(BD83>W83,1,0) -> 0 | BF83: =IF(I83="","",SUMIF($I$45:$I$348,I83,$Y$45:$Y$348)-BC83-Y83) | BG83: =IF(AW83+AX83=0,0,IF(BB83+BE83=3,1,IF(BB83+BE83=2,2,3))) -> 0 | BH83: =IF(BE83=2,BC83,BF83) | BI83: =IF($BG83<>"",$J83,IF($BG83=3,$J83,IF($BG83=2,$J83,IF($BG83=1,$J83,"")))) -> 0 | BJ83: =IF($BG83<>"",$K83,IF($BG83=3,$K83,IF($BG83=2,$K83,IF($BG83=1,$K83,"")))) -> 0 | BK83: =IF(AR83=AR82,"",AR83) | BL83: =COUNTIF($B$73:B83,B83) -> 11 | BN83: =IF($BM$82>=11,11,"") | BO83: =$G$7 -> 来賓控室
A84: =IF(I84="","",CONCATENATE(AO84,CONCATENATE(SUMIF($G$4:$G$32,G84,$F$4:$F$32),I84))) | B84: =IF(G84="","",SUMIF($G$4:$G$32,G84,$F$4:$F$32)) -> 0 | C84: =AO84 -> 0 | D84: =CONCATENATE(AR84,CONCATENATE(E84,F84)) -> 037 | E84: =IF(I84="","",IF(AR83=AR84,SUMIF($AR$73:$AR$348,AR84),IF(AR85="",AR84,IF(AR84=AR85,SUMIF($AR$73:$AR$348,AR84))))) | F84: =F83+1 -> 37 | G84: =CONCATENATE($G$71,F84) -> 037 | H84: =IF(I84="","",VLOOKUP(I84,[3]マスター!$B$2:$C$5000,2,0)) | O84: =IF(J84="","",IF(AV84>2,IF(BG84=3,"ssS",IF(BG84=2,"sSs","Sss")),IF(AV84=2,IF(BG84=3,"sS","Ss"),""))) | P84: =IF(I84="","",VLOOKUP(I84,[3]マスター!$B$2:$C$5000,2,0)) | Q84: =VLOOKUP(R84,[3]マスター!$B$2:$C$5000,2,0) -> #N/A | R84: =VLOOKUP(S84,[3]マスター!$B$2:$C$5000,2,0) -> #N/A | S84: =IF(I84="","",VLOOKUP(I84,[3]マスター!$B$2:$D$5000,3,0)) | U84: =IF(I84="","",VLOOKUP(I84,[3]マスター!$B$2:$L$5000,11,0)) | V84: =IF(I84="","",VLOOKUP(I84,[3]マスター!$B$2:$K$5000,10,0)) | W84: =J84+L84 -> 0 | X84: =K84-N84 -> 0 | Y84: =IF(V84<>"",X84-W84,"") | Z84: =IF(V84<>"",V84*Y84,"") | AA84: =IF(V84<>"",IF(W84<7,7-W84,0),"") | AB84: =IF(V84<>"",IF(X84>22,X84-22,0),"") | AC84: =IF(V84<>"",IF(P84=V84,IF((Y84+Y85)>8,(Y84+Y85)-8),IF(Y84>8,Y84-8,0)),"") | AD84: =IF(V84<>"",V84*AA84*0.25,"") | AE84: =IF(V84<>"",V84*AB84*0.25,"") | AF84: =IF(AC84<>"",V84*0.25*AC84,"") | AG84: =IF(I84="","",IF(AV84>2,IF(BG84=3,$AG$42,IF(BG84=2,$AG$42,$AG$43)),IF(AV84=2,IF(BG84=3,$AG$42,$AG$43),$AG$43))) | AH84: =IF(V84<>"",Z84+AD84+AE84+AF84,"") | AL84: 1 | AM84: =CONCATENATE($M$71,$N84) -> 4 | AN84: =CONCATENATE($M$71,$M84) -> 4 | AO84: =COUNTIF($I$72:I84,I84) -> 0 | AP84: =Y84 | AQ84: =AH84 | AR84: =IF(G84="","",SUMIF($G$4:$G$32,G84,$F$4:$F$32)) -> 0 | AS84: =IF($I84="","",RANK($I84,$I$73:$I$348,0)) | AU84: =IF(I84>1,1,"") | AV84: =SUMIF($I$45:$I$348,I84,$AU$45:$AU$348) -> 0 | AW84: =IF(AV84<1,0,SUMIF($I$44:I83,I84,$W$44:W83)) -> 0 | AX84: =IF(AV84<2,0,SUMIF($I85:I$348,I84,$W85:W$348)) -> 0 | AY84: =IF(AV84=2,IF(BG84=2,0,IF(BC84>=8,IF(Y84>8,(8-Y84)+Y84,Y84),IF(BC84+Y84<8,0,BC84+Y84-8))),0) -> 0 | AZ84: =IF(BG84=1,0,IF(BG84=2,IF(BH84>8,IF(Y84>8,8-Y84+Y84,Y84),IF(Y84>8,Y84+BH84-8-(Y84-8),IF(BH84+Y84>8,BH84+Y84-8,0))),IF(BG84=3,IF(BC84+BD79>8,IF(Y84>=8,8,Y84),IF(Y84+BC84+BD79>8,Y84+BC84+BD79-8,0)),0))) -> 0 | BA84: =IF(AW84+AX84=0,0,IF(AW84=0,VLOOKUP(I84,I85:$W$348,15,FALSE),VLOOKUP(I84,$I$45:$W84,15,FALSE))) -> 0 | BB84: =IF(BA84>W84,1,0)+IF(BA84>BD84,1,0) -> 0 | BC84: =IF(AW84+AX84=0,0,IF(AW84=0,VLOOKUP(I84,I85:$Y$348,17,FALSE),VLOOKUP(I84,$I$45:$Y84,17,FALSE))) -> 0 | BD84: =IF(AND(AW84>1,AX84>1),AX84,AW84+AX84-BA84) -> 0 | BE84: =IF(BD84>BA84,1,0)+IF(BD84>W84,1,0) -> 0 | BF84: =IF(I84="","",SUMIF($I$45:$I$348,I84,$Y$45:$Y$348)-BC84-Y84) | BG84: =IF(AW84+AX84=0,0,IF(BB84+BE84=3,1,IF(BB84+BE84=2,2,3))) -> 0 | BH84: =IF(BE84=2,BC84,BF84) | BI84: =IF($BG84<>"",$J84,IF($BG84=3,$J84,IF($BG84=2,$J84,IF($BG84=1,$J84,"")))) -> 0 | BJ84: =IF($BG84<>"",$K84,IF($BG84=3,$K84,IF($BG84=2,$K84,IF($BG84=1,$K84,"")))) -> 0 | BK84: =IF(AR84=AR83,"",AR84) | BL84: =COUNTIF($B$73:B84,B84) -> 12 | BN84: =IF($BM$82>=21,12,"") | BO84: =$G$7 -> 来賓控室
A85: =IF(I85="","",CONCATENATE(AO85,CONCATENATE(SUMIF($G$4:$G$32,G85,$F$4:$F$32),I85))) | B85: =IF(G85="","",SUMIF($G$4:$G$32,G85,$F$4:$F$32)) -> 0 | C85: =AO85 -> 0 | D85: =CONCATENATE(AR85,CONCATENATE(E85,F85)) -> 038 | E85: =IF(I85="","",IF(AR84=AR85,SUMIF($AR$73:$AR$348,AR85),IF(AR86="",AR85,IF(AR85=AR86,SUMIF($AR$73:$AR$348,AR85))))) | F85: =F84+1 -> 38 | G85: =CONCATENATE($G$71,F85) -> 038 | H85: =IF(I85="","",VLOOKUP(I85,[3]マスター!$B$2:$C$5000,2,0)) | O85: =IF(J85="","",IF(AV85>2,IF(BG85=3,"ssS",IF(BG85=2,"sSs","Sss")),IF(AV85=2,IF(BG85=3,"sS","Ss"),""))) | P85: =IF(I85="","",VLOOKUP(I85,[3]マスター!$B$2:$C$5000,2,0)) | Q85: =VLOOKUP(R85,[3]マスター!$B$2:$C$5000,2,0) -> #N/A | R85: =VLOOKUP(S85,[3]マスター!$B$2:$C$5000,2,0) -> #N/A | S85: =IF(I85="","",VLOOKUP(I85,[3]マスター!$B$2:$D$5000,3,0)) | U85: =IF(I85="","",VLOOKUP(I85,[3]マスター!$B$2:$L$5000,11,0)) | V85: =IF(I85="","",VLOOKUP(I85,[3]マスター!$B$2:$K$5000,10,0)) | W85: =J85+L85 -> 0 | X85: =K85-N85 -> 0 | Y85: =IF(V85<>"",X85-W85,"") | Z85: =IF(V85<>"",V85*Y85,"") | AA85: =IF(V85<>"",IF(W85<7,7-W85,0),"") | AB85: =IF(V85<>"",IF(X85>22,X85-22,0),"") | AC85: =IF(V85<>"",IF(P85=V85,IF((Y85+Y86)>8,(Y85+Y86)-8),IF(Y85>8,Y85-8,0)),"") | AD85: =IF(V85<>"",V85*AA85*0.25,"") | AE85: =IF(V85<>"",V85*AB85*0.25,"") | AF85: =IF(AC85<>"",V85*0.25*AC85,"") | AG85: =IF(I85="","",IF(AV85>2,IF(BG85=3,$AG$42,IF(BG85=2,$AG$42,$AG$43)),IF(AV85=2,IF(BG85=3,$AG$42,$AG$43),$AG$43))) | AH85: =IF(V85<>"",Z85+AD85+AE85+AF85,"") | AL85: 1 | AM85: =CONCATENATE($M$71,$N85) -> 4 | AN85: =CONCATENATE($M$71,$M85) -> 4 | AO85: =COUNTIF($I$72:I85,I85) -> 0 | AP85: =Y85 | AQ85: =AH85 | AR85: =IF(G85="","",SUMIF($G$4:$G$32,G85,$F$4:$F$32)) -> 0 | AS85: =IF($I85="","",RANK($I85,$I$73:$I$348,0)) | AU85: =IF(I85>1,1,"") | AV85: =SUMIF($I$45:$I$348,I85,$AU$45:$AU$348) -> 0 | AW85: =IF(AV85<1,0,SUMIF($I$44:I84,I85,$W$44:W84)) -> 0 | AX85: =IF(AV85<2,0,SUMIF($I86:I$348,I85,$W86:W$348)) -> 0 | AY85: =IF(AV85=2,IF(BG85=2,0,IF(BC85>=8,IF(Y85>8,(8-Y85)+Y85,Y85),IF(BC85+Y85<8,0,BC85+Y85-8))),0) -> 0 | AZ85: =IF(BG85=1,0,IF(BG85=2,IF(BH85>8,IF(Y85>8,8-Y85+Y85,Y85),IF(Y85>8,Y85+BH85-8-(Y85-8),IF(BH85+Y85>8,BH85+Y85-8,0))),IF(BG85=3,IF(BC85+BD80>8,IF(Y85>=8,8,Y85),IF(Y85+BC85+BD80>8,Y85+BC85+BD80-8,0)),0))) -> 0 | BA85: =IF(AW85+AX85=0,0,IF(AW85=0,VLOOKUP(I85,I86:$W$348,15,FALSE),VLOOKUP(I85,$I$45:$W85,15,FALSE))) -> 0 | BB85: =IF(BA85>W85,1,0)+IF(BA85>BD85,1,0) -> 0 | BC85: =IF(AW85+AX85=0,0,IF(AW85=0,VLOOKUP(I85,I86:$Y$348,17,FALSE),VLOOKUP(I85,$I$45:$Y85,17,FALSE))) -> 0 | BD85: =IF(AND(AW85>1,AX85>1),AX85,AW85+AX85-BA85) -> 0 | BE85: =IF(BD85>BA85,1,0)+IF(BD85>W85,1,0) -> 0 | BF85: =IF(I85="","",SUMIF($I$45:$I$348,I85,$Y$45:$Y$348)-BC85-Y85) | BG85: =IF(AW85+AX85=0,0,IF(BB85+BE85=3,1,IF(BB85+BE85=2,2,3))) -> 0 | BH85: =IF(BE85=2,BC85,BF85) | BI85: =IF($BG85<>"",$J85,IF($BG85=3,$J85,IF($BG85=2,$J85,IF($BG85=1,$J85,"")))) -> 0 | BJ85: =IF($BG85<>"",$K85,IF($BG85=3,$K85,IF($BG85=2,$K85,IF($BG85=1,$K85,"")))) -> 0 | BK85: =IF(AR85=AR84,"",AR85) | BL85: =COUNTIF($B$73:B85,B85) -> 13 | BM85: =(SUMIF(変換前!$AR$73:$AR$348,BP85)/BP85) -> 0 | BN85: =IF($BM$85>=1,13,"") | BO85: =$G$8 -> アマリー① | BP85: =F8 -> 57
A86: =IF(I86="","",CONCATENATE(AO86,CONCATENATE(SUMIF($G$4:$G$32,G86,$F$4:$F$32),I86))) | B86: =IF(G86="","",SUMIF($G$4:$G$32,G86,$F$4:$F$32)) -> 0 | C86: =AO86 -> 0 | D86: =CONCATENATE(AR86,CONCATENATE(E86,F86)) -> 039 | E86: =IF(I86="","",IF(AR85=AR86,SUMIF($AR$73:$AR$348,AR86),IF(AR87="",AR86,IF(AR86=AR87,SUMIF($AR$73:$AR$348,AR86))))) | F86: =F85+1 -> 39 | G86: =CONCATENATE($G$71,F86) -> 039 | H86: =IF(I86="","",VLOOKUP(I86,[3]マスター!$B$2:$C$5000,2,0)) | O86: =IF(J86="","",IF(AV86>2,IF(BG86=3,"ssS",IF(BG86=2,"sSs","Sss")),IF(AV86=2,IF(BG86=3,"sS","Ss"),""))) | P86: =IF(I86="","",VLOOKUP(I86,[3]マスター!$B$2:$C$5000,2,0)) | Q86: =VLOOKUP(R86,[3]マスター!$B$2:$C$5000,2,0) -> #N/A | R86: =VLOOKUP(S86,[3]マスター!$B$2:$C$5000,2,0) -> #N/A | S86: =IF(I86="","",VLOOKUP(I86,[3]マスター!$B$2:$D$5000,3,0)) | U86: =IF(I86="","",VLOOKUP(I86,[3]マスター!$B$2:$L$5000,11,0)) | V86: =IF(I86="","",VLOOKUP(I86,[3]マスター!$B$2:$K$5000,10,0)) | W86: =J86+L86 -> 0 | X86: =K86-N86 -> 0 | Y86: =IF(V86<>"",X86-W86,"") | Z86: =IF(V86<>"",V86*Y86,"") | AA86: =IF(V86<>"",IF(W86<7,7-W86,0),"") | AB86: =IF(V86<>"",IF(X86>22,X86-22,0),"") | AC86: =IF(V86<>"",IF(P86=V86,IF((Y86+Y87)>8,(Y86+Y87)-8),IF(Y86>8,Y86-8,0)),"") | AD86: =IF(V86<>"",V86*AA86*0.25,"") | AE86: =IF(V86<>"",V86*AB86*0.25,"") | AF86: =IF(AC86<>"",V86*0.25*AC86,"") | AG86: =IF(I86="","",IF(AV86>2,IF(BG86=3,$AG$42,IF(BG86=2,$AG$42,$AG$43)),IF(AV86=2,IF(BG86=3,$AG$42,$AG$43),$AG$43))) | AH86: =IF(V86<>"",Z86+AD86+AE86+AF86,"") | AL86: 1 | AM86: =CONCATENATE($M$71,$N86) -> 4 | AN86: =CONCATENATE($M$71,$M86) -> 4 | AO86: =COUNTIF($I$72:I86,I86) -> 0 | AP86: =Y86 | AQ86: =AH86 | AR86: =IF(G86="","",SUMIF($G$4:$G$32,G86,$F$4:$F$32)) -> 0 | AS86: =IF($I86="","",RANK($I86,$I$73:$I$348,0)) | AU86: =IF(I86>1,1,"") | AV86: =SUMIF($I$45:$I$348,I86,$AU$45:$AU$348) -> 0 | AW86: =IF(AV86<1,0,SUMIF($I$44:I85,I86,$W$44:W85)) -> 0 | AX86: =IF(AV86<2,0,SUMIF($I87:I$348,I86,$W87:W$348)) -> 0 | AY86: =IF(AV86=2,IF(BG86=2,0,IF(BC86>=8,IF(Y86>8,(8-Y86)+Y86,Y86),IF(BC86+Y86<8,0,BC86+Y86-8))),0) -> 0 | AZ86: =IF(BG86=1,0,IF(BG86=2,IF(BH86>8,IF(Y86>8,8-Y86+Y86,Y86),IF(Y86>8,Y86+BH86-8-(Y86-8),IF(BH86+Y86>8,BH86+Y86-8,0))),IF(BG86=3,IF(BC86+BD81>8,IF(Y86>=8,8,Y86),IF(Y86+BC86+BD81>8,Y86+BC86+BD81-8,0)),0))) -> 0 | BA86: =IF(AW86+AX86=0,0,IF(AW86=0,VLOOKUP(I86,I87:$W$348,15,FALSE),VLOOKUP(I86,$I$45:$W86,15,FALSE))) -> 0 | BB86: =IF(BA86>W86,1,0)+IF(BA86>BD86,1,0) -> 0 | BC86: =IF(AW86+AX86=0,0,IF(AW86=0,VLOOKUP(I86,I87:$Y$348,17,FALSE),VLOOKUP(I86,$I$45:$Y86,17,FALSE))) -> 0 | BD86: =IF(AND(AW86>1,AX86>1),AX86,AW86+AX86-BA86) -> 0 | BE86: =IF(BD86>BA86,1,0)+IF(BD86>W86,1,0) -> 0 | BF86: =IF(I86="","",SUMIF($I$45:$I$348,I86,$Y$45:$Y$348)-BC86-Y86) | BG86: =IF(AW86+AX86=0,0,IF(BB86+BE86=3,1,IF(BB86+BE86=2,2,3))) -> 0 | BH86: =IF(BE86=2,BC86,BF86) | BI86: =IF($BG86<>"",$J86,IF($BG86=3,$J86,IF($BG86=2,$J86,IF($BG86=1,$J86,"")))) -> 0 | BJ86: =IF($BG86<>"",$K86,IF($BG86=3,$K86,IF($BG86=2,$K86,IF($BG86=1,$K86,"")))) -> 0 | BK86: =IF(AR86=AR85,"",AR86) | BL86: =COUNTIF($B$73:B86,B86) -> 14 | BN86: =IF($BM$85>=11,14,"") | BO86: =$G$8 -> アマリー①
A87: =IF(I87="","",CONCATENATE(AO87,CONCATENATE(SUMIF($G$4:$G$32,G87,$F$4:$F$32),I87))) | B87: =IF(G87="","",SUMIF($G$4:$G$32,G87,$F$4:$F$32)) -> 0 | C87: =AO87 -> 0 | D87: =CONCATENATE(AR87,CONCATENATE(E87,F87)) -> 040 | E87: =IF(I87="","",IF(AR86=AR87,SUMIF($AR$73:$AR$348,AR87),IF(AR88="",AR87,IF(AR87=AR88,SUMIF($AR$73:$AR$348,AR87))))) | F87: =F86+1 -> 40 | G87: =CONCATENATE($G$71,F87) -> 040 | H87: =IF(I87="","",VLOOKUP(I87,[3]マスター!$B$2:$C$5000,2,0)) | O87: =IF(J87="","",IF(AV87>2,IF(BG87=3,"ssS",IF(BG87=2,"sSs","Sss")),IF(AV87=2,IF(BG87=3,"sS","Ss"),""))) | P87: =IF(I87="","",VLOOKUP(I87,[3]マスター!$B$2:$C$5000,2,0)) | Q87: =VLOOKUP(R87,[3]マスター!$B$2:$C$5000,2,0) -> #N/A | R87: =VLOOKUP(S87,[3]マスター!$B$2:$C$5000,2,0) -> #N/A | S87: =IF(I87="","",VLOOKUP(I87,[3]マスター!$B$2:$D$5000,3,0)) | U87: =IF(I87="","",VLOOKUP(I87,[3]マスター!$B$2:$L$5000,11,0)) | V87: =IF(I87="","",VLOOKUP(I87,[3]マスター!$B$2:$K$5000,10,0)) | W87: =J87+L87 -> 0 | X87: =K87-N87 -> 0 | Y87: =IF(V87<>"",X87-W87,"") | Z87: =IF(V87<>"",V87*Y87,"") | AA87: =IF(V87<>"",IF(W87<7,7-W87,0),"") | AB87: =IF(V87<>"",IF(X87>22,X87-22,0),"") | AC87: =IF(V87<>"",IF(P87=V87,IF((Y87+Y88)>8,(Y87+Y88)-8),IF(Y87>8,Y87-8,0)),"") | AD87: =IF(V87<>"",V87*AA87*0.25,"") | AE87: =IF(V87<>"",V87*AB87*0.25,"") | AF87: =IF(AC87<>"",V87*0.25*AC87,"") | AG87: =IF(I87="","",IF(AV87>2,IF(BG87=3,$AG$42,IF(BG87=2,$AG$42,$AG$43)),IF(AV87=2,IF(BG87=3,$AG$42,$AG$43),$AG$43))) | AH87: =IF(V87<>"",Z87+AD87+AE87+AF87,"") | AL87: 1 | AM87: =CONCATENATE($M$71,$N87) -> 4 | AN87: =CONCATENATE($M$71,$M87) -> 4 | AO87: =COUNTIF($I$72:I87,I87) -> 0 | AP87: =Y87 | AQ87: =AH87 | AR87: =IF(G87="","",SUMIF($G$4:$G$32,G87,$F$4:$F$32)) -> 0 | AS87: =IF($I87="","",RANK($I87,$I$73:$I$348,0)) | AU87: =IF(I87>1,1,"") | AV87: =SUMIF($I$45:$I$348,I87,$AU$45:$AU$348) -> 0 | AW87: =IF(AV87<1,0,SUMIF($I$44:I86,I87,$W$44:W86)) -> 0 | AX87: =IF(AV87<2,0,SUMIF($I88:I$348,I87,$W88:W$348)) -> 0 | AY87: =IF(AV87=2,IF(BG87=2,0,IF(BC87>=8,IF(Y87>8,(8-Y87)+Y87,Y87),IF(BC87+Y87<8,0,BC87+Y87-8))),0) -> 0 | AZ87: =IF(BG87=1,0,IF(BG87=2,IF(BH87>8,IF(Y87>8,8-Y87+Y87,Y87),IF(Y87>8,Y87+BH87-8-(Y87-8),IF(BH87+Y87>8,BH87+Y87-8,0))),IF(BG87=3,IF(BC87+BD82>8,IF(Y87>=8,8,Y87),IF(Y87+BC87+BD82>8,Y87+BC87+BD82-8,0)),0))) -> 0 | BA87: =IF(AW87+AX87=0,0,IF(AW87=0,VLOOKUP(I87,I88:$W$348,15,FALSE),VLOOKUP(I87,$I$45:$W87,15,FALSE))) -> 0 | BB87: =IF(BA87>W87,1,0)+IF(BA87>BD87,1,0) -> 0 | BC87: =IF(AW87+AX87=0,0,IF(AW87=0,VLOOKUP(I87,I88:$Y$348,17,FALSE),VLOOKUP(I87,$I$45:$Y87,17,FALSE))) -> 0 | BD87: =IF(AND(AW87>1,AX87>1),AX87,AW87+AX87-BA87) -> 0 | BE87: =IF(BD87>BA87,1,0)+IF(BD87>W87,1,0) -> 0 | BF87: =IF(I87="","",SUMIF($I$45:$I$348,I87,$Y$45:$Y$348)-BC87-Y87) | BG87: =IF(AW87+AX87=0,0,IF(BB87+BE87=3,1,IF(BB87+BE87=2,2,3))) -> 0 | BH87: =IF(BE87=2,BC87,BF87) | BI87: =IF($BG87<>"",$J87,IF($BG87=3,$J87,IF($BG87=2,$J87,IF($BG87=1,$J87,"")))) -> 0 | BJ87: =IF($BG87<>"",$K87,IF($BG87=3,$K87,IF($BG87=2,$K87,IF($BG87=1,$K87,"")))) -> 0 | BK87: =IF(AR87=AR86,"",AR87) | BL87: =COUNTIF($B$73:B87,B87) -> 15 | BN87: =IF($BM$85>=21,15,"") | BO87: =$G$8 -> アマリー①
A88: =IF(I88="","",CONCATENATE(AO88,CONCATENATE(SUMIF($G$4:$G$32,G88,$F$4:$F$32),I88))) | B88: =IF(G88="","",SUMIF($G$4:$G$32,G88,$F$4:$F$32)) -> 0 | C88: =AO88 -> 0 | D88: =CONCATENATE(AR88,CONCATENATE(E88,F88)) -> 041 | E88: =IF(I88="","",IF(AR87=AR88,SUMIF($AR$73:$AR$348,AR88),IF(AR89="",AR88,IF(AR88=AR89,SUMIF($AR$73:$AR$348,AR88))))) | F88: =F87+1 -> 41 | G88: =CONCATENATE($G$71,F88) -> 041 | H88: =IF(I88="","",VLOOKUP(I88,[3]マスター!$B$2:$C$5000,2,0)) | O88: =IF(J88="","",IF(AV88>2,IF(BG88=3,"ssS",IF(BG88=2,"sSs","Sss")),IF(AV88=2,IF(BG88=3,"sS","Ss"),""))) | P88: =IF(I88="","",VLOOKUP(I88,[3]マスター!$B$2:$C$5000,2,0)) | Q88: =VLOOKUP(R88,[3]マスター!$B$2:$C$5000,2,0) -> #N/A | R88: =VLOOKUP(S88,[3]マスター!$B$2:$C$5000,2,0) -> #N/A | S88: =IF(I88="","",VLOOKUP(I88,[3]マスター!$B$2:$D$5000,3,0)) | U88: =IF(I88="","",VLOOKUP(I88,[3]マスター!$B$2:$L$5000,11,0)) | V88: =IF(I88="","",VLOOKUP(I88,[3]マスター!$B$2:$K$5000,10,0)) | W88: =J88+L88 -> 0 | X88: =K88-N88 -> 0 | Y88: =IF(V88<>"",X88-W88,"") | Z88: =IF(V88<>"",V88*Y88,"") | AA88: =IF(V88<>"",IF(W88<7,7-W88,0),"") | AB88: =IF(V88<>"",IF(X88>22,X88-22,0),"") | AC88: =IF(V88<>"",IF(P88=V88,IF((Y88+Y89)>8,(Y88+Y89)-8),IF(Y88>8,Y88-8,0)),"") | AD88: =IF(V88<>"",V88*AA88*0.25,"") | AE88: =IF(V88<>"",V88*AB88*0.25,"") | AF88: =IF(AC88<>"",V88*0.25*AC88,"") | AG88: =IF(I88="","",IF(AV88>2,IF(BG88=3,$AG$42,IF(BG88=2,$AG$42,$AG$43)),IF(AV88=2,IF(BG88=3,$AG$42,$AG$43),$AG$43))) | AH88: =IF(V88<>"",Z88+AD88+AE88+AF88,"") | AL88: 1 | AM88: =CONCATENATE($M$71,$N88) -> 4 | AN88: =CONCATENATE($M$71,$M88) -> 4 | AO88: =COUNTIF($I$72:I88,I88) -> 0 | AP88: =Y88 | AQ88: =AH88 | AR88: =IF(G88="","",SUMIF($G$4:$G$32,G88,$F$4:$F$32)) -> 0 | AS88: =IF($I88="","",RANK($I88,$I$73:$I$348,0)) | AU88: =IF(I88>1,1,"") | AV88: =SUMIF($I$45:$I$348,I88,$AU$45:$AU$348) -> 0 | AW88: =IF(AV88<1,0,SUMIF($I$44:I87,I88,$W$44:W87)) -> 0 | AX88: =IF(AV88<2,0,SUMIF($I89:I$348,I88,$W89:W$348)) -> 0 | AY88: =IF(AV88=2,IF(BG88=2,0,IF(BC88>=8,IF(Y88>8,(8-Y88)+Y88,Y88),IF(BC88+Y88<8,0,BC88+Y88-8))),0) -> 0 | AZ88: =IF(BG88=1,0,IF(BG88=2,IF(BH88>8,IF(Y88>8,8-Y88+Y88,Y88),IF(Y88>8,Y88+BH88-8-(Y88-8),IF(BH88+Y88>8,BH88+Y88-8,0))),IF(BG88=3,IF(BC88+BD83>8,IF(Y88>=8,8,Y88),IF(Y88+BC88+BD83>8,Y88+BC88+BD83-8,0)),0))) -> 0 | BA88: =IF(AW88+AX88=0,0,IF(AW88=0,VLOOKUP(I88,I89:$W$348,15,FALSE),VLOOKUP(I88,$I$45:$W88,15,FALSE))) -> 0 | BB88: =IF(BA88>W88,1,0)+IF(BA88>BD88,1,0) -> 0 | BC88: =IF(AW88+AX88=0,0,IF(AW88=0,VLOOKUP(I88,I89:$Y$348,17,FALSE),VLOOKUP(I88,$I$45:$Y88,17,FALSE))) -> 0 | BD88: =IF(AND(AW88>1,AX88>1),AX88,AW88+AX88-BA88) -> 0 | BE88: =IF(BD88>BA88,1,0)+IF(BD88>W88,1,0) -> 0 | BF88: =IF(I88="","",SUMIF($I$45:$I$348,I88,$Y$45:$Y$348)-BC88-Y88) | BG88: =IF(AW88+AX88=0,0,IF(BB88+BE88=3,1,IF(BB88+BE88=2,2,3))) -> 0 | BH88: =IF(BE88=2,BC88,BF88) | BI88: =IF($BG88<>"",$J88,IF($BG88=3,$J88,IF($BG88=2,$J88,IF($BG88=1,$J88,"")))) -> 0 | BJ88: =IF($BG88<>"",$K88,IF($BG88=3,$K88,IF($BG88=2,$K88,IF($BG88=1,$K88,"")))) -> 0 | BK88: =IF(AR88=AR87,"",AR88) | BL88: =COUNTIF($B$73:B88,B88) -> 16 | BM88: =(SUMIF(変換前!$AR$73:$AR$348,BP88)/BP88) -> 0 | BN88: =IF($BM$88>=1,16,"") | BO88: =$G$9 -> アマリー② | BP88: =F9 -> 65
A89: =IF(I89="","",CONCATENATE(AO89,CONCATENATE(SUMIF($G$4:$G$32,G89,$F$4:$F$32),I89))) | B89: =IF(G89="","",SUMIF($G$4:$G$32,G89,$F$4:$F$32)) -> 0 | C89: =AO89 -> 0 | D89: =CONCATENATE(AR89,CONCATENATE(E89,F89)) -> 042 | E89: =IF(I89="","",IF(AR88=AR89,SUMIF($AR$73:$AR$348,AR89),IF(AR90="",AR89,IF(AR89=AR90,SUMIF($AR$73:$AR$348,AR89))))) | F89: =F88+1 -> 42 | G89: =CONCATENATE($G$71,F89) -> 042 | H89: =IF(I89="","",VLOOKUP(I89,[3]マスター!$B$2:$C$5000,2,0)) | O89: =IF(J89="","",IF(AV89>2,IF(BG89=3,"ssS",IF(BG89=2,"sSs","Sss")),IF(AV89=2,IF(BG89=3,"sS","Ss"),""))) | P89: =IF(I89="","",VLOOKUP(I89,[3]マスター!$B$2:$C$5000,2,0)) | Q89: =VLOOKUP(R89,[3]マスター!$B$2:$C$5000,2,0) -> #N/A | R89: =VLOOKUP(S89,[3]マスター!$B$2:$C$5000,2,0) -> #N/A | S89: =IF(I89="","",VLOOKUP(I89,[3]マスター!$B$2:$D$5000,3,0)) | U89: =IF(I89="","",VLOOKUP(I89,[3]マスター!$B$2:$L$5000,11,0)) | V89: =IF(I89="","",VLOOKUP(I89,[3]マスター!$B$2:$K$5000,10,0)) | W89: =J89+L89 -> 0 | X89: =K89-N89 -> 0 | Y89: =IF(V89<>"",X89-W89,"") | Z89: =IF(V89<>"",V89*Y89,"") | AA89: =IF(V89<>"",IF(W89<7,7-W89,0),"") | AB89: =IF(V89<>"",IF(X89>22,X89-22,0),"") | AC89: =IF(V89<>"",IF(P89=V89,IF((Y89+Y90)>8,(Y89+Y90)-8),IF(Y89>8,Y89-8,0)),"") | AD89: =IF(V89<>"",V89*AA89*0.25,"") | AE89: =IF(V89<>"",V89*AB89*0.25,"") | AF89: =IF(AC89<>"",V89*0.25*AC89,"") | AG89: =IF(I89="","",IF(AV89>2,IF(BG89=3,$AG$42,IF(BG89=2,$AG$42,$AG$43)),IF(AV89=2,IF(BG89=3,$AG$42,$AG$43),$AG$43))) | AH89: =IF(V89<>"",Z89+AD89+AE89+AF89,"") | AL89: 1 | AM89: =CONCATENATE($M$71,$N89) -> 4 | AN89: =CONCATENATE($M$71,$M89) -> 4 | AO89: =COUNTIF($I$72:I89,I89) -> 0 | AP89: =Y89 | AQ89: =AH89 | AR89: =IF(G89="","",SUMIF($G$4:$G$32,G89,$F$4:$F$32)) -> 0 | AS89: =IF($I89="","",RANK($I89,$I$73:$I$348,0)) | AU89: =IF(I89>1,1,"") | AV89: =SUMIF($I$45:$I$348,I89,$AU$45:$AU$348) -> 0 | AW89: =IF(AV89<1,0,SUMIF($I$44:I88,I89,$W$44:W88)) -> 0 | AX89: =IF(AV89<2,0,SUMIF($I90:I$348,I89,$W90:W$348)) -> 0 | AY89: =IF(AV89=2,IF(BG89=2,0,IF(BC89>=8,IF(Y89>8,(8-Y89)+Y89,Y89),IF(BC89+Y89<8,0,BC89+Y89-8))),0) -> 0 | AZ89: =IF(BG89=1,0,IF(BG89=2,IF(BH89>8,IF(Y89>8,8-Y89+Y89,Y89),IF(Y89>8,Y89+BH89-8-(Y89-8),IF(BH89+Y89>8,BH89+Y89-8,0))),IF(BG89=3,IF(BC89+BD84>8,IF(Y89>=8,8,Y89),IF(Y89+BC89+BD84>8,Y89+BC89+BD84-8,0)),0))) -> 0 | BA89: =IF(AW89+AX89=0,0,IF(AW89=0,VLOOKUP(I89,I90:$W$348,15,FALSE),VLOOKUP(I89,$I$45:$W89,15,FALSE))) -> 0 | BB89: =IF(BA89>W89,1,0)+IF(BA89>BD89,1,0) -> 0 | BC89: =IF(AW89+AX89=0,0,IF(AW89=0,VLOOKUP(I89,I90:$Y$348,17,FALSE),VLOOKUP(I89,$I$45:$Y89,17,FALSE))) -> 0 | BD89: =IF(AND(AW89>1,AX89>1),AX89,AW89+AX89-BA89) -> 0 | BE89: =IF(BD89>BA89,1,0)+IF(BD89>W89,1,0) -> 0 | BF89: =IF(I89="","",SUMIF($I$45:$I$348,I89,$Y$45:$Y$348)-BC89-Y89) | BG89: =IF(AW89+AX89=0,0,IF(BB89+BE89=3,1,IF(BB89+BE89=2,2,3))) -> 0 | BH89: =IF(BE89=2,BC89,BF89) | BI89: =IF($BG89<>"",$J89,IF($BG89=3,$J89,IF($BG89=2,$J89,IF($BG89=1,$J89,"")))) -> 0 | BJ89: =IF($BG89<>"",$K89,IF($BG89=3,$K89,IF($BG89=2,$K89,IF($BG89=1,$K89,"")))) -> 0 | BK89: =IF(AR89=AR88,"",AR89) | BL89: =COUNTIF($B$73:B89,B89) -> 17 | BN89: =IF($BM$88>=11,17,"") | BO89: =$G$9 -> アマリー②
A90: =IF(I90="","",CONCATENATE(AO90,CONCATENATE(SUMIF($G$4:$G$32,G90,$F$4:$F$32),I90))) | B90: =IF(G90="","",SUMIF($G$4:$G$32,G90,$F$4:$F$32)) -> 0 | C90: =AO90 -> 0 | D90: =CONCATENATE(AR90,CONCATENATE(E90,F90)) -> 043 | E90: =IF(I90="","",IF(AR89=AR90,SUMIF($AR$73:$AR$348,AR90),IF(AR91="",AR90,IF(AR90=AR91,SUMIF($AR$73:$AR$348,AR90))))) | F90: =F89+1 -> 43 | G90: =CONCATENATE($G$71,F90) -> 043 | H90: =IF(I90="","",VLOOKUP(I90,[3]マスター!$B$2:$C$5000,2,0)) | O90: =IF(J90="","",IF(AV90>2,IF(BG90=3,"ssS",IF(BG90=2,"sSs","Sss")),IF(AV90=2,IF(BG90=3,"sS","Ss"),""))) | P90: =IF(I90="","",VLOOKUP(I90,[3]マスター!$B$2:$C$5000,2,0)) | Q90: =VLOOKUP(R90,[3]マスター!$B$2:$C$5000,2,0) -> #N/A | R90: =VLOOKUP(S90,[3]マスター!$B$2:$C$5000,2,0) -> #N/A | S90: =IF(I90="","",VLOOKUP(I90,[3]マスター!$B$2:$D$5000,3,0)) | U90: =IF(I90="","",VLOOKUP(I90,[3]マスター!$B$2:$L$5000,11,0)) | V90: =IF(I90="","",VLOOKUP(I90,[3]マスター!$B$2:$K$5000,10,0)) | W90: =J90+L90 -> 0 | X90: =K90-N90 -> 0 | Y90: =IF(V90<>"",X90-W90,"") | Z90: =IF(V90<>"",V90*Y90,"") | AA90: =IF(V90<>"",IF(W90<7,7-W90,0),"") | AB90: =IF(V90<>"",IF(X90>22,X90-22,0),"") | AC90: =IF(V90<>"",IF(P90=V90,IF((Y90+Y91)>8,(Y90+Y91)-8),IF(Y90>8,Y90-8,0)),"") | AD90: =IF(V90<>"",V90*AA90*0.25,"") | AE90: =IF(V90<>"",V90*AB90*0.25,"") | AF90: =IF(AC90<>"",V90*0.25*AC90,"") | AG90: =IF(I90="","",IF(AV90>2,IF(BG90=3,$AG$42,IF(BG90=2,$AG$42,$AG$43)),IF(AV90=2,IF(BG90=3,$AG$42,$AG$43),$AG$43))) | AH90: =IF(V90<>"",Z90+AD90+AE90+AF90,"") | AL90: 1 | AM90: =CONCATENATE($M$71,$N90) -> 4 | AN90: =CONCATENATE($M$71,$M90) -> 4 | AO90: =COUNTIF($I$72:I90,I90) -> 0 | AP90: =Y90 | AQ90: =AH90 | AR90: =IF(G90="","",SUMIF($G$4:$G$32,G90,$F$4:$F$32)) -> 0 | AS90: =IF($I90="","",RANK($I90,$I$73:$I$348,0)) | AU90: =IF(I90>1,1,"") | AV90: =SUMIF($I$45:$I$348,I90,$AU$45:$AU$348) -> 0 | AW90: =IF(AV90<1,0,SUMIF($I$44:I89,I90,$W$44:W89)) -> 0 | AX90: =IF(AV90<2,0,SUMIF($I91:I$348,I90,$W91:W$348)) -> 0 | AY90: =IF(AV90=2,IF(BG90=2,0,IF(BC90>=8,IF(Y90>8,(8-Y90)+Y90,Y90),IF(BC90+Y90<8,0,BC90+Y90-8))),0) -> 0 | AZ90: =IF(BG90=1,0,IF(BG90=2,IF(BH90>8,IF(Y90>8,8-Y90+Y90,Y90),IF(Y90>8,Y90+BH90-8-(Y90-8),IF(BH90+Y90>8,BH90+Y90-8,0))),IF(BG90=3,IF(BC90+BD85>8,IF(Y90>=8,8,Y90),IF(Y90+BC90+BD85>8,Y90+BC90+BD85-8,0)),0))) -> 0 | BA90: =IF(AW90+AX90=0,0,IF(AW90=0,VLOOKUP(I90,I91:$W$348,15,FALSE),VLOOKUP(I90,$I$45:$W90,15,FALSE))) -> 0 | BB90: =IF(BA90>W90,1,0)+IF(BA90>BD90,1,0) -> 0 | BC90: =IF(AW90+AX90=0,0,IF(AW90=0,VLOOKUP(I90,I91:$Y$348,17,FALSE),VLOOKUP(I90,$I$45:$Y90,17,FALSE))) -> 0 | BD90: =IF(AND(AW90>1,AX90>1),AX90,AW90+AX90-BA90) -> 0 | BE90: =IF(BD90>BA90,1,0)+IF(BD90>W90,1,0) -> 0 | BF90: =IF(I90="","",SUMIF($I$45:$I$348,I90,$Y$45:$Y$348)-BC90-Y90) | BG90: =IF(AW90+AX90=0,0,IF(BB90+BE90=3,1,IF(BB90+BE90=2,2,3))) -> 0 | BH90: =IF(BE90=2,BC90,BF90) | BI90: =IF($BG90<>"",$J90,IF($BG90=3,$J90,IF($BG90=2,$J90,IF($BG90=1,$J90,"")))) -> 0 | BJ90: =IF($BG90<>"",$K90,IF($BG90=3,$K90,IF($BG90=2,$K90,IF($BG90=1,$K90,"")))) -> 0 | BK90: =IF(AR90=AR89,"",AR90) | BL90: =COUNTIF($B$73:B90,B90) -> 18 | BN90: =IF($BM$88>=21,18,"") | BO90: =$G$9 -> アマリー②
A91: =IF(I91="","",CONCATENATE(AO91,CONCATENATE(SUMIF($G$4:$G$32,G91,$F$4:$F$32),I91))) | B91: =IF(G91="","",SUMIF($G$4:$G$32,G91,$F$4:$F$32)) -> 0 | C91: =AO91 -> 0 | D91: =CONCATENATE(AR91,CONCATENATE(E91,F91)) -> 044 | E91: =IF(I91="","",IF(AR90=AR91,SUMIF($AR$73:$AR$348,AR91),IF(AR92="",AR91,IF(AR91=AR92,SUMIF($AR$73:$AR$348,AR91))))) | F91: =F90+1 -> 44 | G91: =CONCATENATE($G$71,F91) -> 044 | H91: =IF(I91="","",VLOOKUP(I91,[3]マスター!$B$2:$C$5000,2,0)) | O91: =IF(J91="","",IF(AV91>2,IF(BG91=3,"ssS",IF(BG91=2,"sSs","Sss")),IF(AV91=2,IF(BG91=3,"sS","Ss"),""))) | P91: =IF(I91="","",VLOOKUP(I91,[3]マスター!$B$2:$C$5000,2,0)) | Q91: =VLOOKUP(R91,[3]マスター!$B$2:$C$5000,2,0) -> #N/A | R91: =VLOOKUP(S91,[3]マスター!$B$2:$C$5000,2,0) -> #N/A | S91: =IF(I91="","",VLOOKUP(I91,[3]マスター!$B$2:$D$5000,3,0)) | U91: =IF(I91="","",VLOOKUP(I91,[3]マスター!$B$2:$L$5000,11,0)) | V91: =IF(I91="","",VLOOKUP(I91,[3]マスター!$B$2:$K$5000,10,0)) | W91: =J91+L91 -> 0 | X91: =K91-N91 -> 0 | Y91: =IF(V91<>"",X91-W91,"") | Z91: =IF(V91<>"",V91*Y91,"") | AA91: =IF(V91<>"",IF(W91<7,7-W91,0),"") | AB91: =IF(V91<>"",IF(X91>22,X91-22,0),"") | AC91: =IF(V91<>"",IF(P91=V91,IF((Y91+Y92)>8,(Y91+Y92)-8),IF(Y91>8,Y91-8,0)),"") | AD91: =IF(V91<>"",V91*AA91*0.25,"") | AE91: =IF(V91<>"",V91*AB91*0.25,"") | AF91: =IF(AC91<>"",V91*0.25*AC91,"") | AG91: =IF(I91="","",IF(AV91>2,IF(BG91=3,$AG$42,IF(BG91=2,$AG$42,$AG$43)),IF(AV91=2,IF(BG91=3,$AG$42,$AG$43),$AG$43))) | AH91: =IF(V91<>"",Z91+AD91+AE91+AF91,"") | AL91: 1 | AM91: =CONCATENATE($M$71,$N91) -> 4 | AN91: =CONCATENATE($M$71,$M91) -> 4 | AO91: =COUNTIF($I$72:I91,I91) -> 0 | AP91: =Y91 | AQ91: =AH91 | AR91: =IF(G91="","",SUMIF($G$4:$G$32,G91,$F$4:$F$32)) -> 0 | AS91: =IF($I91="","",RANK($I91,$I$73:$I$348,0)) | AU91: =IF(I91>1,1,"") | AV91: =SUMIF($I$45:$I$348,I91,$AU$45:$AU$348) -> 0 | AW91: =IF(AV91<1,0,SUMIF($I$44:I90,I91,$W$44:W90)) -> 0 | AX91: =IF(AV91<2,0,SUMIF($I92:I$348,I91,$W92:W$348)) -> 0 | AY91: =IF(AV91=2,IF(BG91=2,0,IF(BC91>=8,IF(Y91>8,(8-Y91)+Y91,Y91),IF(BC91+Y91<8,0,BC91+Y91-8))),0) -> 0 | AZ91: =IF(BG91=1,0,IF(BG91=2,IF(BH91>8,IF(Y91>8,8-Y91+Y91,Y91),IF(Y91>8,Y91+BH91-8-(Y91-8),IF(BH91+Y91>8,BH91+Y91-8,0))),IF(BG91=3,IF(BC91+BD86>8,IF(Y91>=8,8,Y91),IF(Y91+BC91+BD86>8,Y91+BC91+BD86-8,0)),0))) -> 0 | BA91: =IF(AW91+AX91=0,0,IF(AW91=0,VLOOKUP(I91,I92:$W$348,15,FALSE),VLOOKUP(I91,$I$45:$W91,15,FALSE))) -> 0 | BB91: =IF(BA91>W91,1,0)+IF(BA91>BD91,1,0) -> 0 | BC91: =IF(AW91+AX91=0,0,IF(AW91=0,VLOOKUP(I91,I92:$Y$348,17,FALSE),VLOOKUP(I91,$I$45:$Y91,17,FALSE))) -> 0 | BD91: =IF(AND(AW91>1,AX91>1),AX91,AW91+AX91-BA91) -> 0 | BE91: =IF(BD91>BA91,1,0)+IF(BD91>W91,1,0) -> 0 | BF91: =IF(I91="","",SUMIF($I$45:$I$348,I91,$Y$45:$Y$348)-BC91-Y91) | BG91: =IF(AW91+AX91=0,0,IF(BB91+BE91=3,1,IF(BB91+BE91=2,2,3))) -> 0 | BH91: =IF(BE91=2,BC91,BF91) | BI91: =IF($BG91<>"",$J91,IF($BG91=3,$J91,IF($BG91=2,$J91,IF($BG91=1,$J91,"")))) -> 0 | BJ91: =IF($BG91<>"",$K91,IF($BG91=3,$K91,IF($BG91=2,$K91,IF($BG91=1,$K91,"")))) -> 0 | BK91: =IF(AR91=AR90,"",AR91) | BL91: =COUNTIF($B$73:B91,B91) -> 19 | BM91: =(SUMIF(変換前!$AR$73:$AR$348,BP91)/BP91) -> 0 | BN91: =IF($BM$91>=1,19,"") | BO91: =$G$10 -> ハートウェル | BP91: =F10 -> 71
A92: =IF(I92="","",CONCATENATE(AO92,CONCATENATE(SUMIF($G$4:$G$32,G92,$F$4:$F$32),I92))) | B92: =IF(G92="","",SUMIF($G$4:$G$32,G92,$F$4:$F$32)) -> 0 | C92: =AO92 -> 0 | D92: =CONCATENATE(AR92,CONCATENATE(E92,F92)) -> 045 | E92: =IF(I92="","",IF(AR91=AR92,SUMIF($AR$73:$AR$348,AR92),IF(AR93="",AR92,IF(AR92=AR93,SUMIF($AR$73:$AR$348,AR92))))) | F92: =F91+1 -> 45 | G92: =CONCATENATE($G$71,F92) -> 045 | H92: =IF(I92="","",VLOOKUP(I92,[3]マスター!$B$2:$C$5000,2,0)) | O92: =IF(J92="","",IF(AV92>2,IF(BG92=3,"ssS",IF(BG92=2,"sSs","Sss")),IF(AV92=2,IF(BG92=3,"sS","Ss"),""))) | P92: =IF(I92="","",VLOOKUP(I92,[3]マスター!$B$2:$C$5000,2,0)) | Q92: =VLOOKUP(R92,[3]マスター!$B$2:$C$5000,2,0) -> #N/A | R92: =VLOOKUP(S92,[3]マスター!$B$2:$C$5000,2,0) -> #N/A | S92: =IF(I92="","",VLOOKUP(I92,[3]マスター!$B$2:$D$5000,3,0)) | U92: =IF(I92="","",VLOOKUP(I92,[3]マスター!$B$2:$L$5000,11,0)) | V92: =IF(I92="","",VLOOKUP(I92,[3]マスター!$B$2:$K$5000,10,0)) | W92: =J92+L92 -> 0 | X92: =K92-N92 -> 0 | Y92: =IF(V92<>"",X92-W92,"") | Z92: =IF(V92<>"",V92*Y92,"") | AA92: =IF(V92<>"",IF(W92<7,7-W92,0),"") | AB92: =IF(V92<>"",IF(X92>22,X92-22,0),"") | AC92: =IF(V92<>"",IF(P92=V92,IF((Y92+Y93)>8,(Y92+Y93)-8),IF(Y92>8,Y92-8,0)),"") | AD92: =IF(V92<>"",V92*AA92*0.25,"") | AE92: =IF(V92<>"",V92*AB92*0.25,"") | AF92: =IF(AC92<>"",V92*0.25*AC92,"") | AG92: =IF(I92="","",IF(AV92>2,IF(BG92=3,$AG$42,IF(BG92=2,$AG$42,$AG$43)),IF(AV92=2,IF(BG92=3,$AG$42,$AG$43),$AG$43))) | AH92: =IF(V92<>"",Z92+AD92+AE92+AF92,"") | AL92: 1 | AM92: =CONCATENATE($M$71,$N92) -> 4 | AN92: =CONCATENATE($M$71,$M92) -> 4 | AO92: =COUNTIF($I$72:I92,I92) -> 0 | AP92: =Y92 | AQ92: =AH92 | AR92: =IF(G92="","",SUMIF($G$4:$G$32,G92,$F$4:$F$32)) -> 0 | AS92: =IF($I92="","",RANK($I92,$I$73:$I$348,0)) | AU92: =IF(I92>1,1,"") | AV92: =SUMIF($I$45:$I$348,I92,$AU$45:$AU$348) -> 0 | AW92: =IF(AV92<1,0,SUMIF($I$44:I91,I92,$W$44:W91)) -> 0 | AX92: =IF(AV92<2,0,SUMIF($I93:I$348,I92,$W93:W$348)) -> 0 | AY92: =IF(AV92=2,IF(BG92=2,0,IF(BC92>=8,IF(Y92>8,(8-Y92)+Y92,Y92),IF(BC92+Y92<8,0,BC92+Y92-8))),0) -> 0 | AZ92: =IF(BG92=1,0,IF(BG92=2,IF(BH92>8,IF(Y92>8,8-Y92+Y92,Y92),IF(Y92>8,Y92+BH92-8-(Y92-8),IF(BH92+Y92>8,BH92+Y92-8,0))),IF(BG92=3,IF(BC92+BD87>8,IF(Y92>=8,8,Y92),IF(Y92+BC92+BD87>8,Y92+BC92+BD87-8,0)),0))) -> 0 | BA92: =IF(AW92+AX92=0,0,IF(AW92=0,VLOOKUP(I92,I93:$W$348,15,FALSE),VLOOKUP(I92,$I$45:$W92,15,FALSE))) -> 0 | BB92: =IF(BA92>W92,1,0)+IF(BA92>BD92,1,0) -> 0 | BC92: =IF(AW92+AX92=0,0,IF(AW92=0,VLOOKUP(I92,I93:$Y$348,17,FALSE),VLOOKUP(I92,$I$45:$Y92,17,FALSE))) -> 0 | BD92: =IF(AND(AW92>1,AX92>1),AX92,AW92+AX92-BA92) -> 0 | BE92: =IF(BD92>BA92,1,0)+IF(BD92>W92,1,0) -> 0 | BF92: =IF(I92="","",SUMIF($I$45:$I$348,I92,$Y$45:$Y$348)-BC92-Y92) | BG92: =IF(AW92+AX92=0,0,IF(BB92+BE92=3,1,IF(BB92+BE92=2,2,3))) -> 0 | BH92: =IF(BE92=2,BC92,BF92) | BI92: =IF($BG92<>"",$J92,IF($BG92=3,$J92,IF($BG92=2,$J92,IF($BG92=1,$J92,"")))) -> 0 | BJ92: =IF($BG92<>"",$K92,IF($BG92=3,$K92,IF($BG92=2,$K92,IF($BG92=1,$K92,"")))) -> 0 | BK92: =IF(AR92=AR91,"",AR92) | BL92: =COUNTIF($B$73:B92,B92) -> 20 | BN92: =IF($BM$91>=11,20,"") | BO92: =$G$10 -> ハートウェル
A93: =IF(I93="","",CONCATENATE(AO93,CONCATENATE(SUMIF($G$4:$G$32,G93,$F$4:$F$32),I93))) | B93: =IF(G93="","",SUMIF($G$4:$G$32,G93,$F$4:$F$32)) -> 0 | C93: =AO93 -> 0 | D93: =CONCATENATE(AR93,CONCATENATE(E93,F93)) -> 046 | E93: =IF(I93="","",IF(AR92=AR93,SUMIF($AR$73:$AR$348,AR93),IF(AR94="",AR93,IF(AR93=AR94,SUMIF($AR$73:$AR$348,AR93))))) | F93: =F92+1 -> 46 | G93: =CONCATENATE($G$71,F93) -> 046 | H93: =IF(I93="","",VLOOKUP(I93,[3]マスター!$B$2:$C$5000,2,0)) | O93: =IF(J93="","",IF(AV93>2,IF(BG93=3,"ssS",IF(BG93=2,"sSs","Sss")),IF(AV93=2,IF(BG93=3,"sS","Ss"),""))) | P93: =IF(I93="","",VLOOKUP(I93,[3]マスター!$B$2:$C$5000,2,0)) | Q93: =VLOOKUP(R93,[3]マスター!$B$2:$C$5000,2,0) -> #N/A | R93: =VLOOKUP(S93,[3]マスター!$B$2:$C$5000,2,0) -> #N/A | S93: =IF(I93="","",VLOOKUP(I93,[3]マスター!$B$2:$D$5000,3,0)) | U93: =IF(I93="","",VLOOKUP(I93,[3]マスター!$B$2:$L$5000,11,0)) | V93: =IF(I93="","",VLOOKUP(I93,[3]マスター!$B$2:$K$5000,10,0)) | W93: =J93+L93 -> 0 | X93: =K93-N93 -> 0 | Y93: =IF(V93<>"",X93-W93,"") | Z93: =IF(V93<>"",V93*Y93,"") | AA93: =IF(V93<>"",IF(W93<7,7-W93,0),"") | AB93: =IF(V93<>"",IF(X93>22,X93-22,0),"") | AC93: =IF(V93<>"",IF(P93=V93,IF((Y93+Y94)>8,(Y93+Y94)-8),IF(Y93>8,Y93-8,0)),"") | AD93: =IF(V93<>"",V93*AA93*0.25,"") | AE93: =IF(V93<>"",V93*AB93*0.25,"") | AF93: =IF(AC93<>"",V93*0.25*AC93,"") | AG93: =IF(I93="","",IF(AV93>2,IF(BG93=3,$AG$42,IF(BG93=2,$AG$42,$AG$43)),IF(AV93=2,IF(BG93=3,$AG$42,$AG$43),$AG$43))) | AH93: =IF(V93<>"",Z93+AD93+AE93+AF93,"") | AL93: 1 | AM93: =CONCATENATE($M$71,$N93) -> 4 | AN93: =CONCATENATE($M$71,$M93) -> 4 | AO93: =COUNTIF($I$72:I93,I93) -> 0 | AP93: =Y93 | AQ93: =AH93 | AR93: =IF(G93="","",SUMIF($G$4:$G$32,G93,$F$4:$F$32)) -> 0 | AS93: =IF($I93="","",RANK($I93,$I$73:$I$348,0)) | AU93: =IF(I93>1,1,"") | AV93: =SUMIF($I$45:$I$348,I93,$AU$45:$AU$348) -> 0 | AW93: =IF(AV93<1,0,SUMIF($I$44:I92,I93,$W$44:W92)) -> 0 | AX93: =IF(AV93<2,0,SUMIF($I94:I$348,I93,$W94:W$348)) -> 0 | AY93: =IF(AV93=2,IF(BG93=2,0,IF(BC93>=8,IF(Y93>8,(8-Y93)+Y93,Y93),IF(BC93+Y93<8,0,BC93+Y93-8))),0) -> 0 | AZ93: =IF(BG93=1,0,IF(BG93=2,IF(BH93>8,IF(Y93>8,8-Y93+Y93,Y93),IF(Y93>8,Y93+BH93-8-(Y93-8),IF(BH93+Y93>8,BH93+Y93-8,0))),IF(BG93=3,IF(BC93+BD88>8,IF(Y93>=8,8,Y93),IF(Y93+BC93+BD88>8,Y93+BC93+BD88-8,0)),0))) -> 0 | BA93: =IF(AW93+AX93=0,0,IF(AW93=0,VLOOKUP(I93,I94:$W$348,15,FALSE),VLOOKUP(I93,$I$45:$W93,15,FALSE))) -> 0 | BB93: =IF(BA93>W93,1,0)+IF(BA93>BD93,1,0) -> 0 | BC93: =IF(AW93+AX93=0,0,IF(AW93=0,VLOOKUP(I93,I94:$Y$348,17,FALSE),VLOOKUP(I93,$I$45:$Y93,17,FALSE))) -> 0 | BD93: =IF(AND(AW93>1,AX93>1),AX93,AW93+AX93-BA93) -> 0 | BE93: =IF(BD93>BA93,1,0)+IF(BD93>W93,1,0) -> 0 | BF93: =IF(I93="","",SUMIF($I$45:$I$348,I93,$Y$45:$Y$348)-BC93-Y93) | BG93: =IF(AW93+AX93=0,0,IF(BB93+BE93=3,1,IF(BB93+BE93=2,2,3))) -> 0 | BH93: =IF(BE93=2,BC93,BF93) | BI93: =IF($BG93<>"",$J93,IF($BG93=3,$J93,IF($BG93=2,$J93,IF($BG93=1,$J93,"")))) -> 0 | BJ93: =IF($BG93<>"",$K93,IF($BG93=3,$K93,IF($BG93=2,$K93,IF($BG93=1,$K93,"")))) -> 0 | BK93: =IF(AR93=AR92,"",AR93) | BL93: =COUNTIF($B$73:B93,B93) -> 21 | BN93: =IF($BM$91>=21,21,"") | BO93: =$G$10 -> ハートウェル
A94: =IF(I94="","",CONCATENATE(AO94,CONCATENATE(SUMIF($G$4:$G$32,G94,$F$4:$F$32),I94))) | B94: =IF(G94="","",SUMIF($G$4:$G$32,G94,$F$4:$F$32)) -> 0 | C94: =AO94 -> 0 | D94: =CONCATENATE(AR94,CONCATENATE(E94,F94)) -> 047 | E94: =IF(I94="","",IF(AR93=AR94,SUMIF($AR$73:$AR$348,AR94),IF(AR95="",AR94,IF(AR94=AR95,SUMIF($AR$73:$AR$348,AR94))))) | F94: =F93+1 -> 47 | G94: =CONCATENATE($G$71,F94) -> 047 | H94: =IF(I94="","",VLOOKUP(I94,[3]マスター!$B$2:$C$5000,2,0)) | O94: =IF(J94="","",IF(AV94>2,IF(BG94=3,"ssS",IF(BG94=2,"sSs","Sss")),IF(AV94=2,IF(BG94=3,"sS","Ss"),""))) | P94: =IF(I94="","",VLOOKUP(I94,[3]マスター!$B$2:$C$5000,2,0)) | Q94: =VLOOKUP(R94,[3]マスター!$B$2:$C$5000,2,0) -> #N/A | R94: =VLOOKUP(S94,[3]マスター!$B$2:$C$5000,2,0) -> #N/A | S94: =IF(I94="","",VLOOKUP(I94,[3]マスター!$B$2:$D$5000,3,0)) | U94: =IF(I94="","",VLOOKUP(I94,[3]マスター!$B$2:$L$5000,11,0)) | V94: =IF(I94="","",VLOOKUP(I94,[3]マスター!$B$2:$K$5000,10,0)) | W94: =J94+L94 -> 0 | X94: =K94-N94 -> 0 | Y94: =IF(V94<>"",X94-W94,"") | Z94: =IF(V94<>"",V94*Y94,"") | AA94: =IF(V94<>"",IF(W94<7,7-W94,0),"") | AB94: =IF(V94<>"",IF(X94>22,X94-22,0),"") | AC94: =IF(V94<>"",IF(P94=V94,IF((Y94+Y95)>8,(Y94+Y95)-8),IF(Y94>8,Y94-8,0)),"") | AD94: =IF(V94<>"",V94*AA94*0.25,"") | AE94: =IF(V94<>"",V94*AB94*0.25,"") | AF94: =IF(AC94<>"",V94*0.25*AC94,"") | AG94: =IF(I94="","",IF(AV94>2,IF(BG94=3,$AG$42,IF(BG94=2,$AG$42,$AG$43)),IF(AV94=2,IF(BG94=3,$AG$42,$AG$43),$AG$43))) | AH94: =IF(V94<>"",Z94+AD94+AE94+AF94,"") | AL94: 1 | AM94: =CONCATENATE($M$71,$N94) -> 4 | AN94: =CONCATENATE($M$71,$M94) -> 4 | AO94: =COUNTIF($I$72:I94,I94) -> 0 | AP94: =Y94 | AQ94: =AH94 | AR94: =IF(G94="","",SUMIF($G$4:$G$32,G94,$F$4:$F$32)) -> 0 | AS94: =IF($I94="","",RANK($I94,$I$73:$I$348,0)) | AU94: =IF(I94>1,1,"") | AV94: =SUMIF($I$45:$I$348,I94,$AU$45:$AU$348) -> 0 | AW94: =IF(AV94<1,0,SUMIF($I$44:I93,I94,$W$44:W93)) -> 0 | AX94: =IF(AV94<2,0,SUMIF($I95:I$348,I94,$W95:W$348)) -> 0 | AY94: =IF(AV94=2,IF(BG94=2,0,IF(BC94>=8,IF(Y94>8,(8-Y94)+Y94,Y94),IF(BC94+Y94<8,0,BC94+Y94-8))),0) -> 0 | AZ94: =IF(BG94=1,0,IF(BG94=2,IF(BH94>8,IF(Y94>8,8-Y94+Y94,Y94),IF(Y94>8,Y94+BH94-8-(Y94-8),IF(BH94+Y94>8,BH94+Y94-8,0))),IF(BG94=3,IF(BC94+BD89>8,IF(Y94>=8,8,Y94),IF(Y94+BC94+BD89>8,Y94+BC94+BD89-8,0)),0))) -> 0 | BA94: =IF(AW94+AX94=0,0,IF(AW94=0,VLOOKUP(I94,I95:$W$348,15,FALSE),VLOOKUP(I94,$I$45:$W94,15,FALSE))) -> 0 | BB94: =IF(BA94>W94,1,0)+IF(BA94>BD94,1,0) -> 0 | BC94: =IF(AW94+AX94=0,0,IF(AW94=0,VLOOKUP(I94,I95:$Y$348,17,FALSE),VLOOKUP(I94,$I$45:$Y94,17,FALSE))) -> 0 | BD94: =IF(AND(AW94>1,AX94>1),AX94,AW94+AX94-BA94) -> 0 | BE94: =IF(BD94>BA94,1,0)+IF(BD94>W94,1,0) -> 0 | BF94: =IF(I94="","",SUMIF($I$45:$I$348,I94,$Y$45:$Y$348)-BC94-Y94) | BG94: =IF(AW94+AX94=0,0,IF(BB94+BE94=3,1,IF(BB94+BE94=2,2,3))) -> 0 | BH94: =IF(BE94=2,BC94,BF94) | BI94: =IF($BG94<>"",$J94,IF($BG94=3,$J94,IF($BG94=2,$J94,IF($BG94=1,$J94,"")))) -> 0 | BJ94: =IF($BG94<>"",$K94,IF($BG94=3,$K94,IF($BG94=2,$K94,IF($BG94=1,$K94,"")))) -> 0 | BK94: =IF(AR94=AR93,"",AR94) | BL94: =COUNTIF($B$73:B94,B94) -> 22 | BM94: =(SUMIF(変換前!$AR$73:$AR$348,BP94)/BP94) -> 0 | BN94: =IF(BM94>=1,22,"") | BO94: =$G$11 -> ティーラウンジ | BP94: =F11 -> 83
A95: =IF(I95="","",CONCATENATE(AO95,CONCATENATE(SUMIF($G$4:$G$32,G95,$F$4:$F$32),I95))) | B95: =IF(G95="","",SUMIF($G$4:$G$32,G95,$F$4:$F$32)) -> 0 | C95: =AO95 -> 0 | D95: =CONCATENATE(AR95,CONCATENATE(E95,F95)) -> 048 | E95: =IF(I95="","",IF(AR94=AR95,SUMIF($AR$73:$AR$348,AR95),IF(AR96="",AR95,IF(AR95=AR96,SUMIF($AR$73:$AR$348,AR95))))) | F95: =F94+1 -> 48 | G95: =CONCATENATE($G$71,F95) -> 048 | H95: =IF(I95="","",VLOOKUP(I95,[3]マスター!$B$2:$C$5000,2,0)) | O95: =IF(J95="","",IF(AV95>2,IF(BG95=3,"ssS",IF(BG95=2,"sSs","Sss")),IF(AV95=2,IF(BG95=3,"sS","Ss"),""))) | P95: =IF(I95="","",VLOOKUP(I95,[3]マスター!$B$2:$C$5000,2,0)) | Q95: =VLOOKUP(R95,[3]マスター!$B$2:$C$5000,2,0) -> #N/A | R95: =VLOOKUP(S95,[3]マスター!$B$2:$C$5000,2,0) -> #N/A | S95: =IF(I95="","",VLOOKUP(I95,[3]マスター!$B$2:$D$5000,3,0)) | U95: =IF(I95="","",VLOOKUP(I95,[3]マスター!$B$2:$L$5000,11,0)) | V95: =IF(I95="","",VLOOKUP(I95,[3]マスター!$B$2:$K$5000,10,0)) | W95: =J95+L95 -> 0 | X95: =K95-N95 -> 0 | Y95: =IF(V95<>"",X95-W95,"") | Z95: =IF(V95<>"",V95*Y95,"") | AA95: =IF(V95<>"",IF(W95<7,7-W95,0),"") | AB95: =IF(V95<>"",IF(X95>22,X95-22,0),"") | AC95: =IF(V95<>"",IF(P95=V95,IF((Y95+Y96)>8,(Y95+Y96)-8),IF(Y95>8,Y95-8,0)),"") | AD95: =IF(V95<>"",V95*AA95*0.25,"") | AE95: =IF(V95<>"",V95*AB95*0.25,"") | AF95: =IF(AC95<>"",V95*0.25*AC95,"") | AG95: =IF(I95="","",IF(AV95>2,IF(BG95=3,$AG$42,IF(BG95=2,$AG$42,$AG$43)),IF(AV95=2,IF(BG95=3,$AG$42,$AG$43),$AG$43))) | AH95: =IF(V95<>"",Z95+AD95+AE95+AF95,"") | AL95: 1 | AM95: =CONCATENATE($M$71,$N95) -> 4 | AN95: =CONCATENATE($M$71,$M95) -> 4 | AO95: =COUNTIF($I$72:I95,I95) -> 0 | AP95: =Y95 | AQ95: =AH95 | AR95: =IF(G95="","",SUMIF($G$4:$G$32,G95,$F$4:$F$32)) -> 0 | AS95: =IF($I95="","",RANK($I95,$I$73:$I$348,0)) | AU95: =IF(I95>1,1,"") | AV95: =SUMIF($I$45:$I$348,I95,$AU$45:$AU$348) -> 0 | AW95: =IF(AV95<1,0,SUMIF($I$44:I94,I95,$W$44:W94)) -> 0 | AX95: =IF(AV95<2,0,SUMIF($I96:I$348,I95,$W96:W$348)) -> 0 | AY95: =IF(AV95=2,IF(BG95=2,0,IF(BC95>=8,IF(Y95>8,(8-Y95)+Y95,Y95),IF(BC95+Y95<8,0,BC95+Y95-8))),0) -> 0 | AZ95: =IF(BG95=1,0,IF(BG95=2,IF(BH95>8,IF(Y95>8,8-Y95+Y95,Y95),IF(Y95>8,Y95+BH95-8-(Y95-8),IF(BH95+Y95>8,BH95+Y95-8,0))),IF(BG95=3,IF(BC95+BD90>8,IF(Y95>=8,8,Y95),IF(Y95+BC95+BD90>8,Y95+BC95+BD90-8,0)),0))) -> 0 | BA95: =IF(AW95+AX95=0,0,IF(AW95=0,VLOOKUP(I95,I96:$W$348,15,FALSE),VLOOKUP(I95,$I$45:$W95,15,FALSE))) -> 0 | BB95: =IF(BA95>W95,1,0)+IF(BA95>BD95,1,0) -> 0 | BC95: =IF(AW95+AX95=0,0,IF(AW95=0,VLOOKUP(I95,I96:$Y$348,17,FALSE),VLOOKUP(I95,$I$45:$Y95,17,FALSE))) -> 0 | BD95: =IF(AND(AW95>1,AX95>1),AX95,AW95+AX95-BA95) -> 0 | BE95: =IF(BD95>BA95,1,0)+IF(BD95>W95,1,0) -> 0 | BF95: =IF(I95="","",SUMIF($I$45:$I$348,I95,$Y$45:$Y$348)-BC95-Y95) | BG95: =IF(AW95+AX95=0,0,IF(BB95+BE95=3,1,IF(BB95+BE95=2,2,3))) -> 0 | BH95: =IF(BE95=2,BC95,BF95) | BI95: =IF($BG95<>"",$J95,IF($BG95=3,$J95,IF($BG95=2,$J95,IF($BG95=1,$J95,"")))) -> 0 | BJ95: =IF($BG95<>"",$K95,IF($BG95=3,$K95,IF($BG95=2,$K95,IF($BG95=1,$K95,"")))) -> 0 | BK95: =IF(AR95=AR94,"",AR95) | BL95: =COUNTIF($B$73:B95,B95) -> 23 | BN95: =IF($BM$94>=11,23,"") | BO95: =$G$11 -> ティーラウンジ
A96: =IF(I96="","",CONCATENATE(AO96,CONCATENATE(SUMIF($G$4:$G$32,G96,$F$4:$F$32),I96))) | B96: =IF(G96="","",SUMIF($G$4:$G$32,G96,$F$4:$F$32)) -> 0 | C96: =AO96 -> 0 | D96: =CONCATENATE(AR96,CONCATENATE(E96,F96)) -> 049 | E96: =IF(I96="","",IF(AR95=AR96,SUMIF($AR$73:$AR$348,AR96),IF(AR97="",AR96,IF(AR96=AR97,SUMIF($AR$73:$AR$348,AR96))))) | F96: =F95+1 -> 49 | G96: =CONCATENATE($G$71,F96) -> 049 | H96: =IF(I96="","",VLOOKUP(I96,[3]マスター!$B$2:$C$5000,2,0)) | O96: =IF(J96="","",IF(AV96>2,IF(BG96=3,"ssS",IF(BG96=2,"sSs","Sss")),IF(AV96=2,IF(BG96=3,"sS","Ss"),""))) | P96: =IF(I96="","",VLOOKUP(I96,[3]マスター!$B$2:$C$5000,2,0)) | Q96: =VLOOKUP(R96,[3]マスター!$B$2:$C$5000,2,0) -> #N/A | R96: =VLOOKUP(S96,[3]マスター!$B$2:$C$5000,2,0) -> #N/A | S96: =IF(I96="","",VLOOKUP(I96,[3]マスター!$B$2:$D$5000,3,0)) | U96: =IF(I96="","",VLOOKUP(I96,[3]マスター!$B$2:$L$5000,11,0)) | V96: =IF(I96="","",VLOOKUP(I96,[3]マスター!$B$2:$K$5000,10,0)) | W96: =J96+L96 -> 0 | X96: =K96-N96 -> 0 | Y96: =IF(V96<>"",X96-W96,"") | Z96: =IF(V96<>"",V96*Y96,"") | AA96: =IF(V96<>"",IF(W96<7,7-W96,0),"") | AB96: =IF(V96<>"",IF(X96>22,X96-22,0),"") | AC96: =IF(V96<>"",IF(P96=V96,IF((Y96+Y97)>8,(Y96+Y97)-8),IF(Y96>8,Y96-8,0)),"") | AD96: =IF(V96<>"",V96*AA96*0.25,"") | AE96: =IF(V96<>"",V96*AB96*0.25,"") | AF96: =IF(AC96<>"",V96*0.25*AC96,"") | AG96: =IF(I96="","",IF(AV96>2,IF(BG96=3,$AG$42,IF(BG96=2,$AG$42,$AG$43)),IF(AV96=2,IF(BG96=3,$AG$42,$AG$43),$AG$43))) | AH96: =IF(V96<>"",Z96+AD96+AE96+AF96,"") | AL96: 1 | AM96: =CONCATENATE($M$71,$N96) -> 4 | AN96: =CONCATENATE($M$71,$M96) -> 4 | AO96: =COUNTIF($I$72:I96,I96) -> 0 | AP96: =Y96 | AQ96: =AH96 | AR96: =IF(G96="","",SUMIF($G$4:$G$32,G96,$F$4:$F$32)) -> 0 | AS96: =IF($I96="","",RANK($I96,$I$73:$I$348,0)) | AU96: =IF(I96>1,1,"") | AV96: =SUMIF($I$45:$I$348,I96,$AU$45:$AU$348) -> 0 | AW96: =IF(AV96<1,0,SUMIF($I$44:I95,I96,$W$44:W95)) -> 0 | AX96: =IF(AV96<2,0,SUMIF($I97:I$348,I96,$W97:W$348)) -> 0 | AY96: =IF(AV96=2,IF(BG96=2,0,IF(BC96>=8,IF(Y96>8,(8-Y96)+Y96,Y96),IF(BC96+Y96<8,0,BC96+Y96-8))),0) -> 0 | AZ96: =IF(BG96=1,0,IF(BG96=2,IF(BH96>8,IF(Y96>8,8-Y96+Y96,Y96),IF(Y96>8,Y96+BH96-8-(Y96-8),IF(BH96+Y96>8,BH96+Y96-8,0))),IF(BG96=3,IF(BC96+BD91>8,IF(Y96>=8,8,Y96),IF(Y96+BC96+BD91>8,Y96+BC96+BD91-8,0)),0))) -> 0 | BA96: =IF(AW96+AX96=0,0,IF(AW96=0,VLOOKUP(I96,I97:$W$348,15,FALSE),VLOOKUP(I96,$I$45:$W96,15,FALSE))) -> 0 | BB96: =IF(BA96>W96,1,0)+IF(BA96>BD96,1,0) -> 0 | BC96: =IF(AW96+AX96=0,0,IF(AW96=0,VLOOKUP(I96,I97:$Y$348,17,FALSE),VLOOKUP(I96,$I$45:$Y96,17,FALSE))) -> 0 | BD96: =IF(AND(AW96>1,AX96>1),AX96,AW96+AX96-BA96) -> 0 | BE96: =IF(BD96>BA96,1,0)+IF(BD96>W96,1,0) -> 0 | BF96: =IF(I96="","",SUMIF($I$45:$I$348,I96,$Y$45:$Y$348)-BC96-Y96) | BG96: =IF(AW96+AX96=0,0,IF(BB96+BE96=3,1,IF(BB96+BE96=2,2,3))) -> 0 | BH96: =IF(BE96=2,BC96,BF96) | BI96: =IF($BG96<>"",$J96,IF($BG96=3,$J96,IF($BG96=2,$J96,IF($BG96=1,$J96,"")))) -> 0 | BJ96: =IF($BG96<>"",$K96,IF($BG96=3,$K96,IF($BG96=2,$K96,IF($BG96=1,$K96,"")))) -> 0 | BK96: =IF(AR96=AR95,"",AR96) | BL96: =COUNTIF($B$73:B96,B96) -> 24 | BM96: =(SUMIF(変換前!$AR$73:$AR$348,BP96)/BP96) -> 0 | BN96: =IF(BM96>=1,24,"") | BO96: =$G$12 -> 雅 | BP96: =F12 -> 91
A97: =IF(I97="","",CONCATENATE(AO97,CONCATENATE(SUMIF($G$4:$G$32,G97,$F$4:$F$32),I97))) | B97: =IF(G97="","",SUMIF($G$4:$G$32,G97,$F$4:$F$32)) -> 0 | C97: =AO97 -> 0 | D97: =CONCATENATE(AR97,CONCATENATE(E97,F97)) -> 050 | E97: =IF(I97="","",IF(AR96=AR97,SUMIF($AR$73:$AR$348,AR97),IF(AR98="",AR97,IF(AR97=AR98,SUMIF($AR$73:$AR$348,AR97))))) | F97: =F96+1 -> 50 | G97: =CONCATENATE($G$71,F97) -> 050 | H97: =IF(I97="","",VLOOKUP(I97,[3]マスター!$B$2:$C$5000,2,0)) | O97: =IF(J97="","",IF(AV97>2,IF(BG97=3,"ssS",IF(BG97=2,"sSs","Sss")),IF(AV97=2,IF(BG97=3,"sS","Ss"),""))) | P97: =IF(I97="","",VLOOKUP(I97,[3]マスター!$B$2:$C$5000,2,0)) | Q97: =VLOOKUP(R97,[3]マスター!$B$2:$C$5000,2,0) -> #N/A | R97: =VLOOKUP(S97,[3]マスター!$B$2:$C$5000,2,0) -> #N/A | S97: =IF(I97="","",VLOOKUP(I97,[3]マスター!$B$2:$D$5000,3,0)) | U97: =IF(I97="","",VLOOKUP(I97,[3]マスター!$B$2:$L$5000,11,0)) | V97: =IF(I97="","",VLOOKUP(I97,[3]マスター!$B$2:$K$5000,10,0)) | W97: =J97+L97 -> 0 | X97: =K97-N97 -> 0 | Y97: =IF(V97<>"",X97-W97,"") | Z97: =IF(V97<>"",V97*Y97,"") | AA97: =IF(V97<>"",IF(W97<7,7-W97,0),"") | AB97: =IF(V97<>"",IF(X97>22,X97-22,0),"") | AC97: =IF(V97<>"",IF(P97=V97,IF((Y97+Y98)>8,(Y97+Y98)-8),IF(Y97>8,Y97-8,0)),"") | AD97: =IF(V97<>"",V97*AA97*0.25,"") | AE97: =IF(V97<>"",V97*AB97*0.25,"") | AF97: =IF(AC97<>"",V97*0.25*AC97,"") | AG97: =IF(I97="","",IF(AV97>2,IF(BG97=3,$AG$42,IF(BG97=2,$AG$42,$AG$43)),IF(AV97=2,IF(BG97=3,$AG$42,$AG$43),$AG$43))) | AH97: =IF(V97<>"",Z97+AD97+AE97+AF97,"") | AL97: 1 | AM97: =CONCATENATE($M$71,$N97) -> 4 | AN97: =CONCATENATE($M$71,$M97) -> 4 | AO97: =COUNTIF($I$72:I97,I97) -> 0 | AP97: =Y97 | AQ97: =AH97 | AR97: =IF(G97="","",SUMIF($G$4:$G$32,G97,$F$4:$F$32)) -> 0 | AS97: =IF($I97="","",RANK($I97,$I$73:$I$348,0)) | AU97: =IF(I97>1,1,"") | AV97: =SUMIF($I$45:$I$348,I97,$AU$45:$AU$348) -> 0 | AW97: =IF(AV97<1,0,SUMIF($I$44:I96,I97,$W$44:W96)) -> 0 | AX97: =IF(AV97<2,0,SUMIF($I98:I$348,I97,$W98:W$348)) -> 0 | AY97: =IF(AV97=2,IF(BG97=2,0,IF(BC97>=8,IF(Y97>8,(8-Y97)+Y97,Y97),IF(BC97+Y97<8,0,BC97+Y97-8))),0) -> 0 | AZ97: =IF(BG97=1,0,IF(BG97=2,IF(BH97>8,IF(Y97>8,8-Y97+Y97,Y97),IF(Y97>8,Y97+BH97-8-(Y97-8),IF(BH97+Y97>8,BH97+Y97-8,0))),IF(BG97=3,IF(BC97+BD92>8,IF(Y97>=8,8,Y97),IF(Y97+BC97+BD92>8,Y97+BC97+BD92-8,0)),0))) -> 0 | BA97: =IF(AW97+AX97=0,0,IF(AW97=0,VLOOKUP(I97,I98:$W$348,15,FALSE),VLOOKUP(I97,$I$45:$W97,15,FALSE))) -> 0 | BB97: =IF(BA97>W97,1,0)+IF(BA97>BD97,1,0) -> 0 | BC97: =IF(AW97+AX97=0,0,IF(AW97=0,VLOOKUP(I97,I98:$Y$348,17,FALSE),VLOOKUP(I97,$I$45:$Y97,17,FALSE))) -> 0 | BD97: =IF(AND(AW97>1,AX97>1),AX97,AW97+AX97-BA97) -> 0 | BE97: =IF(BD97>BA97,1,0)+IF(BD97>W97,1,0) -> 0 | BF97: =IF(I97="","",SUMIF($I$45:$I$348,I97,$Y$45:$Y$348)-BC97-Y97) | BG97: =IF(AW97+AX97=0,0,IF(BB97+BE97=3,1,IF(BB97+BE97=2,2,3))) -> 0 | BH97: =IF(BE97=2,BC97,BF97) | BI97: =IF($BG97<>"",$J97,IF($BG97=3,$J97,IF($BG97=2,$J97,IF($BG97=1,$J97,"")))) -> 0 | BJ97: =IF($BG97<>"",$K97,IF($BG97=3,$K97,IF($BG97=2,$K97,IF($BG97=1,$K97,"")))) -> 0 | BK97: =IF(AR97=AR96,"",AR97) | BL97: =COUNTIF($B$73:B97,B97) -> 25 | BN97: =IF($BM$96>=11,25,"") | BO97: =$G$12 -> 雅
B98: =IF(G98="","",SUMIF($G$4:$G$32,G98,$F$4:$F$32)) | C98: =AO98 -> 0 | I98: =$I$42 -> 0 | P98: 1 | Q98: =IF(M99>=25,"",COUNT($Q$40,$P$70,$P$98)) -> 3 | AI98: 人数 | AJ98: =COUNT(I101:I125) -> 1 | AN98: =CONCATENATE($F98,$M98) | AR98: =IF(G98="","",SUMIF($G$4:$G$32,G98,$F$4:$F$32)) | BK98: =IF(AR98=AR97,"",AR98) | BM98: =(SUMIF(変換前!$AR$73:$AR$348,BP98)/BP98) -> 0 | BN98: =IF(BM98>=1,26,"") | BO98: =G13 -> 翡翠 | BP98: =F13 -> 109
B99: =IF(G99="","",SUMIF($G$4:$G$32,G99,$F$4:$F$32)) -> 0 | C99: =AO99 -> 0 | G99: =SUMIF($X$1:$X$40,I99,$Z$1:$Z$40) -> 0 | I99: C:GRILL | M99: =IF($I$99="","",SUMIF($J$4:$J$32,$I$99,$I$4:$I$32)) -> 3 | Q99: =IF(M99>=25,"",COUNTIF($Q$37:$AH$37,$O$37)) -> 4 | AI99: =I99 -> C:GRILL | AJ99: =AJ98 -> 1 | AK99: =SUM(Y101:Y125) -> 4 | AN99: =CONCATENATE($F99,$M99) -> 3 | AR99: =IF(G99="","",SUMIF($G$4:$G$32,G99,$F$4:$F$32)) -> 0 | BK99: =IF(AR99=AR98,"",AR99) -> 0 | BM99: =(SUMIF(変換前!$AR$73:$AR$348,BP99)/BP99) -> 0 | BN99: =IF(BM99>=1,27,"") | BO99: =G14 -> 瑠璃 | BP99: =F14 -> 1131
B100: =IF(G100="","",SUMIF($G$4:$G$32,G100,$F$4:$F$32)) -> 0 | C100: =AO100 -> 0 | F100: =$F$72 -> 0 | G100: =$G$72 -> 会場 | H100: =H72 -> 名前 | I100: =$I$72 -> コード | J100: =$J$72 -> ＩＮ | K100: =$K$72 -> ＯＵＴ | L100: =$L$72 -> 休憩 | M100: =$M$72 -> 出張 | N100: =$N$72 -> 朝食 休憩 | O100: =$O$72 -> 0 | AL100: 1 | AM100: =CONCATENATE($M98,$N100) -> 朝食 休憩 | AN100: =CONCATENATE($F100,$M100) -> 0出張 | AR100: =IF(G100="","",SUMIF($G$4:$G$32,G100,$F$4:$F$32)) -> 0 | BM100: =(SUMIF(変換前!$AR$73:$AR$348,BP100)/BP100) -> 0 | BN100: =IF(BM100>=1,28,"") | BO100: =G15 -> 伽羅 | BP100: =F15 -> 1215
A101: =IF(I101="","",CONCATENATE(AO101,CONCATENATE(SUMIF($G$4:$G$32,G101,$F$4:$F$32),I101))) -> 1035665 | B101: =IF(G101="","",SUMIF($G$4:$G$32,G101,$F$4:$F$32)) -> 0 | C101: =AO101 -> 1 | D101: =CONCATENATE(AR101,CONCATENATE(E101,F101)) -> 001 | E101: =IF(I101="","",IF(AR100=AR101,SUMIF($AR$73:$AR$348,AR101),IF(AR102="",AR101,IF(AR101=AR102,SUMIF($AR$73:$AR$348,AR101))))) -> 0 | F101: 1 | G101: =CONCATENATE(G99,F101) -> 01 | H101: =IF(I101="","",VLOOKUP(I101,[3]マスター!$B$2:$C$5000,2,0)) -> 塩崎 航 | I101: 35665 | J101: 11 | K101: 15 | O101: =IF(J101="","",IF(AV101>2,IF(BG101=3,"ssS",IF(BG101=2,"sSs","Sss")),IF(AV101=2,IF(BG101=3,"sS","Ss"),""))) -> Ss | P101: =IF(I101="","",VLOOKUP(I101,[3]マスター!$B$2:$C$5000,2,0)) -> 塩崎 航 | Q101: =VLOOKUP(R101,[3]マスター!$B$2:$C$5000,2,0) -> #N/A | R101: =VLOOKUP(S101,[3]マスター!$B$2:$C$5000,2,0) -> #N/A | S101: =IF(I101="","",VLOOKUP(I101,[3]マスター!$B$2:$D$5000,3,0)) -> シオザキ ワタル | U101: =IF(I101="","",VLOOKUP(I101,[3]マスター!$B$2:$L$5000,11,0)) -> E | V101: =IF(I101="","",VLOOKUP(I101,[3]マスター!$B$2:$K$5000,10,0)) -> 1400 | W101: =J101+L101 -> 11 | X101: =K101-N101 -> 15 | Y101: =IF(V101<>"",X101-W101,"") -> 4 | Z101: =IF(V101<>"",V101*Y101,"") -> 5600 | AA101: =IF(V101<>"",IF(W101<7,7-W101,0),"") -> 0 | AB101: =IF(V101<>"",IF(X101>22,X101-22,0),"") -> 0 | AC101: =IF(V101<>"",IF(P101=V101,IF((Y101+Y102)>8,(Y101+Y102)-8),IF(Y101>8,Y101-8,0)),"") -> 0 | AD101: =IF(V101<>"",V101*AA101*0.25,"") -> 0 | AE101: =IF(V101<>"",V101*AB101*0.25,"") -> 0 | AF101: =IF(AC101<>"",V101*0.25*AC101,"") -> 0 | AG101: =IF(I101="","",IF(AV101>2,IF(BG101=3,$AG$42,IF(BG101=2,$AG$42,$AG$43)),IF(AV101=2,IF(BG101=3,$AG$42,$AG$43),$AG$43))) -> 700 | AH101: =IF(V101<>"",Z101+AD101+AE101+AF101,"") -> 5600 | AL101: 1 | AM101: =CONCATENATE($M$99,$N101) -> 3 | AN101: =CONCATENATE($M$99,$M101) -> 3 | AO101: =COUNTIF($I$72:I101,I101) -> 1 | AP101: =Y101 -> 4 | AQ101: =AH101 -> 5600 | AR101: =IF(G101="","",SUMIF($G$4:$G$32,G101,$F$4:$F$32)) -> 0 | AS101: =IF($I101="","",RANK($I101,$I$73:$I$348,0)) -> 6 | AU101: =IF(I101>1,1,"") -> 1 | AV101: =SUMIF($I$45:$I$348,I101,$AU$45:$AU$348) -> 2 | AW101: =IF(AV101<1,0,SUMIF($I$44:I100,I101,$W$44:W100)) -> 0 | AX101: =IF(AV101<2,0,SUMIF($I102:I$348,I101,$W102:W$348)) -> 16.75 | AY101: =IF(AV101=2,IF(BG101=2,0,IF(BC101>=8,IF(Y101>8,(8-Y101)+Y101,Y101),IF(BC101+Y101<8,0,BC101+Y101-8))),0) -> 0 | AZ101: =IF(BG101=1,0,IF(BG101=2,IF(BH101>8,IF(Y101>8,8-Y101+Y101,Y101),IF(Y101>8,Y101+BH101-8-(Y101-8),IF(BH101+Y101>8,BH101+Y101-8,0))),IF(BG101=3,IF(BC101+BD96>8,IF(Y101>=8,8,Y101),IF(Y101+BC101+BD96>8,Y101+BC101+BD96-8,0)),0))) -> 0 | BA101: =IF(AW101+AX101=0,0,IF(AW101=0,VLOOKUP(I101,I102:$W$348,15,FALSE),VLOOKUP(I101,$I$45:$W101,15,FALSE))) -> 16.75 | BB101: =IF(BA101>W101,1,0)+IF(BA101>BD101,1,0) -> 2 | BC101: =IF(AW101+AX101=0,0,IF(AW101=0,VLOOKUP(I101,I102:$Y$348,17,FALSE),VLOOKUP(I101,$I$45:$Y101,17,FALSE))) -> 6.25 | BD101: =IF(AND(AW101>1,AX101>1),AX101,AW101+AX101-BA101) -> 0 | BE101: =IF(BD101>BA101,1,0)+IF(BD101>W101,1,0) -> 0 | BF101: =IF(I101="","",SUMIF($I$45:$I$348,I101,$Y$45:$Y$348)-BC101-Y101) -> 0 | BG101: =IF(AW101+AX101=0,0,IF(BB101+BE101=3,1,IF(BB101+BE101=2,2,3))) -> 2 | BH101: =IF(BE101=2,BC101,BF101) -> 0 | BK101: =IF(AR101=AR97,"",AR101) | BL101: =COUNTIF($B$73:B101,B101) -> 28 | BM101: =(SUMIF(変換前!$AR$73:$AR$348,BP101)/BP101) -> 0 | BN101: =IF(BM101>=1,29,"") | BO101: =G16 -> エスカーレ | BP101: =F16 -> 1313
...
