Workbook

Sheet 在庫確認
A2: 棚番 | B2: 品番 | C2: 名称 | D2: 現在在庫 | E2: 発注点
A3: 1 | B3: 1-1 | C3: りんご | D3: 5 | E3: 2
A4: 1 | B4: 1-2 | C4: いちご | D4: 6 | E4: 2
A5: 1 | B5: 1-3 | C5: ばなな | D5: 1 | E5: 3
A6: 1 | B6: 1-4 | C6: きうい | D6: 2 | E6: 1
A7: 1 | B7: 1-5 | C7: メロン | D7: 3 | E7: 5
A8: 1 | B8: 1-6 | C8: パイン | D8: 3 | E8: 1
A9: 1 | B9: 1-7 | C9: すいか | D9: 3 | E9: 1
A10: 1 | B10: 1-8 | C10: さくらんぼ | D10: 22 | E10: 1
A11: 1 | B11: 1-9 | C11: etc | D11: 11 | E11: 5
A12: 1 | B12: 1-10 | C12: etc | D12: 1 | E12: 1
A13: 1 | B13: 1-11 | C13: etc | D13: 2 | E13: 1
A14: 1 | B14: 1-12 | C14: etc | D14: 2 | E14: 1
... A117: 6 | B117: 6-4 | C117: ばつ４ | D117: 103 | E117: 1

Sheet 納入
B2: 納入日 | C2: 品番 | D2: 品名 | E2: 数 | G2: チェック者
B3: 45117 | C3: 1-4 | D3: =VLOOKUP(C3,在庫確認!$B$3:$E$117,2,FALSE) -> きうい | E3: 1
B4: 45119 | C4: 1-5 | D4: =VLOOKUP(C4,在庫確認!$B$3:$E$117,2,FALSE) -> メロン | E4: 2
B5: 45129 | C5: 2-1 | D5: =VLOOKUP(C5,在庫確認!$B$3:$E$117,2,FALSE) -> さとう | E5: 1

Sheet 斎藤さん
B2: 払出日 | C2: 品番 | D2: 品名 | E2: 払出数 | G2: チェック者
B3: 45114 | C3: 1-1 | D3: =VLOOKUP(C3,在庫確認!$B$3:$E$117,2,FALSE) -> りんご | E3: 2 | G3: 太田
B4: 45114 | C4: 1-3 | D4: =VLOOKUP(C4,在庫確認!$B$3:$E$117,2,FALSE) -> ばなな | E4: 1 | G4: 太田
B5: 45115 | C5: 1-4 | D5: =VLOOKUP(C5,在庫確認!$B$3:$E$117,2,FALSE) -> きうい | E5: 1
B6: 45116 | C6: 1-5 | D6: =VLOOKUP(C6,在庫確認!$B$3:$E$117,2,FALSE) -> メロン | E6: 2
B7: 45117 | C7: 2-1 | D7: =VLOOKUP(C7,在庫確認!$B$3:$E$117,2,FALSE) -> さとう | E7: 1

Sheet 山田さん
B2: 払出日 | C2: 品番 | D2: 品名 | E2: 払出数 | G2: チェック者
B3: 45114 | C3: 1-1 | D3: =VLOOKUP(C3,在庫確認!$B$3:$E$117,2,FALSE) -> りんご | E3: 2 | G3: 太田
B4: 45114 | C4: 1-3 | D4: =VLOOKUP(C4,在庫確認!$B$3:$E$117,2,FALSE) -> ばなな | E4: 1 | G4: 太田
B5: 45115 | C5: 1-4 | D5: =VLOOKUP(C5,在庫確認!$B$3:$E$117,2,FALSE) -> きうい | E5: 1
B6: 45116 | C6: 1-5 | D6: =VLOOKUP(C6,在庫確認!$B$3:$E$117,2,FALSE) -> メロン | E6: 2
B7: 45117 | C7: 2-3 | D7: =VLOOKUP(C7,在庫確認!$B$3:$E$117,2,FALSE) -> みそ | E7: 1

Sheet 佐藤さん
B2: 払出日 | C2: 品番 | D2: 品名 | E2: 払出数 | G2: チェック者
B3: 45114 | C3: 1-1 | D3: =VLOOKUP(C3,在庫確認!$B$3:$E$117,2,FALSE) -> りんご | E3: 2 | G3: 太田
B4: 45114 | C4: 1-3 | D4: =VLOOKUP(C4,在庫確認!$B$3:$E$117,2,FALSE) -> ばなな | E4: 1 | G4: 太田
B5: 45115 | C5: 1-4 | D5: =VLOOKUP(C5,在庫確認!$B$3:$E$117,2,FALSE) -> きうい | E5: 1
B6: 45116 | C6: 1-5 | D6: =VLOOKUP(C6,在庫確認!$B$3:$E$117,2,FALSE) -> メロン | E6: 2
B7: 45117 | C7: 2-1 | D7: =VLOOKUP(C7,在庫確認!$B$3:$E$117,2,FALSE) -> さとう | E7: 1

Sheet 高橋さん
B2: 払出日 | C2: 品番 | D2: 品名 | E2: 払出数 | G2: チェック者
B3: 45114 | C3: 1-1 | D3: =VLOOKUP(C3,在庫確認!$B$3:$E$117,2,FALSE) -> りんご | E3: 2 | G3: 太田
B4: 45114 | C4: 1-3 | D4: =VLOOKUP(C4,在庫確認!$B$3:$E$117,2,FALSE) -> ばなな | E4: 1 | G4: 太田
B5: 45115 | C5: 1-4 | D5: =VLOOKUP(C5,在庫確認!$B$3:$E$117,2,FALSE) -> きうい | E5: 1
B6: 45116 | C6: 1-5 | D6: =VLOOKUP(C6,在庫確認!$B$3:$E$117,2,FALSE) -> メロン | E6: 2
B7: 45117 | C7: 2-1 | D7: =VLOOKUP(C7,在庫確認!$B$3:$E$117,2,FALSE) -> さとう | E7: 1

Sheet 田中さん
B2: 払出日 | C2: 品番 | D2: 品名 | E2: 払出数 | G2: チェック者
B3: 45114 | C3: 1-1 | D3: =VLOOKUP(C3,在庫確認!$B$3:$E$117,2,FALSE) -> りんご | E3: 2 | G3: 太田
B4: 45114 | C4: 1-3 | D4: =VLOOKUP(C4,在庫確認!$B$3:$E$117,2,FALSE) -> ばなな | E4: 1 | G4: 太田
B5: 45115 | C5: 1-4 | D5: =VLOOKUP(C5,在庫確認!$B$3:$E$117,2,FALSE) -> きうい | E5: 1
B6: 45116 | C6: 1-5 | D6: =VLOOKUP(C6,在庫確認!$B$3:$E$117,2,FALSE) -> メロン | E6: 2
B7: 45117 | C7: 2-1 | D7: =VLOOKUP(C7,在庫確認!$B$3:$E$117,2,FALSE) -> さとう | E7: 1

Sheet 伊藤さん
B2: 払出日 | C2: 品番 | D2: 品名 | E2: 払出数 | G2: チェック者
B3: 45114 | C3: 1-1 | D3: =VLOOKUP(C3,在庫確認!$B$3:$E$117,2,FALSE) -> りんご | E3: 2 | G3: 太田
B4: 45114 | C4: 1-3 | D4: =VLOOKUP(C4,在庫確認!$B$3:$E$117,2,FALSE) -> ばなな | E4: 1 | G4: 太田
B5: 45115 | C5: 1-4 | D5: =VLOOKUP(C5,在庫確認!$B$3:$E$117,2,FALSE) -> きうい | E5: 1
B6: 45116 | C6: 1-5 | D6: =VLOOKUP(C6,在庫確認!$B$3:$E$117,2,FALSE) -> メロン | E6: 2
B7: 45117 | C7: 2-1 | D7: =VLOOKUP(C7,在庫確認!$B$3:$E$117,2,FALSE) -> さとう | E7: 1

Sheet 渡辺さん
B2: 払出日 | C2: 品番 | D2: 品名 | E2: 払出数 | G2: チェック者
B3: 45114 | C3: 1-1 | D3: =VLOOKUP(C3,在庫確認!$B$3:$E$117,2,FALSE) -> りんご | E3: 2 | G3: 太田
B4: 45114 | C4: 1-3 | D4: =VLOOKUP(C4,在庫確認!$B$3:$E$117,2,FALSE) -> ばなな | E4: 1 | G4: 太田
B5: 45115 | C5: 1-4 | D5: =VLOOKUP(C5,在庫確認!$B$3:$E$117,2,FALSE) -> きうい | E5: 1
B6: 45116 | C6: 1-5 | D6: =VLOOKUP(C6,在庫確認!$B$3:$E$117,2,FALSE) -> メロン | E6: 2
B7: 45117 | C7: 2-1 | D7: =VLOOKUP(C7,在庫確認!$B$3:$E$117,2,FALSE) -> さとう | E7: 1

Sheet 鈴木さん
B2: 払出日 | C2: 品番 | D2: 品名 | E2: 払出数 | G2: チェック者
B3: 45114 | C3: 1-1 | D3: =VLOOKUP(C3,在庫確認!$B$3:$E$117,2,FALSE) -> りんご | E3: 2 | G3: 太田
B4: 45114 | C4: 1-3 | D4: =VLOOKUP(C4,在庫確認!$B$3:$E$117,2,FALSE) -> ばなな | E4: 1 | G4: 太田
B5: 45115 | C5: 1-4 | D5: =VLOOKUP(C5,在庫確認!$B$3:$E$117,2,FALSE) -> きうい | E5: 1
B6: 45116 | C6: 1-5 | D6: =VLOOKUP(C6,在庫確認!$B$3:$E$117,2,FALSE) -> メロン | E6: 2
B7: 45117 | C7: 2-1 | D7: =VLOOKUP(C7,在庫確認!$B$3:$E$117,2,FALSE) -> さとう | E7: 1
