Workbook

Sheet Due Date
A1: Due date of FY20 submission
C3: Due date of Unit Report on FY2020 | F3: Due date of BT-Package on FY2020 | H3: Due date of CEO Report on FY2020
H4: [BUS/BEU/KMJ/BCN/BHK/BSA/BAU/BIN]
C5: Reporting Period | D5: Due date of Unit Report | F5: Due date of BT-Package | H5: Due date of CEO Report
B6: 1st Month | C6: Apr, 2020 | D6: May 7, 2020 (Companies in Japan: May 11, 2020) | F6: May 8, 2020 (Companies in Japan: May 12, 2020) | H6: May 13, 2020 (KMJ: May 14, 2020 at 12:00)
B7: 2nd Month | C7: May, 2020 | D7: Jun 4, 2020 | F7: Jun 5, 2020 | H7: Jun 11, 2020
B8: 3rd Month | C8: Jun, 2020 | D8: Jul 6, 2020 (Companies in US: Jul 7, 2019) | F8: Jul 8, 2020 (Companies in US: Jul 10, 2020) | H8: Jul 14, 2020
B9: 4th Month | C9: Jul, 2020 | D9: Aug 6, 2020 (Companies in Japan: Aug 7, 2020) | F9: Aug 7, 2020 (BKJ & BEJ only: Aug 19, 2020) | H9: Aug 14, 2020 (KMJ: Aug 17, 2020)
B10: 5th Month | C10: Aug, 2020 | D10: Sep 4, 2020 | F10: Sep 7, 2020 (Companies in US: Sep 9, 2020) | H10: Sep 10, 2020 (Companies in US: Sep 11, 2020)
B11: 6th Month | C11: Sep, 2020 | D11: Oct 6, 2020 | F11: Oct 8, 2020 | H11: Oct 14, 2020
B12: 7th Month | C12: Oct, 2020 | D12: Nov 5, 2020 (Companies in Japan: Nov 6, 2020) | F12: Nov 9, 2020 | H12: Nov 12, 2020
B13: 8th Month | C13: Nov, 2020 | D13: Dec 4, 2020 | F13: Dec 7, 2020 | H13: Dec 10, 2020
B14: 9th Month | C14: Dec, 2020 | D14: Jan 7, 2021 | F14: Jan 11, 2021 (Companies in Japan: Jan 12, 2021) | H14: Jan 15, 2021
B15: 10th Month | C15: Jan, 2021 | D15: Feb 4, 2021 | F15: Feb 5, 2021 | H15: Feb 10, 2021
B16: 11th Month | C16: Feb, 2021 | D16: Mar 4, 2021 | F16: Mar 5, 2021 | H16: Mar 10, 2021
B17: 12th Month | C17: Mar, 2021 | D17: Apr 6, 2021 | F17: Apr 9, 2021* | H17: Apr 14, 2021*
F18: *if due date is changed, new schedule will be informed | H18: *if due date is changed, new schedule will be informed
B20: [BBR Only]
C21: Reporting Period | D21: Due date of Unit Report | F21: Due date of BT-Package
B22: 1st Month | C22: Apr, 2020 | D22: May 6, 2020 | F22: May 6, 2020
B23: 2nd Month | C23: May, 2020 | D23: Jun 1, 2020 | F23: Jun 1, 2020
B24: 3rd Month | C24: Jun, 2020 | D24: Jul 1, 2020 | F24: Jul 1, 2020
B25: 4th Month | C25: Jul, 2020 | D25: Aug 5, 2020 | F25: Aug 5, 2020
B26: 5th Month | C26: Aug, 2020 | D26: Sep 1, 2020 | F26: Sep 1, 2020
B27: 6th Month | C27: Sep, 2020 | D27: Oct 1, 2020 | F27: Oct 1, 2020
B28: 7th Month | C28: Oct, 2020 | D28: Nov 2, 2020 | F28: Nov 2, 2020
B29: 8th Month | C29: Nov, 2020 | D29: Dec 1, 2020 | F29: Dec 1, 2020
B30: 9th Month | C30: Dec, 2020 | D30: Jan 4, 2021 | F30: Jan 4, 2021
B31: 10th Month | C31: Jan, 2021 | D31: Feb 1, 2021 | F31: Feb 1, 2021
B32: 11th Month | C32: Feb, 2021 | D32: Mar 1, 2021 | F32: Mar 1, 2021
B33: 12th Month | C33: Mar, 2021 | D33: Apr 1, 2021 | F33: Apr 1, 2021

Sheet Cost Allocation
A1: Allocation Confirmation of SG&A, Employees
J2: Input fields
D4: (Unit:1000LC) | H4: ='PL,HC,INV'!P10 -> 43922 | I4: ='PL,HC,INV'!Q10 -> 43952 | J4: ='PL,HC,INV'!R10 -> 43983 | K4: ='PL,HC,INV'!S10 -> 44013 | L4: ='PL,HC,INV'!T10 -> 44044 | M4: ='PL,HC,INV'!U10 -> 44075 | N4: ='PL,HC,INV'!V10 -> 44105 | O4: ='PL,HC,INV'!W10 -> 44136 | ... W4: ='PL,HC,INV'!AE10 -> Q4 | X4: ='PL,HC,INV'!AH10 -> Yr.
B5: 1. Direct charge/Allocated cost of SG&A
D6: Office | E6: Variable Expenses | G6: Direct charge | H6: 874 | I6: -38 | J6: 3667 | K6: 2818 | L6: 6736 | M6: 5713 | N6: 5243 | O6: 8062 | P6: 23374 | Q6: 11826 | R6: 13485 | S6: 21163 | T6: =SUM(H6:S6) -> 102923 | U6: =SUM(K6:M6) -> 15267 | V6: =SUM(N6:P6) -> 36679 | W6: =SUM(Q6:S6) -> 46474 | X6: =SUM(T6:W6) -> 201343
G7: Allocation | H7: =H8-H6 -> 4044 | I7: =I8-I6 -> 6058 | J7: =J8-J6 -> 6431 | K7: =K8-K6 -> 4675 | L7: =L8-L6 -> 283 | M7: =M8-M6 -> 5397 | N7: =N8-N6 -> 9941 | O7: =O8-O6 -> 3674 | ... X7: =X8-X6 -> -67739
G8: Total | H8: ='PL,HC,INV'!P$104 -> 4918 | I8: ='PL,HC,INV'!Q$104 -> 6020 | J8: ='PL,HC,INV'!R$104 -> 10098 | K8: ='PL,HC,INV'!S$104 -> 7493 | L8: ='PL,HC,INV'!T$104 -> 7019 | M8: ='PL,HC,INV'!U$104 -> 11110 | N8: ='PL,HC,INV'!V$104 -> 15184 | O8: ='PL,HC,INV'!W$104 -> 11736 | ... S8: ='PL,HC,INV'!AA$104 -> 7807 | T8: =SUM(H8:J8) -> 21036 | U8: =SUM(K8:M8) -> 25622 | V8: =SUM(N8:P8) -> 50294 | W8: =SUM(Q8:S8) -> 36652 | X8: =SUM(T8:W8) -> 133604
E9: Wages & Salaries | G9: Direct charge | H9: 16585 | I9: 13392 | J9: 14998 | K9: =16194+227 -> 16421 | L9: 16657 | M9: 16661 | N9: 16743 | O9: 16236 | P9: 12525 | Q9: 15970 | R9: 16377 | S9: 40052 | T9: =SUM(H9:J9) -> 44975 | U9: =SUM(K9:M9) -> 49739 | V9: =SUM(N9:P9) -> 45504 | W9: =SUM(Q9:S9) -> 72399 | X9: =SUM(T9:W9) -> 212617
G10: Allocation | H10: =H11-H9 -> 6204 | I10: =I11-I9 -> 8798 | J10: =J11-J9 -> 6675 | K10: =K11-K9 -> 6046 | L10: =L11-L9 -> 6447 | M10: =M11-M9 -> 7854 | N10: =N11-N9 -> 7184 | O10: =O11-O9 -> 6579 | ... X10: =X11-X9 -> 70590
G11: Total | H11: ='PL,HC,INV'!P$105 -> 22789 | I11: ='PL,HC,INV'!Q$105 -> 22190 | J11: ='PL,HC,INV'!R$105 -> 21673 | K11: ='PL,HC,INV'!S$105 -> 22467 | L11: ='PL,HC,INV'!T$105 -> 23104 | M11: ='PL,HC,INV'!U$105 -> 24515 | N11: ='PL,HC,INV'!V$105 -> 23927 | O11: ='PL,HC,INV'!W$105 -> 22815 | ... S11: ='PL,HC,INV'!AA$105 -> 35728 | T11: =SUM(H11:J11) -> 66652 | U11: =SUM(K11:M11) -> 70086 | V11: =SUM(N11:P11) -> 64983 | W11: =SUM(Q11:S11) -> 81486 | X11: =SUM(T11:W11) -> 283207
E12: Fixed Expenses | G12: Direct charge | H12: 3638 | I12: 3710 | J12: 3900 | K12: =4570+8 -> 4578 | L12: 4708 | M12: 4359 | N12: 4789 | O12: 4859 | P12: 4326 | Q12: 5006 | R12: 5668 | S12: 9779 | T12: =SUM(H12:J12) -> 11248 | U12: =SUM(K12:M12) -> 13645 | V12: =SUM(N12:P12) -> 13974 | W12: =SUM(Q12:S12) -> 20453 | X12: =SUM(T12:W12) -> 59320
G13: Allocation | H13: =H14-H12 -> 7443 | I13: =I14-I12 -> 6846 | J13: =J14-J12 -> 14726 | K13: =K14-K12 -> 6151 | L13: =L14-L12 -> 6263 | M13: =M14-M12 -> 11028 | N13: =N14-N12 -> 13540 | O13: =O14-O12 -> 9720 | ... X13: =X14-X12 -> 101572
G14: Total | H14: ='PL,HC,INV'!P$106 -> 11081 | I14: ='PL,HC,INV'!Q$106 -> 10556 | J14: ='PL,HC,INV'!R$106 -> 18626 | K14: ='PL,HC,INV'!S$106 -> 10729 | L14: ='PL,HC,INV'!T$106 -> 10971 | M14: ='PL,HC,INV'!U$106 -> 15387 | N14: ='PL,HC,INV'!V$106 -> 18329 | O14: ='PL,HC,INV'!W$106 -> 14579 | ... S14: ='PL,HC,INV'!AA$106 -> 7096 | T14: =SUM(H14:J14) -> 40263 | U14: =SUM(K14:M14) -> 37087 | V14: =SUM(N14:P14) -> 47295 | W14: =SUM(Q14:S14) -> 36247 | X14: =SUM(T14:W14) -> 160892
D15: PP | E15: Variable Expenses | G15: Direct charge | H15: 657 | I15: 894 | J15: 3109 | K15: 6427 | L15: 17227 | M15: 8240 | N15: 6195 | O15: 10550 | P15: 31022 | Q15: 8140 | R15: 21234 | S15: 23474 | T15: =SUM(H15:S15) -> 137169 | U15: =SUM(K15:M15) -> 31894 | V15: =SUM(N15:P15) -> 47767 | W15: =SUM(Q15:S15) -> 52848 | X15: =SUM(T15:W15) -> 269678
G16: Allocation | H16: =H17-H15 -> 7451 | I16: =I17-I15 -> 11162 | J16: =J17-J15 -> 11849 | K16: =K17-K15 -> 8612 | L16: =L17-L15 -> 521 | M16: =M17-M15 -> 9944 | N16: =N17-N15 -> 19539 | O16: =O17-O15 -> 6769 | ... X16: =X17-X15 -> -74758
G17: Total | H17: ='PL,HC,INV'!P$148 -> 8108 | I17: ='PL,HC,INV'!Q$148 -> 12056 | J17: ='PL,HC,INV'!R$148 -> 14958 | K17: ='PL,HC,INV'!S$148 -> 15039 | L17: ='PL,HC,INV'!T$148 -> 17748 | M17: ='PL,HC,INV'!U$148 -> 18184 | N17: ='PL,HC,INV'!V$148 -> 25734 | O17: ='PL,HC,INV'!W$148 -> 17319 | ... S17: ='PL,HC,INV'!AA$148 -> -1135 | T17: =SUM(H17:J17) -> 35122 | U17: =SUM(K17:M17) -> 50971 | V17: =SUM(N17:P17) -> 74075 | W17: =SUM(Q17:S17) -> 34752 | X17: =SUM(T17:W17) -> 194920
E18: Wages & Salaries | G18: Direct charge | H18: 16867 | I18: 12876 | J18: 14227 | K18: 16962 | L18: 16597 | M18: 16840 | N18: 17082 | O18: 14701 | P18: 11766 | Q18: 14654 | R18: 14716 | S18: 33916 | T18: =SUM(H18:S18) -> 201204 | U18: =SUM(K18:M18) -> 50399 | V18: =SUM(N18:P18) -> 43549 | W18: =SUM(Q18:S18) -> 63286 | X18: =SUM(T18:W18) -> 358438
G19: Allocation | H19: =H20-H18 -> 11431 | I19: =I20-I18 -> 16213 | J19: =J20-J18 -> 12298 | K19: =K20-K18 -> 11554 | L19: =L20-L18 -> 11879 | M19: =M20-M18 -> 14471 | N19: =N20-N18 -> 13238 | O19: =O20-O18 -> 12122 | ... X19: =X20-X18 -> -26754
G20: Total | H20: ='PL,HC,INV'!P$149 -> 28298 | I20: ='PL,HC,INV'!Q$149 -> 29089 | J20: ='PL,HC,INV'!R$149 -> 26525 | K20: ='PL,HC,INV'!S$149 -> 28516 | L20: ='PL,HC,INV'!T$149 -> 28476 | M20: ='PL,HC,INV'!U$149 -> 31311 | N20: ='PL,HC,INV'!V$149 -> 30320 | O20: ='PL,HC,INV'!W$149 -> 26823 | ... S20: ='PL,HC,INV'!AA$149 -> 25948 | T20: =SUM(H20:J20) -> 83912 | U20: =SUM(K20:M20) -> 88303 | V20: =SUM(N20:P20) -> 79441 | W20: =SUM(Q20:S20) -> 80028 | X20: =SUM(T20:W20) -> 331684
E21: Fixed Expenses | G21: Direct charge | H21: 8702 | I21: 9229 | J21: 11991 | K21: 13044 | L21: 13668 | M21: 11908 | N21: 12068 | O21: 13603 | P21: 13623 | Q21: 13854 | R21: 15376 | S21: 19214 | T21: =SUM(H21:S21) -> 156280 | U21: =SUM(K21:M21) -> 38620 | V21: =SUM(N21:P21) -> 39294 | W21: =SUM(Q21:S21) -> 48444 | X21: =SUM(T21:W21) -> 282638
G22: Allocation | H22: =H23-H21 -> 13714 | I22: =I23-I21 -> 12616 | J22: =J23-J21 -> 27134 | K22: =K23-K21 -> 11347 | L22: =L23-L21 -> 11539 | M22: =M23-M21 -> 20320 | N22: =N23-N21 -> 24948 | O22: =O23-O21 -> 17909 | ... X22: =X23-X21 -> 60807
G23: Total | H23: ='PL,HC,INV'!P$150 -> 22416 | I23: ='PL,HC,INV'!Q$150 -> 21845 | J23: ='PL,HC,INV'!R$150 -> 39125 | K23: ='PL,HC,INV'!S$150 -> 24391 | L23: ='PL,HC,INV'!T$150 -> 25207 | M23: ='PL,HC,INV'!U$150 -> 32228 | N23: ='PL,HC,INV'!V$150 -> 37016 | O23: ='PL,HC,INV'!W$150 -> 31512 | ... S23: ='PL,HC,INV'!AA$150 -> 14271 | T23: =SUM(H23:J23) -> 83386 | U23: =SUM(K23:M23) -> 81826 | V23: =SUM(N23:P23) -> 100689 | W23: =SUM(Q23:S23) -> 77544 | X23: =SUM(T23:W23) -> 343445
D24: IP | E24: Variable Expenses | G24: Direct charge | H24: 42 | I24: 42 | J24: 30 | K24: 192 | L24: 28 | M24: 43 | N24: 95 | O24: 31 | P24: -63 | Q24: 78 | R24: -4 | S24: 42 | T24: =SUM(H24:S24) -> 556 | U24: =SUM(K24:M24) -> 263 | V24: =SUM(N24:P24) -> 63 | W24: =SUM(Q24:S24) -> 116 | X24: =SUM(T24:W24) -> 998
G25: Allocation | H25: =H26-H24 -> 519 | I25: =I26-I24 -> 778 | J25: =J26-J24 -> 825 | K25: =K26-K24 -> 600 | L25: =L26-L24 -> 36 | M25: =M26-M24 -> 693 | N25: =N26-N24 -> 1276 | O25: =O26-O24 -> 472 | ... X25: =X26-X24 -> 3497
G26: Total | H26: ='PL,HC,INV'!P$220 -> 561 | I26: ='PL,HC,INV'!Q$220 -> 820 | J26: ='PL,HC,INV'!R$220 -> 855 | K26: ='PL,HC,INV'!S$220 -> 792 | L26: ='PL,HC,INV'!T$220 -> 64 | M26: ='PL,HC,INV'!U$220 -> 736 | N26: ='PL,HC,INV'!V$220 -> 1371 | O26: ='PL,HC,INV'!W$220 -> 503 | ... S26: ='PL,HC,INV'!AA$220 -> -1672 | T26: =SUM(H26:J26) -> 2236 | U26: =SUM(K26:M26) -> 1592 | V26: =SUM(N26:P26) -> 1811 | W26: =SUM(Q26:S26) -> -1144 | X26: =SUM(T26:W26) -> 4495
E27: Wages & Salaries | G27: Direct charge | H27: 2155 | I27: 1668 | J27: 1963 | K27: 2196 | L27: 2119 | M27: 2149 | N27: 1279 | O27: 2006 | P27: 1932 | Q27: 2013 | R27: 2010 | S27: 4686 | T27: =SUM(H27:S27) -> 26176 | U27: =SUM(K27:M27) -> 6464 | V27: =SUM(N27:P27) -> 5217 | W27: =SUM(Q27:S27) -> 8709 | X27: =SUM(T27:W27) -> 46566
G28: Allocation | H28: =H29-H27 -> 797 | I28: =I29-I27 -> 1129 | J28: =J29-J27 -> 857 | K28: =K29-K27 -> 805 | L28: =L29-L27 -> 828 | M28: =M29-M27 -> 1008 | N28: =N29-N27 -> 1822 | O28: =O29-O27 -> 844 | ... X28: =X29-X27 -> -10400
G29: Total | H29: ='PL,HC,INV'!P$221 -> 2952 | I29: ='PL,HC,INV'!Q$221 -> 2797 | J29: ='PL,HC,INV'!R$221 -> 2820 | K29: ='PL,HC,INV'!S$221 -> 3001 | L29: ='PL,HC,INV'!T$221 -> 2947 | M29: ='PL,HC,INV'!U$221 -> 3157 | N29: ='PL,HC,INV'!V$221 -> 3101 | O29: ='PL,HC,INV'!W$221 -> 2850 | ... S29: ='PL,HC,INV'!AA$221 -> 4131 | T29: =SUM(H29:J29) -> 8569 | U29: =SUM(K29:M29) -> 9105 | V29: =SUM(N29:P29) -> 8617 | W29: =SUM(Q29:S29) -> 9875 | X29: =SUM(T29:W29) -> 36166
E30: Fixed Expenses | G30: Direct charge | H30: 416 | I30: 483 | J30: 459 | K30: 464 | L30: 402 | M30: 319 | N30: 2109 | O30: 671 | P30: 1517 | Q30: 1664 | R30: -232 | S30: 1125 | T30: =SUM(H30:S30) -> 9397 | U30: =SUM(K30:M30) -> 1185 | V30: =SUM(N30:P30) -> 4297 | W30: =SUM(Q30:S30) -> 2557 | X30: =SUM(T30:W30) -> 17436
G31: Allocation | H31: =H32-H30 -> 955 | I31: =I32-I30 -> 879 | J31: =J32-J30 -> 1890 | K31: =K32-K30 -> 791 | L31: =L32-L30 -> 804 | M31: =M32-M30 -> 1753 | N31: =N32-N30 -> 1738 | O31: =O32-O30 -> 1248 | ... X31: =X32-X30 -> 5337
G32: Total | H32: ='PL,HC,INV'!P$222 -> 1371 | I32: ='PL,HC,INV'!Q$222 -> 1362 | J32: ='PL,HC,INV'!R$222 -> 2349 | K32: ='PL,HC,INV'!S$222 -> 1255 | L32: ='PL,HC,INV'!T$222 -> 1206 | M32: ='PL,HC,INV'!U$222 -> 2072 | N32: ='PL,HC,INV'!V$222 -> 3847 | O32: ='PL,HC,INV'!W$222 -> 1919 | ... S32: ='PL,HC,INV'!AA$222 -> 781 | T32: =SUM(H32:J32) -> 5082 | U32: =SUM(K32:M32) -> 4533 | V32: =SUM(N32:P32) -> 8574 | W32: =SUM(Q32:S32) -> 4584 | X32: =SUM(T32:W32) -> 22773
D33: MS | E33: Variable Expenses | G33: Direct charge | T33: =SUM(H33:J33) -> 0 | U33: =SUM(K33:M33) -> 0 | V33: =SUM(N33:P33) -> 0 | W33: =SUM(Q33:S33) -> 0 | X33: =SUM(T33:W33) -> 0
G34: Allocation | H34: =H35-H33 -> 0 | I34: =I35-I33 -> 0 | J34: =J35-J33 -> 0 | K34: =K35-K33 -> 0 | L34: =L35-L33 -> 0 | M34: =M35-M33 -> 0 | N34: =N35-N33 -> 0 | O34: =O35-O33 -> 0 | ... X34: =X35-X33 -> 0
G35: Total | H35: ='PL,HC,INV'!P$273 -> 0 | I35: ='PL,HC,INV'!Q$273 -> 0 | J35: ='PL,HC,INV'!R$273 -> 0 | K35: ='PL,HC,INV'!S$273 -> 0 | L35: ='PL,HC,INV'!T$273 -> 0 | M35: ='PL,HC,INV'!U$273 -> 0 | N35: ='PL,HC,INV'!V$273 -> 0 | O35: ='PL,HC,INV'!W$273 -> 0 | ... S35: ='PL,HC,INV'!AA$273 -> 0 | T35: =SUM(H35:J35) -> 0 | U35: =SUM(K35:M35) -> 0 | V35: =SUM(N35:P35) -> 0 | W35: =SUM(Q35:S35) -> 0 | X35: =SUM(T35:W35) -> 0
E36: Wages & Salaries | G36: Direct charge | T36: =SUM(H36:J36) -> 0 | U36: =SUM(K36:M36) -> 0 | V36: =SUM(N36:P36) -> 0 | W36: =SUM(Q36:S36) -> 0 | X36: =SUM(T36:W36) -> 0
G37: Allocation | H37: =H38-H36 -> 0 | I37: =I38-I36 -> 0 | J37: =J38-J36 -> 0 | K37: =K38-K36 -> 0 | L37: =L38-L36 -> 0 | M37: =M38-M36 -> 0 | N37: =N38-N36 -> 0 | O37: =O38-O36 -> 0 | ... X37: =X38-X36 -> 0
G38: Total | H38: ='PL,HC,INV'!P$274 -> 0 | I38: ='PL,HC,INV'!Q$274 -> 0 | J38: ='PL,HC,INV'!R$274 -> 0 | K38: ='PL,HC,INV'!S$274 -> 0 | L38: ='PL,HC,INV'!T$274 -> 0 | M38: ='PL,HC,INV'!U$274 -> 0 | N38: ='PL,HC,INV'!V$274 -> 0 | O38: ='PL,HC,INV'!W$274 -> 0 | ... S38: ='PL,HC,INV'!AA$274 -> 0 | T38: =SUM(H38:J38) -> 0 | U38: =SUM(K38:M38) -> 0 | V38: =SUM(N38:P38) -> 0 | W38: =SUM(Q38:S38) -> 0 | X38: =SUM(T38:W38) -> 0
E39: Fixed Expenses | G39: Direct charge | T39: =SUM(H39:J39) -> 0 | U39: =SUM(K39:M39) -> 0 | V39: =SUM(N39:P39) -> 0 | W39: =SUM(Q39:S39) -> 0 | X39: =SUM(T39:W39) -> 0
G40: Allocation | H40: =H41-H39 -> 0 | I40: =I41-I39 -> 0 | J40: =J41-J39 -> 0 | K40: =K41-K39 -> 0 | L40: =L41-L39 -> 0 | M40: =M41-M39 -> 0 | N40: =N41-N39 -> 0 | O40: =O41-O39 -> 0 | ... X40: =X41-X39 -> 0
G41: Total | H41: ='PL,HC,INV'!P$275 -> 0 | I41: ='PL,HC,INV'!Q$275 -> 0 | J41: ='PL,HC,INV'!R$275 -> 0 | K41: ='PL,HC,INV'!S$275 -> 0 | L41: ='PL,HC,INV'!T$275 -> 0 | M41: ='PL,HC,INV'!U$275 -> 0 | N41: ='PL,HC,INV'!V$275 -> 0 | O41: ='PL,HC,INV'!W$275 -> 0 | ... S41: ='PL,HC,INV'!AA$275 -> 0 | T41: =SUM(H41:J41) -> 0 | U41: =SUM(K41:M41) -> 0 | V41: =SUM(N41:P41) -> 0 | W41: =SUM(Q41:S41) -> 0 | X41: =SUM(T41:W41) -> 0
...

Sheet PL,HC,INV
AK1: 'OP'! | AN1: 'Previous'! | AS1: =AK1 -> 'OP'! | AV1: =AN1 -> 'Previous'! | BA1: =AK1 -> 'OP'! | BD1: =AN1 -> 'Previous'!
AJ2: =VLOOKUP($AJ$7,Work1!$F$6:$I$17,2,0) -> Y | AK2: =VLOOKUP($AJ$7,Work1!$F$6:$I$17,3,0) -> V | AN2: =VLOOKUP($AJ$7,Work1!$F$6:$I$17,4,0) -> V | AR2: =VLOOKUP($AJ$7,Work1!$K$6:$Q$17,2,0) -> Y | AS2: =VLOOKUP($AJ$7,Work1!$K$6:$Q$17,3,0) -> V | AV2: =VLOOKUP($AJ$7,Work1!$K$6:$Q$17,4,0) -> V | AZ2: =VLOOKUP($AJ$7,Work1!$K$6:$Q$17,5,0) -> P | BA2: =VLOOKUP($AJ$7,Work1!$K$6:$Q$17,6,0) -> M | BD2: =VLOOKUP($AJ$7,Work1!$K$6:$Q$17,7,0) -> M
AJ3: =AJ2 -> Y | AK3: =AK2 -> V | AN3: =AN2 -> V | AR3: =VLOOKUP($AJ$7,Work1!$K$22:$Q$33,2,0) -> Y | AS3: =VLOOKUP($AJ$7,Work1!$K$22:$Q$33,3,0) -> V | AV3: =VLOOKUP($AJ$7,Work1!$K$22:$Q$33,4,0) -> V | AZ3: =VLOOKUP($AJ$7,Work1!$K$22:$Q$33,5,0) -> Y | BA3: =VLOOKUP($AJ$7,Work1!$K$22:$Q$33,6,0) -> V | BD3: =VLOOKUP($AJ$7,Work1!$K$22:$Q$33,7,0) -> V
A4: Prev | B4: OP | E4: FY2020 Monthly Actual ver1.0 | O4: BIN | P4: (Unit:1000LC) | AJ4: vs OP / vs FY19 | AN4: Please copy&paste "OP" sheet and "Previous" sheet as they are
H6: =VLOOKUP(O4,Work1!C6:D29,2,0) -> K_INR | K6: (Unit:1000LC) | O6: Input fields | AJ6: Select period (1-12)
O7: Input fields, but not affect PL | AJ7: 10 | AK7: ex. Apr ->1, Feb ->2 ,,,Mar ->12 *BBR: Jan ->1, Feb ->2 ,,,Dec ->12
D8: 1 | E8: 1. P/L (1) - Overview
D9: 1 | F9: 1-1. P/L Statement | AJ9: single month | AR9: Quarter (QTD) | AZ9: Annual Year (YTD)
D10: 1 | P10: =IF($O$4="BBR",Work1!D2,Work1!D3) -> 43922 | Q10: =DATE(YEAR(P10),MONTH(P10)+1,DAY(P10)) -> 43952 | R10: =DATE(YEAR(Q10),MONTH(Q10)+1,DAY(Q10)) -> 43983 | S10: =DATE(YEAR(R10),MONTH(R10)+1,DAY(R10)) -> 44013 | T10: =DATE(YEAR(S10),MONTH(S10)+1,DAY(S10)) -> 44044 | U10: =DATE(YEAR(T10),MONTH(T10)+1,DAY(T10)) -> 44075 | V10: =DATE(YEAR(U10),MONTH(U10)+1,DAY(U10)) -> 44105 | W10: =DATE(YEAR(V10),MONTH(V10)+1,DAY(V10)) -> 44136 | X10: =DATE(YEAR(W10),MONTH(W10)+1,DAY(W10)) -> 44166 | ... AA10: =DATE(YEAR(Z10),MONTH(Z10)+1,DAY(Z10)) -> 44256 | AB10: Q1 | AC10: Q2 | AD10: Q3 | AE10: Q4 | AF10: 1st H | AG10: 2nd H | AH10: Yr. | AJ10: Result | AK10: OP | AL10: vs OP | AM10: % | AN10: FY19 | AO10: vs FY19 | AP10: % | AR10: Result | AS10: OP | AT10: vs OP | AU10: % | AV10: FY19 | AW10: vs FY19 | AX10: % | AZ10: Result | BA10: OP | BB10: vs OP | BC10: % | BD10: FY19 | BE10: vs FY19 | BF10: %
A11: 8 | B11: 8 | D11: 1 | H11: Net Sales | P11: =P74+P313+P284+P115+P159+P231 -> 18167 | Q11: =Q74+Q313+Q284+Q115+Q159+Q231 -> 259915 | R11: =R74+R313+R284+R115+R159+R231 -> 353593 | S11: =S74+S313+S284+S115+S159+S231 -> 362129 | T11: =T74+T313+T284+T115+T159+T231 -> 372500 | U11: =U74+U313+U284+U115+U159+U231 -> 529878 | V11: =V74+V313+V284+V115+V159+V231 -> 531688 | W11: =W74+W313+W284+W115+W159+W231 -> 510841 | ... AA11: =AA74+AA313+AA284+AA115+AA159+AA231 -> 699276 | AB11: =SUM(P11:R11) -> 631675 | AC11: =SUM(S11:U11) -> 1264507 | AD11: =SUM(V11:X11) -> 1674176 | AE11: =SUM(Y11:AA11) -> 1918025 | AF11: =AB11+AC11 -> 1896182 | AG11: =AE11+AD11 -> 3592201 | AH11: =AF11+AG11 -> 5488383 | AJ11: =SUM((INDIRECT(AJ$2&(ROW())):INDIRECT(AJ$3&(ROW())))) -> 584300 | AK11: =SUM(INDIRECT(AK$1&AK$2&$B11):INDIRECT(AK$1&AK$3&$B11)) -> 0 | AL11: =AJ11-AK11 -> 584300 | AM11: =IFERROR(AJ11/AK11,0) -> 0 | AN11: =SUM(INDIRECT(AN$1&AN$2&$A11):INDIRECT(AN$1&AN$3&$A11)) -> 611738 | AO11: =AJ11-AN11 -> -27438 | AP11: =IFERROR(AJ11/AN11,0) -> 0.95514747 | AR11: =SUM((INDIRECT(AR$2&(ROW())):INDIRECT(AR$3&(ROW())))) -> 584300 | AS11: =SUM(INDIRECT(AS$1&AS$2&$B11):INDIRECT(AS$1&AS$3&$B11)) -> 0 | AT11: =AR11-AS11 -> 584300 | AU11: =IFERROR(AR11/AS11,0) -> 0 | AV11: =SUM(INDIRECT(AV$1&AV$2&$A11):INDIRECT(AV$1&AV$3&$A11)) -> 611738 | AW11: =AR11-AV11 -> -27438 | AX11: =IFERROR(AR11/AV11,0) -> 0.95514747 | AZ11: =SUM((INDIRECT(AZ$2&(ROW())):INDIRECT(AZ$3&(ROW())))) -> 4154658 | BA11: =SUM(INDIRECT(BA$1&BA$2&$B11):INDIRECT(BA$1&BA$3&$B11)) -> 0 | BB11: =AZ11-BA11 -> 4154658 | BC11: =IFERROR(AZ11/BA11,0) -> 0 | BD11: =SUM(INDIRECT(BD$1&BD$2&$A11):INDIRECT(BD$1&BD$3&$A11)) -> 5858491 | BE11: =AZ11-BD11 -> -1703833 | BF11: =IFERROR(AZ11/BD11,0) -> 0.70916862
A12: 31 | B12: 9 | D12: 1 | H12: BT Consolidated Sales | P12: =P78+P318+P287+P120+P174+P241 -> 18167 | Q12: =Q78+Q318+Q287+Q120+Q174+Q241 -> 259915 | R12: =R78+R318+R287+R120+R174+R241 -> 353593 | S12: =S78+S318+S287+S120+S174+S241 -> 362129 | T12: =T78+T318+T287+T120+T174+T241 -> 372500 | U12: =U78+U318+U287+U120+U174+U241 -> 529878 | V12: =V78+V318+V287+V120+V174+V241 -> 531688 | W12: =W78+W318+W287+W120+W174+W241 -> 510841 | ... AA12: =AA78+AA318+AA287+AA120+AA174+AA241 -> 699276 | AB12: =SUM(P12:R12) -> 631675 | AC12: =SUM(S12:U12) -> 1264507 | AD12: =SUM(V12:X12) -> 1674176 | AE12: =SUM(Y12:AA12) -> 1918025 | AF12: =AB12+AC12 -> 1896182 | AG12: =AE12+AD12 -> 3592201 | AH12: =AF12+AG12 -> 5488383 | AJ12: =SUM((INDIRECT(AJ$2&(ROW())):INDIRECT(AJ$3&(ROW())))) -> 584300 | AK12: =SUM(INDIRECT(AK$1&AK$2&$B12):INDIRECT(AK$1&AK$3&$B12)) -> 0 | AL12: =AJ12-AK12 -> 584300 | AM12: =IFERROR(AJ12/AK12,0) -> 0 | AN12: =SUM(INDIRECT(AN$1&AN$2&$A12):INDIRECT(AN$1&AN$3&$A12)) -> 611750 | AO12: =AJ12-AN12 -> -27450 | AP12: =IFERROR(AJ12/AN12,0) -> 0.95512873 | AR12: =SUM((INDIRECT(AR$2&(ROW())):INDIRECT(AR$3&(ROW())))) -> 584300 | AS12: =SUM(INDIRECT(AS$1&AS$2&$B12):INDIRECT(AS$1&AS$3&$B12)) -> 0 | AT12: =AR12-AS12 -> 584300 | AU12: =IFERROR(AR12/AS12,0) -> 0 | AV12: =SUM(INDIRECT(AV$1&AV$2&$A12):INDIRECT(AV$1&AV$3&$A12)) -> 611750 | AW12: =AR12-AV12 -> -27450 | AX12: =IFERROR(AR12/AV12,0) -> 0.95512873 | AZ12: =SUM((INDIRECT(AZ$2&(ROW())):INDIRECT(AZ$3&(ROW())))) -> 4154658 | BA12: =SUM(INDIRECT(BA$1&BA$2&$B12):INDIRECT(BA$1&BA$3&$B12)) -> 0 | BB12: =AZ12-BA12 -> 4154658 | BC12: =IFERROR(AZ12/BA12,0) -> 0 | BD12: =SUM(INDIRECT(BD$1&BD$2&$A12):INDIRECT(BD$1&BD$3&$A12)) -> 5858548 | BE12: =AZ12-BD12 -> -1703890 | BF12: =IFERROR(AZ12/BD12,0) -> 0.70916172
A13: 9 | B13: 10 | D13: 1 | H13: Cost of Sales | P13: =P11-P14 -> 27530 | Q13: =Q11-Q14 -> 164839 | R13: =R11-R14 -> 236848 | S13: =S11-S14 -> 236354 | T13: =T11-T14 -> 247979 | U13: =U11-U14 -> 368680 | V13: =V11-V14 -> 332957 | W13: =W11-W14 -> 342066 | ... AA13: =AA11-AA14 -> 396406 | AB13: =SUM(P13:R13) -> 429217 | AC13: =SUM(S13:U13) -> 853013 | AD13: =SUM(V13:X13) -> 1090638 | AE13: =SUM(Y13:AA13) -> 1181639 | AF13: =AB13+AC13 -> 1282230 | AG13: =AE13+AD13 -> 2272277 | AH13: =AF13+AG13 -> 3554507 | AJ13: =SUM((INDIRECT(AJ$2&(ROW())):INDIRECT(AJ$3&(ROW())))) -> 376574 | AK13: =SUM(INDIRECT(AK$1&AK$2&$B13):INDIRECT(AK$1&AK$3&$B13)) -> 44136 | AL13: =AJ13-AK13 -> 332438 | AM13: =IFERROR(AJ13/AK13,0) -> 8.532128 | AN13: =SUM(INDIRECT(AN$1&AN$2&$A13):INDIRECT(AN$1&AN$3&$A13)) -> 403514 | AO13: =AJ13-AN13 -> -26940 | AP13: =IFERROR(AJ13/AN13,0) -> 0.93323652 | AR13: =SUM((INDIRECT(AR$2&(ROW())):INDIRECT(AR$3&(ROW())))) -> 376574 | AS13: =SUM(INDIRECT(AS$1&AS$2&$B13):INDIRECT(AS$1&AS$3&$B13)) -> 44136 | AT13: =AR13-AS13 -> 332438 | AU13: =IFERROR(AR13/AS13,0) -> 8.532128 | AV13: =SUM(INDIRECT(AV$1&AV$2&$A13):INDIRECT(AV$1&AV$3&$A13)) -> 403514 | AW13: =AR13-AV13 -> -26940 | AX13: =IFERROR(AR13/AV13,0) -> 0.93323652 | AZ13: =SUM((INDIRECT(AZ$2&(ROW())):INDIRECT(AZ$3&(ROW())))) -> 2749442 | BA13: =SUM(INDIRECT(BA$1&BA$2&$B13):INDIRECT(BA$1&BA$3&$B13)) -> 352230 | BB13: =AZ13-BA13 -> 2397212 | BC13: =IFERROR(AZ13/BA13,0) -> 7.8058144 | BD13: =SUM(INDIRECT(BD$1&BD$2&$A13):INDIRECT(BD$1&BD$3&$A13)) -> 3674326 | BE13: =AZ13-BD13 -> -924884 | BF13: =IFERROR(AZ13/BD13,0) -> 0.74828472
A14: 10 | B14: 11 | D14: 1 | H14: Gross Profit | P14: =P95+P323+P290+P137+P189+P251 -> -9363 | Q14: =Q95+Q323+Q290+Q137+Q189+Q251 -> 95076 | R14: =R95+R323+R290+R137+R189+R251 -> 116745 | S14: =S95+S323+S290+S137+S189+S251 -> 125775 | T14: =T95+T323+T290+T137+T189+T251 -> 124521 | U14: =U95+U323+U290+U137+U189+U251 -> 161198 | V14: =V95+V323+V290+V137+V189+V251 -> 198731 | W14: =W95+W323+W290+W137+W189+W251 -> 168775 | ... AA14: =AA95+AA323+AA290+AA137+AA189+AA251 -> 302870 | AB14: =SUM(P14:R14) -> 202458 | AC14: =SUM(S14:U14) -> 411494 | AD14: =SUM(V14:X14) -> 583538 | AE14: =SUM(Y14:AA14) -> 736386 | AF14: =AB14+AC14 -> 613952 | AG14: =AE14+AD14 -> 1319924 | AH14: =AF14+AG14 -> 1933876 | AJ14: =SUM((INDIRECT(AJ$2&(ROW())):INDIRECT(AJ$3&(ROW())))) -> 207726 | AK14: =SUM(INDIRECT(AK$1&AK$2&$B14):INDIRECT(AK$1&AK$3&$B14)) -> 494039.07 | AL14: =AJ14-AK14 -> -286313.07 | AM14: =IFERROR(AJ14/AK14,0) -> 0.42046472 | AN14: =SUM(INDIRECT(AN$1&AN$2&$A14):INDIRECT(AN$1&AN$3&$A14)) -> 208224 | AO14: =AJ14-AN14 -> -498 | AP14: =IFERROR(AJ14/AN14,0) -> 0.99760834 | AR14: =SUM((INDIRECT(AR$2&(ROW())):INDIRECT(AR$3&(ROW())))) -> 207726 | AS14: =SUM(INDIRECT(AS$1&AS$2&$B14):INDIRECT(AS$1&AS$3&$B14)) -> 494039.07 | AT14: =AR14-AS14 -> -286313.07 | AU14: =IFERROR(AR14/AS14,0) -> 0.42046472 | AV14: =SUM(INDIRECT(AV$1&AV$2&$A14):INDIRECT(AV$1&AV$3&$A14)) -> 208224 | AW14: =AR14-AV14 -> -498 | AX14: =IFERROR(AR14/AV14,0) -> 0.99760834 | AZ14: =SUM((INDIRECT(AZ$2&(ROW())):INDIRECT(AZ$3&(ROW())))) -> 1405216 | BA14: =SUM(INDIRECT(BA$1&BA$2&$B14):INDIRECT(BA$1&BA$3&$B14)) -> 2921909.1 | BB14: =AZ14-BA14 -> -1516693.1 | BC14: =IFERROR(AZ14/BA14,0) -> 0.48092393 | BD14: =SUM(INDIRECT(BD$1&BD$2&$A14):INDIRECT(BD$1&BD$3&$A14)) -> 2184165 | BE14: =AZ14-BD14 -> -778949 | BF14: =IFERROR(AZ14/BD14,0) -> 0.64336531
A15: 11 | B15: 12 | D15: 1 | O15: (%) | P15: =IFERROR(P14/P11,0) -> -0.51538504 | Q15: =IFERROR(Q14/Q11,0) -> 0.36579651 | R15: =IFERROR(R14/R11,0) -> 0.33016774 | S15: =IFERROR(S14/S11,0) -> 0.34732098 | T15: =IFERROR(T14/T11,0) -> 0.33428456 | U15: =IFERROR(U14/U11,0) -> 0.3042172 | V15: =IFERROR(V14/V11,0) -> 0.37377372 | W15: =IFERROR(W14/W11,0) -> 0.33038656 | ... AH15: =IFERROR(AH14/AH11,0) -> 0.35235806 | AJ15: =IFERROR(AJ14/AJ11,0) -> 0.35551258 | AK15: =IFERROR(AK14/AK11,0) -> 0 | AL15: =AJ15-AK15 -> 0.35551258 | AN15: =IFERROR(AN14/AN11,0) -> 0.34038101 | AO15: =AJ15-AN15 -> 0.015131566 | AR15: =IFERROR(AR14/AR11,0) -> 0.35551258 | AS15: =IFERROR(AS14/AS11,0) -> 0 | AT15: =AR15-AS15 -> 0.35551258 | AV15: =IFERROR(AV14/AV11,0) -> 0.34038101 | AW15: =AR15-AV15 -> 0.015131566 | AZ15: =IFERROR(AZ14/AZ11,0) -> 0.33822664 | BA15: =IFERROR(BA14/BA11,0) -> 0 | BB15: =AZ15-BA15 -> 0.33822664 | BD15: =IFERROR(BD14/BD11,0) -> 0.37282041 | BE15: =AZ15-BD15 -> -0.034593771
A16: 12 | B16: 13 | D16: 1 | H16: SGA Expenses | P16: =P18+P19+P20 -> 103432 | Q16: =Q18+Q19+Q20 -> 107632 | R16: =R18+R19+R20 -> 138078 | S16: =S18+S19+S20 -> 114615 | T16: =T18+T19+T20 -> 117662 | U16: =U18+U19+U20 -> 139775 | V16: =V18+V19+V20 -> 160003 | W16: =W18+W19+W20 -> 131089 | ... AA16: =AA18+AA19+AA20 -> 94033 | AB16: =SUM(P16:R16) -> 349142 | AC16: =SUM(S16:U16) -> 372052 | AD16: =SUM(V16:X16) -> 438836 | AE16: =SUM(Y16:AA16) -> 362980 | AF16: =AB16+AC16 -> 721194 | AG16: =AE16+AD16 -> 801816 | AH16: =AF16+AG16 -> 1523010 | AJ16: =SUM((INDIRECT(AJ$2&(ROW())):INDIRECT(AJ$3&(ROW())))) -> 133766 | AK16: =SUM(INDIRECT(AK$1&AK$2&$B16):INDIRECT(AK$1&AK$3&$B16)) -> 318477.35 | AL16: =AJ16-AK16 -> -184711.35 | AM16: =IFERROR(AJ16/AK16,0) -> 0.42001731 | AN16: =SUM(INDIRECT(AN$1&AN$2&$A16):INDIRECT(AN$1&AN$3&$A16)) -> 130444 | AO16: =AJ16-AN16 -> 3322 | AP16: =IFERROR(AJ16/AN16,0) -> 1.0254669 | AR16: =SUM((INDIRECT(AR$2&(ROW())):INDIRECT(AR$3&(ROW())))) -> 133766 | AS16: =SUM(INDIRECT(AS$1&AS$2&$B16):INDIRECT(AS$1&AS$3&$B16)) -> 318477.35 | AT16: =AR16-AS16 -> -184711.35 | AU16: =IFERROR(AR16/AS16,0) -> 0.42001731 | AV16: =SUM(INDIRECT(AV$1&AV$2&$A16):INDIRECT(AV$1&AV$3&$A16)) -> 130444 | AW16: =AR16-AV16 -> 3322 | AX16: =IFERROR(AR16/AV16,0) -> 1.0254669 | AZ16: =SUM((INDIRECT(AZ$2&(ROW())):INDIRECT(AZ$3&(ROW())))) -> 1293796 | BA16: =SUM(INDIRECT(BA$1&BA$2&$B16):INDIRECT(BA$1&BA$3&$B16)) -> 1933664.3 | BB16: =AZ16-BA16 -> -639868.35 | BC16: =IFERROR(AZ16/BA16,0) -> 0.66909027 | BD16: =SUM(INDIRECT(BD$1&BD$2&$A16):INDIRECT(BD$1&BD$3&$A16)) -> 1552059 | BE16: =AZ16-BD16 -> -258263 | BF16: =IFERROR(AZ16/BD16,0) -> 0.83359975
A17: 13 | B17: 14 | D17: 1 | O17: (%) | P17: =IFERROR(P16/P11,0) -> 5.6934001 | Q17: =IFERROR(Q16/Q11,0) -> 0.41410461 | R17: =IFERROR(R16/R11,0) -> 0.39049981 | S17: =IFERROR(S16/S11,0) -> 0.31650324 | T17: =IFERROR(T16/T11,0) -> 0.31587114 | U17: =IFERROR(U16/U11,0) -> 0.26378714 | V17: =IFERROR(V16/V11,0) -> 0.30093401 | W17: =IFERROR(W16/W11,0) -> 0.25661409 | ... AH17: =IFERROR(AH16/AH11,0) -> 0.27749703 | AJ17: =INDIRECT(AJ$2&ROW()) -> 0.22893377 | AK17: =IFERROR(AK16/AK11,0) -> 0 | AL17: =AJ17-AK17 -> 0.22893377 | AN17: =IFERROR(AN16/AN11,0) -> 0.21323508 | AO17: =AJ17-AN17 -> 0.015698689 | AR17: =INDIRECT(AR$2&ROW()) -> 0.22893377 | AS17: =IFERROR(AS16/AS11,0) -> 0 | AT17: =AR17-AS17 -> 0.22893377 | AV17: =IFERROR(AV16/AV11,0) -> 0.21323508 | AW17: =AR17-AV17 -> 0.015698689 | AZ17: =INDIRECT(AZ$2&ROW()) -> 5.6934001 | BA17: =IFERROR(BA16/BA11,0) -> 0 | BB17: =AZ17-BA17 -> 5.6934001 | BD17: =IFERROR(BD16/BD11,0) -> 0.26492471 | BE17: =AZ17-BD17 -> 5.4284754
A18: 14 | B18: 15 | D18: 1 | I18: Variable Expenses | P18: =P104+P148+P220+P273+P334+P297 -> 13639 | Q18: =Q104+Q148+Q220+Q273+Q334+Q297 -> 18974 | R18: =R104+R148+R220+R273+R334+R297 -> 25994 | S18: =S104+S148+S220+S273+S334+S297 -> 23384 | T18: =T104+T148+T220+T273+T334+T297 -> 24835 | U18: =U104+U148+U220+U273+U334+U297 -> 30100 | V18: =V104+V148+V220+V273+V334+V297 -> 42417 | W18: =W104+W148+W220+W273+W334+W297 -> 29605 | ... AA18: =AA104+AA148+AA220+AA273+AA334+AA297 -> 4828 | AB18: =SUM(P18:R18) -> 58607 | AC18: =SUM(S18:U18) -> 78319 | AD18: =SUM(V18:X18) -> 126338 | AE18: =SUM(Y18:AA18) -> 70133 | AF18: =AB18+AC18 -> 136926 | AG18: =AE18+AD18 -> 196471 | AH18: =AF18+AG18 -> 333397 | AJ18: =SUM((INDIRECT(AJ$2&(ROW())):INDIRECT(AJ$3&(ROW())))) -> 30960 | AK18: =SUM(INDIRECT(AK$1&AK$2&$B18):INDIRECT(AK$1&AK$3&$B18)) -> 0.35536 | AL18: =AJ18-AK18 -> 30959.645 | AM18: =IFERROR(AJ18/AK18,0) -> 87122.919 | AN18: =SUM(INDIRECT(AN$1&AN$2&$A18):INDIRECT(AN$1&AN$3&$A18)) -> 29974 | AO18: =AJ18-AN18 -> 986 | AP18: =IFERROR(AJ18/AN18,0) -> 1.0328952 | AR18: =SUM((INDIRECT(AR$2&(ROW())):INDIRECT(AR$3&(ROW())))) -> 30960 | AS18: =SUM(INDIRECT(AS$1&AS$2&$B18):INDIRECT(AS$1&AS$3&$B18)) -> 0.35536 | AT18: =AR18-AS18 -> 30959.645 | AU18: =IFERROR(AR18/AS18,0) -> 87122.919 | AV18: =SUM(INDIRECT(AV$1&AV$2&$A18):INDIRECT(AV$1&AV$3&$A18)) -> 29974 | AW18: =AR18-AV18 -> 986 | AX18: =IFERROR(AR18/AV18,0) -> 1.0328952 | AZ18: =SUM((INDIRECT(AZ$2&(ROW())):INDIRECT(AZ$3&(ROW())))) -> 294224 | BA18: =SUM(INDIRECT(BA$1&BA$2&$B18):INDIRECT(BA$1&BA$3&$B18)) -> 1.8955357 | BB18: =AZ18-BA18 -> 294222.1 | BC18: =IFERROR(AZ18/BA18,0) -> 155219.45 | BD18: =SUM(INDIRECT(BD$1&BD$2&$A18):INDIRECT(BD$1&BD$3&$A18)) -> 539716 | BE18: =AZ18-BD18 -> -245492 | BF18: =IFERROR(AZ18/BD18,0) -> 0.54514597
A19: 15 | B19: 16 | D19: 1 | I19: Wages & Salaries | P19: =P105+P149+P221+P274+P335+P298 -> 54778 | Q19: =Q105+Q149+Q221+Q274+Q335+Q298 -> 54753 | R19: =R105+R149+R221+R274+R335+R298 -> 51737 | S19: =S105+S149+S221+S274+S335+S298 -> 54723 | T19: =T105+T149+T221+T274+T335+T298 -> 55281 | U19: =U105+U149+U221+U274+U335+U298 -> 59742 | V19: =V105+V149+V221+V274+V335+V298 -> 58108 | W19: =W105+W149+W221+W274+W335+W298 -> 53241 | ... AA19: =AA105+AA149+AA221+AA274+AA335+AA298 -> 66985 | AB19: =SUM(P19:R19) -> 161268 | AC19: =SUM(S19:U19) -> 169746 | AD19: =SUM(V19:X19) -> 155186 | AE19: =SUM(Y19:AA19) -> 173943 | AF19: =AB19+AC19 -> 331014 | AG19: =AE19+AD19 -> 329129 | AH19: =AF19+AG19 -> 660143 | AJ19: =SUM((INDIRECT(AJ$2&(ROW())):INDIRECT(AJ$3&(ROW())))) -> 53451 | AK19: =SUM(INDIRECT(AK$1&AK$2&$B19):INDIRECT(AK$1&AK$3&$B19)) -> 129897.39 | AL19: =AJ19-AK19 -> -76446.385 | AM19: =IFERROR(AJ19/AK19,0) -> 0.41148634 | AN19: =SUM(INDIRECT(AN$1&AN$2&$A19):INDIRECT(AN$1&AN$3&$A19)) -> 48281 | AO19: =AJ19-AN19 -> 5170 | AP19: =IFERROR(AJ19/AN19,0) -> 1.1070815 | AR19: =SUM((INDIRECT(AR$2&(ROW())):INDIRECT(AR$3&(ROW())))) -> 53451 | AS19: =SUM(INDIRECT(AS$1&AS$2&$B19):INDIRECT(AS$1&AS$3&$B19)) -> 129897.39 | AT19: =AR19-AS19 -> -76446.385 | AU19: =IFERROR(AR19/AS19,0) -> 0.41148634 | AV19: =SUM(INDIRECT(AV$1&AV$2&$A19):INDIRECT(AV$1&AV$3&$A19)) -> 48281 | AW19: =AR19-AV19 -> 5170 | AX19: =IFERROR(AR19/AV19,0) -> 1.1070815 | AZ19: =SUM((INDIRECT(AZ$2&(ROW())):INDIRECT(AZ$3&(ROW())))) -> 539651 | BA19: =SUM(INDIRECT(BA$1&BA$2&$B19):INDIRECT(BA$1&BA$3&$B19)) -> 1011094.4 | BB19: =AZ19-BA19 -> -471443.39 | BC19: =IFERROR(AZ19/BA19,0) -> 0.5337296 | BD19: =SUM(INDIRECT(BD$1&BD$2&$A19):INDIRECT(BD$1&BD$3&$A19)) -> 495724 | BE19: =AZ19-BD19 -> 43927 | BF19: =IFERROR(AZ19/BD19,0) -> 1.0886118
A20: 16 | B20: 17 | D20: 1 | I20: Fixed Expenses | P20: =P106+P150+P222+P275+P336+P299 -> 35015 | Q20: =Q106+Q150+Q222+Q275+Q336+Q299 -> 33905 | R20: =R106+R150+R222+R275+R336+R299 -> 60347 | S20: =S106+S150+S222+S275+S336+S299 -> 36508 | T20: =T106+T150+T222+T275+T336+T299 -> 37546 | U20: =U106+U150+U222+U275+U336+U299 -> 49933 | V20: =V106+V150+V222+V275+V336+V299 -> 59478 | W20: =W106+W150+W222+W275+W336+W299 -> 48243 | ... AA20: =AA106+AA150+AA222+AA275+AA336+AA299 -> 22220 | AB20: =SUM(P20:R20) -> 129267 | AC20: =SUM(S20:U20) -> 123987 | AD20: =SUM(V20:X20) -> 157312 | AE20: =SUM(Y20:AA20) -> 118904 | AF20: =AB20+AC20 -> 253254 | AG20: =AE20+AD20 -> 276216 | AH20: =AF20+AG20 -> 529470 | AJ20: =SUM((INDIRECT(AJ$2&(ROW())):INDIRECT(AJ$3&(ROW())))) -> 49355 | AK20: =SUM(INDIRECT(AK$1&AK$2&$B20):INDIRECT(AK$1&AK$3&$B20)) -> 0.26292938 | AL20: =AJ20-AK20 -> 49354.737 | AM20: =IFERROR(AJ20/AK20,0) -> 187712 | AN20: =SUM(INDIRECT(AN$1&AN$2&$A20):INDIRECT(AN$1&AN$3&$A20)) -> 52189 | AO20: =AJ20-AN20 -> -2834 | AP20: =IFERROR(AJ20/AN20,0) -> 0.94569737 | AR20: =SUM((INDIRECT(AR$2&(ROW())):INDIRECT(AR$3&(ROW())))) -> 49355 | AS20: =SUM(INDIRECT(AS$1&AS$2&$B20):INDIRECT(AS$1&AS$3&$B20)) -> 0.26292938 | AT20: =AR20-AS20 -> 49354.737 | AU20: =IFERROR(AR20/AS20,0) -> 187712 | AV20: =SUM(INDIRECT(AV$1&AV$2&$A20):INDIRECT(AV$1&AV$3&$A20)) -> 52189 | AW20: =AR20-AV20 -> -2834 | AX20: =IFERROR(AR20/AV20,0) -> 0.94569737 | AZ20: =SUM((INDIRECT(AZ$2&(ROW())):INDIRECT(AZ$3&(ROW())))) -> 459921 | BA20: =SUM(INDIRECT(BA$1&BA$2&$B20):INDIRECT(BA$1&BA$3&$B20)) -> 7.9580294 | BB20: =AZ20-BA20 -> 459913.04 | BC20: =IFERROR(AZ20/BA20,0) -> 57793.327 | BD20: =SUM(INDIRECT(BD$1&BD$2&$A20):INDIRECT(BD$1&BD$3&$A20)) -> 516619 | BE20: =AZ20-BD20 -> -56698 | BF20: =IFERROR(AZ20/BD20,0) -> 0.89025181
A21: 17 | B21: 18 | D21: 1 | H21: Business Contribution Profit | P21: =P14-P16 -> -112795 | Q21: =Q14-Q16 -> -12556 | R21: =R14-R16 -> -21333 | S21: =S14-S16 -> 11160 | T21: =T14-T16 -> 6859 | U21: =U14-U16 -> 21423 | V21: =V14-V16 -> 38728 | W21: =W14-W16 -> 37686 | ... AA21: =AA14-AA16 -> 208837 | AB21: =SUM(P21:R21) -> -146684 | AC21: =SUM(S21:U21) -> 39442 | AD21: =SUM(V21:X21) -> 144702 | AE21: =SUM(Y21:AA21) -> 373406 | AF21: =AB21+AC21 -> -107242 | AG21: =AE21+AD21 -> 518108 | AH21: =AF21+AG21 -> 410866 | AJ21: =SUM((INDIRECT(AJ$2&(ROW())):INDIRECT(AJ$3&(ROW())))) -> 73960 | AK21: =SUM(INDIRECT(AK$1&AK$2&$B21):INDIRECT(AK$1&AK$3&$B21)) -> 28619.788 | AL21: =AJ21-AK21 -> 45340.212 | AM21: =IFERROR(AJ21/AK21,0) -> 2.584226 | AN21: =SUM(INDIRECT(AN$1&AN$2&$A21):INDIRECT(AN$1&AN$3&$A21)) -> 77780 | AO21: =AJ21-AN21 -> -3820 | AP21: =IFERROR(AJ21/AN21,0) -> 0.95088712 | AR21: =SUM((INDIRECT(AR$2&(ROW())):INDIRECT(AR$3&(ROW())))) -> 73960 | AS21: =SUM(INDIRECT(AS$1&AS$2&$B21):INDIRECT(AS$1&AS$3&$B21)) -> 28619.788 | AT21: =AR21-AS21 -> 45340.212 | AU21: =IFERROR(AR21/AS21,0) -> 2.584226 | AV21: =SUM(INDIRECT(AV$1&AV$2&$A21):INDIRECT(AV$1&AV$3&$A21)) -> 77780 | AW21: =AR21-AV21 -> -3820 | AX21: =IFERROR(AR21/AV21,0) -> 0.95088712 | AZ21: =SUM((INDIRECT(AZ$2&(ROW())):INDIRECT(AZ$3&(ROW())))) -> 111420 | BA21: =SUM(INDIRECT(BA$1&BA$2&$B21):INDIRECT(BA$1&BA$3&$B21)) -> 207962.79 | BB21: =AZ21-BA21 -> -96542.788 | BC21: =IFERROR(AZ21/BA21,0) -> 0.53576893 | BD21: =SUM(INDIRECT(BD$1&BD$2&$A21):INDIRECT(BD$1&BD$3&$A21)) -> 632106 | BE21: =AZ21-BD21 -> -520686 | BF21: =IFERROR(AZ21/BD21,0) -> 0.1762679
A22: 18 | B22: 19 | D22: 1 | O22: (%) | P22: =IFERROR(P21/P11,0) -> -6.2087852 | Q22: =IFERROR(Q21/Q11,0) -> -0.048308101 | R22: =IFERROR(R21/R11,0) -> -0.060332077 | S22: =IFERROR(S21/S11,0) -> 0.030817747 | T22: =IFERROR(T21/T11,0) -> 0.018413423 | U22: =IFERROR(U21/U11,0) -> 0.040430061 | V22: =IFERROR(V21/V11,0) -> 0.072839711 | W22: =IFERROR(W21/W11,0) -> 0.073772465 | ... AH22: =IFERROR(AH21/AH11,0) -> 0.074861029 | AJ22: =IFERROR(AJ21/AJ11,0) -> 0.12657881 | AK22: =IFERROR(AK21/AK11,0) -> 0 | AL22: =AJ22-AK22 -> 0.12657881 | AN22: =IFERROR(AN21/AN11,0) -> 0.12714594 | AO22: =AJ22-AN22 -> -0.00056712277 | AR22: =IFERROR(AR21/AR11,0) -> 0.12657881 | AS22: =IFERROR(AS21/AS11,0) -> 0 | AT22: =AR22-AS22 -> 0.12657881 | AV22: =IFERROR(AV21/AV11,0) -> 0.12714594 | AW22: =AR22-AV22 -> -0.00056712277 | AZ22: =IFERROR(AZ21/AZ11,0) -> 0.026818092 | BA22: =IFERROR(BA21/BA11,0) -> 0 | BB22: =AZ22-BA22 -> 0.026818092 | BD22: =IFERROR(BD21/BD11,0) -> 0.1078957 | BE22: =AZ22-BD22 -> -0.08107761
A23: 19 | B23: 20 | D23: 1 | H23: Other Income | P23: =P109+P348+P307+P153+P225+P278 -> 125 | Q23: =Q109+Q348+Q307+Q153+Q225+Q278 -> 716 | R23: =R109+R348+R307+R153+R225+R278 -> 1510 | S23: =S109+S348+S307+S153+S225+S278 -> 2211 | T23: =T109+T348+T307+T153+T225+T278 -> 1417 | U23: =U109+U348+U307+U153+U225+U278 -> 1629 | V23: =V109+V348+V307+V153+V225+V278 -> 832 | W23: =W109+W348+W307+W153+W225+W278 -> 2656 | ... AA23: =AA109+AA348+AA307+AA153+AA225+AA278 -> 31626 | AB23: =SUM(P23:R23) -> 2351 | AC23: =SUM(S23:U23) -> 5257 | AD23: =SUM(V23:X23) -> 5445 | AE23: =SUM(Y23:AA23) -> 37639 | AF23: =AB23+AC23 -> 7608 | AG23: =AE23+AD23 -> 43084 | AH23: =AF23+AG23 -> 50692 | AJ23: =SUM((INDIRECT(AJ$2&(ROW())):INDIRECT(AJ$3&(ROW())))) -> 3650 | AK23: =SUM(INDIRECT(AK$1&AK$2&$B23):INDIRECT(AK$1&AK$3&$B23)) -> 50463.7 | AL23: =AJ23-AK23 -> -46813.7 | AM23: =IFERROR(AJ23/AK23,0) -> 0.072329219 | AN23: =SUM(INDIRECT(AN$1&AN$2&$A23):INDIRECT(AN$1&AN$3&$A23)) -> 3394 | AO23: =AJ23-AN23 -> 256 | AP23: =IFERROR(AJ23/AN23,0) -> 1.0754272 | AR23: =SUM((INDIRECT(AR$2&(ROW())):INDIRECT(AR$3&(ROW())))) -> 3650 | AS23: =SUM(INDIRECT(AS$1&AS$2&$B23):INDIRECT(AS$1&AS$3&$B23)) -> 50463.7 | AT23: =AR23-AS23 -> -46813.7 | AU23: =IFERROR(AR23/AS23,0) -> 0.072329219 | AV23: =SUM(INDIRECT(AV$1&AV$2&$A23):INDIRECT(AV$1&AV$3&$A23)) -> 3394 | AW23: =AR23-AV23 -> 256 | AX23: =IFERROR(AR23/AV23,0) -> 1.0754272 | AZ23: =SUM((INDIRECT(AZ$2&(ROW())):INDIRECT(AZ$3&(ROW())))) -> 16703 | BA23: =SUM(INDIRECT(BA$1&BA$2&$B23):INDIRECT(BA$1&BA$3&$B23)) -> 363195.7 | BB23: =AZ23-BA23 -> -346492.7 | BC23: =IFERROR(AZ23/BA23,0) -> 0.045988981 | BD23: =SUM(INDIRECT(BD$1&BD$2&$A23):INDIRECT(BD$1&BD$3&$A23)) -> 14015 | BE23: =AZ23-BD23 -> 2688 | BF23: =IFERROR(AZ23/BD23,0) -> 1.1917945
A24: 20 | B24: 21 | D24: 1 | H24: Other Expenses | P24: =P110+P349+P308+P154+P226+P279 -> 0 | Q24: =Q110+Q349+Q308+Q154+Q226+Q279 -> 0 | R24: =R110+R349+R308+R154+R226+R279 -> 0 | S24: =S110+S349+S308+S154+S226+S279 -> 0 | T24: =T110+T349+T308+T154+T226+T279 -> 0 | U24: =U110+U349+U308+U154+U226+U279 -> 0 | V24: =V110+V349+V308+V154+V226+V279 -> 0 | W24: =W110+W349+W308+W154+W226+W279 -> 0 | ... AA24: =AA110+AA349+AA308+AA154+AA226+AA279 -> 35000 | AB24: =SUM(P24:R24) -> 0 | AC24: =SUM(S24:U24) -> 0 | AD24: =SUM(V24:X24) -> 0 | AE24: =SUM(Y24:AA24) -> 35000 | AF24: =AB24+AC24 -> 0 | AG24: =AE24+AD24 -> 35000 | AH24: =AF24+AG24 -> 35000 | AJ24: =SUM((INDIRECT(AJ$2&(ROW())):INDIRECT(AJ$3&(ROW())))) -> 0 | AK24: =SUM(INDIRECT(AK$1&AK$2&$B24):INDIRECT(AK$1&AK$3&$B24)) -> 45664.336 | AL24: =AJ24-AK24 -> -45664.336 | AM24: =IFERROR(AJ24/AK24,0) -> 0 | AN24: =SUM(INDIRECT(AN$1&AN$2&$A24):INDIRECT(AN$1&AN$3&$A24)) -> 0 | AO24: =AJ24-AN24 -> 0 | AP24: =IFERROR(AJ24/AN24,0) -> 0 | AR24: =SUM((INDIRECT(AR$2&(ROW())):INDIRECT(AR$3&(ROW())))) -> 0 | AS24: =SUM(INDIRECT(AS$1&AS$2&$B24):INDIRECT(AS$1&AS$3&$B24)) -> 45664.336 | AT24: =AR24-AS24 -> -45664.336 | AU24: =IFERROR(AR24/AS24,0) -> 0 | AV24: =SUM(INDIRECT(AV$1&AV$2&$A24):INDIRECT(AV$1&AV$3&$A24)) -> 0 | AW24: =AR24-AV24 -> 0 | AX24: =IFERROR(AR24/AV24,0) -> 0 | AZ24: =SUM((INDIRECT(AZ$2&(ROW())):INDIRECT(AZ$3&(ROW())))) -> 0 | BA24: =SUM(INDIRECT(BA$1&BA$2&$B24):INDIRECT(BA$1&BA$3&$B24)) -> -22849.664 | BB24: =AZ24-BA24 -> 22849.664 | BC24: =IFERROR(AZ24/BA24,0) -> 0 | BD24: =SUM(INDIRECT(BD$1&BD$2&$A24):INDIRECT(BD$1&BD$3&$A24)) -> 2060 | BE24: =AZ24-BD24 -> -2060 | BF24: =IFERROR(AZ24/BD24,0) -> 0
A25: 21 | B25: 22 | D25: 1 | H25: Operating Profit | P25: =P21+P23-P24 -> -112670 | Q25: =Q21+Q23-Q24 -> -11840 | R25: =R21+R23-R24 -> -19823 | S25: =S21+S23-S24 -> 13371 | T25: =T21+T23-T24 -> 8276 | U25: =U21+U23-U24 -> 23052 | V25: =V21+V23-V24 -> 39560 | W25: =W21+W23-W24 -> 40342 | ... AA25: =AA21+AA23-AA24 -> 205463 | AB25: =SUM(P25:R25) -> -144333 | AC25: =SUM(S25:U25) -> 44699 | AD25: =SUM(V25:X25) -> 150147 | AE25: =SUM(Y25:AA25) -> 376045 | AF25: =AB25+AC25 -> -99634 | AG25: =AE25+AD25 -> 526192 | AH25: =AF25+AG25 -> 426558 | AJ25: =SUM((INDIRECT(AJ$2&(ROW())):INDIRECT(AJ$3&(ROW())))) -> 77610 | AK25: =SUM(INDIRECT(AK$1&AK$2&$B25):INDIRECT(AK$1&AK$3&$B25)) -> 0.092430618 | AL25: =AJ25-AK25 -> 77609.908 | AM25: =IFERROR(AJ25/AK25,0) -> 839656.83 | AN25: =SUM(INDIRECT(AN$1&AN$2&$A25):INDIRECT(AN$1&AN$3&$A25)) -> 81174 | AO25: =AJ25-AN25 -> -3564 | AP25: =IFERROR(AJ25/AN25,0) -> 0.95609432 | AR25: =SUM((INDIRECT(AR$2&(ROW())):INDIRECT(AR$3&(ROW())))) -> 77610 | AS25: =SUM(INDIRECT(AS$1&AS$2&$B25):INDIRECT(AS$1&AS$3&$B25)) -> 0.092430618 | AT25: =AR25-AS25 -> 77609.908 | AU25: =IFERROR(AR25/AS25,0) -> 839656.83 | AV25: =SUM(INDIRECT(AV$1&AV$2&$A25):INDIRECT(AV$1&AV$3&$A25)) -> 81174 | AW25: =AR25-AV25 -> -3564 | AX25: =IFERROR(AR25/AV25,0) -> 0.95609432 | AZ25: =SUM((INDIRECT(AZ$2&(ROW())):INDIRECT(AZ$3&(ROW())))) -> 128123 | BA25: =SUM(INDIRECT(BA$1&BA$2&$B25):INDIRECT(BA$1&BA$3&$B25)) -> -6.0624938 | BB25: =AZ25-BA25 -> 128129.06 | BC25: =IFERROR(AZ25/BA25,0) -> -21133.712 | BD25: =SUM(INDIRECT(BD$1&BD$2&$A25):INDIRECT(BD$1&BD$3&$A25)) -> 644061 | BE25: =AZ25-BD25 -> -515938 | BF25: =IFERROR(AZ25/BD25,0) -> 0.19892992
A26: 22 | B26: 23 | D26: 1 | O26: (%) | P26: =IFERROR(P25/P11,0) -> -6.2019046 | Q26: =IFERROR(Q25/Q11,0) -> -0.045553354 | R26: =IFERROR(R25/R11,0) -> -0.05606163 | S26: =IFERROR(S25/S11,0) -> 0.036923306 | T26: =IFERROR(T25/T11,0) -> 0.02221745 | U26: =IFERROR(U25/U11,0) -> 0.043504354 | V26: =IFERROR(V25/V11,0) -> 0.074404538 | W26: =IFERROR(W25/W11,0) -> 0.078971735 | ... AH26: =IFERROR(AH25/AH11,0) -> 0.077720159 | AJ26: =IFERROR(AJ25/AJ11,0) -> 0.1328256 | AK26: =IFERROR(AK25/AK11,0) -> 0 | AL26: =AJ26-AK26 -> 0.1328256 | AN26: =IFERROR(AN25/AN11,0) -> 0.13269406 | AO26: =AJ26-AN26 -> 0.00013154145 | AR26: =IFERROR(AR25/AR11,0) -> 0.1328256 | AS26: =IFERROR(AS25/AS11,0) -> 0 | AT26: =AR26-AS26 -> 0.1328256 | AV26: =IFERROR(AV25/AV11,0) -> 0.13269406 | AW26: =AR26-AV26 -> 0.00013154145 | AZ26: =IFERROR(AZ25/AZ11,0) -> 0.030838399 | BA26: =IFERROR(BA25/BA11,0) -> 0 | BB26: =AZ26-BA26 -> 0.030838399 | BD26: =IFERROR(BD25/BD11,0) -> 0.10993633 | BE26: =AZ26-BD26 -> -0.079097931
A27: 23 | B27: 24 | D27: 1 | H27: Financial Income (Expenses), net | P27: =P28-P29 -> 9974 | Q27: =Q28-Q29 -> 7872 | R27: =R28-R29 -> 3010 | S27: =S28-S29 -> 5505 | T27: =T28-T29 -> 5272 | U27: =U28-U29 -> 1582 | V27: =V28-V29 -> 6524 | W27: =W28-W29 -> 6201 | ... AA27: =AA28-AA29 -> 11823 | AB27: =SUM(P27:R27) -> 20856 | AC27: =SUM(S27:U27) -> 12359 | AD27: =SUM(V27:X27) -> 15669 | AE27: =SUM(Y27:AA27) -> 18445 | AF27: =AB27+AC27 -> 33215 | AG27: =AE27+AD27 -> 34114 | AH27: =AF27+AG27 -> 67329 | AJ27: =SUM((INDIRECT(AJ$2&(ROW())):INDIRECT(AJ$3&(ROW())))) -> 6629 | AK27: =SUM(INDIRECT(AK$1&AK$2&$B27):INDIRECT(AK$1&AK$3&$B27)) -> 0 | AL27: =AJ27-AK27 -> 6629 | AM27: =IFERROR(AJ27/AK27,0) -> 0 | AN27: =SUM(INDIRECT(AN$1&AN$2&$A27):INDIRECT(AN$1&AN$3&$A27)) -> 8509 | AO27: =AJ27-AN27 -> -1880 | AP27: =IFERROR(AJ27/AN27,0) -> 0.77905747 | AR27: =SUM((INDIRECT(AR$2&(ROW())):INDIRECT(AR$3&(ROW())))) -> 6629 | AS27: =SUM(INDIRECT(AS$1&AS$2&$B27):INDIRECT(AS$1&AS$3&$B27)) -> 0 | AT27: =AR27-AS27 -> 6629 | AU27: =IFERROR(AR27/AS27,0) -> 0 | AV27: =SUM(INDIRECT(AV$1&AV$2&$A27):INDIRECT(AV$1&AV$3&$A27)) -> 8509 | AW27: =AR27-AV27 -> -1880 | AX27: =IFERROR(AR27/AV27,0) -> 0.77905747 | AZ27: =SUM((INDIRECT(AZ$2&(ROW())):INDIRECT(AZ$3&(ROW())))) -> 55513 | BA27: =SUM(INDIRECT(BA$1&BA$2&$B27):INDIRECT(BA$1&BA$3&$B27)) -> 0 | BB27: =AZ27-BA27 -> 55513 | BC27: =IFERROR(AZ27/BA27,0) -> 0 | BD27: =SUM(INDIRECT(BD$1&BD$2&$A27):INDIRECT(BD$1&BD$3&$A27)) -> 78547 | BE27: =AZ27-BD27 -> -23034 | BF27: =IFERROR(AZ27/BD27,0) -> 0.70674883
A28: 24 | B28: 25 | D28: 1 | I28: Financial Income | P28: 9974 | Q28: 8172 | R28: 7112 | S28: 5679 | T28: =4854+418 -> 5272 | U28: 5582 | V28: 6524 | W28: 6678 | X28: 6625 | Y28: 6629 | Z28: 0 | AA28: 14218 | AB28: =SUM(P28:AA28) -> 82465 | AC28: =SUM(S28:U28) -> 16533 | AD28: =SUM(V28:X28) -> 19827 | AE28: =SUM(Y28:AA28) -> 20847 | AF28: =AB28+AC28 -> 98998 | AG28: =AE28+AD28 -> 40674 | AH28: =AF28+AG28 -> 139672 | AJ28: =SUM((INDIRECT(AJ$2&(ROW())):INDIRECT(AJ$3&(ROW())))) -> 6629 | AK28: =SUM(INDIRECT(AK$1&AK$2&$B28):INDIRECT(AK$1&AK$3&$B28)) -> 45664.336 | AL28: =AJ28-AK28 -> -39035.336 | AM28: =IFERROR(AJ28/AK28,0) -> 0.14516799 | AN28: =SUM(INDIRECT(AN$1&AN$2&$A28):INDIRECT(AN$1&AN$3&$A28)) -> 8557 | AO28: =AJ28-AN28 -> -1928 | AP28: =IFERROR(AJ28/AN28,0) -> 0.77468739 | AR28: =SUM((INDIRECT(AR$2&(ROW())):INDIRECT(AR$3&(ROW())))) -> 6629 | AS28: =SUM(INDIRECT(AS$1&AS$2&$B28):INDIRECT(AS$1&AS$3&$B28)) -> 45664.336 | AT28: =AR28-AS28 -> -39035.336 | AU28: =IFERROR(AR28/AS28,0) -> 0.14516799 | AV28: =SUM(INDIRECT(AV$1&AV$2&$A28):INDIRECT(AV$1&AV$3&$A28)) -> 8557 | AW28: =AR28-AV28 -> -1928 | AX28: =IFERROR(AR28/AV28,0) -> 0.77468739 | AZ28: =SUM((INDIRECT(AZ$2&(ROW())):INDIRECT(AZ$3&(ROW())))) -> 68247 | BA28: =SUM(INDIRECT(BA$1&BA$2&$B28):INDIRECT(BA$1&BA$3&$B28)) -> -14409.664 | BB28: =AZ28-BA28 -> 82656.664 | BC28: =IFERROR(AZ28/BA28,0) -> -4.7361966 | BD28: =SUM(INDIRECT(BD$1&BD$2&$A28):INDIRECT(BD$1&BD$3&$A28)) -> 118065 | BE28: =AZ28-BD28 -> -49818 | BF28: =IFERROR(AZ28/BD28,0) -> 0.57804599
A29: 25 | B29: 26 | D29: 1 | I29: Financial Expenses | P29: 0 | Q29: 300 | R29: 4102 | S29: 174 | T29: 0 | U29: 4000 | V29: 0 | W29: 477 | X29: 3681 | Y29: 0 | Z29: 7 | AA29: 2395 | AB29: =SUM(P29:AA29) -> 15136 | AC29: =SUM(S29:U29) -> 4174 | AD29: =SUM(V29:X29) -> 4158 | AE29: =SUM(Y29:AA29) -> 2402 | AF29: =AB29+AC29 -> 19310 | AG29: =AE29+AD29 -> 6560 | AH29: =AF29+AG29 -> 25870 | AJ29: =SUM((INDIRECT(AJ$2&(ROW())):INDIRECT(AJ$3&(ROW())))) -> 0 | AK29: =SUM(INDIRECT(AK$1&AK$2&$B29):INDIRECT(AK$1&AK$3&$B29)) -> 0.092430618 | AL29: =AJ29-AK29 -> -0.092430618 | AM29: =IFERROR(AJ29/AK29,0) -> 0 | AN29: =SUM(INDIRECT(AN$1&AN$2&$A29):INDIRECT(AN$1&AN$3&$A29)) -> 48 | AO29: =AJ29-AN29 -> -48 | AP29: =IFERROR(AJ29/AN29,0) -> 0 | AR29: =SUM((INDIRECT(AR$2&(ROW())):INDIRECT(AR$3&(ROW())))) -> 0 | AS29: =SUM(INDIRECT(AS$1&AS$2&$B29):INDIRECT(AS$1&AS$3&$B29)) -> 0.092430618 | AT29: =AR29-AS29 -> -0.092430618 | AU29: =IFERROR(AR29/AS29,0) -> 0 | AV29: =SUM(INDIRECT(AV$1&AV$2&$A29):INDIRECT(AV$1&AV$3&$A29)) -> 48 | AW29: =AR29-AV29 -> -48 | AX29: =IFERROR(AR29/AV29,0) -> 0 | AZ29: =SUM((INDIRECT(AZ$2&(ROW())):INDIRECT(AZ$3&(ROW())))) -> 12734 | BA29: =SUM(INDIRECT(BA$1&BA$2&$B29):INDIRECT(BA$1&BA$3&$B29)) -> -6.0340393 | BB29: =AZ29-BA29 -> 12740.034 | BC29: =IFERROR(AZ29/BA29,0) -> -2110.3608 | BD29: =SUM(INDIRECT(BD$1&BD$2&$A29):INDIRECT(BD$1&BD$3&$A29)) -> 39518 | BE29: =AZ29-BD29 -> -26784 | BF29: =IFERROR(AZ29/BD29,0) -> 0.32223291
A30: 26 | B30: 27 | D30: 1 | H30: Profit before Taxes | P30: =P25+P27 -> -102696 | Q30: =Q25+Q27 -> -3968 | R30: =R25+R27 -> -16813 | S30: =S25+S27 -> 18876 | T30: =T25+T27 -> 13548 | U30: =U25+U27 -> 24634 | V30: =V25+V27 -> 46084 | W30: =W25+W27 -> 46543 | ... AA30: =AA25+AA27 -> 217286 | AB30: =SUM(P30:R30) -> -123477 | AC30: =SUM(S30:U30) -> 57058 | AD30: =SUM(V30:X30) -> 165816 | AE30: =SUM(Y30:AA30) -> 394490 | AF30: =AB30+AC30 -> -66419 | AG30: =AE30+AD30 -> 560306 | AH30: =AF30+AG30 -> 493887 | AJ30: =SUM((INDIRECT(AJ$2&(ROW())):INDIRECT(AJ$3&(ROW())))) -> 84239 | AK30: =SUM(INDIRECT(AK$1&AK$2&$B30):INDIRECT(AK$1&AK$3&$B30)) -> 5793 | AL30: =AJ30-AK30 -> 78446 | AM30: =IFERROR(AJ30/AK30,0) -> 14.541516 | AN30: =SUM(INDIRECT(AN$1&AN$2&$A30):INDIRECT(AN$1&AN$3&$A30)) -> 89683 | AO30: =AJ30-AN30 -> -5444 | AP30: =IFERROR(AJ30/AN30,0) -> 0.9392973 | AR30: =SUM((INDIRECT(AR$2&(ROW())):INDIRECT(AR$3&(ROW())))) -> 84239 | AS30: =SUM(INDIRECT(AS$1&AS$2&$B30):INDIRECT(AS$1&AS$3&$B30)) -> 5793 | AT30: =AR30-AS30 -> 78446 | AU30: =IFERROR(AR30/AS30,0) -> 14.541516 | AV30: =SUM(INDIRECT(AV$1&AV$2&$A30):INDIRECT(AV$1&AV$3&$A30)) -> 89683 | AW30: =AR30-AV30 -> -5444 | AX30: =IFERROR(AR30/AV30,0) -> 0.9392973 | AZ30: =SUM((INDIRECT(AZ$2&(ROW())):INDIRECT(AZ$3&(ROW())))) -> 183636 | BA30: =SUM(INDIRECT(BA$1&BA$2&$B30):INDIRECT(BA$1&BA$3&$B30)) -> 45532 | BB30: =AZ30-BA30 -> 138104 | BC30: =IFERROR(AZ30/BA30,0) -> 4.0331196 | BD30: =SUM(INDIRECT(BD$1&BD$2&$A30):INDIRECT(BD$1&BD$3&$A30)) -> 722608 | BE30: =AZ30-BD30 -> -538972 | BF30: =IFERROR(AZ30/BD30,0) -> 0.25412949
A31: 27 | B31: 28 | D31: 1 | H31: Tax Expenses & Others | P31: =P30*25.17% -> -25848.583 | Q31: =Q30*25.17% -> -998.7456 | R31: =R30*25.17% -> -4231.8321 | S31: =S30*25.17% -> 4751.0892 | T31: =T30*25.17% -> 3410.0316 | U31: =U30*25.17% -> 6200.3778 | V31: =V30*25.17% -> 11599.343 | W31: =W30*25.17% -> 11714.873 | ... AA31: =AA30*25.17% -> 54690.886 | AB31: =SUM(P31:R31) -> -31079.161 | AC31: =SUM(S31:U31) -> 14361.499 | AD31: =SUM(V31:X31) -> 41735.887 | AE31: =SUM(Y31:AA31) -> 99293.133 | AF31: =AB31+AC31 -> -16717.662 | AG31: =AE31+AD31 -> 141029.02 | AH31: =AF31+AG31 -> 124311.36 | AJ31: =SUM((INDIRECT(AJ$2&(ROW())):INDIRECT(AJ$3&(ROW())))) -> 21202.956 | AK31: =SUM(INDIRECT(AK$1&AK$2&$B31):INDIRECT(AK$1&AK$3&$B31)) -> 5793 | AL31: =AJ31-AK31 -> 15409.956 | AM31: =IFERROR(AJ31/AK31,0) -> 3.6600995 | AN31: =SUM(INDIRECT(AN$1&AN$2&$A31):INDIRECT(AN$1&AN$3&$A31)) -> 22573.211 | AO31: =AJ31-AN31 -> -1370.2548 | AP31: =IFERROR(AJ31/AN31,0) -> 0.9392973 | AR31: =SUM((INDIRECT(AR$2&(ROW())):INDIRECT(AR$3&(ROW())))) -> 21202.956 | AS31: =SUM(INDIRECT(AS$1&AS$2&$B31):INDIRECT(AS$1&AS$3&$B31)) -> 5793 | AT31: =AR31-AS31 -> 15409.956 | AU31: =IFERROR(AR31/AS31,0) -> 3.6600995 | AV31: =SUM(INDIRECT(AV$1&AV$2&$A31):INDIRECT(AV$1&AV$3&$A31)) -> 22573.211 | AW31: =AR31-AV31 -> -1370.2548 | AX31: =IFERROR(AR31/AV31,0) -> 0.9392973 | AZ31: =SUM((INDIRECT(AZ$2&(ROW())):INDIRECT(AZ$3&(ROW())))) -> 46221.181 | BA31: =SUM(INDIRECT(BA$1&BA$2&$B31):INDIRECT(BA$1&BA$3&$B31)) -> 54108 | BB31: =AZ31-BA31 -> -7886.8188 | BC31: =IFERROR(AZ31/BA31,0) -> 0.85423932 | BD31: =SUM(INDIRECT(BD$1&BD$2&$A31):INDIRECT(BD$1&BD$3&$A31)) -> 181880.43 | BE31: =AZ31-BD31 -> -135659.25 | BF31: =IFERROR(AZ31/BD31,0) -> 0.25412949
A32: 28 | B32: 29 | D32: 1 | H32: Net Profit | P32: =P30-P31 -> -76847.417 | Q32: =Q30-Q31 -> -2969.2544 | R32: =R30-R31 -> -12581.168 | S32: =S30-S31 -> 14124.911 | T32: =T30-T31 -> 10137.968 | U32: =U30-U31 -> 18433.622 | V32: =V30-V31 -> 34484.657 | W32: =W30-W31 -> 34828.127 | ... AA32: =AA30-AA31 -> 162595.11 | AB32: =SUM(P32:R32) -> -92397.839 | AC32: =SUM(S32:U32) -> 42696.501 | AD32: =SUM(V32:X32) -> 124080.11 | AE32: =SUM(Y32:AA32) -> 295196.87 | AF32: =AB32+AC32 -> -49701.338 | AG32: =AE32+AD32 -> 419276.98 | AH32: =AF32+AG32 -> 369575.64 | AJ32: =SUM((INDIRECT(AJ$2&(ROW())):INDIRECT(AJ$3&(ROW())))) -> 63036.044 | AK32: =SUM(INDIRECT(AK$1&AK$2&$B32):INDIRECT(AK$1&AK$3&$B32)) -> 0 | AL32: =AJ32-AK32 -> 63036.044 | AM32: =IFERROR(AJ32/AK32,0) -> 0 | AN32: =SUM(INDIRECT(AN$1&AN$2&$A32):INDIRECT(AN$1&AN$3&$A32)) -> 67109.789 | AO32: =AJ32-AN32 -> -4073.7452 | AP32: =IFERROR(AJ32/AN32,0) -> 0.9392973 | AR32: =SUM((INDIRECT(AR$2&(ROW())):INDIRECT(AR$3&(ROW())))) -> 63036.044 | AS32: =SUM(INDIRECT(AS$1&AS$2&$B32):INDIRECT(AS$1&AS$3&$B32)) -> 0 | AT32: =AR32-AS32 -> 63036.044 | AU32: =IFERROR(AR32/AS32,0) -> 0 | AV32: =SUM(INDIRECT(AV$1&AV$2&$A32):INDIRECT(AV$1&AV$3&$A32)) -> 67109.789 | AW32: =AR32-AV32 -> -4073.7452 | AX32: =IFERROR(AR32/AV32,0) -> 0.9392973 | AZ32: =SUM((INDIRECT(AZ$2&(ROW())):INDIRECT(AZ$3&(ROW())))) -> 137414.82 | BA32: =SUM(INDIRECT(BA$1&BA$2&$B32):INDIRECT(BA$1&BA$3&$B32)) -> 8576 | BB32: =AZ32-BA32 -> 128838.82 | BC32: =IFERROR(AZ32/BA32,0) -> 16.023183 | BD32: =SUM(INDIRECT(BD$1&BD$2&$A32):INDIRECT(BD$1&BD$3&$A32)) -> 540727.57 | BE32: =AZ32-BD32 -> -403312.75 | BF32: =IFERROR(AZ32/BD32,0) -> 0.25412949
A33: 29 | B33: 30 | D33: 1 | O33: (%) | P33: =IFERROR(P32/P11,0) -> -4.2300554 | Q33: =IFERROR(Q32/Q11,0) -> -0.011423944 | R33: =IFERROR(R32/R11,0) -> -0.03558093 | S33: =IFERROR(S32/S11,0) -> 0.039005191 | T33: =IFERROR(T32/T11,0) -> 0.027216023 | U33: =IFERROR(U32/U11,0) -> 0.034788427 | V33: =IFERROR(V32/V11,0) -> 0.064858822 | W33: =IFERROR(W32/W11,0) -> 0.068178018 | ... AH33: =IFERROR(AH32/AH11,0) -> 0.067337801 | AJ33: =IFERROR(AJ32/AJ11,0) -> 0.10788301 | AK33: =IFERROR(AK32/AK11,0) -> 0 | AL33: =AJ33-AK33 -> 0.10788301 | AN33: =IFERROR(AN32/AN11,0) -> 0.10970348 | AO33: =AJ33-AN33 -> -0.0018204707 | AR33: =IFERROR(AR32/AR11,0) -> 0.10788301 | AS33: =IFERROR(AS32/AS11,0) -> 0 | AT33: =AR33-AS33 -> 0.10788301 | AV33: =IFERROR(AV32/AV11,0) -> 0.10970348 | AW33: =AR33-AV33 -> -0.0018204707 | AZ33: =IFERROR(AZ32/AZ11,0) -> 0.033074881 | BA33: =IFERROR(BA32/BA11,0) -> 0 | BB33: =AZ33-BA33 -> 0.033074881 | BD33: =IFERROR(BD32/BD11,0) -> 0.092298096 | BE33: =AZ33-BD33 -> -0.059223215
A34: 30 | B34: 31 | D34: 1
A35: 32 | B35: 32 | D35: 1
A36: 33 | B36: 33 | D36: 1 | F36: 1-2.SGA Expenses Details
A37: 34 | B37: 34 | D37: 1 | H37: Variable Expenses | P37: =SUM(P38:P40) -> 13639 | Q37: =SUM(Q38:Q40) -> 18973 | R37: =SUM(R38:R40) -> 25994 | S37: =SUM(S38:S40) -> 23384 | T37: =SUM(T38:T40) -> 24835 | U37: =SUM(U38:U40) -> 30100 | V37: =SUM(V38:V40) -> 42418 | W37: =SUM(W38:W40) -> 29605 | ... AH37: =SUM(AH38:AH40) -> 608188 | AJ37: =SUM((INDIRECT(AJ$2&(ROW())):INDIRECT(AJ$3&(ROW())))) -> 30960 | AK37: =SUM(INDIRECT(AK$1&AK$2&$B37):INDIRECT(AK$1&AK$3&$B37)) -> 0 | AL37: =AJ37-AK37 -> 30960 | AM37: =IFERROR(AJ37/AK37,0) -> 0 | AN37: =SUM(INDIRECT(AN$1&AN$2&$A37):INDIRECT(AN$1&AN$3&$A37)) -> 29973 | AO37: =AJ37-AN37 -> 987 | AP37: =IFERROR(AJ37/AN37,0) -> 1.0329296 | AR37: =SUM((INDIRECT(AR$2&(ROW())):INDIRECT(AR$3&(ROW())))) -> 30960 | AS37: =SUM(INDIRECT(AS$1&AS$2&$B37):INDIRECT(AS$1&AS$3&$B37)) -> 0 | AT37: =AR37-AS37 -> 30960 | AU37: =IFERROR(AR37/AS37,0) -> 0 | AV37: =SUM(INDIRECT(AV$1&AV$2&$A37):INDIRECT(AV$1&AV$3&$A37)) -> 29973 | AW37: =AR37-AV37 -> 987 | AX37: =IFERROR(AR37/AV37,0) -> 1.0329296 | AZ37: =SUM((INDIRECT(AZ$2&(ROW())):INDIRECT(AZ$3&(ROW())))) -> 294223 | BA37: =SUM(INDIRECT(BA$1&BA$2&$B37):INDIRECT(BA$1&BA$3&$B37)) -> 0 | BB37: =AZ37-BA37 -> 294223 | BC37: =IFERROR(AZ37/BA37,0) -> 0 | BD37: =SUM(INDIRECT(BD$1&BD$2&$A37):INDIRECT(BD$1&BD$3&$A37)) -> 539715 | BE37: =AZ37-BD37 -> -245492 | BF37: =IFERROR(AZ37/BD37,0) -> 0.54514512
A38: 35 | B38: 35 | D38: 1 | I38: Selling Expenses | P38: 2586 | Q38: 2163 | R38: 3918 | S38: 2458 | T38: 2499 | U38: 2743 | V38: 17202 | W38: 4545 | X38: 14464 | Y38: 5384 | Z38: 4025 | AA38: -20699 | AB38: =SUM(P38:AA38) -> 41288 | AC38: =SUM(S38:U38) -> 7700 | AD38: =SUM(V38:X38) -> 36211 | AE38: =SUM(Y38:AA38) -> -11290 | AF38: =AB38+AC38 -> 48988 | AG38: =AE38+AD38 -> 24921 | AH38: =AF38+AG38 -> 73909 | AJ38: =SUM((INDIRECT(AJ$2&(ROW())):INDIRECT(AJ$3&(ROW())))) -> 5384 | AK38: =SUM(INDIRECT(AK$1&AK$2&$B38):INDIRECT(AK$1&AK$3&$B38)) -> 0 | AL38: =AJ38-AK38 -> 5384 | AM38: =IFERROR(AJ38/AK38,0) -> 0 | AN38: =SUM(INDIRECT(AN$1&AN$2&$A38):INDIRECT(AN$1&AN$3&$A38)) -> 834 | AO38: =AJ38-AN38 -> 4550 | AP38: =IFERROR(AJ38/AN38,0) -> 6.4556355 | AR38: =SUM((INDIRECT(AR$2&(ROW())):INDIRECT(AR$3&(ROW())))) -> 5384 | AS38: =SUM(INDIRECT(AS$1&AS$2&$B38):INDIRECT(AS$1&AS$3&$B38)) -> 0 | AT38: =AR38-AS38 -> 5384 | AU38: =IFERROR(AR38/AS38,0) -> 0 | AV38: =SUM(INDIRECT(AV$1&AV$2&$A38):INDIRECT(AV$1&AV$3&$A38)) -> 834 | AW38: =AR38-AV38 -> 4550 | AX38: =IFERROR(AR38/AV38,0) -> 6.4556355 | AZ38: =SUM((INDIRECT(AZ$2&(ROW())):INDIRECT(AZ$3&(ROW())))) -> 57962 | BA38: =SUM(INDIRECT(BA$1&BA$2&$B38):INDIRECT(BA$1&BA$3&$B38)) -> 0 | BB38: =AZ38-BA38 -> 57962 | BC38: =IFERROR(AZ38/BA38,0) -> 0 | BD38: =SUM(INDIRECT(BD$1&BD$2&$A38):INDIRECT(BD$1&BD$3&$A38)) -> 193391 | BE38: =AZ38-BD38 -> -135429 | BF38: =IFERROR(AZ38/BD38,0) -> 0.29971405
A39: 36 | B39: 36 | D39: 1 | I39: Adverting Expenses | P39: 305 | Q39: 438 | R39: 2664 | S39: 363 | T39: 296 | U39: 1478 | V39: 1477 | W39: 325 | X39: 13844 | Y39: 418 | Z39: 1608 | AA39: -9930 | AB39: =SUM(P39:AA39) -> 13286 | AC39: =SUM(S39:U39) -> 2137 | AD39: =SUM(V39:X39) -> 15646 | AE39: =SUM(Y39:AA39) -> -7904 | AF39: =AB39+AC39 -> 15423 | AG39: =AE39+AD39 -> 7742 | AH39: =AF39+AG39 -> 23165 | AJ39: =SUM((INDIRECT(AJ$2&(ROW())):INDIRECT(AJ$3&(ROW())))) -> 418 | AK39: =SUM(INDIRECT(AK$1&AK$2&$B39):INDIRECT(AK$1&AK$3&$B39)) -> 0 | AL39: =AJ39-AK39 -> 418 | AM39: =IFERROR(AJ39/AK39,0) -> 0 | AN39: =SUM(INDIRECT(AN$1&AN$2&$A39):INDIRECT(AN$1&AN$3&$A39)) -> 1707 | AO39: =AJ39-AN39 -> -1289 | AP39: =IFERROR(AJ39/AN39,0) -> 0.24487405 | AR39: =SUM((INDIRECT(AR$2&(ROW())):INDIRECT(AR$3&(ROW())))) -> 418 | AS39: =SUM(INDIRECT(AS$1&AS$2&$B39):INDIRECT(AS$1&AS$3&$B39)) -> 0 | AT39: =AR39-AS39 -> 418 | AU39: =IFERROR(AR39/AS39,0) -> 0 | AV39: =SUM(INDIRECT(AV$1&AV$2&$A39):INDIRECT(AV$1&AV$3&$A39)) -> 1707 | AW39: =AR39-AV39 -> -1289 | AX39: =IFERROR(AR39/AV39,0) -> 0.24487405 | AZ39: =SUM((INDIRECT(AZ$2&(ROW())):INDIRECT(AZ$3&(ROW())))) -> 21608 | BA39: =SUM(INDIRECT(BA$1&BA$2&$B39):INDIRECT(BA$1&BA$3&$B39)) -> 0 | BB39: =AZ39-BA39 -> 21608 | BC39: =IFERROR(AZ39/BA39,0) -> 0 | BD39: =SUM(INDIRECT(BD$1&BD$2&$A39):INDIRECT(BD$1&BD$3&$A39)) -> 72928 | BE39: =AZ39-BD39 -> -51320 | BF39: =IFERROR(AZ39/BD39,0) -> 0.29629223
A40: 37 | B40: 37 | D40: 1 | I40: Logistics Expense | P40: 10748 | Q40: 16372 | R40: 19412 | S40: 20563 | T40: 22040 | U40: 25879 | V40: 23739 | W40: 24735 | X40: 26007 | Y40: 25158 | Z40: 28713 | AA40: 35457 | AB40: =SUM(P40:AA40) -> 278823 | AC40: =SUM(S40:U40) -> 68482 | AD40: =SUM(V40:X40) -> 74481 | AE40: =SUM(Y40:AA40) -> 89328 | AF40: =AB40+AC40 -> 347305 | AG40: =AE40+AD40 -> 163809 | AH40: =AF40+AG40 -> 511114 | AJ40: =SUM((INDIRECT(AJ$2&(ROW())):INDIRECT(AJ$3&(ROW())))) -> 25158 | AK40: =SUM(INDIRECT(AK$1&AK$2&$B40):INDIRECT(AK$1&AK$3&$B40)) -> 28619.788 | AL40: =AJ40-AK40 -> -3461.7877 | AM40: =IFERROR(AJ40/AK40,0) -> 0.87904216 | AN40: =SUM(INDIRECT(AN$1&AN$2&$A40):INDIRECT(AN$1&AN$3&$A40)) -> 27432 | AO40: =AJ40-AN40 -> -2274 | AP40: =IFERROR(AJ40/AN40,0) -> 0.91710411 | AR40: =SUM((INDIRECT(AR$2&(ROW())):INDIRECT(AR$3&(ROW())))) -> 25158 | AS40: =SUM(INDIRECT(AS$1&AS$2&$B40):INDIRECT(AS$1&AS$3&$B40)) -> 28619.788 | AT40: =AR40-AS40 -> -3461.7877 | AU40: =IFERROR(AR40/AS40,0) -> 0.87904216 | AV40: =SUM(INDIRECT(AV$1&AV$2&$A40):INDIRECT(AV$1&AV$3&$A40)) -> 27432 | AW40: =AR40-AV40 -> -2274 | AX40: =IFERROR(AR40/AV40,0) -> 0.91710411 | AZ40: =SUM((INDIRECT(AZ$2&(ROW())):INDIRECT(AZ$3&(ROW())))) -> 214653 | BA40: =SUM(INDIRECT(BA$1&BA$2&$B40):INDIRECT(BA$1&BA$3&$B40)) -> 207962.79 | BB40: =AZ40-BA40 -> 6690.2123 | BC40: =IFERROR(AZ40/BA40,0) -> 1.0321702 | BD40: =SUM(INDIRECT(BD$1&BD$2&$A40):INDIRECT(BD$1&BD$3&$A40)) -> 273396 | BE40: =AZ40-BD40 -> -58743 | BF40: =IFERROR(AZ40/BD40,0) -> 0.78513585
A41: 38 | B41: 38 | D41: 1 | H41: Wages & Salaries | P41: =SUM(P42:P44) -> 54777 | Q41: =SUM(Q42:Q44) -> 54754 | R41: =SUM(R42:R44) -> 51737 | S41: =SUM(S42:S44) -> 54950 | T41: =SUM(T42:T44) -> 55517 | U41: =SUM(U42:U44) -> 59980 | V41: =SUM(V42:V44) -> 58334 | W41: =SUM(W42:W44) -> 53482 | ... AH41: =SUM(AH42:AH44) -> 1104658 | AJ41: =SUM((INDIRECT(AJ$2&(ROW())):INDIRECT(AJ$3&(ROW())))) -> 54083 | AK41: =SUM(INDIRECT(AK$1&AK$2&$B41):INDIRECT(AK$1&AK$3&$B41)) -> 4035.0377 | AL41: =AJ41-AK41 -> 50047.962 | AM41: =IFERROR(AJ41/AK41,0) -> 13.403345 | AN41: =SUM(INDIRECT(AN$1&AN$2&$A41):INDIRECT(AN$1&AN$3&$A41)) -> 48282 | AO41: =AJ41-AN41 -> 5801 | AP41: =IFERROR(AJ41/AN41,0) -> 1.1201483 | AR41: =SUM((INDIRECT(AR$2&(ROW())):INDIRECT(AR$3&(ROW())))) -> 54083 | AS41: =SUM(INDIRECT(AS$1&AS$2&$B41):INDIRECT(AS$1&AS$3&$B41)) -> 4035.0377 | AT41: =AR41-AS41 -> 50047.962 | AU41: =IFERROR(AR41/AS41,0) -> 13.403345 | AV41: =SUM(INDIRECT(AV$1&AV$2&$A41):INDIRECT(AV$1&AV$3&$A41)) -> 48282 | AW41: =AR41-AV41 -> 5801 | AX41: =IFERROR(AR41/AV41,0) -> 1.1201483 | AZ41: =SUM((INDIRECT(AZ$2&(ROW())):INDIRECT(AZ$3&(ROW())))) -> 541804 | BA41: =SUM(INDIRECT(BA$1&BA$2&$B41):INDIRECT(BA$1&BA$3&$B41)) -> 37604.038 | BB41: =AZ41-BA41 -> 504199.96 | BC41: =IFERROR(AZ41/BA41,0) -> 14.408134 | BD41: =SUM(INDIRECT(BD$1&BD$2&$A41):INDIRECT(BD$1&BD$3&$A41)) -> 495725 | BE41: =AZ41-BD41 -> 46079 | BF41: =IFERROR(AZ41/BD41,0) -> 1.0929527
