Workbook
Name AnaplanColHeader_c4cb70b2_6598_4c0e_aa8c_9c4deb501a87: PL!$R$10:$AC$10
Name AnaplanDescription_c4cb70b2_6598_4c0e_aa8c_9c4deb501a87: PL!$Q$4:$Q$9
Name AnaplanRowHeader_c4cb70b2_6598_4c0e_aa8c_9c4deb501a87: PL!$Q$11:$Q$1596

Sheet Instruction
A1: Instruction for FY22 BT Package
A3: 1. Contents | H3: Plan | I3: Actual | J3: Forecast
B4: "PL" sheet
C5: 1. P/L (1) - Overview | H5: Y | I5: Y | J5: Y
C6: 2. P/L (2) - Overview by BU | H6: Y | I6: Y | J6: Y
C7: ・・・ | H7: Y | I7: Y | J7: Y
C8: 2-3. Sales/GP Details by BU | H8: Y | I8: Y | J8: N
C9: 3. Headcount | H9: Y | I9: Y | J9: Y
C10: 4. Inventories | H10: Y | I10: Y | J10: Y
C11: 5. One Rate | H11: Y | I11: Y | J11: Y
C12: 6. Purchase | H12: Y | I12: Y | J12: Y | K12: Moved from another sheet
C13: 7. CX2 | H13: Y | I13: Y | J13: N | K13: Moved from another sheet
C14: 8. Rolling forecast only | H14: N | I14: N | J14: Y
C15: ・・・ | H15: N | I15: N | J15: Y
C16: 8-5. Open Orders amount of sales orders | H16: N | I16: N | J16: Y
C17: 9. Other segments: BIC, IIS(Mobotix and DM) | H17: Y | I17: Y | J17: Y | K17: Moved from another sheet
B18: "FP" sheet
C19: 1. Investment | H19: Y | I19: N | J19: Y | K19: Moved from another sheet
C20: 2. Financial position | H20: Y | I20: N | J20: N
C21: 3. FP related information | H21: Y | I21: N | J21: N
C22: 4. Cash Flow (Automatic Calculation) | H22: Y | I22: N | J22: N
A25: 2. Submission
B26: Uploading to Anaplan will change from FY22. The simple guide is as follows, but please refer to the separate manual for the detailed operation.
B27: ** If #1 & #2 below are unsuccessful, skip #1 & #2 and proceed to #3 **
B29: 1. Upload to Anaplan from Excel | H29: Command in "Anaplan" tab in Excel file
C30: 1-1 | D30: Open BT-Package file | H30: -
D31: Sign In to Anaplan | H31: Sign In
D32: Select your company and refresh data | H32: Refresh
C33: 1-1 | D33: Input data | H33: - | K33: Formulas are possible, but please do not refer to formulas from other excel files
C34: 1-2 | D34: Upload by Excel sheet | H34: Send and Refresh -> Submit
E35: PL sheet | F35: FP sheet
D36: Actual | E36: Upload | F36: - | G36: Once
D37: Forecast | E37: Upload | F37: Upload | G37: Twice | K37: Please note that Rolling forecast requires to upload "PL" sheet & "FP" sheet respectively!!
B39: 2. Change status in Anaplan(Web) | H39: Command in Anaplan(Web)
C40: 2-0 | D40: Logon to Anaplan | H40: URL for SSO User: [E-mail address domain is “@konicaminolta.com”]
I41: https://sdp.anaplan.com/frontdoor/saml/konicasaml | O41: *If the jump from the URL fails, enter it directly in your browser
H42: URL for Password User: [E-mail address domain other than “@konicaminolta.com”]
I43: https://us1a.app.anaplan.com/frontdoor
D45: Open the menu | H45: refer to below
E46: Anaplan menu
...

Sheet Due date
A1: Due date of FY22 submission
D3: Due date of Unit Report | F3: Due date of BT-Package | H3: Due date of CEO Report | J3: Reference: Stravis-Link
H4: [BUS/BEU/KMJ/BCN/BHK/BSA/BAU/BIN]
C5: Reporting Period | D5: Due date of Unit Report | F5: Due date of BT-Package | H5: Due date of CEO Report | J5: Due date of Stravis-Link
B6: 1st Month | C6: April, 2022 | D6: May 5, 2022 (Japan: May 10, 2022) | F6: May 9, 2022 (Japan: May 11, 2022) | H6: May 13, 2022 (Japan: May 16, 2022) | J6: May 9, 2022 (Japan: May 11, 2022)
B7: 2nd Month | C7: May, 2022 | D7: 44718 | F7: 44719 | H7: 44722 | J7: 44719
B8: 3rd Month | C8: Jun, 2022 | D8: July 6, 2022 (US: July 7, 2022) | F8: 44750 | H8: July 13, 2022 (US: July 14, 2022) | J8: 44750
B9: 4th Month | C9: July, 2022 | D9: 44777 | F9: August 8, 2022 (Japan: August 10, 2022) | H9: August 12, 2022 (Japan: August 16, 2022) | J9: August 8, 2022 (Japan: August 10, 2022)
B10: 5th Month | C10: August, 2022 | D10: September 6, 2022 (US: September 7, 2022) | F10: September 7, 2022 (US: September 8, 2022) | H10: September 12, 2022 (US: September 13, 2022) | J10: September 7, 2022 (US: September 8, 2022)
B11: 6th Month | C11: September, 2022 | D11: 44840 | F11: October 10, 2022 (Japan: October 11, 2022) | H11: October 13, 2022 (US: October 14, 2022) | J11: October 10, 2022 (Japan: October 11, 2022)
B12: 7th Month | C12: October, 2022 | D12: November 4, 2022 (Japan: November 7, 2022) | F12: November 7, 2022 (Japan: November 8, 2022) | H12: November 10, 2022 (US: November 11, 2022) | J12: November 7, 2022 (Japan: November 8, 2022)
B13: 8th Month | C13: November, 2022 | D13: 44901 | F13: 44902 | H13: 44907 | J13: 44902
B14: 9th Month | C14: December, 2022 | D14: January 5, 2023 (Japan: January 10, 2023) | F14: January 10, 2023 (Japan: January 11, 2023) | H14: 44577 | J14: January 10, 2023 (Japan: January 11, 2023)
B15: 10th Month | C15: January, 2023 | D15: 44963 | F15: 44964 | H15: 44967 | J15: 44964
B16: 11th Month | C16: February, 2023 | D16: 44991 | F16: 44992 | H16: 44995 | J16: 44992
B17: 12th Month | C17: March, 2023 | D17: 45022 | F17: 45027 | H17: 45030 | J17: TBD
B20: [BBR Only]
C21: Reporting Period | D21: Due date of Unit Report | F21: Due date of BT-Package | J21: Due date of Stravis-Link
B22: 1st Month | C22: Apr, 2022 | D22: 44683 | F22: 44683 | J22: 44683
B23: 2nd Month | C23: May, 2022 | D23: 44713 | F23: 44713 | J23: 44713
B24: 3rd Month | C24: Jun, 2022 | D24: 44744 | F24: 44744 | J24: 44744
B25: 4th Month | C25: Jul, 2022 | D25: 44774 | F25: 44774 | J25: 44774
B26: 5th Month | C26: Aug, 2022 | D26: 44805 | F26: 44805 | J26: 44805
B27: 6th Month | C27: Sep, 2022 | D27: 44837 | F27: 44837 | J27: 44837
B28: 7th Month | C28: Oct, 2022 | D28: 44866 | F28: 44866 | J28: 44866
B29: 8th Month | C29: Nov, 2022 | D29: 44896 | F29: 44896 | J29: 44896
B30: 9th Month | C30: Dec, 2022 | D30: 44929 | F30: 44929 | J30: 44564
B31: 10th Month | C31: Jan, 2023 | D31: 44958 | F31: 44958 | J31: 44593
B32: 11th Month | C32: Feb, 2023 | D32: 44986 | F32: 44986 | J32: 44621
B33: 12th Month | C33: Mar, 2023 | D33: 45019 | F33: 45019 | J33: 44654

Sheet PL
AM1: 'OP'! | AP1: 'Previous'! | AU1: =AM1 -> 'OP'! | AX1: =AP1 -> 'Previous'! | BC1: =AM1 -> 'OP'! | BF1: =AP1 -> 'Previous'!
AL2: =VLOOKUP($AL$7,Work1!$F$6:$I$17,2,0) -> AC | AM2: =VLOOKUP($AL$7,Work1!$F$6:$I$17,3,0) -> AB | AP2: =VLOOKUP($AL$7,Work1!$F$6:$I$17,4,0) -> AB | AT2: =VLOOKUP($AL$7,Work1!$K$6:$Q$17,2,0) -> AA | AU2: =VLOOKUP($AL$7,Work1!$K$6:$Q$17,3,0) -> Z | AX2: =VLOOKUP($AL$7,Work1!$K$6:$Q$17,4,0) -> Z | BB2: =VLOOKUP($AL$7,Work1!$K$6:$Q$17,5,0) -> R | BC2: =VLOOKUP($AL$7,Work1!$K$6:$Q$17,6,0) -> Q | BF2: =VLOOKUP($AL$7,Work1!$K$6:$Q$17,7,0) -> Q
AL3: =AL2 -> AC | AM3: =AM2 -> AB | AP3: =AP2 -> AB | AT3: =VLOOKUP($AL$7,Work1!$K$22:$Q$33,2,0) -> AC | AU3: =VLOOKUP($AL$7,Work1!$K$22:$Q$33,3,0) -> AB | AX3: =VLOOKUP($AL$7,Work1!$K$22:$Q$33,4,0) -> AB | BB3: =VLOOKUP($AL$7,Work1!$K$22:$Q$33,5,0) -> AC | BC3: =VLOOKUP($AL$7,Work1!$K$22:$Q$33,6,0) -> AB | BF3: =VLOOKUP($AL$7,Work1!$K$22:$Q$33,7,0) -> AB
A4: Prev | C4: OP | F4: FY2022 Actual ver1.0 | P4: BIN | Q4: Last Refresh: 11-05-2022 12:09:15 | R4: (Unit:1000LC) | U4: When using Excel Add-in, please reduce the number of Excel workbooks opened at the same time. | AL4: vs OP / vs FY21 | AP4: Please copy&paste "OP" sheet and "Previous" sheet as they are
Q5: BT Global Management
D6: RF | I6: =VLOOKUP(P4,Work1!C6:D32,2,0) -> K_INR | L6: (Unit:1000LC) | P6: Input fields | Q6: data - Plan & Actual Pkg : Monthly | R6: =Q4 -> Last Refresh: 11-05-2022 12:09:15 | AL6: Select period (1-12)
P7: Input fields, but not affect PL | Q7: for FY22 PL Actual Excel Input | R7: =IF(R12="","","Last Send and Refresh:"&TEXT(R12," YYYY/MM/DD HH:MM:SS")) -> Last Send and Refresh: 2022/05/10 15:33:48 | AL7: 12 | AM7: ex. Apr ->1, Feb ->2 ,,,Mar ->12 *BBR: Jan ->1, Feb ->2 ,,,Dec ->12
G8: 1. P/L (1) - Overview | Q8: Sales Company - BIN
H9: 1-1. P/L Statement | Q9: Scenario : 01-2 - Actual | AL9: single month | AT9: Quarter (QTD) | BB9: Annual Year (YTD)
R10: =CHOOSE(2, "5446510030", "Apr 22") -> Apr 22 | S10: =CHOOSE(2, "5446810031", "May 22") -> May 22 | T10: =CHOOSE(2, "5447120030", "Jun 22") -> Jun 22 | U10: =CHOOSE(2, "5447420031", "Jul 22") -> Jul 22 | V10: =CHOOSE(2, "5447730031", "Aug 22") -> Aug 22 | W10: =CHOOSE(2, "5448040030", "Sep 22") -> Sep 22 | X10: =CHOOSE(2, "5448340031", "Oct 22") -> Oct 22 | Y10: =CHOOSE(2, "5448650030", "Nov 22") -> Nov 22 | Z10: =CHOOSE(2, "5448950031", "Dec 22") -> Dec 22 | AA10: =CHOOSE(2, "5449260031", "Jan 23") -> Jan 23 | AB10: =CHOOSE(2, "5449570028", "Feb 23") -> Feb 23 | AC10: =CHOOSE(2, "5449850031", "Mar 23") -> Mar 23
D11: RF | E11: 1 | Q11: =CHOOSE(2, "6722000002631", "1. P/L (1) - Overview") -> 1. P/L (1) - Overview | R11: =NOW() -> 45029.072
D12: RF | E12: 1 | Q12: =CHOOSE(2, "6722000002630", "1-1. P/L Statement") -> 1-1. P/L Statement | R12: 2022/05/10 15:33:48
D13: RF | E13: 1 | Q13: =CHOOSE(2, "6722000002629", "▷ Blank 0") -> ▷ Blank 0 | R13: =IF($P$4="BBR",Work1!D2, Work1!D3) -> 44652 | S13: =DATE(YEAR(R13),MONTH(R13)+1,DAY(R13)) -> 44682 | T13: =DATE(YEAR(S13),MONTH(S13)+1,DAY(S13)) -> 44713 | U13: =DATE(YEAR(T13),MONTH(T13)+1,DAY(T13)) -> 44743 | V13: =DATE(YEAR(U13),MONTH(U13)+1,DAY(U13)) -> 44774 | W13: =DATE(YEAR(V13),MONTH(V13)+1,DAY(V13)) -> 44805 | X13: =DATE(YEAR(W13),MONTH(W13)+1,DAY(W13)) -> 44835 | Y13: =DATE(YEAR(X13),MONTH(X13)+1,DAY(X13)) -> 44866 | Z13: =DATE(YEAR(Y13),MONTH(Y13)+1,DAY(Y13)) -> 44896 | ... AC13: =DATE(YEAR(AB13),MONTH(AB13)+1,DAY(AB13)) -> 44986 | AD13: Q1 | AE13: Q2 | AF13: Q3 | AG13: Q4 | AH13: 1st H | AI13: 2nd H | AJ13: Yr. | AL13: Result | AM13: OP | AN13: vs OP | AO13: % | AP13: FY21 | AQ13: vs FY21 | AR13: % | AT13: Result | AU13: OP | AV13: vs OP | AW13: % | AX13: FY21 | AY13: vs FY21 | AZ13: % | BB13: Result | BC13: OP | BD13: vs OP | BE13: % | BF13: FY21 | BG13: vs FY21 | BH13: %
A14: =ROW()-3 -> 11 | B14: 1 | C14: =ROW()-3 -> 11 | D14: RF | E14: 1 | I14: Net Sales | Q14: =CHOOSE(2, "6722000002628", "PL Statement Net Sales") -> PL Statement Net Sales | R14: =R79+R353+R154+R208+R290 -> 649255 | S14: =S79+S353+S154+S208+S290 -> 656821 | T14: =T79+T353+T154+T208+T290 -> 693011 | U14: =U79+U353+U154+U208+U290 -> 709342 | V14: =V79+V353+V154+V208+V290 -> 827652.6 | W14: =W79+W353+W154+W208+W290 -> 711087 | X14: =X79+X353+X154+X208+X290 -> 873355 | Y14: =Y79+Y353+Y154+Y208+Y290 -> 797664 | ... AC14: =AC79+AC353+AC154+AC208+AC290 -> 764117 | AD14: =SUM(R14,S14,T14) -> 1999087 | AE14: =SUM(U14,V14,W14) -> 2248081.6 | AF14: =SUM(X14,Y14,Z14) -> 2523796 | AG14: =SUM(AA14,AB14,AC14) -> 2469807.6 | AH14: =AD14+AE14 -> 4247168.6 | AI14: =AG14+AF14 -> 4993603.6 | AJ14: =AH14+AI14 -> 9240772.2 | AL14: =SUM((INDIRECT(AL$2&(ROW())):INDIRECT(AL$3&(ROW())))) -> 764117 | AM14: =SUM(INDIRECT(AM$1&AM$2&$C14):INDIRECT(AM$1&AM$3&$C14)) -> 0 | AN14: =AL14-AM14 -> 764117 | AO14: =IFERROR(AL14/AM14,0) -> 0 | AP14: =SUM(INDIRECT(AP$1&AP$2&$A14):INDIRECT(AP$1&AP$3&$A14))+SUM(INDIRECT(AP$1&AP$2&$B14):INDIRECT(AP$1&AP$3&$B14)) -> 770388 | AQ14: =AL14-AP14 -> -6271 | AR14: =IFERROR(AL14/AP14,0) -> 0.99185995 | AT14: =SUM((INDIRECT(AT$2&(ROW())):INDIRECT(AT$3&(ROW())))) -> 2469807.6 | AU14: =SUM(INDIRECT(AU$1&AU$2&$C14):INDIRECT(AU$1&AU$3&$C14)) -> 0 | AV14: =AT14-AU14 -> 2469807.6 | AW14: =IFERROR(AT14/AU14,0) -> 0 | AX14: =SUM(INDIRECT(AX$1&AX$2&$A14):INDIRECT(AX$1&AX$3&$A14))+SUM(INDIRECT(AX$1&AX$2&$B14):INDIRECT(AX$1&AX$3&$B14)) -> 1939949 | AY14: =AT14-AX14 -> 529858.63 | AZ14: =IFERROR(AT14/AX14,0) -> 1.2731302 | BB14: =SUM((INDIRECT(BB$2&(ROW())):INDIRECT(BB$3&(ROW())))) -> 9240772.2 | BC14: =SUM(INDIRECT(BC$1&BC$2&$C14):INDIRECT(BC$1&BC$3&$C14)) -> 0 | BD14: =BB14-BC14 -> 9240772.2 | BE14: =IFERROR(BB14/BC14,0) -> 0 | BF14: =SUM(INDIRECT(BF$1&BF$2&$A14):INDIRECT(BF$1&BF$3&$A14))+SUM(INDIRECT(BF$1&BF$2&$B14):INDIRECT(BF$1&BF$3&$B14)) -> 6980546 | BG14: =BB14-BF14 -> 2260226.2 | BH14: =IFERROR(BB14/BF14,0) -> 1.3237893
A15: =ROW()-3 -> 12 | B15: 1 | C15: =ROW()-3 -> 12 | D15: RF | E15: 1 | I15: BT Consolidated Sales | Q15: =CHOOSE(2, "6722000002627", "PL Statement BT Cons. Sales") -> PL Statement BT Cons. Sales | R15: =R80+R362+R159+R223+R300 -> 648073 | S15: =S80+S362+S159+S223+S300 -> 656821 | T15: =T80+T362+T159+T223+T300 -> 693011 | U15: =U80+U362+U159+U223+U300 -> 706173 | V15: =V80+V362+V159+V223+V300 -> 827652.6 | W15: =W80+W362+W159+W223+W300 -> 711087 | X15: =X80+X362+X159+X223+X300 -> 873355 | Y15: =Y80+Y362+Y159+Y223+Y300 -> 797664 | ... AC15: =AC80+AC362+AC159+AC223+AC300 -> 764117 | AD15: =SUM(R15,S15,T15) -> 1997905 | AE15: =SUM(U15,V15,W15) -> 2244912.6 | AF15: =SUM(X15,Y15,Z15) -> 2523796 | AG15: =SUM(AA15,AB15,AC15) -> 2469807.6 | AH15: =AD15+AE15 -> 4242817.6 | AI15: =AG15+AF15 -> 4993603.6 | AJ15: =AH15+AI15 -> 9236421.2 | AL15: =SUM((INDIRECT(AL$2&(ROW())):INDIRECT(AL$3&(ROW())))) -> 764117 | AM15: =SUM(INDIRECT(AM$1&AM$2&$C15):INDIRECT(AM$1&AM$3&$C15)) -> 0 | AN15: =AL15-AM15 -> 764117 | AO15: =IFERROR(AL15/AM15,0) -> 0 | AP15: =SUM(INDIRECT(AP$1&AP$2&$A15):INDIRECT(AP$1&AP$3&$A15))+SUM(INDIRECT(AP$1&AP$2&$B15):INDIRECT(AP$1&AP$3&$B15)) -> 770388 | AQ15: =AL15-AP15 -> -6271 | AR15: =IFERROR(AL15/AP15,0) -> 0.99185995 | AT15: =SUM((INDIRECT(AT$2&(ROW())):INDIRECT(AT$3&(ROW())))) -> 2469807.6 | AU15: =SUM(INDIRECT(AU$1&AU$2&$C15):INDIRECT(AU$1&AU$3&$C15)) -> 0 | AV15: =AT15-AU15 -> 2469807.6 | AW15: =IFERROR(AT15/AU15,0) -> 0 | AX15: =SUM(INDIRECT(AX$1&AX$2&$A15):INDIRECT(AX$1&AX$3&$A15))+SUM(INDIRECT(AX$1&AX$2&$B15):INDIRECT(AX$1&AX$3&$B15)) -> 1939949 | AY15: =AT15-AX15 -> 529858.63 | AZ15: =IFERROR(AT15/AX15,0) -> 1.2731302 | BB15: =SUM((INDIRECT(BB$2&(ROW())):INDIRECT(BB$3&(ROW())))) -> 9236421.2 | BC15: =SUM(INDIRECT(BC$1&BC$2&$C15):INDIRECT(BC$1&BC$3&$C15)) -> 0 | BD15: =BB15-BC15 -> 9236421.2 | BE15: =IFERROR(BB15/BC15,0) -> 0 | BF15: =SUM(INDIRECT(BF$1&BF$2&$A15):INDIRECT(BF$1&BF$3&$A15))+SUM(INDIRECT(BF$1&BF$2&$B15):INDIRECT(BF$1&BF$3&$B15)) -> 6980546 | BG15: =BB15-BF15 -> 2255875.2 | BH15: =IFERROR(BB15/BF15,0) -> 1.323166
A16: =ROW()-3 -> 13 | B16: 1 | C16: =ROW()-3 -> 13 | D16: RF | E16: 1 | I16: Cost of Sales | Q16: =CHOOSE(2, "6722000002626", "PL Statement Cost of Sales") -> PL Statement Cost of Sales | R16: =R14-R17 -> 442381 | S16: =S14-S17 -> 465153 | T16: =T14-T17 -> 469842 | U16: =U14-U17 -> 473701 | V16: =V14-V17 -> 549586.86 | W16: =W14-W17 -> 520638.35 | X16: =X14-X17 -> 562611.75 | Y16: =Y14-Y17 -> 540330 | ... AC16: =AC14-AC17 -> 590384 | AD16: =SUM(R16,S16,T16) -> 1377376 | AE16: =SUM(U16,V16,W16) -> 1543926.2 | AF16: =SUM(X16,Y16,Z16) -> 1699578.7 | AG16: =SUM(AA16,AB16,AC16) -> 1742153.8 | AH16: =AD16+AE16 -> 2921302.2 | AI16: =AG16+AF16 -> 3441732.5 | AJ16: =AH16+AI16 -> 6363034.7 | AL16: =SUM((INDIRECT(AL$2&(ROW())):INDIRECT(AL$3&(ROW())))) -> 590384 | AM16: =SUM(INDIRECT(AM$1&AM$2&$C16):INDIRECT(AM$1&AM$3&$C16)) -> 0 | AN16: =AL16-AM16 -> 590384 | AO16: =IFERROR(AL16/AM16,0) -> 0 | AP16: =SUM(INDIRECT(AP$1&AP$2&$A16):INDIRECT(AP$1&AP$3&$A16))+SUM(INDIRECT(AP$1&AP$2&$B16):INDIRECT(AP$1&AP$3&$B16)) -> 510625 | AQ16: =AL16-AP16 -> 79759 | AR16: =IFERROR(AL16/AP16,0) -> 1.1561988 | AT16: =SUM((INDIRECT(AT$2&(ROW())):INDIRECT(AT$3&(ROW())))) -> 1742153.8 | AU16: =SUM(INDIRECT(AU$1&AU$2&$C16):INDIRECT(AU$1&AU$3&$C16)) -> 0 | AV16: =AT16-AU16 -> 1742153.8 | AW16: =IFERROR(AT16/AU16,0) -> 0 | AX16: =SUM(INDIRECT(AX$1&AX$2&$A16):INDIRECT(AX$1&AX$3&$A16))+SUM(INDIRECT(AX$1&AX$2&$B16):INDIRECT(AX$1&AX$3&$B16)) -> 1288337 | AY16: =AT16-AX16 -> 453816.77 | AZ16: =IFERROR(AT16/AX16,0) -> 1.35225 | BB16: =SUM((INDIRECT(BB$2&(ROW())):INDIRECT(BB$3&(ROW())))) -> 6363034.7 | BC16: =SUM(INDIRECT(BC$1&BC$2&$C16):INDIRECT(BC$1&BC$3&$C16)) -> 0 | BD16: =BB16-BC16 -> 6363034.7 | BE16: =IFERROR(BB16/BC16,0) -> 0 | BF16: =SUM(INDIRECT(BF$1&BF$2&$A16):INDIRECT(BF$1&BF$3&$A16))+SUM(INDIRECT(BF$1&BF$2&$B16):INDIRECT(BF$1&BF$3&$B16)) -> 4559396 | BG16: =BB16-BF16 -> 1803638.7 | BH16: =IFERROR(BB16/BF16,0) -> 1.3955872
A17: =ROW()-3 -> 14 | B17: 1 | C17: =ROW()-3 -> 14 | D17: RF | E17: 1 | I17: Gross Profit | Q17: =CHOOSE(2, "6722000002625", "PL Statement Gross Profit") -> PL Statement Gross Profit | R17: =R81+R371+R176+R238+R310 -> 206874 | S17: =S81+S371+S176+S238+S310 -> 191668 | T17: =T81+T371+T176+T238+T310 -> 223169 | U17: =U81+U371+U176+U238+U310 -> 235641 | V17: =V81+V371+V176+V238+V310 -> 278065.73 | W17: =W81+W371+W176+W238+W310 -> 190448.65 | X17: =X81+X371+X176+X238+X310 -> 310743.25 | Y17: =Y81+Y371+Y176+Y238+Y310 -> 257334 | ... AC17: =AC81+AC371+AC176+AC238+AC310 -> 173733 | AD17: =SUM(R17,S17,T17) -> 621711 | AE17: =SUM(U17,V17,W17) -> 704155.38 | AF17: =SUM(X17,Y17,Z17) -> 824217.25 | AG17: =SUM(AA17,AB17,AC17) -> 727653.86 | AH17: =AD17+AE17 -> 1325866.4 | AI17: =AG17+AF17 -> 1551871.1 | AJ17: =AH17+AI17 -> 2877737.5 | AL17: =SUM((INDIRECT(AL$2&(ROW())):INDIRECT(AL$3&(ROW())))) -> 173733 | AM17: =SUM(INDIRECT(AM$1&AM$2&$C17):INDIRECT(AM$1&AM$3&$C17)) -> 0 | AN17: =AL17-AM17 -> 173733 | AO17: =IFERROR(AL17/AM17,0) -> 0 | AP17: =SUM(INDIRECT(AP$1&AP$2&$A17):INDIRECT(AP$1&AP$3&$A17))+SUM(INDIRECT(AP$1&AP$2&$B17):INDIRECT(AP$1&AP$3&$B17)) -> 259763 | AQ17: =AL17-AP17 -> -86030 | AR17: =IFERROR(AL17/AP17,0) -> 0.6688135 | AT17: =SUM((INDIRECT(AT$2&(ROW())):INDIRECT(AT$3&(ROW())))) -> 727653.86 | AU17: =SUM(INDIRECT(AU$1&AU$2&$C17):INDIRECT(AU$1&AU$3&$C17)) -> 0 | AV17: =AT17-AU17 -> 727653.86 | AW17: =IFERROR(AT17/AU17,0) -> 0 | AX17: =SUM(INDIRECT(AX$1&AX$2&$A17):INDIRECT(AX$1&AX$3&$A17))+SUM(INDIRECT(AX$1&AX$2&$B17):INDIRECT(AX$1&AX$3&$B17)) -> 651612 | AY17: =AT17-AX17 -> 76041.86 | AZ17: =IFERROR(AT17/AX17,0) -> 1.1166981 | BB17: =SUM((INDIRECT(BB$2&(ROW())):INDIRECT(BB$3&(ROW())))) -> 2877737.5 | BC17: =SUM(INDIRECT(BC$1&BC$2&$C17):INDIRECT(BC$1&BC$3&$C17)) -> 0 | BD17: =BB17-BC17 -> 2877737.5 | BE17: =IFERROR(BB17/BC17,0) -> 0 | BF17: =SUM(INDIRECT(BF$1&BF$2&$A17):INDIRECT(BF$1&BF$3&$A17))+SUM(INDIRECT(BF$1&BF$2&$B17):INDIRECT(BF$1&BF$3&$B17)) -> 2421150 | BG17: =BB17-BF17 -> 456587.5 | BH17: =IFERROR(BB17/BF17,0) -> 1.1885829
A18: =ROW()-3 -> 15 | B18: 1 | C18: =ROW()-3 -> 15 | D18: RF | E18: 1 | P18: (%) | Q18: =CHOOSE(2, "6722000002624", "PL Statement Gross Profit (%)") -> PL Statement Gross Profit (%) | R18: =IFERROR(R17/R14,0) -> 0.31863289 | S18: =IFERROR(S17/S14,0) -> 0.29181162 | T18: =IFERROR(T17/T14,0) -> 0.32202808 | U18: =IFERROR(U17/U14,0) -> 0.3321966 | V18: =IFERROR(V17/V14,0) -> 0.33596914 | W18: =IFERROR(W17/W14,0) -> 0.26782749 | X18: =IFERROR(X17/X14,0) -> 0.35580406 | Y18: =IFERROR(Y17/Y14,0) -> 0.32260952 | ... AJ18: =IFERROR(AJ17/AJ14,0) -> 0.31141743 | AL18: =IFERROR(AL17/AL14,0) -> 0.2273644 | AM18: =IFERROR(AM17/AM14,0) -> 0 | AN18: =AL18-AM18 -> 0.2273644 | AP18: =IFERROR(AP17/AP14,0) -> 0.33718464 | AQ18: =AL18-AP18 -> -0.10982024 | AT18: =IFERROR(AT17/AT14,0) -> 0.29461965 | AU18: =IFERROR(AU17/AU14,0) -> 0 | AV18: =AT18-AU18 -> 0.29461965 | AX18: =IFERROR(AX17/AX14,0) -> 0.3358913 | AY18: =AT18-AX18 -> -0.041271654 | BB18: =IFERROR(BB17/BB14,0) -> 0.31141743 | BC18: =IFERROR(BC17/BC14,0) -> 0 | BD18: =BB18-BC18 -> 0.31141743 | BF18: =IFERROR(BF17/BF14,0) -> 0.3468425 | BG18: =BB18-BF18 -> -0.035425071
A19: =ROW()-3 -> 16 | B19: 1 | C19: =ROW()-3 -> 16 | D19: RF | E19: 1 | I19: SGA Expenses | Q19: =CHOOSE(2, "6722000002623", "PL Statement SGA") -> PL Statement SGA | R19: =R21+R22+R23 -> 162497 | S19: =S21+S22+S23 -> 152600.97 | T19: =T21+T22+T23 -> 168144.03 | U19: =U21+U22+U23 -> 169226 | V19: =V21+V22+V23 -> 192339.22 | W19: =W21+W22+W23 -> 129717.21 | X19: =X21+X22+X23 -> 216458.78 | Y19: =Y21+Y22+Y23 -> 174487.53 | ... AC19: =AC21+AC22+AC23 -> 121853.88 | AD19: =SUM(R19,S19,T19) -> 483242 | AE19: =SUM(U19,V19,W19) -> 491282.43 | AF19: =SUM(X19,Y19,Z19) -> 579637.99 | AG19: =SUM(AA19,AB19,AC19) -> 515690.58 | AH19: =AD19+AE19 -> 974524.42 | AI19: =AG19+AF19 -> 1095328.6 | AJ19: =AH19+AI19 -> 2069853 | AL19: =SUM((INDIRECT(AL$2&(ROW())):INDIRECT(AL$3&(ROW())))) -> 121853.88 | AM19: =SUM(INDIRECT(AM$1&AM$2&$C19):INDIRECT(AM$1&AM$3&$C19)) -> 0 | AN19: =AL19-AM19 -> 121853.88 | AO19: =IFERROR(AL19/AM19,0) -> 0 | AP19: =SUM(INDIRECT(AP$1&AP$2&$A19):INDIRECT(AP$1&AP$3&$A19))+SUM(INDIRECT(AP$1&AP$2&$B19):INDIRECT(AP$1&AP$3&$B19)) -> 200181.89 | AQ19: =AL19-AP19 -> -78328.01 | AR19: =IFERROR(AL19/AP19,0) -> 0.60871581 | AT19: =SUM((INDIRECT(AT$2&(ROW())):INDIRECT(AT$3&(ROW())))) -> 515690.58 | AU19: =SUM(INDIRECT(AU$1&AU$2&$C19):INDIRECT(AU$1&AU$3&$C19)) -> 0 | AV19: =AT19-AU19 -> 515690.58 | AW19: =IFERROR(AT19/AU19,0) -> 0 | AX19: =SUM(INDIRECT(AX$1&AX$2&$A19):INDIRECT(AX$1&AX$3&$A19))+SUM(INDIRECT(AX$1&AX$2&$B19):INDIRECT(AX$1&AX$3&$B19)) -> 427094.89 | AY19: =AT19-AX19 -> 88595.685 | AZ19: =IFERROR(AT19/AX19,0) -> 1.2074379 | BB19: =SUM((INDIRECT(BB$2&(ROW())):INDIRECT(BB$3&(ROW())))) -> 2069853 | BC19: =SUM(INDIRECT(BC$1&BC$2&$C19):INDIRECT(BC$1&BC$3&$C19)) -> 0 | BD19: =BB19-BC19 -> 2069853 | BE19: =IFERROR(BB19/BC19,0) -> 0 | BF19: =SUM(INDIRECT(BF$1&BF$2&$A19):INDIRECT(BF$1&BF$3&$A19))+SUM(INDIRECT(BF$1&BF$2&$B19):INDIRECT(BF$1&BF$3&$B19)) -> 1673029.9 | BG19: =BB19-BF19 -> 396823.1 | BH19: =IFERROR(BB19/BF19,0) -> 1.2371883
A20: =ROW()-3 -> 17 | B20: 1 | C20: =ROW()-3 -> 17 | D20: RF | E20: 1 | P20: (%) | Q20: =CHOOSE(2, "6722000002622", "PL Statement SGA (%)") -> PL Statement SGA (%) | R20: =IFERROR(R19/R14,0) -> 0.25028225 | S20: =IFERROR(S19/S14,0) -> 0.23233265 | T20: =IFERROR(T19/T14,0) -> 0.24262823 | U20: =IFERROR(U19/U14,0) -> 0.23856757 | V20: =IFERROR(V19/V14,0) -> 0.23239125 | W20: =IFERROR(W19/W14,0) -> 0.18242102 | X20: =IFERROR(X19/X14,0) -> 0.24784742 | Y20: =IFERROR(Y19/Y14,0) -> 0.21874816 | ... AJ20: =IFERROR(AJ19/AJ14,0) -> 0.22399134 | AL20: =INDIRECT(AL$2&ROW()) -> 0.15947019 | AM20: =IFERROR(AM19/AM14,0) -> 0 | AN20: =AL20-AM20 -> 0.15947019 | AP20: =IFERROR(AP19/AP14,0) -> 0.25984555 | AQ20: =AL20-AP20 -> -0.10037536 | AT20: =INDIRECT(AT$2&ROW()) -> 0.26562731 | AU20: =IFERROR(AU19/AU14,0) -> 0 | AV20: =AT20-AU20 -> 0.26562731 | AX20: =IFERROR(AX19/AX14,0) -> 0.22015779 | AY20: =AT20-AX20 -> 0.045469513 | BB20: =IFERROR(BB19/BB14,0) -> 0.22399134 | BC20: =IFERROR(BC19/BC14,0) -> 0 | BD20: =BB20-BC20 -> 0.22399134 | BF20: =IFERROR(BF19/BF14,0) -> 0.23967035 | BG20: =BB20-BF20 -> -0.015679004
A21: =ROW()-3 -> 18 | B21: 1 | C21: =ROW()-3 -> 18 | D21: RF | E21: 1 | J21: Variable Expenses | Q21: =CHOOSE(2, "6722000002621", "PL Statement SGA Variable Expenses") -> PL Statement SGA Variable Expenses | R21: =R83+R187+R269+R332+R390 -> 61663 | S21: =S83+S187+S269+S332+S390 -> 49532.816 | T21: =T83+T187+T269+T332+T390 -> 47765.199 | U21: =U83+U187+U269+U332+U390 -> 67757.615 | V21: =V83+V187+V269+V332+V390 -> 73732.577 | W21: =W83+W187+W269+W332+W390 -> 50380.993 | X21: =X83+X187+X269+X332+X390 -> 42778.732 | Y21: =Y83+Y187+Y269+Y332+Y390 -> 54978.632 | ... AC21: =AC83+AC187+AC269+AC332+AC390 -> -4031.7866 | AD21: =SUM(R21,S21,T21) -> 158961.01 | AE21: =SUM(U21,V21,W21) -> 191871.18 | AF21: =SUM(X21,Y21,Z21) -> 171051.77 | AG21: =SUM(AA21,AB21,AC21) -> 162010.38 | AH21: =AD21+AE21 -> 350832.2 | AI21: =AG21+AF21 -> 333062.15 | AJ21: =AH21+AI21 -> 683894.35 | AL21: =SUM((INDIRECT(AL$2&(ROW())):INDIRECT(AL$3&(ROW())))) -> -4031.7866 | AM21: =SUM(INDIRECT(AM$1&AM$2&$C21):INDIRECT(AM$1&AM$3&$C21)) -> 0 | AN21: =AL21-AM21 -> -4031.7866 | AO21: =IFERROR(AL21/AM21,0) -> 0 | AP21: =SUM(INDIRECT(AP$1&AP$2&$A21):INDIRECT(AP$1&AP$3&$A21))+SUM(INDIRECT(AP$1&AP$2&$B21):INDIRECT(AP$1&AP$3&$B21)) -> 38451 | AQ21: =AL21-AP21 -> -42482.787 | AR21: =IFERROR(AL21/AP21,0) -> -0.10485518 | AT21: =SUM((INDIRECT(AT$2&(ROW())):INDIRECT(AT$3&(ROW())))) -> 162010.38 | AU21: =SUM(INDIRECT(AU$1&AU$2&$C21):INDIRECT(AU$1&AU$3&$C21)) -> 0 | AV21: =AT21-AU21 -> 162010.38 | AW21: =IFERROR(AT21/AU21,0) -> 0 | AX21: =SUM(INDIRECT(AX$1&AX$2&$A21):INDIRECT(AX$1&AX$3&$A21))+SUM(INDIRECT(AX$1&AX$2&$B21):INDIRECT(AX$1&AX$3&$B21)) -> 81376 | AY21: =AT21-AX21 -> 80634.381 | AZ21: =IFERROR(AT21/AX21,0) -> 1.9908865 | BB21: =SUM((INDIRECT(BB$2&(ROW())):INDIRECT(BB$3&(ROW())))) -> 683894.35 | BC21: =SUM(INDIRECT(BC$1&BC$2&$C21):INDIRECT(BC$1&BC$3&$C21)) -> 0 | BD21: =BB21-BC21 -> 683894.35 | BE21: =IFERROR(BB21/BC21,0) -> 0 | BF21: =SUM(INDIRECT(BF$1&BF$2&$A21):INDIRECT(BF$1&BF$3&$A21))+SUM(INDIRECT(BF$1&BF$2&$B21):INDIRECT(BF$1&BF$3&$B21)) -> 408165 | BG21: =BB21-BF21 -> 275729.35 | BH21: =IFERROR(BB21/BF21,0) -> 1.675534
A22: =ROW()-3 -> 19 | B22: 1 | C22: =ROW()-3 -> 19 | D22: RF | E22: 1 | J22: Wages & Salaries | Q22: =CHOOSE(2, "6722000002620", "PL Statement SGA Wages & Salaries") -> PL Statement SGA Wages & Salaries | R22: =R84+R188+R270+R333+R391 -> 57082 | S22: =S84+S188+S270+S333+S391 -> 56006.377 | T22: =T84+T188+T270+T333+T391 -> 57211.481 | U22: =U84+U188+U270+U333+U391 -> 54312.126 | V22: =V84+V188+V270+V333+V391 -> 56583.331 | W22: =W84+W188+W270+W333+W391 -> 60614.824 | X22: =X84+X188+X270+X333+X391 -> 87502.546 | Y22: =Y84+Y188+Y270+Y333+Y391 -> 65320.761 | ... AC22: =AC84+AC188+AC270+AC333+AC391 -> 55275.38 | AD22: =SUM(R22,S22,T22) -> 170299.86 | AE22: =SUM(U22,V22,W22) -> 171510.28 | AF22: =SUM(X22,Y22,Z22) -> 220177.71 | AG22: =SUM(AA22,AB22,AC22) -> 183245.4 | AH22: =AD22+AE22 -> 341810.14 | AI22: =AG22+AF22 -> 403423.11 | AJ22: =AH22+AI22 -> 745233.25 | AL22: =SUM((INDIRECT(AL$2&(ROW())):INDIRECT(AL$3&(ROW())))) -> 55275.38 | AM22: =SUM(INDIRECT(AM$1&AM$2&$C22):INDIRECT(AM$1&AM$3&$C22)) -> 0 | AN22: =AL22-AM22 -> 55275.38 | AO22: =IFERROR(AL22/AM22,0) -> 0 | AP22: =SUM(INDIRECT(AP$1&AP$2&$A22):INDIRECT(AP$1&AP$3&$A22))+SUM(INDIRECT(AP$1&AP$2&$B22):INDIRECT(AP$1&AP$3&$B22)) -> 68403.893 | AQ22: =AL22-AP22 -> -13128.514 | AR22: =IFERROR(AL22/AP22,0) -> 0.80807359 | AT22: =SUM((INDIRECT(AT$2&(ROW())):INDIRECT(AT$3&(ROW())))) -> 183245.4 | AU22: =SUM(INDIRECT(AU$1&AU$2&$C22):INDIRECT(AU$1&AU$3&$C22)) -> 0 | AV22: =AT22-AU22 -> 183245.4 | AW22: =IFERROR(AT22/AU22,0) -> 0 | AX22: =SUM(INDIRECT(AX$1&AX$2&$A22):INDIRECT(AX$1&AX$3&$A22))+SUM(INDIRECT(AX$1&AX$2&$B22):INDIRECT(AX$1&AX$3&$B22)) -> 193083.89 | AY22: =AT22-AX22 -> -9838.4969 | AZ22: =IFERROR(AT22/AX22,0) -> 0.94904548 | BB22: =SUM((INDIRECT(BB$2&(ROW())):INDIRECT(BB$3&(ROW())))) -> 745233.25 | BC22: =SUM(INDIRECT(BC$1&BC$2&$C22):INDIRECT(BC$1&BC$3&$C22)) -> 0 | BD22: =BB22-BC22 -> 745233.25 | BE22: =IFERROR(BB22/BC22,0) -> 0 | BF22: =SUM(INDIRECT(BF$1&BF$2&$A22):INDIRECT(BF$1&BF$3&$A22))+SUM(INDIRECT(BF$1&BF$2&$B22):INDIRECT(BF$1&BF$3&$B22)) -> 651927.89 | BG22: =BB22-BF22 -> 93305.355 | BH22: =IFERROR(BB22/BF22,0) -> 1.1431222
A23: =ROW()-3 -> 20 | B23: 1 | C23: =ROW()-3 -> 20 | D23: RF | E23: 1 | J23: Fixed Expenses | Q23: =CHOOSE(2, "6722000002619", "PL Statement SGA Fixed Expenses") -> PL Statement SGA Fixed Expenses | R23: =R85+R189+R271+R334+R396 -> 43752 | S23: =S85+S189+S271+S334+S396 -> 47061.774 | T23: =T85+T189+T271+T334+T396 -> 63167.35 | U23: =U85+U189+U271+U334+U396 -> 47156.256 | V23: =V85+V189+V271+V334+V396 -> 62023.309 | W23: =W85+W189+W271+W334+W396 -> 18721.395 | X23: =X85+X189+X271+X334+X396 -> 86177.502 | Y23: =Y85+Y189+Y271+Y334+Y396 -> 54188.14 | ... AC23: =AC85+AC189+AC271+AC334+AC396 -> 70610.29 | AD23: =SUM(R23,S23,T23) -> 153981.12 | AE23: =SUM(U23,V23,W23) -> 127900.96 | AF23: =SUM(X23,Y23,Z23) -> 188408.51 | AG23: =SUM(AA23,AB23,AC23) -> 170434.8 | AH23: =AD23+AE23 -> 281882.08 | AI23: =AG23+AF23 -> 358843.31 | AJ23: =AH23+AI23 -> 640725.39 | AL23: =SUM((INDIRECT(AL$2&(ROW())):INDIRECT(AL$3&(ROW())))) -> 70610.29 | AM23: =SUM(INDIRECT(AM$1&AM$2&$C23):INDIRECT(AM$1&AM$3&$C23)) -> 0 | AN23: =AL23-AM23 -> 70610.29 | AO23: =IFERROR(AL23/AM23,0) -> 0 | AP23: =SUM(INDIRECT(AP$1&AP$2&$A23):INDIRECT(AP$1&AP$3&$A23))+SUM(INDIRECT(AP$1&AP$2&$B23):INDIRECT(AP$1&AP$3&$B23)) -> 93327 | AQ23: =AL23-AP23 -> -22716.71 | AR23: =IFERROR(AL23/AP23,0) -> 0.75659016 | AT23: =SUM((INDIRECT(AT$2&(ROW())):INDIRECT(AT$3&(ROW())))) -> 170434.8 | AU23: =SUM(INDIRECT(AU$1&AU$2&$C23):INDIRECT(AU$1&AU$3&$C23)) -> 0 | AV23: =AT23-AU23 -> 170434.8 | AW23: =IFERROR(AT23/AU23,0) -> 0 | AX23: =SUM(INDIRECT(AX$1&AX$2&$A23):INDIRECT(AX$1&AX$3&$A23))+SUM(INDIRECT(AX$1&AX$2&$B23):INDIRECT(AX$1&AX$3&$B23)) -> 152635 | AY23: =AT23-AX23 -> 17799.8 | AZ23: =IFERROR(AT23/AX23,0) -> 1.1166168 | BB23: =SUM((INDIRECT(BB$2&(ROW())):INDIRECT(BB$3&(ROW())))) -> 640725.39 | BC23: =SUM(INDIRECT(BC$1&BC$2&$C23):INDIRECT(BC$1&BC$3&$C23)) -> 0 | BD23: =BB23-BC23 -> 640725.39 | BE23: =IFERROR(BB23/BC23,0) -> 0 | BF23: =SUM(INDIRECT(BF$1&BF$2&$A23):INDIRECT(BF$1&BF$3&$A23))+SUM(INDIRECT(BF$1&BF$2&$B23):INDIRECT(BF$1&BF$3&$B23)) -> 612937 | BG23: =BB23-BF23 -> 27788.395 | BH23: =IFERROR(BB23/BF23,0) -> 1.0453365
A24: =ROW()-3 -> 21 | B24: 1 | C24: =ROW()-3 -> 21 | D24: RF | E24: 1 | I24: Business Contribution Profit | Q24: =CHOOSE(2, "6722000002618", "PL Statement BCP") -> PL Statement BCP | R24: =R17-R19 -> 44377 | S24: =S17-S19 -> 39067.034 | T24: =T17-T19 -> 55024.97 | U24: =U17-U19 -> 66415.004 | V24: =V17-V19 -> 85726.517 | W24: =W17-W19 -> 60731.437 | X24: =X17-X19 -> 94284.471 | Y24: =Y17-Y19 -> 82846.466 | ... AC24: =AC17-AC19 -> 51879.117 | AD24: =SUM(R24,S24,T24) -> 138469 | AE24: =SUM(U24,V24,W24) -> 212872.96 | AF24: =SUM(X24,Y24,Z24) -> 244579.26 | AG24: =SUM(AA24,AB24,AC24) -> 211963.28 | AH24: =AD24+AE24 -> 351341.96 | AI24: =AG24+AF24 -> 456542.54 | AJ24: =AH24+AI24 -> 807884.5 | AL24: =SUM((INDIRECT(AL$2&(ROW())):INDIRECT(AL$3&(ROW())))) -> 51879.117 | AM24: =SUM(INDIRECT(AM$1&AM$2&$C24):INDIRECT(AM$1&AM$3&$C24)) -> 0 | AN24: =AL24-AM24 -> 51879.117 | AO24: =IFERROR(AL24/AM24,0) -> 0 | AP24: =SUM(INDIRECT(AP$1&AP$2&$A24):INDIRECT(AP$1&AP$3&$A24))+SUM(INDIRECT(AP$1&AP$2&$B24):INDIRECT(AP$1&AP$3&$B24)) -> 59581.107 | AQ24: =AL24-AP24 -> -7701.9898 | AR24: =IFERROR(AL24/AP24,0) -> 0.870731 | AT24: =SUM((INDIRECT(AT$2&(ROW())):INDIRECT(AT$3&(ROW())))) -> 211963.28 | AU24: =SUM(INDIRECT(AU$1&AU$2&$C24):INDIRECT(AU$1&AU$3&$C24)) -> 0 | AV24: =AT24-AU24 -> 211963.28 | AW24: =IFERROR(AT24/AU24,0) -> 0 | AX24: =SUM(INDIRECT(AX$1&AX$2&$A24):INDIRECT(AX$1&AX$3&$A24))+SUM(INDIRECT(AX$1&AX$2&$B24):INDIRECT(AX$1&AX$3&$B24)) -> 224517.11 | AY24: =AT24-AX24 -> -12553.825 | AZ24: =IFERROR(AT24/AX24,0) -> 0.94408522 | BB24: =SUM((INDIRECT(BB$2&(ROW())):INDIRECT(BB$3&(ROW())))) -> 807884.5 | BC24: =SUM(INDIRECT(BC$1&BC$2&$C24):INDIRECT(BC$1&BC$3&$C24)) -> 0 | BD24: =BB24-BC24 -> 807884.5 | BE24: =IFERROR(BB24/BC24,0) -> 0 | BF24: =SUM(INDIRECT(BF$1&BF$2&$A24):INDIRECT(BF$1&BF$3&$A24))+SUM(INDIRECT(BF$1&BF$2&$B24):INDIRECT(BF$1&BF$3&$B24)) -> 748120.11 | BG24: =BB24-BF24 -> 59764.398 | BH24: =IFERROR(BB24/BF24,0) -> 1.0798861
A25: =ROW()-3 -> 22 | B25: 1 | C25: =ROW()-3 -> 22 | D25: RF | E25: 1 | P25: (%) | Q25: =CHOOSE(2, "6722000002617", "PL Statement BCP (%)") -> PL Statement BCP (%) | R25: =IFERROR(R24/R14,0) -> 0.068350648 | S25: =IFERROR(S24/S14,0) -> 0.059478966 | T25: =IFERROR(T24/T14,0) -> 0.079399851 | U25: =IFERROR(U24/U14,0) -> 0.093629031 | V25: =IFERROR(V24/V14,0) -> 0.1035779 | W25: =IFERROR(W24/W14,0) -> 0.085406479 | X25: =IFERROR(X24/X14,0) -> 0.10795664 | Y25: =IFERROR(Y24/Y14,0) -> 0.10386136 | ... AJ25: =IFERROR(AJ24/AJ14,0) -> 0.087426081 | AL25: =IFERROR(AL24/AL14,0) -> 0.067894206 | AM25: =IFERROR(AM24/AM14,0) -> 0 | AN25: =AL25-AM25 -> 0.067894206 | AP25: =IFERROR(AP24/AP14,0) -> 0.07733909 | AQ25: =AL25-AP25 -> -0.009444884 | AT25: =IFERROR(AT24/AT14,0) -> 0.085821778 | AU25: =IFERROR(AU24/AU14,0) -> 0 | AV25: =AT25-AU25 -> 0.085821778 | AX25: =IFERROR(AX24/AX14,0) -> 0.11573351 | AY25: =AT25-AX25 -> -0.029911732 | BB25: =IFERROR(BB24/BB14,0) -> 0.087426081 | BC25: =IFERROR(BC24/BC14,0) -> 0 | BD25: =BB25-BC25 -> 0.087426081 | BF25: =IFERROR(BF24/BF14,0) -> 0.10717215 | BG25: =BB25-BF25 -> -0.019746066
A26: =ROW()-3 -> 23 | B26: 1 | C26: =ROW()-3 -> 23 | D26: RF | E26: 1 | I26: Other Income | Q26: =CHOOSE(2, "6722000002616", "PL Statement Other Income") -> PL Statement Other Income | R26: =R87+R409+R192+R274+R337 -> 9951 | S26: =S87+S409+S192+S274+S337 -> 376 | T26: =T87+T409+T192+T274+T337 -> 21.466274 | U26: =U87+U409+U192+U274+U337 -> 236 | V26: =V87+V409+V192+V274+V337 -> 440.28 | W26: =W87+W409+W192+W274+W337 -> 20 | X26: =X87+X409+X192+X274+X337 -> 0 | Y26: =Y87+Y409+Y192+Y274+Y337 -> 277 | ... AC26: =AC87+AC409+AC192+AC274+AC337 -> 34895.301 | AD26: =SUM(R26,S26,T26) -> 10348.466 | AE26: =SUM(U26,V26,W26) -> 696.28 | AF26: =SUM(X26,Y26,Z26) -> 91242.32 | AG26: =SUM(AA26,AB26,AC26) -> 41461.541 | AH26: =AD26+AE26 -> 11044.746 | AI26: =AG26+AF26 -> 132703.86 | AJ26: =AH26+AI26 -> 143748.61 | AL26: =SUM((INDIRECT(AL$2&(ROW())):INDIRECT(AL$3&(ROW())))) -> 34895.301 | AM26: =SUM(INDIRECT(AM$1&AM$2&$C26):INDIRECT(AM$1&AM$3&$C26)) -> 0 | AN26: =AL26-AM26 -> 34895.301 | AO26: =IFERROR(AL26/AM26,0) -> 0 | AP26: =SUM(INDIRECT(AP$1&AP$2&$A26):INDIRECT(AP$1&AP$3&$A26))+SUM(INDIRECT(AP$1&AP$2&$B26):INDIRECT(AP$1&AP$3&$B26)) -> 36050 | AQ26: =AL26-AP26 -> -1154.6986 | AR26: =IFERROR(AL26/AP26,0) -> 0.96796953 | AT26: =SUM((INDIRECT(AT$2&(ROW())):INDIRECT(AT$3&(ROW())))) -> 41461.541 | AU26: =SUM(INDIRECT(AU$1&AU$2&$C26):INDIRECT(AU$1&AU$3&$C26)) -> 0 | AV26: =AT26-AU26 -> 41461.541 | AW26: =IFERROR(AT26/AU26,0) -> 0 | AX26: =SUM(INDIRECT(AX$1&AX$2&$A26):INDIRECT(AX$1&AX$3&$A26))+SUM(INDIRECT(AX$1&AX$2&$B26):INDIRECT(AX$1&AX$3&$B26)) -> 36450 | AY26: =AT26-AX26 -> 5011.5414 | AZ26: =IFERROR(AT26/AX26,0) -> 1.1374908 | BB26: =SUM((INDIRECT(BB$2&(ROW())):INDIRECT(BB$3&(ROW())))) -> 143748.61 | BC26: =SUM(INDIRECT(BC$1&BC$2&$C26):INDIRECT(BC$1&BC$3&$C26)) -> 0 | BD26: =BB26-BC26 -> 143748.61 | BE26: =IFERROR(BB26/BC26,0) -> 0 | BF26: =SUM(INDIRECT(BF$1&BF$2&$A26):INDIRECT(BF$1&BF$3&$A26))+SUM(INDIRECT(BF$1&BF$2&$B26):INDIRECT(BF$1&BF$3&$B26)) -> 53624 | BG26: =BB26-BF26 -> 90124.608 | BH26: =IFERROR(BB26/BF26,0) -> 2.6806767
A27: =ROW()-3 -> 24 | B27: 1 | C27: =ROW()-3 -> 24 | D27: RF | E27: 1 | I27: Other Expenses | Q27: =CHOOSE(2, "6722000002615", "PL Statement Other Expenses") -> PL Statement Other Expenses | R27: =R88+R410+R193+R275+R338 -> 0 | S27: =S88+S410+S193+S275+S338 -> 0 | T27: =T88+T410+T193+T275+T338 -> 0 | U27: =U88+U410+U193+U275+U338 -> 0 | V27: =V88+V410+V193+V275+V338 -> 0 | W27: =W88+W410+W193+W275+W338 -> 0 | X27: =X88+X410+X193+X275+X338 -> 0 | Y27: =Y88+Y410+Y193+Y275+Y338 -> 0 | ... AC27: =AC88+AC410+AC193+AC275+AC338 -> 0 | AD27: =SUM(R27,S27,T27) -> 0 | AE27: =SUM(U27,V27,W27) -> 0 | AF27: =SUM(X27,Y27,Z27) -> 0 | AG27: =SUM(AA27,AB27,AC27) -> 0 | AH27: =AD27+AE27 -> 0 | AI27: =AG27+AF27 -> 0 | AJ27: =AH27+AI27 -> 0 | AL27: =SUM((INDIRECT(AL$2&(ROW())):INDIRECT(AL$3&(ROW())))) -> 0 | AM27: =SUM(INDIRECT(AM$1&AM$2&$C27):INDIRECT(AM$1&AM$3&$C27)) -> 0 | AN27: =AL27-AM27 -> 0 | AO27: =IFERROR(AL27/AM27,0) -> 0 | AP27: =SUM(INDIRECT(AP$1&AP$2&$A27):INDIRECT(AP$1&AP$3&$A27))+SUM(INDIRECT(AP$1&AP$2&$B27):INDIRECT(AP$1&AP$3&$B27)) -> 0 | AQ27: =AL27-AP27 -> 0 | AR27: =IFERROR(AL27/AP27,0) -> 0 | AT27: =SUM((INDIRECT(AT$2&(ROW())):INDIRECT(AT$3&(ROW())))) -> 0 | AU27: =SUM(INDIRECT(AU$1&AU$2&$C27):INDIRECT(AU$1&AU$3&$C27)) -> 0 | AV27: =AT27-AU27 -> 0 | AW27: =IFERROR(AT27/AU27,0) -> 0 | AX27: =SUM(INDIRECT(AX$1&AX$2&$A27):INDIRECT(AX$1&AX$3&$A27))+SUM(INDIRECT(AX$1&AX$2&$B27):INDIRECT(AX$1&AX$3&$B27)) -> 0 | AY27: =AT27-AX27 -> 0 | AZ27: =IFERROR(AT27/AX27,0) -> 0 | BB27: =SUM((INDIRECT(BB$2&(ROW())):INDIRECT(BB$3&(ROW())))) -> 0 | BC27: =SUM(INDIRECT(BC$1&BC$2&$C27):INDIRECT(BC$1&BC$3&$C27)) -> 0 | BD27: =BB27-BC27 -> 0 | BE27: =IFERROR(BB27/BC27,0) -> 0 | BF27: =SUM(INDIRECT(BF$1&BF$2&$A27):INDIRECT(BF$1&BF$3&$A27))+SUM(INDIRECT(BF$1&BF$2&$B27):INDIRECT(BF$1&BF$3&$B27)) -> 1057 | BG27: =BB27-BF27 -> -1057 | BH27: =IFERROR(BB27/BF27,0) -> 0
A28: =ROW()-3 -> 25 | B28: 1 | C28: =ROW()-3 -> 25 | D28: RF | E28: 1 | I28: Operating Profit | Q28: =CHOOSE(2, "6722000002614", "PL Statement Operating Profit") -> PL Statement Operating Profit | R28: =R24+R26-R27 -> 54328 | S28: =S24+S26-S27 -> 39443.034 | T28: =T24+T26-T27 -> 55046.436 | U28: =U24+U26-U27 -> 66651.004 | V28: =V24+V26-V27 -> 86166.797 | W28: =W24+W26-W27 -> 60751.437 | X28: =X24+X26-X27 -> 94284.471 | Y28: =Y24+Y26-Y27 -> 83123.466 | ... AC28: =AC24+AC26-AC27 -> 86774.418 | AD28: =SUM(R28,S28,T28) -> 148817.47 | AE28: =SUM(U28,V28,W28) -> 213569.24 | AF28: =SUM(X28,Y28,Z28) -> 335821.58 | AG28: =SUM(AA28,AB28,AC28) -> 253424.82 | AH28: =AD28+AE28 -> 362386.71 | AI28: =AG28+AF28 -> 589246.4 | AJ28: =AH28+AI28 -> 951633.11 | AL28: =SUM((INDIRECT(AL$2&(ROW())):INDIRECT(AL$3&(ROW())))) -> 86774.418 | AM28: =SUM(INDIRECT(AM$1&AM$2&$C28):INDIRECT(AM$1&AM$3&$C28)) -> 0 | AN28: =AL28-AM28 -> 86774.418 | AO28: =IFERROR(AL28/AM28,0) -> 0 | AP28: =SUM(INDIRECT(AP$1&AP$2&$A28):INDIRECT(AP$1&AP$3&$A28))+SUM(INDIRECT(AP$1&AP$2&$B28):INDIRECT(AP$1&AP$3&$B28)) -> 95631.107 | AQ28: =AL28-AP28 -> -8856.6884 | AR28: =IFERROR(AL28/AP28,0) -> 0.90738695 | AT28: =SUM((INDIRECT(AT$2&(ROW())):INDIRECT(AT$3&(ROW())))) -> 253424.82 | AU28: =SUM(INDIRECT(AU$1&AU$2&$C28):INDIRECT(AU$1&AU$3&$C28)) -> 0 | AV28: =AT28-AU28 -> 253424.82 | AW28: =IFERROR(AT28/AU28,0) -> 0 | AX28: =SUM(INDIRECT(AX$1&AX$2&$A28):INDIRECT(AX$1&AX$3&$A28))+SUM(INDIRECT(AX$1&AX$2&$B28):INDIRECT(AX$1&AX$3&$B28)) -> 260967.11 | AY28: =AT28-AX28 -> -7542.2837 | AZ28: =IFERROR(AT28/AX28,0) -> 0.97109872 | BB28: =SUM((INDIRECT(BB$2&(ROW())):INDIRECT(BB$3&(ROW())))) -> 951633.11 | BC28: =SUM(INDIRECT(BC$1&BC$2&$C28):INDIRECT(BC$1&BC$3&$C28)) -> 0 | BD28: =BB28-BC28 -> 951633.11 | BE28: =IFERROR(BB28/BC28,0) -> 0 | BF28: =SUM(INDIRECT(BF$1&BF$2&$A28):INDIRECT(BF$1&BF$3&$A28))+SUM(INDIRECT(BF$1&BF$2&$B28):INDIRECT(BF$1&BF$3&$B28)) -> 800687.11 | BG28: =BB28-BF28 -> 150946.01 | BH28: =IFERROR(BB28/BF28,0) -> 1.1885206
A29: =ROW()-3 -> 26 | B29: 1 | C29: =ROW()-3 -> 26 | D29: RF | E29: 1 | P29: (%) | Q29: =CHOOSE(2, "6722000002613", "PL Statement Operating Profit (%)") -> PL Statement Operating Profit (%) | R29: =IFERROR(R28/R14,0) -> 0.083677446 | S29: =IFERROR(S28/S14,0) -> 0.06005142 | T29: =IFERROR(T28/T14,0) -> 0.079430826 | U29: =IFERROR(U28/U14,0) -> 0.093961733 | V29: =IFERROR(V28/V14,0) -> 0.10410986 | W29: =IFERROR(W28/W14,0) -> 0.085434605 | X29: =IFERROR(X28/X14,0) -> 0.10795664 | Y29: =IFERROR(Y28/Y14,0) -> 0.10420862 | ... AJ29: =IFERROR(AJ28/AJ14,0) -> 0.10298199 | AL29: =IFERROR(AL28/AL14,0) -> 0.11356169 | AM29: =IFERROR(AM28/AM14,0) -> 0 | AN29: =AL29-AM29 -> 0.11356169 | AP29: =IFERROR(AP28/AP14,0) -> 0.12413369 | AQ29: =AL29-AP29 -> -0.010572001 | AT29: =IFERROR(AT28/AT14,0) -> 0.10260913 | AU29: =IFERROR(AU28/AU14,0) -> 0 | AV29: =AT29-AU29 -> 0.10260913 | AX29: =IFERROR(AX28/AX14,0) -> 0.13452266 | AY29: =AT29-AX29 -> -0.031913529 | BB29: =IFERROR(BB28/BB14,0) -> 0.10298199 | BC29: =IFERROR(BC28/BC14,0) -> 0 | BD29: =BB29-BC29 -> 0.10298199 | BF29: =IFERROR(BF28/BF14,0) -> 0.11470265 | BG29: =BB29-BF29 -> -0.011720657
A30: =ROW()-3 -> 27 | B30: 1 | C30: =ROW()-3 -> 27 | D30: RF | E30: 1 | I30: Financial Income (Expenses), net | Q30: =CHOOSE(2, "6722000002612", "PL Statement Financial Income/Expenses") -> PL Statement Financial Income/Expenses | R30: =R31-R32 -> 13664 | S30: =S31-S32 -> 9779 | T30: =T31-T32 -> 6584 | U30: =U31-U32 -> 9159 | V30: =V31-V32 -> 11283 | W30: =W31-W32 -> 7253 | X30: =X31-X32 -> 99064 | Y30: =Y31-Y32 -> 10743 | ... AC30: =AC31-AC32 -> 4853 | AD30: =SUM(R30,S30,T30) -> 30027 | AE30: =SUM(U30,V30,W30) -> 27695 | AF30: =SUM(X30,Y30,Z30) -> 30828 | AG30: =SUM(AA30,AB30,AC30) -> 29853 | AH30: =AD30+AE30 -> 57722 | AI30: =AG30+AF30 -> 60681 | AJ30: =AH30+AI30 -> 118403 | AL30: =SUM((INDIRECT(AL$2&(ROW())):INDIRECT(AL$3&(ROW())))) -> 4853 | AM30: =SUM(INDIRECT(AM$1&AM$2&$C30):INDIRECT(AM$1&AM$3&$C30)) -> 0 | AN30: =AL30-AM30 -> 4853 | AO30: =IFERROR(AL30/AM30,0) -> 0 | AP30: =SUM(INDIRECT(AP$1&AP$2&$A30):INDIRECT(AP$1&AP$3&$A30))+SUM(INDIRECT(AP$1&AP$2&$B30):INDIRECT(AP$1&AP$3&$B30)) -> 8237 | AQ30: =AL30-AP30 -> -3384 | AR30: =IFERROR(AL30/AP30,0) -> 0.58917081 | AT30: =SUM((INDIRECT(AT$2&(ROW())):INDIRECT(AT$3&(ROW())))) -> 29853 | AU30: =SUM(INDIRECT(AU$1&AU$2&$C30):INDIRECT(AU$1&AU$3&$C30)) -> 0 | AV30: =AT30-AU30 -> 29853 | AW30: =IFERROR(AT30/AU30,0) -> 0 | AX30: =SUM(INDIRECT(AX$1&AX$2&$A30):INDIRECT(AX$1&AX$3&$A30))+SUM(INDIRECT(AX$1&AX$2&$B30):INDIRECT(AX$1&AX$3&$B30)) -> 27439 | AY30: =AT30-AX30 -> 2414 | AZ30: =IFERROR(AT30/AX30,0) -> 1.087977 | BB30: =SUM((INDIRECT(BB$2&(ROW())):INDIRECT(BB$3&(ROW())))) -> 118403 | BC30: =SUM(INDIRECT(BC$1&BC$2&$C30):INDIRECT(BC$1&BC$3&$C30)) -> 0 | BD30: =BB30-BC30 -> 118403 | BE30: =IFERROR(BB30/BC30,0) -> 0 | BF30: =SUM(INDIRECT(BF$1&BF$2&$A30):INDIRECT(BF$1&BF$3&$A30))+SUM(INDIRECT(BF$1&BF$2&$B30):INDIRECT(BF$1&BF$3&$B30)) -> 83665 | BG30: =BB30-BF30 -> 34738 | BH30: =IFERROR(BB30/BF30,0) -> 1.4152035
A31: =ROW()-3 -> 28 | B31: 1 | C31: =ROW()-3 -> 28 | D31: RF | E31: 1 | J31: Financial Income | Q31: =CHOOSE(2, "6722000002611", "PL Statement Financial Income") -> PL Statement Financial Income | R31: =11840+1824 -> 13664 | S31: 10055 | T31: 11309 | U31: 10773 | V31: =10947+336 -> 11283 | W31: 11160 | X31: =11952+88147 -> 100099 | Y31: 11100 | Z31: =11796+4-88147 -> -76347 | AA31: 12512 | AB31: 12769 | AC31: 7492 | AD31: =SUM(R31,S31,T31) -> 35028 | AE31: =SUM(U31,V31,W31) -> 33216 | AF31: =SUM(X31,Y31,Z31) -> 34852 | AG31: =SUM(AA31,AB31,AC31) -> 32773 | AH31: =AD31+AE31 -> 68244 | AI31: =AG31+AF31 -> 67625 | AJ31: =AH31+AI31 -> 135869 | AL31: =SUM((INDIRECT(AL$2&(ROW())):INDIRECT(AL$3&(ROW())))) -> 7492 | AM31: =SUM(INDIRECT(AM$1&AM$2&$C31):INDIRECT(AM$1&AM$3&$C31)) -> 0 | AN31: =AL31-AM31 -> 7492 | AO31: =IFERROR(AL31/AM31,0) -> 0 | AP31: =SUM(INDIRECT(AP$1&AP$2&$A31):INDIRECT(AP$1&AP$3&$A31))+SUM(INDIRECT(AP$1&AP$2&$B31):INDIRECT(AP$1&AP$3&$B31)) -> 10524 | AQ31: =AL31-AP31 -> -3032 | AR31: =IFERROR(AL31/AP31,0) -> 0.71189662 | AT31: =SUM((INDIRECT(AT$2&(ROW())):INDIRECT(AT$3&(ROW())))) -> 32773 | AU31: =SUM(INDIRECT(AU$1&AU$2&$C31):INDIRECT(AU$1&AU$3&$C31)) -> 0 | AV31: =AT31-AU31 -> 32773 | AW31: =IFERROR(AT31/AU31,0) -> 0 | AX31: =SUM(INDIRECT(AX$1&AX$2&$A31):INDIRECT(AX$1&AX$3&$A31))+SUM(INDIRECT(AX$1&AX$2&$B31):INDIRECT(AX$1&AX$3&$B31)) -> 29726 | AY31: =AT31-AX31 -> 3047 | AZ31: =IFERROR(AT31/AX31,0) -> 1.1025029 | BB31: =SUM((INDIRECT(BB$2&(ROW())):INDIRECT(BB$3&(ROW())))) -> 135869 | BC31: =SUM(INDIRECT(BC$1&BC$2&$C31):INDIRECT(BC$1&BC$3&$C31)) -> 0 | BD31: =BB31-BC31 -> 135869 | BE31: =IFERROR(BB31/BC31,0) -> 0 | BF31: =SUM(INDIRECT(BF$1&BF$2&$A31):INDIRECT(BF$1&BF$3&$A31))+SUM(INDIRECT(BF$1&BF$2&$B31):INDIRECT(BF$1&BF$3&$B31)) -> 94493 | BG31: =BB31-BF31 -> 41376 | BH31: =IFERROR(BB31/BF31,0) -> 1.4378737
A32: =ROW()-3 -> 29 | B32: 1 | C32: =ROW()-3 -> 29 | D32: RF | E32: 1 | J32: Financial Expenses | Q32: =CHOOSE(2, "6722000002610", "PL Statement Financial Expenses") -> PL Statement Financial Expenses | R32: 0 | S32: 276 | T32: =1530+3195 -> 4725 | U32: 1614 | V32: 0 | W32: =1010+2897 -> 3907 | X32: 1035 | Y32: 357 | Z32: 2632 | AA32: 198 | AB32: 83 | AC32: =280+2359 -> 2639 | AD32: =SUM(R32,S32,T32) -> 5001 | AE32: =SUM(U32,V32,W32) -> 5521 | AF32: =SUM(X32,Y32,Z32) -> 4024 | AG32: =SUM(AA32,AB32,AC32) -> 2920 | AH32: =AD32+AE32 -> 10522 | AI32: =AG32+AF32 -> 6944 | AJ32: =AH32+AI32 -> 17466 | AL32: =SUM((INDIRECT(AL$2&(ROW())):INDIRECT(AL$3&(ROW())))) -> 2639 | AM32: =SUM(INDIRECT(AM$1&AM$2&$C32):INDIRECT(AM$1&AM$3&$C32)) -> 0 | AN32: =AL32-AM32 -> 2639 | AO32: =IFERROR(AL32/AM32,0) -> 0 | AP32: =SUM(INDIRECT(AP$1&AP$2&$A32):INDIRECT(AP$1&AP$3&$A32))+SUM(INDIRECT(AP$1&AP$2&$B32):INDIRECT(AP$1&AP$3&$B32)) -> 2287 | AQ32: =AL32-AP32 -> 352 | AR32: =IFERROR(AL32/AP32,0) -> 1.1539134 | AT32: =SUM((INDIRECT(AT$2&(ROW())):INDIRECT(AT$3&(ROW())))) -> 2920 | AU32: =SUM(INDIRECT(AU$1&AU$2&$C32):INDIRECT(AU$1&AU$3&$C32)) -> 0 | AV32: =AT32-AU32 -> 2920 | AW32: =IFERROR(AT32/AU32,0) -> 0 | AX32: =SUM(INDIRECT(AX$1&AX$2&$A32):INDIRECT(AX$1&AX$3&$A32))+SUM(INDIRECT(AX$1&AX$2&$B32):INDIRECT(AX$1&AX$3&$B32)) -> 2287 | AY32: =AT32-AX32 -> 633 | AZ32: =IFERROR(AT32/AX32,0) -> 1.2767818 | BB32: =SUM((INDIRECT(BB$2&(ROW())):INDIRECT(BB$3&(ROW())))) -> 17466 | BC32: =SUM(INDIRECT(BC$1&BC$2&$C32):INDIRECT(BC$1&BC$3&$C32)) -> 0 | BD32: =BB32-BC32 -> 17466 | BE32: =IFERROR(BB32/BC32,0) -> 0 | BF32: =SUM(INDIRECT(BF$1&BF$2&$A32):INDIRECT(BF$1&BF$3&$A32))+SUM(INDIRECT(BF$1&BF$2&$B32):INDIRECT(BF$1&BF$3&$B32)) -> 10828 | BG32: =BB32-BF32 -> 6638 | BH32: =IFERROR(BB32/BF32,0) -> 1.6130403
A33: =ROW()-3 -> 30 | B33: 1 | C33: =ROW()-3 -> 30 | D33: RF | E33: 1 | I33: Profit before Taxes | Q33: =CHOOSE(2, "6722000002609", "PL Statement Profit before Taxes") -> PL Statement Profit before Taxes | R33: =R28+R30 -> 67992 | S33: =S28+S30 -> 49222.034 | T33: =T28+T30 -> 61630.436 | U33: =U28+U30 -> 75810.004 | V33: =V28+V30 -> 97449.797 | W33: =W28+W30 -> 68004.437 | X33: =X28+X30 -> 193348.47 | Y33: =Y28+Y30 -> 93866.466 | ... AC33: =AC28+AC30 -> 91627.418 | AD33: =SUM(R33,S33,T33) -> 178844.47 | AE33: =SUM(U33,V33,W33) -> 241264.24 | AF33: =SUM(X33,Y33,Z33) -> 366649.58 | AG33: =SUM(AA33,AB33,AC33) -> 283277.82 | AH33: =AD33+AE33 -> 420108.71 | AI33: =AG33+AF33 -> 649927.4 | AJ33: =AH33+AI33 -> 1070036.1 | AL33: =SUM((INDIRECT(AL$2&(ROW())):INDIRECT(AL$3&(ROW())))) -> 91627.418 | AM33: =SUM(INDIRECT(AM$1&AM$2&$C33):INDIRECT(AM$1&AM$3&$C33)) -> 0 | AN33: =AL33-AM33 -> 91627.418 | AO33: =IFERROR(AL33/AM33,0) -> 0 | AP33: =SUM(INDIRECT(AP$1&AP$2&$A33):INDIRECT(AP$1&AP$3&$A33))+SUM(INDIRECT(AP$1&AP$2&$B33):INDIRECT(AP$1&AP$3&$B33)) -> 103868.11 | AQ33: =AL33-AP33 -> -12240.688 | AR33: =IFERROR(AL33/AP33,0) -> 0.88215162 | AT33: =SUM((INDIRECT(AT$2&(ROW())):INDIRECT(AT$3&(ROW())))) -> 283277.82 | AU33: =SUM(INDIRECT(AU$1&AU$2&$C33):INDIRECT(AU$1&AU$3&$C33)) -> 0 | AV33: =AT33-AU33 -> 283277.82 | AW33: =IFERROR(AT33/AU33,0) -> 0 | AX33: =SUM(INDIRECT(AX$1&AX$2&$A33):INDIRECT(AX$1&AX$3&$A33))+SUM(INDIRECT(AX$1&AX$2&$B33):INDIRECT(AX$1&AX$3&$B33)) -> 288406.11 | AY33: =AT33-AX33 -> -5128.2837 | AZ33: =IFERROR(AT33/AX33,0) -> 0.98221853 | BB33: =SUM((INDIRECT(BB$2&(ROW())):INDIRECT(BB$3&(ROW())))) -> 1070036.1 | BC33: =SUM(INDIRECT(BC$1&BC$2&$C33):INDIRECT(BC$1&BC$3&$C33)) -> 0 | BD33: =BB33-BC33 -> 1070036.1 | BE33: =IFERROR(BB33/BC33,0) -> 0 | BF33: =SUM(INDIRECT(BF$1&BF$2&$A33):INDIRECT(BF$1&BF$3&$A33))+SUM(INDIRECT(BF$1&BF$2&$B33):INDIRECT(BF$1&BF$3&$B33)) -> 884352.11 | BG33: =BB33-BF33 -> 185684.01 | BH33: =IFERROR(BB33/BF33,0) -> 1.2099661
A34: =ROW()-3 -> 31 | B34: 1 | C34: =ROW()-3 -> 31 | D34: RF | E34: 1 | I34: Tax Expenses & Others | Q34: =CHOOSE(2, "6722000002608", "PL Statement Tax Expenses & Others") -> PL Statement Tax Expenses & Others | R34: 16943.2 | S34: 12303.851 | T34: 15347 | U34: 18988 | V34: 24434 | W34: 17073 | X34: 48507 | Y34: 23485 | Z34: 19880 | AA34: 22340 | AB34: 25299 | AC34: 22722 | AD34: =SUM(R34,S34,T34) -> 44594.052 | AE34: =SUM(U34,V34,W34) -> 60495 | AF34: =SUM(X34,Y34,Z34) -> 91872 | AG34: =SUM(AA34,AB34,AC34) -> 70361 | AH34: =AD34+AE34 -> 105089.05 | AI34: =AG34+AF34 -> 162233 | AJ34: =AH34+AI34 -> 267322.05 | AL34: =SUM((INDIRECT(AL$2&(ROW())):INDIRECT(AL$3&(ROW())))) -> 22722 | AM34: =SUM(INDIRECT(AM$1&AM$2&$C34):INDIRECT(AM$1&AM$3&$C34)) -> 0 | AN34: =AL34-AM34 -> 22722 | AO34: =IFERROR(AL34/AM34,0) -> 0 | AP34: =SUM(INDIRECT(AP$1&AP$2&$A34):INDIRECT(AP$1&AP$3&$A34))+SUM(INDIRECT(AP$1&AP$2&$B34):INDIRECT(AP$1&AP$3&$B34)) -> 26141.525 | AQ34: =AL34-AP34 -> -3419.5251 | AR34: =IFERROR(AL34/AP34,0) -> 0.86919183 | AT34: =SUM((INDIRECT(AT$2&(ROW())):INDIRECT(AT$3&(ROW())))) -> 70361 | AU34: =SUM(INDIRECT(AU$1&AU$2&$C34):INDIRECT(AU$1&AU$3&$C34)) -> 0 | AV34: =AT34-AU34 -> 70361 | AW34: =IFERROR(AT34/AU34,0) -> 0 | AX34: =SUM(INDIRECT(AX$1&AX$2&$A34):INDIRECT(AX$1&AX$3&$A34))+SUM(INDIRECT(AX$1&AX$2&$B34):INDIRECT(AX$1&AX$3&$B34)) -> 72586.049 | AY34: =AT34-AX34 -> -2225.049 | AZ34: =IFERROR(AT34/AX34,0) -> 0.96934605 | BB34: =SUM((INDIRECT(BB$2&(ROW())):INDIRECT(BB$3&(ROW())))) -> 267322.05 | BC34: =SUM(INDIRECT(BC$1&BC$2&$C34):INDIRECT(BC$1&BC$3&$C34)) -> 0 | BD34: =BB34-BC34 -> 267322.05 | BE34: =IFERROR(BB34/BC34,0) -> 0 | BF34: =SUM(INDIRECT(BF$1&BF$2&$A34):INDIRECT(BF$1&BF$3&$A34))+SUM(INDIRECT(BF$1&BF$2&$B34):INDIRECT(BF$1&BF$3&$B34)) -> 222573.74 | BG34: =BB34-BF34 -> 44748.313 | BH34: =IFERROR(BB34/BF34,0) -> 1.2010494
A35: =ROW()-3 -> 32 | B35: 1 | C35: =ROW()-3 -> 32 | D35: RF | E35: 1 | I35: Net Profit | Q35: =CHOOSE(2, "6722000002607", "PL Statement Net Profit") -> PL Statement Net Profit | R35: =R33-R34 -> 51048.8 | S35: =S33-S34 -> 36918.183 | T35: =T33-T34 -> 46283.436 | U35: =U33-U34 -> 56822.004 | V35: =V33-V34 -> 73015.797 | W35: =W33-W34 -> 50931.437 | X35: =X33-X34 -> 144841.47 | Y35: =Y33-Y34 -> 70381.466 | ... AC35: =AC33-AC34 -> 68905.418 | AD35: =SUM(R35,S35,T35) -> 134250.42 | AE35: =SUM(U35,V35,W35) -> 180769.24 | AF35: =SUM(X35,Y35,Z35) -> 274777.58 | AG35: =SUM(AA35,AB35,AC35) -> 212916.82 | AH35: =AD35+AE35 -> 315019.66 | AI35: =AG35+AF35 -> 487694.4 | AJ35: =AH35+AI35 -> 802714.06 | AL35: =SUM((INDIRECT(AL$2&(ROW())):INDIRECT(AL$3&(ROW())))) -> 68905.418 | AM35: =SUM(INDIRECT(AM$1&AM$2&$C35):INDIRECT(AM$1&AM$3&$C35)) -> 0 | AN35: =AL35-AM35 -> 68905.418 | AO35: =IFERROR(AL35/AM35,0) -> 0 | AP35: =SUM(INDIRECT(AP$1&AP$2&$A35):INDIRECT(AP$1&AP$3&$A35))+SUM(INDIRECT(AP$1&AP$2&$B35):INDIRECT(AP$1&AP$3&$B35)) -> 77726.582 | AQ35: =AL35-AP35 -> -8821.1633 | AR35: =IFERROR(AL35/AP35,0) -> 0.88651034 | AT35: =SUM((INDIRECT(AT$2&(ROW())):INDIRECT(AT$3&(ROW())))) -> 212916.82 | AU35: =SUM(INDIRECT(AU$1&AU$2&$C35):INDIRECT(AU$1&AU$3&$C35)) -> 0 | AV35: =AT35-AU35 -> 212916.82 | AW35: =IFERROR(AT35/AU35,0) -> 0 | AX35: =SUM(INDIRECT(AX$1&AX$2&$A35):INDIRECT(AX$1&AX$3&$A35))+SUM(INDIRECT(AX$1&AX$2&$B35):INDIRECT(AX$1&AX$3&$B35)) -> 215820.06 | AY35: =AT35-AX35 -> -2903.2348 | AZ35: =IFERROR(AT35/AX35,0) -> 0.98654789 | BB35: =SUM((INDIRECT(BB$2&(ROW())):INDIRECT(BB$3&(ROW())))) -> 802714.06 | BC35: =SUM(INDIRECT(BC$1&BC$2&$C35):INDIRECT(BC$1&BC$3&$C35)) -> 0 | BD35: =BB35-BC35 -> 802714.06 | BE35: =IFERROR(BB35/BC35,0) -> 0 | BF35: =SUM(INDIRECT(BF$1&BF$2&$A35):INDIRECT(BF$1&BF$3&$A35))+SUM(INDIRECT(BF$1&BF$2&$B35):INDIRECT(BF$1&BF$3&$B35)) -> 661778.37 | BG35: =BB35-BF35 -> 140935.69 | BH35: =IFERROR(BB35/BF35,0) -> 1.2129651
A36: =ROW()-3 -> 33 | B36: 1 | C36: =ROW()-3 -> 33 | D36: RF | E36: 1 | P36: (%) | Q36: =CHOOSE(2, "6722000002606", "PL Statement Net Profit (%)") -> PL Statement Net Profit (%) | R36: =IFERROR(R35/R14,0) -> 0.078626733 | S36: =IFERROR(S35/S14,0) -> 0.056207373 | T36: =IFERROR(T35/T14,0) -> 0.066786005 | U36: =IFERROR(U35/U14,0) -> 0.08010523 | V36: =IFERROR(V35/V14,0) -> 0.088220345 | W36: =IFERROR(W35/W14,0) -> 0.071624761 | X36: =IFERROR(X35/X14,0) -> 0.1658449 | Y36: =IFERROR(Y35/Y14,0) -> 0.088234477 | ... AJ36: =IFERROR(AJ35/AJ14,0) -> 0.086866556 | AL36: =IFERROR(AL35/AL14,0) -> 0.090176529 | AM36: =IFERROR(AM35/AM14,0) -> 0 | AN36: =AL36-AM36 -> 0.090176529 | AP36: =IFERROR(AP35/AP14,0) -> 0.10089277 | AQ36: =AL36-AP36 -> -0.010716245 | AT36: =IFERROR(AT35/AT14,0) -> 0.086207857 | AU36: =IFERROR(AU35/AU14,0) -> 0 | AV36: =AT36-AU36 -> 0.086207857 | AX36: =IFERROR(AX35/AX14,0) -> 0.11125038 | AY36: =AT36-AX36 -> -0.02504252 | BB36: =IFERROR(BB35/BB14,0) -> 0.086866556 | BC36: =IFERROR(BC35/BC14,0) -> 0 | BD36: =BB36-BC36 -> 0.086866556 | BF36: =IFERROR(BF35/BF14,0) -> 0.094803239 | BG36: =BB36-BF36 -> -0.0079366824
A37: =ROW()-3 -> 34 | B37: 1 | C37: =ROW()-3 -> 34 | E37: 1 | Q37: =CHOOSE(2, "6722000002956", "▷ Blank 1") -> ▷ Blank 1
A38: =ROW()-3 -> 35 | B38: 1 | C38: =ROW()-3 -> 35 | E38: 1 | Q38: =CHOOSE(2, "6722000002957", "▷ Blank 2") -> ▷ Blank 2
A39: =ROW()-3 -> 36 | B39: 1 | C39: =ROW()-3 -> 36 | E39: 1 | G39: 1-2.SGA Expenses Details | Q39: =CHOOSE(2, "6722000002958", "1-2.SGA Expenses Details") -> 1-2.SGA Expenses Details
A40: =ROW()-3 -> 37 | B40: 1 | C40: =ROW()-3 -> 37 | E40: 1 | I40: Variable Expenses | Q40: =CHOOSE(2, "6722000002959", "SGA Variable Expenses") -> SGA Variable Expenses | R40: =SUM(R41:R43) -> 61662 | S40: =SUM(S41:S43) -> 49533 | T40: =SUM(T41:T43) -> 47765 | U40: =SUM(U41:U43) -> 67759 | V40: =SUM(V41:V43) -> 73732.578 | W40: =SUM(W41:W43) -> 50381.119 | X40: =SUM(X41:X43) -> 42778.496 | Y40: =SUM(Y41:Y43) -> 54978.632 | ... AJ40: =SUM(AJ41:AJ43) -> 683894.61 | AL40: =SUM((INDIRECT(AL$2&(ROW())):INDIRECT(AL$3&(ROW())))) -> -4031.7866 | AM40: =SUM(INDIRECT(AM$1&AM$2&$C40):INDIRECT(AM$1&AM$3&$C40)) -> 0 | AN40: =AL40-AM40 -> -4031.7866 | AO40: =IFERROR(AL40/AM40,0) -> 0 | AP40: =SUM(INDIRECT(AP$1&AP$2&$A40):INDIRECT(AP$1&AP$3&$A40))+SUM(INDIRECT(AP$1&AP$2&$B40):INDIRECT(AP$1&AP$3&$B40)) -> 38452 | AQ40: =AL40-AP40 -> -42483.787 | AR40: =IFERROR(AL40/AP40,0) -> -0.10485245 | AT40: =SUM((INDIRECT(AT$2&(ROW())):INDIRECT(AT$3&(ROW())))) -> 162010.38 | AU40: =SUM(INDIRECT(AU$1&AU$2&$C40):INDIRECT(AU$1&AU$3&$C40)) -> 0 | AV40: =AT40-AU40 -> 162010.38 | AW40: =IFERROR(AT40/AU40,0) -> 0 | AX40: =SUM(INDIRECT(AX$1&AX$2&$A40):INDIRECT(AX$1&AX$3&$A40))+SUM(INDIRECT(AX$1&AX$2&$B40):INDIRECT(AX$1&AX$3&$B40)) -> 81377 | AY40: =AT40-AX40 -> 80633.379 | AZ40: =IFERROR(AT40/AX40,0) -> 1.990862 | BB40: =SUM((INDIRECT(BB$2&(ROW())):INDIRECT(BB$3&(ROW())))) -> 683894.61 | BC40: =SUM(INDIRECT(BC$1&BC$2&$C40):INDIRECT(BC$1&BC$3&$C40)) -> 0 | BD40: =BB40-BC40 -> 683894.61 | BE40: =IFERROR(BB40/BC40,0) -> 0 | BF40: =SUM(INDIRECT(BF$1&BF$2&$A40):INDIRECT(BF$1&BF$3&$A40))+SUM(INDIRECT(BF$1&BF$2&$B40):INDIRECT(BF$1&BF$3&$B40)) -> 408165 | BG40: =BB40-BF40 -> 275729.61 | BH40: =IFERROR(BB40/BF40,0) -> 1.6755347
...

Sheet Definition
A1: FY22 new topic
A3: ★ | B3: 1. DW-DX changes in service line
C4: Separate BPS and WPH #3. Add new DevOps themes in each category.
C6: Underlined | E6: : Changed name
C7: Blue text | E7: : Changed
C8: Red text | E8: : Newly added
B9: FY21 | F9: FY22
B10: IMS | F10: IMS
B11: MCS | F11: MCS
B12: BPS / WPH #3 | F12: BPS
F13: ICW-WK - Japanese Gov't DX business, - KMJ: Digital Marketing & Office design, - BUS: HC IT, FORXAI Secure Access) + DevOps*
B14: WPH #1 | F14: ICW-IT (WPH, BNDK, DevOps*)
B15: N/A | F15: ICW-P (New DevOps*)
B16: Office Solution | F16: Office Solution
F17: * DevOps : Please see below for details which DevOps theme will be categorized in which service line
A19: ★ | B19: 2. Two categories will be added in DW-DX (ITS/ICW)
A30: ★ | B30: 3. Investment input level change: By BU -> By Segment (BT or Others)
A36: ★ | B36: Skip
B37: "Preconditions" sheet, | F37: Improvement amount of service cost by Shift-Left
B38: "FP,CF" sheet, | F38: 2-5. Property, Plant and Equipment
F39: 2-6. Intangible Assets
A41: Classification
C42: (1)-1 Office: Excluding "Office Solution"
D43: Hard | F43: Office A3 | G43: Classified by item code (by products)
F44: Office A4
D45: Non-hard | F45: Copy Click (Kit) | G45: Click business for Office products classified by item code or allocated for Office(A3/A4). Minimum commitment and over volume included. (KMJ: Kit contract included)
F46: Non Contract | G46: Non-Contract service for Office products classified by item code. Including Office products installation fees (Including contracted MIFs)
D47: KMI | G47: Purchased from KMI
D48: 3rd Party | G48: Purchased from Other Vendors
D49: Others | G49: KMJ's special products only.
C50: (1)-2 "Office Solution" only
A51: Chgd | D51: Office Solution | G51: "Office Solutions" to include: "Software" (both On-Prem & Cloud), related "Hardware" peripheral devices, and related "Services" to be sold with/for MFP to add values to MFP. They are for example (but not limited to): <SOFTWARE> Print Management Solutions & licenses such as Dispatcher Paragon, Paragon Cloud and other 3rd party solutions, Scan/Capture Solutions such as Dispatcher Phoenix/Suite and other 3rd party solutions, and also MFP Security Management Solutions such as buzhub Secure, ShieldGuard etc. <HARDWARE> ID Card Authentication devices, edge devices for Paragon Cloud etc. <SERVICES> Professional Services chargebale for consutation and deployment related to those applicable "Office Solutions" and for/through OPS services. These are only key own branded/IP examples and other local/regional relevant solutions & services to be also included here. MFPに付加価値を与える一連のソフトウェア(オンプレ・クラウド)・周辺ハードウェア・関連サービス売上。例えば、Dispatcher Paragon/Paragon Cloudを代表とする印刷管理ソリューション、MFPと連携するScanソリューション、MFPセキュリティ管理機能を提供するbizhub SecureやShieldGuard他。周辺ハードウェアについては印刷管理ソリューションと連携するIDカード認証装置やParagon Cloud用エッジデバイス他。関連サービスについては上記各種関連ソリューションに関連して発生するコンサルテーションや導入費用他、OPSコンサルテーション含む。
C52: (2) PP
D53: Hard | F53: Office A3 | G53: Classified by items code (by products)
F54: Office A4
D55: Hard | F55: Other | G55: KIP,EPSON,WF
D56: Non-hard | F56: Copy Click (Kit) | G56: Click business for Office products classified by item code or allocated for Office(A3/A4). Minimum commitment and over volume included. (KMJ: Kit contract included)
F57: Non Contract | G57: Non-Contract service for Office products classified by item code. Including Office products installation fees (Including contracted MIFs)
D58: KMI | G58: Purchased from KMI
D59: 3rd Party | G59: Purchased from Other Vendors
...

Sheet Previous
A4: Prev | C4: OP | F4: FY2021 Monthly Actual ver1.0 | P4: BIN | Q4: (Unit:1000LC)
D6: RF | I6: K_INR | L6: (Unit:1000LC) | P6: Input fields
P7: Input fields, but not affect PL
D8: RF | E8: 1 | F8: 1. P/L (1) - Overview
D9: RF | E9: 1 | G9: 1-1. P/L Statement
D10: RF | E10: 1 | Q10: 43922 | R10: 43952 | S10: 43983 | T10: 44013 | U10: 44044 | V10: 44075 | W10: 44105 | X10: 44136 | Y10: 44166 | Z10: 44197 | AA10: 44228 | AB10: 44256 | AC10: Q1 | AD10: Q2 | AE10: Q3 | AF10: Q4 | AG10: 1st H | AH10: 2nd H | AI10: Yr.
A11: 11 | B11: 1 | C11: 11 | D11: RF | E11: 1 | I11: Net Sales | Q11: =Q76+Q326+Q127+Q181+Q263 -> 536747 | R11: =R76+R326+R127+R181+R263 -> 239742 | S11: =S76+S326+S127+S181+S263 -> 492039 | T11: =T76+T326+T127+T181+T263 -> 513291 | U11: =U76+U326+U127+U181+U263 -> 587099 | V11: =V76+V326+V127+V181+V263 -> 739620 | W11: =W76+W326+W127+W181+W263 -> 620462 | X11: =X76+X326+X127+X181+X263 -> 584851 | ... AB11: =AB76+AB326+AB127+AB181+AB263 -> 770388 | AC11: =SUM(Q11,R11,S11) -> 1268528 | AD11: =SUM(T11,U11,V11) -> 1840010 | AE11: =SUM(W11,X11,Y11) -> 1932059 | AF11: =SUM(Z11,AA11,AB11) -> 1939949 | AG11: =AC11+AD11 -> 3108538 | AH11: =AF11+AE11 -> 3872008 | AI11: =AG11+AH11 -> 6980546
A12: 12 | B12: 1 | C12: 12 | D12: RF | E12: 1 | I12: BT Consolidated Sales | Q12: =Q80+Q332+Q132+Q196+Q273 -> 536747 | R12: =R80+R332+R132+R196+R273 -> 239742 | S12: =S80+S332+S132+S196+S273 -> 492039 | T12: =T80+T332+T132+T196+T273 -> 513291 | U12: =U80+U332+U132+U196+U273 -> 587099 | V12: =V80+V332+V132+V196+V273 -> 739620 | W12: =W80+W332+W132+W196+W273 -> 620462 | X12: =X80+X332+X132+X196+X273 -> 584851 | ... AB12: =AB80+AB332+AB132+AB196+AB273 -> 770388 | AC12: =SUM(Q12,R12,S12) -> 1268528 | AD12: =SUM(T12,U12,V12) -> 1840010 | AE12: =SUM(W12,X12,Y12) -> 1932059 | AF12: =SUM(Z12,AA12,AB12) -> 1939949 | AG12: =AC12+AD12 -> 3108538 | AH12: =AF12+AE12 -> 3872008 | AI12: =AG12+AH12 -> 6980546
A13: 13 | B13: 1 | C13: 13 | D13: RF | E13: 1 | I13: Cost of Sales | Q13: =Q11-Q14 -> 351610 | R13: =R11-R14 -> 158983 | S13: =S11-S14 -> 324705 | T13: =T11-T14 -> 325864 | U13: =U11-U14 -> 366967 | V13: =V11-V14 -> 463586 | W13: =W11-W14 -> 409160 | X13: =X11-X14 -> 358087 | ... AB13: =AB11-AB14 -> 510625 | AC13: =SUM(Q13,R13,S13) -> 835298 | AD13: =SUM(T13,U13,V13) -> 1156417 | AE13: =SUM(W13,X13,Y13) -> 1279344 | AF13: =SUM(Z13,AA13,AB13) -> 1288337 | AG13: =AC13+AD13 -> 1991715 | AH13: =AF13+AE13 -> 2567681 | AI13: =AG13+AH13 -> 4559396
A14: 14 | B14: 1 | C14: 14 | D14: RF | E14: 1 | I14: Gross Profit | Q14: =Q97+Q338+Q149+Q211+Q283 -> 185137 | R14: =R97+R338+R149+R211+R283 -> 80759 | S14: =S97+S338+S149+S211+S283 -> 167334 | T14: =T97+T338+T149+T211+T283 -> 187427 | U14: =U97+U338+U149+U211+U283 -> 220132 | V14: =V97+V338+V149+V211+V283 -> 276034 | W14: =W97+W338+W149+W211+W283 -> 211302 | X14: =X97+X338+X149+X211+X283 -> 226764 | ... AB14: =AB97+AB338+AB149+AB211+AB283 -> 259763 | AC14: =SUM(Q14,R14,S14) -> 433230 | AD14: =SUM(T14,U14,V14) -> 683593 | AE14: =SUM(W14,X14,Y14) -> 652715 | AF14: =SUM(Z14,AA14,AB14) -> 651612 | AG14: =AC14+AD14 -> 1116823 | AH14: =AF14+AE14 -> 1304327 | AI14: =AG14+AH14 -> 2421150
