Workbook
Name AnaplanColHeader_5b675c0e_2247_4546_9242_0565ac0e1287: PL!$S$10:$AD$10
Name AnaplanColHeader_c4cb70b2_6598_4c0e_aa8c_9c4deb501a87: OP!$X$10:$AI$10
Name AnaplanColHeader_c4cb70b2_6598_4c0e_aa8c_9c4deb501a87: PL!$S$10:$AD$10
Name AnaplanColHeader_c4cb70b2_6598_4c0e_aa8c_9c4deb501a87: Previous!$R$10:$AC$10
Name AnaplanDescription_5b675c0e_2247_4546_9242_0565ac0e1287: PL!$R$4:$R$9
Name AnaplanDescription_c4cb70b2_6598_4c0e_aa8c_9c4deb501a87: OP!$W$4:$W$9
Name AnaplanDescription_c4cb70b2_6598_4c0e_aa8c_9c4deb501a87: PL!#REF!
Name AnaplanDescription_c4cb70b2_6598_4c0e_aa8c_9c4deb501a87: Previous!$Q$4:$Q$9
Name AnaplanRowHeader_5b675c0e_2247_4546_9242_0565ac0e1287: PL!$R$11:$R$1613
Name AnaplanRowHeader_c4cb70b2_6598_4c0e_aa8c_9c4deb501a87: OP!$W$11:$W$1613
Name AnaplanRowHeader_c4cb70b2_6598_4c0e_aa8c_9c4deb501a87: PL!$R$11:$R$1613
Name AnaplanRowHeader_c4cb70b2_6598_4c0e_aa8c_9c4deb501a87: Previous!$Q$11:$Q$1596

Sheet Instruction
A1: Instruction for FY23 BT Package
A3: 1. Contents | H3: Plan | I3: Actual | J3: Forecast
B4: "PL" sheet
C5: 1. P/L (1) - Overview | H5: Y | I5: Y | J5: Y
C6: 2. P/L (2) - Overview by BU | H6: Y | I6: Y | J6: Y
C7: ・・・ | H7: Y | I7: Y | J7: Y
C8: 2-3. Sales/GP Details by BU | H8: Y | I8: Y | J8: N
C9: 3. Headcount | H9: Y | I9: Y | J9: Y
C10: 4. Inventories | H10: Y | I10: Y | J10: Y
C11: 5. One Rate | H11: Y | I11: Y | J11: Y
C12: 6. Purchase | H12: Y | I12: Y | J12: Y
C13: 7. CX2 | H13: Y | I13: Y | J13: N
C14: 8. Rolling forecast only | H14: N | I14: N | J14: Y
C15: ・・・ | H15: N | I15: N | J15: Y
C16: 8-5. Open Orders amount of sales orders | H16: N | I16: N | J16: N
C17: 9. Other segments: BIC, IIS(Mobotix and DM) | H17: Y | I17: Y | J17: Y
B18: "FP" sheet
C19: 1. Investment | H19: Y | I19: N | J19: Y
C20: 2. Financial position | H20: Y | I20: N | J20: N
C21: 3. FP related information | H21: Y | I21: N | J21: N
C22: 4. Cash Flow (Automatic Calculation) | H22: Y | I22: N | J22: N
A25: 2. Submission
B26: Uploading to Anaplan will change from FY22. The simple guide is as follows, but please refer to the separate manual for the detailed operation.
B27: ** If #1 & #2 below are unsuccessful, skip #1 & #2 and proceed to #3 **
B29: 1. Upload to Anaplan from Excel | H29: Command in "Anaplan" tab in Excel file
C30: 1-1 | D30: Open BT-Package file | H30: -
D31: Sign In to Anaplan | H31: Sign In
D32: Select your company and refresh data | H32: Refresh
C33: 1-1 | D33: Input data | H33: - | K33: Formulas are possible, but please do not refer to formulas from other excel files
C34: 1-2 | D34: Upload by Excel sheet | H34: Send and Refresh -> Submit
E35: PL sheet | F35: FP sheet
D36: Actual | E36: Upload | F36: - | G36: Once
D37: Forecast | E37: Upload | F37: Upload | G37: Twice | K37: Please note that Rolling forecast requires to upload "PL" sheet & "FP" sheet respectively!!
B39: 2. Change status in Anaplan(Web) | H39: Command in Anaplan(Web)
C40: 2-0 | D40: Logon to Anaplan | H40: URL for SSO User: [E-mail address domain is “@konicaminolta.com”]
I41: https://sdp.anaplan.com/frontdoor/saml/konicasaml | O41: *If the jump from the URL fails, enter it directly in your browser
H42: URL for Password User: [E-mail address domain other than “@konicaminolta.com”]
I43: https://us1a.app.anaplan.com/frontdoor
D45: Open the menu | H45: refer to below
E46: Anaplan menu
...

Sheet Due date
A1: Due date of FY23 submission
D3: Due date of Unit Report | F3: Due date of BT-Package | H3: Due date of CEO Report | J3: Reference: Stravis-Link
H4: [BUS/BEU/KMJ/BCN/BHK/BSA/BAU/BIN]
C5: Reporting Period | D5: Due date of Unit Report | F5: Due date of BT-Package | H5: Due date of CEO Report | J5: Due date of Stravis-Link
B6: 1st Month | C6: April, 2023 | D6: May 5, 2023 (Japan: May 9, 2023) | F6: May 8, 2023 (Japan: May 10, 2023) | H6: May 12, 2023 (Japan: May 16, 2023) | J6: May 8, 2023 (Japan: May 10, 2023)
B7: 2nd Month | C7: May, 2023 | D7: 45083 | F7: 45084 | H7: 45090 | J7: 45084
B8: 3rd Month | C8: Jun, 2023 | D8: July 6, 2023 (US: July 7, 2023) | F8: 45117 | H8: July 14, 2023 (US: July 17, 2023) | J8: 45117
B9: 4th Month | C9: July, 2023 | D9: 45142 | F9: August 8, 2023 (Japan: August 10, 2023) | H9: August 14, 2023 (Japan: August 17, 2023) | J9: August 8, 2023 (Japan: August 10, 2023)
B10: 5th Month | C10: August, 2023 | D10: September 6, 2023 (US: September 7, 2023) | F10: September 7, 2023 (US: September 8, 2023) | H10: September 13, 2023 (US: September 14, 2023) | J10: September 7, 2023 (US: September 8, 2023)
B11: 6th Month | C11: September, 2023 | D11: 45204 | F11: October 9, 2023 (Japan: October 10, 2023) | H11: October 13, 2023 (Japan: October 16, 2023) | J11: October 9, 2023 (Japan: October 10, 2023)
B12: 7th Month | C12: October, 2023 | D12: November 6, 2023 (Japan: November 7, 2023) | F12: November 7, 2023 (Japan: November 8, 2023) | H12: 45243 | J12: November 7, 2023 (Japan: November 8, 2023)
B13: 8th Month | C13: November, 2023 | D13: 45266 | F13: 45267 | H13: 45273 | J13: 45267
B14: 9th Month | C14: December, 2023 | D14: January 5, 2024 (Japan: January 10, 2024) | F14: January 10, 2024 (Japan: January 12, 2024) | H14: January 16, 2024 (Japan: January 17, 2024) | J14: January 10, 2024 (Japan: January 11, 2024)
B15: 10th Month | C15: January, 2024 | D15: 45328 | F15: 45329 | H15: 45335 | J15: 45329
B16: 11th Month | C16: February, 2024 | D16: 45357 | F16: 45358 | H16: 45364 | J16: 45358
B17: 12th Month | C17: March, 2024 | D17: 45386 | F17: 45391 | H17: 45397 | J17: TBD
B20: [BBR Only]
C21: Reporting Period | D21: Due date of Unit Report | F21: Due date of BT-Package | J21: Due date of Stravis-Link
B22: 1st Month | C22: Apr, 2023 | D22: 45047 | F22: 45047 | J22: 45047
B23: 2nd Month | C23: May, 2023 | D23: 45078 | F23: 45078 | J23: 45078
B24: 3rd Month | C24: Jun, 2023 | D24: 45110 | F24: 45110 | J24: 45110
B25: 4th Month | C25: Jul, 2023 | D25: 45139 | F25: 45139 | J25: 45139
B26: 5th Month | C26: Aug, 2023 | D26: 45170 | F26: 45170 | J26: 45170
B27: 6th Month | C27: Sep, 2023 | D27: 45201 | F27: 45201 | J27: 45201
B28: 7th Month | C28: Oct, 2023 | D28: 45231 | F28: 45231 | J28: 45231
B29: 8th Month | C29: Nov, 2023 | D29: 45261 | F29: 45261 | J29: 45261
B30: 9th Month | C30: Dec, 2023 | D30: 45294 | F30: 45294 | J30: 45294
B31: 10th Month | C31: Jan, 2024 | D31: 45323 | F31: 45323 | J31: 45323
B32: 11th Month | C32: Feb, 2024 | D32: 45352 | F32: 45352 | J32: 45352
B33: 12th Month | C33: Mar, 2024 | D33: 45383 | F33: 45383 | J33: TBD

Sheet PL
AN1: 'OP'! | AQ1: 'Previous'! | AV1: =AN1 -> 'OP'! | AY1: =AQ1 -> 'Previous'! | BD1: =AN1 -> 'OP'! | BG1: =AQ1 -> 'Previous'!
AM2: =VLOOKUP($AM$7,Work1!$F$6:$I$17,2,0) -> S | AN2: =VLOOKUP($AM$7,Work1!$F$6:$I$17,3,0) -> X | AQ2: =VLOOKUP($AM$7,Work1!$F$6:$I$17,4,0) -> R | AU2: =VLOOKUP($AM$7,Work1!$K$6:$Q$17,2,0) -> S | AV2: =VLOOKUP($AM$7,Work1!$K$6:$Q$17,3,0) -> X | AY2: =VLOOKUP($AM$7,Work1!$K$6:$Q$17,4,0) -> R | BC2: =VLOOKUP($AM$7,Work1!$K$6:$Q$17,5,0) -> S | BD2: =VLOOKUP($AM$7,Work1!$K$6:$Q$17,6,0) -> X | BG2: =VLOOKUP($AM$7,Work1!$K$6:$Q$17,7,0) -> R
AM3: =AM2 -> S | AN3: =AN2 -> X | AQ3: =AQ2 -> R | AU3: =VLOOKUP($AM$7,Work1!$K$22:$Q$33,2,0) -> S | AV3: =VLOOKUP($AM$7,Work1!$K$22:$Q$33,3,0) -> X | AY3: =VLOOKUP($AM$7,Work1!$K$22:$Q$33,4,0) -> R | BC3: =VLOOKUP($AM$7,Work1!$K$22:$Q$33,5,0) -> S | BD3: =VLOOKUP($AM$7,Work1!$K$22:$Q$33,6,0) -> X | BG3: =VLOOKUP($AM$7,Work1!$K$22:$Q$33,7,0) -> R
A4: FY22 | C4: FY23 OP | F4: FY2023 Actual ver1.0 | Q4: BIN | R4: Last Refresh: 2023/04/10 13:51:13 | S4: (Unit:1000LC) | AM4: vs OP / vs FY22 | AQ4: Please copy&paste "OP" sheet and "Previous" sheet as they are
R5: BT Global Management
E6: RF | J6: =VLOOKUP(Q4,Work1!C6:D32,2,0) -> K_INR | M6: (Unit:1000LC) | Q6: Input fields | R6: data - Plan & Actual Pkg : Monthly | S6: =R4 -> Last Refresh: 2023/04/10 13:51:13 | AM6: Select period (1-12)
Q7: Input fields, but not affect PL | R7: for FY23 PL Actual Excel Input | S7: =IF(S12="","","Last Send and Refresh:"&TEXT(S12," YYYY/MM/DD HH:MM:SS")) -> Last Send and Refresh: 2023/04/10 13:50:31 | AM7: 1 | AN7: ex. Apr ->1, Feb ->2 ,,,Mar ->12 *BBR: Jan ->1, Feb ->2 ,,,Dec ->12
H8: 1. P/L (1) - Overview | R8: Sales Company - BUS
I9: 1-1. P/L Statement | R9: Scenario : 01-2 - Actual | AM9: single month | AU9: Quarter (QTD) | BC9: Annual Year (YTD)
S10: =CHOOSE(2, "5450160030", "Apr 23") -> Apr 23 | T10: =CHOOSE(2, "5450460031", "May 23") -> May 23 | U10: =CHOOSE(2, "5450770030", "Jun 23") -> Jun 23 | V10: =CHOOSE(2, "5451070031", "Jul 23") -> Jul 23 | W10: =CHOOSE(2, "5451380031", "Aug 23") -> Aug 23 | X10: =CHOOSE(2, "5451690030", "Sep 23") -> Sep 23 | Y10: =CHOOSE(2, "5451990031", "Oct 23") -> Oct 23 | Z10: =CHOOSE(2, "5452300030", "Nov 23") -> Nov 23 | AA10: =CHOOSE(2, "5452600031", "Dec 23") -> Dec 23 | AB10: =CHOOSE(2, "5452910031", "Jan 24") -> Jan 24 | AC10: =CHOOSE(2, "5453220029", "Feb 24") -> Feb 24 | AD10: =CHOOSE(2, "5453510031", "Mar 24") -> Mar 24
E11: RF | F11: RF | R11: =CHOOSE(2, "6722000002631", "1. P/L (1) - Overview") -> 1. P/L (1) - Overview | S11: =NOW() -> 45391.855
E12: RF | F12: RF | R12: =CHOOSE(2, "6722000002630", "1-1. P/L Statement") -> 1-1. P/L Statement | S12: 2023/04/10 13:50:31
E13: RF | R13: =CHOOSE(2, "6722000002629", "▷ Blank 0") -> ▷ Blank 0 | S13: =IF($Q$4="BBR",Work1!D2, Work1!D3) -> 45017 | T13: =DATE(YEAR(S13),MONTH(S13)+1,DAY(S13)) -> 45047 | U13: =DATE(YEAR(T13),MONTH(T13)+1,DAY(T13)) -> 45078 | V13: =DATE(YEAR(U13),MONTH(U13)+1,DAY(U13)) -> 45108 | W13: =DATE(YEAR(V13),MONTH(V13)+1,DAY(V13)) -> 45139 | X13: =DATE(YEAR(W13),MONTH(W13)+1,DAY(W13)) -> 45170 | Y13: =DATE(YEAR(X13),MONTH(X13)+1,DAY(X13)) -> 45200 | Z13: =DATE(YEAR(Y13),MONTH(Y13)+1,DAY(Y13)) -> 45231 | AA13: =DATE(YEAR(Z13),MONTH(Z13)+1,DAY(Z13)) -> 45261 | ... AD13: =DATE(YEAR(AC13),MONTH(AC13)+1,DAY(AC13)) -> 45352 | AE13: Q1 | AF13: Q2 | AG13: Q3 | AH13: Q4 | AI13: 1st H | AJ13: 2nd H | AK13: FY23 | AM13: Result | AN13: OP | AO13: vs OP | AP13: % | AQ13: FY22 | AR13: vs FY22 | AS13: % | AU13: Result | AV13: OP | AW13: vs OP | AX13: % | AY13: FY22 | AZ13: vs FY22 | BA13: % | BC13: Result | BD13: OP | BE13: vs OP | BF13: % | BG13: FY22 | BH13: vs FY22 | BI13: %
A14: 14 | B14: 1 | C14: 14 | D14: 1 | E14: RF | J14: Net Sales | R14: =CHOOSE(2, "6722000002628", "PL Statement Net Sales") -> PL Statement Net Sales | S14: =S79+S353+S154+S208+S290 -> 1110462 | T14: =T79+T353+T154+T208+T290 -> 995339.46 | U14: =U79+U353+U154+U208+U290 -> 906113.29 | V14: =V79+V353+V154+V208+V290 -> 844507.3 | W14: =W79+W353+W154+W208+W290 -> 986309.26 | X14: =X79+X353+X154+X208+X290 -> 1071798.6 | Y14: =Y79+Y353+Y154+Y208+Y290 -> 907524.4 | Z14: =Z79+Z353+Z154+Z208+Z290 -> 899943.86 | ... AD14: =AD79+AD353+AD154+AD208+AD290 -> 1004203.1 | AE14: =SUM(S14,T14,U14) -> 3011914.8 | AF14: =SUM(V14,W14,X14) -> 2902615.2 | AG14: =SUM(Y14,Z14,AA14) -> 2764458.9 | AH14: =SUM(AB14,AC14,AD14) -> 3013872.3 | AI14: =AE14+AF14 -> 5914529.9 | AJ14: =AH14+AG14 -> 5778331.2 | AK14: =AI14+AJ14 -> 11692861 | AM14: =SUM((INDIRECT(AM$2&(ROW())):INDIRECT(AM$3&(ROW())))) -> 1110462 | AN14: =SUM(INDIRECT(AN$1&AN$2&$C14):INDIRECT(AN$1&AN$3&$C14)) -> 941049.21 | AO14: =AM14-AN14 -> 169412.79 | AP14: =IFERROR(AM14/AN14,0) -> 1.1800254 | AQ14: =SUM(INDIRECT(AQ$1&AQ$2&$A14):INDIRECT(AQ$1&AQ$3&$A14))+SUM(INDIRECT(AQ$1&AQ$2&$B14):INDIRECT(AQ$1&AQ$3&$B14)) -> 649255 | AR14: =AM14-AQ14 -> 461207 | AS14: =IFERROR(AM14/AQ14,0) -> 1.7103634 | AU14: =SUM((INDIRECT(AU$2&(ROW())):INDIRECT(AU$3&(ROW())))) -> 1110462 | AV14: =SUM(INDIRECT(AV$1&AV$2&$C14):INDIRECT(AV$1&AV$3&$C14)) -> 941049.21 | AW14: =AU14-AV14 -> 169412.79 | AX14: =IFERROR(AU14/AV14,0) -> 1.1800254 | AY14: =SUM(INDIRECT(AY$1&AY$2&$A14):INDIRECT(AY$1&AY$3&$A14))+SUM(INDIRECT(AY$1&AY$2&$B14):INDIRECT(AY$1&AY$3&$B14)) -> 649255 | AZ14: =AU14-AY14 -> 461207 | BA14: =IFERROR(AU14/AY14,0) -> 1.7103634 | BC14: =SUM((INDIRECT(BC$2&(ROW())):INDIRECT(BC$3&(ROW())))) -> 1110462 | BD14: =SUM(INDIRECT(BD$1&BD$2&$C14):INDIRECT(BD$1&BD$3&$C14)) -> 941049.21 | BE14: =BC14-BD14 -> 169412.79 | BF14: =IFERROR(BC14/BD14,0) -> 1.1800254 | BG14: =SUM(INDIRECT(BG$1&BG$2&$A14):INDIRECT(BG$1&BG$3&$A14))+SUM(INDIRECT(BG$1&BG$2&$B14):INDIRECT(BG$1&BG$3&$B14)) -> 649255 | BH14: =BC14-BG14 -> 461207 | BI14: =IFERROR(BC14/BG14,0) -> 1.7103634
A15: =A14+1 -> 15 | B15: 1 | C15: =C14+1 -> 15 | D15: 1 | E15: RF | J15: BT Consolidated Sales | R15: =CHOOSE(2, "6722000002627", "PL Statement BT Cons. Sales") -> PL Statement BT Cons. Sales | S15: =S80+S363+S159+S223+S300 -> 1110462 | T15: =T80+T363+T159+T223+T300 -> 995340.14 | U15: =U80+U363+U159+U223+U300 -> 906113.29 | V15: =V80+V363+V159+V223+V300 -> 844507.71 | W15: =W80+W363+W159+W223+W300 -> 986308.97 | X15: =X80+X363+X159+X223+X300 -> 1071798.8 | Y15: =Y80+Y363+Y159+Y223+Y300 -> 907524.14 | Z15: =Z80+Z363+Z159+Z223+Z300 -> 899943.86 | ... AD15: =AD80+AD363+AD159+AD223+AD300 -> 1004203.1 | AE15: =SUM(S15,T15,U15) -> 3011915.4 | AF15: =SUM(V15,W15,X15) -> 2902615.4 | AG15: =SUM(Y15,Z15,AA15) -> 2764458.6 | AH15: =SUM(AB15,AC15,AD15) -> 3013872.3 | AI15: =AE15+AF15 -> 5914530.9 | AJ15: =AH15+AG15 -> 5778330.9 | AK15: =AI15+AJ15 -> 11692862 | AM15: =SUM((INDIRECT(AM$2&(ROW())):INDIRECT(AM$3&(ROW())))) -> 1110462 | AN15: =SUM(INDIRECT(AN$1&AN$2&$C15):INDIRECT(AN$1&AN$3&$C15)) -> 941049.21 | AO15: =AM15-AN15 -> 169412.79 | AP15: =IFERROR(AM15/AN15,0) -> 1.1800254 | AQ15: =SUM(INDIRECT(AQ$1&AQ$2&$A15):INDIRECT(AQ$1&AQ$3&$A15))+SUM(INDIRECT(AQ$1&AQ$2&$B15):INDIRECT(AQ$1&AQ$3&$B15)) -> 648073 | AR15: =AM15-AQ15 -> 462389 | AS15: =IFERROR(AM15/AQ15,0) -> 1.7134829 | AU15: =SUM((INDIRECT(AU$2&(ROW())):INDIRECT(AU$3&(ROW())))) -> 1110462 | AV15: =SUM(INDIRECT(AV$1&AV$2&$C15):INDIRECT(AV$1&AV$3&$C15)) -> 941049.21 | AW15: =AU15-AV15 -> 169412.79 | AX15: =IFERROR(AU15/AV15,0) -> 1.1800254 | AY15: =SUM(INDIRECT(AY$1&AY$2&$A15):INDIRECT(AY$1&AY$3&$A15))+SUM(INDIRECT(AY$1&AY$2&$B15):INDIRECT(AY$1&AY$3&$B15)) -> 648073 | AZ15: =AU15-AY15 -> 462389 | BA15: =IFERROR(AU15/AY15,0) -> 1.7134829 | BC15: =SUM((INDIRECT(BC$2&(ROW())):INDIRECT(BC$3&(ROW())))) -> 1110462 | BD15: =SUM(INDIRECT(BD$1&BD$2&$C15):INDIRECT(BD$1&BD$3&$C15)) -> 941049.21 | BE15: =BC15-BD15 -> 169412.79 | BF15: =IFERROR(BC15/BD15,0) -> 1.1800254 | BG15: =SUM(INDIRECT(BG$1&BG$2&$A15):INDIRECT(BG$1&BG$3&$A15))+SUM(INDIRECT(BG$1&BG$2&$B15):INDIRECT(BG$1&BG$3&$B15)) -> 648073 | BH15: =BC15-BG15 -> 462389 | BI15: =IFERROR(BC15/BG15,0) -> 1.7134829
A16: =A15+1 -> 16 | B16: 1 | C16: =C15+1 -> 16 | D16: 1 | E16: RF | J16: Cost of Sales | R16: =CHOOSE(2, "6722000002626", "PL Statement Cost of Sales") -> PL Statement Cost of Sales | S16: =S14-S17 -> 705289 | T16: =T14-T17 -> 684483.68 | U16: =U14-U17 -> 622030.69 | V16: =V14-V17 -> 582012.76 | W16: =W14-W17 -> 696271.07 | X16: =X14-X17 -> 733242.62 | Y16: =Y14-Y17 -> 634209.72 | Z16: =Z14-Z17 -> 580906.96 | ... AD16: =AD14-AD17 -> 724852.6 | AE16: =SUM(S16,T16,U16) -> 2011803.4 | AF16: =SUM(V16,W16,X16) -> 2011526.5 | AG16: =SUM(Y16,Z16,AA16) -> 1859414.1 | AH16: =SUM(AB16,AC16,AD16) -> 2030943.2 | AI16: =AE16+AF16 -> 4023329.8 | AJ16: =AH16+AG16 -> 3890357.4 | AK16: =AI16+AJ16 -> 7913687.2 | AM16: =SUM((INDIRECT(AM$2&(ROW())):INDIRECT(AM$3&(ROW())))) -> 705289 | AN16: =SUM(INDIRECT(AN$1&AN$2&$C16):INDIRECT(AN$1&AN$3&$C16)) -> 602625.68 | AO16: =AM16-AN16 -> 102663.32 | AP16: =IFERROR(AM16/AN16,0) -> 1.17036 | AQ16: =SUM(INDIRECT(AQ$1&AQ$2&$A16):INDIRECT(AQ$1&AQ$3&$A16))+SUM(INDIRECT(AQ$1&AQ$2&$B16):INDIRECT(AQ$1&AQ$3&$B16)) -> 442381 | AR16: =AM16-AQ16 -> 262908 | AS16: =IFERROR(AM16/AQ16,0) -> 1.5943022 | AU16: =SUM((INDIRECT(AU$2&(ROW())):INDIRECT(AU$3&(ROW())))) -> 705289 | AV16: =SUM(INDIRECT(AV$1&AV$2&$C16):INDIRECT(AV$1&AV$3&$C16)) -> 602625.68 | AW16: =AU16-AV16 -> 102663.32 | AX16: =IFERROR(AU16/AV16,0) -> 1.17036 | AY16: =SUM(INDIRECT(AY$1&AY$2&$A16):INDIRECT(AY$1&AY$3&$A16))+SUM(INDIRECT(AY$1&AY$2&$B16):INDIRECT(AY$1&AY$3&$B16)) -> 442381 | AZ16: =AU16-AY16 -> 262908 | BA16: =IFERROR(AU16/AY16,0) -> 1.5943022 | BC16: =SUM((INDIRECT(BC$2&(ROW())):INDIRECT(BC$3&(ROW())))) -> 705289 | BD16: =SUM(INDIRECT(BD$1&BD$2&$C16):INDIRECT(BD$1&BD$3&$C16)) -> 602625.68 | BE16: =BC16-BD16 -> 102663.32 | BF16: =IFERROR(BC16/BD16,0) -> 1.17036 | BG16: =SUM(INDIRECT(BG$1&BG$2&$A16):INDIRECT(BG$1&BG$3&$A16))+SUM(INDIRECT(BG$1&BG$2&$B16):INDIRECT(BG$1&BG$3&$B16)) -> 442381 | BH16: =BC16-BG16 -> 262908 | BI16: =IFERROR(BC16/BG16,0) -> 1.5943022
A17: =A16+1 -> 17 | B17: 1 | C17: =C16+1 -> 17 | D17: 1 | E17: RF | J17: Gross Profit | R17: =CHOOSE(2, "6722000002625", "PL Statement Gross Profit") -> PL Statement Gross Profit | S17: =S81+S373+S176+S238+S310 -> 405173 | T17: =T81+T373+T176+T238+T310 -> 310855.78 | U17: =U81+U373+U176+U238+U310 -> 284082.61 | V17: =V81+V373+V176+V238+V310 -> 262494.54 | W17: =W81+W373+W176+W238+W310 -> 290038.19 | X17: =X81+X373+X176+X238+X310 -> 338555.99 | Y17: =Y81+Y373+Y176+Y238+Y310 -> 273314.68 | Z17: =Z81+Z373+Z176+Z238+Z310 -> 319036.9 | ... AD17: =AD81+AD373+AD176+AD238+AD310 -> 279350.53 | AE17: =SUM(S17,T17,U17) -> 1000111.4 | AF17: =SUM(V17,W17,X17) -> 891088.71 | AG17: =SUM(Y17,Z17,AA17) -> 905044.76 | AH17: =SUM(AB17,AC17,AD17) -> 982929.09 | AI17: =AE17+AF17 -> 1891200.1 | AJ17: =AH17+AG17 -> 1887973.9 | AK17: =AI17+AJ17 -> 3779174 | AM17: =SUM((INDIRECT(AM$2&(ROW())):INDIRECT(AM$3&(ROW())))) -> 405173 | AN17: =SUM(INDIRECT(AN$1&AN$2&$C17):INDIRECT(AN$1&AN$3&$C17)) -> 338423.53 | AO17: =AM17-AN17 -> 66749.474 | AP17: =IFERROR(AM17/AN17,0) -> 1.1972365 | AQ17: =SUM(INDIRECT(AQ$1&AQ$2&$A17):INDIRECT(AQ$1&AQ$3&$A17))+SUM(INDIRECT(AQ$1&AQ$2&$B17):INDIRECT(AQ$1&AQ$3&$B17)) -> 206874 | AR17: =AM17-AQ17 -> 198299 | AS17: =IFERROR(AM17/AQ17,0) -> 1.9585496 | AU17: =SUM((INDIRECT(AU$2&(ROW())):INDIRECT(AU$3&(ROW())))) -> 405173 | AV17: =SUM(INDIRECT(AV$1&AV$2&$C17):INDIRECT(AV$1&AV$3&$C17)) -> 338423.53 | AW17: =AU17-AV17 -> 66749.474 | AX17: =IFERROR(AU17/AV17,0) -> 1.1972365 | AY17: =SUM(INDIRECT(AY$1&AY$2&$A17):INDIRECT(AY$1&AY$3&$A17))+SUM(INDIRECT(AY$1&AY$2&$B17):INDIRECT(AY$1&AY$3&$B17)) -> 206874 | AZ17: =AU17-AY17 -> 198299 | BA17: =IFERROR(AU17/AY17,0) -> 1.9585496 | BC17: =SUM((INDIRECT(BC$2&(ROW())):INDIRECT(BC$3&(ROW())))) -> 405173 | BD17: =SUM(INDIRECT(BD$1&BD$2&$C17):INDIRECT(BD$1&BD$3&$C17)) -> 338423.53 | BE17: =BC17-BD17 -> 66749.474 | BF17: =IFERROR(BC17/BD17,0) -> 1.1972365 | BG17: =SUM(INDIRECT(BG$1&BG$2&$A17):INDIRECT(BG$1&BG$3&$A17))+SUM(INDIRECT(BG$1&BG$2&$B17):INDIRECT(BG$1&BG$3&$B17)) -> 206874 | BH17: =BC17-BG17 -> 198299 | BI17: =IFERROR(BC17/BG17,0) -> 1.9585496
A18: =A17+1 -> 18 | B18: 1 | C18: =C17+1 -> 18 | D18: 1 | E18: RF | Q18: (%) | R18: =CHOOSE(2, "6722000002624", "PL Statement Gross Profit (%)") -> PL Statement Gross Profit (%) | S18: =IFERROR(S17/S14,0) -> 0.36486886 | T18: =IFERROR(T17/T14,0) -> 0.31231132 | U18: =IFERROR(U17/U14,0) -> 0.31351776 | V18: =IFERROR(V17/V14,0) -> 0.31082566 | W18: =IFERROR(W17/W14,0) -> 0.29406414 | X18: =IFERROR(X17/X14,0) -> 0.3158765 | Y18: =IFERROR(Y17/Y14,0) -> 0.3011651 | Z18: =IFERROR(Z17/Z14,0) -> 0.35450756 | ... AK18: =IFERROR(AK17/AK14,0) -> 0.32320353 | AM18: =IFERROR(AM17/AM14,0) -> 0.36486886 | AN18: =IFERROR(AN17/AN14,0) -> 0.35962362 | AO18: =AM18-AN18 -> 0.0052452336 | AQ18: =IFERROR(AQ17/AQ14,0) -> 0.31863289 | AR18: =AM18-AQ18 -> 0.046235962 | AU18: =IFERROR(AU17/AU14,0) -> 0.36486886 | AV18: =IFERROR(AV17/AV14,0) -> 0.35962362 | AW18: =AU18-AV18 -> 0.0052452336 | AY18: =IFERROR(AY17/AY14,0) -> 0.31863289 | AZ18: =AU18-AY18 -> 0.046235962 | BC18: =IFERROR(BC17/BC14,0) -> 0.36486886 | BD18: =IFERROR(BD17/BD14,0) -> 0.35962362 | BE18: =BC18-BD18 -> 0.0052452336 | BG18: =IFERROR(BG17/BG14,0) -> 0.31863289 | BH18: =BC18-BG18 -> 0.046235962
A19: =A18+1 -> 19 | B19: 1 | C19: =C18+1 -> 19 | D19: 1 | E19: RF | J19: SGA Expenses | R19: =CHOOSE(2, "6722000002623", "PL Statement SGA") -> PL Statement SGA | S19: =S21+S22+S23 -> 260707.81 | T19: =T21+T22+T23 -> 226573.2 | U19: =U21+U22+U23 -> 197639.74 | V19: =V21+V22+V23 -> 188320.64 | W19: =W21+W22+W23 -> 207707.18 | X19: =X21+X22+X23 -> 226229.85 | Y19: =Y21+Y22+Y23 -> 183224.49 | Z19: =Z21+Z22+Z23 -> 240369.14 | ... AD19: =AD21+AD22+AD23 -> 185329.46 | AE19: =SUM(S19,T19,U19) -> 684920.75 | AF19: =SUM(V19,W19,X19) -> 622257.67 | AG19: =SUM(Y19,Z19,AA19) -> 659122.67 | AH19: =SUM(AB19,AC19,AD19) -> 704426.66 | AI19: =AE19+AF19 -> 1307178.4 | AJ19: =AH19+AG19 -> 1363549.3 | AK19: =AI19+AJ19 -> 2670727.7 | AM19: =SUM((INDIRECT(AM$2&(ROW())):INDIRECT(AM$3&(ROW())))) -> 260707.81 | AN19: =SUM(INDIRECT(AN$1&AN$2&$C19):INDIRECT(AN$1&AN$3&$C19)) -> 195944.54 | AO19: =AM19-AN19 -> 64763.274 | AP19: =IFERROR(AM19/AN19,0) -> 1.3305184 | AQ19: =SUM(INDIRECT(AQ$1&AQ$2&$A19):INDIRECT(AQ$1&AQ$3&$A19))+SUM(INDIRECT(AQ$1&AQ$2&$B19):INDIRECT(AQ$1&AQ$3&$B19)) -> 162497 | AR19: =AM19-AQ19 -> 98210.809 | AS19: =IFERROR(AM19/AQ19,0) -> 1.6043854 | AU19: =SUM((INDIRECT(AU$2&(ROW())):INDIRECT(AU$3&(ROW())))) -> 260707.81 | AV19: =SUM(INDIRECT(AV$1&AV$2&$C19):INDIRECT(AV$1&AV$3&$C19)) -> 195944.54 | AW19: =AU19-AV19 -> 64763.274 | AX19: =IFERROR(AU19/AV19,0) -> 1.3305184 | AY19: =SUM(INDIRECT(AY$1&AY$2&$A19):INDIRECT(AY$1&AY$3&$A19))+SUM(INDIRECT(AY$1&AY$2&$B19):INDIRECT(AY$1&AY$3&$B19)) -> 162497 | AZ19: =AU19-AY19 -> 98210.809 | BA19: =IFERROR(AU19/AY19,0) -> 1.6043854 | BC19: =SUM((INDIRECT(BC$2&(ROW())):INDIRECT(BC$3&(ROW())))) -> 260707.81 | BD19: =SUM(INDIRECT(BD$1&BD$2&$C19):INDIRECT(BD$1&BD$3&$C19)) -> 195944.54 | BE19: =BC19-BD19 -> 64763.274 | BF19: =IFERROR(BC19/BD19,0) -> 1.3305184 | BG19: =SUM(INDIRECT(BG$1&BG$2&$A19):INDIRECT(BG$1&BG$3&$A19))+SUM(INDIRECT(BG$1&BG$2&$B19):INDIRECT(BG$1&BG$3&$B19)) -> 162497 | BH19: =BC19-BG19 -> 98210.809 | BI19: =IFERROR(BC19/BG19,0) -> 1.6043854
A20: =A19+1 -> 20 | B20: 1 | C20: =C19+1 -> 20 | D20: 1 | E20: RF | Q20: (%) | R20: =CHOOSE(2, "6722000002622", "PL Statement SGA (%)") -> PL Statement SGA (%) | S20: =IFERROR(S19/S14,0) -> 0.23477418 | T20: =IFERROR(T19/T14,0) -> 0.2276341 | U20: =IFERROR(U19/U14,0) -> 0.21811813 | V20: =IFERROR(V19/V14,0) -> 0.22299469 | W20: =IFERROR(W19/W14,0) -> 0.21059032 | X20: =IFERROR(X19/X14,0) -> 0.21107496 | Y20: =IFERROR(Y19/Y14,0) -> 0.20189483 | Z20: =IFERROR(Z19/Z14,0) -> 0.26709348 | ... AK20: =IFERROR(AK19/AK14,0) -> 0.22840669 | AM20: =INDIRECT(AM$2&ROW()) -> 0.23477418 | AN20: =IFERROR(AN19/AN14,0) -> 0.20821922 | AO20: =AM20-AN20 -> 0.02655496 | AQ20: =IFERROR(AQ19/AQ14,0) -> 0.25028225 | AR20: =AM20-AQ20 -> -0.015508063 | AU20: =INDIRECT(AU$2&ROW()) -> 0.23477418 | AV20: =IFERROR(AV19/AV14,0) -> 0.20821922 | AW20: =AU20-AV20 -> 0.02655496 | AY20: =IFERROR(AY19/AY14,0) -> 0.25028225 | AZ20: =AU20-AY20 -> -0.015508063 | BC20: =IFERROR(BC19/BC14,0) -> 0.23477418 | BD20: =IFERROR(BD19/BD14,0) -> 0.20821922 | BE20: =BC20-BD20 -> 0.02655496 | BG20: =IFERROR(BG19/BG14,0) -> 0.25028225 | BH20: =BC20-BG20 -> -0.015508063
A21: =A20+1 -> 21 | B21: 1 | C21: =C20+1 -> 21 | D21: 1 | E21: RF | K21: Variable Expenses | R21: =CHOOSE(2, "6722000002621", "PL Statement SGA Variable Expenses") -> PL Statement SGA Variable Expenses | S21: =S83+S187+S269+S332+S394 -> 86966.52 | T21: =T83+T187+T269+T332+T394 -> 58635.766 | U21: =U83+U187+U269+U332+U394 -> 111747.63 | V21: =V83+V187+V269+V332+V394 -> 67890.918 | W21: =W83+W187+W269+W332+W394 -> 86236.984 | X21: =X83+X187+X269+X332+X394 -> 103191.27 | Y21: =Y83+Y187+Y269+Y332+Y394 -> 65990.168 | Z21: =Z83+Z187+Z269+Z332+Z394 -> 85327.275 | ... AD21: =AD83+AD187+AD269+AD332+AD394 -> 98908.033 | AE21: =SUM(S21,T21,U21) -> 257349.91 | AF21: =SUM(V21,W21,X21) -> 257319.17 | AG21: =SUM(Y21,Z21,AA21) -> 200724.89 | AH21: =SUM(AB21,AC21,AD21) -> 282773.99 | AI21: =AE21+AF21 -> 514669.08 | AJ21: =AH21+AG21 -> 483498.87 | AK21: =AI21+AJ21 -> 998167.96 | AM21: =SUM((INDIRECT(AM$2&(ROW())):INDIRECT(AM$3&(ROW())))) -> 86966.52 | AN21: =SUM(INDIRECT(AN$1&AN$2&$C21):INDIRECT(AN$1&AN$3&$C21)) -> 78754.736 | AO21: =AM21-AN21 -> 8211.7837 | AP21: =IFERROR(AM21/AN21,0) -> 1.1042703 | AQ21: =SUM(INDIRECT(AQ$1&AQ$2&$A21):INDIRECT(AQ$1&AQ$3&$A21))+SUM(INDIRECT(AQ$1&AQ$2&$B21):INDIRECT(AQ$1&AQ$3&$B21)) -> 61663 | AR21: =AM21-AQ21 -> 25303.52 | AS21: =IFERROR(AM21/AQ21,0) -> 1.4103518 | AU21: =SUM((INDIRECT(AU$2&(ROW())):INDIRECT(AU$3&(ROW())))) -> 86966.52 | AV21: =SUM(INDIRECT(AV$1&AV$2&$C21):INDIRECT(AV$1&AV$3&$C21)) -> 78754.736 | AW21: =AU21-AV21 -> 8211.7837 | AX21: =IFERROR(AU21/AV21,0) -> 1.1042703 | AY21: =SUM(INDIRECT(AY$1&AY$2&$A21):INDIRECT(AY$1&AY$3&$A21))+SUM(INDIRECT(AY$1&AY$2&$B21):INDIRECT(AY$1&AY$3&$B21)) -> 61663 | AZ21: =AU21-AY21 -> 25303.52 | BA21: =IFERROR(AU21/AY21,0) -> 1.4103518 | BC21: =SUM((INDIRECT(BC$2&(ROW())):INDIRECT(BC$3&(ROW())))) -> 86966.52 | BD21: =SUM(INDIRECT(BD$1&BD$2&$C21):INDIRECT(BD$1&BD$3&$C21)) -> 78754.736 | BE21: =BC21-BD21 -> 8211.7837 | BF21: =IFERROR(BC21/BD21,0) -> 1.1042703 | BG21: =SUM(INDIRECT(BG$1&BG$2&$A21):INDIRECT(BG$1&BG$3&$A21))+SUM(INDIRECT(BG$1&BG$2&$B21):INDIRECT(BG$1&BG$3&$B21)) -> 61663 | BH21: =BC21-BG21 -> 25303.52 | BI21: =IFERROR(BC21/BG21,0) -> 1.4103518
A22: =A21+1 -> 22 | B22: 1 | C22: =C21+1 -> 22 | D22: 1 | E22: RF | K22: Wages & Salaries | R22: =CHOOSE(2, "6722000002620", "PL Statement SGA Wages & Salaries") -> PL Statement SGA Wages & Salaries | S22: =S84+S188+S270+S333+S395 -> 63320.325 | T22: =T84+T188+T270+T333+T395 -> 70379 | U22: =U84+U188+U270+U333+U395 -> 70105.612 | V22: =V84+V188+V270+V333+V395 -> 65530.81 | W22: =W84+W188+W270+W333+W395 -> 65235.103 | X22: =X84+X188+X270+X333+X395 -> 61425.208 | Y22: =Y84+Y188+Y270+Y333+Y395 -> 63301.379 | Z22: =Z84+Z188+Z270+Z333+Z395 -> 71595.816 | ... AD22: =AD84+AD188+AD270+AD333+AD395 -> 72003.691 | AE22: =SUM(S22,T22,U22) -> 203804.94 | AF22: =SUM(V22,W22,X22) -> 192191.12 | AG22: =SUM(Y22,Z22,AA22) -> 212871.3 | AH22: =SUM(AB22,AC22,AD22) -> 235659.65 | AI22: =AE22+AF22 -> 395996.06 | AJ22: =AH22+AG22 -> 448530.96 | AK22: =AI22+AJ22 -> 844527.02 | AM22: =SUM((INDIRECT(AM$2&(ROW())):INDIRECT(AM$3&(ROW())))) -> 63320.325 | AN22: =SUM(INDIRECT(AN$1&AN$2&$C22):INDIRECT(AN$1&AN$3&$C22)) -> 65931.967 | AO22: =AM22-AN22 -> -2611.6424 | AP22: =IFERROR(AM22/AN22,0) -> 0.96038883 | AQ22: =SUM(INDIRECT(AQ$1&AQ$2&$A22):INDIRECT(AQ$1&AQ$3&$A22))+SUM(INDIRECT(AQ$1&AQ$2&$B22):INDIRECT(AQ$1&AQ$3&$B22)) -> 57082 | AR22: =AM22-AQ22 -> 6238.3246 | AS22: =IFERROR(AM22/AQ22,0) -> 1.1092871 | AU22: =SUM((INDIRECT(AU$2&(ROW())):INDIRECT(AU$3&(ROW())))) -> 63320.325 | AV22: =SUM(INDIRECT(AV$1&AV$2&$C22):INDIRECT(AV$1&AV$3&$C22)) -> 65931.967 | AW22: =AU22-AV22 -> -2611.6424 | AX22: =IFERROR(AU22/AV22,0) -> 0.96038883 | AY22: =SUM(INDIRECT(AY$1&AY$2&$A22):INDIRECT(AY$1&AY$3&$A22))+SUM(INDIRECT(AY$1&AY$2&$B22):INDIRECT(AY$1&AY$3&$B22)) -> 57082 | AZ22: =AU22-AY22 -> 6238.3246 | BA22: =IFERROR(AU22/AY22,0) -> 1.1092871 | BC22: =SUM((INDIRECT(BC$2&(ROW())):INDIRECT(BC$3&(ROW())))) -> 63320.325 | BD22: =SUM(INDIRECT(BD$1&BD$2&$C22):INDIRECT(BD$1&BD$3&$C22)) -> 65931.967 | BE22: =BC22-BD22 -> -2611.6424 | BF22: =IFERROR(BC22/BD22,0) -> 0.96038883 | BG22: =SUM(INDIRECT(BG$1&BG$2&$A22):INDIRECT(BG$1&BG$3&$A22))+SUM(INDIRECT(BG$1&BG$2&$B22):INDIRECT(BG$1&BG$3&$B22)) -> 57082 | BH22: =BC22-BG22 -> 6238.3246 | BI22: =IFERROR(BC22/BG22,0) -> 1.1092871
A23: =A22+1 -> 23 | B23: 1 | C23: =C22+1 -> 23 | D23: 1 | E23: RF | K23: Fixed Expenses | R23: =CHOOSE(2, "6722000002619", "PL Statement SGA Fixed Expenses") -> PL Statement SGA Fixed Expenses | S23: =S85+S189+S271+S334+S396 -> 110420.96 | T23: =T85+T189+T271+T334+T396 -> 97558.434 | U23: =U85+U189+U271+U334+U396 -> 15786.501 | V23: =V85+V189+V271+V334+V396 -> 54898.915 | W23: =W85+W189+W271+W334+W396 -> 56235.094 | X23: =X85+X189+X271+X334+X396 -> 61613.372 | Y23: =Y85+Y189+Y271+Y334+Y396 -> 53932.941 | Z23: =Z85+Z189+Z271+Z334+Z396 -> 83446.046 | ... AD23: =AD85+AD189+AD271+AD334+AD396 -> 14417.735 | AE23: =SUM(S23,T23,U23) -> 223765.9 | AF23: =SUM(V23,W23,X23) -> 172747.38 | AG23: =SUM(Y23,Z23,AA23) -> 245526.48 | AH23: =SUM(AB23,AC23,AD23) -> 185993.01 | AI23: =AE23+AF23 -> 396513.28 | AJ23: =AH23+AG23 -> 431519.5 | AK23: =AI23+AJ23 -> 828032.78 | AM23: =SUM((INDIRECT(AM$2&(ROW())):INDIRECT(AM$3&(ROW())))) -> 110420.96 | AN23: =SUM(INDIRECT(AN$1&AN$2&$C23):INDIRECT(AN$1&AN$3&$C23)) -> 51257.832 | AO23: =AM23-AN23 -> 59163.132 | AP23: =IFERROR(AM23/AN23,0) -> 2.1542262 | AQ23: =SUM(INDIRECT(AQ$1&AQ$2&$A23):INDIRECT(AQ$1&AQ$3&$A23))+SUM(INDIRECT(AQ$1&AQ$2&$B23):INDIRECT(AQ$1&AQ$3&$B23)) -> 43752 | AR23: =AM23-AQ23 -> 66668.964 | AS23: =IFERROR(AM23/AQ23,0) -> 2.5237924 | AU23: =SUM((INDIRECT(AU$2&(ROW())):INDIRECT(AU$3&(ROW())))) -> 110420.96 | AV23: =SUM(INDIRECT(AV$1&AV$2&$C23):INDIRECT(AV$1&AV$3&$C23)) -> 51257.832 | AW23: =AU23-AV23 -> 59163.132 | AX23: =IFERROR(AU23/AV23,0) -> 2.1542262 | AY23: =SUM(INDIRECT(AY$1&AY$2&$A23):INDIRECT(AY$1&AY$3&$A23))+SUM(INDIRECT(AY$1&AY$2&$B23):INDIRECT(AY$1&AY$3&$B23)) -> 43752 | AZ23: =AU23-AY23 -> 66668.964 | BA23: =IFERROR(AU23/AY23,0) -> 2.5237924 | BC23: =SUM((INDIRECT(BC$2&(ROW())):INDIRECT(BC$3&(ROW())))) -> 110420.96 | BD23: =SUM(INDIRECT(BD$1&BD$2&$C23):INDIRECT(BD$1&BD$3&$C23)) -> 51257.832 | BE23: =BC23-BD23 -> 59163.132 | BF23: =IFERROR(BC23/BD23,0) -> 2.1542262 | BG23: =SUM(INDIRECT(BG$1&BG$2&$A23):INDIRECT(BG$1&BG$3&$A23))+SUM(INDIRECT(BG$1&BG$2&$B23):INDIRECT(BG$1&BG$3&$B23)) -> 43752 | BH23: =BC23-BG23 -> 66668.964 | BI23: =IFERROR(BC23/BG23,0) -> 2.5237924
A24: =A23+1 -> 24 | B24: 1 | C24: =C23+1 -> 24 | D24: 1 | E24: RF | J24: Business Contribution Profit | R24: =CHOOSE(2, "6722000002618", "PL Statement BCP") -> PL Statement BCP | S24: =S17-S19 -> 144465.19 | T24: =T17-T19 -> 84282.583 | U24: =U17-U19 -> 86442.869 | V24: =V17-V19 -> 74173.893 | W24: =W17-W19 -> 82331.004 | X24: =X17-X19 -> 112326.14 | Y24: =Y17-Y19 -> 90090.193 | Z24: =Z17-Z19 -> 78667.763 | ... AD24: =AD17-AD19 -> 94021.07 | AE24: =SUM(S24,T24,U24) -> 315190.64 | AF24: =SUM(V24,W24,X24) -> 268831.04 | AG24: =SUM(Y24,Z24,AA24) -> 245922.09 | AH24: =SUM(AB24,AC24,AD24) -> 278502.43 | AI24: =AE24+AF24 -> 584021.68 | AJ24: =AH24+AG24 -> 524424.53 | AK24: =AI24+AJ24 -> 1108446.2 | AM24: =SUM((INDIRECT(AM$2&(ROW())):INDIRECT(AM$3&(ROW())))) -> 144465.19 | AN24: =SUM(INDIRECT(AN$1&AN$2&$C24):INDIRECT(AN$1&AN$3&$C24)) -> 142478.99 | AO24: =AM24-AN24 -> 1986.1999 | AP24: =IFERROR(AM24/AN24,0) -> 1.0139403 | AQ24: =SUM(INDIRECT(AQ$1&AQ$2&$A24):INDIRECT(AQ$1&AQ$3&$A24))+SUM(INDIRECT(AQ$1&AQ$2&$B24):INDIRECT(AQ$1&AQ$3&$B24)) -> 44377 | AR24: =AM24-AQ24 -> 100088.19 | AS24: =IFERROR(AM24/AQ24,0) -> 3.2554069 | AU24: =SUM((INDIRECT(AU$2&(ROW())):INDIRECT(AU$3&(ROW())))) -> 144465.19 | AV24: =SUM(INDIRECT(AV$1&AV$2&$C24):INDIRECT(AV$1&AV$3&$C24)) -> 142478.99 | AW24: =AU24-AV24 -> 1986.1999 | AX24: =IFERROR(AU24/AV24,0) -> 1.0139403 | AY24: =SUM(INDIRECT(AY$1&AY$2&$A24):INDIRECT(AY$1&AY$3&$A24))+SUM(INDIRECT(AY$1&AY$2&$B24):INDIRECT(AY$1&AY$3&$B24)) -> 44377 | AZ24: =AU24-AY24 -> 100088.19 | BA24: =IFERROR(AU24/AY24,0) -> 3.2554069 | BC24: =SUM((INDIRECT(BC$2&(ROW())):INDIRECT(BC$3&(ROW())))) -> 144465.19 | BD24: =SUM(INDIRECT(BD$1&BD$2&$C24):INDIRECT(BD$1&BD$3&$C24)) -> 142478.99 | BE24: =BC24-BD24 -> 1986.1999 | BF24: =IFERROR(BC24/BD24,0) -> 1.0139403 | BG24: =SUM(INDIRECT(BG$1&BG$2&$A24):INDIRECT(BG$1&BG$3&$A24))+SUM(INDIRECT(BG$1&BG$2&$B24):INDIRECT(BG$1&BG$3&$B24)) -> 44377 | BH24: =BC24-BG24 -> 100088.19 | BI24: =IFERROR(BC24/BG24,0) -> 3.2554069
A25: =A24+1 -> 25 | B25: 1 | C25: =C24+1 -> 25 | D25: 1 | E25: RF | Q25: (%) | R25: =CHOOSE(2, "6722000002617", "PL Statement BCP (%)") -> PL Statement BCP (%) | S25: =IFERROR(S24/S14,0) -> 0.13009467 | T25: =IFERROR(T24/T14,0) -> 0.084677224 | U25: =IFERROR(U24/U14,0) -> 0.095399625 | V25: =IFERROR(V24/V14,0) -> 0.087830967 | W25: =IFERROR(W24/W14,0) -> 0.083473823 | X25: =IFERROR(X24/X14,0) -> 0.10480154 | Y25: =IFERROR(Y24/Y14,0) -> 0.099270271 | Z25: =IFERROR(Z24/Z14,0) -> 0.087414078 | ... AK25: =IFERROR(AK24/AK14,0) -> 0.094796833 | AM25: =IFERROR(AM24/AM14,0) -> 0.13009467 | AN25: =IFERROR(AN24/AN14,0) -> 0.1514044 | AO25: =AM25-AN25 -> -0.021309727 | AQ25: =IFERROR(AQ24/AQ14,0) -> 0.068350648 | AR25: =AM25-AQ25 -> 0.061744025 | AU25: =IFERROR(AU24/AU14,0) -> 0.13009467 | AV25: =IFERROR(AV24/AV14,0) -> 0.1514044 | AW25: =AU25-AV25 -> -0.021309727 | AY25: =IFERROR(AY24/AY14,0) -> 0.068350648 | AZ25: =AU25-AY25 -> 0.061744025 | BC25: =IFERROR(BC24/BC14,0) -> 0.13009467 | BD25: =IFERROR(BD24/BD14,0) -> 0.1514044 | BE25: =BC25-BD25 -> -0.021309727 | BG25: =IFERROR(BG24/BG14,0) -> 0.068350648 | BH25: =BC25-BG25 -> 0.061744025
A26: =A25+1 -> 26 | B26: 1 | C26: =C25+1 -> 26 | D26: 1 | E26: RF | J26: Other Income | R26: =CHOOSE(2, "6722000002616", "PL Statement Other Income") -> PL Statement Other Income | S26: =S87+S417+S192+S274+S337 -> 1465 | T26: =T87+T417+T192+T274+T337 -> 3570 | U26: =U87+U417+U192+U274+U337 -> 1463 | V26: =V87+V417+V192+V274+V337 -> 2188 | W26: =W87+W417+W192+W274+W337 -> 1450 | X26: =X87+X417+X192+X274+X337 -> 1389 | Y26: =Y87+Y417+Y192+Y274+Y337 -> 2530.5748 | Z26: =Z87+Z417+Z192+Z274+Z337 -> 2736.2131 | ... AD26: =AD87+AD417+AD192+AD274+AD337 -> 6234.7176 | AE26: =SUM(S26,T26,U26) -> 6498 | AF26: =SUM(V26,W26,X26) -> 5027 | AG26: =SUM(Y26,Z26,AA26) -> 7450.3265 | AH26: =SUM(AB26,AC26,AD26) -> 10159.301 | AI26: =AE26+AF26 -> 11525 | AJ26: =AH26+AG26 -> 17609.627 | AK26: =AI26+AJ26 -> 29134.627 | AM26: =SUM((INDIRECT(AM$2&(ROW())):INDIRECT(AM$3&(ROW())))) -> 1465 | AN26: =SUM(INDIRECT(AN$1&AN$2&$C26):INDIRECT(AN$1&AN$3&$C26)) -> 0 | AO26: =AM26-AN26 -> 1465 | AP26: =IFERROR(AM26/AN26,0) -> 0 | AQ26: =SUM(INDIRECT(AQ$1&AQ$2&$A26):INDIRECT(AQ$1&AQ$3&$A26))+SUM(INDIRECT(AQ$1&AQ$2&$B26):INDIRECT(AQ$1&AQ$3&$B26)) -> 9951 | AR26: =AM26-AQ26 -> -8486 | AS26: =IFERROR(AM26/AQ26,0) -> 0.14722138 | AU26: =SUM((INDIRECT(AU$2&(ROW())):INDIRECT(AU$3&(ROW())))) -> 1465 | AV26: =SUM(INDIRECT(AV$1&AV$2&$C26):INDIRECT(AV$1&AV$3&$C26)) -> 0 | AW26: =AU26-AV26 -> 1465 | AX26: =IFERROR(AU26/AV26,0) -> 0 | AY26: =SUM(INDIRECT(AY$1&AY$2&$A26):INDIRECT(AY$1&AY$3&$A26))+SUM(INDIRECT(AY$1&AY$2&$B26):INDIRECT(AY$1&AY$3&$B26)) -> 9951 | AZ26: =AU26-AY26 -> -8486 | BA26: =IFERROR(AU26/AY26,0) -> 0.14722138 | BC26: =SUM((INDIRECT(BC$2&(ROW())):INDIRECT(BC$3&(ROW())))) -> 1465 | BD26: =SUM(INDIRECT(BD$1&BD$2&$C26):INDIRECT(BD$1&BD$3&$C26)) -> 0 | BE26: =BC26-BD26 -> 1465 | BF26: =IFERROR(BC26/BD26,0) -> 0 | BG26: =SUM(INDIRECT(BG$1&BG$2&$A26):INDIRECT(BG$1&BG$3&$A26))+SUM(INDIRECT(BG$1&BG$2&$B26):INDIRECT(BG$1&BG$3&$B26)) -> 9951 | BH26: =BC26-BG26 -> -8486 | BI26: =IFERROR(BC26/BG26,0) -> 0.14722138
A27: =A26+1 -> 27 | B27: 1 | C27: =C26+1 -> 27 | D27: 1 | E27: RF | J27: Other Expenses | R27: =CHOOSE(2, "6722000002615", "PL Statement Other Expenses") -> PL Statement Other Expenses | S27: =S88+S418+S193+S275+S338 -> 0 | T27: =T88+T418+T193+T275+T338 -> 0 | U27: =U88+U418+U193+U275+U338 -> 0 | V27: =V88+V418+V193+V275+V338 -> 0 | W27: =W88+W418+W193+W275+W338 -> 0 | X27: =X88+X418+X193+X275+X338 -> 0 | Y27: =Y88+Y418+Y193+Y275+Y338 -> 0 | Z27: =Z88+Z418+Z193+Z275+Z338 -> 0 | ... AD27: =AD88+AD418+AD193+AD275+AD338 -> 0 | AE27: =SUM(S27,T27,U27) -> 0 | AF27: =SUM(V27,W27,X27) -> 0 | AG27: =SUM(Y27,Z27,AA27) -> 0 | AH27: =SUM(AB27,AC27,AD27) -> 0 | AI27: =AE27+AF27 -> 0 | AJ27: =AH27+AG27 -> 0 | AK27: =AI27+AJ27 -> 0 | AM27: =SUM((INDIRECT(AM$2&(ROW())):INDIRECT(AM$3&(ROW())))) -> 0 | AN27: =SUM(INDIRECT(AN$1&AN$2&$C27):INDIRECT(AN$1&AN$3&$C27)) -> 0 | AO27: =AM27-AN27 -> 0 | AP27: =IFERROR(AM27/AN27,0) -> 0 | AQ27: =SUM(INDIRECT(AQ$1&AQ$2&$A27):INDIRECT(AQ$1&AQ$3&$A27))+SUM(INDIRECT(AQ$1&AQ$2&$B27):INDIRECT(AQ$1&AQ$3&$B27)) -> 0 | AR27: =AM27-AQ27 -> 0 | AS27: =IFERROR(AM27/AQ27,0) -> 0 | AU27: =SUM((INDIRECT(AU$2&(ROW())):INDIRECT(AU$3&(ROW())))) -> 0 | AV27: =SUM(INDIRECT(AV$1&AV$2&$C27):INDIRECT(AV$1&AV$3&$C27)) -> 0 | AW27: =AU27-AV27 -> 0 | AX27: =IFERROR(AU27/AV27,0) -> 0 | AY27: =SUM(INDIRECT(AY$1&AY$2&$A27):INDIRECT(AY$1&AY$3&$A27))+SUM(INDIRECT(AY$1&AY$2&$B27):INDIRECT(AY$1&AY$3&$B27)) -> 0 | AZ27: =AU27-AY27 -> 0 | BA27: =IFERROR(AU27/AY27,0) -> 0 | BC27: =SUM((INDIRECT(BC$2&(ROW())):INDIRECT(BC$3&(ROW())))) -> 0 | BD27: =SUM(INDIRECT(BD$1&BD$2&$C27):INDIRECT(BD$1&BD$3&$C27)) -> 0 | BE27: =BC27-BD27 -> 0 | BF27: =IFERROR(BC27/BD27,0) -> 0 | BG27: =SUM(INDIRECT(BG$1&BG$2&$A27):INDIRECT(BG$1&BG$3&$A27))+SUM(INDIRECT(BG$1&BG$2&$B27):INDIRECT(BG$1&BG$3&$B27)) -> 0 | BH27: =BC27-BG27 -> 0 | BI27: =IFERROR(BC27/BG27,0) -> 0
A28: =A27+1 -> 28 | B28: 1 | C28: =C27+1 -> 28 | D28: 1 | E28: RF | J28: Operating Profit | R28: =CHOOSE(2, "6722000002614", "PL Statement Operating Profit") -> PL Statement Operating Profit | S28: =S24+S26-S27 -> 145930.19 | T28: =T24+T26-T27 -> 87852.583 | U28: =U24+U26-U27 -> 87905.869 | V28: =V24+V26-V27 -> 76361.893 | W28: =W24+W26-W27 -> 83781.004 | X28: =X24+X26-X27 -> 113715.14 | Y28: =Y24+Y26-Y27 -> 92620.768 | Z28: =Z24+Z26-Z27 -> 81403.976 | ... AD28: =AD24+AD26-AD27 -> 100255.79 | AE28: =SUM(S28,T28,U28) -> 321688.64 | AF28: =SUM(V28,W28,X28) -> 273858.04 | AG28: =SUM(Y28,Z28,AA28) -> 253372.42 | AH28: =SUM(AB28,AC28,AD28) -> 288661.73 | AI28: =AE28+AF28 -> 595546.68 | AJ28: =AH28+AG28 -> 542034.15 | AK28: =AI28+AJ28 -> 1137580.8 | AM28: =SUM((INDIRECT(AM$2&(ROW())):INDIRECT(AM$3&(ROW())))) -> 145930.19 | AN28: =SUM(INDIRECT(AN$1&AN$2&$C28):INDIRECT(AN$1&AN$3&$C28)) -> 142478.99 | AO28: =AM28-AN28 -> 3451.1999 | AP28: =IFERROR(AM28/AN28,0) -> 1.0242225 | AQ28: =SUM(INDIRECT(AQ$1&AQ$2&$A28):INDIRECT(AQ$1&AQ$3&$A28))+SUM(INDIRECT(AQ$1&AQ$2&$B28):INDIRECT(AQ$1&AQ$3&$B28)) -> 54328 | AR28: =AM28-AQ28 -> 91602.191 | AS28: =IFERROR(AM28/AQ28,0) -> 2.6860954 | AU28: =SUM((INDIRECT(AU$2&(ROW())):INDIRECT(AU$3&(ROW())))) -> 145930.19 | AV28: =SUM(INDIRECT(AV$1&AV$2&$C28):INDIRECT(AV$1&AV$3&$C28)) -> 142478.99 | AW28: =AU28-AV28 -> 3451.1999 | AX28: =IFERROR(AU28/AV28,0) -> 1.0242225 | AY28: =SUM(INDIRECT(AY$1&AY$2&$A28):INDIRECT(AY$1&AY$3&$A28))+SUM(INDIRECT(AY$1&AY$2&$B28):INDIRECT(AY$1&AY$3&$B28)) -> 54328 | AZ28: =AU28-AY28 -> 91602.191 | BA28: =IFERROR(AU28/AY28,0) -> 2.6860954 | BC28: =SUM((INDIRECT(BC$2&(ROW())):INDIRECT(BC$3&(ROW())))) -> 145930.19 | BD28: =SUM(INDIRECT(BD$1&BD$2&$C28):INDIRECT(BD$1&BD$3&$C28)) -> 142478.99 | BE28: =BC28-BD28 -> 3451.1999 | BF28: =IFERROR(BC28/BD28,0) -> 1.0242225 | BG28: =SUM(INDIRECT(BG$1&BG$2&$A28):INDIRECT(BG$1&BG$3&$A28))+SUM(INDIRECT(BG$1&BG$2&$B28):INDIRECT(BG$1&BG$3&$B28)) -> 54328 | BH28: =BC28-BG28 -> 91602.191 | BI28: =IFERROR(BC28/BG28,0) -> 2.6860954
A29: =A28+1 -> 29 | B29: 1 | C29: =C28+1 -> 29 | D29: 1 | E29: RF | Q29: (%) | R29: =CHOOSE(2, "6722000002613", "PL Statement Operating Profit (%)") -> PL Statement Operating Profit (%) | S29: =IFERROR(S28/S14,0) -> 0.13141394 | T29: =IFERROR(T28/T14,0) -> 0.08826394 | U29: =IFERROR(U28/U14,0) -> 0.097014214 | V29: =IFERROR(V28/V14,0) -> 0.090421827 | W29: =IFERROR(W28/W14,0) -> 0.08494395 | X29: =IFERROR(X28/X14,0) -> 0.10609749 | Y29: =IFERROR(Y28/Y14,0) -> 0.10205871 | Z29: =IFERROR(Z28/Z14,0) -> 0.090454504 | ... AK29: =IFERROR(AK28/AK14,0) -> 0.097288493 | AM29: =IFERROR(AM28/AM14,0) -> 0.13141394 | AN29: =IFERROR(AN28/AN14,0) -> 0.1514044 | AO29: =AM29-AN29 -> -0.019990456 | AQ29: =IFERROR(AQ28/AQ14,0) -> 0.083677446 | AR29: =AM29-AQ29 -> 0.047736498 | AU29: =IFERROR(AU28/AU14,0) -> 0.13141394 | AV29: =IFERROR(AV28/AV14,0) -> 0.1514044 | AW29: =AU29-AV29 -> -0.019990456 | AY29: =IFERROR(AY28/AY14,0) -> 0.083677446 | AZ29: =AU29-AY29 -> 0.047736498 | BC29: =IFERROR(BC28/BC14,0) -> 0.13141394 | BD29: =IFERROR(BD28/BD14,0) -> 0.1514044 | BE29: =BC29-BD29 -> -0.019990456 | BG29: =IFERROR(BG28/BG14,0) -> 0.083677446 | BH29: =BC29-BG29 -> 0.047736498
A30: =A29+1 -> 30 | B30: 1 | C30: =C29+1 -> 30 | D30: 1 | E30: RF | J30: Financial Income (Expenses), net | R30: =CHOOSE(2, "6722000002612", "PL Statement Financial Income/Expenses") -> PL Statement Financial Income/Expenses | S30: =S31-S32 -> 17132 | T30: =T31-T32 -> 16223 | U30: =U31-U32 -> 17280 | V30: =V31-V32 -> 18309 | W30: =W31-W32 -> 14086 | X30: =X31-X32 -> 12995 | Y30: =Y31-Y32 -> 21648 | Z30: =Z31-Z32 -> 15369.527 | ... AD30: =AD31-AD32 -> 68779.576 | AE30: =SUM(S30,T30,U30) -> 50635 | AF30: =SUM(V30,W30,X30) -> 45390 | AG30: =SUM(Y30,Z30,AA30) -> 53871.527 | AH30: =SUM(AB30,AC30,AD30) -> 106767.21 | AI30: =AE30+AF30 -> 96025 | AJ30: =AH30+AG30 -> 160638.73 | AK30: =AI30+AJ30 -> 256663.73 | AM30: =SUM((INDIRECT(AM$2&(ROW())):INDIRECT(AM$3&(ROW())))) -> 17132 | AN30: =SUM(INDIRECT(AN$1&AN$2&$C30):INDIRECT(AN$1&AN$3&$C30)) -> 0 | AO30: =AM30-AN30 -> 17132 | AP30: =IFERROR(AM30/AN30,0) -> 0 | AQ30: =SUM(INDIRECT(AQ$1&AQ$2&$A30):INDIRECT(AQ$1&AQ$3&$A30))+SUM(INDIRECT(AQ$1&AQ$2&$B30):INDIRECT(AQ$1&AQ$3&$B30)) -> 13664 | AR30: =AM30-AQ30 -> 3468 | AS30: =IFERROR(AM30/AQ30,0) -> 1.2538056 | AU30: =SUM((INDIRECT(AU$2&(ROW())):INDIRECT(AU$3&(ROW())))) -> 17132 | AV30: =SUM(INDIRECT(AV$1&AV$2&$C30):INDIRECT(AV$1&AV$3&$C30)) -> 0 | AW30: =AU30-AV30 -> 17132 | AX30: =IFERROR(AU30/AV30,0) -> 0 | AY30: =SUM(INDIRECT(AY$1&AY$2&$A30):INDIRECT(AY$1&AY$3&$A30))+SUM(INDIRECT(AY$1&AY$2&$B30):INDIRECT(AY$1&AY$3&$B30)) -> 13664 | AZ30: =AU30-AY30 -> 3468 | BA30: =IFERROR(AU30/AY30,0) -> 1.2538056 | BC30: =SUM((INDIRECT(BC$2&(ROW())):INDIRECT(BC$3&(ROW())))) -> 17132 | BD30: =SUM(INDIRECT(BD$1&BD$2&$C30):INDIRECT(BD$1&BD$3&$C30)) -> 0 | BE30: =BC30-BD30 -> 17132 | BF30: =IFERROR(BC30/BD30,0) -> 0 | BG30: =SUM(INDIRECT(BG$1&BG$2&$A30):INDIRECT(BG$1&BG$3&$A30))+SUM(INDIRECT(BG$1&BG$2&$B30):INDIRECT(BG$1&BG$3&$B30)) -> 13664 | BH30: =BC30-BG30 -> 3468 | BI30: =IFERROR(BC30/BG30,0) -> 1.2538056
A31: =A30+1 -> 31 | B31: 1 | C31: =C30+1 -> 31 | D31: 1 | E31: RF | K31: Financial Income | R31: =CHOOSE(2, "6722000002611", "PL Statement Financial Income") -> PL Statement Financial Income | S31: 17428 | T31: 16612 | U31: 20268 | V31: 18309 | W31: 14086 | X31: =15948 -> 15948 | Y31: 21648 | Z31: 16659.667 | AA31: 19655 | AB31: 18868.413 | AC31: 19394.06 | AD31: 71654.878 | AE31: =SUM(S31,T31,U31) -> 54308 | AF31: =SUM(V31,W31,X31) -> 48343 | AG31: =SUM(Y31,Z31,AA31) -> 57962.667 | AH31: =SUM(AB31,AC31,AD31) -> 109917.35 | AI31: =AE31+AF31 -> 102651 | AJ31: =AH31+AG31 -> 167880.02 | AK31: =AI31+AJ31 -> 270531.02 | AM31: =SUM((INDIRECT(AM$2&(ROW())):INDIRECT(AM$3&(ROW())))) -> 17428 | AN31: =SUM(INDIRECT(AN$1&AN$2&$C31):INDIRECT(AN$1&AN$3&$C31)) -> 0 | AO31: =AM31-AN31 -> 17428 | AP31: =IFERROR(AM31/AN31,0) -> 0 | AQ31: =SUM(INDIRECT(AQ$1&AQ$2&$A31):INDIRECT(AQ$1&AQ$3&$A31))+SUM(INDIRECT(AQ$1&AQ$2&$B31):INDIRECT(AQ$1&AQ$3&$B31)) -> 13664 | AR31: =AM31-AQ31 -> 3764 | AS31: =IFERROR(AM31/AQ31,0) -> 1.2754684 | AU31: =SUM((INDIRECT(AU$2&(ROW())):INDIRECT(AU$3&(ROW())))) -> 17428 | AV31: =SUM(INDIRECT(AV$1&AV$2&$C31):INDIRECT(AV$1&AV$3&$C31)) -> 0 | AW31: =AU31-AV31 -> 17428 | AX31: =IFERROR(AU31/AV31,0) -> 0 | AY31: =SUM(INDIRECT(AY$1&AY$2&$A31):INDIRECT(AY$1&AY$3&$A31))+SUM(INDIRECT(AY$1&AY$2&$B31):INDIRECT(AY$1&AY$3&$B31)) -> 13664 | AZ31: =AU31-AY31 -> 3764 | BA31: =IFERROR(AU31/AY31,0) -> 1.2754684 | BC31: =SUM((INDIRECT(BC$2&(ROW())):INDIRECT(BC$3&(ROW())))) -> 17428 | BD31: =SUM(INDIRECT(BD$1&BD$2&$C31):INDIRECT(BD$1&BD$3&$C31)) -> 0 | BE31: =BC31-BD31 -> 17428 | BF31: =IFERROR(BC31/BD31,0) -> 0 | BG31: =SUM(INDIRECT(BG$1&BG$2&$A31):INDIRECT(BG$1&BG$3&$A31))+SUM(INDIRECT(BG$1&BG$2&$B31):INDIRECT(BG$1&BG$3&$B31)) -> 13664 | BH31: =BC31-BG31 -> 3764 | BI31: =IFERROR(BC31/BG31,0) -> 1.2754684
A32: =A31+1 -> 32 | B32: 1 | C32: =C31+1 -> 32 | D32: 1 | E32: RF | K32: Financial Expenses | R32: =CHOOSE(2, "6722000002610", "PL Statement Financial Expenses") -> PL Statement Financial Expenses | S32: 296 | T32: 389 | U32: 2988 | V32: 0 | X32: 2953 | Z32: 1290.14 | AA32: =2079+722 -> 2801 | AC32: 274.84339 | AD32: =74.30201+2801 -> 2875.302 | AE32: =SUM(S32,T32,U32) -> 3673 | AF32: =SUM(V32,W32,X32) -> 2953 | AG32: =SUM(Y32,Z32,AA32) -> 4091.14 | AH32: =SUM(AB32,AC32,AD32) -> 3150.1454 | AI32: =AE32+AF32 -> 6626 | AJ32: =AH32+AG32 -> 7241.2854 | AK32: =AI32+AJ32 -> 13867.285 | AM32: =SUM((INDIRECT(AM$2&(ROW())):INDIRECT(AM$3&(ROW())))) -> 296 | AN32: =SUM(INDIRECT(AN$1&AN$2&$C32):INDIRECT(AN$1&AN$3&$C32)) -> 0 | AO32: =AM32-AN32 -> 296 | AP32: =IFERROR(AM32/AN32,0) -> 0 | AQ32: =SUM(INDIRECT(AQ$1&AQ$2&$A32):INDIRECT(AQ$1&AQ$3&$A32))+SUM(INDIRECT(AQ$1&AQ$2&$B32):INDIRECT(AQ$1&AQ$3&$B32)) -> 0 | AR32: =AM32-AQ32 -> 296 | AS32: =IFERROR(AM32/AQ32,0) -> 0 | AU32: =SUM((INDIRECT(AU$2&(ROW())):INDIRECT(AU$3&(ROW())))) -> 296 | AV32: =SUM(INDIRECT(AV$1&AV$2&$C32):INDIRECT(AV$1&AV$3&$C32)) -> 0 | AW32: =AU32-AV32 -> 296 | AX32: =IFERROR(AU32/AV32,0) -> 0 | AY32: =SUM(INDIRECT(AY$1&AY$2&$A32):INDIRECT(AY$1&AY$3&$A32))+SUM(INDIRECT(AY$1&AY$2&$B32):INDIRECT(AY$1&AY$3&$B32)) -> 0 | AZ32: =AU32-AY32 -> 296 | BA32: =IFERROR(AU32/AY32,0) -> 0 | BC32: =SUM((INDIRECT(BC$2&(ROW())):INDIRECT(BC$3&(ROW())))) -> 296 | BD32: =SUM(INDIRECT(BD$1&BD$2&$C32):INDIRECT(BD$1&BD$3&$C32)) -> 0 | BE32: =BC32-BD32 -> 296 | BF32: =IFERROR(BC32/BD32,0) -> 0 | BG32: =SUM(INDIRECT(BG$1&BG$2&$A32):INDIRECT(BG$1&BG$3&$A32))+SUM(INDIRECT(BG$1&BG$2&$B32):INDIRECT(BG$1&BG$3&$B32)) -> 0 | BH32: =BC32-BG32 -> 296 | BI32: =IFERROR(BC32/BG32,0) -> 0
A33: =A32+1 -> 33 | B33: 1 | C33: =C32+1 -> 33 | D33: 1 | E33: RF | J33: Profit before Taxes | R33: =CHOOSE(2, "6722000002609", "PL Statement Profit before Taxes") -> PL Statement Profit before Taxes | S33: =S28+S30 -> 163062.19 | T33: =T28+T30 -> 104075.58 | U33: =U28+U30 -> 105185.87 | V33: =V28+V30 -> 94670.893 | W33: =W28+W30 -> 97867.004 | X33: =X28+X30 -> 126710.14 | Y33: =Y28+Y30 -> 114268.77 | Z33: =Z28+Z30 -> 96773.503 | ... AD33: =AD28+AD30 -> 169035.36 | AE33: =SUM(S33,T33,U33) -> 372323.64 | AF33: =SUM(V33,W33,X33) -> 319248.04 | AG33: =SUM(Y33,Z33,AA33) -> 307243.95 | AH33: =SUM(AB33,AC33,AD33) -> 395428.94 | AI33: =AE33+AF33 -> 691571.68 | AJ33: =AH33+AG33 -> 702672.89 | AK33: =AI33+AJ33 -> 1394244.6 | AM33: =SUM((INDIRECT(AM$2&(ROW())):INDIRECT(AM$3&(ROW())))) -> 163062.19 | AN33: =SUM(INDIRECT(AN$1&AN$2&$C33):INDIRECT(AN$1&AN$3&$C33)) -> 142478.99 | AO33: =AM33-AN33 -> 20583.2 | AP33: =IFERROR(AM33/AN33,0) -> 1.1444648 | AQ33: =SUM(INDIRECT(AQ$1&AQ$2&$A33):INDIRECT(AQ$1&AQ$3&$A33))+SUM(INDIRECT(AQ$1&AQ$2&$B33):INDIRECT(AQ$1&AQ$3&$B33)) -> 67992 | AR33: =AM33-AQ33 -> 95070.191 | AS33: =IFERROR(AM33/AQ33,0) -> 2.3982555 | AU33: =SUM((INDIRECT(AU$2&(ROW())):INDIRECT(AU$3&(ROW())))) -> 163062.19 | AV33: =SUM(INDIRECT(AV$1&AV$2&$C33):INDIRECT(AV$1&AV$3&$C33)) -> 142478.99 | AW33: =AU33-AV33 -> 20583.2 | AX33: =IFERROR(AU33/AV33,0) -> 1.1444648 | AY33: =SUM(INDIRECT(AY$1&AY$2&$A33):INDIRECT(AY$1&AY$3&$A33))+SUM(INDIRECT(AY$1&AY$2&$B33):INDIRECT(AY$1&AY$3&$B33)) -> 67992 | AZ33: =AU33-AY33 -> 95070.191 | BA33: =IFERROR(AU33/AY33,0) -> 2.3982555 | BC33: =SUM((INDIRECT(BC$2&(ROW())):INDIRECT(BC$3&(ROW())))) -> 163062.19 | BD33: =SUM(INDIRECT(BD$1&BD$2&$C33):INDIRECT(BD$1&BD$3&$C33)) -> 142478.99 | BE33: =BC33-BD33 -> 20583.2 | BF33: =IFERROR(BC33/BD33,0) -> 1.1444648 | BG33: =SUM(INDIRECT(BG$1&BG$2&$A33):INDIRECT(BG$1&BG$3&$A33))+SUM(INDIRECT(BG$1&BG$2&$B33):INDIRECT(BG$1&BG$3&$B33)) -> 67992 | BH33: =BC33-BG33 -> 95070.191 | BI33: =IFERROR(BC33/BG33,0) -> 2.3982555
A34: =A33+1 -> 34 | B34: 1 | C34: =C33+1 -> 34 | D34: 1 | E34: RF | J34: Tax Expenses & Others | R34: =CHOOSE(2, "6722000002608", "PL Statement Tax Expenses & Others") -> PL Statement Tax Expenses & Others | S34: 40897.978 | T34: 26041 | U34: =93266-S34-T34 -> 26327.022 | V34: 23722 | W34: 24896.83 | X34: 31910 | Y34: 28626.576 | Z34: 24151.662 | AA34: 24174 | AB34: 29403.33 | AC34: =AC33*25.17% -> 27490.867 | AD34: 43353 | AE34: =SUM(S34,T34,U34) -> 93266 | AF34: =SUM(V34,W34,X34) -> 80528.83 | AG34: =SUM(Y34,Z34,AA34) -> 76952.238 | AH34: =SUM(AB34,AC34,AD34) -> 100247.2 | AI34: =AE34+AF34 -> 173794.83 | AJ34: =AH34+AG34 -> 177199.43 | AK34: =AI34+AJ34 -> 350994.26 | AM34: =SUM((INDIRECT(AM$2&(ROW())):INDIRECT(AM$3&(ROW())))) -> 40897.978 | AN34: =SUM(INDIRECT(AN$1&AN$2&$C34):INDIRECT(AN$1&AN$3&$C34)) -> 35619.748 | AO34: =AM34-AN34 -> 5278.2301 | AP34: =IFERROR(AM34/AN34,0) -> 1.1481827 | AQ34: =SUM(INDIRECT(AQ$1&AQ$2&$A34):INDIRECT(AQ$1&AQ$3&$A34))+SUM(INDIRECT(AQ$1&AQ$2&$B34):INDIRECT(AQ$1&AQ$3&$B34)) -> 16943.2 | AR34: =AM34-AQ34 -> 23954.777 | AS34: =IFERROR(AM34/AQ34,0) -> 2.4138284 | AU34: =SUM((INDIRECT(AU$2&(ROW())):INDIRECT(AU$3&(ROW())))) -> 40897.978 | AV34: =SUM(INDIRECT(AV$1&AV$2&$C34):INDIRECT(AV$1&AV$3&$C34)) -> 35619.748 | AW34: =AU34-AV34 -> 5278.2301 | AX34: =IFERROR(AU34/AV34,0) -> 1.1481827 | AY34: =SUM(INDIRECT(AY$1&AY$2&$A34):INDIRECT(AY$1&AY$3&$A34))+SUM(INDIRECT(AY$1&AY$2&$B34):INDIRECT(AY$1&AY$3&$B34)) -> 16943.2 | AZ34: =AU34-AY34 -> 23954.777 | BA34: =IFERROR(AU34/AY34,0) -> 2.4138284 | BC34: =SUM((INDIRECT(BC$2&(ROW())):INDIRECT(BC$3&(ROW())))) -> 40897.978 | BD34: =SUM(INDIRECT(BD$1&BD$2&$C34):INDIRECT(BD$1&BD$3&$C34)) -> 35619.748 | BE34: =BC34-BD34 -> 5278.2301 | BF34: =IFERROR(BC34/BD34,0) -> 1.1481827 | BG34: =SUM(INDIRECT(BG$1&BG$2&$A34):INDIRECT(BG$1&BG$3&$A34))+SUM(INDIRECT(BG$1&BG$2&$B34):INDIRECT(BG$1&BG$3&$B34)) -> 16943.2 | BH34: =BC34-BG34 -> 23954.777 | BI34: =IFERROR(BC34/BG34,0) -> 2.4138284
A35: =A34+1 -> 35 | B35: 1 | C35: =C34+1 -> 35 | D35: 1 | E35: RF | J35: Net Profit | R35: =CHOOSE(2, "6722000002607", "PL Statement Net Profit") -> PL Statement Net Profit | S35: =S33-S34 -> 122164.21 | T35: =T33-T34 -> 78034.583 | U35: =U33-U34 -> 78858.847 | V35: =V33-V34 -> 70948.893 | W35: =W33-W34 -> 72970.174 | X35: =X33-X34 -> 94800.142 | Y35: =Y33-Y34 -> 85642.192 | Z35: =Z33-Z34 -> 72621.842 | ... AD35: =AD33-AD34 -> 125682.36 | AE35: =SUM(S35,T35,U35) -> 279057.64 | AF35: =SUM(V35,W35,X35) -> 238719.21 | AG35: =SUM(Y35,Z35,AA35) -> 230291.71 | AH35: =SUM(AB35,AC35,AD35) -> 295181.74 | AI35: =AE35+AF35 -> 517776.85 | AJ35: =AH35+AG35 -> 525473.45 | AK35: =AI35+AJ35 -> 1043250.3 | AM35: =SUM((INDIRECT(AM$2&(ROW())):INDIRECT(AM$3&(ROW())))) -> 122164.21 | AN35: =SUM(INDIRECT(AN$1&AN$2&$C35):INDIRECT(AN$1&AN$3&$C35)) -> 106859.24 | AO35: =AM35-AN35 -> 15304.97 | AP35: =IFERROR(AM35/AN35,0) -> 1.1432255 | AQ35: =SUM(INDIRECT(AQ$1&AQ$2&$A35):INDIRECT(AQ$1&AQ$3&$A35))+SUM(INDIRECT(AQ$1&AQ$2&$B35):INDIRECT(AQ$1&AQ$3&$B35)) -> 51048.8 | AR35: =AM35-AQ35 -> 71115.414 | AS35: =IFERROR(AM35/AQ35,0) -> 2.3930869 | AU35: =SUM((INDIRECT(AU$2&(ROW())):INDIRECT(AU$3&(ROW())))) -> 122164.21 | AV35: =SUM(INDIRECT(AV$1&AV$2&$C35):INDIRECT(AV$1&AV$3&$C35)) -> 106859.24 | AW35: =AU35-AV35 -> 15304.97 | AX35: =IFERROR(AU35/AV35,0) -> 1.1432255 | AY35: =SUM(INDIRECT(AY$1&AY$2&$A35):INDIRECT(AY$1&AY$3&$A35))+SUM(INDIRECT(AY$1&AY$2&$B35):INDIRECT(AY$1&AY$3&$B35)) -> 51048.8 | AZ35: =AU35-AY35 -> 71115.414 | BA35: =IFERROR(AU35/AY35,0) -> 2.3930869 | BC35: =SUM((INDIRECT(BC$2&(ROW())):INDIRECT(BC$3&(ROW())))) -> 122164.21 | BD35: =SUM(INDIRECT(BD$1&BD$2&$C35):INDIRECT(BD$1&BD$3&$C35)) -> 106859.24 | BE35: =BC35-BD35 -> 15304.97 | BF35: =IFERROR(BC35/BD35,0) -> 1.1432255 | BG35: =SUM(INDIRECT(BG$1&BG$2&$A35):INDIRECT(BG$1&BG$3&$A35))+SUM(INDIRECT(BG$1&BG$2&$B35):INDIRECT(BG$1&BG$3&$B35)) -> 51048.8 | BH35: =BC35-BG35 -> 71115.414 | BI35: =IFERROR(BC35/BG35,0) -> 2.3930869
A36: =A35+1 -> 36 | B36: 1 | C36: =C35+1 -> 36 | D36: 1 | E36: RF | Q36: (%) | R36: =CHOOSE(2, "6722000002606", "PL Statement Net Profit (%)") -> PL Statement Net Profit (%) | S36: =IFERROR(S35/S14,0) -> 0.11001206 | T36: =IFERROR(T35/T14,0) -> 0.078399969 | U36: =IFERROR(U35/U14,0) -> 0.087029787 | V36: =IFERROR(V35/V14,0) -> 0.084012172 | W36: =IFERROR(W35/W14,0) -> 0.073983057 | X36: =IFERROR(X35/X14,0) -> 0.088449585 | Y36: =IFERROR(Y35/Y14,0) -> 0.094369024 | Z36: =IFERROR(Z35/Z14,0) -> 0.080695969 | ... AK36: =IFERROR(AK35/AK14,0) -> 0.089221132 | AM36: =IFERROR(AM35/AM14,0) -> 0.11001206 | AN36: =IFERROR(AN35/AN14,0) -> 0.1135533 | AO36: =AM36-AN36 -> -0.0035412392 | AQ36: =IFERROR(AQ35/AQ14,0) -> 0.078626733 | AR36: =AM36-AQ36 -> 0.031385328 | AU36: =IFERROR(AU35/AU14,0) -> 0.11001206 | AV36: =IFERROR(AV35/AV14,0) -> 0.1135533 | AW36: =AU36-AV36 -> -0.0035412392 | AY36: =IFERROR(AY35/AY14,0) -> 0.078626733 | AZ36: =AU36-AY36 -> 0.031385328 | BC36: =IFERROR(BC35/BC14,0) -> 0.11001206 | BD36: =IFERROR(BD35/BD14,0) -> 0.1135533 | BE36: =BC36-BD36 -> -0.0035412392 | BG36: =IFERROR(BG35/BG14,0) -> 0.078626733 | BH36: =BC36-BG36 -> 0.031385328
A37: =A36+1 -> 37 | B37: 1 | C37: =C36+1 -> 37 | D37: 1 | E37: RF | R37: =CHOOSE(2, "6722000002956", "▷ Blank 1") -> ▷ Blank 1
A38: =A37+1 -> 38 | B38: 1 | C38: =C37+1 -> 38 | D38: 1 | R38: =CHOOSE(2, "6722000002957", "▷ Blank 2") -> ▷ Blank 2
A39: =A38+1 -> 39 | B39: 1 | C39: =C38+1 -> 39 | D39: 1 | H39: 1-2.SGA Expenses Details | R39: =CHOOSE(2, "6722000002958", "1-2.SGA Expenses Details") -> 1-2.SGA Expenses Details
A40: =A39+1 -> 40 | B40: 1 | C40: =C39+1 -> 40 | D40: 1 | J40: Variable Expenses | R40: =CHOOSE(2, "6722000002959", "SGA Variable Expenses") -> SGA Variable Expenses | S40: =SUM(S41:S43) -> 86967.195 | T40: =SUM(T41:T43) -> 58635.766 | U40: =SUM(U41:U43) -> 111747.63 | V40: =SUM(V41:V43) -> 67890.918 | W40: =SUM(W41:W43) -> 86237.109 | X40: =SUM(X41:X43) -> 103191.27 | Y40: =SUM(Y41:Y43) -> 65990.168 | Z40: =SUM(Z41:Z43) -> 85327.67 | ... AK40: =SUM(AK41:AK43) -> 997625.1 | AM40: =SUM((INDIRECT(AM$2&(ROW())):INDIRECT(AM$3&(ROW())))) -> 86967.195 | AN40: =SUM(INDIRECT(AN$1&AN$2&$C40):INDIRECT(AN$1&AN$3&$C40)) -> 78754.736 | AO40: =AM40-AN40 -> 8212.4583 | AP40: =IFERROR(AM40/AN40,0) -> 1.1042789 | AQ40: =SUM(INDIRECT(AQ$1&AQ$2&$A40):INDIRECT(AQ$1&AQ$3&$A40))+SUM(INDIRECT(AQ$1&AQ$2&$B40):INDIRECT(AQ$1&AQ$3&$B40)) -> 61662 | AR40: =AM40-AQ40 -> 25305.195 | AS40: =IFERROR(AM40/AQ40,0) -> 1.4103856 | AU40: =SUM((INDIRECT(AU$2&(ROW())):INDIRECT(AU$3&(ROW())))) -> 86967.195 | AV40: =SUM(INDIRECT(AV$1&AV$2&$C40):INDIRECT(AV$1&AV$3&$C40)) -> 78754.736 | AW40: =AU40-AV40 -> 8212.4583 | AX40: =IFERROR(AU40/AV40,0) -> 1.1042789 | AY40: =SUM(INDIRECT(AY$1&AY$2&$A40):INDIRECT(AY$1&AY$3&$A40))+SUM(INDIRECT(AY$1&AY$2&$B40):INDIRECT(AY$1&AY$3&$B40)) -> 61662 | AZ40: =AU40-AY40 -> 25305.195 | BA40: =IFERROR(AU40/AY40,0) -> 1.4103856 | BC40: =SUM((INDIRECT(BC$2&(ROW())):INDIRECT(BC$3&(ROW())))) -> 86967.195 | BD40: =SUM(INDIRECT(BD$1&BD$2&$C40):INDIRECT(BD$1&BD$3&$C40)) -> 78754.736 | BE40: =BC40-BD40 -> 8212.4583 | BF40: =IFERROR(BC40/BD40,0) -> 1.1042789 | BG40: =SUM(INDIRECT(BG$1&BG$2&$A40):INDIRECT(BG$1&BG$3&$A40))+SUM(INDIRECT(BG$1&BG$2&$B40):INDIRECT(BG$1&BG$3&$B40)) -> 61662 | BH40: =BC40-BG40 -> 25305.195 | BI40: =IFERROR(BC40/BG40,0) -> 1.4103856
...

Sheet Definition
A1: FY23 new topic
A3: ★ | B3: 1. DW-DX changes service line hierarchy: Add formula for "IIM" including "MCS" and "BPS"
A13: ★ | B13: 2. Break down DW-DX SGA into 6 service lines
A28: ★ | B28: 3. DW-DX: Add topic to input FTE for each service line *please see Definition below
A42: ★ | B42: 4. Capital Investment: Divide into "Strategic Investment" and "Maintenance Investment"
C43: Please refer to the FP sheet for details
A45: ★ | B45: 5. Financial position: Add "Lease Receivables"
A57: ★ | B57: 6. Preconditions: Add "Logistics cost"
A66: ★ | B66: 7. Preconditions: Add "Impact of soaring energy cost"
A86: Classification
C87: (1)-1 Office: Excluding "Office Solution"
D88: Hard | F88: Office A3 | G88: Classified by item code (by products)
F89: Office A4
D90: Non-hard | F90: Copy Click (Kit) | G90: Click business for Office products classified by item code or allocated for Office(A3/A4). Minimum commitment and over volume included. (KMJ: Kit contract included)
F91: Non Contract | G91: Non-Contract service for Office products classified by item code. Including Office products installation fees (Including contracted MIFs)
D92: KMI | G92: Purchased from KMI
D93: 3rd Party | G93: Purchased from Other Vendors
D94: Others | G94: KMJ's special products only.
C95: (1)-2 "Office Solution" only
D96: Office Solution | G96: "Office Solutions" to include: "Software" (both On-Prem & Cloud), related "Hardware" peripheral devices, and related "Services" to be sold with/for MFP to add values to MFP. They are for example (but not limited to): <SOFTWARE> Print Management Solutions & licenses such as Dispatcher Paragon, Paragon Cloud and other 3rd party solutions, Scan/Capture Solutions such as Dispatcher Phoenix/Suite and other 3rd party solutions, and also MFP Security Management Solutions such as buzhub Secure, ShieldGuard etc. <HARDWARE> ID Card Authentication devices, edge devices for Paragon Cloud etc. <SERVICES> Professional Services chargeable for consultation and deployment related to those applicable "Office Solutions" and for/through OPS services. These are only key own branded/IP examples and other local/regional relevant solutions & services to be also included here. MFPに付加価値を与える一連のソフトウェア(オンプレ・クラウド)・周辺ハードウェア・関連サービス売上。例えば、Dispatcher Paragon/Paragon Cloudを代表とする印刷管理ソリューション、MFPと連携するScanソリューション、MFPセキュリティ管理機能を提供するbizhub SecureやShieldGuard他。周辺ハードウェアについては印刷管理ソリューションと連携するIDカード認証装置やParagon Cloud用エッジデバイス他。関連サービスについては上記各種関連ソリューションに関連して発生するコンサルテーションや導入費用他、OPSコンサルテーション含む。
C97: (2) PP
D98: Hard | F98: Office A3 | G98: Classified by items code (by products)
F99: Office A4
D100: Hard | F100: Other | G100: KIP,EPSON,WF
D101: Non-hard | F101: Copy Click (Kit) | G101: Click business for Office products classified by item code or allocated for Office(A3/A4). Minimum commitment and over volume included. (KMJ: Kit contract included)
F102: Non Contract | G102: Non-Contract service for Office products classified by item code. Including Office products installation fees (Including contracted MIFs)
D103: KMI | G103: Purchased from KMI
D104: 3rd Party | G104: Purchased from Other Vendors
D105: Others | G105: KMJ's special products only.
D106: Solution | G106: Application S/W, Application S/W related H/W, S/W Licensees related to PP
G107: Color Management/Variable Data Printing/Print Automation/Make Ready/Web to print
G108: EX)Color Care, Page Pro NDPS, Print Shop
C109: (3) IP
D110: KM-1/KM-1e | G110: KM-1/KM-1e related businesses
D111: Label Printer | G111: Label Printer related businesses
A112: Chgd | D112: MGI | G112: MGI related businesses (Jetvarnish/Alphajet/iFoil/CTS and others)
D113: EFI/LF | G113: EFI VUTEk
D114: Textile Printer | G114: IJ-PP Textile Printer
D115: Others | G115: 3D Printers,Motioncutter,Other local equipment
C116: (4) MS (Marketing Service)
...

Sheet OP
A4: FY19 | C4: FY20 | E4: FY21 | G4: FY22 | K4: MTP23-25 & FY23 Original Plan ver1.0 | V4: BIN | X4: (Unit:1000LC) | AA4: No Anaplan upload
J6: RF | K6: MTP | O6: #N/A | R6: (Unit:1000LC) | V6: Input fields | X6: 0
K7: MTP | V7: Input fields, but not affect PL
K8: MTP | M8: 1. P/L (1) - Overview | X8: FY23 Original Plan
K9: MTP | N9: 1-1. P/L Statement
X10: Apr 22 | Y10: May 22 | Z10: Jun 22 | AA10: Jul 22 | AB10: Aug 22 | AC10: Sep 22 | AD10: Oct 22 | AE10: Nov 22 | AF10: Dec 22 | AG10: Jan 23 | AH10: Feb 23 | AI10: Mar 23
J11: RF | K11: RF | X11: 45077.785
J12: RF | K12: RF
J13: RF | K13: MTP | X13: 45017 | Y13: 45047 | Z13: 45078 | AA13: 45108 | AB13: 45139 | AC13: 45170 | AD13: 45200 | AE13: 45231 | AF13: 45261 | AG13: 45292 | AH13: 45323 | AI13: 45352 | AJ13: Q1 | AK13: Q2 | AL13: Q3 | AM13: Q4 | AN13: 1st H | AO13: 2nd H | AP13: FY23
A14: 8 | B14: 1 | C14: 11 | D14: 1 | E14: 11 | F14: 1 | G14: 14 | H14: 1 | J14: RF | K14: MTP | O14: Net Sales | X14: 941049.21 | Y14: 675591.67 | Z14: 733635.06 | AA14: 685650.62 | AB14: 755265.94 | AC14: 773672.56 | AD14: 709386.81 | AE14: 691799.95 | AF14: 768286.49 | AG14: 722474.71 | AH14: 748910.34 | AI14: 804749.44 | AJ14: 2350275.9 | AK14: 2214589.1 | AL14: 2169473.3 | AM14: 2276134.5 | AN14: 4564865.1 | AO14: 4445607.7 | AP14: 9010472.8
A15: 31 | B15: 1 | C15: 12 | D15: 1 | E15: 12 | F15: 1 | G15: 15 | H15: 1 | J15: RF | K15: MTP | O15: BT Consolidated Sales | X15: 941049.21 | Y15: 675591.67 | Z15: 733635.06 | AA15: 685650.62 | AB15: 755265.94 | AC15: 773672.56 | AD15: 709386.81 | AE15: 691799.95 | AF15: 768286.49 | AG15: 722474.71 | AH15: 748910.34 | AI15: 804749.44 | AJ15: 2350275.9 | AK15: 2214589.1 | AL15: 2169473.3 | AM15: 2276134.5 | AN15: 4564865.1 | AO15: 4445607.7 | AP15: 9010472.8
