{"text_format":"1","workbook":"xlsx","n_sheets":25,"sheets":["②OP記入欄改","条件ﾏｽﾀ","仕様説明","自動作成","説明","DF6予定表","CPP ＃25 4000","CPP＃25 8000","CPＰ #25 4000 3丁","CPP＃25 8000 3丁","PET","PET 3","＃30 2丁","#30 3丁","15セット用","2丁","3丁","ＣＰＰ#40","3丁＃４０","CPP4000#20","CPP800 S#20","①入力手順","③伝票原本 改 記入方法","枠図","Sheet3"],"not_rendered":{"charts":0,"images":57,"macros":1,"external_links":0,"defined_names":18,"comments":0,"pivot_tables":0},"unopened":[],"bounds":{"document_bytes":16777216,"sheet_cells":100000,"rows_first":2000,"rows_last":500,"rows_between":2000,"halvings":0,"cell_chars":16384,"cell_head_chars":4096},"cells_cut":0,"cells_raw":0,"read":"whole","date_system":"1900"}

{"sheet":"②OP記入欄改","index":0,"n_rows":47,"n_cols":16,"rows_kept":47,"cut":false,"hidden":false,"merged":[[4,2,5,2],[4,1,5,1],[12,6,12,7],[12,8,12,9],[12,10,12,11],[10,6,10,7],[10,8,10,9],[10,10,10,11],[11,6,11,7],[11,8,11,9],[11,10,11,11],[8,6,8,7],[8,8,8,9],[8,10,8,11],[9,6,9,7],[9,8,9,9],[9,10,9,11],[6,6,6,7],[6,8,6,9],[6,10,6,11],[7,6,7,7],[7,8,7,9],[7,10,7,11],[4,6,4,7],[4,8,4,9],[4,10,4,11],[5,6,5,7],[5,8,5,9],[5,10,5,11],[2,6,2,7],[2,8,2,9],[2,10,2,11],[3,6,3,7],[3,8,3,9],[3,10,3,11]]}
[]
[]
[null,null,null,"スリットOP記入欄",null,null,"仕向先",null,"製品幅",null,"製品長さ",null,"計本","実","梱形"]
[null,1,"加工日","2025-10-23",null,1,{"$f":"$O$18","v":0},null,{"$f":"$G$18","v":980},null,{"$f":"$H$18","v":8000},null,{"$f":"J18","v":5},null,null,"P"]
[null,2,"LOTNo\n（ｽﾘｯﾄﾛｯﾄ時のみ\n2行目使用する）",60331356011,null,2,{"$f":"$O$19","v":0},null,{"$f":"$G$19","v":940},null,{"$f":"$H$19","v":8000},null,5]
[null,null,null,null,null,3,{"$f":"O20","v":0},null,{"$f":"$G$20","v":980},null,{"$f":"$H$20","v":4000},null,1,null,null,"P"]
[null,3,"製品区分","T",null,4,{"$f":"$O$21","v":0},null,{"$f":"$G$21","v":940},null,{"$f":"$H$21","v":4000},null,1]
[null,4,"品種","CPP 2203",null,5,{"$f":"$O$22","v":0},null,{"$f":"$G$22","v":0},null,{"$f":"$H$22","v":0},null,0]
[null,5,"番手",25,null,6,{"$f":"$O$23","v":0},null,{"$f":"$G$23","v":0},null,{"$f":"$H$23","v":0},null,0]
[null,6,"原反名","9021A3",null,7,{"$f":"$O$24","v":0},null,{"$f":"$G$24","v":0},null,{"$f":"$H$24","v":0},null,0]
[null,7,"原反幅",1960,null,8,{"$f":"$O$25","v":0},null,{"$f":"$G$25","v":0},null,{"$f":"$H$25","v":0},null,0]
[null,8,"原反長",45000,null,9,{"$f":"$O$26","v":0},null,{"$f":"$G$26","v":0},null,{"$f":"$H$26","v":0},null,0]
[null,9,"前工程Ｍ/Ｃ","DF6",null,10,{"$f":"$O$27","v":0},null,{"$f":"$G$27","v":0},null,{"$f":"$H$27","v":0},null,{"$f":"J27","v":0}]
[null,10,"スリット作業指示NO",43855940001]
[null,11,"スリットＭ/Ｃ",19]
[null,12,"Ｍ/Ｃ条件",3,null,null,"製品幅貼り付けＯＰ入力"]
[null,13,"検知器条件",2,null,null,"製品幅","製品長さ",null,"計本",null,null,null,"　　","仕向先","梱形"]
[null,null,null,null,null,1,980,8000,1,5,70,"2丁",null,"2026-04-13"]
[null,null,null,null,null,2,940,8000,1,5,15,null,null,"2026-04-13"]
[null,null,null,"製品名",null,3,980,4000,1,1,12,null,null,"2026-04-13"]
[null,null,null,"透明品種",null,4,940,4000,1,1,3,null,null,"2026-04-13"]
[null,null,null,"VM-PET 1011 HG -CR",null,5]
[null,null,null,"VM-PET 1011 HGM-CR",null,6]
[null,null,null,"VM-PET 1011 HG",null,7]
[null,null,null,"VM-PET 1031 HG",null,8]
[null,null,null,"VM-PET 1011 HG-CW",null,9]
[null,null,null,"VM-PET 1011 RG-CW",null,10]
[null,null,null,"VM-PET 1011 EG-C1"]
[null,null,null,"VM-PET 1011 SB-R2",null,"原反名","前工程M/C","大型ＳＬ"]
[null,null,null,"VM-PET 1011 CXR",null,"9021Ｔ","DF1",1]
[null,null,null,"VM-PET 1011HG-CA",null,9041,"DF3",6,null," "]
[null,null,null,"VM-PET 1011HG-CX",null,"9041A3","DF4",9]
[null,null,null,"VM-PET 1011 RG-CR",null,"9021A3","DF5",10]
[null,null,null,"VM-PET 1011CXR",null,9061,"DF6",11]
[null,null,null,null,null,"P60","DF7",13]
[null,null,null,"ＣＰＰ品種",null,"P60D","CF1",15]
[null,null,null,"ＣＰＰ2703",null,"PTJ-C","CF5",17]
[null,null,null,"ＣＰＰ2203",null,"PC","DNP",19]
[null,null,null,"ＣＰＰ2704",null,"Ｍ127"]
[null,null,null,"CPP2803EZ",null,"FE2001"]
[null,null,null,"ＣＰＰ2703  KT3",null,"FE2001A"]
[null,null,null,"ALPET品種",null,"BP216"]
[null,null,null,"BR-PET 1012",null,"BP216M"]
[null,null,null,"BR-PET 1312",null,"FHP310M"]
[null,null,null,"VM-PET 1310",null,"ＢＨＤＬ"]
[null,null,null,"BR-PET 1517"]
[null,null,null,"BR-PET 1019"]

{"sheet":"条件ﾏｽﾀ","index":1,"n_rows":55,"n_cols":22,"rows_kept":55,"cut":false,"hidden":false,"merged":[]}
[]
[]
[null,null,null,null,null,null,null,null,null,null,null,null,null,null,null,null,null,null,"特殊条件"]
[null,null,"欠点検出器エッジ設定"]
[null,null,"原反幅","エッジ幅",null,"品番","品名","原価区分","原反名","コード","表層ﾛｽ","品種","速度","M/C条件設定　呼び出しNo","欠点検出器",null,"仕向先",null,"製品コード","製品長","速度","M/C条件設定　呼び出しNo"]
[null,null,1600,475,null,25,"MCP",null,"9041A3",2703,100,"CPP 2073",480,2,1,null,"細川",null,1012,8000,450,8]
[null,null,1620,465,null,25,"MCP",null,9041,2203,100,"CPP 2203",480,2,1,null,"真丸"]
[null,null,1640,455,null,25,"MCP","3K",9041,2703,1000,"CPP 2073 KT3",480,2,2]
[null,null,1660,445,null,30,"MCP",null,9041,2703,0,"CPP 2073",480,2,1]
[null,null,1680,435,null,25,"MCP",null,"9021A3",2203,100,"CPP 2203",480,3,2]
[null,null,1700,425,null,12,"BR","3B7","P60",1012,0,"BR-PET 1012",450,0,3]
[null,null,1720,415,null,12,"BR",null,"P60D",1012,0,"BR-PET 1019",450,0,6]
[null,null,1740,405]
[null,null,1760,395]
[null,null,1780,385]
[null,null,1800,375]
[null,null,1820,365]
[null,null,1840,355]
[null,null,1860,345]
[null,null,1880,335]
[null,null,1900,325]
[null,null,1920,315]
[null,null,1940,305]
[null,null,1960,295]
[null,null,1980,285]
[null,null,2000,275]
[null,null,2020,265]
[null,null,2040,255]
[null,null,2060,245]
[null,null,2080,235]
[null,null,2100,225]
[null,null,2120,215]
[null,null,2140,205]
[null,null,2160,195]
[null,null,2180,185]
[null,null,2200,175]
[null,null,2220,165]
[null,null,2240,155]
[null,null,2260,145]
[null,null,2280,135]
[null,null,2300,125]
[null,null,2320,115]
[null,null,2340,105]
[null,null,2360,95]
[null,null,2380,85]
[null,null,2400,75]
[]
[]
[]
[]
[]
[]
[null,null,1600,475]
[null,null,1620,465]
[null,null,1640,455]

{"sheet":"仕様説明","index":2,"n_rows":277,"n_cols":21,"rows_kept":277,"cut":false,"hidden":true,"merged":[]}
[]
[]
[]
[null,"仕様説明"]
[]
[]
[null,"予定表の行をコピー"]
[]
[]
[]
[]
[]
[]
[]
[]
[]
[null,"自動作成シートの実行ボタンを押す。"]
[null,null,null,null,null,null,null,null,null,null,null,null,null,null,null,null,null,null,null,"手入力の項目"]
[]
[null,null,null,null,null,null,null,null,null,null,null,null,null,null,null,null,null,null,null,"日付とマシンは手入力してください。"]
[]
[]
[]
[]
[]
[]
[]
[]
[]
[]
[]
[]
[]
[]
[]
[]
[]
[]
[null,"ロットNo確認画面が表示"]
[]
[null,"投入する原反Lotを入力する。　※表示されているＬｏｔＮｏが違う場合は入力しなおしてください。"]
[]
[null,null,null,null,null,null,"※Ｌｏｔ確認画面が開いたときは次の製造LotNoを表示します。"]
[]
[null,null,null,null,null,null,"※予定表に製造Lotが記載されている場合は自動で転記されLot確認画面は表示されません。"]
[null,null,null,null,null,null,"　　基本予定表に製造Lot記載されていることはない前提なので常に確認画面が表示されると思います。"]
[]
[]
[]
[]
[]
[null,"下記項目はすべて自動で転記します。"]
[]
[null,"予定表","製品区分","番手","原反名","原反幅","原反長","作業指示Ｎｏ","仕向先","製品幅","製品長さ","計本"]
[null,"条件マスタ","エッジ幅","品種","表層ロス","ライン速度","条件設定No","検知器条件"]
[null,"原反Lot","前工程M/C"]
[null,"関数式","梱形","ﾛｯｸｼｬﾌﾄ","ｺｱ"]
[null,null,null,null,null,null,null,null,null,null,null,null,null,null,null,null,null,null,null,"予定表と実際の原反長さ違う時はここを打ち変える。"]
[]
[null,"仕向先の確認"]
[]
[null,null,null,null,null,null,null,null,null,null,null,null,null,null,null,null,null,null,null,"仕向先について"]
[]
[null,null,null,null,null,null,null,null,null,null,null,null,null,null,null,null,null,null,null,"・転記後、不要な文字を削除してください。"]
[]
[]
[]
[]
[]
[]
[]
[null,null,null,null,null,null,null,null,null,null,null,null,null,null,null,null,null,null,null,"展開図の再描画について"]
[]
[null,null,null,null,null,null,null,null,null,null,null,null,null,null,null,null,null,null,null,"製品セット数が予定表と違う場合は本数を打ち替えて"]
[null,null,null,null,null,null,null,null,null,null,null,null,null,null,null,null,null,null,null,"再度、実行ボタンを押して展開図を作成しなおしてください。"]
[]
[]
[]
[]
[]
[null,null,null,null,null,null,null,null,null,null,null,null,null,null,null,null,null,null,null,null,"図形上移動ボタン追加"]
[]
[null,null,null,null,null,null,null,null,null,null,null,null,null,null,null,"展開図を印刷。印刷後、製造ＬｏｔがＬｏｔｕｐします。"]
[]
[]
[]
[]
[null,null,null,null,null,null,null,null,null,null,null,null,null,null,null,"反転動作について",null,null,null,null,"図形上移動ボタンでﾏｯﾌﾟを上部に移動します。"]
[null,null,null,null,null,null,null,null,null,null,null,null,null,null,null,null,null,null,null,null,"元に戻したい場合はMD方向ボタンを押してください。"]
[null,null,null,null,null,null,null,null,null,null,null,null,null,null,null,"・下記の時にボタンを押すと展開図が反転します。"]
[]
[null,null,null,null,null,null,null,null,null,null,null,null,null,null,null,"ＭＤ方向"]
[null,null,null,null,null,null,null,null,null,null,null,null,null,null,null,"・4000ｍと8000ｍが混在しているとき"]
[null,null,null,null,null,null,null,null,null,null,null,null,null,null,null,"・2丁取り3丁取りが混在しているとき"]
[null,null,null,null,null,null,null,null,null,null,null,null,null,null,null,"・複数の取り幅があるとき"]
[]
[]
[null,null,null,null,null,null,null,null,null,null,null,null,null,null,null,"ＴＤ方向"]
[null,null,null,null,null,null,null,null,null,null,null,null,null,null,null,"・2丁取り　","左右反転"]
[null,null,null,null,null,null,null,null,null,null,null,null,null,null,null,"・3丁取り　一番長い幅を中央とし左右を反転"]
[]
[]
[]
[]
[null,null,null,null,null,null,null,null,null,null,null,null,null,null,null,"展開図のスタート部に図形を表示します。"]
[null,null,null,null,null,null,null,null,null,null,null,null,null,null,null,"①スタート②スタート/ラスト③ラスト④無し"]
[]
[]
[]
[]
[]
[]
[null,null,null,null,null,null,null,null,null,null,null,null,null,null,null,"100ｍ⇔200ｍを交互に表示します。"]
[null,null,null,null,null,null,null,null,null,null,null,null,null,null,null,"・表層ロスが100ｍの場合のみ対応する仕様です。"]
[null,null,null,null,null,null,null,null,null,null,null,null,null,null,null,"・表層ロスを200ｍとしたとき、表層ロス100mｎ製品が連続する場合"]
[null,null,null,null,null,null,null,null,null,null,null,null,null,null,null,"　表層ロス200mを維持します。"]
[]
[]
[]
[]
[]
[]
[]
[]
[]
[null,null,null,null,null,null,null,null,"〇表示"]
[]
[]
[null,"その他"]
[null,"・エッジ幅でリストにない幅がいくつかありました。一応エラーメッセージを出すようにしています。",null,null,null,null,null,null,null,null,null,null,null,null,null,null,null,null,"特殊条件について"]
[null,"・条件マスタは番手/品名/原反名/コードで検索します。　※一致しない場合はエラーメッセージを表示し条件マスタからの転記は実行されません。"]
[null,"　※原価区分を入力した場合番手/品名/原価区分/原反名/コードの５つをキーで検索します。",null,null,null,null,null,null,null,null,null,null,null,null,null,null,null,null,"製品長さでライン速度が違う条件は特殊条件マスタに"]
[null,null,null,null,null,null,null,null,null,null,null,null,null,null,null,null,null,null,"製品コード/長さ/速度を記載してください。"]
[]
[]
[]
[]
[]
[]
[]
[]
[]
[]
[]
[null,null,null,null,null,null,null,null,null,null,null,null,null,null,null,null,null,null,"条件設定追加"]
[]
[]
[]
[]
[null,"予定表ファイルについて"]
[]
[]
[]
[null,"前準備"]
[]
[null,"１．データ格納ファイルを共有フォルダーに入れる。"]
[]
[null,"２．生産予定表ファイルのファイル指定ボタンを押しデータ格納ファイルを選択する。"]
[]
[null,"３．スリットM/Cを入力"]
[]
[]
[]
[]
[]
[]
[]
[]
[]
[]
[]
[null,"塗りつぶしの色選択"]
[]
[]
[null,"DF6予定表とDF7予定表の色を選択　※両方のシートで指定してください。"]
[]
[null,"『準備、加工中』、『加工終了』に色を付けダブルクリックで設定する。"]
[]
[]
[]
[]
[]
[]
[]
[]
[]
[]
[]
[]
[]
[]
[]
[null,"予定表貼り付け"]
[]
[null,"CF6予定表、DF7予定表ｼｰﾄの貼り付けボタンを押し予定表を貼り付ける　※元となる予定表を開いてから実行して下さい。"]
[]
[]
[null,null,null,null,null,null,"※生産予定表の名前が『～〇〇〇〇〇〇〇』の場合は貼り付けボタンでファイルの読み取りができない為、"]
[null,null,null,null,null,null,"　ファイル選択画面が表示されるのでそこからファイルを指定してください。"]
[]
[]
[]
[]
[]
[]
[]
[]
[]
[]
[]
[null,"ステータスの選択"]
[]
[null,"予定表の日付をダブルクリックして選択画面を表示"]
[]
[null,null,null,null,null,null,null,"各ボタンの詳細"]
[]
[null,null,null,null,null,null,null,"準備","生産予定日を塗りつぶし　"]
[]
[null,null,null,null,null,null,null,"加工中","生産予定日～受付Noまでを塗りつぶし　　※加工中を複数選択できない仕様にしています。",null,null,null,null,null,null,null,"※加工中ではないのに加工中を選択できない場合はAW列に加工中の文字があるか確認してください。あったら消して"]
[]
[null,null,null,null,null,null,null,"加工終了","行全体を塗りつぶし　"]
[]
[null,null,null,null,null,null,null,"コメント","コメントを入力して戻るで転記します。　デフォルトは赤"]
[]
[null,null,null,null,null,null,null,"リセット","トラブル等により加工中止した際にコメント及び塗りつぶした項目をもとに戻す"]
[]
[null,null,null,null,null,null,null,"各項目を実行した際CSVファイルにデータが記録されます。"]
[]
[null,null,null,null,null,null,null,"※注　生計Noを検索キーとしている為、生計Noが空白の場合は実行できません。"]
[]
[]
[]
[]
[null,"コアチェック表示"]
[]
[null,"コアチェックは予定表のAV列に直接入力してください。　※入力時自動で記録されます。"]
[]
[]
[null,null,null,null,null,null,null,null,"予定表を張り替えた際、一度コアチェックはクリアされます。"]
[]
[null,null,null,null,null,null,null,null,"更新ボタンを押すとチェックを入れた該当のセルに再度転記されます。"]
[]
[]
[]
[]
[null,null,null,null,null,null,null,null,"コアチェックを消すと記録からもリセットされます。"]
[]
[]
[]
[]
[]
[]
[]
[]
[]
[]
[]
[]
[]
[null,"ステータス更新"]
[]
[]
[null,"予定表CF6予定表、DF7予定表ｼｰﾄの更新ボタンを押すと記録されなﾃﾞｰﾀが転記されます。"]
[]
[]
[]
[null,null,null,null,null,null,null,null,null,"CF6予定表、DF7予定表ｼｰﾄ両方にボタンを設置していますがどちらか1つを押せば両方の予定を更新します。"]
[]
[]
[]
[]
[]
[]
[]
[null,"丁数計算"]
[]
[null,"ボタンおすと予定表の丁数計算をします。"]

{"sheet":"自動作成","index":3,"n_rows":71,"n_cols":36,"rows_kept":71,"cut":false,"hidden":false,"merged":[[0,32,0,33],[3,34,3,36],[4,34,4,36],[5,34,5,36],[6,34,6,36],[7,34,7,36],[8,34,8,36],[9,34,9,36],[10,34,10,36],[11,34,11,36],[12,34,12,36],[13,34,13,36],[69,13,69,16],[69,17,69,21],[55,16,55,19],[55,20,55,22],[56,4,56,5],[57,4,57,5],[57,7,57,16],[57,17,57,19],[55,4,55,5],[55,6,55,7],[55,8,55,9],[55,10,55,11],[55,12,55,13],[55,14,55,15],[53,1,54,6],[53,7,53,10],[53,11,54,12],[53,13,54,13],[53,14,54,15],[53,16,54,22],[54,7,54,10],[70,1,70,4],[60,7,60,16],[60,17,60,19],[68,1,68,4],[68,5,68,8],[68,9,68,12],[68,13,68,16],[68,17,68,21],[58,4,58,5],[58,7,58,16],[58,17,58,19],[59,4,59,5],[59,7,59,16],[59,17,59,19],[69,1,69,4],[69,5,69,8],[69,9,69,12],[46,13,46,14],[47,1,47,2],[47,3,47,4],[47,5,47,6],[47,7,47,8],[47,9,47,10],[47,11,47,12],[47,13,47,14],[46,1,46,2],[46,3,46,4],[46,5,46,6],[46,7,46,8],[46,9,46,10],[46,11,46,12],[44,1,44,14],[45,1,45,2],[45,3,45,4],[45,5,45,6],[45,7,45,8],[45,9,45,10],[45,11,45,12],[45,13,45,14],[39,15,39,22],[40,18,40,20],[41,18,41,20],[42,15,42,18],[42,19,42,22],[43,2,43,7],[43,8,43,13],[43,15,43,18],[43,19,43,22],[31,15,31,22],[32,15,32,18],[32,19,32,20],[32,21,32,22],[33,15,33,22],[34,15,34,22],[28,16,28,18],[28,19,28,22],[29,16,29,18],[29,19,29,20],[30,16,30,18],[30,19,30,20],[24,15,24,17],[24,18,24,22],[25,15,25,17],[25,18,25,22],[26,15,30,15],[26,16,26,18],[26,21,26,22],[27,16,27,18],[27,19,27,20],[27,21,27,22],[21,15,21,17],[21,18,21,22],[22,15,22,17],[22,18,22,22],[23,15,23,17],[23,18,23,22],[18,15,18,17],[18,18,18,22],[19,15,19,17],[19,18,19,22],[20,15,20,17],[20,18,20,22],[15,12,15,14],[15,16,15,18],[15,20,15,22],[16,1,17,1],[16,15,17,15],[16,16,17,18],[16,19,17,19],[16,20,17,22],[15,1,15,5],[15,8,15,11],[14,12,14,14],[14,15,14,18],[14,19,14,22],[13,2,13,3],[13,4,13,5],[13,6,13,7],[13,11,13,14],[13,15,13,17],[13,18,13,20],[14,1,14,5],[14,6,14,7],[14,8,14,11],[12,2,12,3],[12,4,12,5],[12,6,12,7],[12,11,12,14],[12,15,12,17],[12,18,12,20],[11,2,11,3],[11,4,11,5],[11,6,11,7],[11,11,11,14],[11,15,11,17],[11,18,11,20],[10,2,10,3],[10,4,10,5],[10,6,10,7],[10,11,10,14],[10,15,10,17],[10,18,10,20],[9,2,9,3],[9,4,9,5],[9,6,9,7],[9,11,9,14],[9,15,9,17],[9,18,9,20],[8,2,8,3],[8,4,8,5],[8,6,8,7],[8,11,8,14],[8,15,8,17],[8,18,8,20],[7,2,7,3],[7,4,7,5],[7,6,7,7],[7,11,7,14],[7,15,7,17],[7,18,7,20],[2,12,2,13],[2,14,2,15],[6,2,6,3],[6,4,6,5],[6,6,6,7],[6,11,6,14],[6,15,6,17],[6,18,6,20],[5,2,5,3],[5,4,5,5],[5,6,5,7],[5,11,5,14],[5,15,5,17],[5,18,5,20],[0,1,1,6],[0,7,1,10],[0,11,1,12],[0,13,1,13],[0,14,1,15],[0,16,1,22],[4,2,4,3],[4,4,4,5],[4,6,4,7],[4,11,4,14],[4,15,4,17],[4,18,4,20],[2,16,2,19],[2,20,2,22],[3,2,3,3],[3,4,3,5],[3,6,3,7],[3,11,3,14],[3,15,3,17],[3,18,3,20],[2,4,2,5],[2,6,2,7],[2,8,2,9],[2,10,2,11]]}
[null,"スリット伝票　ＬＯＴ",null,null,null,null,null,{"$f":"②OP記入欄改!$D$5","v":60331356011},null,null,null,"製区",null,{"$f":"②OP記入欄改!$D$7","v":"T"},"品種",null,{"$f":"②OP記入欄改!$D$8","v":"CPP 2203"},null,null,null,null,null,null,null,null,null,null,"表示モード",0,null,null,"加工日","2025-10-23",null,"原反長",45000]
[null,null,null,null,null,null,null,null,null,null,null,null,null,null,null,null,null,null,null,null,null,null,null,null,null,null,null,"表示モード",0,1,0,null,null,null,"スリットＭ/Ｃ",15]
[null,"番手",null,{"$f":"②OP記入欄改!$D$9","v":25},"原反名",null,{"$f":"②OP記入欄改!$D$10","v":"9021A3"},null,"原反幅",null,1960,null,"原反長",null,45000,null,"前工程M/C",null,null,null,{"$f":"②OP記入欄改!$D$13","v":"DF6"},null,null,null,null,null,null,"総長さ",44000]
[null,null,{"$f":"②OP記入欄改!G3","v":"仕向先"},null,{"$f":"②OP記入欄改!I3","v":"製品幅"},null,{"$f":"②OP記入欄改!K3","v":"製品長さ"},null,{"$f":"②OP記入欄改!M3","v":"計本"},{"$f":"②OP記入欄改!N3","v":"実"},{"$f":"②OP記入欄改!O3","v":"梱形"},"Ａ保枝番",null,null,null,"ミル枝番",null,null,"Ｂ級枝番",null,null,"ロック\nシャフト","コア",null,null,null,null,"完了メッセージ","あり",null,null,"幅","長さ","本数","備考"]
[null,1,{"$f":"AI5","v":"ユーザーフリー"},null,{"$f":"AF5","v":980},null,{"$f":"AG5","v":8000},null,{"$f":"AH5","v":5},null,{"$f":"IF(AND(I5<>\"\", I5<>0), \"P\", \"\")","v":"P"},null,null,null,null,null,null,null,null,null,null,{"$f":"IF(OR(E5=\"\", E5=0), \"\", IF(E5>=990, \"〇\", \"-\"))","v":"-"},{"$f":"IF(OR(E5=\"\", E5=0), \"\", 3)","v":3},null,null,null,null,null,null,"MCP",2203,980,8000,5,"ユーザーフリー"]
[null,2,{"$f":"AI6","v":0},null,{"$f":"AF6","v":940},null,{"$f":"AG6","v":8000},null,{"$f":"AH6","v":5},null,{"$f":"IF(AND(I6<>\"\", I6<>0), \"P\", \"\")","v":"P"},null,null,null,null,null,null,null,null,null,null,"-",3,null,null,null,null,null,null,"MCP",2203,940,8000,5]
[null,3,"４０００ｍ余剰分",null,980,null,4000,null,1,null,"P",null,null,null,null,null,null,null,null,null,null,{"$f":"IF(OR(E7=\"\", E7=0), \"\", IF(E7>=990, \"〇\", \"-\"))","v":"-"},3,null,null,null,null,{"$f":"SUM(AH5:AH14)+SUM(AG5:AG14)+SUM(AF5:AF14)","v":27852},null,"MCP",2203,980,4000,1,"４０００ｍ余剰分"]
[null,4,"４０００ｍ余剰分",null,940,null,4000,null,1,null,"P",null,null,null,null,null,null,null,null,null,null,"-",3,null,null,null,null,{"$f":"SUM(②OP記入欄改!J18:J27)+SUM(②OP記入欄改!H18:H27)+SUM(②OP記入欄改!G18:G27)","v":27852},null,"MCP",2203,940,4000,1,"４０００ｍ余剰分"]
[null,5,0,null,0,null,0,null,0,null,"",null,null,null,null,null,null,null,null,null,null,{"$f":"IF(OR(E9=\"\", E9=0), \"\", IF(E9>=990, \"〇\", \"-\"))","v":""},"",null,null,null,null,{"$f":"IF(AB7=AB8,1,0)","v":1}]
[null,6,0,null,0,null,0,null,0,null,"",null,null,null,null,null,null,null,null,null,null,"",{"$f":"IF(OR(E10=\"\", E10=0), \"\", 3)","v":""}]
[null,7,0,null,0,null,0,null,0,null,{"$f":"IF(AND(I11<>\"\", I11<>0), \"P\", \"\")","v":""},null,null,null,null,null,null,null,null,null,null,{"$f":"IF(OR(E11=\"\", E11=0), \"\", IF(E11>=990, \"〇\", \"-\"))","v":""},""]
[null,8,0,null,0,null,0,null,0,null,"",null,null,null,null,null,null,null,null,null,null,"",{"$f":"IF(OR(E12=\"\", E12=0), \"\", 3)","v":""}]
[null,9,0,null,0,null,0,null,0,null,"",null,null,null,null,null,null,null,null,null,null,{"$f":"IF(OR(E13=\"\", E13=0), \"\", IF(E13>=990, \"〇\", \"-\"))","v":""},""]
[null,10,0,null,0,null,0,null,0,null,"",null,null,null,null,null,null,null,null,null,null,"",""]
[null,"スリット作業指示№",null,null,null,null,"M/C№",null,"加工日",null,null,null,"前工程品質情報",null,null,"切断シフト1",null,null,null,"切断シフト2",null,null,null,null,null,null,null,null,null,null,null,"原反実長","ジョイント入力"]
[null,44001610001,null,null,null,null,"ＳＬ-",{"$f":"AJ2","v":15},{"$f":"AG1","v":"2025-10-23"},null,null,null,"確認　　　□",null,null,"組","作業者",null,null,"組","作業者",null,null,null,null,null,null,null,null,null,{"$f":"AF16-AG16","v":22924},45700,22776]
[null,null,null,null,null,null,null,null,null,null,null,null,null,null,null,null,null,null,null,null,null,null,null,null,null,null,null,null,null,null,null,"セット数","ジョイント位置"]
[null,null,null,null,null,null,null,null,null,null,null,null,null,null,null,null,null,null,null,null,null,null,null,null,null,null,null,null,null,null,null,4,2514]
[null,null,null,null,null,null,null,null,null,null,null,null,null,null,null,"切替開始",null,null,"　　　　　時　　　　　分"]
[null,null,null,null,null,null,null,null,null,null,null,null,null,null,null,"切断開始",null,null,"　　　　　時　　　　　分"]
[null,null,null,null,null,null,null,null,null,null,null,null,null,null,null,"切断完了",null,null,"　　　　　時　　　　　分"]
[null,null,null,null,null,null,null,null,null,null,null,null,null,null,null,"食事開始",null,null,"　　　　　時　　　　　分"]
[null,null,null,null,null,null,null,null,null,null,null,null,null,null,null,"食事完了",null,null,"　　　　　時　　　　　分"]
[null,null,null,null,null,null,null,null,null,null,null,null,null,null,null,"停機開始",null,null,"　　　　　時　　　　　分"]
[null,null,null,null,null,null,null,null,null,null,null,null,null,null,null,"停機完了",null,null,"　　　　　時　　　　　分"]
[null,null,null,null,null,null,null,null,null,null,null,null,null,null,null,"停機理由"]
[null,null,null,null,null,null,null,null,null,null,null,null,null,null,null,"条件確認","M/C条件設定",null,null,"呼出№",null,{"$f":"IF(②OP記入欄改!D16=\"\",\"\",IF(②OP記入欄改!D16=0,\"0\",②OP記入欄改!D16))","v":3}]
[null,null,null,null,null,null,null,null,null,null,null,null,null,null,null,null,"欠点検出機",null,null,"使用条件№",null,{"$f":"②OP記入欄改!D17","v":2}]
[null,null,null,null,null,null,null,null,null,null,null,null,null,null,null,null,"速度(m/min)",null,null,480]
[null,null,null,null,null,null,null,null,null,null,null,null,null,null,null,null,"張力(N/ｍ・kg)"]
[null,null,null,null,null,null,null,null,null,null,null,null,null,null,null,null,"接圧(N/ｍ・kg)"]
[null,null,null,null,null,null,null,null,null,null,null,null,null,null,null,"外観確認"]
[null,null,null,null,null,null,null,null,null,null,null,null,null,null,null,"表層透過検査",null,null,null,"OK",null,"NG"]
[null,null,null,null,null,null,null,null,null,null,null,null,null,null,null,"巻姿外観確認[ｽﾀｰﾄ/中間/ﾗｽﾄ]"]
[null,null,null,null,null,null,null,null,null,null,null,null,null,null,null,"各枝番に問題無『〇』問題有『☓』を記載"]
[]
[]
[]
[]
[null,null,null,null,null,null,null,null,null,null,null,null,null,null,null,"※『☓』の場合は展開図に内容を記載する"]
[null,null,null,null,null,null,null,null,null,null,null,null,null,null,null,"検材エッジ",null,null,295]
[null,null,null,null,null,null,null,null,null,null,null,null,null,null,null,"表層ロス",null,null,100,null,null,"m"]
[null,null,null,null,null,null,null,null,null,null,null,null,null,null,null,"レザー/丸刃交換",null,null,null,"レザー/丸刃廃棄"]
[null,null,null,null,null,null,null,null,null,null,null,null,null,null,null,"　枚",null,null,null,"　　枚"]
[null,"膜厚測定（ＣＰＰ・VMPET・BRPET）",null,null,null,null,null,null,null,null,null,null,null,null,null,"備考"]
[null,"ラスト"]
[null,"1セット表層"]
[null,"1セット芯"]
[]
[]
[]
[]
[]
[null,"スリット伝票　ＬＯＴ",null,null,null,null,null,{"$f":"②OP記入欄改!$D$5","v":60331356011},null,null,null,"製区",null,{"$f":"②OP記入欄改!$D$7","v":"T"},"品種",null,{"$f":"②OP記入欄改!$D$8","v":"CPP 2203"}]
[]
[null,"番手",null,{"$f":"②OP記入欄改!$D$9","v":25},"原反名",null,{"$f":"②OP記入欄改!$D$10","v":"9021A3"},null,"原反幅",null,{"$f":"②OP記入欄改!$D$11","v":1960},null,"原反長",null,{"$f":"②OP記入欄改!$D$12","v":45000},null,"前工程M/C",null,null,null,{"$f":"②OP記入欄改!$D$13","v":"DF6"}]
[null,"停機内容",null,null,null,null,null,null,null,null,null,null,null,null,null,null,null,"停機時間"]
[null,"Ｆ破れ",null,null,null,null,null,null,null,null,null,null,null,null,null,null,null,null,null,null,"hr"]
[null,"耳切れ",null,null,null,null,null,null,null,null,null,null,null,null,null,null,null,null,null,null,"hr"]
[null,"紙管切断",null,null,null,null,null,null,null,null,null,null,null,null,null,null,null,null,null,null,"hr"]
[null,"その他停機内容",null,null,null,null,null,null,null,null,null,null,null,null,null,null,null,null,null,null,"hr"]
[null,"備考"]
[]
[]
[]
[]
[]
[null,"外観確認内容"]
[null,"原反ズレ",null,null,null,"当てキズ",null,null,null,"溝ロール痕",null,null,null,"ＴＤスジ",null,null,null,"ピッチキズ"]
[null,"スリキズ",null,null,null,"クボミシワ",null,null,null,"シワムラ",null,null,null,"変色",null,null,null,"巻芯シワ"]
[null,"切断面・異物"]

{"sheet":"説明","index":4,"n_rows":93,"n_cols":11,"rows_kept":93,"cut":false,"hidden":false,"merged":[]}
[]
[]
[null,"現状の動作"]
[]
[]
[null,"DF6予定表シートの８行目～１１行目をコピー"]
[]
[]
[]
[]
[]
[]
[null,"自動作成シートの実行ボタン押す"]
[]
[]
[]
[]
[]
[]
[]
[]
[]
[null,null,null,null,null,null,null,null,null,null,"マクロコードは下記の部分"]
[null,"図形が作成され緑バーが表示される。"]
[]
[]
[]
[]
[]
[]
[]
[]
[]
[]
[]
[]
[]
[]
[]
[]
[]
[]
[]
[]
[]
[]
[]
[]
[]
[null,"やりたいこと"]
[]
[]
[null,"自動作成シートに表層サンプルにチェックボックスを設置"]
[]
[]
[]
[]
[]
[]
[]
[]
[]
[]
[]
[]
[]
[]
[]
[null,"チェックありは現状の状態（緑バーを常に表示）　※チェックボックスにチェックをしたときも表示"]
[]
[null,"チェックなしは図形に緑バーを表示しない。"]
[]
[]
[]
[]
[]
[]
[]
[]
[]
[]
[]
[]
[]
[]
[]
[]
[]
[]
[]
[]
[]
[null,"ただしセルH1の値の下２桁が１＆下３桁が０の時だけ緑バーを表示"]

{"sheet":"DF6予定表","index":5,"n_rows":1245,"n_cols":49,"rows_kept":1245,"cut":false,"hidden":false,"merged":[[4,3,5,3],[4,4,5,4],[4,8,4,23],[4,24,4,43]]}
["準備 加工中","943C68",null,null,null,null,null,null,null,null,null,null,null,null,null,null,null,null,null,null,null,null,null,null,null,null,null,null,null,null,null,null,null,null,null,null,null,null,null,null,"\\\\taf-fs001\\拠点別共有\\福島\\CO関係共通（機能F、Co生技課）\\工程管理S現場端末共有\\CF5\\杉山　製造伝票用\\データ格納.csv"]
["加工終了","92D050"]
[null,null,"マシン","DF6"]
["ｽﾘｯﾄM/C",17,"月度"]
["生産","加工","受付","製造ロット","生計NO","工程","切替時間","GRP","原反情報",null,null,null,null,null,null,null,null,null,null,null,null,null,null,null,"製品情報"]
["予定日","順序","NO",null,null,"コード","(分)","NO","原反在庫NO","ﾀｲﾌﾟ","ﾀｲﾌﾟ略名","ﾛｯﾄNO","発注NO","品番","品番区分","幅","組合せ幅","決済幅","長さ","余り長さ","決済長さ","本数","巻足し有","入荷日","品名ｺｰﾄﾞ","ﾀｲﾌﾟ","内輸区分","製品区分","原価区分","元原反","製品名","約定NO","枝番","取位置","幅","長さ","規格","本数","必本","実績本数","ｴﾘｱ","納期","備考","梱包形態","次行程情報","進捗管理","契約部課"]
[]
["2026-04-01",1,"",null,"43855940001",null,null,null,null,"9021A3","9021A3",null,"2442823",25,null,1960,null,null,45000,null,null,1,null,"2026-03-30","MCP","2203","N","T","3E6B",null,2203,"3888810",1,null,980,8000,1,5,70,"2丁",null,"2026-04-13","ユーザーフリー",null,null,null,"213"]
[null,null,"",null,null,null,null,null,null,null,null,null,null,null,null,null,null,null,null,null,null,null,null,null,"MCP","2203","N","T","3E6B",null,2203,"3888811",1,null,940,8000,1,5,15,null,null,"2026-04-13",null,null,null,null,"211"]
[null,null,"",null,null,null,null,null,null,null,null,null,null,null,null,null,null,null,null,null,null,null,null,null,"MCP","2203","N","T","3E6B",null,2203,"3888812",1,null,980,4000,1,1,12,null,null,"2026-04-13","４０００ｍ余剰分",null,null,null,"213"]
[null,null,"",null,null,null,null,null,null,null,null,null,null,null,null,null,null,null,null,null,null,null,null,null,"MCP","2203","N","T","3E6B",null,2203,"3888813",1,null,940,4000,1,1,3,null,null,"2026-04-13","４０００ｍ余剰分",null,null,null,"211"]
[null,null,""]
["2026-04-01",2,"","60331356091","43855950001",null,null,null,null,"9021A3","9021A3",null,"2442823",25,null,1960,null,null,45000,null,null,1,null,"2026-03-30","MCP","2203","N","T","3E6B",null,2203,"3888814",1,null,960,8000,1,10,35,"2丁",null,"2026-04-13",null,null,null,null,"211"]
[null,null,"",null,null,null,null,null,null,null,null,null,null,null,null,null,null,null,null,null,null,null,null,null,"MCP","2203","N","T","3E6B",null,2203,"3888815",1,null,960,4000,1,2,8,null,null,"2026-04-13","４０００ｍ余剰分",null,null,null,"211"]
[null,null,""]
["2026-04-01",3,"","60401356011","43855960001",null,null,null,null,"9021A3","9021A3",null,"2442823",25,null,1960,null,null,45000,null,null,1,null,"2026-03-30","MCP","2203","N","T","3E6B",null,2203,"3888816",1,null,960,8000,1,10,35,"2丁",null,"2026-04-13",null,null,null,null,"211"]
[null,null,"",null,null,null,null,null,null,null,null,null,null,null,null,null,null,null,null,null,null,null,null,null,"MCP","2203","N","T","3E6B",null,2203,"3888817",1,null,960,4000,1,2,8,null,null,"2026-04-13","４０００ｍ余剰分",null,null,null,"211"]
[null,null,""]
["2026-04-01",4,"","60401356020","43856030001",null,null,null,null,"9041",9041,null,"2442825",20,null,1960,null,null,53000,null,null,1,null,"2026-03-30","MCP","2703","N","S","3R",null,2703,"3888909",1,null,880,8000,1,6,12,"2丁",null,"2026-04-13","細川",null,null,null,"211"]
[null,null,"",null,null,null,null,null,null,null,null,null,null,null,null,null,null,null,null,null,null,null,null,null,"MCP","2703","N","S","3R",null,2703,"3888910",1,null,1040,8000,1,6,90,null,null,"2026-04-13","細川",null,null,null,"211"]
[null,null,"",null,null,null,null,null,null,null,null,null,null,null,null,null,null,null,null,null,null,null,null,null,"MCP","2703","N","S","3R",null,2703,"3888911",1,null,1040,4000,1,1,15,null,null,"2026-04-13","４０００ｍ余剰分",null,null,null,"211"]
[null,null,"",null,null,null,null,null,null,null,null,null,null,null,null,null,null,null,null,null,null,null,null,null,"MCP","2703","N","S","3R",null,2703,"3888912",1,null,880,4000,1,1,2,null,null,"2026-04-13","４０００ｍ余剰分",null,null,null,"211"]
[null,null,""]
["2026-04-01",5,"","60401356030","43856040001",null,null,null,null,"9041",9041,null,"2442825",20,null,1960,null,null,53000,null,null,1,null,"2026-03-30","MCP","2703","N","S","3R",null,2703,"3888917",1,null,900,8000,1,6,72,"2丁",null,"2026-04-13","細川",null,null,null,"211"]
[null,null,"",null,null,null,null,null,null,null,null,null,null,null,null,null,null,null,null,null,null,null,null,null,"MCP","2703","N","S","3R",null,2703,"3888918",1,null,1020,8000,1,6,54,null,null,"2026-04-13","東タイ",null,null,null,"213"]
[null,null,"",null,null,null,null,null,null,null,null,null,null,null,null,null,null,null,null,null,null,null,null,null,"MCP","2703","N","S","3R",null,2703,"3888919",1,null,1020,4000,1,1,8,null,null,"2026-04-13","４０００ｍ余剰分",null,null,null,"213"]
[null,null,"",null,null,null,null,null,null,null,null,null,null,null,null,null,null,null,null,null,null,null,null,null,"MCP","2703","N","S","3R",null,2703,"3888920",1,null,900,4000,1,1,12,null,null,"2026-04-13","４０００ｍ余剰分",null,null,null,"211"]
[null,null,""]
["2026-04-01",6,null,"60401356050","43856050001",null,null,null,null,"9041",9041,null,"2442825",20,null,1960,null,null,53000,null,null,1,null,"2026-03-30","MCP","2703","N","S","3R",null,2703,"3888925",1,null,920,8000,1,6,30,"2丁",null,"2026-04-13","細川",null,null,null,"211"]
[null,null,null,null,null,null,null,null,null,null,null,null,null,null,null,null,null,null,null,null,null,null,null,null,"MCP","2703","N","S","3R",null,2703,"3888926",1,null,1000,8000,1,6,48,null,null,"2026-04-13","細川",null,null,null,"211"]
[null,null,null,null,null,null,null,null,null,null,null,null,null,null,null,null,null,null,null,null,null,null,null,null,"MCP","2703","N","S","3R",null,2703,"3888927",1,null,1000,4000,1,1,8,null,null,"2026-04-13","４０００ｍ余剰分",null,null,null,"211"]
[null,null,null,null,null,null,null,null,null,null,null,null,null,null,null,null,null,null,null,null,null,null,null,null,"MCP","2703","N","S","3R",null,2703,"3888928",1,null,920,4000,1,1,5,null,null,"2026-04-13","４０００ｍ余剰分",null,null,null,"211"]
[]
["2026-04-01",7,null,"60401356060","43856120001",null,null,null,null,"9041A3","9041A3",null,"2442826",25,null,1960,null,null,45000,null,null,1,null,"2026-03-30","MCP","2703","N","S","3A6",null,2703,"3889189",1,null,780,8000,1,5,10,"2丁",null,"2026-04-13","凸版　ＴＡＦＫ原反ＮＧ",null,null,null,"214"]
[null,null,null,null,null,null,null,null,null,null,null,null,null,null,null,null,null,null,null,null,null,null,null,null,"MCP","2703","N","S","3A6",null,2703,"3889190",1,null,1140,8000,1,5,70,null,null,"2026-04-13","大三紙業　ＴＡＦＫＯＫ",null,null,null,"217"]
[null,null,null,null,null,null,null,null,null,null,null,null,null,null,null,null,null,null,null,null,null,null,null,null,"MCP","2703","N","S","3A6",null,2703,"3889191",1,null,1140,4000,1,1,14,null,null,"2026-04-13","４０００ｍ余剰分",null,null,null,"217"]
[null,null,null,null,null,null,null,null,null,null,null,null,null,null,null,null,null,null,null,null,null,null,null,null,"MCP","2703","N","S","3A6",null,2703,"3889192",1,null,780,4000,1,1,2,null,null,"2026-04-13","４０００ｍ余剰分",null,null,null,"214"]
[]
["2026-04-01",8,null,"60401356070","43856130001",null,null,null,null,"9041A3","9041A3",null,"2442826",25,null,1960,null,null,45000,null,null,1,null,"2026-03-30","MCP","2703","N","S","3A6",null,2703,"3889233",1,null,780,8000,1,5,10,"2丁",null,"2026-04-13","尾池",null,null,null,"215"]
[null,null,null,null,null,null,null,null,null,null,null,null,null,null,null,null,null,null,null,null,null,null,null,null,"MCP","2703","N","S","3A6",null,2703,"3889234",1,null,1140,8000,1,5,10,null,null,"2026-04-13","尾池",null,null,null,"215"]
[null,null,null,null,null,null,null,null,null,null,null,null,null,null,null,null,null,null,null,null,null,null,null,null,"MCP","2703","N","S","3A6",null,2703,"3889235",1,null,1140,4000,1,1,2,null,null,"2026-04-13","４０００ｍ余剰分",null,null,null,"215"]
[null,null,null,null,null,null,null,null,null,null,null,null,null,null,null,null,null,null,null,null,null,null,null,null,"MCP","2703","N","S","3A6",null,2703,"3889236",1,null,780,4000,1,1,2,null,null,"2026-04-13","４０００ｍ余剰分",null,null,null,"215"]
[]
["2026-04-01",9,null,"60401356080","43856140001",null,null,null,null,"9041A3","9041A3",null,"2442826",25,null,1960,null,null,45000,null,null,1,null,"2026-03-30","MCP","2703","N","S","3A6D",null,2703,"3889294",1,null,940,8000,1,5,5,"2丁",null,"2026-04-13","ＤＮＰ京都　３Ｄｏｒ３Ｄ６",null,null,null,"213"]
[null,null,null,null,null,null,null,null,null,null,null,null,null,null,null,null,null,null,null,null,null,null,null,null,"MCP","2703","N","S","3A6",null,2703,"3889295",1,null,980,8000,1,5,25,null,null,"2026-04-13","凸版　ＴＡＦＫ原反ＮＧ",null,null,null,"214"]
[null,null,null,null,null,null,null,null,null,null,null,null,null,null,null,null,null,null,null,null,null,null,null,null,"MCP","2703","N","S","3A6",null,2703,"3889296",1,null,980,4000,1,1,5,null,null,"2026-04-13","４０００ｍ余剰分",null,null,null,"214"]
[null,null,null,null,null,null,null,null,null,null,null,null,null,null,null,null,null,null,null,null,null,null,null,null,"MCP","2703","N","S","3A6",null,2703,"3889297",1,null,940,4000,1,1,1,null,null,"2026-04-13","４０００ｍ余剰分",null,null,null,"213"]
[]
["2026-04-01",10,null,"60401356090","43856150001",null,null,null,null,"9041A3","9041A3",null,"2442826",25,null,1960,null,null,45000,null,null,1,null,"2026-03-30","MCP","2703","N","S","3A6",null,2703,"3889375",1,null,820,4000,1,11,10,"2丁",null,"2026-04-13","尾池",null,null,null,"215"]
[null,null,null,null,null,null,null,null,null,null,null,null,null,null,null,null,null,null,null,null,null,null,null,null,"MCP","2703","N","S","3A6",null,2703,"3889376",1,null,1100,4000,1,11,10,null,null,"2026-04-13","細川",null,null,null,"211"]
[]
["2026-04-02",1,null,"60401356100","43856160001",null,null,null,null,"9041A3","9041A3",null,"2442838",25,null,1960,null,null,45000,null,null,1,null,"2026-03-31","MCP","2703","N","S","3A6",null,2703,"3889377",1,null,820,4000,1,11,60,"2丁",null,"2026-04-13","ユーザーフリー　ＴＡＦＫ原反使用可",null,null,null,"213"]
[null,null,null,null,null,null,null,null,null,null,null,null,null,null,null,null,null,null,null,null,null,null,null,null,"MCP","2703","N","S","3A6",null,2703,"3889378",1,null,1100,4000,1,11,50,null,null,"2026-04-13","細川　ＴＡＦＫ原反使用可",null,null,null,"211"]
[]
["2026-04-02",2,null,"60402356011","43855970001",null,null,null,null,"9021A3","9021A3",null,"2442837",25,null,1940,null,null,45000,null,null,1,null,"2026-03-31","MCP","2203","N","T","3E6B",null,2203,"3888802",1,null,940,8000,1,5,15,"2丁",null,"2026-04-13",null,null,null,null,"211"]
[null,null,null,null,null,null,null,null,null,null,null,null,null,null,null,null,null,null,null,null,null,null,null,null,"MCP","2203","N","T","3E6B",null,2203,"3888803",1,null,960,8000,1,5,35,null,null,"2026-04-13",null,null,null,null,"211"]
[null,null,null,null,null,null,null,null,null,null,null,null,null,null,null,null,null,null,null,null,null,null,null,null,"MCP","2203","N","T","3E6B",null,2203,"3888804",1,null,960,4000,1,1,8,null,null,"2026-04-13","４０００ｍ余剰分",null,null,null,"211"]
[null,null,null,null,null,null,null,null,null,null,null,null,null,null,null,null,null,null,null,null,null,null,null,null,"MCP","2203","N","T","3E6B",null,2203,"3888805",1,null,940,4000,1,1,3,null,null,"2026-04-13","４０００ｍ余剰分",null,null,null,"211"]
[]
["2026-04-02",3,null,"60402356021","43855980001",null,null,null,null,"9021A3","9021A3",null,"2442837",25,null,1940,null,null,45000,null,null,1,null,"2026-03-31","MCP","2203","N","T","3E6B",null,2203,"3888806",1,null,940,8000,1,5,15,"2丁",null,"2026-04-13",null,null,null,null,"211"]
[null,null,null,null,null,null,null,null,null,null,null,null,null,null,null,null,null,null,null,null,null,null,null,null,"MCP","2203","N","T","3E6B",null,2203,"3888807",1,null,960,8000,1,5,35,null,null,"2026-04-13",null,null,null,null,"211"]
[null,null,null,null,null,null,null,null,null,null,null,null,null,null,null,null,null,null,null,null,null,null,null,null,"MCP","2203","N","T","3E6B",null,2203,"3888808",1,null,960,4000,1,1,8,null,null,"2026-04-13","４０００ｍ余剰分",null,null,null,"211"]
[null,null,null,null,null,null,null,null,null,null,null,null,null,null,null,null,null,null,null,null,null,null,null,null,"MCP","2203","N","T","3E6B",null,2203,"3888809",1,null,940,4000,1,1,3,null,null,"2026-04-13","４０００ｍ余剰分",null,null,null,"211"]
[]
["2026-04-02",4,null,"60402356030","43856170001",null,null,null,null,"9041A3","9041A3",null,"2442838",25,null,1960,null,null,45000,null,null,1,null,"2026-03-31","MCP","2703","N","S","3A6",null,2703,"3889466",1,null,860,8000,1,5,35,"2丁",null,"2026-04-13","ＴＡＦＫ原反使用可",null,null,null,"211"]
[null,null,null,null,null,null,null,null,null,null,null,null,null,null,null,null,null,null,null,null,null,null,null,null,"MCP","2703","N","S","3A6",null,2703,"3889467",1,null,1060,8000,1,5,50,null,null,"2026-04-13","細川　ＴＡＦＫ原反使用可",null,null,null,"211"]
[null,null,null,null,null,null,null,null,null,null,null,null,null,null,null,null,null,null,null,null,null,null,null,null,"MCP","2703","N","S","3A6",null,2703,"3889468",1,null,1060,4000,1,1,10,null,null,"2026-04-13","４０００ｍ余剰分",null,null,null,"211"]
[null,null,null,null,null,null,null,null,null,null,null,null,null,null,null,null,null,null,null,null,null,null,null,null,"MCP","2703","N","S","3A6",null,2703,"3889469",1,null,860,4000,1,1,7,null,null,"2026-04-13","４０００ｍ余剰分",null,null,null,"211"]
[]
["2026-04-02",5,null,"60402356040","43856180001",null,null,null,null,"9041A3","9041A3",null,"2442838",25,null,1960,null,null,45000,null,null,1,null,"2026-03-31","MCP","2703","N","S","3A6",null,2703,"3889470",1,null,860,8000,1,5,35,"2丁",null,"2026-04-13","ＴＡＦＫ原反使用可",null,null,null,"211"]
[null,null,null,null,null,null,null,null,null,null,null,null,null,null,null,null,null,null,null,null,null,null,null,null,"MCP","2703","N","S","3A6",null,2703,"3889471",1,null,1060,8000,1,5,50,null,null,"2026-04-13","細川　ＴＡＦＫ原反使用可",null,null,null,"211"]
[null,null,null,null,null,null,null,null,null,null,null,null,null,null,null,null,null,null,null,null,null,null,null,null,"MCP","2703","N","S","3A6",null,2703,"3889472",1,null,1060,4000,1,1,10,null,null,"2026-04-13","４０００ｍ余剰分",null,null,null,"211"]
[null,null,null,null,null,null,null,null,null,null,null,null,null,null,null,null,null,null,null,null,null,null,null,null,"MCP","2703","N","S","3A6",null,2703,"3889473",1,null,860,4000,1,1,7,null,null,"2026-04-13","４０００ｍ余剰分",null,null,null,"211"]
[]
["2026-04-02",6,null,"60402356050","43856190001",null,null,null,null,"9041A3","9041A3",null,"2442838",25,null,1960,null,null,45000,null,null,1,null,"2026-03-31","MCP","2703","N","S","3A6",null,2703,"3889667",1,null,960,8000,1,10,70,"2丁",null,"2026-04-13","細川　ＴＡＦＫ原反使用可",null,null,null,"211"]
[null,null,null,null,null,null,null,null,null,null,null,null,null,null,null,null,null,null,null,null,null,null,null,null,"MCP","2703","N","S","3A6",null,2703,"3889668",1,null,960,4000,1,2,20,null,null,"2026-04-13","４０００ｍ余剰分",null,null,null,"211"]
[]
["2026-04-02",7,null,"60402356060","43856060001",null,null,null,null,"9041",9041,null,"2442840",20,null,1940,null,null,53000,null,null,1,null,"2026-03-31","MCP","2703","N","S","3R",null,2703,"3888901",1,null,920,8000,1,6,12,"2丁",null,"2026-04-13","ユーザーフリー",null,null,null,"213"]
[null,null,null,null,null,null,null,null,null,null,null,null,null,null,null,null,null,null,null,null,null,null,null,null,"MCP","2703","N","S","3R",null,2703,"3888902",1,null,980,8000,1,6,36,null,null,"2026-04-13","ユーザーフリー",null,null,null,"213"]
[null,null,null,null,null,null,null,null,null,null,null,null,null,null,null,null,null,null,null,null,null,null,null,null,"MCP","2703","N","S","3R",null,2703,"3888903",1,null,980,4000,1,1,6,null,null,"2026-04-13","４０００ｍ余剰分",null,null,null,"213"]
[null,null,null,null,null,null,null,null,null,null,null,null,null,null,null,null,null,null,null,null,null,null,null,null,"MCP","2703","N","S","3R",null,2703,"3888904",1,null,920,4000,1,1,2,null,null,"2026-04-13","４０００ｍ余剰分",null,null,null,"213"]
[]
["2026-04-02",8,null,"60402356070","43856200001",null,null,null,null,"9041A3","9041A3",null,"2442841",25,null,1940,null,null,45000,null,null,1,null,"2026-03-31","MCP","2703","N","S","3A6",null,2703,"3889264",1,null,640,4000,1,11,10,"2丁",null,"2026-04-13","尾池",null,null,null,"215"]
[null,null,null,null,null,null,null,null,null,null,null,null,null,null,null,null,null,null,null,null,null,null,null,null,"MCP","2703","N","S","3A6",null,2703,"3889265",1,null,1260,4000,1,11,30,null,null,"2026-04-13","ユーザーフリー　ＴＡＦＫ原反使用可",null,null,null,"213"]
[]
["2026-04-02",9,null,"60402356080","43856070001",null,null,null,null,"9041",9041,null,"2442842",20,null,1920,null,null,53000,null,null,1,null,"2026-03-31","MCP","2703","N","S","3R",null,2703,"3888893",1,null,840,8000,1,6,30,"2丁",null,"2026-04-13","尾池",null,null,null,"215"]
[null,null,null,null,null,null,null,null,null,null,null,null,null,null,null,null,null,null,null,null,null,null,null,null,"MCP","2703","N","S","3R",null,2703,"3888894",1,null,1040,8000,1,6,90,null,null,"2026-04-13","細川",null,null,null,"211"]
[null,null,null,null,null,null,null,null,null,null,null,null,null,null,null,null,null,null,null,null,null,null,null,null,"MCP","2703","N","S","3R",null,2703,"3888895",1,null,1040,4000,1,1,15,null,null,"2026-04-13","４０００ｍ余剰分",null,null,null,"211"]
[null,null,null,null,null,null,null,null,null,null,null,null,null,null,null,null,null,null,null,null,null,null,null,null,"MCP","2703","N","S","3R",null,2703,"3888896",1,null,840,4000,1,1,3,null,null,"2026-04-13","４０００ｍ余剰分",null,null,null,"215"]
[]
["2026-04-02",10,null,"60402356090","43856210001",null,null,null,null,"9041A3","9041A3",null,"2442843",25,null,1860,null,null,45000,null,null,1,null,"2026-03-31","MCP","2703","N","S","3A6",null,2703,"3889444",1,null,820,4000,1,11,60,"2丁",null,"2026-04-13","ユーザーフリー　ＴＡＦＫ原反使用可",null,null,null,"213"]
[null,null,null,null,null,null,null,null,null,null,null,null,null,null,null,null,null,null,null,null,null,null,null,null,"MCP","2703","N","S","3A6",null,2703,"3889445",1,null,1000,4000,1,11,10,null,null,"2026-04-13","細川　ＴＡＦＫ原反使用可",null,null,null,"211"]
[]
["2026-04-02",11,null,"60402356100","43856220001",null,null,null,null,"9041A3","9041A3",null,"2442843",25,null,1860,null,null,45000,null,null,1,null,"2026-03-31","MCP","2703","N","S","3A6",null,2703,"3889573",1,null,920,4000,1,11,20,"2丁",null,"2026-04-13","尾池",null,null,null,"215"]
[null,null,null,null,null,null,null,null,null,null,null,null,null,null,null,null,null,null,null,null,null,null,null,null,"MCP","2703","N","S","3A6",null,2703,"3889574",1,null,900,4000,1,11,50,null,null,"2026-04-13","須田",null,null,null,"217"]
[]
["2026-04-03",1,null,"60402356111","43855990001",null,null,null,null,"9021A3","9021A3",null,"2442855",25,null,1880,null,null,45000,null,null,1,null,"2026-04-01","MCP","2203","N","T","3E6B",null,2203,"3888824",1,null,980,4000,1,11,20,"2丁",null,"2026-04-14","ユーザーフリー",null,null,null,"213"]
[null,null,null,null,null,null,null,null,null,null,null,null,null,null,null,null,null,null,null,null,null,null,null,null,"MCP","2203","N","T","3E6B",null,2203,"3888825",1,null,860,4000,1,11,10,null,null,"2026-04-14",null,null,null,null,"211"]
[]
["2026-04-03",2,null,"60403356011","43856000001",null,null,null,null,"9021A3","9021A3",null,"2442856",25,null,1860,null,null,45000,null,null,1,null,"2026-04-01","MCP","2203","N","T","3E6B",null,2203,"3888798",1,null,980,8000,1,5,70,"2丁",null,"2026-04-14","ユーザーフリー",null,null,null,"213"]
[null,null,null,null,null,null,null,null,null,null,null,null,null,null,null,null,null,null,null,null,null,null,null,null,"MCP","2203","N","T","3E6B",null,2203,"3888799",1,null,840,8000,1,5,5,null,null,"2026-04-14",null,null,null,null,"211"]
[null,null,null,null,null,null,null,null,null,null,null,null,null,null,null,null,null,null,null,null,null,null,null,null,"MCP","2203","N","T","3E6B",null,2203,"3888800",1,null,980,4000,1,1,12,null,null,"2026-04-14","４０００ｍ余剰分",null,null,null,"213"]
[null,null,null,null,null,null,null,null,null,null,null,null,null,null,null,null,null,null,null,null,null,null,null,null,"MCP","2203","N","T","3E6B",null,2203,"3888801",1,null,840,4000,1,1,1,null,null,"2026-04-14","４０００ｍ余剰分",null,null,null,"211"]
[]
["2026-04-03",3,null,"60403356021","43856010001",null,null,null,null,"9021A3","9021A3",null,"2442858",25,null,1800,null,null,41000,null,null,1,null,"2026-04-01","MCP","2203","N","T","3E6B",null,2203,"3888797",1,null,880,8000,1,10,15,"2丁",null,"2026-04-14",null,null,null,null,"211"]
[]
["2026-04-03",4,null,"60403356031","43856020001",null,null,null,null,"9021A3","9021A3",null,"2442859",25,null,2300,null,null,41000,null,null,1,null,"2026-04-01","MCP","2203","N","T","3E6B",null,2203,"3888826",1,null,620,4000,1,10,10,"3丁",null,"2026-04-14",null,null,null,null,"211"]
[null,null,null,null,null,null,null,null,null,null,null,null,null,null,null,null,null,null,null,null,null,null,null,null,"MCP","2203","N","T","3E6B",null,2203,"3888827",1,null,660,4000,1,10,10,null,null,"2026-04-14",null,null,null,null,"211"]
[null,null,null,null,null,null,null,null,null,null,null,null,null,null,null,null,null,null,null,null,null,null,null,null,"MCP","2203","N","T","3E6B",null,2203,"3888828",1,null,980,4000,1,10,20,null,null,"2026-04-14","ユーザーフリー",null,null,null,"213"]
[]
["2026-04-03",5,null,"60403356040","43856080001",null,null,null,null,"9041",9041,null,"2442860",20,null,2260,null,null,49000,null,null,1,null,"2026-04-01","MCP","2703","N","S","3R",null,2703,"3888871",1,null,1020,4000,1,12,24,"2丁",null,"2026-04-14","細川",null,null,null,"211"]
[null,null,null,null,null,null,null,null,null,null,null,null,null,null,null,null,null,null,null,null,null,null,null,null,"MCP","2703","N","S","3R",null,2703,"3888872",1,null,1200,4000,1,12,48,null,null,"2026-04-14",null,null,null,null,"211"]
[]
["2026-04-03",6,null,"60403356050","43856090001",null,null,null,null,"9041",9041,null,"2442861",20,null,2100,null,null,53000,null,null,1,null,"2026-04-01","MCP","2703","N","S","3R",null,2703,"3888863",1,null,860,4000,1,13,12,"2丁",null,"2026-04-14","富士特",null,null,null,"214"]
[null,null,null,null,null,null,null,null,null,null,null,null,null,null,null,null,null,null,null,null,null,null,null,null,"MCP","2703","N","S","3R",null,2703,"3888864",1,null,1200,4000,1,13,48,null,null,"2026-04-14",null,null,null,null,"211"]
[]
["2026-04-03",7,null,"60403356060","43856100001",null,null,null,null,"9041",9041,null,"2442861",20,null,2100,null,null,53000,null,null,1,null,"2026-04-01","MCP","2703","N","S","3R",null,2703,"3888867",1,null,900,4000,1,13,60,"2丁",null,"2026-04-14","富士特　優先希望、８６０～８８０幅補填込",null,null,null,"214"]
[null,null,null,null,null,null,null,null,null,null,null,null,null,null,null,null,null,null,null,null,null,null,null,null,"MCP","2703","N","S","3R",null,2703,"3888868",1,null,1160,4000,1,13,12,null,null,"2026-04-14","細川",null,null,null,"211"]
[]
["2026-04-03",8,null,"60403356070","43856110001",null,null,null,null,"9041",9041,null,"2442861",20,null,2100,null,null,53000,null,null,1,null,"2026-04-01","MCP","2703","N","S","3R",null,2703,"3889017",1,null,1020,8000,1,6,60,"2丁",null,"2026-04-14","細川",null,null,null,"211"]
[null,null,null,null,null,null,null,null,null,null,null,null,null,null,null,null,null,null,null,null,null,null,null,null,"MCP","2703","N","S","3R",null,2703,"3889018",1,null,1040,8000,1,6,90,null,null,"2026-04-14","細川",null,null,null,"211"]
[null,null,null,null,null,null,null,null,null,null,null,null,null,null,null,null,null,null,null,null,null,null,null,null,"MCP","2703","N","S","3R",null,2703,"3889019",1,null,1040,4000,1,1,15,null,null,"2026-04-14","４０００ｍ余剰分",null,null,null,"211"]
[null,null,null,null,null,null,null,null,null,null,null,null,null,null,null,null,null,null,null,null,null,null,null,null,"MCP","2703","N","S","3R",null,2703,"3889020",1,null,1020,4000,1,1,9,null,null,"2026-04-14","４０００ｍ余剰分",null,null,null,"211"]
[]
["2026-04-03",9,null,"60403356080","43856230001",null,null,null,null,"9041A3","9041A3",null,"2442870",25,null,2100,null,null,45000,null,null,1,null,"2026-04-01","MCP","2703","N","S","3A6",null,2703,"3889211",1,null,880,4000,1,11,20,"2丁",null,"2026-04-14","細川　ＴＡＦＫ原反使用可",null,null,null,"211"]
[null,null,null,null,null,null,null,null,null,null,null,null,null,null,null,null,null,null,null,null,null,null,null,null,"MCP","2703","N","S","3A6",null,2703,"3889212",1,null,1180,4000,1,11,30,null,null,"2026-04-14","細川　ＴＡＦＫ原反使用可",null,null,null,"211"]
[]
["2026-04-03",10,null,"60403356090","43856240001",null,null,null,null,"9041A3","9041A3",null,"2442870",25,null,2100,null,null,45000,null,null,1,null,"2026-04-01","MCP","2703","N","S","3A6",null,2703,"3889249",1,null,880,8000,1,5,20,"2丁",null,"2026-04-14","細川",null,null,null,"211"]
[null,null,null,null,null,null,null,null,null,null,null,null,null,null,null,null,null,null,null,null,null,null,null,null,"MCP","2703","N","S","3A6",null,2703,"3889250",1,null,1180,8000,1,5,15,null,null,"2026-04-14","細川　ＴＡＦＫ原反使用可",null,null,null,"211"]
[null,null,null,null,null,null,null,null,null,null,null,null,null,null,null,null,null,null,null,null,null,null,null,null,"MCP","2703","N","S","3A6",null,2703,"3889251",1,null,1180,4000,1,1,5,null,null,"2026-04-14","４０００ｍ余剰分",null,null,null,"211"]
[null,null,null,null,null,null,null,null,null,null,null,null,null,null,null,null,null,null,null,null,null,null,null,null,"MCP","2703","N","S","3A6",null,2703,"3889252",1,null,880,4000,1,1,4,null,null,"2026-04-14","４０００ｍ余剰分",null,null,null,"211"]
[]
["2026-04-04",1,null,"60403356100","43856250001",null,null,null,null,"9041A3","9041A3",null,"2444094",25,null,2100,null,null,45000,null,null,1,null,"2026-04-02","MCP","2703","N","S","3A6",null,2703,"3889306",1,null,1140,8000,1,5,70,"2丁",null,"2026-04-15","大三紙業　ＴＡＦＫＯＫ",null,null,null,"217"]
[null,null,null,null,null,null,null,null,null,null,null,null,null,null,null,null,null,null,null,null,null,null,null,null,"MCP","2703","N","S","3A6",null,2703,"3889307",1,null,920,8000,1,5,10,null,null,"2026-04-15","細川",null,null,null,"211"]
[null,null,null,null,null,null,null,null,null,null,null,null,null,null,null,null,null,null,null,null,null,null,null,null,"MCP","2703","N","S","3A6",null,2703,"3889308",1,null,1140,4000,1,1,14,null,null,"2026-04-15","４０００ｍ余剰分",null,null,null,"217"]
[null,null,null,null,null,null,null,null,null,null,null,null,null,null,null,null,null,null,null,null,null,null,null,null,"MCP","2703","N","S","3A6",null,2703,"3889309",1,null,920,4000,1,1,6,null,null,"2026-04-15","４０００ｍ余剰分",null,null,null,"211"]
[]
["2026-04-04",2,null,"60404356010","43856260001",null,null,null,null,"9041A3","9041A3",null,"2444094",25,null,2100,null,null,45000,null,null,1,null,"2026-04-02","MCP","2703","N","S","3A6",null,2703,"3889324",1,null,920,4000,1,11,40,"2丁",null,"2026-04-15","真丸",null,null,null,"217"]
[null,null,null,null,null,null,null,null,null,null,null,null,null,null,null,null,null,null,null,null,null,null,null,null,"MCP","2703","N","S","3A6",null,2703,"3889325",1,null,1140,4000,1,11,10,null,null,"2026-04-15","細川",null,null,null,"211"]
[]
["2026-04-04",3,null,"60404356020","43856830001",null,null,null,null,"9041A3","9041A3",null,"2444094",25,null,2100,null,null,45000,null,null,1,null,"2026-04-02","MCP","2703","N","S","3A6",null,2703,"3889405",1,null,940,8000,1,5,15,"2丁",null,"2026-04-15","ＤＦ４・ＤＦ６指定",null,null,null,"216"]
[null,null,null,null,null,null,null,null,null,null,null,null,null,null,null,null,null,null,null,null,null,null,null,null,"MCP","2703","N","S","3A6",null,2703,"3889406",1,null,1120,8000,1,5,10,null,null,"2026-04-15","細川",null,null,null,"211"]
[null,null,null,null,null,null,null,null,null,null,null,null,null,null,null,null,null,null,null,null,null,null,null,null,"MCP","2703","N","S","3A6",null,2703,"3889407",1,null,1120,4000,1,1,2,null,null,"2026-04-15","４０００ｍ余剰分",null,null,null,"211"]
[null,null,null,null,null,null,null,null,null,null,null,null,null,null,null,null,null,null,null,null,null,null,null,null,"MCP","2703","N","S","3A6",null,2703,"3889408",1,null,940,4000,1,1,3,null,null,"2026-04-15","４０００ｍ余剰分",null,null,null,"216"]
[]
["2026-04-04",4,null,"60404356030","43856840001",null,null,null,null,"9041A3","9041A3",null,"2444094",25,null,2100,null,null,45000,null,null,1,null,"2026-04-02","MCP","2703","N","S","3A6D",null,2703,"3889417",1,null,960,8000,1,5,25,"2丁",null,"2026-04-15","ＤＮＰ京都　３Ｄｏｒ３Ｄ６",null,null,null,"213"]
[null,null,null,null,null,null,null,null,null,null,null,null,null,null,null,null,null,null,null,null,null,null,null,null,"MCP","2703","N","S","3A6",null,2703,"3889418",1,null,1100,8000,1,5,20,null,null,"2026-04-15","細川",null,null,null,"211"]
[null,null,null,null,null,null,null,null,null,null,null,null,null,null,null,null,null,null,null,null,null,null,null,null,"MCP","2703","N","S","3A6",null,2703,"3889419",1,null,1100,4000,1,1,4,null,null,"2026-04-15","４０００ｍ余剰分",null,null,null,"211"]
[null,null,null,null,null,null,null,null,null,null,null,null,null,null,null,null,null,null,null,null,null,null,null,null,"MCP","2703","N","S","3A6",null,2703,"3889420",1,null,960,4000,1,1,5,null,null,"2026-04-15","４０００ｍ余剰分",null,null,null,"213"]
[]
["2026-04-04",5,null,"60404356040","43856850001",null,null,null,null,"9041A3","9041A3",null,"2444094",25,null,2100,null,null,45000,null,null,1,null,"2026-04-02","MCP","2703","N","S","3A6D",null,2703,"3889421",1,null,960,8000,1,5,25,"2丁",null,"2026-04-15","ＤＮＰ京都　３Ｄｏｒ３Ｄ６",null,null,null,"213"]
[null,null,null,null,null,null,null,null,null,null,null,null,null,null,null,null,null,null,null,null,null,null,null,null,"MCP","2703","N","S","3A6",null,2703,"3889422",1,null,1100,8000,1,5,20,null,null,"2026-04-15","細川",null,null,null,"211"]
[null,null,null,null,null,null,null,null,null,null,null,null,null,null,null,null,null,null,null,null,null,null,null,null,"MCP","2703","N","S","3A6",null,2703,"3889423",1,null,1100,4000,1,1,4,null,null,"2026-04-15","４０００ｍ余剰分",null,null,null,"211"]
[null,null,null,null,null,null,null,null,null,null,null,null,null,null,null,null,null,null,null,null,null,null,null,null,"MCP","2703","N","S","3A6",null,2703,"3889424",1,null,960,4000,1,1,5,null,null,"2026-04-15","４０００ｍ余剰分",null,null,null,"213"]
[]
["2026-04-04",6,null,"60404356050","43856860001",null,null,null,null,"9041A3","9041A3",null,"2444094",25,null,2100,null,null,45000,null,null,1,null,"2026-04-02","MCP","2703","N","S","3A6",null,2703,"3889503",1,null,620,4000,1,11,10,"3丁",null,"2026-04-15",null,null,null,null,"215"]
[null,null,null,null,null,null,null,null,null,null,null,null,null,null,null,null,null,null,null,null,null,null,null,null,"MCP","2703","N","S","3A6",null,2703,"3889504",1,null,680,4000,1,11,30,null,null,"2026-04-15","ユーザーフリー　ＴＡＦＫ原反使用可",null,null,null,"213"]
[null,null,null,null,null,null,null,null,null,null,null,null,null,null,null,null,null,null,null,null,null,null,null,null,"MCP","2703","N","S","3A6",null,2703,"3889505",1,null,760,4000,1,11,50,null,null,"2026-04-15","ユーザーフリー　ＴＡＦＫ原反使用可",null,null,null,"213"]
[]
["2026-04-04",7,null,"60404356060","43856870001",null,null,null,null,"9041A3","9041A3",null,"2444094",25,null,2100,null,null,45000,null,null,1,null,"2026-04-02","MCP","2703","N","S","3A6",null,2703,"3889540",1,null,960,8000,1,5,30,"2丁",null,"2026-04-15","ユーザーフリー　ＴＡＦＫ原反使用可",null,null,null,"213"]
[null,null,null,null,null,null,null,null,null,null,null,null,null,null,null,null,null,null,null,null,null,null,null,null,"MCP","2703","N","S","3A6",null,2703,"3889541",1,null,1100,8000,1,5,45,null,null,"2026-04-15","細川　ＴＡＦＫ原反使用可",null,null,null,"211"]
[null,null,null,null,null,null,null,null,null,null,null,null,null,null,null,null,null,null,null,null,null,null,null,null,"MCP","2703","N","S","3A6",null,2703,"3889542",1,null,1100,4000,1,1,8,null,null,"2026-04-15","４０００ｍ余剰分",null,null,null,"211"]
[null,null,null,null,null,null,null,null,null,null,null,null,null,null,null,null,null,null,null,null,null,null,null,null,"MCP","2703","N","S","3A6",null,2703,"3889543",1,null,960,4000,1,1,6,null,null,"2026-04-15","４０００ｍ余剰分",null,null,null,"213"]
[]
["2026-04-04",8,null,"60404356070","43856880001",null,null,null,null,"9041A3","9041A3",null,"2444094",25,null,2100,null,null,45000,null,null,1,null,"2026-04-02","MCP","2703","N","S","3A6",null,2703,"3889544",1,null,960,8000,1,5,30,"2丁",null,"2026-04-15","細川",null,null,null,"211"]
[null,null,null,null,null,null,null,null,null,null,null,null,null,null,null,null,null,null,null,null,null,null,null,null,"MCP","2703","N","S","3A6",null,2703,"3889545",1,null,1100,8000,1,5,45,null,null,"2026-04-15","細川　ＴＡＦＫ原反使用可",null,null,null,"211"]
[null,null,null,null,null,null,null,null,null,null,null,null,null,null,null,null,null,null,null,null,null,null,null,null,"MCP","2703","N","S","3A6",null,2703,"3889546",1,null,1100,4000,1,1,8,null,null,"2026-04-15","４０００ｍ余剰分",null,null,null,"211"]
[null,null,null,null,null,null,null,null,null,null,null,null,null,null,null,null,null,null,null,null,null,null,null,null,"MCP","2703","N","S","3A6",null,2703,"3889547",1,null,960,4000,1,1,20,null,null,"2026-04-15","４０００ｍ余剰分",null,null,null,"211"]
[]
["2026-04-04",9,null,"60404356080","43856890001",null,null,null,null,"9041A3","9041A3",null,"2444095",25,null,2080,null,null,45000,null,null,1,null,"2026-04-02","MCP","2703","N","S","3A6",null,2703,"3889177",1,null,1140,8000,1,5,70,"2丁",null,"2026-04-15","大三紙業　ＴＡＦＫＯＫ",null,null,null,"217"]
[null,null,null,null,null,null,null,null,null,null,null,null,null,null,null,null,null,null,null,null,null,null,null,null,"MCP","2703","N","S","3A6",null,2703,"3889178",1,null,900,8000,1,5,25,null,null,"2026-04-15","細川",null,null,null,"211"]
[null,null,null,null,null,null,null,null,null,null,null,null,null,null,null,null,null,null,null,null,null,null,null,null,"MCP","2703","N","S","3A6",null,2703,"3889179",1,null,1140,4000,1,1,14,null,null,"2026-04-15","４０００ｍ余剰分",null,null,null,"217"]
[null,null,null,null,null,null,null,null,null,null,null,null,null,null,null,null,null,null,null,null,null,null,null,null,"MCP","2703","N","S","3A6",null,2703,"3889180",1,null,900,4000,1,1,5,null,null,"2026-04-15","４０００ｍ余剰分",null,null,null,"211"]
[]
["2026-04-04",10,null,"60404356090","43856900001",null,null,null,null,"9041A3","9041A3",null,"2444095",25,null,2080,null,null,45000,null,null,1,null,"2026-04-02","MCP","2703","N","S","3A6",null,2703,"3889181",1,null,980,8000,1,5,25,"2丁",null,"2026-04-15","凸版　ＴＡＦＫ原反ＮＧ",null,null,null,"214"]
[null,null,null,null,null,null,null,null,null,null,null,null,null,null,null,null,null,null,null,null,null,null,null,null,"MCP","2703","N","S","3A6",null,2703,"3889182",1,null,1060,8000,1,5,50,null,null,"2026-04-15","細川　ＴＡＦＫ原反使用可",null,null,null,"211"]
[null,null,null,null,null,null,null,null,null,null,null,null,null,null,null,null,null,null,null,null,null,null,null,null,"MCP","2703","N","S","3A6",null,2703,"3889183",1,null,1060,4000,1,1,10,null,null,"2026-04-15","４０００ｍ余剰分",null,null,null,"211"]
[null,null,null,null,null,null,null,null,null,null,null,null,null,null,null,null,null,null,null,null,null,null,null,null,"MCP","2703","N","S","3A6",null,2703,"3889184",1,null,980,4000,1,1,5,null,null,"2026-04-15","４０００ｍ余剰分",null,null,null,"214"]
[]
["2026-04-04",11,null,"60404356100","43856910001",null,null,null,null,"9041A3","9041A3",null,"2444095",25,null,2080,null,null,45000,null,null,1,null,"2026-04-02","MCP","2703","N","S","3A6",null,2703,"3889185",1,null,860,8000,1,5,10,"2丁",null,"2026-04-15","尾池",null,null,null,"215"]
[null,null,null,null,null,null,null,null,null,null,null,null,null,null,null,null,null,null,null,null,null,null,null,null,"MCP","2703","N","S","3A6",null,2703,"3889186",1,null,1180,8000,1,5,10,null,null,"2026-04-15","細川",null,null,null,"211"]
[null,null,null,null,null,null,null,null,null,null,null,null,null,null,null,null,null,null,null,null,null,null,null,null,"MCP","2703","N","S","3A6",null,2703,"3889187",1,null,1180,4000,1,1,5,null,null,"2026-04-15","４０００ｍ余剰分",null,null,null,"211"]
[null,null,null,null,null,null,null,null,null,null,null,null,null,null,null,null,null,null,null,null,null,null,null,null,"MCP","2703","N","S","3A6",null,2703,"3889188",1,null,860,4000,1,1,2,null,null,"2026-04-15","４０００ｍ余剰分",null,null,null,"215"]
[]
["2026-04-05",1,null,"60404356110","43856920001",null,null,null,null,"9041A3","9041A3",null,"2444110",25,null,2080,null,null,45000,null,null,1,null,"2026-04-03","MCP","2703","N","S","3A6D",null,2703,"3889474",1,null,980,8000,1,5,70,"2丁",null,"2026-04-16","ＤＮＰ京都　３Ｄｏｒ３Ｄ６",null,null,null,"213"]
[null,null,null,null,null,null,null,null,null,null,null,null,null,null,null,null,null,null,null,null,null,null,null,null,"MCP","2703","N","S","3A6",null,2703,"3889475",1,null,1060,8000,1,5,25,null,null,"2026-04-16","細川",null,null,null,"211"]
[null,null,null,null,null,null,null,null,null,null,null,null,null,null,null,null,null,null,null,null,null,null,null,null,"MCP","2703","N","S","3A6",null,2703,"3889476",1,null,1060,4000,1,1,5,null,null,"2026-04-16","４０００ｍ余剰分",null,null,null,"211"]
[null,null,null,null,null,null,null,null,null,null,null,null,null,null,null,null,null,null,null,null,null,null,null,null,"MCP","2703","N","S","3A6",null,2703,"3889477",1,null,980,4000,1,1,14,null,null,"2026-04-16","４０００ｍ余剰分",null,null,null,"213"]
[]
["2026-04-05",2,null,"60405356010","43856930001",null,null,null,null,"9041A3","9041A3",null,"2444110",25,null,2080,null,null,45000,null,null,1,null,"2026-04-03","MCP","2703","N","S","3A6D",null,2703,"3889478",1,null,980,8000,1,5,70,"2丁",null,"2026-04-16","ＤＮＰ京都　３Ｄｏｒ３Ｄ６",null,null,null,"213"]
[null,null,null,null,null,null,null,null,null,null,null,null,null,null,null,null,null,null,null,null,null,null,null,null,"MCP","2703","N","S","3A6",null,2703,"3889479",1,null,1060,8000,1,5,25,null,null,"2026-04-16","細川",null,null,null,"211"]
[null,null,null,null,null,null,null,null,null,null,null,null,null,null,null,null,null,null,null,null,null,null,null,null,"MCP","2703","N","S","3A6",null,2703,"3889480",1,null,1060,4000,1,1,5,null,null,"2026-04-16","４０００ｍ余剰分",null,null,null,"211"]
[null,null,null,null,null,null,null,null,null,null,null,null,null,null,null,null,null,null,null,null,null,null,null,null,"MCP","2703","N","S","3A6",null,2703,"3889481",1,null,980,4000,1,1,14,null,null,"2026-04-16","４０００ｍ余剰分",null,null,null,"213"]
[]
["2026-04-05",3,null,"60405356020","43856940001",null,null,null,null,"9041A3","9041A3",null,"2444110",25,null,2080,null,null,45000,null,null,1,null,"2026-04-03","MCP","2703","N","S","3A6D",null,2703,"3889482",1,null,980,8000,1,5,70,"2丁",null,"2026-04-16","ＤＮＰ京都　３Ｄｏｒ３Ｄ６",null,null,null,"213"]
[null,null,null,null,null,null,null,null,null,null,null,null,null,null,null,null,null,null,null,null,null,null,null,null,"MCP","2703","N","S","3A6",null,2703,"3889483",1,null,1060,8000,1,5,25,null,null,"2026-04-16","細川",null,null,null,"211"]
[null,null,null,null,null,null,null,null,null,null,null,null,null,null,null,null,null,null,null,null,null,null,null,null,"MCP","2703","N","S","3A6",null,2703,"3889484",1,null,1060,4000,1,1,5,null,null,"2026-04-16","４０００ｍ余剰分",null,null,null,"211"]
[null,null,null,null,null,null,null,null,null,null,null,null,null,null,null,null,null,null,null,null,null,null,null,null,"MCP","2703","N","S","3A6",null,2703,"3889485",1,null,980,4000,1,1,14,null,null,"2026-04-16","４０００ｍ余剰分",null,null,null,"213"]
[]
["2026-04-05",4,null,"60405356030","43856950001",null,null,null,null,"9041A3","9041A3",null,"2444110",25,null,2080,null,null,45000,null,null,1,null,"2026-04-03","MCP","2703","N","S","3A6",null,2703,"3889566",1,null,780,4000,1,11,20,"3丁",null,"2026-04-16","ユーザーフリー　ＴＡＦＫ原反使用可",null,null,null,"213"]
[null,null,null,null,null,null,null,null,null,null,null,null,null,null,null,null,null,null,null,null,null,null,null,null,"MCP","2703","N","S","3A6",null,2703,"3889567",1,null,560,4000,1,11,10,null,null,"2026-04-16","ハヤシ",null,null,null,"217"]
[null,null,null,null,null,null,null,null,null,null,null,null,null,null,null,null,null,null,null,null,null,null,null,null,"MCP","2703","N","S","3A6",null,2703,"3889568",1,null,700,4000,1,11,20,null,null,"2026-04-16","細川　ＴＡＦＫ原反使用可",null,null,null,"211"]
[]
["2026-04-05",5,null,"60405356040","43857020001",null,null,null,null,"9041",9041,null,"2444111",20,null,2060,null,null,53000,null,null,1,null,"2026-04-03","MCP","2703","N","S","3R",null,2703,"3888855",1,null,900,4000,1,13,60,"2丁",null,"2026-04-16","富士特　優先希望、８６０～８８０幅補填込",null,null,null,"214"]
[null,null,null,null,null,null,null,null,null,null,null,null,null,null,null,null,null,null,null,null,null,null,null,null,"MCP","2703","N","S","3R",null,2703,"3888856",1,null,1120,4000,1,13,24,null,null,"2026-04-16","細川",null,null,null,"211"]
[]
["2026-04-05",6,null,"60405356050","43856960001",null,null,null,null,"9041A3","9041A3",null,"2444112",25,null,2060,null,null,45000,null,null,1,null,"2026-04-03","MCP","2703","N","S","3A6D",null,2703,"3889173",1,null,880,8000,1,5,5,"2丁",null,"2026-04-16","ＤＮＰ京都　３Ｄｏｒ３Ｄ６",null,null,null,"213"]
[null,null,null,null,null,null,null,null,null,null,null,null,null,null,null,null,null,null,null,null,null,null,null,null,"MCP","2703","N","S","3A6",null,2703,"3889174",1,null,1140,8000,1,5,70,null,null,"2026-04-16","大三紙業　ＴＡＦＫＯＫ",null,null,null,"217"]
[null,null,null,null,null,null,null,null,null,null,null,null,null,null,null,null,null,null,null,null,null,null,null,null,"MCP","2703","N","S","3A6",null,2703,"3889175",1,null,1140,4000,1,1,14,null,null,"2026-04-16","４０００ｍ余剰分",null,null,null,"217"]
[null,null,null,null,null,null,null,null,null,null,null,null,null,null,null,null,null,null,null,null,null,null,null,null,"MCP","2703","N","S","3A6",null,2703,"3889176",1,null,880,4000,1,1,1,null,null,"2026-04-16","４０００ｍ余剰分",null,null,null,"213"]
[]
["2026-04-05",7,null,"60405356060","43856970001",null,null,null,null,"9041A3","9041A3",null,"2444112",25,null,2060,null,null,45000,null,null,1,null,"2026-04-03","MCP","2703","N","S","3A6",null,2703,"3889272",1,null,880,4000,1,11,20,"2丁",null,"2026-04-16","細川",null,null,null,"211"]
[null,null,null,null,null,null,null,null,null,null,null,null,null,null,null,null,null,null,null,null,null,null,null,null,"MCP","2703","N","S","3A6",null,2703,"3889273",1,null,1140,4000,1,11,10,null,null,"2026-04-16","細川　ＴＡＦＫ原反使用可",null,null,null,"211"]
[]
["2026-04-05",8,null,"60405356070","43856980001",null,null,null,null,"9041A3","9041A3",null,"2444112",25,null,2060,null,null,45000,null,null,1,null,"2026-04-03","MCP","2703","N","S","3A6",null,2703,"3889352",1,null,1140,8000,1,5,70,"2丁",null,"2026-04-16","大三紙業　ＴＡＦＫＯＫ",null,null,null,"217"]
[null,null,null,null,null,null,null,null,null,null,null,null,null,null,null,null,null,null,null,null,null,null,null,null,"MCP","2703","N","S","3A6",null,2703,"3889353",1,null,880,8000,1,5,25,null,null,"2026-04-16","細川　ＴＡＦＫ原反使用可",null,null,null,"211"]
[null,null,null,null,null,null,null,null,null,null,null,null,null,null,null,null,null,null,null,null,null,null,null,null,"MCP","2703","N","S","3A6",null,2703,"3889354",1,null,1140,4000,1,1,14,null,null,"2026-04-16","４０００ｍ余剰分",null,null,null,"217"]
[null,null,null,null,null,null,null,null,null,null,null,null,null,null,null,null,null,null,null,null,null,null,null,null,"MCP","2703","N","S","3A6",null,2703,"3889355",1,null,880,4000,1,1,5,null,null,"2026-04-16","４０００ｍ余剰分",null,null,null,"211"]
[]
["2026-04-05",9,null,"60405356080","43856990001",null,null,null,null,"9041A3","9041A3",null,"2444112",25,null,2060,null,null,45000,null,null,1,null,"2026-04-03","MCP","2703","N","S","3A6",null,2703,"3889436",1,null,960,4000,1,11,20,"2丁",null,"2026-04-16","細川",null,null,null,"211"]
[null,null,null,null,null,null,null,null,null,null,null,null,null,null,null,null,null,null,null,null,null,null,null,null,"MCP","2703","N","S","3A6",null,2703,"3889437",1,null,1060,4000,1,11,20,null,null,"2026-04-16","細川",null,null,null,"211"]
[]
["2026-04-05",10,null,"60405356090","43857000001",null,null,null,null,"9041A3","9041A3",null,"2444112",25,null,2060,null,null,45000,null,null,1,null,"2026-04-03","MCP","2703","N","S","3A6",null,2703,"3889438",1,null,960,4000,1,11,20,"2丁",null,"2026-04-16","細川",null,null,null,"211"]
[null,null,null,null,null,null,null,null,null,null,null,null,null,null,null,null,null,null,null,null,null,null,null,null,"MCP","2703","N","S","3A6",null,2703,"3889439",1,null,1060,4000,1,11,20,null,null,"2026-04-16","細川",null,null,null,"211"]
[]
["2026-04-05",11,null,"60405356100","43857010001",null,null,null,null,"9041A3","9041A3",null,"2444112",25,null,2060,null,null,45000,null,null,1,null,"2026-04-03","MCP","2703","N","S","3A6",null,2703,"3889509",1,null,720,4000,1,11,10,"3丁",null,"2026-04-16","中京",null,null,null,"214"]
[null,null,null,null,null,null,null,null,null,null,null,null,null,null,null,null,null,null,null,null,null,null,null,null,"MCP","2703","N","S","3A6",null,2703,"3889510",1,null,600,4000,1,11,10,null,null,"2026-04-16","細川　ＴＡＦＫ原反使用可",null,null,null,"211"]
[null,null,null,null,null,null,null,null,null,null,null,null,null,null,null,null,null,null,null,null,null,null,null,null,"MCP","2703","N","S","3A6",null,2703,"3889511",1,null,700,4000,1,11,20,null,null,"2026-04-16","細川　ＴＡＦＫ原反使用可",null,null,null,"211"]
[]
["2026-04-06",1,null,"60405356111","43857070001",null,null,null,null,"9021A3","9021A3",null,"2444455",25,null,2080,null,null,45000,null,null,1,null,"2026-04-04","MCP","2203","N","T","3E6B",null,2203,"3888832",1,null,980,8000,1,10,70,"2丁",null,"2026-04-17","ユーザーフリー",null,null,null,"213"]
[null,null,null,null,null,null,null,null,null,null,null,null,null,null,null,null,null,null,null,null,null,null,null,null,"MCP","2203","N","T","3E6B",null,2203,"3888833",1,null,980,4000,1,2,12,null,null,"2026-04-17","４０００ｍ余剰分",null,null,null,"213"]
[]
["2026-04-06",2,null,"60406356011","43857080001",null,null,null,null,"9021A3","9021A3",null,"2444455",25,null,2080,null,null,45000,null,null,1,null,"2026-04-04","MCP","2203","N","T","3E6B",null,2203,"3888834",1,null,980,8000,1,10,70,"2丁",null,"2026-04-17","ユーザーフリー",null,null,null,"213"]
[null,null,null,null,null,null,null,null,null,null,null,null,null,null,null,null,null,null,null,null,null,null,null,null,"MCP","2203","N","T","3E6B",null,2203,"3888835",1,null,980,4000,1,2,12,null,null,"2026-04-17","４０００ｍ余剰分",null,null,null,"213"]
[]
["2026-04-06",3,null,"60406356020","43857120001",null,null,null,null,"9041A3","9041A3",null,"2444456",25,null,2060,null,null,45000,null,null,1,null,"2026-04-04","MCP","2703","N","S","3A6",null,2703,"3889532",1,null,960,8000,1,5,30,"2丁",null,"2026-04-17","ユーザーフリー　ＴＡＦＫ原反使用可",null,null,null,"213"]
[null,null,null,null,null,null,null,null,null,null,null,null,null,null,null,null,null,null,null,null,null,null,null,null,"MCP","2703","N","S","3A6",null,2703,"3889533",1,null,1060,8000,1,5,25,null,null,"2026-04-17","細川",null,null,null,"211"]
[null,null,null,null,null,null,null,null,null,null,null,null,null,null,null,null,null,null,null,null,null,null,null,null,"MCP","2703","N","S","3A6",null,2703,"3889534",1,null,1060,4000,1,1,5,null,null,"2026-04-17","４０００ｍ余剰分",null,null,null,"211"]
[null,null,null,null,null,null,null,null,null,null,null,null,null,null,null,null,null,null,null,null,null,null,null,null,"MCP","2703","N","S","3A6",null,2703,"3889535",1,null,960,4000,1,1,6,null,null,"2026-04-17","４０００ｍ余剰分",null,null,null,"213"]
[]
["2026-04-06",4,null,"60406356030","43857130001",null,null,null,null,"9041A3","9041A3",null,"2444456",25,null,2060,null,null,45000,null,null,1,null,"2026-04-04","MCP","2703","N","S","3A6",null,2703,"3889536",1,null,960,8000,1,5,30,"2丁",null,"2026-04-17","ユーザーフリー　ＴＡＦＫ原反使用可",null,null,null,"213"]
[null,null,null,null,null,null,null,null,null,null,null,null,null,null,null,null,null,null,null,null,null,null,null,null,"MCP","2703","N","S","3A6",null,2703,"3889537",1,null,1060,8000,1,5,50,null,null,"2026-04-17","細川　ＴＡＦＫ原反使用可",null,null,null,"211"]
[null,null,null,null,null,null,null,null,null,null,null,null,null,null,null,null,null,null,null,null,null,null,null,null,"MCP","2703","N","S","3A6",null,2703,"3889538",1,null,1060,4000,1,1,10,null,null,"2026-04-17","４０００ｍ余剰分",null,null,null,"211"]
[null,null,null,null,null,null,null,null,null,null,null,null,null,null,null,null,null,null,null,null,null,null,null,null,"MCP","2703","N","S","3A6",null,2703,"3889539",1,null,960,4000,1,1,6,null,null,"2026-04-17","４０００ｍ余剰分",null,null,null,"213"]
[]
["2026-04-06",5,null,"60406356040","43857140001",null,null,null,null,"9041A3","9041A3",null,"2444456",25,null,2060,null,null,45000,null,null,1,null,"2026-04-04","MCP","2703","N","S","3A6",null,2703,"3889548",1,null,960,8000,1,5,30,"2丁",null,"2026-04-17","細川",null,null,null,"211"]
[null,null,null,null,null,null,null,null,null,null,null,null,null,null,null,null,null,null,null,null,null,null,null,null,"MCP","2703","N","S","3A6",null,2703,"3889549",1,null,1060,8000,1,5,50,null,null,"2026-04-17","細川　ＴＡＦＫ原反使用可",null,null,null,"211"]
[null,null,null,null,null,null,null,null,null,null,null,null,null,null,null,null,null,null,null,null,null,null,null,null,"MCP","2703","N","S","3A6",null,2703,"3889550",1,null,1060,4000,1,1,10,null,null,"2026-04-17","４０００ｍ余剰分",null,null,null,"211"]
[null,null,null,null,null,null,null,null,null,null,null,null,null,null,null,null,null,null,null,null,null,null,null,null,"MCP","2703","N","S","3A6",null,2703,"3889551",1,null,960,4000,1,1,20,null,null,"2026-04-17","４０００ｍ余剰分",null,null,null,"211"]
[]
["2026-04-06",6,null,"60406356050","43857270001",null,null,null,null,"9041",9041,null,"2444457",20,null,2040,null,null,53000,null,null,1,null,"2026-04-04","MCP","2703","N","S","3R",null,2703,"3888851",1,null,920,4000,1,13,12,"2丁",null,"2026-04-17","細川",null,null,null,"211"]
[null,null,null,null,null,null,null,null,null,null,null,null,null,null,null,null,null,null,null,null,null,null,null,null,"MCP","2703","N","S","3R",null,2703,"3888852",1,null,1080,4000,1,13,24,null,null,"2026-04-17","細川",null,null,null,"211"]
[]
["2026-04-06",7,null,"60406356060","43857280001",null,null,null,null,"9041",9041,null,"2444457",20,null,2040,null,null,53000,null,null,1,null,"2026-04-04","MCP","2703","N","S","3R",null,2703,"3888969",1,null,980,8000,1,6,84,"2丁",null,"2026-04-17","細川",null,null,null,"211"]
[null,null,null,null,null,null,null,null,null,null,null,null,null,null,null,null,null,null,null,null,null,null,null,null,"MCP","2703","N","S","3R",null,2703,"3888970",1,null,1020,8000,1,6,54,null,null,"2026-04-17","東タイ",null,null,null,"213"]
[null,null,null,null,null,null,null,null,null,null,null,null,null,null,null,null,null,null,null,null,null,null,null,null,"MCP","2703","N","S","3R",null,2703,"3888971",1,null,1020,4000,1,1,8,null,null,"2026-04-17","４０００ｍ余剰分",null,null,null,"213"]
[null,null,null,null,null,null,null,null,null,null,null,null,null,null,null,null,null,null,null,null,null,null,null,null,"MCP","2703","N","S","3R",null,2703,"3888972",1,null,980,4000,1,1,14,null,null,"2026-04-17","４０００ｍ余剰分",null,null,null,"211"]
[]
["2026-04-06",8,null,"60406356070","43857150001",null,null,null,null,"9041A3","9041A3",null,"2444461",25,null,2040,null,null,45000,null,null,1,null,"2026-04-04","MCP","2703","N","S","3A6",null,2703,"3889203",1,null,510,4000,1,22,240,"3丁",null,"2026-04-17","ユーザーフリー　ＴＡＦＫ原反使用可",null,null,null,"213"]
[null,null,null,null,null,null,null,null,null,null,null,null,null,null,null,null,null,null,null,null,null,null,null,null,"MCP","2703","N","S","3A6",null,2703,"3889204",1,null,980,4000,1,11,50,null,null,"2026-04-17","ユーザーフリー　ＴＡＦＫ原反使用可",null,null,null,"213"]
[]
["2026-04-06",9,null,"60406356080","43857160001",null,null,null,null,"9041A3","9041A3",null,"2444461",25,null,2040,null,null,45000,null,null,1,null,"2026-04-04","MCP","2703","N","S","3A6",null,2703,"3889205",1,null,510,4000,1,22,240,"3丁",null,"2026-04-17","ユーザーフリー　ＴＡＦＫ原反使用可",null,null,null,"213"]
[null,null,null,null,null,null,null,null,null,null,null,null,null,null,null,null,null,null,null,null,null,null,null,null,"MCP","2703","N","S","3A6",null,2703,"3889206",1,null,980,4000,1,11,50,null,null,"2026-04-17","ユーザーフリー　ＴＡＦＫ原反使用可",null,null,null,"213"]
[]
["2026-04-06",10,null,"60406356090","43857170001",null,null,null,null,"9041A3","9041A3",null,"2444461",25,null,2040,null,null,45000,null,null,1,null,"2026-04-04","MCP","2703","N","S","3A6",null,2703,"3889241",1,null,980,8000,1,5,25,"2丁",null,"2026-04-17","凸版　ＴＡＦＫ原反ＮＧ",null,null,null,"214"]
[null,null,null,null,null,null,null,null,null,null,null,null,null,null,null,null,null,null,null,null,null,null,null,null,"MCP","2703","N","S","3A6",null,2703,"3889242",1,null,1020,8000,1,5,15,null,null,"2026-04-17","細川　ＴＡＦＫ原反使用可",null,null,null,"211"]
[null,null,null,null,null,null,null,null,null,null,null,null,null,null,null,null,null,null,null,null,null,null,null,null,"MCP","2703","N","S","3A6",null,2703,"3889243",1,null,1020,4000,1,1,3,null,null,"2026-04-17","４０００ｍ余剰分",null,null,null,"211"]
[null,null,null,null,null,null,null,null,null,null,null,null,null,null,null,null,null,null,null,null,null,null,null,null,"MCP","2703","N","S","3A6",null,2703,"3889244",1,null,980,4000,1,1,5,null,null,"2026-04-17","４０００ｍ余剰分",null,null,null,"214"]
[]
["2026-04-06",11,null,"60407356010","43857180001",null,null,null,null,"9041A3","9041A3",null,"2444461",25,null,2040,null,null,45000,null,null,1,null,"2026-04-04","MCP","2703","N","S","3A6",null,2703,"3889270",1,null,1160,4000,1,11,10,"2丁",null,"2026-04-17","ユーザーフリー",null,null,null,"218"]
[null,null,null,null,null,null,null,null,null,null,null,null,null,null,null,null,null,null,null,null,null,null,null,null,"MCP","2703","N","S","3A6",null,2703,"3889271",1,null,840,4000,1,11,30,null,null,"2026-04-17","真丸",null,null,null,"217"]
[]
["2026-04-07",1,null,"60407356051","43857090001",null,null,null,null,"9021A3","9021A3",null,"2444460",25,null,2000,null,null,45000,null,null,1,null,"2026-04-04","MCP","2203","N","T","3E6B",null,2203,"3888818",1,null,980,8000,1,10,70,"2丁",null,"2026-04-20","ユーザーフリー",null,null,null,"213"]
[null,null,null,null,null,null,null,null,null,null,null,null,null,null,null,null,null,null,null,null,null,null,null,null,"MCP","2203","N","T","3E6B",null,2203,"3888819",1,null,980,4000,1,2,12,null,null,"2026-04-20","４０００ｍ余剰分",null,null,null,"213"]
[]
["2026-04-07",2,null,"60407356041","43857100001",null,null,null,null,"9021A3","9021A3",null,"2444460",25,null,2000,null,null,45000,null,null,1,null,"2026-04-04","MCP","2203","N","T","3E6B",null,2203,"3888820",1,null,980,8000,1,10,70,"2丁",null,"2026-04-20","ユーザーフリー",null,null,null,"213"]
[null,null,null,null,null,null,null,null,null,null,null,null,null,null,null,null,null,null,null,null,null,null,null,null,"MCP","2203","N","T","3E6B",null,2203,"3888821",1,null,980,4000,1,2,12,null,null,"2026-04-20","４０００ｍ余剰分",null,null,null,"213"]
[]
["2026-04-07",3,null,"60407356061","43857110001",null,null,null,null,"9021A3","9021A3",null,"2444460",25,null,2000,null,null,45000,null,null,1,null,"2026-04-04","MCP","2203","N","T","3E6B",null,2203,"3888822",1,null,980,8000,1,10,70,"2丁",null,"2026-04-20","ユーザーフリー",null,null,null,"213"]
[null,null,null,null,null,null,null,null,null,null,null,null,null,null,null,null,null,null,null,null,null,null,null,null,"MCP","2203","N","T","3E6B",null,2203,"3888823",1,null,980,4000,1,2,12,null,null,"2026-04-20","４０００ｍ余剰分",null,null,null,"213"]
[]
["2026-04-07",4,null,"60407356020","43857190001",null,null,null,null,"9041A3","9041A3",null,"2444461",25,null,2040,null,null,45000,null,null,1,null,"2026-04-04","MCP","2703","N","S","3A6D",null,2703,"3889302",1,null,860,8000,1,5,10,"2丁",null,"2026-04-20","ＤＮＰ京都　３Ｄｏｒ３Ｄ６",null,null,null,"213"]
[null,null,null,null,null,null,null,null,null,null,null,null,null,null,null,null,null,null,null,null,null,null,null,null,"MCP","2703","N","S","3A6",null,2703,"3889303",1,null,1140,8000,1,5,70,null,null,"2026-04-20","大三紙業　ＴＡＦＫＯＫ",null,null,null,"217"]
[null,null,null,null,null,null,null,null,null,null,null,null,null,null,null,null,null,null,null,null,null,null,null,null,"MCP","2703","N","S","3A6",null,2703,"3889304",1,null,1140,4000,1,1,14,null,null,"2026-04-20","４０００ｍ余剰分",null,null,null,"217"]
[null,null,null,null,null,null,null,null,null,null,null,null,null,null,null,null,null,null,null,null,null,null,null,null,"MCP","2703","N","S","3A6",null,2703,"3889305",1,null,860,4000,1,1,2,null,null,"2026-04-20","４０００ｍ余剰分",null,null,null,"213"]
[]
["2026-04-07",5,null,"60407356030","43857200001",null,null,null,null,"9041A3","9041A3",null,"2444461",25,null,2040,null,null,45000,null,null,1,null,"2026-04-04","MCP","2703","N","S","3A6",null,2703,"3889328",1,null,980,4000,1,11,50,"3丁",null,"2026-04-20","ユーザーフリー　ＴＡＦＫ原反使用可",null,null,null,"213"]
[null,null,null,null,null,null,null,null,null,null,null,null,null,null,null,null,null,null,null,null,null,null,null,null,"MCP","2703","N","S","3A6",null,2703,3891093,1,null,510,4000,1,22,40,null,null,"2026-04-20","尾池",null,null,null,"215"]
[]
["2026-04-07",6,null,"60407356070","43857210001",null,null,null,null,"9041A3","9041A3",null,"2444461",25,null,2040,null,null,45000,null,null,1,null,"2026-04-04","MCP","2703","N","S","3A6",null,2703,"3889362",1,null,880,8000,1,5,25,"2丁",null,"2026-04-20","細川　ＴＡＦＫ原反使用可",null,null,null,"211"]
[null,null,null,null,null,null,null,null,null,null,null,null,null,null,null,null,null,null,null,null,null,null,null,null,"MCP","2703","N","S","3A6",null,2703,"3889363",1,null,1120,8000,1,5,15,null,null,"2026-04-20","細川　ＴＡＦＫ原反使用可",null,null,null,"211"]
[null,null,null,null,null,null,null,null,null,null,null,null,null,null,null,null,null,null,null,null,null,null,null,null,"MCP","2703","N","S","3A6",null,2703,"3889364",1,null,1120,4000,1,1,3,null,null,"2026-04-20","４０００ｍ余剰分",null,null,null,"211"]
[null,null,null,null,null,null,null,null,null,null,null,null,null,null,null,null,null,null,null,null,null,null,null,null,"MCP","2703","N","S","3A6",null,2703,"3889365",1,null,880,4000,1,1,5,null,null,"2026-04-20","４０００ｍ余剰分",null,null,null,"211"]
[]
["2026-04-07",7,null,"60407356080","43857220001",null,null,null,null,"9041A3","9041A3",null,"2444461",25,null,2040,null,null,45000,null,null,1,null,"2026-04-04","MCP","2703","N","S","3A6",null,2703,"3889612",1,null,980,8000,1,5,90,"2丁",null,"2026-04-20","細川　ＴＡＦＫ原反使用可",null,null,null,"211"]
[null,null,null,null,null,null,null,null,null,null,null,null,null,null,null,null,null,null,null,null,null,null,null,null,"MCP","2703","N","S","3A6",null,2703,"3889613",1,null,1020,8000,1,5,10,null,null,"2026-04-20","細川",null,null,null,"211"]
[null,null,null,null,null,null,null,null,null,null,null,null,null,null,null,null,null,null,null,null,null,null,null,null,"MCP","2703","N","S","3A6",null,2703,"3889614",1,null,1020,4000,1,1,2,null,null,"2026-04-20","４０００ｍ余剰分",null,null,null,"211"]
[null,null,null,null,null,null,null,null,null,null,null,null,null,null,null,null,null,null,null,null,null,null,null,null,"MCP","2703","N","S","3A6",null,2703,"3889615",1,null,980,4000,1,1,19,null,null,"2026-04-20","４０００ｍ余剰分",null,null,null,"211"]
[]
["2026-04-07",8,null,"60407356090","43857230001",null,null,null,null,"9041A3","9041A3",null,"2444461",25,null,2040,null,null,45000,null,null,1,null,"2026-04-04","MCP","2703","N","S","3A6",null,2703,"3889616",1,null,1000,8000,1,10,10,"2丁",null,"2026-04-20","細川",null,null,null,"211"]
[null,null,null,null,null,null,null,null,null,null,null,null,null,null,null,null,null,null,null,null,null,null,null,null,"MCP","2703","N","S","3A6",null,2703,"3889617",1,null,1000,4000,1,2,2,null,null,"2026-04-20","４０００ｍ余剰分",null,null,null,"211"]
[]
["2026-04-07",9,null,"60407356100","43857240001",null,null,null,null,"9041A3","9041A3",null,"2444461",25,null,2040,null,null,45000,null,null,1,null,"2026-04-04","MCP","2703","N","S","3A6",null,2703,"3889645",1,null,1020,8000,1,5,20,"2丁",null,"2026-04-20","尾池",null,null,null,"215"]
[null,null,null,null,null,null,null,null,null,null,null,null,null,null,null,null,null,null,null,null,null,null,null,null,"MCP","2703","N","S","3A6",null,2703,"3889646",1,null,980,8000,1,5,90,null,null,"2026-04-20","細川　ＴＡＦＫ原反使用可",null,null,null,"211"]
[null,null,null,null,null,null,null,null,null,null,null,null,null,null,null,null,null,null,null,null,null,null,null,null,"MCP","2703","N","S","3A6",null,2703,"3889647",1,null,1020,4000,1,1,3,null,null,"2026-04-20","４０００ｍ余剰分",null,null,null,"215"]
[null,null,null,null,null,null,null,null,null,null,null,null,null,null,null,null,null,null,null,null,null,null,null,null,"MCP","2703","N","S","3A6",null,2703,"3889648",1,null,980,4000,1,1,19,null,null,"2026-04-20","４０００ｍ余剰分",null,null,null,"211"]
[]
["2026-04-07",10,null,"60407356110","43857250001",null,null,null,null,"9041A3","9041A3",null,"2444464",25,null,2020,null,null,45000,null,null,1,null,"2026-04-04","MCP","2703","N","S","3A6",null,2703,"3889245",1,null,840,8000,1,5,5,"2丁",null,"2026-04-20","尾池",null,null,null,"215"]
[null,null,null,null,null,null,null,null,null,null,null,null,null,null,null,null,null,null,null,null,null,null,null,null,"MCP","2703","N","S","3A6",null,2703,"3889246",1,null,1140,8000,1,5,70,null,null,"2026-04-20","大三紙業　ＴＡＦＫＯＫ",null,null,null,"217"]
[null,null,null,null,null,null,null,null,null,null,null,null,null,null,null,null,null,null,null,null,null,null,null,null,"MCP","2703","N","S","3A6",null,2703,"3889247",1,null,1140,4000,1,1,14,null,null,"2026-04-20","４０００ｍ余剰分",null,null,null,"217"]
[null,null,null,null,null,null,null,null,null,null,null,null,null,null,null,null,null,null,null,null,null,null,null,null,"MCP","2703","N","S","3A6",null,2703,"3889248",1,null,840,4000,1,1,1,null,null,"2026-04-20","４０００ｍ余剰分",null,null,null,"215"]
[]
["2026-04-07",11,null,"60408356010","43857260001",null,null,null,null,"9041A3","9041A3",null,"2444464",25,null,2020,null,null,45000,null,null,1,null,"2026-04-04","MCP","2703","N","S","3A6",null,2703,"3889326",1,null,860,4000,1,11,20,"2丁",null,"2026-04-20","ＴＡＦＫ原反使用可",null,null,null,"211"]
[null,null,null,null,null,null,null,null,null,null,null,null,null,null,null,null,null,null,null,null,null,null,null,null,"MCP","2703","N","S","3A6",null,2703,"3889327",1,null,1120,4000,1,11,10,null,null,"2026-04-20","細川　ＴＡＦＫ原反使用可",null,null,null,"211"]
[]
["2026-04-08",1,null,"60408356021","43857290001",null,null,null,null,"9021A3","9021A3",null,"2444842",25,null,2000,null,null,45000,null,null,1,null,"2026-04-06","MCP","2203","N","T","3E6B",null,2203,"3888829",1,null,980,8000,1,5,70,"2丁",null,"2026-04-20","ユーザーフリー",null,null,null,"213"]
[null,null,null,null,null,null,null,null,null,null,null,null,null,null,null,null,null,null,null,null,null,null,null,null,"MCP","2203","N","T","3E6B",null,2203,"3888830",1,null,960,8000,1,5,35,null,null,"2026-04-20",null,null,null,null,"211"]
[null,null,null,null,null,null,null,null,null,null,null,null,null,null,null,null,null,null,null,null,null,null,null,null,"MCP","2203","N","T","3E6B",null,2203,"3888831",1,null,960,4000,1,2,8,null,null,"2026-04-20","４０００ｍ余剰分",null,null,null,"211"]
[]
["2026-04-08",2,null,"60408356031","43857300001",null,null,null,null,"9021A3","9021A3",null,"2444854",25,null,1720,null,null,41000,null,null,1,null,"2026-04-06","MCP","2203","N","T","3E6B",null,2203,"3888836",1,null,640,8000,1,5,5,"2丁",null,"2026-04-20","ユーザーフリー",null,null,null,"213"]
[null,null,null,null,null,null,null,null,null,null,null,null,null,null,null,null,null,null,null,null,null,null,null,null,"MCP","2203","N","T","3E6B",null,2203,"3888837",1,null,980,8000,1,5,70,null,null,"2026-04-20","ユーザーフリー",null,null,null,"213"]
[]
["2026-04-08",3,null,"60408356040","43857310001",null,null,null,null,"9041A3","9041A3",null,"2444855",25,null,2020,null,null,45000,null,null,1,null,"2026-04-06","MCP","2703","N","S","3A6",null,2703,"3889330",1,null,510,4000,1,22,240,"3丁",null,"2026-04-20","ユーザーフリー　ＴＡＦＫ原反使用可",null,null,null,"213"]
[null,null,null,null,null,null,null,null,null,null,null,null,null,null,null,null,null,null,null,null,null,null,null,null,"MCP","2703","N","S","3A6",null,2703,"3889331",1,null,960,4000,1,11,60,null,null,"2026-04-20","ユーザーフリー　ＴＡＦＫ原反使用可",null,null,null,"213"]
[]
["2026-04-08",4,null,"60408356050","43857320001",null,null,null,null,"9041A3","9041A3",null,"2444855",25,null,2020,null,null,45000,null,null,1,null,"2026-04-06","MCP","2703","N","S","3A6",null,2703,"3889442",1,null,980,4000,1,11,40,"2丁",null,"2026-04-20","凸版　ＴＡＦＫ原反ＮＧ",null,null,null,"214"]
[null,null,null,null,null,null,null,null,null,null,null,null,null,null,null,null,null,null,null,null,null,null,null,null,"MCP","2703","N","S","3A6",null,2703,"3889443",1,null,1000,4000,1,11,10,null,null,"2026-04-20","細川",null,null,null,"211"]
[]
["2026-04-08",5,null,"60408356060","43857330001",null,null,null,null,"9041A3","9041A3",null,"2444855",25,null,2020,null,null,45000,null,null,1,null,"2026-04-06","MCP","2703","N","S","3A6",null,2703,"3889497",1,null,540,4000,1,11,10,"3丁",null,"2026-04-20","ユーザーフリー　ＴＡＦＫ原反使用可",null,null,null,"213"]
[null,null,null,null,null,null,null,null,null,null,null,null,null,null,null,null,null,null,null,null,null,null,null,null,"MCP","2703","N","S","3A6",null,2703,"3889498",1,null,680,4000,1,11,20,null,null,"2026-04-20","尾池",null,null,null,"215"]
[null,null,null,null,null,null,null,null,null,null,null,null,null,null,null,null,null,null,null,null,null,null,null,null,"MCP","2703","N","S","3A6",null,2703,"3889499",1,null,760,4000,1,11,50,null,null,"2026-04-20","ユーザーフリー　ＴＡＦＫ原反使用可",null,null,null,"213"]
[]
["2026-04-08",6,null,"60408356070","43857340001",null,null,null,null,"9041A3","9041A3",null,"2444855",25,null,2020,null,null,45000,null,null,1,null,"2026-04-06","MCP","2703","N","S","3A6",null,2703,"3889500",1,null,720,4000,1,11,10,"3丁",null,"2026-04-20","ユーザーフリー　ＴＡＦＫ原反使用可",null,null,null,"218"]
[null,null,null,null,null,null,null,null,null,null,null,null,null,null,null,null,null,null,null,null,null,null,null,null,"MCP","2703","N","S","3A6",null,2703,"3889501",1,null,580,4000,1,11,10,null,null,"2026-04-20","ＴＡＦＫ原反使用可",null,null,null,"211"]
[null,null,null,null,null,null,null,null,null,null,null,null,null,null,null,null,null,null,null,null,null,null,null,null,"MCP","2703","N","S","3A6",null,2703,"3889502",1,null,680,4000,1,11,10,null,null,"2026-04-20","ＴＡＦＫ原反使用可",null,null,null,"211"]
[]
["2026-04-08",7,null,"60408356080","43857480001",null,null,null,null,"9041",9041,null,"2444856",20,null,2000,null,null,53000,null,null,1,null,"2026-04-06","MCP","2703","N","S","3R",null,2703,"3888847",1,null,980,4000,1,13,12,"2丁",null,"2026-04-20","真丸",null,null,null,"214"]
[null,null,null,null,null,null,null,null,null,null,null,null,null,null,null,null,null,null,null,null,null,null,null,null,"MCP","2703","N","S","3R",null,2703,"3888848",1,null,980,4000,1,13,12,null,null,"2026-04-20","尾池",null,null,null,"215"]
[]
["2026-04-08",8,null,"60408356090","43857490001",null,null,null,null,"9041",9041,null,"2444856",20,null,2000,null,null,53000,null,null,1,null,"2026-04-06","MCP","2703","N","S","3R",null,2703,"3888941",1,null,980,8000,1,12,36,"2丁",null,"2026-04-20","ユーザーフリー",null,null,null,"213"]
[null,null,null,null,null,null,null,null,null,null,null,null,null,null,null,null,null,null,null,null,null,null,null,null,"MCP","2703","N","S","3R",null,2703,"3888942",1,null,980,4000,1,2,6,null,null,"2026-04-20","４０００ｍ余剰分",null,null,null,"213"]
[]
["2026-04-08",9,null,"60408356100","43857500001",null,null,null,null,"9041",9041,null,"2444856",20,null,2000,null,null,53000,null,null,1,null,"2026-04-06","MCP","2703","N","S","3R",null,2703,"3888945",1,null,960,8000,1,6,24,"2丁",null,"2026-04-20","細川",null,null,null,"211"]
[null,null,null,null,null,null,null,null,null,null,null,null,null,null,null,null,null,null,null,null,null,null,null,null,"MCP","2703","N","S","3R",null,2703,"3888946",1,null,1000,8000,1,6,48,null,null,"2026-04-20","細川",null,null,null,"211"]
[null,null,null,null,null,null,null,null,null,null,null,null,null,null,null,null,null,null,null,null,null,null,null,null,"MCP","2703","N","S","3R",null,2703,"3888947",1,null,1000,4000,1,1,8,null,null,"2026-04-20","４０００ｍ余剰分",null,null,null,"211"]
[null,null,null,null,null,null,null,null,null,null,null,null,null,null,null,null,null,null,null,null,null,null,null,null,"MCP","2703","N","S","3R",null,2703,"3888948",1,null,960,4000,1,1,4,null,null,"2026-04-20","４０００ｍ余剰分",null,null,null,"211"]
[]
["2026-04-08",10,null,"60408356110","43857350001",null,null,null,null,"9041A3","9041A3",null,"2444857",25,null,2000,null,null,45000,null,null,1,null,"2026-04-06","MCP","2703","N","S","3A6D",null,2703,"3889298",1,null,980,8000,1,10,70,"2丁",null,"2026-04-20","ＤＮＰ京都　３Ｄｏｒ３Ｄ６",null,null,null,"213"]
[null,null,null,null,null,null,null,null,null,null,null,null,null,null,null,null,null,null,null,null,null,null,null,null,"MCP","2703","N","S","3A6",null,2703,"3889299",1,null,980,4000,1,2,14,null,null,"2026-04-20","４０００ｍ余剰分",null,null,null,"213"]
[]
["2026-04-08",11,null,"60409356010","43857360001",null,null,null,null,"9041A3","9041A3",null,"2444857",25,null,2000,null,null,45000,null,null,1,null,"2026-04-06","MCP","2703","N","S","3A6D",null,2703,"3889300",1,null,980,8000,1,10,70,"2丁",null,"2026-04-20","ＤＮＰ京都　３Ｄｏｒ３Ｄ６",null,null,null,"213"]
[null,null,null,null,null,null,null,null,null,null,null,null,null,null,null,null,null,null,null,null,null,null,null,null,"MCP","2703","N","S","3A6",null,2703,"3889301",1,null,980,4000,1,2,14,null,null,"2026-04-20","４０００ｍ余剰分",null,null,null,"213"]
[]
["2026-04-09",1,null,"60409356020","43857370001",null,null,null,null,"9041A3","9041A3",null,"2444860",25,null,2000,null,null,45000,null,null,1,null,"2026-04-07","MCP","2703","N","S","3A6",null,2703,3891092,1,null,510,4000,1,22,10,"3丁",null,"2026-04-20","尾池",null,null,null,"215"]
[null,null,null,null,null,null,null,null,null,null,null,null,null,null,null,null,null,null,null,null,null,null,null,null,"MCP","2703","N","S","3A6",null,2703,"3889323",1,null,940,4000,1,11,20,null,null,"2026-04-20","真丸",null,null,null,"217"]
[]
["2026-04-09",2,null,"60409356030","43857380001",null,null,null,null,"9041A3","9041A3",null,"2444860",25,null,2000,null,null,45000,null,null,1,null,"2026-04-07","MCP","2703","N","S","3A6D",null,2703,"3889358",1,null,980,8000,1,10,70,"2丁",null,"2026-04-20","ＤＮＰ京都　３Ｄｏｒ３Ｄ６",null,null,null,"213"]
[null,null,null,null,null,null,null,null,null,null,null,null,null,null,null,null,null,null,null,null,null,null,null,null,"MCP","2703","N","S","3A6",null,2703,"3889359",1,null,980,4000,1,2,14,null,null,"2026-04-20","４０００ｍ余剰分",null,null,null,"213"]
[]
["2026-04-09",3,null,"60409356040","43857390001",null,null,null,null,"9041A3","9041A3",null,"2444860",25,null,2000,null,null,45000,null,null,1,null,"2026-04-07","MCP","2703","N","S","3A6D",null,2703,"3889360",1,null,980,8000,1,10,70,"2丁",null,"2026-04-20","ＤＮＰ京都　３Ｄｏｒ３Ｄ６",null,null,null,"213"]
[null,null,null,null,null,null,null,null,null,null,null,null,null,null,null,null,null,null,null,null,null,null,null,null,"MCP","2703","N","S","3A6",null,2703,"3889361",1,null,980,4000,1,2,14,null,null,"2026-04-20","４０００ｍ余剰分",null,null,null,"213"]
[]
["2026-04-09",4,null,"60409356050","43857400001",null,null,null,null,"9041A3","9041A3",null,"2444860",25,null,2000,null,null,45000,null,null,1,null,"2026-04-07","MCP","2703","N","S","3A6",null,2703,"3889383",1,null,510,4000,1,22,240,"3丁",null,"2026-04-20","ユーザーフリー　ＴＡＦＫ原反使用可",null,null,null,"213"]
[null,null,null,null,null,null,null,null,null,null,null,null,null,null,null,null,null,null,null,null,null,null,null,null,"MCP","2703","N","S","3A6",null,2703,"3889384",1,null,940,4000,1,11,40,null,null,"2026-04-20","ユーザーフリー　ＴＡＦＫ原反使用可",null,null,null,"213"]
[]
["2026-04-09",5,null,"60409356060","43857410001",null,null,null,null,"9041A3","9041A3",null,"2444860",25,null,2000,null,null,45000,null,null,1,null,"2026-04-07","MCP","2703","N","S","3A6",null,2703,"3889409",1,null,860,8000,1,5,35,"2丁",null,"2026-04-20","ＴＡＦＫ原反使用可",null,null,null,"211"]
[null,null,null,null,null,null,null,null,null,null,null,null,null,null,null,null,null,null,null,null,null,null,null,null,"MCP","2703","N","S","3A6",null,2703,"3889410",1,null,1100,8000,1,5,45,null,null,"2026-04-20","細川　ＴＡＦＫ原反使用可",null,null,null,"211"]
[null,null,null,null,null,null,null,null,null,null,null,null,null,null,null,null,null,null,null,null,null,null,null,null,"MCP","2703","N","S","3A6",null,2703,"3889411",1,null,1100,4000,1,1,8,null,null,"2026-04-20","４０００ｍ余剰分",null,null,null,"211"]
[null,null,null,null,null,null,null,null,null,null,null,null,null,null,null,null,null,null,null,null,null,null,null,null,"MCP","2703","N","S","3A6",null,2703,"3889412",1,null,860,4000,1,1,7,null,null,"2026-04-20","４０００ｍ余剰分",null,null,null,"211"]
[]
["2026-04-09",6,null,"60409356070","43857420001",null,null,null,null,"9041A3","9041A3",null,"2444860",25,null,2000,null,null,45000,null,null,1,null,"2026-04-07","MCP","2703","N","S","3A6",null,2703,"3889413",1,null,860,8000,1,5,35,"2丁",null,"2026-04-20","ＴＡＦＫ原反使用可",null,null,null,"211"]
[null,null,null,null,null,null,null,null,null,null,null,null,null,null,null,null,null,null,null,null,null,null,null,null,"MCP","2703","N","S","3A6",null,2703,"3889414",1,null,1100,8000,1,5,45,null,null,"2026-04-20","細川　ＴＡＦＫ原反使用可",null,null,null,"211"]
[null,null,null,null,null,null,null,null,null,null,null,null,null,null,null,null,null,null,null,null,null,null,null,null,"MCP","2703","N","S","3A6",null,2703,"3889415",1,null,1100,4000,1,1,8,null,null,"2026-04-20","４０００ｍ余剰分",null,null,null,"211"]
[null,null,null,null,null,null,null,null,null,null,null,null,null,null,null,null,null,null,null,null,null,null,null,null,"MCP","2703","N","S","3A6",null,2703,"3889416",1,null,860,4000,1,1,7,null,null,"2026-04-20","４０００ｍ余剰分",null,null,null,"211"]
[]
["2026-04-09",7,null,"60409356080","43857430001",null,null,null,null,"9041A3","9041A3",null,"2444860",25,null,2000,null,null,45000,null,null,1,null,"2026-04-07","MCP","2703","N","S","3A6",null,2703,"3889591",1,null,980,8000,1,10,50,"2丁",null,"2026-04-20","細川",null,null,null,"211"]
[null,null,null,null,null,null,null,null,null,null,null,null,null,null,null,null,null,null,null,null,null,null,null,null,"MCP","2703","N","S","3A6",null,2703,"3889592",1,null,980,4000,1,2,10,null,null,"2026-04-20","４０００ｍ余剰分",null,null,null,"211"]
[]
["2026-04-09",8,null,"60409356090","43857440001",null,null,null,null,"9041A3","9041A3",null,"2444860",25,null,2000,null,null,45000,null,null,1,null,"2026-04-07","MCP","2703","N","S","3A6",null,2703,"3889593",1,null,980,8000,1,10,50,"2丁",null,"2026-04-20","細川",null,null,null,"211"]
[null,null,null,null,null,null,null,null,null,null,null,null,null,null,null,null,null,null,null,null,null,null,null,null,"MCP","2703","N","S","3A6",null,2703,"3889594",1,null,980,4000,1,2,10,null,null,"2026-04-20","４０００ｍ余剰分",null,null,null,"211"]
[]
["2026-04-09",9,null,"60409356100","43857450001",null,null,null,null,"9041A3","9041A3",null,"2444860",25,null,2000,null,null,45000,null,null,1,null,"2026-04-07","MCP","2703","N","S","3A6",null,2703,"3889595",1,null,980,8000,1,10,50,"2丁",null,"2026-04-20","細川",null,null,null,"211"]
[null,null,null,null,null,null,null,null,null,null,null,null,null,null,null,null,null,null,null,null,null,null,null,null,"MCP","2703","N","S","3A6",null,2703,"3889596",1,null,980,4000,1,2,10,null,null,"2026-04-20","４０００ｍ余剰分",null,null,null,"211"]
[]
["2026-04-09",10,null,"60410356010","43857460001",null,null,null,null,"9041A3","9041A3",null,"2444860",25,null,2000,null,null,45000,null,null,1,null,"2026-04-07","MCP","2703","N","S","3A6",null,2703,"3889597",1,null,980,8000,1,10,50,"2丁",null,"2026-04-20","細川",null,null,null,"211"]
[null,null,null,null,null,null,null,null,null,null,null,null,null,null,null,null,null,null,null,null,null,null,null,null,"MCP","2703","N","S","3A6",null,2703,"3889598",1,null,980,4000,1,2,10,null,null,"2026-04-20","４０００ｍ余剰分",null,null,null,"211"]
[]
["2026-04-09",11,null,"60410356020","43857470001",null,null,null,null,"9041A3","9041A3",null,"2444860",25,null,2000,null,null,45000,null,null,1,null,"2026-04-07","MCP","2703","N","S","3A6",null,2703,"3889599",1,null,980,8000,1,10,50,"2丁",null,"2026-04-20","細川",null,null,null,"211"]
[null,null,null,null,null,null,null,null,null,null,null,null,null,null,null,null,null,null,null,null,null,null,null,null,"MCP","2703","N","S","3A6",null,2703,"3889600",1,null,980,4000,1,2,10,null,null,"2026-04-20","４０００ｍ余剰分",null,null,null,"211"]
[]
["2026-04-10",1,null,"60410356030","43857510001",null,null,null,null,"9041A3","9041A3",null,"2445535",25,null,2000,null,null,45000,null,null,1,null,"2026-04-08","MCP","2703","N","S","3A6",null,2703,"3889651",1,null,980,8000,1,10,90,"2丁",null,"2026-04-21","細川　ＴＡＦＫ原反使用可",null,null,null,"211"]
[null,null,null,null,null,null,null,null,null,null,null,null,null,null,null,null,null,null,null,null,null,null,null,null,"MCP","2703","N","S","3A6",null,2703,"3889652",1,null,980,4000,1,2,19,null,null,"2026-04-21","４０００ｍ余剰分",null,null,null,"211"]
[]
["2026-04-10",2,null,"60410356040","43857520001",null,null,null,null,"9041A3","9041A3",null,"2445535",25,null,2000,null,null,45000,null,null,1,null,"2026-04-08","MCP","2703","N","S","3A6",null,2703,"3889653",1,null,980,8000,1,10,90,"2丁",null,"2026-04-21","細川　ＴＡＦＫ原反使用可",null,null,null,"211"]
[null,null,null,null,null,null,null,null,null,null,null,null,null,null,null,null,null,null,null,null,null,null,null,null,"MCP","2703","N","S","3A6",null,2703,"3889654",1,null,980,4000,1,2,19,null,null,"2026-04-21","４０００ｍ余剰分",null,null,null,"211"]
[]
["2026-04-10",3,null,"60410356050","43857730001",null,null,null,null,"9041",9041,null,"2445536",20,null,2000,null,null,53000,null,null,1,null,"2026-04-08","MCP","2703","N","S","3R",null,2703,"3889031",1,null,1060,8000,1,6,36,"2丁",null,"2026-04-21","尾池",null,null,null,"215"]
[null,null,null,null,null,null,null,null,null,null,null,null,null,null,null,null,null,null,null,null,null,null,null,null,"MCP","2703","N","S","3R",null,2703,"3889032",1,null,900,8000,1,6,72,null,null,"2026-04-21","細川",null,null,null,"211"]
[null,null,null,null,null,null,null,null,null,null,null,null,null,null,null,null,null,null,null,null,null,null,null,null,"MCP","2703","N","S","3R",null,2703,"3889033",1,null,1060,4000,1,1,6,null,null,"2026-04-21","４０００ｍ余剰分",null,null,null,"215"]
[null,null,null,null,null,null,null,null,null,null,null,null,null,null,null,null,null,null,null,null,null,null,null,null,"MCP","2703","N","S","3R",null,2703,"3889034",1,null,900,4000,1,1,12,null,null,"2026-04-21","４０００ｍ余剰分",null,null,null,"211"]
[]
["2026-04-10",4,null,"60410356060","43857530001",null,null,null,null,"9041A3","9041A3",null,"2445535",25,null,2000,null,null,45000,null,null,1,null,"2026-04-08","MCP","2703","N","S","3A6",null,2703,"3889649",1,null,980,8000,1,10,90,"2丁",null,"2026-04-21","細川　ＴＡＦＫ原反使用可",null,null,null,"211"]
[null,null,null,null,null,null,null,null,null,null,null,null,null,null,null,null,null,null,null,null,null,null,null,null,"MCP","2703","N","S","3A6",null,2703,"3889650",1,null,980,4000,1,2,19,null,null,"2026-04-21","４０００ｍ余剰分",null,null,null,"211"]
[]
["2026-04-10",5,null,"60410356070","43857540001",null,null,null,null,"9041A3","9041A3",null,"2445535",25,null,2000,null,null,45000,null,null,1,null,"2026-04-08","MCP","2703","N","S","3A6",null,2703,"3889669",1,null,980,8000,1,10,90,"2丁",null,"2026-04-21","細川　ＴＡＦＫ原反使用可",null,null,null,"211"]
[null,null,null,null,null,null,null,null,null,null,null,null,null,null,null,null,null,null,null,null,null,null,null,null,"MCP","2703","N","S","3A6",null,2703,"3889670",1,null,980,4000,1,2,19,null,null,"2026-04-21","４０００ｍ余剰分",null,null,null,"211"]
[]
["2026-04-10",6,null,"60411356010","43857740001",null,null,null,null,"9041",9041,null,"2445556",20,null,1980,null,null,53000,null,null,1,null,"2026-04-08","MCP","2703","N","S","3R",null,2703,"3888839",1,null,900,4000,1,13,60,"2丁",null,"2026-04-21","富士特　優先希望、８６０～８８０幅補填込",null,null,null,"214"]
[null,null,null,null,null,null,null,null,null,null,null,null,null,null,null,null,null,null,null,null,null,null,null,null,"MCP","2703","N","S","3R",null,2703,"3888840",1,null,1040,4000,1,13,36,null,null,"2026-04-21","細川",null,null,null,"211"]
[]
["2026-04-10",7,null,"60411356020","43857750001",null,null,null,null,"9041",9041,null,"2445556",20,null,1980,null,null,53000,null,null,1,null,"2026-04-08","MCP","2703","N","S","3R",null,2703,"3888843",1,null,900,4000,1,13,24,"2丁",null,"2026-04-21","細川",null,null,null,"211"]
[null,null,null,null,null,null,null,null,null,null,null,null,null,null,null,null,null,null,null,null,null,null,null,null,"MCP","2703","N","S","3R",null,2703,"3888844",1,null,1040,4000,1,13,12,null,null,"2026-04-21","富士特",null,null,null,"214"]
[]
["2026-04-10",8,null,"60411356030","43857760001",null,null,null,null,"9041",9041,null,"2445556",20,null,1980,null,null,53000,null,null,1,null,"2026-04-08","MCP","2703","N","S","3R",null,2703,"3888876",1,null,580,4000,1,13,12,"3丁",null,"2026-04-21","尾池",null,null,null,"215"]
[null,null,null,null,null,null,null,null,null,null,null,null,null,null,null,null,null,null,null,null,null,null,null,null,"MCP","2703","N","S","3R",null,2703,"3888877",1,null,680,4000,1,13,12,null,null,"2026-04-21","ユーザーフリー",null,null,null,"213"]
[null,null,null,null,null,null,null,null,null,null,null,null,null,null,null,null,null,null,null,null,null,null,null,null,"MCP","2703","N","S","3R",null,2703,"3888878",1,null,680,4000,1,13,12,null,null,"2026-04-21","富士特",null,null,null,"214"]
[]
["2026-04-10",9,null,"60411356040","43857770001",null,null,null,null,"9041",9041,null,"2445556",20,null,1980,null,null,53000,null,null,1,null,"2026-04-08","MCP","2703","N","S","3R",null,2703,"3888933",1,null,900,8000,1,6,12,"2丁",null,"2026-04-21","ＤＦ４・ＤＦ６指定",null,null,null,"216"]
[null,null,null,null,null,null,null,null,null,null,null,null,null,null,null,null,null,null,null,null,null,null,null,null,"MCP","2703","N","S","3R",null,2703,"3888934",1,null,1040,8000,1,6,90,null,null,"2026-04-21","細川",null,null,null,"211"]
[null,null,null,null,null,null,null,null,null,null,null,null,null,null,null,null,null,null,null,null,null,null,null,null,"MCP","2703","N","S","3R",null,2703,"3888935",1,null,1040,4000,1,1,15,null,null,"2026-04-21","４０００ｍ余剰分",null,null,null,"211"]
[null,null,null,null,null,null,null,null,null,null,null,null,null,null,null,null,null,null,null,null,null,null,null,null,"MCP","2703","N","S","3R",null,2703,"3888936",1,null,900,4000,1,1,2,null,null,"2026-04-21","４０００ｍ余剰分",null,null,null,"216"]
[]
["2026-04-10",10,null,"60411356050","43857550001",null,null,null,null,"9041A3","9041A3",null,"2445557",25,null,1980,null,null,45000,null,null,1,null,"2026-04-08","MCP","2703","N","S","3A6",null,2703,"3889209",1,null,940,4000,1,11,20,"2丁",null,"2026-04-21","真丸",null,null,null,"217"]
[null,null,null,null,null,null,null,null,null,null,null,null,null,null,null,null,null,null,null,null,null,null,null,null,"MCP","2703","N","S","3A6",null,2703,"3889210",1,null,1000,4000,1,11,10,null,null,"2026-04-21","真丸",null,null,null,"217"]
[]
["2026-04-11",1,null,"60411356060","43857560001",null,null,null,null,"9041A3","9041A3",null,"2445597",25,null,1980,null,null,45000,null,null,1,null,"2026-04-09","MCP","2703","N","S","3A6D",null,2703,"3889237",1,null,840,8000,1,5,10,"2丁",null,"2026-04-22","ＤＮＰ京都　３Ｄｏｒ３Ｄ６",null,null,null,"213"]
[null,null,null,null,null,null,null,null,null,null,null,null,null,null,null,null,null,null,null,null,null,null,null,null,"MCP","2703","N","S","3A6D",null,2703,"3889238",1,null,1100,8000,1,5,15,null,null,"2026-04-22","ＤＮＰ京都　３Ｄｏｒ３Ｄ６",null,null,null,"213"]
[null,null,null,null,null,null,null,null,null,null,null,null,null,null,null,null,null,null,null,null,null,null,null,null,"MCP","2703","N","S","3A6",null,2703,"3889239",1,null,1100,4000,1,1,3,null,null,"2026-04-22","４０００ｍ余剰分",null,null,null,"213"]
[null,null,null,null,null,null,null,null,null,null,null,null,null,null,null,null,null,null,null,null,null,null,null,null,"MCP","2703","N","S","3A6",null,2703,"3889240",1,null,840,4000,1,1,2,null,null,"2026-04-22","４０００ｍ余剰分",null,null,null,"213"]
[]
["2026-04-11",2,null,"60411356070","43857570001",null,null,null,null,"9041A3","9041A3",null,"2445597",25,null,1980,null,null,45000,null,null,1,null,"2026-04-09","MCP","2703","N","S","3A6",null,2703,"3889266",1,null,760,4000,1,11,50,"2丁",null,"2026-04-22","ユーザーフリー　ＴＡＦＫ原反使用可",null,null,null,"213"]
[null,null,null,null,null,null,null,null,null,null,null,null,null,null,null,null,null,null,null,null,null,null,null,null,"MCP","2703","N","S","3A6",null,2703,"3889267",1,null,1180,4000,1,11,10,null,null,"2026-04-22","ユーザーフリー　ＴＡＦＫ原反使用可",null,null,null,"213"]
[]
["2026-04-11",3,null,"60411356080","43857580001",null,null,null,null,"9041A3","9041A3",null,"2445597",25,null,1980,null,null,45000,null,null,1,null,"2026-04-09","MCP","2703","N","S","3A6",null,2703,"3889268",1,null,980,4000,1,11,40,"2丁",null,"2026-04-22","凸版　ＴＡＦＫ原反ＮＧ",null,null,null,"214"]
[null,null,null,null,null,null,null,null,null,null,null,null,null,null,null,null,null,null,null,null,null,null,null,null,"MCP","2703","N","S","3A6",null,2703,"3889269",1,null,960,4000,1,11,10,null,null,"2026-04-22","真丸",null,null,null,"217"]
[]
["2026-04-11",4,null,"60411356090","43857590001",null,null,null,null,"9041A3","9041A3",null,"2445597",25,null,1980,null,null,45000,null,null,1,null,"2026-04-09","MCP","2703","N","S","3A6",null,2703,"3889379",1,null,920,4000,1,11,40,"2丁",null,"2026-04-22","真丸",null,null,null,"217"]
[null,null,null,null,null,null,null,null,null,null,null,null,null,null,null,null,null,null,null,null,null,null,null,null,"MCP","2703","N","S","3A6",null,2703,"3889380",1,null,1020,4000,1,11,10,null,null,"2026-04-22","細川　ＴＡＦＫ原反使用可",null,null,null,"211"]
[]
["2026-04-11",5,null,"60411356100","43857600001",null,null,null,null,"9041A3","9041A3",null,"2445597",25,null,1980,null,null,45000,null,null,1,null,"2026-04-09","MCP","2703","N","S","3A6",null,2703,"3889381",1,null,510,4000,1,22,240,"3丁",null,"2026-04-22","ユーザーフリー　ＴＡＦＫ原反使用可",null,null,null,"213"]
[null,null,null,null,null,null,null,null,null,null,null,null,null,null,null,null,null,null,null,null,null,null,null,null,"MCP","2703","N","S","3A6",null,2703,"3889382",1,null,920,4000,1,11,30,null,null,"2026-04-22","ユーザーフリー　ＴＡＦＫ原反使用可",null,null,null,"213"]
[]
["2026-04-11",6,null,"60412356010","43857610001",null,null,null,null,"9041A3","9041A3",null,"2445597",25,null,1980,null,null,45000,null,null,1,null,"2026-04-09","MCP","2703","N","S","3A6",null,2703,"3889440",1,null,840,4000,1,11,20,"2丁",null,"2026-04-22","ユーザーフリー　ＴＡＦＫ原反使用可",null,null,null,"213"]
[null,null,null,null,null,null,null,null,null,null,null,null,null,null,null,null,null,null,null,null,null,null,null,null,"MCP","2703","N","S","3A6",null,2703,"3889441",1,null,1100,4000,1,11,50,null,null,"2026-04-22","細川　ＴＡＦＫ原反使用可",null,null,null,"211"]
[]
["2026-04-11",7,null,"60412356020","43857620001",null,null,null,null,"9041A3","9041A3",null,"2445597",25,null,1980,null,null,45000,null,null,1,null,"2026-04-09","MCP","2703","N","S","3A6",null,2703,"3889506",1,null,640,4000,1,11,40,"3丁",null,"2026-04-22","ユーザーフリー　ＴＡＦＫ原反使用可",null,null,null,"213"]
[null,null,null,null,null,null,null,null,null,null,null,null,null,null,null,null,null,null,null,null,null,null,null,null,"MCP","2703","N","S","3A6",null,2703,"3889507",1,null,800,4000,1,11,20,null,null,"2026-04-22","ユーザーフリー　ＴＡＦＫ原反使用可",null,null,null,"213"]
[null,null,null,null,null,null,null,null,null,null,null,null,null,null,null,null,null,null,null,null,null,null,null,null,"MCP","2703","N","S","3A6",null,2703,"3889508",1,null,500,4000,1,11,10,null,null,"2026-04-22","ハヤシ",null,null,null,"217"]
[]
["2026-04-11",8,null,"60412356030","43857630001",null,null,null,null,"9041A3","9041A3",null,"2445597",25,null,1980,null,null,45000,null,null,1,null,"2026-04-09","MCP","2703","N","S","3A6",null,2703,"3889564",1,null,840,4000,1,11,30,"2丁",null,"2026-04-22","真丸",null,null,null,"217"]
[null,null,null,null,null,null,null,null,null,null,null,null,null,null,null,null,null,null,null,null,null,null,null,null,"MCP","2703","N","S","3A6",null,2703,"3889565",1,null,1100,4000,1,11,50,null,null,"2026-04-22","細川　ＴＡＦＫ原反使用可",null,null,null,"211"]
[]
["2026-04-11",9,null,"60412356040","43857640001",null,null,null,null,"9041A3","9041A3",null,"2445597",25,null,1980,null,null,45000,null,null,1,null,"2026-04-09","MCP","2703","N","S","3A6",null,2703,"3889663",1,null,980,8000,1,5,90,"2丁",null,"2026-04-22","細川　ＴＡＦＫ原反使用可",null,null,null,"211"]
[null,null,null,null,null,null,null,null,null,null,null,null,null,null,null,null,null,null,null,null,null,null,null,null,"MCP","2703","N","S","3A6",null,2703,"3889664",1,null,960,8000,1,5,70,null,null,"2026-04-22","細川　ＴＡＦＫ原反使用可",null,null,null,"211"]
[null,null,null,null,null,null,null,null,null,null,null,null,null,null,null,null,null,null,null,null,null,null,null,null,"MCP","2703","N","S","3A6",null,2703,"3889665",1,null,980,4000,1,1,19,null,null,"2026-04-22","４０００ｍ余剰分",null,null,null,"211"]
[null,null,null,null,null,null,null,null,null,null,null,null,null,null,null,null,null,null,null,null,null,null,null,null,"MCP","2703","N","S","3A6",null,2703,"3889666",1,null,960,4000,1,1,20,null,null,"2026-04-22","４０００ｍ余剰分",null,null,null,"211"]
[]
["2026-04-11",10,null,"60412356050","43857780001",null,null,null,null,"9041",9041,null,"2445598",20,null,1900,null,null,49000,null,null,1,null,"2026-04-09","MCP","2703","N","S","3R",null,2703,"3888881",1,null,840,8000,1,6,30,"2丁",null,"2026-04-22","尾池",null,null,null,"215"]
[null,null,null,null,null,null,null,null,null,null,null,null,null,null,null,null,null,null,null,null,null,null,null,null,"MCP","2703","N","S","3R",null,2703,"3888882",1,null,1020,8000,1,6,54,null,null,"2026-04-22","東タイ",null,null,null,"213"]
[]
["2026-04-11",11,null,"60412356060","43857790001",null,null,null,null,"9041",9041,null,"2445599",20,null,1900,null,null,53000,null,null,1,null,"2026-04-09","MCP","2703","N","S","3R",null,2703,"3888885",1,null,780,8000,1,6,12,"2丁",null,"2026-04-22",null,null,null,null,"211"]
[null,null,null,null,null,null,null,null,null,null,null,null,null,null,null,null,null,null,null,null,null,null,null,null,"MCP","2703","N","S","3R",null,2703,"3888886",1,null,1080,8000,1,6,24,null,null,"2026-04-22","細川",null,null,null,"211"]
[null,null,null,null,null,null,null,null,null,null,null,null,null,null,null,null,null,null,null,null,null,null,null,null,"MCP","2703","N","S","3R",null,2703,"3888887",1,null,1080,4000,1,1,3,null,null,"2026-04-22","４０００ｍ余剰分",null,null,null,"211"]
[null,null,null,null,null,null,null,null,null,null,null,null,null,null,null,null,null,null,null,null,null,null,null,null,"MCP","2703","N","S","3R",null,2703,"3888888",1,null,780,4000,1,1,2,null,null,"2026-04-22","４０００ｍ余剰分",null,null,null,"211"]
[]
["2026-04-12",1,null,"60412356070","43857650001",null,null,null,null,"9041A3","9041A3",null,"2446031",25,null,1880,null,null,45000,null,null,1,null,"2026-04-10","MCP","2703","N","S","3A6",null,2703,"3889207",1,null,820,4000,1,11,60,"2丁",null,"2026-04-23","ユーザーフリー　ＴＡＦＫ原反使用可",null,null,null,"213"]
[null,null,null,null,null,null,null,null,null,null,null,null,null,null,null,null,null,null,null,null,null,null,null,null,"MCP","2703","N","S","3A6",null,2703,"3889208",1,null,1020,4000,1,11,10,null,null,"2026-04-23","真丸",null,null,null,"217"]
[]
["2026-04-12",2,null,"60412356080","43857660001",null,null,null,null,"9041A3","9041A3",null,"2446032",25,null,1780,null,null,41000,null,null,1,null,"2026-04-10","MCP","2703","N","S","3A6",null,2703,"3889356",1,null,640,8000,1,5,15,"2丁",null,"2026-04-23","細川　ＴＡＦＫ原反使用可",null,null,null,"211"]
[null,null,null,null,null,null,null,null,null,null,null,null,null,null,null,null,null,null,null,null,null,null,null,null,"MCP","2703","N","S","3A6",null,2703,"3889357",1,null,1100,8000,1,5,45,null,null,"2026-04-23","細川　ＴＡＦＫ原反使用可",null,null,null,"211"]
[]
["2026-04-12",3,null,"60412356090","43857670001",null,null,null,null,"9041A3","9041A3",null,"2446032",25,null,1780,null,null,41000,null,null,1,null,"2026-04-10","MCP","2703","N","S","3A6",null,2703,"3889569",1,null,760,4000,1,10,10,"2丁",null,"2026-04-23","凸版　ＴＡＦＫ原反ＮＧ",null,null,null,"214"]
[null,null,null,null,null,null,null,null,null,null,null,null,null,null,null,null,null,null,null,null,null,null,null,null,"MCP","2703","N","S","3A6",null,2703,"3889570",1,null,980,4000,1,10,40,null,null,"2026-04-23","凸版　ＴＡＦＫ原反ＮＧ",null,null,null,"214"]
[]
["2026-04-12",4,null,"60412356100","43857680001",null,null,null,null,"9041A3","9041A3",null,"2446033",25,null,1740,null,null,41000,null,null,1,null,"2026-04-10","MCP","2703","N","S","3A6",null,2703,"3889571",1,null,800,4000,1,10,20,"2丁",null,"2026-04-23","ユーザーフリー　ＴＡＦＫ原反使用可",null,null,null,"213"]
[null,null,null,null,null,null,null,null,null,null,null,null,null,null,null,null,null,null,null,null,null,null,null,null,"MCP","2703","N","S","3A6",null,2703,"3889572",1,null,900,4000,1,10,50,null,null,"2026-04-23","須田",null,null,null,"217"]
[]
["2026-04-12",5,null,"60412356110","43857690001",null,null,null,null,"9041A3","9041A3",null,"2446034",25,null,2060,null,null,45000,null,null,1,null,"2026-04-10","MCP","2703","N","S","3A6",null,2703,"3889641",1,null,960,8000,1,5,70,"2丁",null,"2026-04-23","細川　ＴＡＦＫ原反使用可",null,null,null,"211"]
[null,null,null,null,null,null,null,null,null,null,null,null,null,null,null,null,null,null,null,null,null,null,null,null,"MCP","2703","N","S","3A6",null,2703,"3889642",1,null,1060,8000,1,5,50,null,null,"2026-04-23","細川　ＴＡＦＫ原反使用可",null,null,null,"211"]
[null,null,null,null,null,null,null,null,null,null,null,null,null,null,null,null,null,null,null,null,null,null,null,null,"MCP","2703","N","S","3A6",null,2703,"3889643",1,null,1060,4000,1,1,10,null,null,"2026-04-23","４０００ｍ余剰分",null,null,null,"211"]
[null,null,null,null,null,null,null,null,null,null,null,null,null,null,null,null,null,null,null,null,null,null,null,null,"MCP","2703","N","S","3A6",null,2703,"3889644",1,null,960,4000,1,1,20,null,null,"2026-04-23","４０００ｍ余剰分",null,null,null,"211"]
[]
["2026-04-12",6,null,"60413356010","43857700001",null,null,null,null,"9041A3","9041A3",null,"2446035",25,null,2020,null,null,45000,null,null,1,null,"2026-04-10","MCP","2703","N","S","3A6",null,2703,"3889608",1,null,1020,8000,1,5,20,"2丁",null,"2026-04-23","尾池",null,null,null,"215"]
[null,null,null,null,null,null,null,null,null,null,null,null,null,null,null,null,null,null,null,null,null,null,null,null,"MCP","2703","N","S","3A6",null,2703,"3889609",1,null,960,8000,1,5,30,null,null,"2026-04-23","細川",null,null,null,"211"]
[null,null,null,null,null,null,null,null,null,null,null,null,null,null,null,null,null,null,null,null,null,null,null,null,"MCP","2703","N","S","3A6",null,2703,"3889610",1,null,1020,4000,1,1,3,null,null,"2026-04-23","４０００ｍ余剰分",null,null,null,"215"]
[null,null,null,null,null,null,null,null,null,null,null,null,null,null,null,null,null,null,null,null,null,null,null,null,"MCP","2703","N","S","3A6",null,2703,"3889611",1,null,960,4000,1,1,20,null,null,"2026-04-23","４０００ｍ余剰分",null,null,null,"211"]
[]
["2026-04-12",7,null,"60413356020","43857710001",null,null,null,null,"9041A3","9041A3",null,"2446035",25,null,2020,null,null,45000,null,null,1,null,"2026-04-10","MCP","2703","N","S","3A6",null,2703,"3889618",1,null,980,8000,1,5,90,"2丁",null,"2026-04-23","細川　ＴＡＦＫ原反使用可",null,null,null,"211"]
[null,null,null,null,null,null,null,null,null,null,null,null,null,null,null,null,null,null,null,null,null,null,null,null,"MCP","2703","N","S","3A6",null,2703,"3889619",1,null,1000,8000,1,5,15,null,null,"2026-04-23","細川　ＴＡＦＫ原反使用可",null,null,null,"211"]
[null,null,null,null,null,null,null,null,null,null,null,null,null,null,null,null,null,null,null,null,null,null,null,null,"MCP","2703","N","S","3A6",null,2703,"3889620",1,null,1000,4000,1,1,3,null,null,"2026-04-23","４０００ｍ余剰分",null,null,null,"211"]
[null,null,null,null,null,null,null,null,null,null,null,null,null,null,null,null,null,null,null,null,null,null,null,null,"MCP","2703","N","S","3A6",null,2703,"3889621",1,null,980,4000,1,1,19,null,null,"2026-04-23","４０００ｍ余剰分",null,null,null,"211"]
[]
["2026-04-12",8,null,"60413356030","43857720001",null,null,null,null,"9041A3","9041A3",null,"2446035",25,null,2020,null,null,45000,null,null,1,null,"2026-04-10","MCP","2703","N","S","3A6",null,2703,"3889622",1,null,1020,8000,1,5,20,"2丁",null,"2026-04-23","尾池",null,null,null,"215"]
[null,null,null,null,null,null,null,null,null,null,null,null,null,null,null,null,null,null,null,null,null,null,null,null,"MCP","2703","N","S","3A6",null,2703,"3889623",1,null,960,8000,1,5,70,null,null,"2026-04-23","細川　ＴＡＦＫ原反使用可",null,null,null,"211"]
[null,null,null,null,null,null,null,null,null,null,null,null,null,null,null,null,null,null,null,null,null,null,null,null,"MCP","2703","N","S","3A6",null,2703,"3889624",1,null,1020,4000,1,1,3,null,null,"2026-04-23","４０００ｍ余剰分",null,null,null,"215"]
[null,null,null,null,null,null,null,null,null,null,null,null,null,null,null,null,null,null,null,null,null,null,null,null,"MCP","2703","N","S","3A6",null,2703,"3889625",1,null,960,4000,1,1,20,null,null,"2026-04-23","４０００ｍ余剰分",null,null,null,"211"]
[]
["2026-04-12",9,null,"60413356040","43863810001",null,null,null,null,"9041A3","9041A3",null,"2446035",25,null,2020,null,null,45000,null,null,1,null,"2026-04-10","MCP","2703","N","S","3A6D",null,2703,"3891908",1,null,900,8000,1,5,10,"2丁",null,"2026-04-23","ＤＮＰ京都　３Ｄｏｒ３Ｄ６",null,null,null,"213"]
[null,null,null,null,null,null,null,null,null,null,null,null,null,null,null,null,null,null,null,null,null,null,null,null,"MCP","2703","N","S","3A6",null,2703,"3891909",1,null,1080,8000,1,5,10,null,null,"2026-04-23","細川",null,null,null,"211"]
[null,null,null,null,null,null,null,null,null,null,null,null,null,null,null,null,null,null,null,null,null,null,null,null,"MCP","2703","N","S","3A6",null,2703,"3891910",1,null,1080,4000,1,1,2,null,null,"2026-04-23","４０００ｍ余剰分",null,null,null,"211"]
[null,null,null,null,null,null,null,null,null,null,null,null,null,null,null,null,null,null,null,null,null,null,null,null,"MCP","2703","N","S","3A6",null,2703,"3891911",1,null,900,4000,1,1,2,null,null,"2026-04-23","４０００ｍ余剰分",null,null,null,"213"]
[]
["2026-04-12",10,null,"60413356050","43863820001",null,null,null,null,"9041A3","9041A3",null,"2446035",25,null,2020,null,null,45000,null,null,1,null,"2026-04-10","MCP","2703","N","S","3A6D",null,2703,"3891912",1,null,880,8000,1,5,10,"2丁",null,"2026-04-23","ＤＮＰ京都　３Ｄｏｒ３Ｄ６",null,null,null,"213"]
[null,null,null,null,null,null,null,null,null,null,null,null,null,null,null,null,null,null,null,null,null,null,null,null,"MCP","2703","N","S","3A6D",null,2703,"3891913",1,null,1100,8000,1,5,20,null,null,"2026-04-23","ＤＮＰ京都　３Ｄｏｒ３Ｄ６",null,null,null,"213"]
[null,null,null,null,null,null,null,null,null,null,null,null,null,null,null,null,null,null,null,null,null,null,null,null,"MCP","2703","N","S","3A6",null,2703,"3891914",1,null,1100,4000,1,1,4,null,null,"2026-04-23","４０００ｍ余剰分",null,null,null,"213"]
[null,null,null,null,null,null,null,null,null,null,null,null,null,null,null,null,null,null,null,null,null,null,null,null,"MCP","2703","N","S","3A6",null,2703,"3891915",1,null,880,4000,1,1,2,null,null,"2026-04-23","４０００ｍ余剰分",null,null,null,"213"]
[]
["2026-04-12",11,null,"60413356060","43863830001",null,null,null,null,"9041A3","9041A3",null,"2446035",25,null,2020,null,null,45000,null,null,1,null,"2026-04-10","MCP","2703","N","S","3A6",null,2703,"3891990",1,null,1140,8000,1,5,80,"2丁",null,"2026-04-23","大三紙業　優先希望",null,null,null,"217"]
[null,null,null,null,null,null,null,null,null,null,null,null,null,null,null,null,null,null,null,null,null,null,null,null,"MCP","2703","N","S","3A6",null,2703,"3891991",1,null,840,8000,1,5,5,null,null,"2026-04-23",null,null,null,null,"211"]
[null,null,null,null,null,null,null,null,null,null,null,null,null,null,null,null,null,null,null,null,null,null,null,null,"MCP","2703","N","S","3A6",null,2703,"3891992",1,null,1140,4000,1,1,16,null,null,"2026-04-23","４０００ｍ余剰分",null,null,null,"217"]
[null,null,null,null,null,null,null,null,null,null,null,null,null,null,null,null,null,null,null,null,null,null,null,null,"MCP","2703","N","S","3A6",null,2703,"3891993",1,null,840,4000,1,1,1,null,null,"2026-04-23","４０００ｍ余剰分",null,null,null,"211"]
[]
["2026-04-13",1,null,"60413356071","43863990001",null,null,null,null,"9021A3","9021A3",null,"2446055",25,null,2000,null,null,45000,null,null,1,null,"2026-04-11","MCP","2203","N","T","3E6B",null,2203,"3891247",1,null,980,8000,1,10,75,"2丁",null,"2026-04-24","ユーザーフリー",null,null,null,"213"]
[null,null,null,null,null,null,null,null,null,null,null,null,null,null,null,null,null,null,null,null,null,null,null,null,"MCP","2203","N","T","3E6B",null,2203,"3891248",1,null,980,4000,1,2,14,null,null,"2026-04-24","４０００ｍ余剰分",null,null,null,"213"]
[]
["2026-04-13",2,null,"60413356081","43864000001",null,null,null,null,"9021A3","9021A3",null,"2446055",25,null,2000,null,null,45000,null,null,1,null,"2026-04-11","MCP","2203","N","T","3E6B",null,2203,"3891249",1,null,980,8000,1,10,75,"2丁",null,"2026-04-24","ユーザーフリー",null,null,null,"213"]
[null,null,null,null,null,null,null,null,null,null,null,null,null,null,null,null,null,null,null,null,null,null,null,null,"MCP","2203","N","T","3E6B",null,2203,"3891250",1,null,980,4000,1,2,14,null,null,"2026-04-24","４０００ｍ余剰分",null,null,null,"213"]
[]
["2026-04-13",3,null,"60413356091","43864010001",null,null,null,null,"9021A3","9021A3",null,"2446055",25,null,2000,null,null,45000,null,null,1,null,"2026-04-11","MCP","2203","N","T","3E6B",null,2203,"3891251",1,null,980,8000,1,10,75,"2丁",null,"2026-04-24","ユーザーフリー",null,null,null,"213"]
[null,null,null,null,null,null,null,null,null,null,null,null,null,null,null,null,null,null,null,null,null,null,null,null,"MCP","2203","N","T","3E6B",null,2203,"3891252",1,null,980,4000,1,2,14,null,null,"2026-04-24","４０００ｍ余剰分",null,null,null,"213"]
[]
["2026-04-13",4,null,"60413356100","43863840001",null,null,null,null,"9041A3","9041A3",null,"2446057",25,null,2000,null,null,45000,null,null,1,null,"2026-04-11","MCP","2703","N","S","3A6",null,2703,"3891849",1,null,860,4000,1,10,10,"2丁",null,"2026-04-24","真丸　ＴＡＦＫＯＫ",null,null,null,"217"]
[null,null,null,null,null,null,null,null,null,null,null,null,null,null,null,null,null,null,null,null,null,null,null,null,"MCP","2703","N","S","3A6",null,2703,"3891850",1,null,1100,4000,1,10,20,null,null,"2026-04-24","和合",null,null,null,"217"]
[null,null,null,null,null,null,null,null,null,null,null,null,null,null,null,null,null,null,null,null,null,null,null,null,"MCP","2703","N","S","3A6",null,2703,"3891851",1,null,1100,4000,1,1,2,null,null,"2026-04-24","４０００ｍ余剰分",null,null,null,"217"]
[null,null,null,null,null,null,null,null,null,null,null,null,null,null,null,null,null,null,null,null,null,null,null,null,"MCP","2703","N","S","3A6",null,2703,"3891852",1,null,860,4000,1,1,3,null,null,"2026-04-24","４０００ｍ余剰分",null,null,null,"217"]
[]
["2026-04-13",5,null,"60414356010","43863850001",null,null,null,null,"9041A3","9041A3",null,"2446057",25,null,2000,null,null,45000,null,null,1,null,"2026-04-11","MCP","2703","N","S","3A6D",null,2703,"3892094",1,null,860,8000,1,5,55,"2丁",null,"2026-04-24","ＤＮＰ京都　３Ｄｏｒ３Ｄ６",null,null,null,"213"]
[null,null,null,null,null,null,null,null,null,null,null,null,null,null,null,null,null,null,null,null,null,null,null,null,"MCP","2703","N","S","3A6",null,2703,"3892095",1,null,1100,8000,1,5,45,null,null,"2026-04-24","細川",null,null,null,"211"]
[null,null,null,null,null,null,null,null,null,null,null,null,null,null,null,null,null,null,null,null,null,null,null,null,"MCP","2703","N","S","3A6",null,2703,"3892096",1,null,1100,4000,1,1,9,null,null,"2026-04-24","４０００ｍ余剰分",null,null,null,"211"]
[null,null,null,null,null,null,null,null,null,null,null,null,null,null,null,null,null,null,null,null,null,null,null,null,"MCP","2703","N","S","3A6",null,2703,"3892097",1,null,860,4000,1,1,11,null,null,"2026-04-24","４０００ｍ余剰分",null,null,null,"213"]
[]
["2026-04-13",6,null,"60414356020","43863860001",null,null,null,null,"9041A3","9041A3",null,"2446057",25,null,2000,null,null,45000,null,null,1,null,"2026-04-11","MCP","2703","N","S","3A6D",null,2703,"3892200",1,null,860,8000,1,5,55,"2丁",null,"2026-04-24","ＤＮＰ京都　３Ｄｏｒ３Ｄ６",null,null,null,"213"]
[null,null,null,null,null,null,null,null,null,null,null,null,null,null,null,null,null,null,null,null,null,null,null,null,"MCP","2703","N","S","3A6D",null,2703,"3892201",1,null,1100,8000,1,5,20,null,null,"2026-04-24","ＤＮＰ京都　３Ｄｏｒ３Ｄ６",null,null,null,"213"]
[null,null,null,null,null,null,null,null,null,null,null,null,null,null,null,null,null,null,null,null,null,null,null,null,"MCP","2703","N","S","3A6",null,2703,"3892202",1,null,1100,4000,1,1,4,null,null,"2026-04-24","４０００ｍ余剰分",null,null,null,"213"]
[null,null,null,null,null,null,null,null,null,null,null,null,null,null,null,null,null,null,null,null,null,null,null,null,"MCP","2703","N","S","3A6",null,2703,"3892203",1,null,860,4000,1,1,11,null,null,"2026-04-24","４０００ｍ余剰分",null,null,null,"213"]
[]
["2026-04-13",7,null,"60414356040","43863870001",null,null,null,null,"9041A3","9041A3",null,"2446057",25,null,2000,null,null,45000,null,null,1,null,"2026-04-11","MCP","2703","N","S","3A6",null,2703,"3892293",1,null,980,8000,1,10,200,"2丁",null,"2026-04-24","細川",null,null,null,"211"]
[null,null,null,null,null,null,null,null,null,null,null,null,null,null,null,null,null,null,null,null,null,null,null,null,"MCP","2703","N","S","3A6",null,2703,"3892294",1,null,980,4000,1,2,40,null,null,"2026-04-24","４０００ｍ余剰分",null,null,null,"211"]
[]
["2026-04-13",8,null,"60414356050","43863880001",null,null,null,null,"9041A3","9041A3",null,"2446057",25,null,2000,null,null,45000,null,null,1,null,"2026-04-11","MCP","2703","N","S","3A6D",null,2703,"3892295",1,null,980,8000,1,10,65,"2丁",null,"2026-04-24","ＤＮＰ京都　３Ｄｏｒ３Ｄ６",null,null,null,"213"]
[null,null,null,null,null,null,null,null,null,null,null,null,null,null,null,null,null,null,null,null,null,null,null,null,"MCP","2703","N","S","3A6",null,2703,"3892296",1,null,980,4000,1,2,13,null,null,"2026-04-24","４０００ｍ余剰分",null,null,null,"213"]
[]
["2026-04-13",9,null,"60414356060","43863890001",null,null,null,null,"9041A3","9041A3",null,"2446058",25,null,1980,null,null,45000,null,null,1,null,"2026-04-11","MCP","2703","N","S","3A6",null,2703,"3891942",1,null,960,4000,1,10,20,"2丁",null,"2026-04-24","細川",null,null,null,"211"]
[null,null,null,null,null,null,null,null,null,null,null,null,null,null,null,null,null,null,null,null,null,null,null,null,"MCP","2703","N","S","3A6",null,2703,"3891943",1,null,980,4000,1,10,20,null,null,"2026-04-24","細川",null,null,null,"211"]
[null,null,null,null,null,null,null,null,null,null,null,null,null,null,null,null,null,null,null,null,null,null,null,null,"MCP","2703","N","S","3A6",null,2703,"3891944",1,null,980,4000,1,1,2,null,null,"2026-04-24","４０００ｍ余剰分",null,null,null,"211"]
[null,null,null,null,null,null,null,null,null,null,null,null,null,null,null,null,null,null,null,null,null,null,null,null,"MCP","2703","N","S","3A6",null,2703,"3891945",1,null,960,4000,1,1,4,null,null,"2026-04-24","４０００ｍ余剰分",null,null,null,"211"]
[]
["2026-04-13",10,null,"60414356070","43863900001",null,null,null,null,"9041A3","9041A3",null,"2446058",25,null,1980,null,null,45000,null,null,1,null,"2026-04-11","MCP","2703","N","S","3A6",null,2703,"3891950",1,null,880,4000,1,10,60,"2丁",null,"2026-04-24","須田",null,null,null,"217"]
[null,null,null,null,null,null,null,null,null,null,null,null,null,null,null,null,null,null,null,null,null,null,null,null,"MCP","2703","N","S","3A6",null,2703,"3891951",1,null,1060,4000,1,10,20,null,null,"2026-04-24","細川",null,null,null,"211"]
[null,null,null,null,null,null,null,null,null,null,null,null,null,null,null,null,null,null,null,null,null,null,null,null,"MCP","2703","N","S","3A6",null,2703,"3891952",1,null,1060,4000,1,1,2,null,null,"2026-04-24","４０００ｍ余剰分",null,null,null,"211"]
[null,null,null,null,null,null,null,null,null,null,null,null,null,null,null,null,null,null,null,null,null,null,null,null,"MCP","2703","N","S","3A6",null,2703,"3891953",1,null,880,4000,1,1,6,null,null,"2026-04-24","４０００ｍ余剰分",null,null,null,"217"]
[]
["2026-04-13",11,null,"60414356080","43863910001",null,null,null,null,"9041A3","9041A3",null,"2446058",25,null,1980,null,null,45000,null,null,1,null,"2026-04-11","MCP","2703","N","S","3A6",null,2703,"3891954",1,null,840,4000,1,10,40,"2丁",null,"2026-04-24","真丸",null,null,null,"217"]
[null,null,null,null,null,null,null,null,null,null,null,null,null,null,null,null,null,null,null,null,null,null,null,null,"MCP","2703","N","S","3A6",null,2703,"3891955",1,null,1100,4000,1,10,50,null,null,"2026-04-24","細川",null,null,null,"211"]
[null,null,null,null,null,null,null,null,null,null,null,null,null,null,null,null,null,null,null,null,null,null,null,null,"MCP","2703","N","S","3A6",null,2703,"3891956",1,null,1100,4000,1,1,22,null,null,"2026-04-24","４０００ｍ余剰分",null,null,null,"211"]
[null,null,null,null,null,null,null,null,null,null,null,null,null,null,null,null,null,null,null,null,null,null,null,null,"MCP","2703","N","S","3A6",null,2703,"3891957",1,null,840,4000,1,1,2,null,null,"2026-04-24","４０００ｍ余剰分",null,null,null,"217"]
[]
["2026-04-14",1,null,"60414356091","43864020001",null,null,null,null,"9021A3","9021A3",null,"2446055",25,null,2000,null,null,45000,null,null,1,null,"2026-04-11","MCP","2203","N","T","3E6B",null,2203,"3891253",1,null,980,8000,1,10,75,"2丁",null,"2026-04-27","ユーザーフリー",null,null,null,"213"]
[null,null,null,null,null,null,null,null,null,null,null,null,null,null,null,null,null,null,null,null,null,null,null,null,"MCP","2203","N","T","3E6B",null,2203,"3891254",1,null,980,4000,1,2,14,null,null,"2026-04-27","４０００ｍ余剰分",null,null,null,"213"]
[]
["2026-04-14",2,null,"60414356101","43864030001",null,null,null,null,"9021A3","9021A3",null,"2446055",25,null,2000,null,null,45000,null,null,1,null,"2026-04-11","MCP","2203","N","T","3E6B",null,2203,"3891255",1,null,980,8000,1,10,75,"2丁",null,"2026-04-27","ユーザーフリー",null,null,null,"213"]
[null,null,null,null,null,null,null,null,null,null,null,null,null,null,null,null,null,null,null,null,null,null,null,null,"MCP","2203","N","T","3E6B",null,2203,"3891256",1,null,980,4000,1,2,14,null,null,"2026-04-27","４０００ｍ余剰分",null,null,null,"213"]
[]
["2026-04-14",3,null,"60414356111","43864040001",null,null,null,null,"9021A3","9021A3",null,"2446055",25,null,2000,null,null,45000,null,null,1,null,"2026-04-11","MCP","2203","N","T","3E6B",null,2203,"3891257",1,null,980,8000,1,10,75,"2丁",null,"2026-04-27","ユーザーフリー",null,null,null,"213"]
[null,null,null,null,null,null,null,null,null,null,null,null,null,null,null,null,null,null,null,null,null,null,null,null,"MCP","2203","N","T","3E6B",null,2203,"3891258",1,null,980,4000,1,2,14,null,null,"2026-04-27","４０００ｍ余剰分",null,null,null,"213"]
[]
["2026-04-14",4,null,"60414356031","43864050001",null,null,null,null,"9041A3","9041A3",null,"2446059",40,null,1960,null,null,24600,null,null,1,null,"2026-04-11","MCP","2703","N","T","3E6B",null,2703,"3889705",1,null,960,4000,1,12,12,"2丁",null,"2026-04-27","大阪シーリング　ＤＦ６希望",null,null,null,"213"]
[]
["2026-04-14",5,null,"60415356010","43863920001",null,null,null,null,"9041A3","9041A3",null,"2446058",25,null,1980,null,null,45000,null,null,1,null,"2026-04-11","MCP","2703","N","S","3A6",null,2703,"3892034",1,null,920,4000,1,10,60,"2丁",null,"2026-04-27","真丸",null,null,null,"217"]
[null,null,null,null,null,null,null,null,null,null,null,null,null,null,null,null,null,null,null,null,null,null,null,null,"MCP","2703","N","S","3A6",null,2703,"3892035",1,null,1020,4000,1,10,40,null,null,"2026-04-27","細川",null,null,null,"211"]
[null,null,null,null,null,null,null,null,null,null,null,null,null,null,null,null,null,null,null,null,null,null,null,null,"MCP","2703","N","S","3A6",null,2703,"3892036",1,null,1020,4000,1,1,4,null,null,"2026-04-27","４０００ｍ余剰分",null,null,null,"211"]
[null,null,null,null,null,null,null,null,null,null,null,null,null,null,null,null,null,null,null,null,null,null,null,null,"MCP","2703","N","S","3A6",null,2703,"3892037",1,null,920,4000,1,1,6,null,null,"2026-04-27","４０００ｍ余剰分",null,null,null,"217"]
[]
["2026-04-14",6,null,"60415356070","43863930001",null,null,null,null,"9041A3","9041A3",null,"2446058",25,null,1980,null,null,45000,null,null,1,null,"2026-04-11","MCP","2703","N","S","3A6",null,2703,"3892148",1,null,510,4000,1,20,220,"3丁",null,"2026-04-27","ユーザーフリー　ＴＡＦＫ原反使用可",null,null,null,"213"]
[null,null,null,null,null,null,null,null,null,null,null,null,null,null,null,null,null,null,null,null,null,null,null,null,"MCP","2703","N","S","3A6",null,2703,"3892149",1,null,920,4000,1,10,60,null,null,"2026-04-27","ユーザーフリー　ＴＡＦＫ原反使用可",null,null,null,"213"]
[null,null,null,null,null,null,null,null,null,null,null,null,null,null,null,null,null,null,null,null,null,null,null,null,"MCP","2703","N","S","3A6",null,2703,"3892150",1,null,920,4000,1,1,4,null,null,"2026-04-27","４０００ｍ余剰分",null,null,null,"213"]
[null,null,null,null,null,null,null,null,null,null,null,null,null,null,null,null,null,null,null,null,null,null,null,null,"MCP","2703","N","S","3A6",null,2703,"3892151",1,null,510,4000,1,2,20,null,null,"2026-04-27","４０００ｍ余剰分",null,null,null,"213"]
[]
["2026-04-14",7,null,"60415356080","43863940001",null,null,null,null,"9041A3","9041A3",null,"2446058",25,null,1980,null,null,45000,null,null,1,null,"2026-04-11","MCP","2703","N","S","3A6",null,2703,"3892461",1,null,920,8000,1,5,25,"2丁",null,"2026-04-27","細川",null,null,null,"211"]
[null,null,null,null,null,null,null,null,null,null,null,null,null,null,null,null,null,null,null,null,null,null,null,null,"MCP","2703","N","S","3A6",null,2703,"3892462",1,null,1020,8000,1,5,50,null,null,"2026-04-27","細川",null,null,null,"211"]
[null,null,null,null,null,null,null,null,null,null,null,null,null,null,null,null,null,null,null,null,null,null,null,null,"MCP","2703","N","S","3A6",null,2703,"3892463",1,null,1020,4000,1,1,22,null,null,"2026-04-27","４０００ｍ余剰分",null,null,null,"211"]
[null,null,null,null,null,null,null,null,null,null,null,null,null,null,null,null,null,null,null,null,null,null,null,null,"MCP","2703","N","S","3A6",null,2703,"3892464",1,null,920,4000,1,1,7,null,null,"2026-04-27","４０００ｍ余剰分",null,null,null,"211"]
[]
["2026-04-14",8,null,"60415356090","43863950001",null,null,null,null,"9041A3","9041A3",null,"2446058",25,null,1980,null,null,45000,null,null,1,null,"2026-04-11","MCP","2703","N","S","3A6",null,2703,"3892497",1,null,840,4000,1,10,70,"2丁",null,"2026-04-27","ユーザーフリー　ＴＡＦＫ原反使用可",null,null,null,"213"]
[null,null,null,null,null,null,null,null,null,null,null,null,null,null,null,null,null,null,null,null,null,null,null,null,"MCP","2703","N","S","3A6",null,2703,"3892498",1,null,1100,4000,1,10,60,null,null,"2026-04-27","ユーザーフリー　ＴＡＦＫ原反使用可",null,null,null,"213"]
[null,null,null,null,null,null,null,null,null,null,null,null,null,null,null,null,null,null,null,null,null,null,null,null,"MCP","2703","N","S","3A6",null,2703,"3892499",1,null,1100,4000,1,1,6,null,null,"2026-04-27","４０００ｍ余剰分",null,null,null,"213"]
[null,null,null,null,null,null,null,null,null,null,null,null,null,null,null,null,null,null,null,null,null,null,null,null,"MCP","2703","N","S","3A6",null,2703,"3892500",1,null,840,4000,1,1,7,null,null,"2026-04-27","４０００ｍ余剰分",null,null,null,"213"]
[]
["2026-04-14",9,null,"60415356100","43863960001",null,null,null,null,"9041A3","9041A3",null,"2446058",25,null,1980,null,null,45000,null,null,1,null,"2026-04-11","MCP","2703","N","S","3A6",null,2703,"3892537",1,null,940,4000,1,10,100,"2丁",null,"2026-04-27","ユーザーフリー　ＴＡＦＫ原反使用可",null,null,null,"213"]
[null,null,null,null,null,null,null,null,null,null,null,null,null,null,null,null,null,null,null,null,null,null,null,null,"MCP","2703","N","S","3A6",null,2703,"3892538",1,null,1000,4000,1,10,50,null,null,"2026-04-27","ユーザーフリー　ＴＡＦＫ原反使用可",null,null,null,"218"]
[null,null,null,null,null,null,null,null,null,null,null,null,null,null,null,null,null,null,null,null,null,null,null,null,"MCP","2703","N","S","3A6",null,2703,"3892539",1,null,1000,4000,1,1,5,null,null,"2026-04-27","４０００ｍ余剰分",null,null,null,"218"]
[null,null,null,null,null,null,null,null,null,null,null,null,null,null,null,null,null,null,null,null,null,null,null,null,"MCP","2703","N","S","3A6",null,2703,"3892540",1,null,940,4000,1,1,8,null,null,"2026-04-27","４０００ｍ余剰分",null,null,null,"213"]
[]
["2026-04-14",10,null,"60416356010","43863970001",null,null,null,null,"9041A3","9041A3",null,"2446060",25,null,1960,null,null,45000,null,null,1,null,"2026-04-11","MCP","2703","N","S","3A6",null,2703,"3891845",1,null,900,4000,1,10,20,"2丁",null,"2026-04-27","須田",null,null,null,"217"]
[null,null,null,null,null,null,null,null,null,null,null,null,null,null,null,null,null,null,null,null,null,null,null,null,"MCP","2703","N","S","3A6",null,2703,"3891846",1,null,1020,4000,1,10,40,null,null,"2026-04-27","細川",null,null,null,"211"]
[null,null,null,null,null,null,null,null,null,null,null,null,null,null,null,null,null,null,null,null,null,null,null,null,"MCP","2703","N","S","3A6",null,2703,"3891847",1,null,1020,4000,1,1,4,null,null,"2026-04-27","４０００ｍ余剰分",null,null,null,"211"]
[null,null,null,null,null,null,null,null,null,null,null,null,null,null,null,null,null,null,null,null,null,null,null,null,"MCP","2703","N","S","3A6",null,2703,"3891848",1,null,900,4000,1,1,1,null,null,"2026-04-27","４０００ｍ余剰分",null,null,null,"217"]
[]
["2026-04-14",11,null,"60416356020","43863980001",null,null,null,null,"9041A3","9041A3",null,"2446060",25,null,1960,null,null,45000,null,null,1,null,"2026-04-11","MCP","2703","N","S","3A6",null,2703,"3892144",1,null,1080,4000,1,10,60,"2丁",null,"2026-04-27","ユーザーフリー　ＴＡＦＫ原反使用可",null,null,null,"213"]
[null,null,null,null,null,null,null,null,null,null,null,null,null,null,null,null,null,null,null,null,null,null,null,null,"MCP","2703","N","S","3A6",null,2703,"3892145",1,null,840,4000,1,10,40,null,null,"2026-04-27","真丸",null,null,null,"217"]
[null,null,null,null,null,null,null,null,null,null,null,null,null,null,null,null,null,null,null,null,null,null,null,null,"MCP","2703","N","S","3A6",null,2703,"3892146",1,null,1080,4000,1,1,6,null,null,"2026-04-27","４０００ｍ余剰分",null,null,null,"213"]
[null,null,null,null,null,null,null,null,null,null,null,null,null,null,null,null,null,null,null,null,null,null,null,null,"MCP","2703","N","S","3A6",null,2703,"3892147",1,null,840,4000,1,1,2,null,null,"2026-04-27","４０００ｍ余剰分",null,null,null,"217"]
[]
["2026-04-15",1,null,"60415356051","43864060001",null,null,null,null,"9041A3S","9041A3S",null,"2446465",25,null,2100,null,null,45000,null,null,1,null,"2026-04-13","MCP","2703","N","T","3E6B",null,2703,"3891751",1,null,880,4000,1,10,10,"2丁",null,"2026-04-27","細川",null,null,null,"211"]
[null,null,null,null,null,null,null,null,null,null,null,null,null,null,null,null,null,null,null,null,null,null,null,null,"MCP","2703","N","T","3E6B",null,2703,"3891752",1,null,1180,4000,1,10,20,null,null,"2026-04-27","細川",null,null,null,"211"]
[null,null,null,null,null,null,null,null,null,null,null,null,null,null,null,null,null,null,null,null,null,null,null,null,"MCP","2703","N","T","3E6B",null,2703,"3891753",1,null,1180,4000,1,1,6,null,null,"2026-04-27","４０００ｍ余剰分",null,null,null,"211"]
[null,null,null,null,null,null,null,null,null,null,null,null,null,null,null,null,null,null,null,null,null,null,null,null,"MCP","2703","N","T","3E6B",null,2703,"3891754",1,null,880,4000,1,1,8,null,null,"2026-04-27","４０００ｍ余剰分",null,null,null,"211"]
[]
["2026-04-15",2,null,"60415356061","43864070001",null,null,null,null,"9041A3S","9041A3S",null,"2446465",25,null,2100,null,null,45000,null,null,1,null,"2026-04-13","MCP","2703","N","T","3E6B",null,2703,"3891755",1,null,840,4000,1,10,10,"2丁",null,"2026-04-27",null,null,null,null,"211"]
[null,null,null,null,null,null,null,null,null,null,null,null,null,null,null,null,null,null,null,null,null,null,null,null,"MCP","2703","N","T","3E6B",null,2703,"3891756",1,null,1220,4000,1,10,10,null,null,"2026-04-27",null,null,null,null,"211"]
[null,null,null,null,null,null,null,null,null,null,null,null,null,null,null,null,null,null,null,null,null,null,null,null,"MCP","2703","N","T","3E6B",null,2703,"3891757",1,null,1220,4000,1,1,1,null,null,"2026-04-27","４０００ｍ余剰分",null,null,null,"211"]
[null,null,null,null,null,null,null,null,null,null,null,null,null,null,null,null,null,null,null,null,null,null,null,null,"MCP","2703","N","T","3E6B",null,2703,"3891758",1,null,840,4000,1,1,2,null,null,"2026-04-27","４０００ｍ余剰分",null,null,null,"211"]
[]
["2026-04-15",3,null,"60415356041","43864080001",null,null,null,null,"9041A3S","9041A3S",null,"2446466",25,null,2080,null,null,45000,null,null,1,null,"2026-04-13","MCP","2703","N","T","3E6B",null,2703,"3891747",1,null,920,4000,1,10,20,"2丁",null,"2026-04-27","細川",null,null,null,"211"]
[null,null,null,null,null,null,null,null,null,null,null,null,null,null,null,null,null,null,null,null,null,null,null,null,"MCP","2703","N","T","3E6B",null,2703,"3891748",1,null,1120,4000,1,10,10,null,null,"2026-04-27","細川",null,null,null,"211"]
[null,null,null,null,null,null,null,null,null,null,null,null,null,null,null,null,null,null,null,null,null,null,null,null,"MCP","2703","N","T","3E6B",null,2703,"3891749",1,null,1120,4000,1,1,3,null,null,"2026-04-27","４０００ｍ余剰分",null,null,null,"211"]
[null,null,null,null,null,null,null,null,null,null,null,null,null,null,null,null,null,null,null,null,null,null,null,null,"MCP","2703","N","T","3E6B",null,2703,"3891750",1,null,920,4000,1,1,7,null,null,"2026-04-27","４０００ｍ余剰分",null,null,null,"211"]
[]
["2026-04-15",4,null,"60415356031","43864090001",null,null,null,null,"9041A3S","9041A3S",null,"2446467",25,null,1820,null,null,45000,null,null,1,null,"2026-04-13","MCP","2703","N","T","3E6B",null,2703,"3891739",1,null,680,4000,1,10,10,"2丁",null,"2026-04-27",null,null,null,null,"211"]
[null,null,null,null,null,null,null,null,null,null,null,null,null,null,null,null,null,null,null,null,null,null,null,null,"MCP","2703","N","T","3E6B",null,2703,"3891740",1,null,1100,4000,1,10,50,null,null,"2026-04-27","細川",null,null,null,"211"]
[null,null,null,null,null,null,null,null,null,null,null,null,null,null,null,null,null,null,null,null,null,null,null,null,"MCP","2703","N","T","3E6B",null,2703,"3891741",1,null,1100,4000,1,1,22,null,null,"2026-04-27","４０００ｍ余剰分",null,null,null,"211"]
[null,null,null,null,null,null,null,null,null,null,null,null,null,null,null,null,null,null,null,null,null,null,null,null,"MCP","2703","N","T","3E6B",null,2703,"3891742",1,null,680,4000,1,1,2,null,null,"2026-04-27","４０００ｍ余剰分",null,null,null,"211"]
[]
["2026-04-15",5,"","60415356021","43864100001",null,null,null,null,"9041A3S","9041A3S",null,"2446467",25,null,1820,null,null,45000,null,null,1,null,"2026-04-13","MCP","2703","N","T","3E6B",null,2703,"3891743",1,null,680,4000,1,10,30,"2丁",null,"2026-04-27",null,null,null,null,"213"]
[null,null,"",null,null,null,null,null,null,null,null,null,null,null,null,null,null,null,null,null,null,null,null,null,"MCP","2703","N","T","3E6B",null,2703,"3891744",1,null,1100,4000,1,10,50,null,null,"2026-04-27","細川",null,null,null,"211"]
[null,null,"",null,null,null,null,null,null,null,null,null,null,null,null,null,null,null,null,null,null,null,null,null,"MCP","2703","N","T","3E6B",null,2703,"3891745",1,null,1100,4000,1,1,22,null,null,"2026-04-27","４０００ｍ余剰分",null,null,null,"211"]
[null,null,"",null,null,null,null,null,null,null,null,null,null,null,null,null,null,null,null,null,null,null,null,null,"MCP","2703","N","T","3E6B",null,2703,"3891746",1,null,680,4000,1,1,1,null,null,"2026-04-27","４０００ｍ余剰分",null,null,null,"213"]
[null,null,""]
["2026-04-15",6,null,"60416356030","43864110001",null,null,null,null,"9041A3","9041A3",null,"2446468",25,null,1960,null,null,45000,null,null,1,null,"2026-04-13","MCP","2703","N","S","3A6",null,2703,"3892152",1,null,510,4000,1,20,220,"3丁",null,"2026-04-27","ユーザーフリー　ＴＡＦＫ原反使用可",null,null,null,"213"]
[null,null,null,null,null,null,null,null,null,null,null,null,null,null,null,null,null,null,null,null,null,null,null,null,"MCP","2703","N","S","3A6",null,2703,"3892153",1,null,900,4000,1,10,50,null,null,"2026-04-27","ユーザーフリー　ＴＡＦＫ原反使用可",null,null,null,"213"]
[null,null,null,null,null,null,null,null,null,null,null,null,null,null,null,null,null,null,null,null,null,null,null,null,"MCP","2703","N","S","3A6",null,2703,"3892154",1,null,900,4000,1,1,5,null,null,"2026-04-27","４０００ｍ余剰分",null,null,null,"213"]
[null,null,null,null,null,null,null,null,null,null,null,null,null,null,null,null,null,null,null,null,null,null,null,null,"MCP","2703","N","S","3A6",null,2703,"3892155",1,null,510,4000,1,2,20,null,null,"2026-04-27","４０００ｍ余剰分",null,null,null,"213"]
[]
["2026-04-15",7,null,"60416356040","43864120001",null,null,null,null,"9041A3","9041A3",null,"2446468",25,null,1960,null,null,45000,null,null,1,null,"2026-04-13","MCP","2703","N","S","3A6",null,2703,"3892297",1,null,940,8000,1,5,15,"2丁",null,"2026-04-27","ＤＦ４・６指定",null,null,null,"216"]
[null,null,null,null,null,null,null,null,null,null,null,null,null,null,null,null,null,null,null,null,null,null,null,null,"MCP","2703","N","S","3A6D",null,2703,"3892298",1,null,980,8000,1,5,65,null,null,"2026-04-27","ＤＮＰ京都　３Ｄｏｒ３Ｄ６",null,null,null,"213"]
[null,null,null,null,null,null,null,null,null,null,null,null,null,null,null,null,null,null,null,null,null,null,null,null,"MCP","2703","N","S","3A6",null,2703,"3892299",1,null,980,4000,1,1,13,null,null,"2026-04-27","４０００ｍ余剰分",null,null,null,"213"]
[null,null,null,null,null,null,null,null,null,null,null,null,null,null,null,null,null,null,null,null,null,null,null,null,"MCP","2703","N","S","3A6",null,2703,"3892300",1,null,940,4000,1,1,3,null,null,"2026-04-27","４０００ｍ余剰分",null,null,null,"216"]
[]
["2026-04-15",8,null,"60416356050","43864130001",null,null,null,null,"9041A3","9041A3",null,"2446468",25,null,1960,null,null,45000,null,null,1,null,"2026-04-13","MCP","2703","N","S","3A6",null,2703,"3892405",1,null,860,8000,1,5,45,"2丁",null,"2026-04-27",null,null,null,null,"211"]
[null,null,null,null,null,null,null,null,null,null,null,null,null,null,null,null,null,null,null,null,null,null,null,null,"MCP","2703","N","S","3A6",null,2703,"3892406",1,null,1060,8000,1,5,60,null,null,"2026-04-27","細川",null,null,null,"211"]
[null,null,null,null,null,null,null,null,null,null,null,null,null,null,null,null,null,null,null,null,null,null,null,null,"MCP","2703","N","S","3A6",null,2703,"3892407",1,null,1060,4000,1,1,32,null,null,"2026-04-27","４０００ｍ余剰分",null,null,null,"211"]
[null,null,null,null,null,null,null,null,null,null,null,null,null,null,null,null,null,null,null,null,null,null,null,null,"MCP","2703","N","S","3A6",null,2703,"3892408",1,null,860,4000,1,1,10,null,null,"2026-04-27","４０００ｍ余剰分",null,null,null,"211"]
[]
["2026-04-15",9,null,"60416356060","43864140001",null,null,null,null,"9041A3","9041A3",null,"2446470",25,null,1940,null,null,45000,null,null,1,null,"2026-04-13","MCP","2703","N","S","3A6",null,2703,"3891789",1,null,680,8000,1,5,5,"2丁",null,"2026-04-27",null,null,null,null,"211"]
[null,null,null,null,null,null,null,null,null,null,null,null,null,null,null,null,null,null,null,null,null,null,null,null,"MCP","2703","N","S","3A6",null,2703,"3891790",1,null,1220,8000,1,5,10,null,null,"2026-04-27",null,null,null,null,"211"]
[null,null,null,null,null,null,null,null,null,null,null,null,null,null,null,null,null,null,null,null,null,null,null,null,"MCP","2703","N","S","3A6",null,2703,"3891791",1,null,1220,4000,1,1,2,null,null,"2026-04-27","４０００ｍ余剰分",null,null,null,"211"]
[null,null,null,null,null,null,null,null,null,null,null,null,null,null,null,null,null,null,null,null,null,null,null,null,"MCP","2703","N","S","3A6",null,2703,"3891792",1,null,680,4000,1,1,2,null,null,"2026-04-27","４０００ｍ余剰分",null,null,null,"211"]
[]
["2026-04-15",10,null,"60416356070","43864150001",null,null,null,null,"9041A3","9041A3",null,"2446470",25,null,1940,null,null,45000,null,null,1,null,"2026-04-13","MCP","2703","N","S","3A6",null,2703,"3891793",1,null,720,8000,1,5,5,"2丁",null,"2026-04-27","細川",null,null,null,"211"]
[null,null,null,null,null,null,null,null,null,null,null,null,null,null,null,null,null,null,null,null,null,null,null,null,"MCP","2703","N","S","3A6",null,2703,"3891794",1,null,1180,8000,1,5,20,null,null,"2026-04-27","細川",null,null,null,"211"]
[null,null,null,null,null,null,null,null,null,null,null,null,null,null,null,null,null,null,null,null,null,null,null,null,"MCP","2703","N","S","3A6",null,2703,"3891795",1,null,1180,4000,1,1,4,null,null,"2026-04-27","４０００ｍ余剰分",null,null,null,"211"]
[null,null,null,null,null,null,null,null,null,null,null,null,null,null,null,null,null,null,null,null,null,null,null,null,"MCP","2703","N","S","3A6",null,2703,"3891796",1,null,720,4000,1,1,1,null,null,"2026-04-27","４０００ｍ余剰分",null,null,null,"211"]
[]
["2026-04-15",11,null,"60416356080","43864160001",null,null,null,null,"9041A3","9041A3",null,"2446470",25,null,1940,null,null,45000,null,null,1,null,"2026-04-13","MCP","2703","N","S","3A6D",null,2703,"3891797",1,null,760,8000,1,5,5,"2丁",null,"2026-04-27","ＤＮＰ京都　３Ｄｏｒ３Ｄ６",null,null,null,"213"]
[null,null,null,null,null,null,null,null,null,null,null,null,null,null,null,null,null,null,null,null,null,null,null,null,"MCP","2703","N","S","3A6",null,2703,"3891798",1,null,1140,8000,1,5,15,null,null,"2026-04-27","細川",null,null,null,"211"]
[null,null,null,null,null,null,null,null,null,null,null,null,null,null,null,null,null,null,null,null,null,null,null,null,"MCP","2703","N","S","3A6",null,2703,"3891799",1,null,1140,4000,1,1,3,null,null,"2026-04-27","４０００ｍ余剰分",null,null,null,"211"]
[null,null,null,null,null,null,null,null,null,null,null,null,null,null,null,null,null,null,null,null,null,null,null,null,"MCP","2703","N","S","3A6",null,2703,"3891800",1,null,760,4000,1,1,1,null,null,"2026-04-27","４０００ｍ余剰分",null,null,null,"213"]
[]
["2026-04-16",1,null,"60416356091","43864260001",null,null,null,null,"9021A3","9021A3",null,"2446472",25,null,1960,null,null,41000,null,null,1,null,"2026-04-14","MCP","2203","N","T","3E6B",null,2203,"3891243",1,null,980,8000,1,5,75,"2丁",null,"2026-04-27","ユーザーフリー",null,null,null,"213"]
[null,null,null,null,null,null,null,null,null,null,null,null,null,null,null,null,null,null,null,null,null,null,null,null,"MCP","2203","N","T","3E6B",null,2203,"3891244",1,null,940,8000,1,5,15,null,null,"2026-04-27",null,null,null,null,"211"]
[]
["2026-04-16",2,null,"60416356101","43864270001",null,null,null,null,"9021A3","9021A3",null,"2446473",25,null,1960,null,null,45000,null,null,1,null,"2026-04-14","MCP","2203","N","T","3E6B",null,2203,"3891245",1,null,960,8000,1,10,10,"2丁",null,"2026-04-27",null,null,null,null,"211"]
[null,null,null,null,null,null,null,null,null,null,null,null,null,null,null,null,null,null,null,null,null,null,null,null,"MCP","2203","N","T","3E6B",null,2203,"3891246",1,null,960,4000,1,2,2,null,null,"2026-04-27","４０００ｍ余剰分",null,null,null,"211"]
[]
["2026-04-16",3,null,"60416356110","43864170001",null,null,null,null,"9041A3","9041A3",null,"2446474",25,null,1940,null,null,45000,null,null,1,null,"2026-04-14","MCP","2703","N","S","3A6",null,2703,"3891801",1,null,800,8000,1,5,5,"2丁",null,"2026-04-27",null,null,null,null,"211"]
[null,null,null,null,null,null,null,null,null,null,null,null,null,null,null,null,null,null,null,null,null,null,null,null,"MCP","2703","N","S","3A6",null,2703,"3891802",1,null,1100,8000,1,5,45,null,null,"2026-04-27","細川",null,null,null,"211"]
[null,null,null,null,null,null,null,null,null,null,null,null,null,null,null,null,null,null,null,null,null,null,null,null,"MCP","2703","N","S","3A6",null,2703,"3891803",1,null,1100,4000,1,1,9,null,null,"2026-04-27","４０００ｍ余剰分",null,null,null,"211"]
[null,null,null,null,null,null,null,null,null,null,null,null,null,null,null,null,null,null,null,null,null,null,null,null,"MCP","2703","N","S","3A6",null,2703,"3891804",1,null,800,4000,1,1,1,null,null,"2026-04-27","４０００ｍ余剰分",null,null,null,"211"]
[]
["2026-04-16",4,null,"60417356010","43864180001",null,null,null,null,"9041A3","9041A3",null,"2446474",25,null,1940,null,null,45000,null,null,1,null,"2026-04-14","MCP","2703","N","S","3A6D",null,2703,"3891805",1,null,860,8000,1,5,55,"2丁",null,"2026-04-27","ＤＮＰ京都　３Ｄｏｒ３Ｄ６",null,null,null,"213"]
[null,null,null,null,null,null,null,null,null,null,null,null,null,null,null,null,null,null,null,null,null,null,null,null,"MCP","2703","N","S","3A6D",null,2703,"3891806",1,null,1040,8000,1,5,20,null,null,"2026-04-27","ＤＮＰ京都　３Ｄｏｒ３Ｄ６",null,null,null,"213"]
[null,null,null,null,null,null,null,null,null,null,null,null,null,null,null,null,null,null,null,null,null,null,null,null,"MCP","2703","N","S","3A6",null,2703,"3891807",1,null,1040,4000,1,1,4,null,null,"2026-04-27","４０００ｍ余剰分",null,null,null,"213"]
[null,null,null,null,null,null,null,null,null,null,null,null,null,null,null,null,null,null,null,null,null,null,null,null,"MCP","2703","N","S","3A6",null,2703,"3891808",1,null,860,4000,1,1,11,null,null,"2026-04-27","４０００ｍ余剰分",null,null,null,"213"]
[]
["2026-04-16",5,null,"60417356020","43864190001",null,null,null,null,"9041A3","9041A3",null,"2446474",25,null,1940,null,null,45000,null,null,1,null,"2026-04-14","MCP","2703","N","S","3A6",null,2703,"3891853",1,null,800,4000,1,10,10,"2丁",null,"2026-04-27","真丸　優先希望　バレンタイン・ひな祭り・ハロウィン・クリスマス案件（三州製菓埼玉の米菓メーカー）",null,null,null,"217"]
[null,null,null,null,null,null,null,null,null,null,null,null,null,null,null,null,null,null,null,null,null,null,null,null,"MCP","2703","N","S","3A6",null,2703,"3891854",1,null,1100,4000,1,10,50,null,null,"2026-04-27","細川",null,null,null,"211"]
[null,null,null,null,null,null,null,null,null,null,null,null,null,null,null,null,null,null,null,null,null,null,null,null,"MCP","2703","N","S","3A6",null,2703,"3891855",1,null,1100,4000,1,1,22,null,null,"2026-04-27","４０００ｍ余剰分",null,null,null,"211"]
[null,null,null,null,null,null,null,null,null,null,null,null,null,null,null,null,null,null,null,null,null,null,null,null,"MCP","2703","N","S","3A6",null,2703,"3891856",1,null,800,4000,1,1,1,null,null,"2026-04-27","４０００ｍ余剰分",null,null,null,"217"]
[]
["2026-04-16",6,null,"60417356030","43864200001",null,null,null,null,"9041A3","9041A3",null,"2446474",25,null,1940,null,null,45000,null,null,1,null,"2026-04-14","MCP","2703","N","S","3A6",null,2703,"3891857",1,null,840,4000,1,10,10,"2丁",null,"2026-04-27","凸版　ＴＡＦＫ原反ＮＧ",null,null,null,"214"]
[null,null,null,null,null,null,null,null,null,null,null,null,null,null,null,null,null,null,null,null,null,null,null,null,"MCP","2703","N","S","3A6",null,2703,"3891858",1,null,1060,4000,1,10,20,null,null,"2026-04-27","細川",null,null,null,"211"]
[null,null,null,null,null,null,null,null,null,null,null,null,null,null,null,null,null,null,null,null,null,null,null,null,"MCP","2703","N","S","3A6",null,2703,"3891859",1,null,1060,4000,1,1,2,null,null,"2026-04-27","４０００ｍ余剰分",null,null,null,"211"]
[null,null,null,null,null,null,null,null,null,null,null,null,null,null,null,null,null,null,null,null,null,null,null,null,"MCP","2703","N","S","3A6",null,2703,"3891860",1,null,840,4000,1,1,1,null,null,"2026-04-27","４０００ｍ余剰分",null,null,null,"214"]
[]
["2026-04-16",7,null,"60417356040","43864210001",null,null,null,null,"9041A3","9041A3",null,"2446474",25,null,1940,null,null,45000,null,null,1,null,"2026-04-14","MCP","2703","N","S","3A6",null,2703,"3891861",1,null,800,4000,1,10,20,"2丁",null,"2026-04-27","ユーザーフリー　ＴＡＦＫ原反使用可",null,null,null,"213"]
[null,null,null,null,null,null,null,null,null,null,null,null,null,null,null,null,null,null,null,null,null,null,null,null,"MCP","2703","N","S","3A6",null,2703,"3891862",1,null,1100,4000,1,10,60,null,null,"2026-04-27","ユーザーフリー　ＴＡＦＫ原反使用可",null,null,null,"213"]
[null,null,null,null,null,null,null,null,null,null,null,null,null,null,null,null,null,null,null,null,null,null,null,null,"MCP","2703","N","S","3A6",null,2703,"3891863",1,null,1100,4000,1,1,6,null,null,"2026-04-27","４０００ｍ余剰分",null,null,null,"213"]
[null,null,null,null,null,null,null,null,null,null,null,null,null,null,null,null,null,null,null,null,null,null,null,null,"MCP","2703","N","S","3A6",null,2703,"3891864",1,null,800,4000,1,1,1,null,null,"2026-04-27","４０００ｍ余剰分",null,null,null,"213"]
[]
["2026-04-16",8,null,"60417356050","43864220001",null,null,null,null,"9041A3","9041A3",null,"2446474",25,null,1940,null,null,45000,null,null,1,null,"2026-04-14","MCP","2703","N","S","3A6",null,2703,"3891900",1,null,780,8000,1,5,10,"2丁",null,"2026-04-27",null,null,null,null,"211"]
[null,null,null,null,null,null,null,null,null,null,null,null,null,null,null,null,null,null,null,null,null,null,null,null,"MCP","2703","N","S","3A6",null,2703,"3891901",1,null,1120,8000,1,5,20,null,null,"2026-04-27","細川",null,null,null,"211"]
[null,null,null,null,null,null,null,null,null,null,null,null,null,null,null,null,null,null,null,null,null,null,null,null,"MCP","2703","N","S","3A6",null,2703,"3891902",1,null,1120,4000,1,1,10,null,null,"2026-04-27","４０００ｍ余剰分",null,null,null,"211"]
[null,null,null,null,null,null,null,null,null,null,null,null,null,null,null,null,null,null,null,null,null,null,null,null,"MCP","2703","N","S","3A6",null,2703,"3891903",1,null,780,4000,1,1,3,null,null,"2026-04-27","４０００ｍ余剰分",null,null,null,"211"]
[]
["2026-04-16",9,null,"60417356060","43864230001",null,null,null,null,"9041A3","9041A3",null,"2446475",25,null,1920,null,null,45000,null,null,1,null,"2026-04-14","MCP","2703","N","S","3A6D",null,2703,"3891896",1,null,900,8000,1,5,10,"2丁",null,"2026-04-27","ＤＮＰ京都　３Ｄｏｒ３Ｄ６",null,null,null,"213"]
[null,null,null,null,null,null,null,null,null,null,null,null,null,null,null,null,null,null,null,null,null,null,null,null,"MCP","2703","N","S","3A6D",null,2703,"3891897",1,null,980,8000,1,5,65,null,null,"2026-04-27","ＤＮＰ京都　３Ｄｏｒ３Ｄ６",null,null,null,"213"]
[null,null,null,null,null,null,null,null,null,null,null,null,null,null,null,null,null,null,null,null,null,null,null,null,"MCP","2703","N","S","3A6",null,2703,"3891898",1,null,980,4000,1,1,13,null,null,"2026-04-27","４０００ｍ余剰分",null,null,null,"213"]
[null,null,null,null,null,null,null,null,null,null,null,null,null,null,null,null,null,null,null,null,null,null,null,null,"MCP","2703","N","S","3A6",null,2703,"3891899",1,null,900,4000,1,1,2,null,null,"2026-04-27","４０００ｍ余剰分",null,null,null,"213"]
[]
["2026-04-16",10,null,"60417356070","43864240001",null,null,null,null,"9041A3","9041A3",null,"2446475",25,null,1920,null,null,45000,null,null,1,null,"2026-04-14","MCP","2703","N","S","3A6",null,2703,"3892026",1,null,940,4000,1,20,20,"2丁",null,"2026-04-27","細川",null,null,null,"211"]
[null,null,null,null,null,null,null,null,null,null,null,null,null,null,null,null,null,null,null,null,null,null,null,null,"MCP","2703","N","S","3A6",null,2703,"3892027",1,null,940,4000,1,2,4,null,null,"2026-04-27","４０００ｍ余剰分",null,null,null,"211"]
[]
["2026-04-16",11,null,"60417356080","43864250001",null,null,null,null,"9041A3","9041A3",null,"2446475",25,null,1920,null,null,45000,null,null,1,null,"2026-04-14","MCP","2703","N","S","3A6",null,2703,"3892038",1,null,960,4000,1,10,20,"2丁",null,"2026-04-27","細川",null,null,null,"211"]
[null,null,null,null,null,null,null,null,null,null,null,null,null,null,null,null,null,null,null,null,null,null,null,null,"MCP","2703","N","S","3A6",null,2703,"3892039",1,null,920,4000,1,10,60,null,null,"2026-04-27","真丸",null,null,null,"217"]
[null,null,null,null,null,null,null,null,null,null,null,null,null,null,null,null,null,null,null,null,null,null,null,null,"MCP","2703","N","S","3A6",null,2703,"3892040",1,null,960,4000,1,1,4,null,null,"2026-04-27","４０００ｍ余剰分",null,null,null,"211"]
[null,null,null,null,null,null,null,null,null,null,null,null,null,null,null,null,null,null,null,null,null,null,null,null,"MCP","2703","N","S","3A6",null,2703,"3892041",1,null,920,4000,1,1,6,null,null,"2026-04-27","４０００ｍ余剰分",null,null,null,"217"]
[]
["2026-04-17",1,null,"60417356091","43864280001",null,null,null,null,"9021A3","9021A3",null,"2447619",25,null,1900,null,null,45000,null,null,1,null,"2026-04-15","MCP","2203","N","T","3E6B",null,2203,"3891235",1,null,980,8000,1,5,75,"2丁",null,"2026-04-28","ユーザーフリー",null,null,null,"213"]
[null,null,null,null,null,null,null,null,null,null,null,null,null,null,null,null,null,null,null,null,null,null,null,null,"MCP","2203","N","T","3E6B",null,2203,"3891236",1,null,880,8000,1,5,10,null,null,"2026-04-28",null,null,null,null,"211"]
[null,null,null,null,null,null,null,null,null,null,null,null,null,null,null,null,null,null,null,null,null,null,null,null,"MCP","2203","N","T","3E6B",null,2203,"3891237",1,null,980,4000,1,1,14,null,null,"2026-04-28","４０００ｍ余剰分",null,null,null,"213"]
[null,null,null,null,null,null,null,null,null,null,null,null,null,null,null,null,null,null,null,null,null,null,null,null,"MCP","2203","N","T","3E6B",null,2203,"3891238",1,null,880,4000,1,1,2,null,null,"2026-04-28","４０００ｍ余剰分",null,null,null,"211"]
[]
["2026-04-17",2,null,"60417356101","43864290001",null,null,null,null,"9021A3","9021A3",null,"2447619",25,null,1900,null,null,45000,null,null,1,null,"2026-04-15","MCP","2203","N","T","3E6B",null,2203,"3891239",1,null,980,8000,1,5,75,"2丁",null,"2026-04-28","ユーザーフリー",null,null,null,"213"]
[null,null,null,null,null,null,null,null,null,null,null,null,null,null,null,null,null,null,null,null,null,null,null,null,"MCP","2203","N","T","3E6B",null,2203,"3891240",1,null,880,8000,1,5,10,null,null,"2026-04-28",null,null,null,null,"211"]
[null,null,null,null,null,null,null,null,null,null,null,null,null,null,null,null,null,null,null,null,null,null,null,null,"MCP","2203","N","T","3E6B",null,2203,"3891241",1,null,980,4000,1,1,14,null,null,"2026-04-28","４０００ｍ余剰分",null,null,null,"213"]
[null,null,null,null,null,null,null,null,null,null,null,null,null,null,null,null,null,null,null,null,null,null,null,null,"MCP","2203","N","T","3E6B",null,2203,"3891242",1,null,880,4000,1,1,2,null,null,"2026-04-28","４０００ｍ余剰分",null,null,null,"211"]
[]
["2026-04-17",3,null,"60417356111","43864300001",null,null,null,null,"9021A3","9021A3",null,"2447620",25,null,1880,null,null,45000,null,null,1,null,"2026-04-15","MCP","2203","N","T","3E6B",null,2203,"3891266",1,null,880,4000,1,11,10,"2丁",null,"2026-04-28",null,null,null,null,"211"]
[null,null,null,null,null,null,null,null,null,null,null,null,null,null,null,null,null,null,null,null,null,null,null,null,"MCP","2203","N","T","3E6B",null,2203,"3891267",1,null,960,4000,1,11,10,null,null,"2026-04-28","相手幅",null,null,null,"211"]
[]
["2026-04-17",4,null,"60418356010","43864320001",null,null,null,null,"9041A3","9041A3",null,"2447621",25,null,1920,null,null,45000,null,null,1,null,"2026-04-15","MCP","2703","N","S","3A6",null,2703,"3892345",1,null,860,8000,1,5,45,"2丁",null,"2026-04-28",null,null,null,null,"211"]
[null,null,null,null,null,null,null,null,null,null,null,null,null,null,null,null,null,null,null,null,null,null,null,null,"MCP","2703","N","S","3A6",null,2703,"3892346",1,null,1020,8000,1,5,50,null,null,"2026-04-28","細川",null,null,null,"211"]
[null,null,null,null,null,null,null,null,null,null,null,null,null,null,null,null,null,null,null,null,null,null,null,null,"MCP","2703","N","S","3A6",null,2703,"3892347",1,null,1020,4000,1,1,22,null,null,"2026-04-28","４０００ｍ余剰分",null,null,null,"211"]
[null,null,null,null,null,null,null,null,null,null,null,null,null,null,null,null,null,null,null,null,null,null,null,null,"MCP","2703","N","S","3A6",null,2703,"3892348",1,null,860,4000,1,1,10,null,null,"2026-04-28","４０００ｍ余剰分",null,null,null,"211"]
[]
["2026-04-17",5,null,"60418356020","43864330001",null,null,null,null,"9041A3","9041A3",null,"2447621",25,null,1920,null,null,45000,null,null,1,null,"2026-04-15","MCP","2703","N","S","3A6D",null,2703,"3892349",1,null,940,8000,1,10,40,"2丁",null,"2026-04-28","ＤＮＰ京都　３Ｄｏｒ３Ｄ６",null,null,null,"213"]
[null,null,null,null,null,null,null,null,null,null,null,null,null,null,null,null,null,null,null,null,null,null,null,null,"MCP","2703","N","S","3A6",null,2703,"3892350",1,null,940,4000,1,2,8,null,null,"2026-04-28","４０００ｍ余剰分",null,null,null,"213"]
[]
["2026-04-17",6,null,"60418356030","43864340001",null,null,null,null,"9041A3","9041A3",null,"2447622",25,null,2320,null,null,41000,null,null,1,null,"2026-04-15","MCP","2703","N","S","3A6",null,2703,"3892493",1,null,760,4000,1,30,100,"3丁",null,"2026-04-28","ユーザーフリー　ＴＡＦＫ原反使用可",null,null,null,"213"]
[]
["2026-04-17",7,null,"60418356040","43864350001",null,null,null,null,"9041A3","9041A3",null,"2447624",25,null,2280,null,null,41000,null,null,1,null,"2026-04-15","MCP","2703","N","S","3A6",null,2703,"3892494",1,null,700,4000,1,10,50,"3丁",null,"2026-04-28","ユーザーフリー　ＴＡＦＫ原反使用可",null,null,null,"213"]
[null,null,null,null,null,null,null,null,null,null,null,null,null,null,null,null,null,null,null,null,null,null,null,null,"MCP","2703","N","S","3A6",null,2703,"3892495",1,null,760,4000,1,10,100,null,null,"2026-04-28","ユーザーフリー　ＴＡＦＫ原反使用可",null,null,null,"213"]
[null,null,null,null,null,null,null,null,null,null,null,null,null,null,null,null,null,null,null,null,null,null,null,null,"MCP","2703","N","S","3A6",null,2703,"3892496",1,null,780,4000,1,10,70,null,null,"2026-04-28","ユーザーフリー　ＴＡＦＫ原反使用可",null,null,null,"213"]
[]
["2026-04-17",8,null,"60418356050","43864360001",null,null,null,null,"9041A3","9041A3",null,"2447625",25,null,2100,null,null,45000,null,null,1,null,"2026-04-15","MCP","2703","N","S","3A6",null,2703,"3891759",1,null,1030,8000,1,10,50,"2丁",null,"2026-04-28","ユーザーフリー　ＴＡＦＫ原反使用可",null,null,null,"213"]
[null,null,null,null,null,null,null,null,null,null,null,null,null,null,null,null,null,null,null,null,null,null,null,null,"MCP","2703","N","S","3A6",null,2703,"3891760",1,null,1030,4000,1,2,10,null,null,"2026-04-28","４０００ｍ余剰分",null,null,null,"213"]
[]
["2026-04-17",9,null,"60418356060","43864370001",null,null,null,null,"9041A3","9041A3",null,"2447625",25,null,2100,null,null,45000,null,null,1,null,"2026-04-15","MCP","2703","N","S","3A6",null,2703,"3891761",1,null,1030,8000,1,10,50,"2丁",null,"2026-04-28","ユーザーフリー　ＴＡＦＫ原反使用可",null,null,null,"213"]
[null,null,null,null,null,null,null,null,null,null,null,null,null,null,null,null,null,null,null,null,null,null,null,null,"MCP","2703","N","S","3A6",null,2703,"3891762",1,null,1030,4000,1,2,10,null,null,"2026-04-28","４０００ｍ余剰分",null,null,null,"213"]
[]
["2026-04-17",10,null,"60418356070","43864380001",null,null,null,null,"9041A3","9041A3",null,"2447625",25,null,2100,null,null,45000,null,null,1,null,"2026-04-15","MCP","2703","N","S","3A6",null,2703,"3892006",1,null,880,8000,1,5,20,"2丁",null,"2026-04-28","細川",null,null,null,"211"]
[null,null,null,null,null,null,null,null,null,null,null,null,null,null,null,null,null,null,null,null,null,null,null,null,"MCP","2703","N","S","3A6",null,2703,"3892007",1,null,1180,8000,1,5,20,null,null,"2026-04-28","細川",null,null,null,"211"]
[null,null,null,null,null,null,null,null,null,null,null,null,null,null,null,null,null,null,null,null,null,null,null,null,"MCP","2703","N","S","3A6",null,2703,"3892008",1,null,1180,4000,1,1,4,null,null,"2026-04-28","４０００ｍ余剰分",null,null,null,"211"]
[null,null,null,null,null,null,null,null,null,null,null,null,null,null,null,null,null,null,null,null,null,null,null,null,"MCP","2703","N","S","3A6",null,2703,"3892009",1,null,880,4000,1,1,8,null,null,"2026-04-28","４０００ｍ余剰分",null,null,null,"211"]
[]
["2026-04-17",11,null,"60418356080","43864390001",null,null,null,null,"9041A3","9041A3",null,"2447625",25,null,2100,null,null,45000,null,null,1,null,"2026-04-15","MCP","2703","N","S","3A6",null,2703,"3892208",1,null,1140,8000,1,5,80,"2丁",null,"2026-04-28","大三紙業　優先希望",null,null,null,"217"]
[null,null,null,null,null,null,null,null,null,null,null,null,null,null,null,null,null,null,null,null,null,null,null,null,"MCP","2703","N","S","3A6",null,2703,"3892209",1,null,920,8000,1,5,25,null,null,"2026-04-28","細川",null,null,null,"211"]
[null,null,null,null,null,null,null,null,null,null,null,null,null,null,null,null,null,null,null,null,null,null,null,null,"MCP","2703","N","S","3A6",null,2703,"3892210",1,null,1140,4000,1,1,16,null,null,"2026-04-28","４０００ｍ余剰分",null,null,null,"217"]
[null,null,null,null,null,null,null,null,null,null,null,null,null,null,null,null,null,null,null,null,null,null,null,null,"MCP","2703","N","S","3A6",null,2703,"3892211",1,null,920,4000,1,1,7,null,null,"2026-04-28","４０００ｍ余剰分",null,null,null,"211"]
[]
["2026-04-18",1,null,"60418356090","43864400001",null,null,null,null,"9041A3","9041A3",null,"2447637",25,null,2100,null,null,45000,null,null,1,null,"2026-04-16","MCP","2703","N","S","3A6",null,2703,"3892409",1,null,960,8000,1,5,110,"2丁",null,"2026-04-30","細川",null,null,null,"211"]
[null,null,null,null,null,null,null,null,null,null,null,null,null,null,null,null,null,null,null,null,null,null,null,null,"MCP","2703","N","S","3A6",null,2703,"3892410",1,null,1100,8000,1,5,45,null,null,"2026-04-30","細川",null,null,null,"211"]
[null,null,null,null,null,null,null,null,null,null,null,null,null,null,null,null,null,null,null,null,null,null,null,null,"MCP","2703","N","S","3A6",null,2703,"3892411",1,null,1100,4000,1,1,9,null,null,"2026-04-30","４０００ｍ余剰分",null,null,null,"211"]
[null,null,null,null,null,null,null,null,null,null,null,null,null,null,null,null,null,null,null,null,null,null,null,null,"MCP","2703","N","S","3A6",null,2703,"3892412",1,null,960,4000,1,1,22,null,null,"2026-04-30","４０００ｍ余剰分",null,null,null,"211"]
[]
["2026-04-18",2,null,"60418356100","43864410001",null,null,null,null,"9041A3","9041A3",null,"2447637",25,null,2100,null,null,45000,null,null,1,null,"2026-04-16","MCP","2703","N","S","3A6",null,2703,"3892501",1,null,840,4000,1,10,70,"2丁",null,"2026-04-30","ユーザーフリー　ＴＡＦＫ原反使用可",null,null,null,"213"]
[null,null,null,null,null,null,null,null,null,null,null,null,null,null,null,null,null,null,null,null,null,null,null,null,"MCP","2703","N","S","3A6",null,2703,"3892502",1,null,1220,4000,1,10,90,null,null,"2026-04-30","ユーザーフリー　ＴＡＦＫ原反使用可",null,null,null,"218"]
[null,null,null,null,null,null,null,null,null,null,null,null,null,null,null,null,null,null,null,null,null,null,null,null,"MCP","2703","N","S","3A6",null,2703,"3892503",1,null,1220,4000,1,1,8,null,null,"2026-04-30","４０００ｍ余剰分",null,null,null,"218"]
[null,null,null,null,null,null,null,null,null,null,null,null,null,null,null,null,null,null,null,null,null,null,null,null,"MCP","2703","N","S","3A6",null,2703,"3892504",1,null,840,4000,1,1,7,null,null,"2026-04-30","４０００ｍ余剰分",null,null,null,"213"]
[]
["2026-04-18",3,null,"60419356010","43864420001",null,null,null,null,"9041A3","9041A3",null,"2447637",25,null,2100,null,null,45000,null,null,1,null,"2026-04-16","MCP","2703","N","S","3A6",null,2703,"3892583",1,null,960,8000,1,5,150,"2丁",null,"2026-04-30","細川　ＴＡＦＫ原反使用可",null,null,null,"211"]
[null,null,null,null,null,null,null,null,null,null,null,null,null,null,null,null,null,null,null,null,null,null,null,null,"MCP","2703","N","S","3A6",null,2703,"3892584",1,null,1100,8000,1,5,60,null,null,"2026-04-30","細川　ＴＡＦＫ原反使用可",null,null,null,"211"]
[null,null,null,null,null,null,null,null,null,null,null,null,null,null,null,null,null,null,null,null,null,null,null,null,"MCP","2703","N","S","3A6",null,2703,"3892585",1,null,1100,4000,1,1,22,null,null,"2026-04-30","４０００ｍ余剰分",null,null,null,"211"]
[null,null,null,null,null,null,null,null,null,null,null,null,null,null,null,null,null,null,null,null,null,null,null,null,"MCP","2703","N","S","3A6",null,2703,"3892586",1,null,960,4000,1,1,24,null,null,"2026-04-30","４０００ｍ余剰分",null,null,null,"211"]
[]
["2026-04-18",4,null,"60419356020","43864430001",null,null,null,null,"9041A3","9041A3",null,"2447637",25,null,2100,null,null,45000,null,null,1,null,"2026-04-16","MCP","2703","N","S","3A6",null,2703,"3892587",1,null,960,8000,1,5,150,"2丁",null,"2026-04-30","細川　ＴＡＦＫ原反使用可",null,null,null,"211"]
[null,null,null,null,null,null,null,null,null,null,null,null,null,null,null,null,null,null,null,null,null,null,null,null,"MCP","2703","N","S","3A6",null,2703,"3892588",1,null,1100,8000,1,5,60,null,null,"2026-04-30","細川　ＴＡＦＫ原反使用可",null,null,null,"211"]
[null,null,null,null,null,null,null,null,null,null,null,null,null,null,null,null,null,null,null,null,null,null,null,null,"MCP","2703","N","S","3A6",null,2703,"3892589",1,null,1100,4000,1,1,22,null,null,"2026-04-30","４０００ｍ余剰分",null,null,null,"211"]
[null,null,null,null,null,null,null,null,null,null,null,null,null,null,null,null,null,null,null,null,null,null,null,null,"MCP","2703","N","S","3A6",null,2703,"3892590",1,null,960,4000,1,1,24,null,null,"2026-04-30","４０００ｍ余剰分",null,null,null,"211"]
[]
["2026-04-18",5,null,"60419356030","43864440001",null,null,null,null,"9041A3","9041A3",null,"2447637",25,null,2100,null,null,45000,null,null,1,null,"2026-04-16","MCP","2703","N","S","3A6",null,2703,"3892591",1,null,960,8000,1,5,150,"2丁",null,"2026-04-30","細川　ＴＡＦＫ原反使用可",null,null,null,"211"]
[null,null,null,null,null,null,null,null,null,null,null,null,null,null,null,null,null,null,null,null,null,null,null,null,"MCP","2703","N","S","3A6",null,2703,"3892592",1,null,1100,8000,1,5,60,null,null,"2026-04-30","細川　ＴＡＦＫ原反使用可",null,null,null,"211"]
[null,null,null,null,null,null,null,null,null,null,null,null,null,null,null,null,null,null,null,null,null,null,null,null,"MCP","2703","N","S","3A6",null,2703,"3892593",1,null,1100,4000,1,1,22,null,null,"2026-04-30","４０００ｍ余剰分",null,null,null,"211"]
[null,null,null,null,null,null,null,null,null,null,null,null,null,null,null,null,null,null,null,null,null,null,null,null,"MCP","2703","N","S","3A6",null,2703,"3892594",1,null,960,4000,1,1,24,null,null,"2026-04-30","４０００ｍ余剰分",null,null,null,"211"]
[]
["2026-04-18",6,null,"60419356040","43864450001",null,null,null,null,"9041A3","9041A3",null,"2447637",25,null,2100,null,null,45000,null,null,1,null,"2026-04-16","MCP","2703","N","S","3A6",null,2703,"3892595",1,null,960,8000,1,5,150,"2丁",null,"2026-04-30","細川　ＴＡＦＫ原反使用可",null,null,null,"211"]
[null,null,null,null,null,null,null,null,null,null,null,null,null,null,null,null,null,null,null,null,null,null,null,null,"MCP","2703","N","S","3A6",null,2703,"3892596",1,null,1100,8000,1,5,60,null,null,"2026-04-30","細川　ＴＡＦＫ原反使用可",null,null,null,"211"]
[null,null,null,null,null,null,null,null,null,null,null,null,null,null,null,null,null,null,null,null,null,null,null,null,"MCP","2703","N","S","3A6",null,2703,"3892597",1,null,1100,4000,1,1,22,null,null,"2026-04-30","４０００ｍ余剰分",null,null,null,"211"]
[null,null,null,null,null,null,null,null,null,null,null,null,null,null,null,null,null,null,null,null,null,null,null,null,"MCP","2703","N","S","3A6",null,2703,"3892598",1,null,960,4000,1,1,24,null,null,"2026-04-30","４０００ｍ余剰分",null,null,null,"211"]
[]
["2026-04-18",7,null,"60419356050","43864460001",null,null,null,null,"9041A3","9041A3",null,"2447638",25,null,2080,null,null,45000,null,null,1,null,"2026-04-16","MCP","2703","N","S","3A6",null,2703,"3892002",1,null,860,8000,1,5,45,"2丁",null,"2026-04-30",null,null,null,null,"211"]
[null,null,null,null,null,null,null,null,null,null,null,null,null,null,null,null,null,null,null,null,null,null,null,null,"MCP","2703","N","S","3A6",null,2703,"3892003",1,null,1180,8000,1,5,20,null,null,"2026-04-30","細川",null,null,null,"211"]
[null,null,null,null,null,null,null,null,null,null,null,null,null,null,null,null,null,null,null,null,null,null,null,null,"MCP","2703","N","S","3A6",null,2703,"3892004",1,null,1180,4000,1,1,4,null,null,"2026-04-30","４０００ｍ余剰分",null,null,null,"211"]
[null,null,null,null,null,null,null,null,null,null,null,null,null,null,null,null,null,null,null,null,null,null,null,null,"MCP","2703","N","S","3A6",null,2703,"3892005",1,null,860,4000,1,1,10,null,null,"2026-04-30","４０００ｍ余剰分",null,null,null,"211"]
[]
["2026-04-18",8,null,"60419356060","43864470001",null,null,null,null,"9041A3","9041A3",null,"2447638",25,null,2080,null,null,45000,null,null,1,null,"2026-04-16","MCP","2703","N","S","3A6",null,2703,"3892579",1,null,940,8000,1,5,20,"2丁",null,"2026-04-30","細川",null,null,null,"211"]
[null,null,null,null,null,null,null,null,null,null,null,null,null,null,null,null,null,null,null,null,null,null,null,null,"MCP","2703","N","S","3A6",null,2703,"3892580",1,null,1100,8000,1,5,60,null,null,"2026-04-30","細川　ＴＡＦＫ原反使用可",null,null,null,"211"]
[null,null,null,null,null,null,null,null,null,null,null,null,null,null,null,null,null,null,null,null,null,null,null,null,"MCP","2703","N","S","3A6",null,2703,"3892581",1,null,1100,4000,1,1,22,null,null,"2026-04-30","４０００ｍ余剰分",null,null,null,"211"]
[null,null,null,null,null,null,null,null,null,null,null,null,null,null,null,null,null,null,null,null,null,null,null,null,"MCP","2703","N","S","3A6",null,2703,"3892582",1,null,940,4000,1,1,11,null,null,"2026-04-30","４０００ｍ余剰分",null,null,null,"211"]
[]
["2026-04-18",9,null,"60419356070","43864480001",null,null,null,null,"9041A3","9041A3",null,"2447638",25,null,2080,null,null,45000,null,null,1,null,"2026-04-16","MCP","2703","N","S","3A6",null,2703,"3892635",1,null,980,8000,1,5,200,"2丁",null,"2026-04-30","細川　ＴＡＦＫ原反使用可",null,null,null,"211"]
[null,null,null,null,null,null,null,null,null,null,null,null,null,null,null,null,null,null,null,null,null,null,null,null,"MCP","2703","N","S","3A6",null,2703,"3892636",1,null,1060,8000,1,5,100,null,null,"2026-04-30","細川　ＴＡＦＫ原反使用可",null,null,null,"211"]
[null,null,null,null,null,null,null,null,null,null,null,null,null,null,null,null,null,null,null,null,null,null,null,null,"MCP","2703","N","S","3A6",null,2703,"3892637",1,null,1060,4000,1,1,32,null,null,"2026-04-30","４０００ｍ余剰分",null,null,null,"211"]
[null,null,null,null,null,null,null,null,null,null,null,null,null,null,null,null,null,null,null,null,null,null,null,null,"MCP","2703","N","S","3A6",null,2703,"3892638",1,null,980,4000,1,1,36,null,null,"2026-04-30","４０００ｍ余剰分",null,null,null,"211"]
[]
["2026-04-18",10,null,"60419356080","43864490001",null,null,null,null,"9041A3","9041A3",null,"2447638",25,null,2080,null,null,45000,null,null,1,null,"2026-04-16","MCP","2703","N","S","3A6",null,2703,"3892667",1,null,980,8000,1,5,200,"2丁",null,"2026-04-30","細川",null,null,null,"211"]
[null,null,null,null,null,null,null,null,null,null,null,null,null,null,null,null,null,null,null,null,null,null,null,null,"MCP","2703","N","S","3A6",null,2703,"3892668",1,null,1060,8000,1,5,100,null,null,"2026-04-30","細川　ＴＡＦＫ原反使用可",null,null,null,"211"]
[null,null,null,null,null,null,null,null,null,null,null,null,null,null,null,null,null,null,null,null,null,null,null,null,"MCP","2703","N","S","3A6",null,2703,"3892669",1,null,1060,4000,1,1,32,null,null,"2026-04-30","４０００ｍ余剰分",null,null,null,"211"]
[null,null,null,null,null,null,null,null,null,null,null,null,null,null,null,null,null,null,null,null,null,null,null,null,"MCP","2703","N","S","3A6",null,2703,"3892670",1,null,980,4000,1,1,40,null,null,"2026-04-30","４０００ｍ余剰分",null,null,null,"211"]
[]
["2026-04-18",11,null,"60419356090","43864500001",null,null,null,null,"9041A3","9041A3",null,"2447638",25,null,2080,null,null,45000,null,null,1,null,"2026-04-16","MCP","2703","N","S","3A6",null,2703,"3892671",1,null,980,8000,1,5,200,"2丁",null,"2026-04-30","細川",null,null,null,"211"]
[null,null,null,null,null,null,null,null,null,null,null,null,null,null,null,null,null,null,null,null,null,null,null,null,"MCP","2703","N","S","3A6",null,2703,"3892672",1,null,1060,8000,1,5,100,null,null,"2026-04-30","細川　ＴＡＦＫ原反使用可",null,null,null,"211"]
[null,null,null,null,null,null,null,null,null,null,null,null,null,null,null,null,null,null,null,null,null,null,null,null,"MCP","2703","N","S","3A6",null,2703,"3892673",1,null,1060,4000,1,1,32,null,null,"2026-04-30","４０００ｍ余剰分",null,null,null,"211"]
[null,null,null,null,null,null,null,null,null,null,null,null,null,null,null,null,null,null,null,null,null,null,null,null,"MCP","2703","N","S","3A6",null,2703,"3892674",1,null,980,4000,1,1,40,null,null,"2026-04-30","４０００ｍ余剰分",null,null,null,"211"]
[]
["2026-04-19",1,null,"60419356100","43864510001",null,null,null,null,"9041A3","9041A3",null,"2448059",25,null,2080,null,null,45000,null,null,1,null,"2026-04-17","MCP","2703","N","S","3A6",null,2703,"3892675",1,null,980,8000,1,5,200,"2丁",null,"2026-04-30","細川",null,null,null,"211"]
[null,null,null,null,null,null,null,null,null,null,null,null,null,null,null,null,null,null,null,null,null,null,null,null,"MCP","2703","N","S","3A6",null,2703,"3892676",1,null,1060,8000,1,5,100,null,null,"2026-04-30","細川　ＴＡＦＫ原反使用可",null,null,null,"211"]
[null,null,null,null,null,null,null,null,null,null,null,null,null,null,null,null,null,null,null,null,null,null,null,null,"MCP","2703","N","S","3A6",null,2703,"3892677",1,null,1060,4000,1,1,32,null,null,"2026-04-30","４０００ｍ余剰分",null,null,null,"211"]
[null,null,null,null,null,null,null,null,null,null,null,null,null,null,null,null,null,null,null,null,null,null,null,null,"MCP","2703","N","S","3A6",null,2703,"3892678",1,null,980,4000,1,1,40,null,null,"2026-04-30","４０００ｍ余剰分",null,null,null,"211"]
[]
["2026-04-19",2,null,"60419356110","43864520001",null,null,null,null,"9041A3","9041A3",null,"2448060",25,null,2060,null,null,45000,null,null,1,null,"2026-04-17","MCP","2703","N","S","3A6",null,2703,"3892090",1,null,1140,8000,1,5,80,"2丁",null,"2026-04-30","大三紙業　優先希望",null,null,null,"217"]
[null,null,null,null,null,null,null,null,null,null,null,null,null,null,null,null,null,null,null,null,null,null,null,null,"MCP","2703","N","S","3A6",null,2703,"3892091",1,null,880,8000,1,5,20,null,null,"2026-04-30","細川",null,null,null,"211"]
[null,null,null,null,null,null,null,null,null,null,null,null,null,null,null,null,null,null,null,null,null,null,null,null,"MCP","2703","N","S","3A6",null,2703,"3892092",1,null,1140,4000,1,1,16,null,null,"2026-04-30","４０００ｍ余剰分",null,null,null,"217"]
[null,null,null,null,null,null,null,null,null,null,null,null,null,null,null,null,null,null,null,null,null,null,null,null,"MCP","2703","N","S","3A6",null,2703,"3892093",1,null,880,4000,1,1,8,null,null,"2026-04-30","４０００ｍ余剰分",null,null,null,"211"]
[]
["2026-04-19",3,null,"60420356030","43864530001",null,null,null,null,"9041A3","9041A3",null,"2448060",25,null,2060,null,null,45000,null,null,1,null,"2026-04-17","MCP","2703","N","S","3A6",null,2703,"3892098",1,null,1140,8000,1,5,80,"2丁",null,"2026-04-30","大三紙業　優先希望",null,null,null,"217"]
[null,null,null,null,null,null,null,null,null,null,null,null,null,null,null,null,null,null,null,null,null,null,null,null,"MCP","2703","N","S","3A6",null,2703,"3892099",1,null,880,8000,1,5,20,null,null,"2026-04-30","細川",null,null,null,"211"]
[null,null,null,null,null,null,null,null,null,null,null,null,null,null,null,null,null,null,null,null,null,null,null,null,"MCP","2703","N","S","3A6",null,2703,"3892100",1,null,1140,4000,1,1,16,null,null,"2026-04-30","４０００ｍ余剰分",null,null,null,"217"]
[null,null,null,null,null,null,null,null,null,null,null,null,null,null,null,null,null,null,null,null,null,null,null,null,"MCP","2703","N","S","3A6",null,2703,"3892101",1,null,880,4000,1,1,8,null,null,"2026-04-30","４０００ｍ余剰分",null,null,null,"211"]
[]
["2026-04-19",4,null,"60420356040","43864540001",null,null,null,null,"9041A3","9041A3",null,"2448060",25,null,2060,null,null,45000,null,null,1,null,"2026-04-17","MCP","2703","N","S","3A6",null,2703,"3892160",1,null,510,4000,1,20,220,"3丁",null,"2026-04-30","ユーザーフリー　ＴＡＦＫ原反使用可",null,null,null,"213"]
[null,null,null,null,null,null,null,null,null,null,null,null,null,null,null,null,null,null,null,null,null,null,null,null,"MCP","2703","N","S","3A6",null,2703,"3892161",1,null,1000,4000,1,10,70,null,null,"2026-04-30","ユーザーフリー　ＴＡＦＫ原反使用可",null,null,null,"213"]
[null,null,null,null,null,null,null,null,null,null,null,null,null,null,null,null,null,null,null,null,null,null,null,null,"MCP","2703","N","S","3A6",null,2703,"3892162",1,null,1000,4000,1,1,5,null,null,"2026-04-30","４０００ｍ余剰分",null,null,null,"213"]
[null,null,null,null,null,null,null,null,null,null,null,null,null,null,null,null,null,null,null,null,null,null,null,null,"MCP","2703","N","S","3A6",null,2703,"3892163",1,null,510,4000,1,2,20,null,null,"2026-04-30","４０００ｍ余剰分",null,null,null,"213"]
[]
["2026-04-20",1,null,"60420356011","43864620001",null,null,null,null,"9021A3","9021A3",null,"2448064",25,null,2300,null,null,41000,null,null,1,null,"2026-04-18","MCP","2203","N","T","3E6B",null,2203,"3891268",1,null,720,4000,1,10,10,"3丁",null,"2026-04-30","ユーザーフリー",null,null,null,"213"]
[null,null,null,null,null,null,null,null,null,null,null,null,null,null,null,null,null,null,null,null,null,null,null,null,"MCP","2203","N","T","3E6B",null,2203,"3891269",1,null,920,4000,1,10,10,null,null,"2026-04-30","ユーザーフリー",null,null,null,"213"]
[null,null,null,null,null,null,null,null,null,null,null,null,null,null,null,null,null,null,null,null,null,null,null,null,"MCP","2203","N","T","3E6B",null,2203,"3891270",1,null,600,4000,1,10,20,null,null,"2026-04-30",null,null,null,null,"211"]
[]
["2026-04-20",2,null,"60420356021","43864630001",null,null,null,null,"9021A3","9021A3",null,"2448065",25,null,2080,null,null,45000,null,null,1,null,"2026-04-18","MCP","2203","N","T","3E6B",null,2203,"3891259",1,null,700,4000,1,11,10,"3丁",null,"2026-04-30","富士特",null,null,null,"214"]
[null,null,null,null,null,null,null,null,null,null,null,null,null,null,null,null,null,null,null,null,null,null,null,null,"MCP","2203","N","T","3E6B",null,2203,"3891260",1,null,600,4000,1,11,20,null,null,"2026-04-30",null,null,null,null,"211"]
[null,null,null,null,null,null,null,null,null,null,null,null,null,null,null,null,null,null,null,null,null,null,null,null,"MCP","2203","N","T","3E6B",null,2203,"3891261",1,null,740,4000,1,11,10,null,null,"2026-04-30",null,null,null,null,"211"]
[]
["2026-04-20",3,null,"60420356050","43864550001",null,null,null,null,"9041A3","9041A3",null,"2448069",25,null,2060,null,null,45000,null,null,1,null,"2026-04-18","MCP","2703","N","S","3A6",null,2703,"3892305",1,null,900,8000,1,5,15,"2丁",null,"2026-04-30","細川",null,null,null,"211"]
[null,null,null,null,null,null,null,null,null,null,null,null,null,null,null,null,null,null,null,null,null,null,null,null,"MCP","2703","N","S","3A6",null,2703,"3892306",1,null,1120,8000,1,5,20,null,null,"2026-04-30","細川",null,null,null,"211"]
[null,null,null,null,null,null,null,null,null,null,null,null,null,null,null,null,null,null,null,null,null,null,null,null,"MCP","2703","N","S","3A6",null,2703,"3892307",1,null,1120,4000,1,1,10,null,null,"2026-04-30","４０００ｍ余剰分",null,null,null,"211"]
[null,null,null,null,null,null,null,null,null,null,null,null,null,null,null,null,null,null,null,null,null,null,null,null,"MCP","2703","N","S","3A6",null,2703,"3892308",1,null,900,4000,1,1,5,null,null,"2026-04-30","４０００ｍ余剰分",null,null,null,"211"]
[]
["2026-04-20",4,null,"60420356060","43864560001",null,null,null,null,"9041A3","9041A3",null,"2448069",25,null,2060,null,null,45000,null,null,1,null,"2026-04-18","MCP","2703","N","S","3A6D",null,2703,"3892355",1,null,940,8000,1,5,40,"2丁",null,"2026-04-30","ＤＮＰ京都　３Ｄｏｒ３Ｄ６",null,null,null,"213"]
[null,null,null,null,null,null,null,null,null,null,null,null,null,null,null,null,null,null,null,null,null,null,null,null,"MCP","2703","N","S","3A6",null,2703,"3892356",1,null,1080,8000,1,5,10,null,null,"2026-04-30","細川",null,null,null,"211"]
[null,null,null,null,null,null,null,null,null,null,null,null,null,null,null,null,null,null,null,null,null,null,null,null,"MCP","2703","N","S","3A6",null,2703,"3892357",1,null,1080,4000,1,1,2,null,null,"2026-04-30","４０００ｍ余剰分",null,null,null,"211"]
[null,null,null,null,null,null,null,null,null,null,null,null,null,null,null,null,null,null,null,null,null,null,null,null,"MCP","2703","N","S","3A6",null,2703,"3892358",1,null,940,4000,1,1,8,null,null,"2026-04-30","４０００ｍ余剰分",null,null,null,"213"]
[]
["2026-04-20",5,"","60420356070","43864570001",null,null,null,null,"9041A3","9041A3",null,"2448069",25,null,2060,null,null,45000,null,null,1,null,"2026-04-18","MCP","2703","N","S","3A6",null,2703,"3892212",1,null,1140,8000,1,5,80,"2丁",null,"2026-04-30","大三紙業　優先希望",null,null,null,"217"]
[null,null,"",null,null,null,null,null,null,null,null,null,null,null,null,null,null,null,null,null,null,null,null,null,"MCP","2703","N","S","3A6",null,2703,"3892213",1,null,880,8000,1,5,20,null,null,"2026-04-30","細川",null,null,null,"211"]
[null,null,"",null,null,null,null,null,null,null,null,null,null,null,null,null,null,null,null,null,null,null,null,null,"MCP","2703","N","S","3A6",null,2703,"3892214",1,null,1140,4000,1,1,16,null,null,"2026-04-30","４０００ｍ余剰分",null,null,null,"217"]
[null,null,"",null,null,null,null,null,null,null,null,null,null,null,null,null,null,null,null,null,null,null,null,null,"MCP","2703","N","S","3A6",null,2703,"3892215",1,null,880,4000,1,1,8,null,null,"2026-04-30","４０００ｍ余剰分",null,null,null,"211"]
[null,null,""]
["2026-04-20",6,"","60421356010","43864580001",null,null,null,null,"9041A3","9041A3",null,"2448069",25,null,2060,null,null,45000,null,null,1,null,"2026-04-18","MCP","2703","N","S","3A6",null,2703,"3892401",1,null,920,8000,1,5,25,"2丁",null,"2026-04-30","細川",null,null,null,"211"]
[null,null,"",null,null,null,null,null,null,null,null,null,null,null,null,null,null,null,null,null,null,null,null,null,"MCP","2703","N","S","3A6",null,2703,"3892402",1,null,1100,8000,1,5,45,null,null,"2026-04-30","細川",null,null,null,"211"]
[null,null,"",null,null,null,null,null,null,null,null,null,null,null,null,null,null,null,null,null,null,null,null,null,"MCP","2703","N","S","3A6",null,2703,"3892403",1,null,1100,4000,1,1,9,null,null,"2026-04-30","４０００ｍ余剰分",null,null,null,"211"]
[null,null,"",null,null,null,null,null,null,null,null,null,null,null,null,null,null,null,null,null,null,null,null,null,"MCP","2703","N","S","3A6",null,2703,"3892404",1,null,920,4000,1,1,7,null,null,"2026-04-30","４０００ｍ余剰分",null,null,null,"211"]
[null,null,""]
["2026-04-20",7,"","60421356020","43864590001",null,null,null,null,"9041A3","9041A3",null,"2448069",25,null,2060,null,null,45000,null,null,1,null,"2026-04-18","MCP","2703","N","S","3A6",null,2703,"3892457",1,null,920,8000,1,5,25,"2丁",null,"2026-04-30","細川",null,null,null,"211"]
[null,null,"",null,null,null,null,null,null,null,null,null,null,null,null,null,null,null,null,null,null,null,null,null,"MCP","2703","N","S","3A6",null,2703,"3892458",1,null,1100,8000,1,5,45,null,null,"2026-04-30","細川",null,null,null,"211"]
[null,null,"",null,null,null,null,null,null,null,null,null,null,null,null,null,null,null,null,null,null,null,null,null,"MCP","2703","N","S","3A6",null,2703,"3892459",1,null,1100,4000,1,1,9,null,null,"2026-04-30","４０００ｍ余剰分",null,null,null,"211"]
[null,null,"",null,null,null,null,null,null,null,null,null,null,null,null,null,null,null,null,null,null,null,null,null,"MCP","2703","N","S","3A6",null,2703,"3892460",1,null,920,4000,1,1,7,null,null,"2026-04-30","４０００ｍ余剰分",null,null,null,"211"]
[null,null,""]
["2026-04-20",8,null,null,"43864600001",null,null,null,null,"9041A3","9041A3",null,"2448069",25,null,2060,null,null,45000,null,null,1,null,"2026-04-18","MCP","2703","N","S","3A6",null,2703,"3892619",1,null,960,8000,1,5,110,"2丁",null,"2026-04-30","細川",null,null,null,"211"]
[null,null,null,null,null,null,null,null,null,null,null,null,null,null,null,null,null,null,null,null,null,null,null,null,"MCP","2703","N","S","3A6",null,2703,"3892620",1,null,1060,8000,1,5,60,null,null,"2026-04-30","細川",null,null,null,"211"]
[null,null,null,null,null,null,null,null,null,null,null,null,null,null,null,null,null,null,null,null,null,null,null,null,"MCP","2703","N","S","3A6",null,2703,"3892621",1,null,1060,4000,1,1,32,null,null,"2026-04-30","４０００ｍ余剰分",null,null,null,"211"]
[null,null,null,null,null,null,null,null,null,null,null,null,null,null,null,null,null,null,null,null,null,null,null,null,"MCP","2703","N","S","3A6",null,2703,"3892622",1,null,960,4000,1,1,22,null,null,"2026-04-30","４０００ｍ余剰分",null,null,null,"211"]
[]
["2026-04-21",1,null,null,"43864650001",null,null,null,null,"9021A3","9021A3",null,"2448407",25,null,1820,null,null,45000,null,null,1,null,"2026-04-20","MCP","2203","N","T","3E6B",null,2203,"3891231",1,null,840,8000,1,5,5,"2丁",null,"2026-04-30",null,null,null,null,"211",null,"17 加工中"]
[null,null,null,null,null,null,null,null,null,null,null,null,null,null,null,null,null,null,null,null,null,null,null,null,"MCP","2203","N","T","3E6B",null,2203,"3891232",1,null,940,8000,1,5,15,null,null,"2026-04-30",null,null,null,null,"211"]
[null,null,null,null,null,null,null,null,null,null,null,null,null,null,null,null,null,null,null,null,null,null,null,null,"MCP","2203","N","T","3E6B",null,2203,"3891233",1,null,940,4000,1,1,2,null,null,"2026-04-30","４０００ｍ余剰分",null,null,null,"211"]
[null,null,null,null,null,null,null,null,null,null,null,null,null,null,null,null,null,null,null,null,null,null,null,null,"MCP","2203","N","T","3E6B",null,2203,"3891234",1,null,840,4000,1,1,1,null,null,"2026-04-30","４０００ｍ余剰分",null,null,null,"211"]
[]
["2026-04-21",2,"",null,"43864660001",null,null,null,null,"9021A3","9021A3",null,"2448407",25,null,1820,null,null,45000,null,null,1,null,"2026-04-20","MCP","2203","N","T","3E6B",null,2203,"3891264",1,null,980,4000,1,11,10,"2丁",null,"2026-04-30","ユーザーフリー",null,null,null,"213"]
[null,null,"",null,null,null,null,null,null,null,null,null,null,null,null,null,null,null,null,null,null,null,null,null,"MCP","2203","N","T","3E6B",null,2203,"3891265",1,null,800,4000,1,11,10,null,null,"2026-04-30",null,null,null,null,"211"]
[null,null,""]
["2026-04-21",3,null,null,"43864640002",null,null,null,null,"9021A3","9021A3",null,"2448408",25,null,1740,null,null,45000,null,null,1,null,"2026-04-20","MCP","2203","N","T","3E6B",null,2203,"3891262",1,null,1040,4000,1,11,10,"2丁",null,"2026-04-30","ユーザーフリー",null,null,null,"218"]
[null,null,null,null,null,null,null,null,null,null,null,null,null,null,null,null,null,null,null,null,null,null,null,null,"MCP","2203","N","T","3E6B",null,2203,"3891263",1,null,660,4000,1,11,10,null,null,"2026-04-30",null,null,null,null,"211"]
[]
["2026-04-21",4,"",null,"43864670001",null,null,null,null,"9041A3","9041A3",null,"2448409",25,null,2060,null,null,45000,null,null,1,null,"2026-04-20","MCP","2703","N","S","3A6",null,2703,"3892623",1,null,960,8000,1,5,110,"2丁",null,"2026-04-30","細川",null,null,null,"211"]
[null,null,"",null,null,null,null,null,null,null,null,null,null,null,null,null,null,null,null,null,null,null,null,null,"MCP","2703","N","S","3A6",null,2703,"3892624",1,null,1060,8000,1,5,60,null,null,"2026-04-30","細川",null,null,null,"211"]
[null,null,"",null,null,null,null,null,null,null,null,null,null,null,null,null,null,null,null,null,null,null,null,null,"MCP","2703","N","S","3A6",null,2703,"3892625",1,null,1060,4000,1,1,32,null,null,"2026-04-30","４０００ｍ余剰分",null,null,null,"211"]
[null,null,"",null,null,null,null,null,null,null,null,null,null,null,null,null,null,null,null,null,null,null,null,null,"MCP","2703","N","S","3A6",null,2703,"3892626",1,null,960,4000,1,1,22,null,null,"2026-04-30","４０００ｍ余剰分",null,null,null,"211"]
[null,null,""]
["2026-04-21",5,null,null,"43864680001",null,null,null,null,"9041A3","9041A3",null,"2448409",25,null,2060,null,null,45000,null,null,1,null,"2026-04-20","MCP","2703","N","S","3A6",null,2703,"3892627",1,null,960,8000,1,5,110,"2丁",null,"2026-04-30","細川",null,null,null,"211"]
[null,null,null,null,null,null,null,null,null,null,null,null,null,null,null,null,null,null,null,null,null,null,null,null,"MCP","2703","N","S","3A6",null,2703,"3892628",1,null,1060,8000,1,5,100,null,null,"2026-04-30","細川　ＴＡＦＫ原反使用可",null,null,null,"211"]
[null,null,null,null,null,null,null,null,null,null,null,null,null,null,null,null,null,null,null,null,null,null,null,null,"MCP","2703","N","S","3A6",null,2703,"3892629",1,null,1060,4000,1,1,32,null,null,"2026-04-30","４０００ｍ余剰分",null,null,null,"211"]
[null,null,null,null,null,null,null,null,null,null,null,null,null,null,null,null,null,null,null,null,null,null,null,null,"MCP","2703","N","S","3A6",null,2703,"3892630",1,null,960,4000,1,1,22,null,null,"2026-04-30","４０００ｍ余剰分",null,null,null,"211"]
[]
["2026-04-21",6,null,null,"43864690001",null,null,null,null,"9041A3","9041A3",null,"2448409",25,null,2060,null,null,45000,null,null,1,null,"2026-04-20","MCP","2703","N","S","3A6",null,2703,"3892631",1,null,960,8000,1,5,110,"2丁",null,"2026-04-30","細川",null,null,null,"211"]
[null,null,null,null,null,null,null,null,null,null,null,null,null,null,null,null,null,null,null,null,null,null,null,null,"MCP","2703","N","S","3A6",null,2703,"3892632",1,null,1060,8000,1,5,100,null,null,"2026-04-30","細川　ＴＡＦＫ原反使用可",null,null,null,"211"]
[null,null,null,null,null,null,null,null,null,null,null,null,null,null,null,null,null,null,null,null,null,null,null,null,"MCP","2703","N","S","3A6",null,2703,"3892633",1,null,1060,4000,1,1,32,null,null,"2026-04-30","４０００ｍ余剰分",null,null,null,"211"]
[null,null,null,null,null,null,null,null,null,null,null,null,null,null,null,null,null,null,null,null,null,null,null,null,"MCP","2703","N","S","3A6",null,2703,"3892634",1,null,960,4000,1,1,22,null,null,"2026-04-30","４０００ｍ余剰分",null,null,null,"211"]
[]
["2026-04-21",7,null,null,"43864700001",null,null,null,null,"9041A3","9041A3",null,"2448411",25,null,2040,null,null,45000,null,null,1,null,"2026-04-20","MCP","2703","N","S","3A6D",null,2703,"3891994",1,null,860,8000,1,5,55,"2丁",null,"2026-04-30","ＤＮＰ京都　３Ｄｏｒ３Ｄ６",null,null,null,"213"]
[null,null,null,null,null,null,null,null,null,null,null,null,null,null,null,null,null,null,null,null,null,null,null,null,"MCP","2703","N","S","3A6",null,2703,"3891995",1,null,1140,8000,1,5,80,null,null,"2026-04-30","大三紙業　優先希望",null,null,null,"217"]
[null,null,null,null,null,null,null,null,null,null,null,null,null,null,null,null,null,null,null,null,null,null,null,null,"MCP","2703","N","S","3A6",null,2703,"3891996",1,null,1140,4000,1,1,16,null,null,"2026-04-30","４０００ｍ余剰分",null,null,null,"217"]
[null,null,null,null,null,null,null,null,null,null,null,null,null,null,null,null,null,null,null,null,null,null,null,null,"MCP","2703","N","S","3A6",null,2703,"3891997",1,null,860,4000,1,1,11,null,null,"2026-04-30","４０００ｍ余剰分",null,null,null,"213"]
[]
["2026-04-21",8,null,null,"43864710001",null,null,null,null,"9041A3","9041A3",null,"2448411",25,null,2040,null,null,45000,null,null,1,null,"2026-04-20","MCP","2703","N","S","3A6D",null,2703,"3891998",1,null,860,8000,1,5,55,"2丁",null,"2026-04-30","ＤＮＰ京都　３Ｄｏｒ３Ｄ６",null,null,null,"213"]
[null,null,null,null,null,null,null,null,null,null,null,null,null,null,null,null,null,null,null,null,null,null,null,null,"MCP","2703","N","S","3A6",null,2703,"3891999",1,null,1140,8000,1,5,80,null,null,"2026-04-30","大三紙業　優先希望",null,null,null,"217"]
[null,null,null,null,null,null,null,null,null,null,null,null,null,null,null,null,null,null,null,null,null,null,null,null,"MCP","2703","N","S","3A6",null,2703,"3892000",1,null,1140,4000,1,1,16,null,null,"2026-04-30","４０００ｍ余剰分",null,null,null,"217"]
[null,null,null,null,null,null,null,null,null,null,null,null,null,null,null,null,null,null,null,null,null,null,null,null,"MCP","2703","N","S","3A6",null,2703,"3892001",1,null,860,4000,1,1,11,null,null,"2026-04-30","４０００ｍ余剰分",null,null,null,"213"]
[]
["2026-04-21",9,null,null,"43864720001",null,null,null,null,"9041A3","9041A3",null,"2448411",25,null,2040,null,null,45000,null,null,1,null,"2026-04-20","MCP","2703","N","S","3A6D",null,2703,"3892082",1,null,860,8000,1,5,55,"2丁",null,"2026-04-30","ＤＮＰ京都　３Ｄｏｒ３Ｄ６",null,null,null,"213"]
[null,null,null,null,null,null,null,null,null,null,null,null,null,null,null,null,null,null,null,null,null,null,null,null,"MCP","2703","N","S","3A6",null,2703,"3892083",1,null,1140,8000,1,5,80,null,null,"2026-04-30","大三紙業　優先希望",null,null,null,"217"]
[null,null,null,null,null,null,null,null,null,null,null,null,null,null,null,null,null,null,null,null,null,null,null,null,"MCP","2703","N","S","3A6",null,2703,"3892084",1,null,1140,4000,1,1,16,null,null,"2026-04-30","４０００ｍ余剰分",null,null,null,"217"]
[null,null,null,null,null,null,null,null,null,null,null,null,null,null,null,null,null,null,null,null,null,null,null,null,"MCP","2703","N","S","3A6",null,2703,"3892085",1,null,860,4000,1,1,11,null,null,"2026-04-30","４０００ｍ余剰分",null,null,null,"213"]
[]
["2026-04-21",10,null,null,"43864730001",null,null,null,null,"9041A3","9041A3",null,"2448411",25,null,2040,null,null,45000,null,null,1,null,"2026-04-20","MCP","2703","N","S","3A6D",null,2703,"3892086",1,null,860,8000,1,5,55,"2丁",null,"2026-04-30","ＤＮＰ京都　３Ｄｏｒ３Ｄ６",null,null,null,"213"]
[null,null,null,null,null,null,null,null,null,null,null,null,null,null,null,null,null,null,null,null,null,null,null,null,"MCP","2703","N","S","3A6",null,2703,"3892087",1,null,1140,8000,1,5,80,null,null,"2026-04-30","大三紙業　優先希望",null,null,null,"217"]
[null,null,null,null,null,null,null,null,null,null,null,null,null,null,null,null,null,null,null,null,null,null,null,null,"MCP","2703","N","S","3A6",null,2703,"3892088",1,null,1140,4000,1,1,16,null,null,"2026-04-30","４０００ｍ余剰分",null,null,null,"217"]
[null,null,null,null,null,null,null,null,null,null,null,null,null,null,null,null,null,null,null,null,null,null,null,null,"MCP","2703","N","S","3A6",null,2703,"3892089",1,null,860,4000,1,1,11,null,null,"2026-04-30","４０００ｍ余剰分",null,null,null,"213"]
[]
["2026-04-21",11,null,null,"43864740001",null,null,null,null,"9041A3","9041A3",null,"2448411",25,null,2040,null,null,45000,null,null,1,null,"2026-04-20","MCP","2703","N","S","3A6",null,2703,"3892204",1,null,1140,8000,1,5,80,"2丁",null,"2026-04-30","大三紙業　優先希望",null,null,null,"217"]
[null,null,null,null,null,null,null,null,null,null,null,null,null,null,null,null,null,null,null,null,null,null,null,null,"MCP","2703","N","S","3A6",null,2703,"3892205",1,null,860,8000,1,5,70,null,null,"2026-04-30","ＴＡＦＫ原反使用可",null,null,null,"211"]
[null,null,null,null,null,null,null,null,null,null,null,null,null,null,null,null,null,null,null,null,null,null,null,null,"MCP","2703","N","S","3A6",null,2703,"3892206",1,null,1140,4000,1,1,16,null,null,"2026-04-30","４０００ｍ余剰分",null,null,null,"217"]
[null,null,null,null,null,null,null,null,null,null,null,null,null,null,null,null,null,null,null,null,null,null,null,null,"MCP","2703","N","S","3A6",null,2703,"3892207",1,null,860,4000,1,1,14,null,null,"2026-04-30","４０００ｍ余剰分",null,null,null,"211"]
[]
["2026-04-22",1,null,null,"43864840001",null,null,null,null,"9021A3","9021A3",null,"2448421",20,null,1680,null,null,53000,null,null,1,null,"2026-04-21","MCP","2203","N","T","3E6B",null,2203,"3891222",1,null,820,4000,1,26,36,"2丁",null,"2026-04-30","富士特　３Ｈ指定解除",null,null,null,"214"]
[]
["2026-04-22",2,null,null,"43864850001",null,null,null,null,"9021A3","9021A3",null,"2448421",20,null,1680,null,null,53000,null,null,1,null,"2026-04-21","MCP","2203","N","T","3E6B",null,2203,"3891223",1,null,800,4000,1,13,12,"2丁",null,"2026-04-30","ユーザーフリー",null,null,null,"218"]
[null,null,null,null,null,null,null,null,null,null,null,null,null,null,null,null,null,null,null,null,null,null,null,null,"MCP","2203","N","T","3E6B",null,2203,"3891224",1,null,820,4000,1,13,36,null,null,"2026-04-30","富士特　３Ｈ指定解除",null,null,null,"214"]
[]
["2026-04-22",3,null,null,"43864750001",null,null,null,null,"9041A3","9041A3",null,"2448422",25,null,2040,null,null,45000,null,null,1,null,"2026-04-21","MCP","2703","N","S","3A6",null,2703,"3892216",1,null,1140,8000,1,5,80,"2丁",null,"2026-04-30","大三紙業　優先希望",null,null,null,"217"]
[null,null,null,null,null,null,null,null,null,null,null,null,null,null,null,null,null,null,null,null,null,null,null,null,"MCP","2703","N","S","3A6",null,2703,"3892217",1,null,860,8000,1,5,70,null,null,"2026-04-30","ＴＡＦＫ原反使用可",null,null,null,"211"]
[null,null,null,null,null,null,null,null,null,null,null,null,null,null,null,null,null,null,null,null,null,null,null,null,"MCP","2703","N","S","3A6",null,2703,"3892218",1,null,1140,4000,1,1,16,null,null,"2026-04-30","４０００ｍ余剰分",null,null,null,"217"]
[null,null,null,null,null,null,null,null,null,null,null,null,null,null,null,null,null,null,null,null,null,null,null,null,"MCP","2703","N","S","3A6",null,2703,"3892219",1,null,860,4000,1,1,14,null,null,"2026-04-30","４０００ｍ余剰分",null,null,null,"211"]
[]
["2026-04-22",4,null,null,"43864760001",null,null,null,null,"9041A3","9041A3",null,"2448422",25,null,2040,null,null,45000,null,null,1,null,"2026-04-21","MCP","2703","N","S","3A6D",null,2703,"3892359",1,null,940,8000,1,5,40,"2丁",null,"2026-04-30","ＤＮＰ京都　３Ｄｏｒ３Ｄ６",null,null,null,"213"]
[null,null,null,null,null,null,null,null,null,null,null,null,null,null,null,null,null,null,null,null,null,null,null,null,"MCP","2703","N","S","3A6",null,2703,"3892360",1,null,1060,8000,1,5,60,null,null,"2026-04-30","細川",null,null,null,"211"]
[null,null,null,null,null,null,null,null,null,null,null,null,null,null,null,null,null,null,null,null,null,null,null,null,"MCP","2703","N","S","3A6",null,2703,"3892361",1,null,1060,4000,1,1,32,null,null,"2026-04-30","４０００ｍ余剰分",null,null,null,"211"]
[null,null,null,null,null,null,null,null,null,null,null,null,null,null,null,null,null,null,null,null,null,null,null,null,"MCP","2703","N","S","3A6",null,2703,"3892362",1,null,940,4000,1,1,8,null,null,"2026-04-30","４０００ｍ余剰分",null,null,null,"213"]
[]
["2026-04-22",5,null,null,"43864770001",null,null,null,null,"9041A3","9041A3",null,"2448422",25,null,2040,null,null,45000,null,null,1,null,"2026-04-21","MCP","2703","N","S","3A6",null,2703,"3892453",1,null,900,8000,1,5,15,"2丁",null,"2026-04-30","細川",null,null,null,"211"]
[null,null,null,null,null,null,null,null,null,null,null,null,null,null,null,null,null,null,null,null,null,null,null,null,"MCP","2703","N","S","3A6",null,2703,"3892454",1,null,1100,8000,1,5,45,null,null,"2026-04-30","細川",null,null,null,"211"]
[null,null,null,null,null,null,null,null,null,null,null,null,null,null,null,null,null,null,null,null,null,null,null,null,"MCP","2703","N","S","3A6",null,2703,"3892455",1,null,1100,4000,1,1,9,null,null,"2026-04-30","４０００ｍ余剰分",null,null,null,"211"]
[null,null,null,null,null,null,null,null,null,null,null,null,null,null,null,null,null,null,null,null,null,null,null,null,"MCP","2703","N","S","3A6",null,2703,"3892456",1,null,900,4000,1,1,5,null,null,"2026-04-30","４０００ｍ余剰分",null,null,null,"211"]
[]
["2026-04-22",6,null,null,"43864780001",null,null,null,null,"9041A3","9041A3",null,"2448422",25,null,2040,null,null,45000,null,null,1,null,"2026-04-21","MCP","2703","N","S","3A6",null,2703,"3892557",1,null,1000,4000,1,20,70,"2丁",null,"2026-04-30","ユーザーフリー　ＴＡＦＫ原反使用可",null,null,null,"213"]
[null,null,null,null,null,null,null,null,null,null,null,null,null,null,null,null,null,null,null,null,null,null,null,null,"MCP","2703","N","S","3A6",null,2703,"3892558",1,null,1000,4000,1,2,5,null,null,"2026-04-30","４０００ｍ余剰分",null,null,null,"213"]
[]
["2026-04-22",7,null,null,"43864790001",null,null,null,null,"9041A3","9041A3",null,"2448422",25,null,2040,null,null,45000,null,null,1,null,"2026-04-21","MCP","2703","N","S","3A6",null,2703,"3892659",1,null,980,8000,1,5,200,"2丁",null,"2026-04-30","細川",null,null,null,"211"]
[null,null,null,null,null,null,null,null,null,null,null,null,null,null,null,null,null,null,null,null,null,null,null,null,"MCP","2703","N","S","3A6",null,2703,"3892660",1,null,1020,8000,1,5,60,null,null,"2026-04-30","細川　ＴＡＦＫ原反使用可",null,null,null,"211"]
[null,null,null,null,null,null,null,null,null,null,null,null,null,null,null,null,null,null,null,null,null,null,null,null,"MCP","2703","N","S","3A6",null,2703,"3892661",1,null,1020,4000,1,1,22,null,null,"2026-04-30","４０００ｍ余剰分",null,null,null,"211"]
[null,null,null,null,null,null,null,null,null,null,null,null,null,null,null,null,null,null,null,null,null,null,null,null,"MCP","2703","N","S","3A6",null,2703,"3892662",1,null,980,4000,1,1,40,null,null,"2026-04-30","４０００ｍ余剰分",null,null,null,"211"]
[]
["2026-04-22",8,null,null,"43864800001",null,null,null,null,"9041A3","9041A3",null,"2448422",25,null,2040,null,null,45000,null,null,1,null,"2026-04-21","MCP","2703","N","S","3A6",null,2703,"3892663",1,null,980,8000,1,5,200,"2丁",null,"2026-04-30","細川",null,null,null,"211"]
[null,null,null,null,null,null,null,null,null,null,null,null,null,null,null,null,null,null,null,null,null,null,null,null,"MCP","2703","N","S","3A6",null,2703,"3892664",1,null,1020,8000,1,5,60,null,null,"2026-04-30","細川　ＴＡＦＫ原反使用可",null,null,null,"211"]
[null,null,null,null,null,null,null,null,null,null,null,null,null,null,null,null,null,null,null,null,null,null,null,null,"MCP","2703","N","S","3A6",null,2703,"3892665",1,null,1020,4000,1,1,22,null,null,"2026-04-30","４０００ｍ余剰分",null,null,null,"211"]
[null,null,null,null,null,null,null,null,null,null,null,null,null,null,null,null,null,null,null,null,null,null,null,null,"MCP","2703","N","S","3A6",null,2703,"3892666",1,null,980,4000,1,1,40,null,null,"2026-04-30","４０００ｍ余剰分",null,null,null,"211"]
[]
["2026-04-22",9,null,null,"43864810001",null,null,null,null,"9041A3","9041A3",null,"2448422",25,null,2040,null,null,45000,null,null,1,null,"2026-04-21","MCP","2703","N","S","3A6",null,2703,"3892699",1,null,980,8000,1,5,200,"2丁",null,"2026-04-30","細川",null,null,null,"211"]
[null,null,null,null,null,null,null,null,null,null,null,null,null,null,null,null,null,null,null,null,null,null,null,null,"MCP","2703","N","S","3A6",null,2703,"3892700",1,null,1020,8000,1,5,60,null,null,"2026-04-30","細川　ＴＡＦＫ原反使用可",null,null,null,"211"]
[null,null,null,null,null,null,null,null,null,null,null,null,null,null,null,null,null,null,null,null,null,null,null,null,"MCP","2703","N","S","3A6",null,2703,"3892701",1,null,1020,4000,1,1,22,null,null,"2026-04-30","４０００ｍ余剰分",null,null,null,"211"]
[null,null,null,null,null,null,null,null,null,null,null,null,null,null,null,null,null,null,null,null,null,null,null,null,"MCP","2703","N","S","3A6",null,2703,"3892702",1,null,980,4000,1,1,40,null,null,"2026-04-30","４０００ｍ余剰分",null,null,null,"211"]
[]
["2026-04-22",10,null,null,"43864820001",null,null,null,null,"9041A3","9041A3",null,"2448422",25,null,2040,null,null,45000,null,null,1,null,"2026-04-21","MCP","2703","N","S","3A6",null,2703,"3892703",1,null,980,8000,1,5,200,"2丁",null,"2026-04-30","細川",null,null,null,"211"]
[null,null,null,null,null,null,null,null,null,null,null,null,null,null,null,null,null,null,null,null,null,null,null,null,"MCP","2703","N","S","3A6",null,2703,"3892704",1,null,1020,8000,1,5,60,null,null,"2026-04-30","細川　ＴＡＦＫ原反使用可",null,null,null,"211"]
[null,null,null,null,null,null,null,null,null,null,null,null,null,null,null,null,null,null,null,null,null,null,null,null,"MCP","2703","N","S","3A6",null,2703,"3892705",1,null,1020,4000,1,1,22,null,null,"2026-04-30","４０００ｍ余剰分",null,null,null,"211"]
[null,null,null,null,null,null,null,null,null,null,null,null,null,null,null,null,null,null,null,null,null,null,null,null,"MCP","2703","N","S","3A6",null,2703,"3892706",1,null,980,4000,1,1,40,null,null,"2026-04-30","４０００ｍ余剰分",null,null,null,"211"]
[]
["2026-04-22",11,null,null,"43864830001",null,null,null,null,"9041A3","9041A3",null,"2448423",25,null,2020,null,null,45000,null,null,1,null,"2026-04-21","MCP","2703","N","S","3A6",null,2703,"3892156",1,null,510,4000,1,20,220,"3丁",null,"2026-04-30","ユーザーフリー　ＴＡＦＫ原反使用可",null,null,null,"213"]
[null,null,null,null,null,null,null,null,null,null,null,null,null,null,null,null,null,null,null,null,null,null,null,null,"MCP","2703","N","S","3A6",null,2703,"3892157",1,null,960,4000,1,10,80,null,null,"2026-04-30","ユーザーフリー　ＴＡＦＫ原反使用可",null,null,null,"213"]
[null,null,null,null,null,null,null,null,null,null,null,null,null,null,null,null,null,null,null,null,null,null,null,null,"MCP","2703","N","S","3A6",null,2703,"3892158",1,null,960,4000,1,1,6,null,null,"2026-04-30","４０００ｍ余剰分",null,null,null,"213"]
[null,null,null,null,null,null,null,null,null,null,null,null,null,null,null,null,null,null,null,null,null,null,null,null,"MCP","2703","N","S","3A6",null,2703,"3892159",1,null,510,4000,1,2,20,null,null,"2026-04-30","４０００ｍ余剰分",null,null,null,"213"]
[]
["2026-04-23",1,null,null,"43867570001",null,null,null,null,"9041A3","9041A3",null,"2449191",25,null,2020,null,null,45000,null,null,1,null,"2026-04-22","MCP","2703","N","S","3A6",null,2703,"3892301",1,null,860,8000,1,5,45,"2丁",null,"2026-05-20",null,null,null,null,"211"]
[null,null,null,null,null,null,null,null,null,null,null,null,null,null,null,null,null,null,null,null,null,null,null,null,"MCP","2703","N","S","3A6",null,2703,"3892302",1,null,1120,8000,1,5,20,null,null,"2026-05-20","細川",null,null,null,"211"]
[null,null,null,null,null,null,null,null,null,null,null,null,null,null,null,null,null,null,null,null,null,null,null,null,"MCP","2703","N","S","3A6",null,2703,"3892303",1,null,1120,4000,1,1,10,null,null,"2026-05-20","４０００ｍ余剰分",null,null,null,"211"]
[null,null,null,null,null,null,null,null,null,null,null,null,null,null,null,null,null,null,null,null,null,null,null,null,"MCP","2703","N","S","3A6",null,2703,"3892304",1,null,860,4000,1,1,10,null,null,"2026-05-20","４０００ｍ余剰分",null,null,null,"211"]
[]
["2026-04-23",2,null,null,"43867580001",null,null,null,null,"9041A3","9041A3",null,"2449191",25,null,2020,null,null,45000,null,null,1,null,"2026-04-22","MCP","2703","N","S","3A6",null,2703,"3892465",1,null,960,8000,1,5,110,"2丁",null,"2026-05-20","細川",null,null,null,"211"]
[null,null,null,null,null,null,null,null,null,null,null,null,null,null,null,null,null,null,null,null,null,null,null,null,"MCP","2703","N","S","3A6",null,2703,"3892466",1,null,1020,8000,1,5,50,null,null,"2026-05-20","細川",null,null,null,"211"]
[null,null,null,null,null,null,null,null,null,null,null,null,null,null,null,null,null,null,null,null,null,null,null,null,"MCP","2703","N","S","3A6",null,2703,"3892467",1,null,1020,4000,1,1,22,null,null,"2026-05-20","４０００ｍ余剰分",null,null,null,"211"]
[null,null,null,null,null,null,null,null,null,null,null,null,null,null,null,null,null,null,null,null,null,null,null,null,"MCP","2703","N","S","3A6",null,2703,"3892468",1,null,960,4000,1,1,22,null,null,"2026-05-20","４０００ｍ余剰分",null,null,null,"211"]
[]
["2026-04-23",3,null,null,"43867590001",null,null,null,null,"9041A3","9041A3",null,"2449191",25,null,2020,null,null,45000,null,null,1,null,"2026-04-22","MCP","2703","N","S","3A6",null,2703,"3892469",1,null,960,8000,1,5,110,"2丁",null,"2026-05-20","細川",null,null,null,"211"]
[null,null,null,null,null,null,null,null,null,null,null,null,null,null,null,null,null,null,null,null,null,null,null,null,"MCP","2703","N","S","3A6",null,2703,"3892470",1,null,1020,8000,1,5,50,null,null,"2026-05-20","細川",null,null,null,"211"]
[null,null,null,null,null,null,null,null,null,null,null,null,null,null,null,null,null,null,null,null,null,null,null,null,"MCP","2703","N","S","3A6",null,2703,"3892471",1,null,1020,4000,1,1,22,null,null,"2026-05-20","４０００ｍ余剰分",null,null,null,"211"]
[null,null,null,null,null,null,null,null,null,null,null,null,null,null,null,null,null,null,null,null,null,null,null,null,"MCP","2703","N","S","3A6",null,2703,"3892472",1,null,960,4000,1,1,22,null,null,"2026-05-20","４０００ｍ余剰分",null,null,null,"211"]
[]
["2026-04-23",4,null,null,"43867600001",null,null,null,null,"9041A3","9041A3",null,"2449191",25,null,2020,null,null,45000,null,null,1,null,"2026-04-22","MCP","2703","N","S","3A6",null,2703,"3892533",1,null,940,4000,1,10,100,"2丁",null,"2026-05-20","ユーザーフリー　ＴＡＦＫ原反使用可",null,null,null,"213"]
[null,null,null,null,null,null,null,null,null,null,null,null,null,null,null,null,null,null,null,null,null,null,null,null,"MCP","2703","N","S","3A6",null,2703,"3892534",1,null,1040,4000,1,10,110,null,null,"2026-05-20","ユーザーフリー　ＴＡＦＫ原反使用可",null,null,null,"213"]
[null,null,null,null,null,null,null,null,null,null,null,null,null,null,null,null,null,null,null,null,null,null,null,null,"MCP","2703","N","S","3A6",null,2703,"3892535",1,null,1040,4000,1,1,10,null,null,"2026-05-20","４０００ｍ余剰分",null,null,null,"213"]
[null,null,null,null,null,null,null,null,null,null,null,null,null,null,null,null,null,null,null,null,null,null,null,null,"MCP","2703","N","S","3A6",null,2703,"3892536",1,null,940,4000,1,1,8,null,null,"2026-05-20","４０００ｍ余剰分",null,null,null,"213"]
[]
["2026-04-23",5,null,null,"43867610001",null,null,null,null,"9041A3","9041A3",null,"2449191",25,null,2020,null,null,45000,null,null,1,null,"2026-04-22","MCP","2703","N","S","3A6",null,2703,"3892541",1,null,940,4000,1,10,100,"2丁",null,"2026-05-20","ユーザーフリー　ＴＡＦＫ原反使用可",null,null,null,"213"]
[null,null,null,null,null,null,null,null,null,null,null,null,null,null,null,null,null,null,null,null,null,null,null,null,"MCP","2703","N","S","3A6",null,2703,"3892542",1,null,1040,4000,1,10,110,null,null,"2026-05-20","ユーザーフリー　ＴＡＦＫ原反使用可",null,null,null,"213"]
[null,null,null,null,null,null,null,null,null,null,null,null,null,null,null,null,null,null,null,null,null,null,null,null,"MCP","2703","N","S","3A6",null,2703,"3892543",1,null,1040,4000,1,1,10,null,null,"2026-05-20","４０００ｍ余剰分",null,null,null,"213"]
[null,null,null,null,null,null,null,null,null,null,null,null,null,null,null,null,null,null,null,null,null,null,null,null,"MCP","2703","N","S","3A6",null,2703,"3892544",1,null,940,4000,1,1,8,null,null,"2026-05-20","４０００ｍ余剰分",null,null,null,"213"]
[]
["2026-04-23",6,null,null,"43867620001",null,null,null,null,"9041A3","9041A3",null,"2449192",25,null,2000,null,null,45000,null,null,1,null,"2026-04-22","MCP","2703","N","S","3A6",null,2703,"3892397",1,null,860,8000,1,5,45,"2丁",null,"2026-05-20",null,null,null,null,"211"]
[null,null,null,null,null,null,null,null,null,null,null,null,null,null,null,null,null,null,null,null,null,null,null,null,"MCP","2703","N","S","3A6",null,2703,"3892398",1,null,1100,8000,1,5,45,null,null,"2026-05-20","細川",null,null,null,"211"]
[null,null,null,null,null,null,null,null,null,null,null,null,null,null,null,null,null,null,null,null,null,null,null,null,"MCP","2703","N","S","3A6",null,2703,"3892399",1,null,1100,4000,1,1,9,null,null,"2026-05-20","４０００ｍ余剰分",null,null,null,"211"]
[null,null,null,null,null,null,null,null,null,null,null,null,null,null,null,null,null,null,null,null,null,null,null,null,"MCP","2703","N","S","3A6",null,2703,"3892400",1,null,860,4000,1,1,10,null,null,"2026-05-20","４０００ｍ余剰分",null,null,null,"211"]
[]
["2026-04-23",7,null,null,"43867630001",null,null,null,null,"9041A3","9041A3",null,"2449192",25,null,2000,null,null,45000,null,null,1,null,"2026-04-22","MCP","2703","N","S","3A6",null,2703,"3892525",1,null,920,4000,1,10,60,"2丁",null,"2026-05-20","ユーザーフリー　ＴＡＦＫ原反使用可",null,null,null,"213"]
[null,null,null,null,null,null,null,null,null,null,null,null,null,null,null,null,null,null,null,null,null,null,null,null,"MCP","2703","N","S","3A6",null,2703,"3892526",1,null,1040,4000,1,10,110,null,null,"2026-05-20","ユーザーフリー　ＴＡＦＫ原反使用可",null,null,null,"213"]
[null,null,null,null,null,null,null,null,null,null,null,null,null,null,null,null,null,null,null,null,null,null,null,null,"MCP","2703","N","S","3A6",null,2703,"3892527",1,null,1040,4000,1,1,10,null,null,"2026-05-20","４０００ｍ余剰分",null,null,null,"213"]
[null,null,null,null,null,null,null,null,null,null,null,null,null,null,null,null,null,null,null,null,null,null,null,null,"MCP","2703","N","S","3A6",null,2703,"3892528",1,null,920,4000,1,1,4,null,null,"2026-05-20","４０００ｍ余剰分",null,null,null,"213"]
[]
["2026-04-23",8,null,null,"43867640001",null,null,null,null,"9041A3","9041A3",null,"2449192",25,null,2000,null,null,45000,null,null,1,null,"2026-04-22","MCP","2703","N","S","3A6",null,2703,"3892529",1,null,920,4000,1,10,60,"2丁",null,"2026-05-20","ユーザーフリー　ＴＡＦＫ原反使用可",null,null,null,"213"]
[null,null,null,null,null,null,null,null,null,null,null,null,null,null,null,null,null,null,null,null,null,null,null,null,"MCP","2703","N","S","3A6",null,2703,"3892530",1,null,1040,4000,1,10,110,null,null,"2026-05-20","ユーザーフリー　ＴＡＦＫ原反使用可",null,null,null,"213"]
[null,null,null,null,null,null,null,null,null,null,null,null,null,null,null,null,null,null,null,null,null,null,null,null,"MCP","2703","N","S","3A6",null,2703,"3892531",1,null,1040,4000,1,1,10,null,null,"2026-05-20","４０００ｍ余剰分",null,null,null,"213"]
[null,null,null,null,null,null,null,null,null,null,null,null,null,null,null,null,null,null,null,null,null,null,null,null,"MCP","2703","N","S","3A6",null,2703,"3892532",1,null,920,4000,1,1,4,null,null,"2026-05-20","４０００ｍ余剰分",null,null,null,"213"]
[]
["2026-04-23",9,null,null,"43867650001",null,null,null,null,"9041A3","9041A3",null,"2449192",25,null,2000,null,null,45000,null,null,1,null,"2026-04-22","MCP","2703","N","S","3A6",null,2703,"3892553",1,null,960,4000,1,10,80,"2丁",null,"2026-05-20","ユーザーフリー　ＴＡＦＫ原反使用可",null,null,null,"213"]
[null,null,null,null,null,null,null,null,null,null,null,null,null,null,null,null,null,null,null,null,null,null,null,null,"MCP","2703","N","S","3A6",null,2703,"3892554",1,null,1000,4000,1,10,50,null,null,"2026-05-20","ユーザーフリー　ＴＡＦＫ原反使用可",null,null,null,"218"]
[null,null,null,null,null,null,null,null,null,null,null,null,null,null,null,null,null,null,null,null,null,null,null,null,"MCP","2703","N","S","3A6",null,2703,"3892555",1,null,1000,4000,1,1,5,null,null,"2026-05-20","４０００ｍ余剰分",null,null,null,"218"]
[null,null,null,null,null,null,null,null,null,null,null,null,null,null,null,null,null,null,null,null,null,null,null,null,"MCP","2703","N","S","3A6",null,2703,"3892556",1,null,960,4000,1,1,6,null,null,"2026-05-20","４０００ｍ余剰分",null,null,null,"213"]
[]
["2026-04-23",10,null,null,"43867660001",null,null,null,null,"9041A3","9041A3",null,"2449192",25,null,2000,null,null,45000,null,null,1,null,"2026-04-22","MCP","2703","N","S","3A6",null,2703,"3892711",1,null,980,8000,1,10,200,"2丁",null,"2026-05-20","細川",null,null,null,"211"]
[null,null,null,null,null,null,null,null,null,null,null,null,null,null,null,null,null,null,null,null,null,null,null,null,"MCP","2703","N","S","3A6",null,2703,"3892712",1,null,980,4000,1,2,40,null,null,"2026-05-20","４０００ｍ余剰分",null,null,null,"211"]
[]
["2026-04-23",11,null,null,"43867670001",null,null,null,null,"9041A3","9041A3",null,"2449192",25,null,2000,null,null,45000,null,null,1,null,"2026-04-22","MCP","2703","N","S","3A6",null,2703,"3893178",1,null,900,8000,1,10,200,"2丁",null,"2026-05-20","細川",null,null,null,"211"]
[null,null,null,null,null,null,null,null,null,null,null,null,null,null,null,null,null,null,null,null,null,null,null,null,"MCP","2703","N","S","3A6",null,2703,"3893179",1,null,1060,4000,1,2,40,null,null,"2026-05-20","４０００ｍ余剰分",null,null,null,"211"]
[]
["2026-04-24",1,null,null,"43867680001",null,null,null,null,"9041A3","9041A3",null,"2449198",25,null,2000,null,null,45000,null,null,1,null,"2026-04-23","MCP","2703","N","S","3A6",null,2703,"3893180",1,null,900,8000,1,10,200,"2丁",null,"2026-05-20","細川",null,null,null,"211"]
[null,null,null,null,null,null,null,null,null,null,null,null,null,null,null,null,null,null,null,null,null,null,null,null,"MCP","2703","N","S","3A6",null,2703,"3893181",1,null,1060,4000,1,2,40,null,null,"2026-05-20","４０００ｍ余剰分",null,null,null,"211"]
[]
["2026-04-24",2,null,null,"43867690001",null,null,null,null,"9041A3","9041A3",null,"2449198",25,null,2000,null,null,45000,null,null,1,null,"2026-04-23","MCP","2703","N","S","3A6",null,2703,"3893182",1,null,900,8000,1,10,200,"2丁",null,"2026-05-20","細川",null,null,null,"211"]
[null,null,null,null,null,null,null,null,null,null,null,null,null,null,null,null,null,null,null,null,null,null,null,null,"MCP","2703","N","S","3A6",null,2703,"3893183",1,null,1060,4000,1,2,40,null,null,"2026-05-20","４０００ｍ余剰分",null,null,null,"211"]
[]
["2026-04-24",3,null,null,"43867750001",null,null,null,null,"9041",9041,null,"2449200",20,null,1980,null,null,53000,null,null,1,null,"2026-04-23","MCP","2703","N","S","3R",null,2703,"3891295",1,null,900,8000,1,6,24,"2丁",null,"2026-05-20","ＤＦ４・６指定",null,null,null,"216"]
[null,null,null,null,null,null,null,null,null,null,null,null,null,null,null,null,null,null,null,null,null,null,null,null,"MCP","2703","N","S","3R",null,2703,"3891296",1,null,1040,8000,1,6,84,null,null,"2026-05-20","細川",null,null,null,"211"]
[null,null,null,null,null,null,null,null,null,null,null,null,null,null,null,null,null,null,null,null,null,null,null,null,"MCP","2703","N","S","3R",null,2703,"3891297",1,null,1040,4000,1,1,12,null,null,"2026-05-20","４０００ｍ余剰分",null,null,null,"211"]
[null,null,null,null,null,null,null,null,null,null,null,null,null,null,null,null,null,null,null,null,null,null,null,null,"MCP","2703","N","S","3R",null,2703,"3891298",1,null,900,4000,1,1,2,null,null,"2026-05-20","４０００ｍ余剰分",null,null,null,"216"]
[]
["2026-04-24",4,null,null,"43867760001",null,null,null,null,"9041",9041,null,"2449200",20,null,1980,null,null,53000,null,null,1,null,"2026-04-23","MCP","2703","N","S","3R",null,2703,"3891303",1,null,980,8000,1,6,48,"2丁",null,"2026-05-20","細川",null,null,null,"211"]
[null,null,null,null,null,null,null,null,null,null,null,null,null,null,null,null,null,null,null,null,null,null,null,null,"MCP","2703","N","S","3R",null,2703,"3891304",1,null,960,8000,1,6,54,null,null,"2026-05-20","細川",null,null,null,"211"]
[null,null,null,null,null,null,null,null,null,null,null,null,null,null,null,null,null,null,null,null,null,null,null,null,"MCP","2703","N","S","3R",null,2703,"3891305",1,null,980,4000,1,1,8,null,null,"2026-05-20","４０００ｍ余剰分",null,null,null,"211"]
[null,null,null,null,null,null,null,null,null,null,null,null,null,null,null,null,null,null,null,null,null,null,null,null,"MCP","2703","N","S","3R",null,2703,"3891306",1,null,960,4000,1,1,9,null,null,"2026-05-20","４０００ｍ余剰分",null,null,null,"211"]
[]
["2026-04-24",5,null,null,"43867770001",null,null,null,null,"9041",9041,null,"2449203",20,null,1960,null,null,53000,null,null,1,null,"2026-04-23","MCP","2703","N","S","3R",null,2703,"3891287",1,null,880,8000,1,6,12,"2丁",null,"2026-05-20","細川",null,null,null,"211"]
[null,null,null,null,null,null,null,null,null,null,null,null,null,null,null,null,null,null,null,null,null,null,null,null,"MCP","2703","N","S","3R",null,2703,"3891288",1,null,1040,8000,1,6,84,null,null,"2026-05-20","細川",null,null,null,"211"]
[null,null,null,null,null,null,null,null,null,null,null,null,null,null,null,null,null,null,null,null,null,null,null,null,"MCP","2703","N","S","3R",null,2703,"3891289",1,null,1040,4000,1,1,12,null,null,"2026-05-20","４０００ｍ余剰分",null,null,null,"211"]
[null,null,null,null,null,null,null,null,null,null,null,null,null,null,null,null,null,null,null,null,null,null,null,null,"MCP","2703","N","S","3R",null,2703,"3891290",1,null,880,4000,1,1,2,null,null,"2026-05-20","４０００ｍ余剰分",null,null,null,"211"]
[]
["2026-04-24",6,null,null,"43867780001",null,null,null,null,"9041",9041,null,"2449203",20,null,1960,null,null,53000,null,null,1,null,"2026-04-23","MCP","2703","N","S","3R",null,2703,"3891366",1,null,960,8000,1,12,54,"2丁",null,"2026-05-20","細川",null,null,null,"211"]
[null,null,null,null,null,null,null,null,null,null,null,null,null,null,null,null,null,null,null,null,null,null,null,null,"MCP","2703","N","S","3R",null,2703,"3891367",1,null,960,4000,1,2,9,null,null,"2026-05-20","４０００ｍ余剰分",null,null,null,"211"]
[]
["2026-04-24",7,null,null,"43867700001",null,null,null,null,"9041A3","9041A3",null,"2449204",25,null,1940,null,null,45000,null,null,1,null,"2026-04-23","MCP","2703","N","S","3A6",null,2703,"3891904",1,null,760,8000,1,5,10,"2丁",null,"2026-05-20","細川",null,null,null,"211"]
[null,null,null,null,null,null,null,null,null,null,null,null,null,null,null,null,null,null,null,null,null,null,null,null,"MCP","2703","N","S","3A6",null,2703,"3891905",1,null,1140,8000,1,5,15,null,null,"2026-05-20","細川",null,null,null,"211"]
[null,null,null,null,null,null,null,null,null,null,null,null,null,null,null,null,null,null,null,null,null,null,null,null,"MCP","2703","N","S","3A6",null,2703,"3891906",1,null,1140,4000,1,1,3,null,null,"2026-05-20","４０００ｍ余剰分",null,null,null,"211"]
[null,null,null,null,null,null,null,null,null,null,null,null,null,null,null,null,null,null,null,null,null,null,null,null,"MCP","2703","N","S","3A6",null,2703,"3891907",1,null,760,4000,1,1,2,null,null,"2026-05-20","４０００ｍ余剰分",null,null,null,"211"]
[]
["2026-04-24",8,null,null,"43867710001",null,null,null,null,"9041A3","9041A3",null,"2449204",25,null,1940,null,null,45000,null,null,1,null,"2026-04-23","MCP","2703","N","S","3A6",null,2703,"3891946",1,null,980,4000,1,10,10,"2丁",null,"2026-05-20","真丸",null,null,null,"217"]
[null,null,null,null,null,null,null,null,null,null,null,null,null,null,null,null,null,null,null,null,null,null,null,null,"MCP","2703","N","S","3A6",null,2703,"3891947",1,null,920,4000,1,10,60,null,null,"2026-05-20","真丸",null,null,null,"217"]
[null,null,null,null,null,null,null,null,null,null,null,null,null,null,null,null,null,null,null,null,null,null,null,null,"MCP","2703","N","S","3A6",null,2703,"3891948",1,null,980,4000,1,1,1,null,null,"2026-05-20","４０００ｍ余剰分",null,null,null,"217"]
[null,null,null,null,null,null,null,null,null,null,null,null,null,null,null,null,null,null,null,null,null,null,null,null,"MCP","2703","N","S","3A6",null,2703,"3891949",1,null,920,4000,1,1,6,null,null,"2026-05-20","４０００ｍ余剰分",null,null,null,"217"]
[]
["2026-04-24",9,null,null,"43867720001",null,null,null,null,"9041A3","9041A3",null,"2449204",25,null,1940,null,null,45000,null,null,1,null,"2026-04-23","MCP","2703","N","S","3A6",null,2703,"3892030",1,null,880,4000,1,10,60,"2丁",null,"2026-05-20","須田",null,null,null,"217"]
[null,null,null,null,null,null,null,null,null,null,null,null,null,null,null,null,null,null,null,null,null,null,null,null,"MCP","2703","N","S","3A6",null,2703,"3892031",1,null,1020,4000,1,10,40,null,null,"2026-05-20","細川",null,null,null,"211"]
[null,null,null,null,null,null,null,null,null,null,null,null,null,null,null,null,null,null,null,null,null,null,null,null,"MCP","2703","N","S","3A6",null,2703,"3892032",1,null,1020,4000,1,1,4,null,null,"2026-05-20","４０００ｍ余剰分",null,null,null,"211"]
[null,null,null,null,null,null,null,null,null,null,null,null,null,null,null,null,null,null,null,null,null,null,null,null,"MCP","2703","N","S","3A6",null,2703,"3892033",1,null,880,4000,1,1,6,null,null,"2026-05-20","４０００ｍ余剰分",null,null,null,"217"]
[]
["2026-04-24",10,null,null,"43867730001",null,null,null,null,"9041A3","9041A3",null,"2449204",25,null,1940,null,null,45000,null,null,1,null,"2026-04-23","MCP","2703","N","S","3A6D",null,2703,"3892351",1,null,980,8000,1,5,65,"2丁",null,"2026-05-20","ＤＮＰ京都　３Ｄｏｒ３Ｄ６",null,null,null,"213"]
[null,null,null,null,null,null,null,null,null,null,null,null,null,null,null,null,null,null,null,null,null,null,null,null,"MCP","2703","N","S","3A6",null,2703,"3892352",1,null,920,8000,1,5,25,null,null,"2026-05-20","細川",null,null,null,"211"]
[null,null,null,null,null,null,null,null,null,null,null,null,null,null,null,null,null,null,null,null,null,null,null,null,"MCP","2703","N","S","3A6",null,2703,"3892353",1,null,980,4000,1,1,13,null,null,"2026-05-20","４０００ｍ余剰分",null,null,null,"213"]
[null,null,null,null,null,null,null,null,null,null,null,null,null,null,null,null,null,null,null,null,null,null,null,null,"MCP","2703","N","S","3A6",null,2703,"3892354",1,null,920,4000,1,1,7,null,null,"2026-05-20","４０００ｍ余剰分",null,null,null,"211"]
[]
["2026-04-25",1,null,null,"43867740001",null,null,null,null,"9041A3","9041A3",null,null,25,null,1740,null,null,41000,null,null,1,null,"2026-04-24","MCP","2703","N","S","3A6",null,2703,"3892028",1,null,840,4000,1,10,40,"2丁",null,"2026-05-20","真丸",null,null,null,"217"]
[null,null,null,null,null,null,null,null,null,null,null,null,null,null,null,null,null,null,null,null,null,null,null,null,"MCP","2703","N","S","3A6",null,2703,"3892029",1,null,860,4000,1,10,30,null,null,"2026-05-20","真丸",null,null,null,"217"]
[]
[]
[]
["未配台"]
[]
[]
[]
[null,null,null,null,null,null,null,null,null,"9041",9041,null,null,20,null,2080,null,null,53000,null,null,1,null,null,"MCP","2703","N","S","3R",null,2703,"3888859",1,null,980,4000,1,13,24,null,null,"2026-05-08","ユーザーフリー",null,null,null,"213"]
[null,null,null,null,null,null,null,null,null,null,null,null,null,null,null,null,null,null,null,null,null,null,null,null,"MCP","2703","N","S","3R",null,2703,"3888860",1,null,1060,4000,1,13,12,null,null,"2026-05-08","細川",null,null,null,"211"]
[]
[null,null,null,null,null,null,null,null,null,"9041",9041,null,null,20,null,2020,null,null,53000,null,null,1,null,null,"MCP","2703","N","S","3R",null,2703,"3888953",1,null,1020,8000,1,6,54,null,null,"2026-05-08","東タイ",null,null,null,"213"]
[null,null,null,null,null,null,null,null,null,null,null,null,null,null,null,null,null,null,null,null,null,null,null,null,"MCP","2703","N","S","3R",null,2703,"3888954",1,null,960,8000,1,6,24,null,null,"2026-05-08","細川",null,null,null,"211"]
[null,null,null,null,null,null,null,null,null,null,null,null,null,null,null,null,null,null,null,null,null,null,null,null,"MCP","2703","N","S","3R",null,2703,"3888955",1,null,1020,4000,1,1,8,null,null,"2026-05-08","４０００ｍ余剰分",null,null,null,"213"]
[null,null,null,null,null,null,null,null,null,null,null,null,null,null,null,null,null,null,null,null,null,null,null,null,"MCP","2703","N","S","3R",null,2703,"3888956",1,null,960,4000,1,1,4,null,null,"2026-05-08","４０００ｍ余剰分",null,null,null,"211"]
[]
[null,null,null,null,null,null,null,null,null,"9041",9041,null,null,20,null,2020,null,null,53000,null,null,1,null,null,"MCP","2703","N","S","3R",null,2703,"3888961",1,null,940,8000,1,6,12,null,null,"2026-05-08","細川",null,null,null,"211"]
[null,null,null,null,null,null,null,null,null,null,null,null,null,null,null,null,null,null,null,null,null,null,null,null,"MCP","2703","N","S","3R",null,2703,"3888962",1,null,1040,8000,1,6,90,null,null,"2026-05-08","細川",null,null,null,"211"]
[null,null,null,null,null,null,null,null,null,null,null,null,null,null,null,null,null,null,null,null,null,null,null,null,"MCP","2703","N","S","3R",null,2703,"3888963",1,null,1040,4000,1,1,15,null,null,"2026-05-08","４０００ｍ余剰分",null,null,null,"211"]
[null,null,null,null,null,null,null,null,null,null,null,null,null,null,null,null,null,null,null,null,null,null,null,null,"MCP","2703","N","S","3R",null,2703,"3888964",1,null,940,4000,1,1,2,null,null,"2026-05-08","４０００ｍ余剰分",null,null,null,"211"]
[]
[null,null,null,null,null,null,null,null,null,"9041",9041,null,null,20,null,2040,null,null,53000,null,null,1,null,null,"MCP","2703","N","S","3R",null,2703,"3888977",1,null,980,8000,1,6,84,null,null,"2026-05-08","細川",null,null,null,"211"]
[null,null,null,null,null,null,null,null,null,null,null,null,null,null,null,null,null,null,null,null,null,null,null,null,"MCP","2703","N","S","3R",null,2703,"3888978",1,null,1020,8000,1,6,54,null,null,"2026-05-08","東タイ",null,null,null,"213"]
[null,null,null,null,null,null,null,null,null,null,null,null,null,null,null,null,null,null,null,null,null,null,null,null,"MCP","2703","N","S","3R",null,2703,"3888979",1,null,1020,4000,1,1,8,null,null,"2026-05-08","４０００ｍ余剰分",null,null,null,"213"]
[null,null,null,null,null,null,null,null,null,null,null,null,null,null,null,null,null,null,null,null,null,null,null,null,"MCP","2703","N","S","3R",null,2703,"3888980",1,null,980,4000,1,1,14,null,null,"2026-05-08","４０００ｍ余剰分",null,null,null,"211"]
[]
[null,null,null,null,null,null,null,null,null,"9041",9041,null,null,20,null,2060,null,null,53000,null,null,1,null,null,"MCP","2703","N","S","3R",null,2703,"3888985",1,null,1020,8000,1,6,60,null,null,"2026-05-08","細川",null,null,null,"211"]
[null,null,null,null,null,null,null,null,null,null,null,null,null,null,null,null,null,null,null,null,null,null,null,null,"MCP","2703","N","S","3R",null,2703,"3888986",1,null,1000,8000,1,6,48,null,null,"2026-05-08","細川",null,null,null,"211"]
[null,null,null,null,null,null,null,null,null,null,null,null,null,null,null,null,null,null,null,null,null,null,null,null,"MCP","2703","N","S","3R",null,2703,"3888987",1,null,1020,4000,1,1,9,null,null,"2026-05-08","４０００ｍ余剰分",null,null,null,"211"]
[null,null,null,null,null,null,null,null,null,null,null,null,null,null,null,null,null,null,null,null,null,null,null,null,"MCP","2703","N","S","3R",null,2703,"3888988",1,null,1000,4000,1,1,8,null,null,"2026-05-08","４０００ｍ余剰分",null,null,null,"211"]
[]
[null,null,null,null,null,null,null,null,null,"9041",9041,null,null,20,null,2060,null,null,53000,null,null,1,null,null,"MCP","2703","N","S","3R",null,2703,"3888993",1,null,1020,8000,1,6,60,null,null,"2026-05-08","細川",null,null,null,"211"]
[null,null,null,null,null,null,null,null,null,null,null,null,null,null,null,null,null,null,null,null,null,null,null,null,"MCP","2703","N","S","3R",null,2703,"3888994",1,null,1000,8000,1,6,48,null,null,"2026-05-08","細川",null,null,null,"211"]
[null,null,null,null,null,null,null,null,null,null,null,null,null,null,null,null,null,null,null,null,null,null,null,null,"MCP","2703","N","S","3R",null,2703,"3888995",1,null,1020,4000,1,1,9,null,null,"2026-05-08","４０００ｍ余剰分",null,null,null,"211"]
[null,null,null,null,null,null,null,null,null,null,null,null,null,null,null,null,null,null,null,null,null,null,null,null,"MCP","2703","N","S","3R",null,2703,"3888996",1,null,1000,4000,1,1,8,null,null,"2026-05-08","４０００ｍ余剰分",null,null,null,"211"]
[]
[null,null,null,null,null,null,null,null,null,"9041",9041,null,null,20,null,2060,null,null,53000,null,null,1,null,null,"MCP","2703","N","S","3R",null,2703,"3889001",1,null,1060,8000,1,6,36,null,null,"2026-05-08","尾池",null,null,null,"215"]
[null,null,null,null,null,null,null,null,null,null,null,null,null,null,null,null,null,null,null,null,null,null,null,null,"MCP","2703","N","S","3R",null,2703,"3889002",1,null,960,8000,1,6,24,null,null,"2026-05-08","細川",null,null,null,"211"]
[null,null,null,null,null,null,null,null,null,null,null,null,null,null,null,null,null,null,null,null,null,null,null,null,"MCP","2703","N","S","3R",null,2703,"3889003",1,null,1060,4000,1,1,6,null,null,"2026-05-08","４０００ｍ余剰分",null,null,null,"215"]
[null,null,null,null,null,null,null,null,null,null,null,null,null,null,null,null,null,null,null,null,null,null,null,null,"MCP","2703","N","S","3R",null,2703,"3889004",1,null,960,4000,1,1,4,null,null,"2026-05-08","４０００ｍ余剰分",null,null,null,"211"]
[]
[null,null,null,null,null,null,null,null,null,"9041",9041,null,null,20,null,2020,null,null,53000,null,null,1,null,null,"MCP","2703","N","S","3R",null,2703,"3889051",1,null,980,8000,1,6,84,null,null,"2026-05-08","細川",null,null,null,"211"]
[null,null,null,null,null,null,null,null,null,null,null,null,null,null,null,null,null,null,null,null,null,null,null,null,"MCP","2703","N","S","3R",null,2703,"3889052",1,null,1000,8000,1,6,48,null,null,"2026-05-08","細川",null,null,null,"211"]
[null,null,null,null,null,null,null,null,null,null,null,null,null,null,null,null,null,null,null,null,null,null,null,null,"MCP","2703","N","S","3R",null,2703,"3889053",1,null,1000,4000,1,1,8,null,null,"2026-05-08","４０００ｍ余剰分",null,null,null,"211"]
[null,null,null,null,null,null,null,null,null,null,null,null,null,null,null,null,null,null,null,null,null,null,null,null,"MCP","2703","N","S","3R",null,2703,"3889054",1,null,980,4000,1,1,14,null,null,"2026-05-08","４０００ｍ余剰分",null,null,null,"211"]
[]
[null,null,null,null,null,null,null,null,null,"9041",9041,null,null,20,null,2040,null,null,53000,null,null,1,null,null,"MCP","2703","N","S","3R",null,2703,"3889059",1,null,920,8000,1,6,30,null,null,"2026-05-08","細川",null,null,null,"211"]
[null,null,null,null,null,null,null,null,null,null,null,null,null,null,null,null,null,null,null,null,null,null,null,null,"MCP","2703","N","S","3R",null,2703,"3889060",1,null,1080,8000,1,6,24,null,null,"2026-05-08","細川",null,null,null,"211"]
[null,null,null,null,null,null,null,null,null,null,null,null,null,null,null,null,null,null,null,null,null,null,null,null,"MCP","2703","N","S","3R",null,2703,"3889061",1,null,1080,4000,1,1,3,null,null,"2026-05-08","４０００ｍ余剰分",null,null,null,"211"]
[null,null,null,null,null,null,null,null,null,null,null,null,null,null,null,null,null,null,null,null,null,null,null,null,"MCP","2703","N","S","3R",null,2703,"3889062",1,null,920,4000,1,1,5,null,null,"2026-05-08","４０００ｍ余剰分",null,null,null,"211"]
[]
[null,null,null,null,null,null,null,null,null,"9041",9041,null,null,20,null,2040,null,null,53000,null,null,1,null,null,"MCP","2703","N","S","3R",null,2703,"3889067",1,null,980,8000,1,6,84,null,null,"2026-05-08","細川",null,null,null,"211"]
[null,null,null,null,null,null,null,null,null,null,null,null,null,null,null,null,null,null,null,null,null,null,null,null,"MCP","2703","N","S","3R",null,2703,"3889068",1,null,1020,8000,1,6,60,null,null,"2026-05-08","細川",null,null,null,"211"]
[null,null,null,null,null,null,null,null,null,null,null,null,null,null,null,null,null,null,null,null,null,null,null,null,"MCP","2703","N","S","3R",null,2703,"3889069",1,null,1020,4000,1,1,9,null,null,"2026-05-08","４０００ｍ余剰分",null,null,null,"211"]
[null,null,null,null,null,null,null,null,null,null,null,null,null,null,null,null,null,null,null,null,null,null,null,null,"MCP","2703","N","S","3R",null,2703,"3889070",1,null,980,4000,1,1,14,null,null,"2026-05-08","４０００ｍ余剰分",null,null,null,"211"]
[]
[null,null,null,null,null,null,null,null,null,"9041",9041,null,null,20,null,2060,null,null,53000,null,null,1,null,null,"MCP","2703","N","S","3R",null,2703,"3889075",1,null,900,8000,1,6,72,null,null,"2026-05-08","細川",null,null,null,"211"]
[null,null,null,null,null,null,null,null,null,null,null,null,null,null,null,null,null,null,null,null,null,null,null,null,"MCP","2703","N","S","3R",null,2703,"3889076",1,null,1120,8000,1,6,36,null,null,"2026-05-08","細川",null,null,null,"211"]
[null,null,null,null,null,null,null,null,null,null,null,null,null,null,null,null,null,null,null,null,null,null,null,null,"MCP","2703","N","S","3R",null,2703,"3889077",1,null,1120,4000,1,1,6,null,null,"2026-05-08","４０００ｍ余剰分",null,null,null,"211"]
[null,null,null,null,null,null,null,null,null,null,null,null,null,null,null,null,null,null,null,null,null,null,null,null,"MCP","2703","N","S","3R",null,2703,"3889078",1,null,900,4000,1,1,12,null,null,"2026-05-08","４０００ｍ余剰分",null,null,null,"211"]
[]
[null,null,null,null,null,null,null,null,null,"9041",9041,null,null,20,null,2060,null,null,53000,null,null,1,null,null,"MCP","2703","N","S","3R",null,2703,"3889083",1,null,900,8000,1,6,72,null,null,"2026-05-08","細川",null,null,null,"211"]
[null,null,null,null,null,null,null,null,null,null,null,null,null,null,null,null,null,null,null,null,null,null,null,null,"MCP","2703","N","S","3R",null,2703,"3889084",1,null,1120,8000,1,6,36,null,null,"2026-05-08","細川",null,null,null,"211"]
[null,null,null,null,null,null,null,null,null,null,null,null,null,null,null,null,null,null,null,null,null,null,null,null,"MCP","2703","N","S","3R",null,2703,"3889085",1,null,1120,4000,1,1,6,null,null,"2026-05-08","４０００ｍ余剰分",null,null,null,"211"]
[null,null,null,null,null,null,null,null,null,null,null,null,null,null,null,null,null,null,null,null,null,null,null,null,"MCP","2703","N","S","3R",null,2703,"3889086",1,null,900,4000,1,1,12,null,null,"2026-05-08","４０００ｍ余剰分",null,null,null,"211"]
[]
[null,null,null,null,null,null,null,null,null,"9041",9041,null,null,20,null,2060,null,null,53000,null,null,1,null,null,"MCP","2703","N","S","3R",null,2703,"3889091",1,null,980,8000,1,6,84,null,null,"2026-05-08","細川",null,null,null,"211"]
[null,null,null,null,null,null,null,null,null,null,null,null,null,null,null,null,null,null,null,null,null,null,null,null,"MCP","2703","N","S","3R",null,2703,"3889092",1,null,1040,8000,1,6,90,null,null,"2026-05-08","細川",null,null,null,"211"]
[null,null,null,null,null,null,null,null,null,null,null,null,null,null,null,null,null,null,null,null,null,null,null,null,"MCP","2703","N","S","3R",null,2703,"3889093",1,null,1040,4000,1,1,15,null,null,"2026-05-08","４０００ｍ余剰分",null,null,null,"211"]
[null,null,null,null,null,null,null,null,null,null,null,null,null,null,null,null,null,null,null,null,null,null,null,null,"MCP","2703","N","S","3R",null,2703,"3889094",1,null,980,4000,1,1,14,null,null,"2026-05-08","４０００ｍ余剰分",null,null,null,"211"]
[]
[null,null,null,null,null,null,null,null,null,"9041",9041,null,null,20,null,2080,null,null,53000,null,null,1,null,null,"MCP","2703","N","S","3R",null,2703,"3889099",1,null,900,8000,1,6,72,null,null,"2026-05-08","細川",null,null,null,"211"]
[null,null,null,null,null,null,null,null,null,null,null,null,null,null,null,null,null,null,null,null,null,null,null,null,"MCP","2703","N","S","3R",null,2703,"3889100",1,null,1140,8000,1,6,12,null,null,"2026-05-08","細川",null,null,null,"211"]
[null,null,null,null,null,null,null,null,null,null,null,null,null,null,null,null,null,null,null,null,null,null,null,null,"MCP","2703","N","S","3R",null,2703,"3889101",1,null,1140,4000,1,1,2,null,null,"2026-05-08","４０００ｍ余剰分",null,null,null,"211"]
[null,null,null,null,null,null,null,null,null,null,null,null,null,null,null,null,null,null,null,null,null,null,null,null,"MCP","2703","N","S","3R",null,2703,"3889102",1,null,900,4000,1,1,12,null,null,"2026-05-08","４０００ｍ余剰分",null,null,null,"211"]
[]
[null,null,null,null,null,null,null,null,null,"9041",9041,null,null,20,null,2080,null,null,53000,null,null,1,null,null,"MCP","2703","N","S","3R",null,2703,"3889107",1,null,980,8000,1,6,84,null,null,"2026-05-08","細川",null,null,null,"211"]
[null,null,null,null,null,null,null,null,null,null,null,null,null,null,null,null,null,null,null,null,null,null,null,null,"MCP","2703","N","S","3R",null,2703,"3889108",1,null,1060,8000,1,6,18,null,null,"2026-05-08","細川",null,null,null,"211"]
[null,null,null,null,null,null,null,null,null,null,null,null,null,null,null,null,null,null,null,null,null,null,null,null,"MCP","2703","N","S","3R",null,2703,"3889109",1,null,1060,4000,1,1,3,null,null,"2026-05-08","４０００ｍ余剰分",null,null,null,"211"]
[null,null,null,null,null,null,null,null,null,null,null,null,null,null,null,null,null,null,null,null,null,null,null,null,"MCP","2703","N","S","3R",null,2703,"3889110",1,null,980,4000,1,1,14,null,null,"2026-05-08","４０００ｍ余剰分",null,null,null,"211"]
[]
[null,null,null,null,null,null,null,null,null,"9041",9041,null,null,20,null,2080,null,null,53000,null,null,1,null,null,"MCP","2703","N","S","3R",null,2703,"3889115",1,null,980,8000,1,6,84,null,null,"2026-05-08","細川",null,null,null,"211"]
[null,null,null,null,null,null,null,null,null,null,null,null,null,null,null,null,null,null,null,null,null,null,null,null,"MCP","2703","N","S","3R",null,2703,"3889116",1,null,1060,8000,1,6,18,null,null,"2026-05-08","細川",null,null,null,"211"]
[null,null,null,null,null,null,null,null,null,null,null,null,null,null,null,null,null,null,null,null,null,null,null,null,"MCP","2703","N","S","3R",null,2703,"3889117",1,null,1060,4000,1,1,3,null,null,"2026-05-08","４０００ｍ余剰分",null,null,null,"211"]
[null,null,null,null,null,null,null,null,null,null,null,null,null,null,null,null,null,null,null,null,null,null,null,null,"MCP","2703","N","S","3R",null,2703,"3889118",1,null,980,4000,1,1,14,null,null,"2026-05-08","４０００ｍ余剰分",null,null,null,"211"]
[]
[]
[null,null,null,null,null,null,null,null,null,"9041",9041,null,null,20,null,1840,null,null,49000,null,null,1,null,null,"MCP","2703","N","S","3R",null,2703,"3891275",1,null,900,4000,1,24,36,null,null,"2026-05-20","富士特　優先希望、８６０～８８０幅補填込",null,null,null,"214"]
[]
[null,null,null,null,null,null,null,null,null,"9041",9041,null,null,20,null,1840,null,null,49000,null,null,1,null,null,"MCP","2703","N","S","3R",null,2703,"3891277",1,null,900,8000,1,12,30,null,null,"2026-05-20","細川",null,null,null,"211"]
[]
[null,null,null,null,null,null,null,null,null,"9041",9041,null,null,20,null,1880,null,null,49000,null,null,1,null,null,"MCP","2703","N","S","3R",null,2703,"3891279",1,null,920,4000,1,24,36,null,null,"2026-05-20","細川",null,null,null,"211"]
[]
[null,null,null,null,null,null,null,null,null,"9041",9041,null,null,20,null,2280,null,null,49000,null,null,1,null,null,"MCP","2703","N","S","3R",null,2703,"3891281",1,null,1040,8000,1,6,84,null,null,"2026-05-20","細川",null,null,null,"211"]
[null,null,null,null,null,null,null,null,null,null,null,null,null,null,null,null,null,null,null,null,null,null,null,null,"MCP","2703","N","S","3R",null,2703,"3891282",1,null,1200,8000,1,6,6,null,null,"2026-05-20",null,null,null,null,"211"]
[]
[null,null,null,null,null,null,null,null,null,"9041",9041,null,null,20,null,2000,null,null,53000,null,null,1,null,null,"MCP","2703","N","S","3R",null,2703,"3891308",1,null,980,8000,1,12,48,null,null,"2026-05-20","細川",null,null,null,"211"]
[null,null,null,null,null,null,null,null,null,null,null,null,null,null,null,null,null,null,null,null,null,null,null,null,"MCP","2703","N","S","3R",null,2703,"3891309",1,null,980,4000,1,2,8,null,null,"2026-05-20","４０００ｍ余剰分",null,null,null,"211"]
[]
[null,null,null,null,null,null,null,null,null,"9041",9041,null,null,20,null,2020,null,null,53000,null,null,1,null,null,"MCP","2703","N","S","3R",null,2703,"3891312",1,null,920,4000,1,13,12,null,null,"2026-05-20","富士特",null,null,null,"214"]
[null,null,null,null,null,null,null,null,null,null,null,null,null,null,null,null,null,null,null,null,null,null,null,null,"MCP","2703","N","S","3R",null,2703,"3891313",1,null,1060,4000,1,13,24,null,null,"2026-05-20","細川",null,null,null,"211"]
[]
[null,null,null,null,null,null,null,null,null,"9041",9041,null,null,20,null,2040,null,null,53000,null,null,1,null,null,"MCP","2703","N","S","3R",null,2703,"3891316",1,null,960,8000,1,6,54,null,null,"2026-05-20","細川",null,null,null,"211"]
[null,null,null,null,null,null,null,null,null,null,null,null,null,null,null,null,null,null,null,null,null,null,null,null,"MCP","2703","N","S","3R",null,2703,"3891317",1,null,1040,8000,1,6,84,null,null,"2026-05-20","細川",null,null,null,"211"]
[null,null,null,null,null,null,null,null,null,null,null,null,null,null,null,null,null,null,null,null,null,null,null,null,"MCP","2703","N","S","3R",null,2703,"3891318",1,null,1040,4000,1,1,12,null,null,"2026-05-20","４０００ｍ余剰分",null,null,null,"211"]
[null,null,null,null,null,null,null,null,null,null,null,null,null,null,null,null,null,null,null,null,null,null,null,null,"MCP","2703","N","S","3R",null,2703,"3891319",1,null,960,4000,1,1,9,null,null,"2026-05-20","４０００ｍ余剰分",null,null,null,"211"]
[]
[null,null,null,null,null,null,null,null,null,"9041",9041,null,null,20,null,2060,null,null,53000,null,null,1,null,null,"MCP","2703","N","S","3R",null,2703,"3891324",1,null,820,4000,1,13,12,null,null,"2026-05-20","尾池",null,null,null,"215"]
[null,null,null,null,null,null,null,null,null,null,null,null,null,null,null,null,null,null,null,null,null,null,null,null,"MCP","2703","N","S","3R",null,2703,"3891325",1,null,1200,4000,1,13,84,null,null,"2026-05-20",null,null,null,null,"211"]
[]
[null,null,null,null,null,null,null,null,null,"9041",9041,null,null,20,null,2060,null,null,53000,null,null,1,null,null,"MCP","2703","N","S","3R",null,2703,"3891330",1,null,1020,8000,1,6,72,null,null,"2026-05-20","細川",null,null,null,"211"]
[null,null,null,null,null,null,null,null,null,null,null,null,null,null,null,null,null,null,null,null,null,null,null,null,"MCP","2703","N","S","3R",null,2703,"3891331",1,null,1000,8000,1,6,30,null,null,"2026-05-20","細川",null,null,null,"211"]
[null,null,null,null,null,null,null,null,null,null,null,null,null,null,null,null,null,null,null,null,null,null,null,null,"MCP","2703","N","S","3R",null,2703,"3891332",1,null,1020,4000,1,1,13,null,null,"2026-05-20","４０００ｍ余剰分",null,null,null,"211"]
[null,null,null,null,null,null,null,null,null,null,null,null,null,null,null,null,null,null,null,null,null,null,null,null,"MCP","2703","N","S","3R",null,2703,"3891333",1,null,1000,4000,1,1,5,null,null,"2026-05-20","４０００ｍ余剰分",null,null,null,"211"]
[]
[null,null,null,null,null,null,null,null,null,"9041",9041,null,null,20,null,2080,null,null,53000,null,null,1,null,null,"MCP","2703","N","S","3R",null,2703,"3891338",1,null,840,4000,1,13,12,null,null,"2026-05-20",null,null,null,null,"211"]
[null,null,null,null,null,null,null,null,null,null,null,null,null,null,null,null,null,null,null,null,null,null,null,null,"MCP","2703","N","S","3R",null,2703,"3891339",1,null,1200,4000,1,13,84,null,null,"2026-05-20",null,null,null,null,"211"]
[]
[null,null,null,null,null,null,null,null,null,"9041",9041,null,null,20,null,2080,null,null,53000,null,null,1,null,null,"MCP","2703","N","S","3R",null,2703,"3891342",1,null,1020,8000,1,12,72,null,null,"2026-05-20","細川",null,null,null,"211"]
[null,null,null,null,null,null,null,null,null,null,null,null,null,null,null,null,null,null,null,null,null,null,null,null,"MCP","2703","N","S","3R",null,2703,"3891343",1,null,1020,4000,1,2,13,null,null,"2026-05-20","４０００ｍ余剰分",null,null,null,"211"]
[]
[null,null,null,null,null,null,null,null,null,"9041",9041,null,null,20,null,2100,null,null,53000,null,null,1,null,null,"MCP","2703","N","S","3R",null,2703,"3891346",1,null,1020,8000,1,6,72,null,null,"2026-05-20","細川",null,null,null,"211"]
[null,null,null,null,null,null,null,null,null,null,null,null,null,null,null,null,null,null,null,null,null,null,null,null,"MCP","2703","N","S","3R",null,2703,"3891347",1,null,1040,8000,1,6,84,null,null,"2026-05-20","細川",null,null,null,"211"]
[null,null,null,null,null,null,null,null,null,null,null,null,null,null,null,null,null,null,null,null,null,null,null,null,"MCP","2703","N","S","3R",null,2703,"3891348",1,null,1040,4000,1,1,12,null,null,"2026-05-20","４０００ｍ余剰分",null,null,null,"211"]
[null,null,null,null,null,null,null,null,null,null,null,null,null,null,null,null,null,null,null,null,null,null,null,null,"MCP","2703","N","S","3R",null,2703,"3891349",1,null,1020,4000,1,1,13,null,null,"2026-05-20","４０００ｍ余剰分",null,null,null,"211"]
[]
[null,null,null,null,null,null,null,null,null,"9041",9041,null,null,20,null,2100,null,null,53000,null,null,1,null,null,"MCP","2703","N","S","3R",null,2703,"3891354",1,null,1000,8000,1,6,30,null,null,"2026-05-20","細川",null,null,null,"211"]
[null,null,null,null,null,null,null,null,null,null,null,null,null,null,null,null,null,null,null,null,null,null,null,null,"MCP","2703","N","S","3R",null,2703,"3891355",1,null,1060,8000,1,6,12,null,null,"2026-05-20","細川",null,null,null,"211"]
[null,null,null,null,null,null,null,null,null,null,null,null,null,null,null,null,null,null,null,null,null,null,null,null,"MCP","2703","N","S","3R",null,2703,"3891356",1,null,1060,4000,1,1,2,null,null,"2026-05-20","４０００ｍ余剰分",null,null,null,"211"]
[null,null,null,null,null,null,null,null,null,null,null,null,null,null,null,null,null,null,null,null,null,null,null,null,"MCP","2703","N","S","3R",null,2703,"3891357",1,null,1000,4000,1,1,5,null,null,"2026-05-20","４０００ｍ余剰分",null,null,null,"211"]
[]
[null,null,null,null,null,null,null,null,null,"9041",9041,null,null,20,null,2320,null,null,49000,null,null,1,null,null,"MCP","2703","N","S","3R",null,2703,"3891359",1,null,1080,4000,1,12,12,null,null,"2026-05-20","細川",null,null,null,"211"]
[null,null,null,null,null,null,null,null,null,null,null,null,null,null,null,null,null,null,null,null,null,null,null,null,"MCP","2703","N","S","3R",null,2703,"3891360",1,null,1200,4000,1,12,84,null,null,"2026-05-20",null,null,null,null,"211"]
[]
[null,null,null,null,null,null,null,null,null,"9041",9041,null,null,20,null,2280,null,null,49000,null,null,1,null,null,"MCP","2703","N","S","3R",null,2703,"3891362",1,null,1040,4000,1,12,36,null,null,"2026-05-20","細川",null,null,null,"211"]
[null,null,null,null,null,null,null,null,null,null,null,null,null,null,null,null,null,null,null,null,null,null,null,null,"MCP","2703","N","S","3R",null,2703,"3891363",1,null,1200,4000,1,12,84,null,null,"2026-05-20",null,null,null,null,"211"]
[]
[null,null,null,null,null,null,null,null,null,"9041",9041,null,null,20,null,1980,null,null,53000,null,null,1,null,null,"MCP","2703","N","S","3R",null,2703,"3891370",1,null,900,8000,1,6,12,null,null,"2026-05-20","ユーザーフリー",null,null,null,"213"]
[null,null,null,null,null,null,null,null,null,null,null,null,null,null,null,null,null,null,null,null,null,null,null,null,"MCP","2703","N","S","3R",null,2703,"3891371",1,null,1040,8000,1,6,84,null,null,"2026-05-20","細川",null,null,null,"211"]
[null,null,null,null,null,null,null,null,null,null,null,null,null,null,null,null,null,null,null,null,null,null,null,null,"MCP","2703","N","S","3R",null,2703,"3891372",1,null,1040,4000,1,1,12,null,null,"2026-05-20","４０００ｍ余剰分",null,null,null,"211"]
[null,null,null,null,null,null,null,null,null,null,null,null,null,null,null,null,null,null,null,null,null,null,null,null,"MCP","2703","N","S","3R",null,2703,"3891373",1,null,900,4000,1,1,2,null,null,"2026-05-20","４０００ｍ余剰分",null,null,null,"213"]
[]
[null,null,null,null,null,null,null,null,null,"9041",9041,null,null,20,null,1980,null,null,53000,null,null,1,null,null,"MCP","2703","N","S","3R",null,2703,"3891378",1,null,980,8000,1,6,30,null,null,"2026-05-20","ユーザーフリー",null,null,null,"213"]
[null,null,null,null,null,null,null,null,null,null,null,null,null,null,null,null,null,null,null,null,null,null,null,null,"MCP","2703","N","S","3R",null,2703,"3891379",1,null,960,8000,1,6,54,null,null,"2026-05-20","細川",null,null,null,"211"]
[null,null,null,null,null,null,null,null,null,null,null,null,null,null,null,null,null,null,null,null,null,null,null,null,"MCP","2703","N","S","3R",null,2703,"3891380",1,null,980,4000,1,1,5,null,null,"2026-05-20","４０００ｍ余剰分",null,null,null,"213"]
[null,null,null,null,null,null,null,null,null,null,null,null,null,null,null,null,null,null,null,null,null,null,null,null,"MCP","2703","N","S","3R",null,2703,"3891381",1,null,960,4000,1,1,9,null,null,"2026-05-20","４０００ｍ余剰分",null,null,null,"211"]
[]
[null,null,null,null,null,null,null,null,null,"9041",9041,null,null,20,null,2000,null,null,53000,null,null,1,null,null,"MCP","2703","N","S","3R",null,2703,"3891384",1,null,980,8000,1,6,30,null,null,"2026-05-20","ユーザーフリー",null,null,null,"213"]
[null,null,null,null,null,null,null,null,null,null,null,null,null,null,null,null,null,null,null,null,null,null,null,null,"MCP","2703","N","S","3R",null,2703,"3891385",1,null,980,8000,1,6,18,null,null,"2026-05-20","ＤＦ４・６指定",null,null,null,"216"]
[null,null,null,null,null,null,null,null,null,null,null,null,null,null,null,null,null,null,null,null,null,null,null,null,"MCP","2703","N","S","3R",null,2703,"3891386",1,null,980,4000,1,1,5,null,null,"2026-05-20","４０００ｍ余剰分",null,null,null,"213"]
[null,null,null,null,null,null,null,null,null,null,null,null,null,null,null,null,null,null,null,null,null,null,null,null,"MCP","2703","N","S","3R",null,2703,"3891387",1,null,980,4000,1,1,3,null,null,"2026-05-20","４０００ｍ余剰分",null,null,null,"216"]
[]
[null,null,null,null,null,null,null,null,null,"9041",9041,null,null,20,null,2040,null,null,53000,null,null,1,null,null,"MCP","2703","N","S","3R",null,2703,"3891390",1,null,980,4000,1,13,12,null,null,"2026-05-20","真丸",null,null,null,"214"]
[null,null,null,null,null,null,null,null,null,null,null,null,null,null,null,null,null,null,null,null,null,null,null,null,"MCP","2703","N","S","3R",null,2703,"3891391",1,null,1020,4000,1,13,24,null,null,"2026-05-20","細川",null,null,null,"211"]
[]
[null,null,null,null,null,null,null,null,null,"9041",9041,null,null,20,null,2060,null,null,53000,null,null,1,null,null,"MCP","2703","N","S","3R",null,2703,"3891396",1,null,900,8000,1,6,12,null,null,"2026-05-20","ユーザーフリー",null,null,null,"213"]
[null,null,null,null,null,null,null,null,null,null,null,null,null,null,null,null,null,null,null,null,null,null,null,null,"MCP","2703","N","S","3R",null,2703,"3891397",1,null,1120,8000,1,6,18,null,null,"2026-05-20","細川",null,null,null,"211"]
[null,null,null,null,null,null,null,null,null,null,null,null,null,null,null,null,null,null,null,null,null,null,null,null,"MCP","2703","N","S","3R",null,2703,"3891398",1,null,1120,4000,1,1,2,null,null,"2026-05-20","４０００ｍ余剰分",null,null,null,"211"]
[null,null,null,null,null,null,null,null,null,null,null,null,null,null,null,null,null,null,null,null,null,null,null,null,"MCP","2703","N","S","3R",null,2703,"3891399",1,null,900,4000,1,1,2,null,null,"2026-05-20","４０００ｍ余剰分",null,null,null,"213"]
[]
[null,null,null,null,null,null,null,null,null,"9041",9041,null,null,20,null,2080,null,null,53000,null,null,1,null,null,"MCP","2703","N","S","3R",null,2703,"3891402",1,null,980,8000,1,6,18,null,null,"2026-05-20","ＤＦ４・６指定",null,null,null,"216"]
[null,null,null,null,null,null,null,null,null,null,null,null,null,null,null,null,null,null,null,null,null,null,null,null,"MCP","2703","N","S","3R",null,2703,"3891403",1,null,1060,8000,1,6,12,null,null,"2026-05-20","細川",null,null,null,"211"]
[null,null,null,null,null,null,null,null,null,null,null,null,null,null,null,null,null,null,null,null,null,null,null,null,"MCP","2703","N","S","3R",null,2703,"3891404",1,null,1060,4000,1,1,2,null,null,"2026-05-20","４０００ｍ余剰分",null,null,null,"211"]
[null,null,null,null,null,null,null,null,null,null,null,null,null,null,null,null,null,null,null,null,null,null,null,null,"MCP","2703","N","S","3R",null,2703,"3891405",1,null,980,4000,1,1,3,null,null,"2026-05-20","４０００ｍ余剰分",null,null,null,"216"]
[]
[null,null,null,null,null,null,null,null,null,"9041",9041,null,null,20,null,2100,null,null,53000,null,null,1,null,null,"MCP","2703","N","S","3R",null,2703,"3891408",1,null,980,8000,1,6,18,null,null,"2026-05-20","ＤＦ４・６指定",null,null,null,"216"]
[null,null,null,null,null,null,null,null,null,null,null,null,null,null,null,null,null,null,null,null,null,null,null,null,"MCP","2703","N","S","3R",null,2703,"3891409",1,null,1080,8000,1,6,6,null,null,"2026-05-20","細川",null,null,null,"211"]
[null,null,null,null,null,null,null,null,null,null,null,null,null,null,null,null,null,null,null,null,null,null,null,null,"MCP","2703","N","S","3R",null,2703,"3891410",1,null,1080,4000,1,1,1,null,null,"2026-05-20","４０００ｍ余剰分",null,null,null,"211"]
[null,null,null,null,null,null,null,null,null,null,null,null,null,null,null,null,null,null,null,null,null,null,null,null,"MCP","2703","N","S","3R",null,2703,"3891411",1,null,980,4000,1,1,3,null,null,"2026-05-20","４０００ｍ余剰分",null,null,null,"216"]
[]
[null,null,null,null,null,null,null,null,null,"9041",9041,null,null,20,null,1880,null,null,49000,null,null,1,null,null,"MCP","2703","N","S","3R",null,2703,"3891416",1,null,900,8000,1,6,30,null,null,"2026-05-20","細川",null,null,null,"211"]
[null,null,null,null,null,null,null,null,null,null,null,null,null,null,null,null,null,null,null,null,null,null,null,null,"MCP","2703","N","S","3R",null,2703,"3891417",1,null,940,8000,1,6,12,null,null,"2026-05-20","細川",null,null,null,"211"]
[]
[null,null,null,null,null,null,null,null,null,"9041",9041,null,null,20,null,2020,null,null,53000,null,null,1,null,null,"MCP","2703","N","S","3R",null,2703,"3891420",1,null,940,8000,1,6,12,null,null,"2026-05-20","細川",null,null,null,"211"]
[null,null,null,null,null,null,null,null,null,null,null,null,null,null,null,null,null,null,null,null,null,null,null,null,"MCP","2703","N","S","3R",null,2703,"3891421",1,null,1040,8000,1,6,84,null,null,"2026-05-20","細川",null,null,null,"211"]
[null,null,null,null,null,null,null,null,null,null,null,null,null,null,null,null,null,null,null,null,null,null,null,null,"MCP","2703","N","S","3R",null,2703,"3891422",1,null,1040,4000,1,1,12,null,null,"2026-05-20","４０００ｍ余剰分",null,null,null,"211"]
[null,null,null,null,null,null,null,null,null,null,null,null,null,null,null,null,null,null,null,null,null,null,null,null,"MCP","2703","N","S","3R",null,2703,"3891423",1,null,940,4000,1,1,1,null,null,"2026-05-20","４０００ｍ余剰分",null,null,null,"211"]
[]
[null,null,null,null,null,null,null,null,null,"9041",9041,null,null,20,null,2040,null,null,53000,null,null,1,null,null,"MCP","2703","N","S","3R",null,2703,"3891428",1,null,980,8000,1,6,48,null,null,"2026-05-20","細川",null,null,null,"211"]
[null,null,null,null,null,null,null,null,null,null,null,null,null,null,null,null,null,null,null,null,null,null,null,null,"MCP","2703","N","S","3R",null,2703,"3891429",1,null,1020,8000,1,6,72,null,null,"2026-05-20","細川",null,null,null,"211"]
[null,null,null,null,null,null,null,null,null,null,null,null,null,null,null,null,null,null,null,null,null,null,null,null,"MCP","2703","N","S","3R",null,2703,"3891430",1,null,1020,4000,1,1,13,null,null,"2026-05-20","４０００ｍ余剰分",null,null,null,"211"]
[null,null,null,null,null,null,null,null,null,null,null,null,null,null,null,null,null,null,null,null,null,null,null,null,"MCP","2703","N","S","3R",null,2703,"3891431",1,null,980,4000,1,1,8,null,null,"2026-05-20","４０００ｍ余剰分",null,null,null,"211"]
[]
[null,null,null,null,null,null,null,null,null,"9041",9041,null,null,20,null,2020,null,null,53000,null,null,1,null,null,"MCP","2703","N","S","3R",null,2703,"3891435",1,null,1000,4000,1,13,12,null,null,"2026-05-20","ユーザーフリー",null,null,null,"213"]
[null,null,null,null,null,null,null,null,null,null,null,null,null,null,null,null,null,null,null,null,null,null,null,null,"MCP","2703","N","S","3R",null,2703,"3891436",1,null,980,4000,1,13,36,null,null,"2026-05-20","細川",null,null,null,"211"]
[]
[null,null,null,null,null,null,null,null,null,"9041",9041,null,null,20,null,2200,null,null,49000,null,null,1,null,null,"MCP","2703","N","S","3R",null,2703,"3891439",1,null,1040,8000,1,6,84,null,null,"2026-05-20","細川",null,null,null,"211"]

{"sheet":"CPP ＃25 4000","index":6,"n_rows":71,"n_cols":25,"rows_kept":71,"cut":false,"hidden":true,"merged":[[0,7,1,10],[43,2,43,7],[43,8,43,13],[70,1,70,4],[68,1,68,4],[68,5,68,8],[68,9,68,12],[68,13,68,16],[68,17,68,21],[69,1,69,4],[69,5,69,8],[69,9,69,12],[69,13,69,16],[69,17,69,21],[60,7,60,16],[60,17,60,19],[58,4,58,5],[58,7,58,16],[58,17,58,19],[59,4,59,5],[59,7,59,16],[59,17,59,19],[55,16,55,19],[55,20,55,22],[56,4,56,5],[57,4,57,5],[57,7,57,16],[57,17,57,19],[55,4,55,5],[55,6,55,7],[55,8,55,9],[55,10,55,11],[55,12,55,13],[55,14,55,15],[53,1,54,6],[53,7,53,10],[53,11,54,12],[53,13,54,13],[53,14,54,15],[53,16,54,22],[54,7,54,10],[46,13,46,14],[47,1,47,2],[47,3,47,4],[47,5,47,6],[47,7,47,8],[47,9,47,10],[47,11,47,12],[47,13,47,14],[46,1,46,2],[46,3,46,4],[46,5,46,6],[46,7,46,8],[46,9,46,10],[46,11,46,12],[44,1,44,14],[45,1,45,2],[45,3,45,4],[45,5,45,6],[45,7,45,8],[45,9,45,10],[45,11,45,12],[45,13,45,14],[39,15,39,22],[42,15,42,18],[42,19,42,22],[43,15,43,18],[43,19,43,22],[40,18,40,20],[41,18,41,20],[31,15,31,22],[32,15,32,18],[32,19,32,20],[32,21,32,22],[33,15,33,22],[34,15,34,22],[24,15,24,17],[24,18,24,22],[25,15,25,17],[25,18,25,22],[26,15,30,15],[26,16,26,18],[27,16,27,18],[28,16,28,18],[29,16,29,18],[30,16,30,18],[27,19,27,20],[27,21,27,22],[28,19,28,22],[29,19,29,20],[30,19,30,20],[26,21,26,22],[21,15,21,17],[21,18,21,22],[22,15,22,17],[22,18,22,22],[23,15,23,17],[23,18,23,22],[18,15,18,17],[18,18,18,22],[19,15,19,17],[19,18,19,22],[20,15,20,17],[20,18,20,22],[15,1,15,5],[15,8,15,11],[15,12,15,14],[15,16,15,18],[15,20,15,22],[16,1,17,1],[16,15,17,15],[16,16,17,18],[16,19,17,19],[16,20,17,22],[14,1,14,5],[14,6,14,7],[14,8,14,11],[14,12,14,14],[14,15,14,18],[14,19,14,22],[13,2,13,3],[13,4,13,5],[13,6,13,7],[13,11,13,14],[13,15,13,17],[13,18,13,20],[12,2,12,3],[12,4,12,5],[12,6,12,7],[12,11,12,14],[12,15,12,17],[12,18,12,20],[11,2,11,3],[11,4,11,5],[11,6,11,7],[11,11,11,14],[11,15,11,17],[11,18,11,20],[10,2,10,3],[10,4,10,5],[10,6,10,7],[10,11,10,14],[10,15,10,17],[10,18,10,20],[9,2,9,3],[9,4,9,5],[9,6,9,7],[9,11,9,14],[9,15,9,17],[9,18,9,20],[8,2,8,3],[8,4,8,5],[8,6,8,7],[8,11,8,14],[8,15,8,17],[8,18,8,20],[7,2,7,3],[7,4,7,5],[7,6,7,7],[7,11,7,14],[7,15,7,17],[7,18,7,20],[2,14,2,15],[6,2,6,3],[6,4,6,5],[6,6,6,7],[6,11,6,14],[6,15,6,17],[6,18,6,20],[5,2,5,3],[5,4,5,5],[5,6,5,7],[5,11,5,14],[5,15,5,17],[5,18,5,20],[0,1,1,6],[0,11,1,12],[0,13,1,13],[0,14,1,15],[0,16,1,22],[4,2,4,3],[4,4,4,5],[4,6,4,7],[4,11,4,14],[4,15,4,17],[4,18,4,20],[2,16,2,19],[2,20,2,22],[3,2,3,3],[3,4,3,5],[3,6,3,7],[3,11,3,14],[3,15,3,17],[3,18,3,20],[2,4,2,5],[2,6,2,7],[2,8,2,9],[2,10,2,11],[2,12,2,13]]}
[null,"スリット伝票　ＬＯＴ",null,null,null,null,null,{"$f":"②OP記入欄改!$D$5","v":60331356011},null,null,null,"製区",null,{"$f":"②OP記入欄改!$D$7","v":"T"},"品種",null,{"$f":"②OP記入欄改!$D$8","v":"CPP 2203"}]
[]
[null,"番手",null,{"$f":"②OP記入欄改!$D$9","v":25},"原反名",null,{"$f":"②OP記入欄改!$D$10","v":"9021A3"},null,"原反幅",null,{"$f":"②OP記入欄改!$D$11","v":1960},null,"原反長",null,{"$f":"②OP記入欄改!$D$12","v":45000},null,"前工程M/C",null,null,null,{"$f":"②OP記入欄改!$D$13","v":"DF6"}]
[null,null,{"$f":"②OP記入欄改!G3","v":"仕向先"},null,{"$f":"②OP記入欄改!I3","v":"製品幅"},null,{"$f":"②OP記入欄改!K3","v":"製品長さ"},null,{"$f":"②OP記入欄改!M3","v":"計本"},{"$f":"②OP記入欄改!N3","v":"実"},{"$f":"②OP記入欄改!O3","v":"梱形"},"Ａ保枝番",null,null,null,"ミル枝番",null,null,"Ｂ級枝番",null,null,"ロック\nシャフト","コア"]
[null,{"$f":"②OP記入欄改!F4","v":1},{"$f":"②OP記入欄改!G4","v":0},null,{"$f":"②OP記入欄改!I4","v":980},null,{"$f":"②OP記入欄改!K4","v":8000},null,{"$f":"②OP記入欄改!M4","v":5},{"$f":"②OP記入欄改!N4","v":0},{"$f":"②OP記入欄改!O4","v":0},null,null,null,null,null,null,null,null,null,null,"-",3,null,"-"]
[null,{"$f":"②OP記入欄改!F5","v":2},{"$f":"②OP記入欄改!G5","v":0},null,{"$f":"②OP記入欄改!I5","v":940},null,{"$f":"②OP記入欄改!K5","v":8000},null,{"$f":"②OP記入欄改!M5","v":5},{"$f":"②OP記入欄改!N5","v":0},{"$f":"②OP記入欄改!O5","v":0},null,null,null,null,null,null,null,null,null,null,"〇",3,null,"〇"]
[null,{"$f":"②OP記入欄改!F6","v":3},{"$f":"②OP記入欄改!G6","v":0},null,{"$f":"②OP記入欄改!I6","v":980},null,{"$f":"②OP記入欄改!K6","v":4000},null,{"$f":"②OP記入欄改!M6","v":1},{"$f":"②OP記入欄改!N6","v":0}]
[null,{"$f":"②OP記入欄改!F7","v":4},{"$f":"②OP記入欄改!G7","v":0},null,{"$f":"②OP記入欄改!I7","v":940},null,{"$f":"②OP記入欄改!K7","v":4000},null,{"$f":"②OP記入欄改!M7","v":1},{"$f":"②OP記入欄改!N7","v":0},{"$f":"②OP記入欄改!O7","v":0}]
[null,{"$f":"②OP記入欄改!F8","v":5},{"$f":"②OP記入欄改!G8","v":0},null,{"$f":"②OP記入欄改!I8","v":0},null,{"$f":"②OP記入欄改!K8","v":0},null,{"$f":"②OP記入欄改!M8","v":0},{"$f":"②OP記入欄改!N8","v":0},{"$f":"②OP記入欄改!O8","v":0}]
[null,{"$f":"②OP記入欄改!F9","v":6},{"$f":"②OP記入欄改!G9","v":0},null,{"$f":"②OP記入欄改!I9","v":0},null,{"$f":"②OP記入欄改!K9","v":0},null,{"$f":"②OP記入欄改!M9","v":0},{"$f":"②OP記入欄改!N9","v":0},{"$f":"②OP記入欄改!O9","v":0}]
[null,{"$f":"②OP記入欄改!F10","v":7},{"$f":"②OP記入欄改!G10","v":0},null,{"$f":"②OP記入欄改!I10","v":0},null,{"$f":"②OP記入欄改!K10","v":0},null,{"$f":"②OP記入欄改!M10","v":0},{"$f":"②OP記入欄改!N10","v":0},{"$f":"②OP記入欄改!O10","v":0}]
[null,{"$f":"②OP記入欄改!F11","v":8},{"$f":"②OP記入欄改!G11","v":0},null,{"$f":"②OP記入欄改!I11","v":0},null,{"$f":"②OP記入欄改!K11","v":0},null,{"$f":"②OP記入欄改!M11","v":0},{"$f":"②OP記入欄改!N11","v":0},{"$f":"②OP記入欄改!O11","v":0}]
[null,{"$f":"②OP記入欄改!F12","v":9},{"$f":"②OP記入欄改!G12","v":0},null,{"$f":"②OP記入欄改!I12","v":0},null,{"$f":"②OP記入欄改!K12","v":0},null,{"$f":"②OP記入欄改!M12","v":0},{"$f":"②OP記入欄改!N12","v":0},{"$f":"②OP記入欄改!O12","v":0}]
[null,{"$f":"②OP記入欄改!F13","v":10},{"$f":"②OP記入欄改!G13","v":0},null,{"$f":"②OP記入欄改!I13","v":0},null,{"$f":"②OP記入欄改!K13","v":0},null,{"$f":"②OP記入欄改!M13","v":0},{"$f":"②OP記入欄改!N13","v":0},{"$f":"②OP記入欄改!O13","v":0}]
[null,"スリット作業指示№",null,null,null,null,"M/C№",null,"加工日",null,null,null,"前工程品質情報",null,null,"切断シフト1",null,null,null,"切断シフト2"]
[null,{"$f":"②OP記入欄改!$D$14","v":43855940001},null,null,null,null,"ＳＬ-",{"$f":"②OP記入欄改!$D$15","v":19},{"$f":"②OP記入欄改!$D$4","v":"2025-10-23"},null,null,null,"確認　　　□",null,null,"組","作業者",null,null,"組","作業者"]
[null,"巻芯\n確認"]
[]
[null,null,null,null,null,null,null,null,null,null,null,null,null,null,null,"切替開始",null,null,"　　　　　時　　　　　分"]
[null,null,null,null,null,null,null,null,null,null,null,null,null,null,null,"切断開始",null,null,"　　　　　時　　　　　分"]
[null,null,null,null,null,null,null,null,null,null,null,null,null,null,null,"切断完了",null,null,"　　　　　時　　　　　分"]
[null,null,null,null,null,null,null,null,null,null,null,null,null,null,null,"食事開始",null,null,"　　　　　時　　　　　分"]
[null,null,null,null,null,null,null,null,null,null,null,null,null,null,null,"食事完了",null,null,"　　　　　時　　　　　分"]
[null,null,null,null,null,null,null,null,null,null,null,null,null,null,null,"停機開始",null,null,"　　　　　時　　　　　分"]
[null,null,null,null,null,null,null,null,null,null,null,null,null,null,null,"停機完了",null,null,"　　　　　時　　　　　分"]
[null,null,null,null,null,null,null,null,null,null,null,null,null,null,null,"停機理由"]
[null,null,null,null,null,null,null,null,null,null,null,null,null,null,null,"条件確認","M/C条件設定",null,null,"呼出№",null,{"$f":"②OP記入欄改!$D$16","v":3}]
[null,null,null,null,null,null,null,null,null,null,null,null,null,null,null,null,"欠点検出機",null,null,"使用条件№",null,{"$f":"②OP記入欄改!$D$17","v":2}]
[null,null,null,null,null,null,null,null,null,null,null,null,null,null,null,null,"速度(m/min)",null,null,480]
[null,null,null,null,null,null,null,null,null,null,null,null,null,null,null,null,"張力(N/ｍ・kg)"]
[null,null,null,null,null,null,null,null,null,null,null,null,null,null,null,null,"接圧(N/ｍ・kg)"]
[null,null,null,null,null,null,null,null,null,null,null,null,null,null,null,"外観確認"]
[null,null,null,null,null,null,null,null,null,null,null,null,null,null,null,"表層透過検査",null,null,null,"OK",null,"NG"]
[null,null,null,null,null,null,null,null,null,null,null,null,null,null,null,"巻姿外観確認[ｽﾀｰﾄ/中間/ﾗｽﾄ]"]
[null,null,null,null,null,null,null,null,null,null,null,null,null,null,null,"各枝番に問題無『〇』問題有『☓』を記載"]
[]
[]
[]
[]
[null,null,null,null,null,null,null,null,null,null,null,null,null,null,null,"※『☓』の場合は展開図に内容を記載する"]
[null,null,null,null,null,null,null,null,null,null,null,null,null,null,null,"検材エッジ",null,null,255]
[null,20,null,null,null,null,null,null,null,null,null,null,null,null,20,"表層ロス",null,null,100,null,null,"m"]
[null,null,null,null,null,null,null,null,null,null,null,null,null,null,null,"レザー/丸刃交換",null,null,null,"レザー/丸刃廃棄"]
[null,null,1020,null,null,null,null,null,980,null,null,null,null,null,null,"　枚",null,null,null,"　　枚"]
[null,"膜厚測定（ＣＰＰ・VMPET・BRPET）",null,null,null,null,null,null,null,null,null,null,null,null,null,"備考"]
[null,"ラスト"]
[null,"1セット表層"]
[null,"1セット芯"]
[]
[]
[]
[]
[]
[null,"スリット伝票　ＬＯＴ",null,null,null,null,null,{"$f":"②OP記入欄改!$D$5","v":60331356011},null,null,null,"製区",null,{"$f":"②OP記入欄改!$D$7","v":"T"},"品種",null,{"$f":"②OP記入欄改!$D$8","v":"CPP 2203"}]
[]
[null,"番手",null,{"$f":"②OP記入欄改!$D$9","v":25},"原反名",null,{"$f":"②OP記入欄改!$D$10","v":"9021A3"},null,"原反幅",null,{"$f":"②OP記入欄改!$D$11","v":1960},null,"原反長",null,{"$f":"②OP記入欄改!$D$12","v":45000},null,"前工程M/C",null,null,null,{"$f":"②OP記入欄改!$D$13","v":"DF6"}]
[null,"停機内容",null,null,null,null,null,"停機詳細",null,null,null,null,null,null,null,null,null,"停機時間"]
[null,"Ｆ破れ",null,null,"有/無",null,null,null,null,null,null,null,null,null,null,null,null,null,null,null,"hr"]
[null,"耳切れ",null,null,"有/無",null,null,null,null,null,null,null,null,null,null,null,null,null,null,null,"hr"]
[null,"紙管切断",null,null,"有/無",null,null,null,null,null,null,null,null,null,null,null,null,null,null,null,"hr"]
[null,"その他停機内容",null,null,null,null,null,null,null,null,null,null,null,null,null,null,null,null,null,null,"hr"]
[null,"備考"]
[]
[]
[]
[]
[]
[null,"外観確認内容"]
[null,"原反ズレ",null,null,null,"当てキズ",null,null,null,"溝ロール痕",null,null,null,"ＴＤスジ",null,null,null,"ピッチキズ"]
[null,"スリキズ",null,null,null,"クボミシワ",null,null,null,"シワムラ",null,null,null,"変色",null,null,null,"巻芯シワ"]
[null,"切断面・異物"]

{"sheet":"CPP＃25 8000","index":7,"n_rows":71,"n_cols":26,"rows_kept":71,"cut":false,"hidden":true,"merged":[[0,7,1,10],[70,1,70,4],[68,1,68,4],[68,5,68,8],[68,9,68,12],[68,13,68,16],[68,17,68,21],[69,1,69,4],[69,5,69,8],[69,9,69,12],[69,13,69,16],[69,17,69,21],[60,7,60,16],[60,17,60,19],[58,4,58,5],[58,7,58,16],[58,17,58,19],[59,4,59,5],[59,7,59,16],[59,17,59,19],[55,16,55,19],[55,20,55,22],[56,4,56,5],[57,4,57,5],[57,7,57,16],[57,17,57,19],[55,4,55,5],[55,6,55,7],[55,8,55,9],[55,10,55,11],[55,12,55,13],[55,14,55,15],[53,1,54,6],[53,7,53,10],[53,11,54,12],[53,13,54,13],[53,14,54,15],[53,16,54,22],[54,7,54,10],[46,13,46,14],[47,1,47,2],[47,3,47,4],[47,5,47,6],[47,7,47,8],[47,9,47,10],[47,11,47,12],[47,13,47,14],[46,1,46,2],[46,3,46,4],[46,5,46,6],[46,7,46,8],[46,9,46,10],[46,11,46,12],[44,1,44,14],[45,1,45,2],[45,3,45,4],[45,5,45,6],[45,7,45,8],[45,9,45,10],[45,11,45,12],[45,13,45,14],[39,15,39,22],[42,15,42,18],[42,19,42,22],[43,15,43,18],[43,19,43,22],[43,2,43,7],[43,8,43,13],[40,18,40,20],[41,18,41,20],[31,15,31,22],[32,15,32,18],[32,19,32,20],[32,21,32,22],[33,15,33,22],[34,15,34,22],[24,15,24,17],[24,18,24,22],[25,15,25,17],[25,18,25,22],[26,15,30,15],[26,16,26,18],[27,16,27,18],[28,16,28,18],[29,16,29,18],[30,16,30,18],[27,19,27,20],[27,21,27,22],[28,19,28,22],[29,19,29,20],[30,19,30,20],[26,21,26,22],[21,15,21,17],[21,18,21,22],[22,15,22,17],[22,18,22,22],[23,15,23,17],[23,18,23,22],[18,15,18,17],[18,18,18,22],[19,15,19,17],[19,18,19,22],[20,15,20,17],[20,18,20,22],[15,1,15,5],[15,8,15,11],[15,12,15,14],[15,16,15,18],[15,20,15,22],[16,1,17,1],[16,15,17,15],[16,16,17,18],[16,19,17,19],[16,20,17,22],[14,1,14,5],[14,6,14,7],[14,8,14,11],[14,12,14,14],[14,15,14,18],[14,19,14,22],[13,2,13,3],[13,4,13,5],[13,6,13,7],[13,11,13,14],[13,15,13,17],[13,18,13,20],[12,2,12,3],[12,4,12,5],[12,6,12,7],[12,11,12,14],[12,15,12,17],[12,18,12,20],[11,2,11,3],[11,4,11,5],[11,6,11,7],[11,11,11,14],[11,15,11,17],[11,18,11,20],[10,2,10,3],[10,4,10,5],[10,6,10,7],[10,11,10,14],[10,15,10,17],[10,18,10,20],[9,2,9,3],[9,4,9,5],[9,6,9,7],[9,11,9,14],[9,15,9,17],[9,18,9,20],[8,2,8,3],[8,4,8,5],[8,6,8,7],[8,11,8,14],[8,15,8,17],[8,18,8,20],[7,2,7,3],[7,4,7,5],[7,6,7,7],[7,11,7,14],[7,15,7,17],[7,18,7,20],[2,14,2,15],[6,2,6,3],[6,4,6,5],[6,6,6,7],[6,11,6,14],[6,15,6,17],[6,18,6,20],[5,2,5,3],[5,4,5,5],[5,6,5,7],[5,11,5,14],[5,15,5,17],[5,18,5,20],[0,1,1,6],[0,11,1,12],[0,13,1,13],[0,14,1,15],[0,16,1,22],[4,2,4,3],[4,4,4,5],[4,6,4,7],[4,11,4,14],[4,15,4,17],[4,18,4,20],[2,16,2,19],[2,20,2,22],[3,2,3,3],[3,4,3,5],[3,6,3,7],[3,11,3,14],[3,15,3,17],[3,18,3,20],[2,4,2,5],[2,6,2,7],[2,8,2,9],[2,10,2,11],[2,12,2,13]]}
[null,"スリット伝票　ＬＯＴ",null,null,null,null,null,{"$f":"②OP記入欄改!$D$5","v":60331356011},null,null,null,"製区",null,{"$f":"②OP記入欄改!$D$7","v":"T"},"品種",null,{"$f":"②OP記入欄改!$D$8","v":"CPP 2203"}]
[]
[null,"番手",null,{"$f":"②OP記入欄改!$D$9","v":25},"原反名",null,{"$f":"②OP記入欄改!$D$10","v":"9021A3"},null,"原反幅",null,{"$f":"②OP記入欄改!$D$11","v":1960},null,"原反長",null,{"$f":"②OP記入欄改!$D$12","v":45000},null,"前工程M/C",null,null,null,{"$f":"②OP記入欄改!$D$13","v":"DF6"}]
[null,null,{"$f":"②OP記入欄改!G3","v":"仕向先"},null,{"$f":"②OP記入欄改!I3","v":"製品幅"},null,{"$f":"②OP記入欄改!K3","v":"製品長さ"},null,{"$f":"②OP記入欄改!M3","v":"計本"},{"$f":"②OP記入欄改!N3","v":"実"},{"$f":"②OP記入欄改!O3","v":"梱形"},"Ａ保枝番",null,null,null,"ミル枝番",null,null,"Ｂ級枝番",null,null,"ロック\nシャフト","コア"]
[null,{"$f":"②OP記入欄改!F4","v":1},{"$f":"②OP記入欄改!G4","v":0},null,{"$f":"②OP記入欄改!I4","v":980},null,{"$f":"②OP記入欄改!K4","v":8000},null,{"$f":"②OP記入欄改!M4","v":5},{"$f":"②OP記入欄改!N4","v":0},{"$f":"②OP記入欄改!O4","v":0},null,null,null,null,null,null,null,null,null,null,"-",3,null,"-"]
[null,{"$f":"②OP記入欄改!F5","v":2},{"$f":"②OP記入欄改!G5","v":0},null,{"$f":"②OP記入欄改!I5","v":940},null,{"$f":"②OP記入欄改!K5","v":8000},null,{"$f":"②OP記入欄改!M5","v":5},{"$f":"②OP記入欄改!N5","v":0},{"$f":"②OP記入欄改!O5","v":0},null,null,null,null,null,null,null,null,null,null,"-",3,null,"〇"]
[null,{"$f":"②OP記入欄改!F6","v":3},{"$f":"②OP記入欄改!G6","v":0},null,{"$f":"②OP記入欄改!I6","v":980},null,{"$f":"②OP記入欄改!K6","v":4000},null,{"$f":"②OP記入欄改!M6","v":1},{"$f":"②OP記入欄改!N6","v":0},{"$f":"②OP記入欄改!O6","v":0}]
[null,{"$f":"②OP記入欄改!F7","v":4},{"$f":"②OP記入欄改!G7","v":0},null,{"$f":"②OP記入欄改!I7","v":940},null,{"$f":"②OP記入欄改!K7","v":4000},null,{"$f":"②OP記入欄改!M7","v":1},{"$f":"②OP記入欄改!N7","v":0},{"$f":"②OP記入欄改!O7","v":0}]
[null,{"$f":"②OP記入欄改!F8","v":5},{"$f":"②OP記入欄改!G8","v":0},null,{"$f":"②OP記入欄改!I8","v":0},null,{"$f":"②OP記入欄改!K8","v":0},null,{"$f":"②OP記入欄改!M8","v":0},{"$f":"②OP記入欄改!N8","v":0},{"$f":"②OP記入欄改!O8","v":0}]
[null,{"$f":"②OP記入欄改!F9","v":6},{"$f":"②OP記入欄改!G9","v":0},null,{"$f":"②OP記入欄改!I9","v":0},null,{"$f":"②OP記入欄改!K9","v":0},null,{"$f":"②OP記入欄改!M9","v":0},{"$f":"②OP記入欄改!N9","v":0},{"$f":"②OP記入欄改!O9","v":0}]
[null,{"$f":"②OP記入欄改!F10","v":7},{"$f":"②OP記入欄改!G10","v":0},null,{"$f":"②OP記入欄改!I10","v":0},null,{"$f":"②OP記入欄改!K10","v":0},null,{"$f":"②OP記入欄改!M10","v":0},{"$f":"②OP記入欄改!N10","v":0},{"$f":"②OP記入欄改!O10","v":0}]
[null,{"$f":"②OP記入欄改!F11","v":8},{"$f":"②OP記入欄改!G11","v":0},null,{"$f":"②OP記入欄改!I11","v":0},null,{"$f":"②OP記入欄改!K11","v":0},null,{"$f":"②OP記入欄改!M11","v":0},{"$f":"②OP記入欄改!N11","v":0},{"$f":"②OP記入欄改!O11","v":0}]
[null,{"$f":"②OP記入欄改!F12","v":9},{"$f":"②OP記入欄改!G12","v":0},null,{"$f":"②OP記入欄改!I12","v":0},null,{"$f":"②OP記入欄改!K12","v":0},null,{"$f":"②OP記入欄改!M12","v":0},{"$f":"②OP記入欄改!N12","v":0},{"$f":"②OP記入欄改!O12","v":0}]
[null,{"$f":"②OP記入欄改!F13","v":10},{"$f":"②OP記入欄改!G13","v":0},null,{"$f":"②OP記入欄改!I13","v":0},null,{"$f":"②OP記入欄改!K13","v":0},null,{"$f":"②OP記入欄改!M13","v":0},{"$f":"②OP記入欄改!N13","v":0},{"$f":"②OP記入欄改!O13","v":0}]
[null,"スリット作業指示№",null,null,null,null,"M/C№",null,"加工日",null,null,null,"前工程品質情報",null,null,"切断シフト1",null,null,null,"切断シフト2"]
[null,{"$f":"②OP記入欄改!$D$14","v":43855940001},null,null,null,null,"ＳＬ-",{"$f":"②OP記入欄改!$D$15","v":19},{"$f":"②OP記入欄改!$D$4","v":"2025-10-23"},null,null,null,"確認　　　□",null,null,"組","作業者",null,null,"組","作業者"]
[null,"巻芯\n確認"]
[]
[null,null,null,null,null,null,null,null,null,null,null,null,null,null,null,"切替開始",null,null,"　　　　　時　　　　　分"]
[null,null,null,null,null,null,null,null,null,null,null,null,null,null,null,"切断開始",null,null,"　　　　　時　　　　　分"]
[null,null,null,null,null,null,null,null,null,null,null,null,null,null,null,"切断完了",null,null,"　　　　　時　　　　　分"]
[null,null,null,null,null,null,null,null,null,null,null,null,null,null,null,"食事開始",null,null,"　　　　　時　　　　　分"]
[null,null,null,null,null,null,null,null,null,null,null,null,null,null,null,"食事完了",null,null,"　　　　　時　　　　　分"]
[null,null,null,null,null,null,null,null,null,null,null,null,null,null,null,"停機開始",null,null,"　　　　　時　　　　　分"]
[null,null,null,null,null,null,null,null,null,null,null,null,null,null,null,"停機完了",null,null,"　　　　　時　　　　　分"]
[null,null,null,null,null,null,null,null,null,null,null,null,null,null,null,"停機理由"]
[null,null,null,null,null,null,null,null,null,null,null,null,null,null,null,"条件確認","M/C条件設定",null,null,"呼出№",null,{"$f":"②OP記入欄改!$D$16","v":3}]
[null,null,null,null,null,null,null,null,null,null,null,null,null,null,null,null,"欠点検出機",null,null,"使用条件№",null,{"$f":"②OP記入欄改!$D$17","v":2}]
[null,null,null,null,null,null,null,null,null,null,null,null,null,null,null,null,"速度(m/min)",null,null,480]
[null,null,null,null,null,null,null,null,null,null,null,null,null,null,null,null,"張力(N/ｍ・kg)"]
[null,null,null,null,null,null,null,null,null,null,null,null,null,null,null,null,"接圧(N/ｍ・kg)"]
[null,null,null,null,null,null,null,null,null,null,null,null,null,null,null,"外観確認"]
[null,null,null,null,null,null,null,null,null,null,null,null,null,null,null,"表層透過検査",null,null,null,"OK",null,"NG"]
[null,null,null,null,null,null,null,null,null,null,null,null,null,null,null,"巻姿外観確認[ｽﾀｰﾄ/中間/ﾗｽﾄ]"]
[null,null,null,null,null,null,null,null,null,null,null,null,null,null,null,"各枝番に問題無『〇』問題有『☓』を記載"]
[]
[]
[]
[]
[null,null,null,null,null,null,null,null,null,null,null,null,null,null,null,"※『☓』の場合は展開図に内容を記載する"]
[null,null,null,null,null,null,null,null,null,null,null,null,null,null,null,"検材エッジ",null,null,275,null,null,null,null,null,null,"　"]
[null,20,null,null,null,null,null,null,null,null,null,null,null,null,20,"表層ロス",null,null,100,null,null,"m"]
[null,null,null,null,null,null,null,null,null,null,null,null,null,null,null,"レザー/丸刃交換",null,null,null,"レザー/丸刃廃棄"]
[null,null,980,null,null,null,null,null,980,null,null,null,null,null,null,"　枚",null,null,null,"　枚"]
[null,"膜厚測定（ＣＰＰ・VMPET・BRPET）",null,null,null,null,null,null,null,null,null,null,null,null,null,"備考"]
[null,"ラスト"]
[null,"1セット表層"]
[null,"1セット芯"]
[]
[]
[]
[]
[]
[null,"スリット伝票　ＬＯＴ",null,null,null,null,null,{"$f":"②OP記入欄改!$D$5","v":60331356011},null,null,null,"製区",null,{"$f":"②OP記入欄改!$D$7","v":"T"},"品種",null,{"$f":"②OP記入欄改!$D$8","v":"CPP 2203"}]
[]
[null,"番手",null,{"$f":"②OP記入欄改!$D$9","v":25},"原反名",null,{"$f":"②OP記入欄改!$D$10","v":"9021A3"},null,"原反幅",null,{"$f":"②OP記入欄改!$D$11","v":1960},null,"原反長",null,{"$f":"②OP記入欄改!$D$12","v":45000},null,"前工程M/C",null,null,null,{"$f":"②OP記入欄改!$D$13","v":"DF6"}]
[null,"停機内容",null,null,null,null,null,"停機詳細",null,null,null,null,null,null,null,null,null,"停機時間"]
[null,"Ｆ破れ",null,null,"有/無",null,null,null,null,null,null,null,null,null,null,null,null,null,null,null,"hr"]
[null,"耳切れ",null,null,"有/無",null,null,null,null,null,null,null,null,null,null,null,null,null,null,null,"hr"]
[null,"紙管切断",null,null,"有/無",null,null,null,null,null,null,null,null,null,null,null,null,null,null,null,"hr"]
[null,"その他停機内容",null,null,null,null,null,null,null,null,null,null,null,null,null,null,null,null,null,null,"hr"]
[null,"備考"]
[]
[]
[]
[]
[]
[null,"外観確認内容"]
[null,"原反ズレ",null,null,null,"当てキズ",null,null,null,"溝ロール痕",null,null,null,"ＴＤスジ",null,null,null,"ピッチキズ"]
[null,"スリキズ",null,null,null,"クボミシワ",null,null,null,"シワムラ",null,null,null,"変色",null,null,null,"巻芯シワ"]
[null,"切断面・異物"]

{"sheet":"CPＰ #25 4000 3丁","index":8,"n_rows":71,"n_cols":25,"rows_kept":71,"cut":false,"hidden":true,"merged":[[0,7,1,10],[70,1,70,4],[68,1,68,4],[68,5,68,8],[68,9,68,12],[68,13,68,16],[68,17,68,21],[69,1,69,4],[69,5,69,8],[69,9,69,12],[69,13,69,16],[69,17,69,21],[60,7,60,16],[60,17,60,19],[58,4,58,5],[58,7,58,16],[58,17,58,19],[59,4,59,5],[59,7,59,16],[59,17,59,19],[55,16,55,19],[55,20,55,22],[56,4,56,5],[57,4,57,5],[57,7,57,16],[57,17,57,19],[55,4,55,5],[55,6,55,7],[55,8,55,9],[55,10,55,11],[55,12,55,13],[55,14,55,15],[53,1,54,6],[53,7,53,10],[53,11,54,12],[53,13,54,13],[53,14,54,15],[53,16,54,22],[54,7,54,10],[46,13,46,14],[47,1,47,2],[47,3,47,4],[47,5,47,6],[47,7,47,8],[47,9,47,10],[47,11,47,12],[47,13,47,14],[46,1,46,2],[46,3,46,4],[46,5,46,6],[46,7,46,8],[46,9,46,10],[46,11,46,12],[44,1,44,14],[45,1,45,2],[45,3,45,4],[45,5,45,6],[45,7,45,8],[45,9,45,10],[45,11,45,12],[45,13,45,14],[39,15,39,22],[42,15,42,18],[42,19,42,22],[43,15,43,18],[43,19,43,22],[43,3,43,4],[43,7,43,8],[43,11,43,12],[40,18,40,20],[41,18,41,20],[31,15,31,22],[32,15,32,18],[32,19,32,20],[32,21,32,22],[33,15,33,22],[34,15,34,22],[24,15,24,17],[24,18,24,22],[25,15,25,17],[25,18,25,22],[26,15,30,15],[26,16,26,18],[27,16,27,18],[28,16,28,18],[29,16,29,18],[30,16,30,18],[27,19,27,20],[27,21,27,22],[28,19,28,22],[29,19,29,22],[30,19,30,22],[26,21,26,22],[21,15,21,17],[21,18,21,22],[22,15,22,17],[22,18,22,22],[23,15,23,17],[23,18,23,22],[18,15,18,17],[18,18,18,22],[19,15,19,17],[19,18,19,22],[20,15,20,17],[20,18,20,22],[15,1,15,5],[15,8,15,11],[15,12,15,14],[15,16,15,18],[15,20,15,22],[16,1,17,1],[16,15,17,15],[16,16,17,18],[16,19,17,19],[16,20,17,22],[14,1,14,5],[14,6,14,7],[14,8,14,11],[14,12,14,14],[14,15,14,18],[14,19,14,22],[13,2,13,3],[13,4,13,5],[13,6,13,7],[13,11,13,14],[13,15,13,17],[13,18,13,20],[12,2,12,3],[12,4,12,5],[12,6,12,7],[12,11,12,14],[12,15,12,17],[12,18,12,20],[11,2,11,3],[11,4,11,5],[11,6,11,7],[11,11,11,14],[11,15,11,17],[11,18,11,20],[10,2,10,3],[10,4,10,5],[10,6,10,7],[10,11,10,14],[10,15,10,17],[10,18,10,20],[9,2,9,3],[9,4,9,5],[9,6,9,7],[9,11,9,14],[9,15,9,17],[9,18,9,20],[8,2,8,3],[8,4,8,5],[8,6,8,7],[8,11,8,14],[8,15,8,17],[8,18,8,20],[7,2,7,3],[7,4,7,5],[7,6,7,7],[7,11,7,14],[7,15,7,17],[7,18,7,20],[2,14,2,15],[6,2,6,3],[6,4,6,5],[6,6,6,7],[6,11,6,14],[6,15,6,17],[6,18,6,20],[5,2,5,3],[5,4,5,5],[5,6,5,7],[5,11,5,14],[5,15,5,17],[5,18,5,20],[0,1,1,6],[0,11,1,12],[0,13,1,13],[0,14,1,15],[0,16,1,22],[4,2,4,3],[4,4,4,5],[4,6,4,7],[4,11,4,14],[4,15,4,17],[4,18,4,20],[2,16,2,19],[2,20,2,22],[3,2,3,3],[3,4,3,5],[3,6,3,7],[3,11,3,14],[3,15,3,17],[3,18,3,20],[2,4,2,5],[2,6,2,7],[2,8,2,9],[2,10,2,11],[2,12,2,13]]}
[null,"スリット伝票　ＬＯＴ",null,null,null,null,null,{"$f":"②OP記入欄改!$D$5","v":60331356011},null,null,null,"製区",null,{"$f":"②OP記入欄改!$D$7","v":"T"},"品種",null,{"$f":"②OP記入欄改!$D$8","v":"CPP 2203"}]
[]
[null,"番手",null,{"$f":"②OP記入欄改!$D$9","v":25},"原反名",null,{"$f":"②OP記入欄改!$D$10","v":"9021A3"},null,"原反幅",null,{"$f":"②OP記入欄改!$D$11","v":1960},null,"原反長",null,{"$f":"②OP記入欄改!$D$12","v":45000},null,"前工程M/C",null,null,null,{"$f":"②OP記入欄改!$D$13","v":"DF6"}]
[null,null,{"$f":"②OP記入欄改!G3","v":"仕向先"},null,{"$f":"②OP記入欄改!I3","v":"製品幅"},null,{"$f":"②OP記入欄改!K3","v":"製品長さ"},null,{"$f":"②OP記入欄改!M3","v":"計本"},{"$f":"②OP記入欄改!N3","v":"実"},{"$f":"②OP記入欄改!O3","v":"梱形"},"Ａ保枝番",null,null,null,"ミル枝番",null,null,"Ｂ級枝番",null,null,"ロック\nシャフト","コア"]
[null,{"$f":"②OP記入欄改!F4","v":1},{"$f":"②OP記入欄改!G4","v":0},null,{"$f":"②OP記入欄改!I4","v":980},null,{"$f":"②OP記入欄改!K4","v":8000},null,{"$f":"②OP記入欄改!M4","v":5},{"$f":"②OP記入欄改!N4","v":0},{"$f":"②OP記入欄改!O4","v":0},null,null,null,null,null,null,null,null,null,null,"-",3,null,"-"]
[null,{"$f":"②OP記入欄改!F5","v":2},{"$f":"②OP記入欄改!G5","v":0},null,{"$f":"②OP記入欄改!I5","v":940},null,{"$f":"②OP記入欄改!K5","v":8000},null,{"$f":"②OP記入欄改!M5","v":5},{"$f":"②OP記入欄改!N5","v":0},{"$f":"②OP記入欄改!O5","v":0},null,null,null,null,null,null,null,null,null,null,"-",3,null,"〇"]
[null,{"$f":"②OP記入欄改!F6","v":3},{"$f":"②OP記入欄改!G6","v":0},null,{"$f":"②OP記入欄改!I6","v":980},null,{"$f":"②OP記入欄改!K6","v":4000},null,{"$f":"②OP記入欄改!M6","v":1},{"$f":"②OP記入欄改!N6","v":0},{"$f":"②OP記入欄改!O6","v":0},null,null,null,null,null,null,null,null,null,null,"-",3]
[null,{"$f":"②OP記入欄改!F7","v":4},{"$f":"②OP記入欄改!G7","v":0},null,{"$f":"②OP記入欄改!I7","v":940},null,{"$f":"②OP記入欄改!K7","v":4000},null,{"$f":"②OP記入欄改!M7","v":1},{"$f":"②OP記入欄改!N7","v":0},{"$f":"②OP記入欄改!O7","v":0}]
[null,{"$f":"②OP記入欄改!F8","v":5},{"$f":"②OP記入欄改!G8","v":0},null,{"$f":"②OP記入欄改!I8","v":0},null,{"$f":"②OP記入欄改!K8","v":0},null,{"$f":"②OP記入欄改!M8","v":0},{"$f":"②OP記入欄改!N8","v":0},{"$f":"②OP記入欄改!O8","v":0}]
[null,{"$f":"②OP記入欄改!F9","v":6},{"$f":"②OP記入欄改!G9","v":0},null,{"$f":"②OP記入欄改!I9","v":0},null,{"$f":"②OP記入欄改!K9","v":0},null,{"$f":"②OP記入欄改!M9","v":0},{"$f":"②OP記入欄改!N9","v":0},{"$f":"②OP記入欄改!O9","v":0}]
[null,{"$f":"②OP記入欄改!F10","v":7},{"$f":"②OP記入欄改!G10","v":0},null,{"$f":"②OP記入欄改!I10","v":0},null,{"$f":"②OP記入欄改!K10","v":0},null,{"$f":"②OP記入欄改!M10","v":0},{"$f":"②OP記入欄改!N10","v":0},{"$f":"②OP記入欄改!O10","v":0}]
[null,{"$f":"②OP記入欄改!F11","v":8},{"$f":"②OP記入欄改!G11","v":0},null,{"$f":"②OP記入欄改!I11","v":0},null,{"$f":"②OP記入欄改!K11","v":0},null,{"$f":"②OP記入欄改!M11","v":0},{"$f":"②OP記入欄改!N11","v":0},{"$f":"②OP記入欄改!O11","v":0}]
[null,{"$f":"②OP記入欄改!F12","v":9},{"$f":"②OP記入欄改!G12","v":0},null,{"$f":"②OP記入欄改!I12","v":0},null,{"$f":"②OP記入欄改!K12","v":0},null,{"$f":"②OP記入欄改!M12","v":0},{"$f":"②OP記入欄改!N12","v":0},{"$f":"②OP記入欄改!O12","v":0}]
[null,{"$f":"②OP記入欄改!F13","v":10},{"$f":"②OP記入欄改!G13","v":0},null,{"$f":"②OP記入欄改!I13","v":0},null,{"$f":"②OP記入欄改!K13","v":0},null,{"$f":"②OP記入欄改!M13","v":0},{"$f":"②OP記入欄改!N13","v":0},{"$f":"②OP記入欄改!O13","v":0}]
[null,"スリット作業指示№",null,null,null,null,"M/C№",null,"加工日",null,null,null,"前工程品質情報",null,null,"切断シフト1",null,null,null,"切断シフト2"]
[null,{"$f":"②OP記入欄改!$D$14","v":43855940001},null,null,null,null,"ＳＬ-",{"$f":"②OP記入欄改!$D$15","v":19},{"$f":"②OP記入欄改!$D$4","v":"2025-10-23"},null,null,null,"確認　　　□",null,null,"組","作業者",null,null,"組","作業者"]
[null,"巻芯\n確認"]
[]
[null,null,null,null,null,null,null,null,null,null,null,null,null,null,null,"切替開始",null,null,"　　　　　時　　　　　分"]
[null,null,null,null,null,null,null,null,null,null,null,null,null,null,null,"切断開始",null,null,"　　　　　時　　　　　分"]
[null,null,null,null,null,null,null,null,null,null,null,null,null,null,null,"切断完了",null,null,"　　　　　時　　　　　分"]
[null,null,null,null,null,null,null,null,null,null,null,null,null,null,null,"食事開始",null,null,"　　　　　時　　　　　分"]
[null,null,null,null,null,null,null,null,null,null,null,null,null,null,null,"食事完了",null,null,"　　　　　時　　　　　分"]
[null,null,null,null,null,null,null,null,null,null,null,null,null,null,null,"停機開始",null,null,"　　　　　時　　　　　分"]
[null,null,null,null,null,null,null,null,null,null,null,null,null,null,null,"停機完了",null,null,"　　　　　時　　　　　分"]
[null,null,null,null,null,null,null,null,null,null,null,null,null,null,null,"停機理由"]
[null,null,null,null,null,null,null,null,null,null,null,null,null,null,null,"条件確認","M/C条件設定",null,null,"呼出№",null,{"$f":"②OP記入欄改!$D$16","v":3}]
[null,null,null,null,null,null,null,null,null,null,null,null,null,null,null,null,"欠点検出機",null,null,"使用条件№",null,{"$f":"②OP記入欄改!$D$17","v":2}]
[null,null,null,null,null,null,null,null,null,null,null,null,null,null,null,null,"速度(m/min)",null,null,480]
[null,null,null,null,null,null,null,null,null,null,null,null,null,null,null,null,"張力(N/ｍ・kg)"]
[null,null,null,null,null,null,null,null,null,null,null,null,null,null,null,null,"接圧(N/ｍ・kg)"]
[null,null,null,null,null,null,null,null,null,null,null,null,null,null,null,"外観確認"]
[null,null,null,null,null,null,null,null,null,null,null,null,null,null,null,"表層透過検査",null,null,null,"OK",null,"NG"]
[null,null,null,null,null,null,null,null,null,null,null,null,null,null,null,"巻姿外観確認[ｽﾀｰﾄ/中間/ﾗｽﾄ]"]
[null,null,null,null,null,null,null,null,null,null,null,null,null,null,null,"各枝番に問題無『〇』問題有『☓』を記載"]
[]
[]
[]
[]
[null,null,null,null,null,null,null,null,null,null,null,null,null,null,null,"※『☓』の場合は展開図に内容を記載する"]
[null,null,null,null,null,null,null,null,null,null,null,null,null,null,null,"検材エッジ",null,null,245]
[null,20,null,null,null,null,null,null,null,null,null,null,null,null,20,"表層ロス",null,null,100,null,null,"m"]
[null,null,null,null,null,null,null,null,null,null,null,null,null,null,null,"レザー/丸刃交換",null,null,null,"レザー/丸刃廃棄"]
[null,null,null,580,null,null,null,820,null,null,null,620,null,null,null,"枚",null,null,null,"枚"]
[null,"膜厚測定（ＣＰＰ・VMPET・BRPET）",null,null,null,null,null,null,null,null,null,null,null,null,null,"備考"]
[null,"ラスト"]
[null,"1セット表層"]
[null,"1セット芯"]
[]
[]
[]
[]
[]
[null,"スリット伝票　ＬＯＴ",null,null,null,null,null,{"$f":"②OP記入欄改!$D$5","v":60331356011},null,null,null,"製区",null,{"$f":"②OP記入欄改!$D$7","v":"T"},"品種",null,{"$f":"②OP記入欄改!$D$8","v":"CPP 2203"}]
[]
[null,"番手",null,{"$f":"②OP記入欄改!$D$9","v":25},"原反名",null,{"$f":"②OP記入欄改!$D$10","v":"9021A3"},null,"原反幅",null,{"$f":"②OP記入欄改!$D$11","v":1960},null,"原反長",null,{"$f":"②OP記入欄改!$D$12","v":45000},null,"前工程M/C",null,null,null,{"$f":"②OP記入欄改!$D$13","v":"DF6"}]
[null,"停機内容",null,null,null,null,null,"停機詳細",null,null,null,null,null,null,null,null,null,"停機時間"]
[null,"Ｆ破れ",null,null,"有/無",null,null,null,null,null,null,null,null,null,null,null,null,null,null,null,"hr"]
[null,"耳切れ",null,null,"有/無",null,null,null,null,null,null,null,null,null,null,null,null,null,null,null,"hr"]
[null,"紙管切断",null,null,"有/無",null,null,null,null,null,null,null,null,null,null,null,null,null,null,null,"hr"]
[null,"その他停機内容",null,null,null,null,null,null,null,null,null,null,null,null,null,null,null,null,null,null,"hr"]
[null,"備考"]
[]
[]
[]
[]
[]
[null,"外観確認内容"]
[null,"原反ズレ",null,null,null,"当てキズ",null,null,null,"溝ロール痕",null,null,null,"ＴＤスジ",null,null,null,"ピッチキズ"]
[null,"スリキズ",null,null,null,"クボミシワ",null,null,null,"シワムラ",null,null,null,"変色",null,null,null,"巻芯シワ"]
[null,"切断面・異物"]

{"sheet":"CPP＃25 8000 3丁","index":9,"n_rows":71,"n_cols":25,"rows_kept":71,"cut":false,"hidden":true,"merged":[[70,1,70,4],[68,1,68,4],[68,5,68,8],[68,9,68,12],[68,13,68,16],[68,17,68,21],[69,1,69,4],[69,5,69,8],[69,9,69,12],[69,13,69,16],[69,17,69,21],[60,7,60,16],[60,17,60,19],[58,4,58,5],[58,7,58,16],[58,17,58,19],[59,4,59,5],[59,7,59,16],[59,17,59,19],[55,16,55,19],[55,20,55,22],[56,4,56,5],[57,4,57,5],[57,7,57,16],[57,17,57,19],[55,4,55,5],[55,6,55,7],[55,8,55,9],[55,10,55,11],[55,12,55,13],[55,14,55,15],[53,1,54,6],[53,7,53,10],[53,11,54,12],[53,13,54,13],[53,14,54,15],[53,16,54,22],[54,7,54,10],[46,13,46,14],[47,1,47,2],[47,3,47,4],[47,5,47,6],[47,7,47,8],[47,9,47,10],[47,11,47,12],[47,13,47,14],[46,1,46,2],[46,3,46,4],[46,5,46,6],[46,7,46,8],[46,9,46,10],[46,11,46,12],[44,1,44,14],[45,1,45,2],[45,3,45,4],[45,5,45,6],[45,7,45,8],[45,9,45,10],[45,11,45,12],[45,13,45,14],[39,15,39,22],[42,15,42,18],[42,19,42,22],[43,15,43,18],[43,19,43,22],[40,18,40,20],[43,3,43,4],[43,7,43,8],[43,11,43,12],[41,18,41,20],[31,15,31,22],[32,15,32,18],[32,19,32,20],[32,21,32,22],[33,15,33,22],[34,15,34,22],[24,15,24,17],[24,18,24,22],[25,15,25,17],[25,18,25,22],[26,15,30,15],[26,16,26,18],[27,16,27,18],[28,16,28,18],[29,16,29,18],[30,16,30,18],[27,19,27,20],[27,21,27,22],[28,19,28,22],[29,19,29,20],[30,19,30,20],[26,21,26,22],[21,15,21,17],[21,18,21,22],[22,15,22,17],[22,18,22,22],[23,15,23,17],[23,18,23,22],[18,15,18,17],[18,18,18,22],[19,15,19,17],[19,18,19,22],[20,15,20,17],[20,18,20,22],[15,1,15,5],[15,8,15,11],[15,12,15,14],[15,16,15,18],[15,20,15,22],[16,1,17,1],[16,15,17,15],[16,16,17,18],[16,19,17,19],[16,20,17,22],[14,1,14,5],[14,6,14,7],[14,8,14,11],[14,12,14,14],[14,15,14,18],[14,19,14,22],[13,2,13,3],[13,4,13,5],[13,6,13,7],[13,11,13,14],[13,15,13,17],[13,18,13,20],[12,2,12,3],[12,4,12,5],[12,6,12,7],[12,11,12,14],[12,15,12,17],[12,18,12,20],[11,2,11,3],[11,4,11,5],[11,6,11,7],[11,11,11,14],[11,15,11,17],[11,18,11,20],[10,2,10,3],[10,4,10,5],[10,6,10,7],[10,11,10,14],[10,15,10,17],[10,18,10,20],[9,2,9,3],[9,4,9,5],[9,6,9,7],[9,11,9,14],[9,15,9,17],[9,18,9,20],[8,2,8,3],[8,4,8,5],[8,6,8,7],[8,11,8,14],[8,15,8,17],[8,18,8,20],[7,2,7,3],[7,4,7,5],[7,6,7,7],[7,11,7,14],[7,15,7,17],[7,18,7,20],[2,10,2,11],[2,12,2,13],[2,14,2,15],[6,2,6,3],[6,4,6,5],[6,6,6,7],[6,11,6,14],[6,15,6,17],[6,18,6,20],[5,2,5,3],[5,4,5,5],[5,6,5,7],[5,11,5,14],[5,15,5,17],[5,18,5,20],[0,1,1,6],[0,7,0,10],[0,11,1,12],[0,13,1,13],[0,14,1,15],[0,16,1,22],[1,7,1,10],[4,2,4,3],[4,4,4,5],[4,6,4,7],[4,11,4,14],[4,15,4,17],[4,18,4,20],[2,16,2,19],[2,20,2,22],[3,2,3,3],[3,4,3,5],[3,6,3,7],[3,11,3,14],[3,15,3,17],[3,18,3,20],[2,4,2,5],[2,6,2,7],[2,8,2,9]]}
[null,"スリット伝票　ＬＯＴ",null,null,null,null,null,{"$f":"②OP記入欄改!$D$5","v":60331356011},null,null,null,"製区",null,{"$f":"②OP記入欄改!$D$7","v":"T"},"品種",null,{"$f":"②OP記入欄改!$D$8","v":"CPP 2203"}]
[]
[null,"番手",null,{"$f":"②OP記入欄改!$D$9","v":25},"原反名",null,{"$f":"②OP記入欄改!$D$10","v":"9021A3"},null,"原反幅",null,{"$f":"②OP記入欄改!$D$11","v":1960},null,"原反長",null,{"$f":"②OP記入欄改!$D$12","v":45000},null,"前工程M/C",null,null,null,{"$f":"②OP記入欄改!$D$13","v":"DF6"}]
[null,null,{"$f":"②OP記入欄改!G3","v":"仕向先"},null,{"$f":"②OP記入欄改!I3","v":"製品幅"},null,{"$f":"②OP記入欄改!K3","v":"製品長さ"},null,{"$f":"②OP記入欄改!M3","v":"計本"},{"$f":"②OP記入欄改!N3","v":"実"},{"$f":"②OP記入欄改!O3","v":"梱形"},"Ａ保枝番",null,null,null,"ミル枝番",null,null,"Ｂ級枝番",null,null,"ロック\nシャフト","コア"]
[null,{"$f":"②OP記入欄改!F4","v":1},{"$f":"②OP記入欄改!G4","v":0},null,{"$f":"②OP記入欄改!I4","v":980},null,{"$f":"②OP記入欄改!K4","v":8000},null,{"$f":"②OP記入欄改!M4","v":5},{"$f":"②OP記入欄改!N4","v":0},{"$f":"②OP記入欄改!O4","v":0},null,null,null,null,null,null,null,null,null,null,"-",3]
[null,{"$f":"②OP記入欄改!F5","v":2},{"$f":"②OP記入欄改!G5","v":0},null,{"$f":"②OP記入欄改!I5","v":940},null,{"$f":"②OP記入欄改!K5","v":8000},null,{"$f":"②OP記入欄改!M5","v":5},{"$f":"②OP記入欄改!N5","v":0},{"$f":"②OP記入欄改!O5","v":0},null,null,null,null,null,null,null,null,null,null,"-",3,null,"-"]
[null,{"$f":"②OP記入欄改!F6","v":3},{"$f":"②OP記入欄改!G6","v":0},null,{"$f":"②OP記入欄改!I6","v":980},null,{"$f":"②OP記入欄改!K6","v":4000},null,{"$f":"②OP記入欄改!M6","v":1},{"$f":"②OP記入欄改!N6","v":0},{"$f":"②OP記入欄改!O6","v":0},null,null,null,null,null,null,null,null,null,null,"-",3,null,"〇"]
[null,{"$f":"②OP記入欄改!F7","v":4},{"$f":"②OP記入欄改!G7","v":0},null,{"$f":"②OP記入欄改!I7","v":940},null,{"$f":"②OP記入欄改!K7","v":4000},null,{"$f":"②OP記入欄改!M7","v":1},{"$f":"②OP記入欄改!N7","v":0},{"$f":"②OP記入欄改!O7","v":0}]
[null,{"$f":"②OP記入欄改!F8","v":5},{"$f":"②OP記入欄改!G8","v":0},null,{"$f":"②OP記入欄改!I8","v":0},null,{"$f":"②OP記入欄改!K8","v":0},null,{"$f":"②OP記入欄改!M8","v":0},{"$f":"②OP記入欄改!N8","v":0},{"$f":"②OP記入欄改!O8","v":0}]
[null,{"$f":"②OP記入欄改!F9","v":6},{"$f":"②OP記入欄改!G9","v":0},null,{"$f":"②OP記入欄改!I9","v":0},null,{"$f":"②OP記入欄改!K9","v":0},null,{"$f":"②OP記入欄改!M9","v":0},{"$f":"②OP記入欄改!N9","v":0},{"$f":"②OP記入欄改!O9","v":0}]
[null,{"$f":"②OP記入欄改!F10","v":7},{"$f":"②OP記入欄改!G10","v":0},null,{"$f":"②OP記入欄改!I10","v":0},null,{"$f":"②OP記入欄改!K10","v":0},null,{"$f":"②OP記入欄改!M10","v":0},{"$f":"②OP記入欄改!N10","v":0},{"$f":"②OP記入欄改!O10","v":0}]
[null,{"$f":"②OP記入欄改!F11","v":8},{"$f":"②OP記入欄改!G11","v":0},null,{"$f":"②OP記入欄改!I11","v":0},null,{"$f":"②OP記入欄改!K11","v":0},null,{"$f":"②OP記入欄改!M11","v":0},{"$f":"②OP記入欄改!N11","v":0},{"$f":"②OP記入欄改!O11","v":0}]
[null,{"$f":"②OP記入欄改!F12","v":9},{"$f":"②OP記入欄改!G12","v":0},null,{"$f":"②OP記入欄改!I12","v":0},null,{"$f":"②OP記入欄改!K12","v":0},null,{"$f":"②OP記入欄改!M12","v":0},{"$f":"②OP記入欄改!N12","v":0},{"$f":"②OP記入欄改!O12","v":0}]
[null,{"$f":"②OP記入欄改!F13","v":10},{"$f":"②OP記入欄改!G13","v":0},null,{"$f":"②OP記入欄改!I13","v":0},null,{"$f":"②OP記入欄改!K13","v":0},null,{"$f":"②OP記入欄改!M13","v":0},{"$f":"②OP記入欄改!N13","v":0},{"$f":"②OP記入欄改!O13","v":0}]
[null,"スリット作業指示№",null,null,null,null,"M/C№",null,"加工日",null,null,null,"前工程品質情報",null,null,"切断シフト1",null,null,null,"切断シフト2"]
[null,{"$f":"②OP記入欄改!$D$14","v":43855940001},null,null,null,null,"ＳＬ-",{"$f":"②OP記入欄改!$D$15","v":19},{"$f":"②OP記入欄改!$D$4","v":"2025-10-23"},null,null,null,"確認　　　□",null,null,"組","作業者",null,null,"組","作業者"]
[null,"巻芯\n確認"]
[]
[null,null,null,null,null,null,null,null,null,null,null,null,null,null,null,"切替開始",null,null,"　　　　　時　　　　　分"]
[null,null,null,null,null,null,null,null,null,null,null,null,null,null,null,"切断開始",null,null,"　　　　　時　　　　　分"]
[null,null,null,null,null,null,null,null,null,null,null,null,null,null,null,"切断完了",null,null,"　　　　　時　　　　　分"]
[null,null,null,null,null,null,null,null,null,null,null,null,null,null,null,"食事開始",null,null,"　　　　　時　　　　　分"]
[null,null,null,null,null,null,null,null,null,null,null,null,null,null,null,"食事完了",null,null,"　　　　　時　　　　　分"]
[null,null,null,null,null,null,null,null,null,null,null,null,null,null,null,"停機開始",null,null,"　　　　　時　　　　　分"]
[null,null,null,null,null,null,null,null,null,null,null,null,null,null,null,"停機完了",null,null,"　　　　　時　　　　　分"]
[null,null,null,null,null,null,null,null,null,null,null,null,null,null,null,"停機理由"]
[null,null,null,null,null,null,null,null,null,null,null,null,null,null,null,"条件確認","M/C条件設定",null,null,"呼出№",null,{"$f":"②OP記入欄改!$D$16","v":3}]
[null,null,null,null,null,null,null,null,null,null,null,null,null,null,null,null,"欠点検出機",null,null,"使用条件№",null,{"$f":"②OP記入欄改!$D$17","v":2}]
[null,null,null,null,null,null,null,null,null,null,null,null,null,null,null,null,"速度(m/min)",null,null,480]
[null,null,null,null,null,null,null,null,null,null,null,null,null,null,null,null,"張力(N/ｍ・kg)"]
[null,null,null,null,null,null,null,null,null,null,null,null,null,null,null,null,"接圧(N/ｍ・kg)"]
[null,null,null,null,null,null,null,null,null,null,null,null,null,null,null,"外観確認"]
[null,null,null,null,null,null,null,null,null,null,null,null,null,null,null,"表層透過検査",null,null,null,"OK",null,"NG"]
[null,null,null,null,null,null,null,null,null,null,null,null,null,null,null,"巻姿外観確認[ｽﾀｰﾄ/中間/ﾗｽﾄ]"]
[null,null,null,null,null,null,null,null,null,null,null,null,null,null,null,"各枝番に問題無『〇』問題有『☓』を記載"]
[]
[]
[]
[]
[null,null,null,null,null,null,null,null,null,null,null,null,null,null,null,"※『☓』の場合は展開図に内容を記載する"]
[null,null,null,null,null,null,null,null,null,null,null,null,null,null,null,"検材エッジ",null,null,115]
[null,20,null,null,null,null,null,null,null,null,null,null,null,null,20,"表層ロス　　　　　　　ⅿ",null,null,100,null,null,"m"]
[null,null,null,null,null,null,null,null,null,null,null,null,null,null,null,"レザー/丸刃交換",null,null,null,"レザー/丸刃廃棄"]
[null,null,null,620,null,null,null,860,null,null,null,800,null,null,null,"枚",null,null,null,"枚"]
[null,"膜厚測定（ＣＰＰ・VMPET・BRPET）",null,null,null,null,null,null,null,null,null,null,null,null,null,"備考"]
[null,"ラスト"]
[null,"1セット表層"]
[null,"1セット芯"]
[]
[]
[]
[]
[]
[null,"スリット伝票　ＬＯＴ",null,null,null,null,null,{"$f":"②OP記入欄改!$D$5","v":60331356011},null,null,null,"製区",null,{"$f":"②OP記入欄改!$D$7","v":"T"},"品種",null,{"$f":"②OP記入欄改!$D$8","v":"CPP 2203"}]
[]
[null,"番手",null,{"$f":"②OP記入欄改!$D$9","v":25},"原反名",null,{"$f":"②OP記入欄改!$D$10","v":"9021A3"},null,"原反幅",null,{"$f":"②OP記入欄改!$D$11","v":1960},null,"原反長",null,{"$f":"②OP記入欄改!$D$12","v":45000},null,"前工程M/C",null,null,null,{"$f":"②OP記入欄改!$D$13","v":"DF6"}]
[null,"停機内容",null,null,null,null,null,"停機詳細",null,null,null,null,null,null,null,null,null,"停機時間"]
[null,"Ｆ破れ",null,null,"有/無",null,null,null,null,null,null,null,null,null,null,null,null,null,null,null,"hr"]
[null,"耳切れ",null,null,"有/無",null,null,null,null,null,null,null,null,null,null,null,null,null,null,null,"hr"]
[null,"紙管切断",null,null,"有/無",null,null,null,null,null,null,null,null,null,null,null,null,null,null,null,"hr"]
[null,"その他停機内容",null,null,null,null,null,null,null,null,null,null,null,null,null,null,null,null,null,null,"hr"]
[null,"備考"]
[]
[]
[]
[]
[]
[null,"外観確認内容"]
[null,"原反ズレ",null,null,null,"当てキズ",null,null,null,"溝ロール痕",null,null,null,"ＴＤスジ",null,null,null,"ピッチキズ"]
[null,"スリキズ",null,null,null,"クボミシワ",null,null,null,"シワムラ",null,null,null,"変色",null,null,null,"巻芯シワ"]
[null,"切断面・異物"]

{"sheet":"PET","index":10,"n_rows":71,"n_cols":25,"rows_kept":71,"cut":false,"hidden":true,"merged":[[70,1,70,4],[68,1,68,4],[68,5,68,8],[68,9,68,12],[68,13,68,16],[68,17,68,21],[69,1,69,4],[69,5,69,8],[69,9,69,12],[69,13,69,16],[69,17,69,21],[60,7,60,16],[60,17,60,19],[58,4,58,5],[58,7,58,16],[58,17,58,19],[59,4,59,5],[59,7,59,16],[59,17,59,19],[55,16,55,19],[55,20,55,22],[56,4,56,5],[57,4,57,5],[57,7,57,16],[57,17,57,19],[55,4,55,5],[55,6,55,7],[55,8,55,9],[55,10,55,11],[55,12,55,13],[55,14,55,15],[53,1,54,6],[53,7,53,10],[53,11,54,12],[53,13,54,13],[53,14,54,15],[53,16,54,22],[54,7,54,10],[46,13,46,14],[47,1,47,2],[47,3,47,4],[47,5,47,6],[47,7,47,8],[47,9,47,10],[47,11,47,12],[47,13,47,14],[46,1,46,2],[46,3,46,4],[46,5,46,6],[46,7,46,8],[46,9,46,10],[46,11,46,12],[44,1,44,14],[45,1,45,2],[45,3,45,4],[45,5,45,6],[45,7,45,8],[45,9,45,10],[45,11,45,12],[45,13,45,14],[39,15,39,22],[42,15,42,18],[42,19,42,22],[43,15,43,18],[43,19,43,22],[40,18,40,20],[41,18,41,20],[43,4,43,5],[43,10,43,11],[31,15,31,22],[32,15,32,18],[32,19,32,20],[32,21,32,22],[33,15,33,22],[34,15,34,22],[24,15,24,17],[24,18,24,22],[25,15,25,17],[25,18,25,22],[26,15,30,15],[26,16,26,18],[27,16,27,18],[28,16,28,18],[29,16,29,18],[30,16,30,18],[27,19,27,20],[27,21,27,22],[26,21,26,22],[28,19,28,22],[21,15,21,17],[21,18,21,22],[22,15,22,17],[22,18,22,22],[23,15,23,17],[23,18,23,22],[18,15,18,17],[18,18,18,22],[19,15,19,17],[19,18,19,22],[20,15,20,17],[20,18,20,22],[15,1,15,5],[15,8,15,11],[15,12,15,14],[15,16,15,18],[15,20,15,22],[16,1,17,1],[16,15,17,15],[16,16,17,18],[16,19,17,19],[16,20,17,22],[14,1,14,5],[14,6,14,7],[14,8,14,11],[14,12,14,14],[14,15,14,18],[14,19,14,22],[13,2,13,3],[13,4,13,5],[13,6,13,7],[13,11,13,14],[13,15,13,17],[13,18,13,20],[12,2,12,3],[12,4,12,5],[12,6,12,7],[12,11,12,14],[12,15,12,17],[12,18,12,20],[11,2,11,3],[11,4,11,5],[11,6,11,7],[11,11,11,14],[11,15,11,17],[11,18,11,20],[10,2,10,3],[10,4,10,5],[10,6,10,7],[10,11,10,14],[10,15,10,17],[10,18,10,20],[9,2,9,3],[9,4,9,5],[9,6,9,7],[9,11,9,14],[9,15,9,17],[9,18,9,20],[8,2,8,3],[8,4,8,5],[8,6,8,7],[8,11,8,14],[8,15,8,17],[8,18,8,20],[7,2,7,3],[7,4,7,5],[7,6,7,7],[7,11,7,14],[7,15,7,17],[7,18,7,20],[2,10,2,11],[2,12,2,13],[2,14,2,15],[6,2,6,3],[6,4,6,5],[6,6,6,7],[6,11,6,14],[6,15,6,17],[6,18,6,20],[5,2,5,3],[5,4,5,5],[5,6,5,7],[5,11,5,14],[5,15,5,17],[5,18,5,20],[0,1,1,6],[0,7,0,10],[0,11,1,12],[0,13,1,13],[0,14,1,15],[0,16,1,22],[1,7,1,10],[4,2,4,3],[4,4,4,5],[4,6,4,7],[4,11,4,14],[4,15,4,17],[4,18,4,20],[2,16,2,19],[2,20,2,22],[3,2,3,3],[3,4,3,5],[3,6,3,7],[3,11,3,14],[3,15,3,17],[3,18,3,20],[2,4,2,5],[2,6,2,7],[2,8,2,9]]}
[null,"スリット伝票　ＬＯＴ",null,null,null,null,null,{"$f":"②OP記入欄改!$D$5","v":60331356011},null,null,null,"製区",null,{"$f":"②OP記入欄改!$D$7","v":"T"},"品種",null,{"$f":"②OP記入欄改!$D$8","v":"CPP 2203"}]
[]
[null,"番手",null,{"$f":"②OP記入欄改!$D$9","v":25},"原反名",null,{"$f":"②OP記入欄改!$D$10","v":"9021A3"},null,"原反幅",null,{"$f":"②OP記入欄改!$D$11","v":1960},null,"原反長",null,{"$f":"②OP記入欄改!$D$12","v":45000},null,"前工程M/C",null,null,null,{"$f":"②OP記入欄改!$D$13","v":"DF6"}]
[null,null,{"$f":"②OP記入欄改!G3","v":"仕向先"},null,{"$f":"②OP記入欄改!I3","v":"製品幅"},null,{"$f":"②OP記入欄改!K3","v":"製品長さ"},null,{"$f":"②OP記入欄改!M3","v":"計本"},{"$f":"②OP記入欄改!N3","v":"実"},{"$f":"②OP記入欄改!O3","v":"梱形"},"Ａ保枝番",null,null,null,"ミル枝番",null,null,"Ｂ級枝番",null,null,"ロック\nシャフト","コア"]
[null,{"$f":"②OP記入欄改!F4","v":1},{"$f":"②OP記入欄改!G4","v":0},null,{"$f":"②OP記入欄改!I4","v":980},null,{"$f":"②OP記入欄改!K4","v":8000},null,{"$f":"②OP記入欄改!M4","v":5},{"$f":"②OP記入欄改!N4","v":0},{"$f":"②OP記入欄改!O4","v":0},null,null,null,null,null,null,null,null,null,null,"-",3,null,"-"]
[null,{"$f":"②OP記入欄改!F5","v":2},{"$f":"②OP記入欄改!G5","v":0},null,{"$f":"②OP記入欄改!I5","v":940},null,{"$f":"②OP記入欄改!K5","v":8000},null,{"$f":"②OP記入欄改!M5","v":5},{"$f":"②OP記入欄改!N5","v":0},{"$f":"②OP記入欄改!O5","v":0},null,null,null,null,null,null,null,null,null,null,"〇",3,null,"〇"]
[null,{"$f":"②OP記入欄改!F6","v":3},{"$f":"②OP記入欄改!G6","v":0},null,{"$f":"②OP記入欄改!I6","v":980},null,{"$f":"②OP記入欄改!K6","v":4000},null,{"$f":"②OP記入欄改!M6","v":1},{"$f":"②OP記入欄改!N6","v":0}]
[null,{"$f":"②OP記入欄改!F7","v":4},{"$f":"②OP記入欄改!G7","v":0},null,{"$f":"②OP記入欄改!I7","v":940},null,{"$f":"②OP記入欄改!K7","v":4000},null,{"$f":"②OP記入欄改!M7","v":1},{"$f":"②OP記入欄改!N7","v":0}]
[null,{"$f":"②OP記入欄改!F8","v":5},{"$f":"②OP記入欄改!G8","v":0},null,{"$f":"②OP記入欄改!I8","v":0},null,{"$f":"②OP記入欄改!K8","v":0},null,{"$f":"②OP記入欄改!M8","v":0},{"$f":"②OP記入欄改!N8","v":0},{"$f":"②OP記入欄改!O8","v":0}]
[null,{"$f":"②OP記入欄改!F9","v":6},{"$f":"②OP記入欄改!G9","v":0},null,{"$f":"②OP記入欄改!I9","v":0},null,{"$f":"②OP記入欄改!K9","v":0},null,{"$f":"②OP記入欄改!M9","v":0},{"$f":"②OP記入欄改!N9","v":0},{"$f":"②OP記入欄改!O9","v":0}]
[null,{"$f":"②OP記入欄改!F10","v":7},{"$f":"②OP記入欄改!G10","v":0},null,{"$f":"②OP記入欄改!I10","v":0},null,{"$f":"②OP記入欄改!K10","v":0},null,{"$f":"②OP記入欄改!M10","v":0},{"$f":"②OP記入欄改!N10","v":0},{"$f":"②OP記入欄改!O10","v":0}]
[null,{"$f":"②OP記入欄改!F11","v":8},{"$f":"②OP記入欄改!G11","v":0},null,{"$f":"②OP記入欄改!I11","v":0},null,{"$f":"②OP記入欄改!K11","v":0},null,{"$f":"②OP記入欄改!M11","v":0},{"$f":"②OP記入欄改!N11","v":0},{"$f":"②OP記入欄改!O11","v":0}]
[null,{"$f":"②OP記入欄改!F12","v":9},{"$f":"②OP記入欄改!G12","v":0},null,{"$f":"②OP記入欄改!I12","v":0},null,{"$f":"②OP記入欄改!K12","v":0},null,{"$f":"②OP記入欄改!M12","v":0},{"$f":"②OP記入欄改!N12","v":0},{"$f":"②OP記入欄改!O12","v":0}]
[null,{"$f":"②OP記入欄改!F13","v":10},{"$f":"②OP記入欄改!G13","v":0},null,{"$f":"②OP記入欄改!I13","v":0},null,{"$f":"②OP記入欄改!K13","v":0},null,{"$f":"②OP記入欄改!M13","v":0},{"$f":"②OP記入欄改!N13","v":0},{"$f":"②OP記入欄改!O13","v":0}]
[null,"スリット作業指示№",null,null,null,null,"M/C№",null,"加工日",null,null,null,"前工程品質情報",null,null,"切断シフト1",null,null,null,"切断シフト2"]
[null,{"$f":"②OP記入欄改!$D$14","v":43855940001},null,null,null,null,"ＳＬ-",{"$f":"②OP記入欄改!$D$15","v":19},{"$f":"②OP記入欄改!$D$4","v":"2025-10-23"},null,null,null,"確認　　　□",null,null,"組","作業者",null,null,"組","作業者"]
[null,"巻芯\n確認"]
[]
[null,null,null,null,null,null,null,null,null,null,null,null,null,null,null,"切替開始",null,null,"　　　　　時　　　　　分"]
[null,null,null,null,null,null,null,null,null,null,null,null,null,null,null,"切断開始",null,null,"　　　　　時　　　　　分"]
[null,null,null,null,null,null,null,null,null,null,null,null,null,null,null,"切断完了",null,null,"　　　　　時　　　　　分"]
[null,null,null,null,null,null,null,null,null,null,null,null,null,null,null,"食事開始",null,null,"　　　　　時　　　　　分"]
[null,null,null,null,null,null,null,null,null,null,null,null,null,null,null,"食事完了",null,null,"　　　　　時　　　　　分"]
[null,null,null,null,null,null,null,null,null,null,null,null,null,null,null,"停機開始",null,null,"　　　　　時　　　　　分"]
[null,null,null,null,null,null,null,null,null,null,null,null,null,null,null,"停機完了",null,null,"　　　　　時　　　　　分"]
[null,null,null,null,null,null,null,null,null,null,null,null,null,null,null,"停機理由"]
[null,null,null,null,null,null,null,null,null,null,null,null,null,null,null,"条件確認","M/C条件設定",null,null,"呼出№",null,{"$f":"②OP記入欄改!$D$16","v":3}]
[null,null,null,null,null,null,null,null,null,null,null,null,null,null,null,null,"欠点検出機",null,null,"使用条件№",null,{"$f":"②OP記入欄改!$D$17","v":2}]
[null,null,null,null,null,null,null,null,null,null,null,null,null,null,null,null,"速度(m/min)",null,null,450]
[null,null,null,null,null,null,null,null,null,null,null,null,null,null,null,null,"張力(N/ｍ・kg)"]
[null,null,null,null,null,null,null,null,null,null,null,null,null,null,null,null,"接圧(N/ｍ・kg)"]
[null,null,null,null,null,null,null,null,null,null,null,null,null,null,null,"外観確認"]
[null,null,null,null,null,null,null,null,null,null,null,null,null,null,null,"表層透過検査",null,null,null,"OK",null,"NG"]
[null,null,null,null,null,null,null,null,null,null,null,null,null,null,null,"巻姿外観確認[ｽﾀｰﾄ/中間/ﾗｽﾄ]"]
[null,null,null,null,null,null,null,null,null,null,null,null,null,null,null,"各枝番に問題無『〇』問題有『☓』を記載"]
[]
[]
[]
[]
[null,null,null,null,null,null,null,null,null,null,null,null,null,null,null,"※『☓』の場合は展開図に内容を記載する"]
[null,null,null,null,null,null,null,null,null,null,null,null,null,null,null,"検材エッジ",null,null,305]
[null,60,null,null,null,null,null,null,null,null,null,null,null,null,60,"表層ロス",null,null,"―",null,null,"m"]
[null,null,null,null,null,null,null,null,null,null,null,null,null,null,null,"レザー/丸刃交換",null,null,null,"レザー/丸刃廃棄"]
[null,null,null,null,1080,null,null,null,null,null,740,null,null,null,null,"枚",null,null,null,"枚"]
[null,null,null,null,null,null,null,null,null,null,null,null,null,null,null,"備考"]
[null,"ラスト"]
[null,"1セット表層"]
[null,"1セット芯"]
[]
[]
[]
[]
[]
[null,"スリット伝票　ＬＯＴ",null,null,null,null,null,{"$f":"②OP記入欄改!$D$5","v":60331356011},null,null,null,"製区",null,{"$f":"②OP記入欄改!$D$7","v":"T"},"品種",null,{"$f":"②OP記入欄改!$D$8","v":"CPP 2203"}]
[]
[null,"番手",null,{"$f":"②OP記入欄改!$D$9","v":25},"原反名",null,{"$f":"②OP記入欄改!$D$10","v":"9021A3"},null,"原反幅",null,{"$f":"②OP記入欄改!$D$11","v":1960},null,"原反長",null,{"$f":"②OP記入欄改!$D$12","v":45000},null,"前工程M/C",null,null,null,{"$f":"②OP記入欄改!$D$13","v":"DF6"}]
[null,"停機内容",null,null,null,null,null,"停機詳細",null,null,null,null,null,null,null,null,null,"停機時間"]
[null,"Ｆ破れ",null,null,"有/無",null,null,null,null,null,null,null,null,null,null,null,null,null,null,null,"hr"]
[null,"耳切れ",null,null,"有/無",null,null,null,null,null,null,null,null,null,null,null,null,null,null,null,"hr"]
[null,"紙管切断",null,null,"有/無",null,null,null,null,null,null,null,null,null,null,null,null,null,null,null,"hr"]
[null,"その他停機内容",null,null,null,null,null,null,null,null,null,null,null,null,null,null,null,null,null,null,"hr"]
[null,"備考"]
[]
[]
[]
[]
[]
[null,"外観確認内容"]
[null,"原反ズレ",null,null,null,"当てキズ",null,null,null,"溝ロール痕",null,null,null,"ＴＤスジ",null,null,null,"ピッチキズ"]
[null,"スリキズ",null,null,null,"クボミシワ",null,null,null,"シワムラ",null,null,null,"変色",null,null,null,"巻芯シワ"]
[null,"切断面・異物"]

{"sheet":"PET 3","index":11,"n_rows":71,"n_cols":25,"rows_kept":71,"cut":false,"hidden":true,"merged":[[24,3,24,6],[24,10,24,12],[70,1,70,4],[68,1,68,4],[68,5,68,8],[68,9,68,12],[68,13,68,16],[68,17,68,21],[69,1,69,4],[69,5,69,8],[69,9,69,12],[69,13,69,16],[69,17,69,21],[60,7,60,16],[60,17,60,19],[58,4,58,5],[58,7,58,16],[58,17,58,19],[59,4,59,5],[59,7,59,16],[59,17,59,19],[55,16,55,19],[55,20,55,22],[56,4,56,5],[57,4,57,5],[57,7,57,16],[57,17,57,19],[55,4,55,5],[55,6,55,7],[55,8,55,9],[55,10,55,11],[55,12,55,13],[55,14,55,15],[53,1,54,6],[53,7,53,10],[53,11,54,12],[53,13,54,13],[53,14,54,15],[53,16,54,22],[54,7,54,10],[46,13,46,14],[47,1,47,2],[47,3,47,4],[47,5,47,6],[47,7,47,8],[47,9,47,10],[47,11,47,12],[47,13,47,14],[46,1,46,2],[46,3,46,4],[46,5,46,6],[46,7,46,8],[46,9,46,10],[46,11,46,12],[44,1,44,14],[45,1,45,2],[45,3,45,4],[45,5,45,6],[45,7,45,8],[45,9,45,10],[45,11,45,12],[45,13,45,14],[39,15,39,22],[42,15,42,18],[42,19,42,22],[43,15,43,18],[43,19,43,22],[40,18,40,20],[41,18,41,20],[43,10,43,13],[43,6,43,9],[43,2,43,5],[31,15,31,22],[32,15,32,18],[32,19,32,20],[32,21,32,22],[33,15,33,22],[34,15,34,22],[24,15,24,17],[24,18,24,22],[25,15,25,17],[25,18,25,22],[26,15,30,15],[26,16,26,18],[27,16,27,18],[28,16,28,18],[29,16,29,18],[30,16,30,18],[27,19,27,20],[27,21,27,22],[26,21,26,22],[28,19,28,22],[21,15,21,17],[21,18,21,22],[22,15,22,17],[22,18,22,22],[23,15,23,17],[23,18,23,22],[18,15,18,17],[18,18,18,22],[19,15,19,17],[19,18,19,22],[20,15,20,17],[20,18,20,22],[15,1,15,5],[15,8,15,11],[15,12,15,14],[15,16,15,18],[15,20,15,22],[16,1,17,1],[16,15,17,15],[16,16,17,18],[16,19,17,19],[16,20,17,22],[14,1,14,5],[14,6,14,7],[14,8,14,11],[14,12,14,14],[14,15,14,18],[14,19,14,22],[13,2,13,3],[13,4,13,5],[13,6,13,7],[13,11,13,14],[13,15,13,17],[13,18,13,20],[12,2,12,3],[12,4,12,5],[12,6,12,7],[12,11,12,14],[12,15,12,17],[12,18,12,20],[11,2,11,3],[11,4,11,5],[11,6,11,7],[11,11,11,14],[11,15,11,17],[11,18,11,20],[10,2,10,3],[10,4,10,5],[10,6,10,7],[10,11,10,14],[10,15,10,17],[10,18,10,20],[9,2,9,3],[9,4,9,5],[9,6,9,7],[9,11,9,14],[9,15,9,17],[9,18,9,20],[8,2,8,3],[8,4,8,5],[8,6,8,7],[8,11,8,14],[8,15,8,17],[8,18,8,20],[7,2,7,3],[7,4,7,5],[7,6,7,7],[7,11,7,14],[7,15,7,17],[7,18,7,20],[2,10,2,11],[2,12,2,13],[2,14,2,15],[6,2,6,3],[6,4,6,5],[6,6,6,7],[6,11,6,14],[6,15,6,17],[6,18,6,20],[5,2,5,3],[5,4,5,5],[5,6,5,7],[5,11,5,14],[5,15,5,17],[5,18,5,20],[0,1,1,6],[0,7,0,10],[0,11,1,12],[0,13,1,13],[0,14,1,15],[0,16,1,22],[1,7,1,10],[4,2,4,3],[4,4,4,5],[4,6,4,7],[4,11,4,14],[4,15,4,17],[4,18,4,20],[2,16,2,19],[2,20,2,22],[3,2,3,3],[3,4,3,5],[3,6,3,7],[3,11,3,14],[3,15,3,17],[3,18,3,20],[2,4,2,5],[2,6,2,7],[2,8,2,9]]}
[null,"スリット伝票　ＬＯＴ",null,null,null,null,null,{"$f":"②OP記入欄改!$D$5","v":60331356011},null,null,null,"製区",null,{"$f":"②OP記入欄改!$D$7","v":"T"},"品種",null,{"$f":"②OP記入欄改!$D$8","v":"CPP 2203"}]
[]
[null,"番手",null,{"$f":"②OP記入欄改!$D$9","v":25},"原反名",null,{"$f":"②OP記入欄改!$D$10","v":"9021A3"},null,"原反幅",null,{"$f":"②OP記入欄改!$D$11","v":1960},null,"原反長",null,{"$f":"②OP記入欄改!$D$12","v":45000},null,"前工程M/C",null,null,null,{"$f":"②OP記入欄改!$D$13","v":"DF6"}]
[null,null,{"$f":"②OP記入欄改!G3","v":"仕向先"},null,{"$f":"②OP記入欄改!I3","v":"製品幅"},null,{"$f":"②OP記入欄改!K3","v":"製品長さ"},null,{"$f":"②OP記入欄改!M3","v":"計本"},{"$f":"②OP記入欄改!N3","v":"実"},{"$f":"②OP記入欄改!O3","v":"梱形"},"Ａ保枝番",null,null,null,"ミル枝番",null,null,"Ｂ級枝番",null,null,"ロック\nシャフト","コア"]
[null,{"$f":"②OP記入欄改!F4","v":1},{"$f":"②OP記入欄改!G4","v":0},null,{"$f":"②OP記入欄改!I4","v":980},null,{"$f":"②OP記入欄改!K4","v":8000},null,{"$f":"②OP記入欄改!M4","v":5},{"$f":"②OP記入欄改!N4","v":0},{"$f":"②OP記入欄改!O4","v":0},null,null,null,null,null,null,null,null,null,null,"-",3,null,"-"]
[null,{"$f":"②OP記入欄改!F5","v":2},{"$f":"②OP記入欄改!G5","v":0},null,{"$f":"②OP記入欄改!I5","v":940},null,{"$f":"②OP記入欄改!K5","v":8000},null,{"$f":"②OP記入欄改!M5","v":5},{"$f":"②OP記入欄改!N5","v":0},{"$f":"②OP記入欄改!O5","v":0},null,null,null,null,null,null,null,null,null,null,"-",3,null,"〇"]
[null,{"$f":"②OP記入欄改!F6","v":3},{"$f":"②OP記入欄改!G6","v":0},null,{"$f":"②OP記入欄改!I6","v":980},null,{"$f":"②OP記入欄改!K6","v":4000},null,{"$f":"②OP記入欄改!M6","v":1},{"$f":"②OP記入欄改!N6","v":0},{"$f":"②OP記入欄改!O6","v":0},null,null,null,null,null,null,null,null,null,null,"-",3]
[null,{"$f":"②OP記入欄改!F7","v":4},{"$f":"②OP記入欄改!G7","v":0},null,{"$f":"②OP記入欄改!I7","v":940},null,{"$f":"②OP記入欄改!K7","v":4000},null,{"$f":"②OP記入欄改!M7","v":1},{"$f":"②OP記入欄改!N7","v":0},{"$f":"②OP記入欄改!O7","v":0},null,null,null,null,null,null,null,null,null,null,"-",3]
[null,{"$f":"②OP記入欄改!F8","v":5},{"$f":"②OP記入欄改!G8","v":0},null,{"$f":"②OP記入欄改!I8","v":0},null,{"$f":"②OP記入欄改!K8","v":0},null,{"$f":"②OP記入欄改!M8","v":0},{"$f":"②OP記入欄改!N8","v":0},{"$f":"②OP記入欄改!O8","v":0},null,null,null,null,null,null,null,null,null,null,"-",3]
[null,{"$f":"②OP記入欄改!F9","v":6},{"$f":"②OP記入欄改!G9","v":0},null,{"$f":"②OP記入欄改!I9","v":0},null,{"$f":"②OP記入欄改!K9","v":0},null,{"$f":"②OP記入欄改!M9","v":0},{"$f":"②OP記入欄改!N9","v":0},{"$f":"②OP記入欄改!O9","v":0}]
[null,{"$f":"②OP記入欄改!F10","v":7},{"$f":"②OP記入欄改!G10","v":0},null,{"$f":"②OP記入欄改!I10","v":0},null,{"$f":"②OP記入欄改!K10","v":0},null,{"$f":"②OP記入欄改!M10","v":0},{"$f":"②OP記入欄改!N10","v":0},{"$f":"②OP記入欄改!O10","v":0}]
[null,{"$f":"②OP記入欄改!F11","v":8},{"$f":"②OP記入欄改!G11","v":0},null,{"$f":"②OP記入欄改!I11","v":0},null,{"$f":"②OP記入欄改!K11","v":0},null,{"$f":"②OP記入欄改!M11","v":0},{"$f":"②OP記入欄改!N11","v":0},{"$f":"②OP記入欄改!O11","v":0}]
[null,{"$f":"②OP記入欄改!F12","v":9},{"$f":"②OP記入欄改!G12","v":0},null,{"$f":"②OP記入欄改!I12","v":0},null,{"$f":"②OP記入欄改!K12","v":0},null,{"$f":"②OP記入欄改!M12","v":0},{"$f":"②OP記入欄改!N12","v":0},{"$f":"②OP記入欄改!O12","v":0}]
[null,{"$f":"②OP記入欄改!F13","v":10},{"$f":"②OP記入欄改!G13","v":0},null,{"$f":"②OP記入欄改!I13","v":0},null,{"$f":"②OP記入欄改!K13","v":0},null,{"$f":"②OP記入欄改!M13","v":0},{"$f":"②OP記入欄改!N13","v":0},{"$f":"②OP記入欄改!O13","v":0}]
[null,"スリット作業指示№",null,null,null,null,"M/C№",null,"加工日",null,null,null,"前工程品質情報",null,null,"切断シフト1",null,null,null,"切断シフト2"]
[null,{"$f":"②OP記入欄改!$D$14","v":43855940001},null,null,null,null,"ＳＬ-",{"$f":"②OP記入欄改!$D$15","v":19},{"$f":"②OP記入欄改!$D$4","v":"2025-10-23"},null,null,null,"確認　　　□",null,null,"組","作業者",null,null,"組","作業者"]
[null,"巻芯\n確認"]
[]
[null,null,null,null,null,null,null,null,null,null,null,null,null,null,null,"切替開始",null,null,"　　　　　時　　　　　分"]
[null,null,null,null,null,null,null,null,null,null,null,null,null,null,null,"切断開始",null,null,"　　　　　時　　　　　分"]
[null,null,null,null,null,null,null,null,null,null,null,null,null,null,null,"切断完了",null,null,"　　　　　時　　　　　分"]
[null,null,null,null,null,null,null,null,null,null,null,null,null,null,null,"食事開始",null,null,"　　　　　時　　　　　分"]
[null,null,null,null,null,null,null,null,null,null,null,null,null,null,null,"食事完了",null,null,"　　　　　時　　　　　分"]
[null,null,null,null,null,null,null,null,null,null,null,null,null,null,null,"停機開始",null,null,"　　　　　時　　　　　分"]
[null,null,null,null,null,null,null,null,null,null,null,null,null,null,null,"停機完了",null,null,"　　　　　時　　　　　分"]
[null,null,null,null,null,null,null,null,null,null,null,null,null,null,null,"停機理由"]
[null,null,null,null,null,null,null,null,null,null,null,null,null,null,null,"条件確認","M/C条件設定",null,null,"呼出№",null,{"$f":"②OP記入欄改!$D$16","v":3}]
[null,null,null,null,null,null,null,null,null,null,null,null,null,null,null,null,"欠点検出機",null,null,"使用条件№",null,{"$f":"②OP記入欄改!$D$17","v":2}]
[null,null,null,null,null,null,null,null,null,null,null,null,null,null,null,null,"速度(m/min)",null,null,450]
[null,null,null,null,null,null,null,null,null,null,null,null,null,null,null,null,"張力(N/ｍ・kg)"]
[null,null,null,null,null,null,null,null,null,null,null,null,null,null,null,null,"接圧(N/ｍ・kg)"]
[null,null,null,null,null,null,null,null,null,null,null,null,null,null,null,"外観確認"]
[null,null,null,null,null,null,null,null,null,null,null,null,null,null,null,"表層透過検査",null,null,null,"OK",null,"NG"]
[null,20,null,null,null,null,null,null,null,null,null,null,null,null,20,"巻姿外観確認[ｽﾀｰﾄ/中間/ﾗｽﾄ]"]
[null,null,null,null,null,null,null,null,null,null,null,null,null,null,null,"各枝番に問題無『〇』問題有『☓』を記載"]
[]
[]
[]
[]
[null,null,null,null,null,null,null,null,null,null,null,null,null,null,null,"※『☓』の場合は展開図に内容を記載する"]
[null,null,null,null,null,null,null,null,null,null,null,null,null,null,null,"検材エッジ",null,null,455]
[null,20,null,null,null,null,null,null,null,null,null,null,null,null,20,"表層ロス",null,null,"―",null,null,"m"]
[null,null,null,null,null,null,null,null,null,null,null,null,null,null,null,"レザー/丸刃交換",null,null,null,"レザー/丸刃廃棄"]
[null,null,520,null,null,null,560,null,null,null,520,null,null,null,null,"枚",null,null,null,"枚"]
[null,"膜厚測定（ＣＰＰ・VMPET・BRPET）",null,null,null,null,null,null,null,null,null,null,null,null,null,"備考"]
[null,"ラスト"]
[null,"1セット表層"]
[null,"1セット芯"]
[]
[]
[]
[]
[]
[null,"スリット伝票　ＬＯＴ",null,null,null,null,null,{"$f":"②OP記入欄改!$D$5","v":60331356011},null,null,null,"製区",null,{"$f":"②OP記入欄改!$D$7","v":"T"},"品種",null,{"$f":"②OP記入欄改!$D$8","v":"CPP 2203"}]
[]
[null,"番手",null,{"$f":"②OP記入欄改!$D$9","v":25},"原反名",null,{"$f":"②OP記入欄改!$D$10","v":"9021A3"},null,"原反幅",null,{"$f":"②OP記入欄改!$D$11","v":1960},null,"原反長",null,{"$f":"②OP記入欄改!$D$12","v":45000},null,"前工程M/C",null,null,null,{"$f":"②OP記入欄改!$D$13","v":"DF6"}]
[null,"停機内容",null,null,null,null,null,"停機詳細",null,null,null,null,null,null,null,null,null,"停機時間"]
[null,"Ｆ破れ",null,null,"有/無",null,null,null,null,null,null,null,null,null,null,null,null,null,null,null,"hr"]
[null,"耳切れ",null,null,"有/無",null,null,null,null,null,null,null,null,null,null,null,null,null,null,null,"hr"]
[null,"紙管切断",null,null,"有/無",null,null,null,null,null,null,null,null,null,null,null,null,null,null,null,"hr"]
[null,"その他停機内容",null,null,null,null,null,null,null,null,null,null,null,null,null,null,null,null,null,null,"hr"]
[null,"備考"]
[]
[]
[]
[]
[]
[null,"外観確認内容"]
[null,"原反ズレ",null,null,null,"当てキズ",null,null,null,"溝ロール痕",null,null,null,"ＴＤスジ",null,null,null,"ピッチキズ"]
[null,"スリキズ",null,null,null,"クボミシワ",null,null,null,"シワムラ",null,null,null,"変色",null,null,null,"巻芯シワ"]
[null,"切断面・異物"]

{"sheet":"＃30 2丁","index":12,"n_rows":71,"n_cols":25,"rows_kept":71,"cut":false,"hidden":true,"merged":[[0,7,1,10],[69,1,69,4],[69,5,69,8],[69,9,69,12],[69,13,69,16],[69,17,69,21],[70,1,70,4],[60,7,60,16],[60,17,60,19],[68,1,68,4],[68,5,68,8],[68,9,68,12],[68,13,68,16],[68,17,68,21],[58,4,58,5],[58,7,58,16],[58,17,58,19],[59,4,59,5],[59,7,59,16],[59,17,59,19],[55,16,55,19],[55,20,55,22],[56,4,56,5],[57,4,57,5],[57,7,57,16],[57,17,57,19],[55,4,55,5],[55,6,55,7],[55,8,55,9],[55,10,55,11],[55,12,55,13],[55,14,55,15],[53,1,54,6],[53,7,53,10],[53,11,54,12],[53,13,54,13],[53,14,54,15],[53,16,54,22],[54,7,54,10],[46,13,46,14],[47,1,47,2],[47,3,47,4],[47,5,47,6],[47,7,47,8],[47,9,47,10],[47,11,47,12],[47,13,47,14],[46,1,46,2],[46,3,46,4],[46,5,46,6],[46,7,46,8],[46,9,46,10],[46,11,46,12],[44,1,44,14],[45,1,45,2],[45,3,45,4],[45,5,45,6],[45,7,45,8],[45,9,45,10],[45,11,45,12],[45,13,45,14],[42,15,42,18],[42,19,42,22],[43,15,43,18],[43,19,43,22],[43,8,43,13],[43,2,43,7],[40,18,40,20],[41,18,41,20],[32,15,32,18],[32,19,32,20],[32,21,32,22],[33,15,33,22],[34,15,34,22],[39,15,39,22],[28,19,28,22],[29,16,29,18],[29,19,29,20],[30,16,30,18],[30,19,30,20],[31,15,31,22],[24,15,24,17],[24,18,24,22],[25,15,25,17],[25,18,25,22],[26,15,30,15],[26,16,26,18],[27,16,27,18],[27,19,27,20],[27,21,27,22],[28,16,28,18],[26,21,26,22],[21,15,21,17],[21,18,21,22],[22,15,22,17],[22,18,22,22],[23,15,23,17],[23,18,23,22],[18,15,18,17],[18,18,18,22],[19,15,19,17],[19,18,19,22],[20,15,20,17],[20,18,20,22],[15,1,15,5],[15,8,15,11],[15,12,15,14],[15,16,15,18],[15,20,15,22],[16,1,17,1],[16,15,17,15],[16,16,17,18],[16,19,17,19],[16,20,17,22],[14,1,14,5],[14,6,14,7],[14,8,14,11],[14,12,14,14],[14,15,14,18],[14,19,14,22],[13,2,13,3],[13,4,13,5],[13,6,13,7],[13,11,13,14],[13,15,13,17],[13,18,13,20],[12,2,12,3],[12,4,12,5],[12,6,12,7],[12,11,12,14],[12,15,12,17],[12,18,12,20],[11,2,11,3],[11,4,11,5],[11,6,11,7],[11,11,11,14],[11,15,11,17],[11,18,11,20],[10,2,10,3],[10,4,10,5],[10,6,10,7],[10,11,10,14],[10,15,10,17],[10,18,10,20],[9,2,9,3],[9,4,9,5],[9,6,9,7],[9,11,9,14],[9,15,9,17],[9,18,9,20],[8,2,8,3],[8,4,8,5],[8,6,8,7],[8,11,8,14],[8,15,8,17],[8,18,8,20],[7,2,7,3],[7,4,7,5],[7,6,7,7],[7,11,7,14],[7,15,7,17],[7,18,7,20],[2,14,2,15],[6,2,6,3],[6,4,6,5],[6,6,6,7],[6,11,6,14],[6,15,6,17],[6,18,6,20],[5,2,5,3],[5,4,5,5],[5,6,5,7],[5,11,5,14],[5,15,5,17],[5,18,5,20],[0,1,1,6],[0,11,1,12],[0,13,1,13],[0,14,1,15],[0,16,1,22],[4,2,4,3],[4,4,4,5],[4,6,4,7],[4,11,4,14],[4,15,4,17],[4,18,4,20],[2,16,2,19],[2,20,2,22],[3,2,3,3],[3,4,3,5],[3,6,3,7],[3,11,3,14],[3,15,3,17],[3,18,3,20],[2,4,2,5],[2,6,2,7],[2,8,2,9],[2,10,2,11],[2,12,2,13]]}
[null,"スリット伝票　ＬＯＴ",null,null,null,null,null,{"$f":"②OP記入欄改!$D$5","v":60331356011},null,null,null,"製区",null,{"$f":"②OP記入欄改!$D$7","v":"T"},"品種",null,{"$f":"②OP記入欄改!$D$8","v":"CPP 2203"}]
[]
[null,"番手",null,{"$f":"②OP記入欄改!$D$9","v":25},"原反名",null,{"$f":"②OP記入欄改!$D$10","v":"9021A3"},null,"原反幅",null,{"$f":"②OP記入欄改!$D$11","v":1960},null,"原反長",null,{"$f":"②OP記入欄改!$D$12","v":45000},null,"前工程M/C",null,null,null,{"$f":"②OP記入欄改!$D$13","v":"DF6"}]
[null,null,{"$f":"②OP記入欄改!G3","v":"仕向先"},null,{"$f":"②OP記入欄改!I3","v":"製品幅"},null,{"$f":"②OP記入欄改!K3","v":"製品長さ"},null,{"$f":"②OP記入欄改!M3","v":"計本"},{"$f":"②OP記入欄改!N3","v":"実"},{"$f":"②OP記入欄改!O3","v":"梱形"},"Ａ保枝番",null,null,null,"ミル枝番",null,null,"Ｂ級枝番",null,null,"ロック\nシャフト","コア"]
[null,{"$f":"②OP記入欄改!F4","v":1},{"$f":"②OP記入欄改!G4","v":0},null,{"$f":"②OP記入欄改!I4","v":980},null,{"$f":"②OP記入欄改!K4","v":8000},null,{"$f":"②OP記入欄改!M4","v":5},{"$f":"②OP記入欄改!N4","v":0},{"$f":"②OP記入欄改!O4","v":0},null,null,null,null,null,null,null,null,null,null,"-",3,null,"-"]
[null,{"$f":"②OP記入欄改!F5","v":2},{"$f":"②OP記入欄改!G5","v":0},null,{"$f":"②OP記入欄改!I5","v":940},null,{"$f":"②OP記入欄改!K5","v":8000},null,{"$f":"②OP記入欄改!M5","v":5},{"$f":"②OP記入欄改!N5","v":0},{"$f":"②OP記入欄改!O5","v":0},null,null,null,null,null,null,null,null,null,null,null,null,null,"〇"]
[null,{"$f":"②OP記入欄改!F6","v":3},{"$f":"②OP記入欄改!G6","v":0},null,{"$f":"②OP記入欄改!I6","v":980},null,{"$f":"②OP記入欄改!K6","v":4000},null,{"$f":"②OP記入欄改!M6","v":1},{"$f":"②OP記入欄改!N6","v":0},{"$f":"②OP記入欄改!O6","v":0}]
[null,{"$f":"②OP記入欄改!F7","v":4},{"$f":"②OP記入欄改!G7","v":0},null,{"$f":"②OP記入欄改!I7","v":940},null,{"$f":"②OP記入欄改!K7","v":4000},null,{"$f":"②OP記入欄改!M7","v":1},{"$f":"②OP記入欄改!N7","v":0},{"$f":"②OP記入欄改!O7","v":0}]
[null,{"$f":"②OP記入欄改!F8","v":5},{"$f":"②OP記入欄改!G8","v":0},null,{"$f":"②OP記入欄改!I8","v":0},null,{"$f":"②OP記入欄改!K8","v":0},null,{"$f":"②OP記入欄改!M8","v":0},{"$f":"②OP記入欄改!N8","v":0},{"$f":"②OP記入欄改!O8","v":0}]
[null,{"$f":"②OP記入欄改!F9","v":6},{"$f":"②OP記入欄改!G9","v":0},null,{"$f":"②OP記入欄改!I9","v":0},null,{"$f":"②OP記入欄改!K9","v":0},null,{"$f":"②OP記入欄改!M9","v":0},{"$f":"②OP記入欄改!N9","v":0}]
[null,{"$f":"②OP記入欄改!F10","v":7},{"$f":"②OP記入欄改!G10","v":0},null,{"$f":"②OP記入欄改!I10","v":0},null,{"$f":"②OP記入欄改!K10","v":0},null,{"$f":"②OP記入欄改!M10","v":0},{"$f":"②OP記入欄改!N10","v":0}]
[null,{"$f":"②OP記入欄改!F11","v":8},{"$f":"②OP記入欄改!G11","v":0},null,{"$f":"②OP記入欄改!I11","v":0},null,{"$f":"②OP記入欄改!K11","v":0},null,{"$f":"②OP記入欄改!M11","v":0},{"$f":"②OP記入欄改!N11","v":0}]
[null,{"$f":"②OP記入欄改!F12","v":9},{"$f":"②OP記入欄改!G12","v":0},null,{"$f":"②OP記入欄改!I12","v":0},null,{"$f":"②OP記入欄改!K12","v":0},null,{"$f":"②OP記入欄改!M12","v":0},{"$f":"②OP記入欄改!N12","v":0}]
[null,{"$f":"②OP記入欄改!F13","v":10},{"$f":"②OP記入欄改!G13","v":0},null,{"$f":"②OP記入欄改!I13","v":0},null,{"$f":"②OP記入欄改!K13","v":0},null,{"$f":"②OP記入欄改!M13","v":0},{"$f":"②OP記入欄改!N13","v":0}]
[null,"スリット作業指示№",null,null,null,null,"M/C№",null,"加工日",null,null,null,"前工程品質情報",null,null,"切断シフト1",null,null,null,"切断シフト2"]
[null,{"$f":"②OP記入欄改!$D$14","v":43855940001},null,null,null,null,"ＳＬ-",{"$f":"②OP記入欄改!$D$15","v":19},{"$f":"②OP記入欄改!$D$4","v":"2025-10-23"},null,null,null,"確認　　　□",null,null,"組","作業者",null,null,"組","作業者"]
[null,"巻芯\n確認"]
[]
[null,null,null,null,null,null,null,null,null,null,null,null,null,null,null,"切替開始",null,null,"　　　　　時　　　　　分"]
[null,null,null,null,null,null,null,null,null,null,null,null,null,null,null,"切断開始",null,null,"　　　　　時　　　　　分"]
[null,null,null,null,null,null,null,null,null,null,null,null,null,null,null,"切断完了",null,null,"　　　　　時　　　　　分"]
[null,null,null,null,null,null,null,null,null,null,null,null,null,null,null,"食事開始",null,null,"　　　　　時　　　　　分"]
[null,null,null,null,null,null,null,null,null,null,null,null,null,null,null,"食事完了",null,null,"　　　　　時　　　　　分"]
[null,null,null,null,null,null,null,null,null,null,null,null,null,null,null,"停機開始",null,null,"　　　　　時　　　　　分"]
[null,null,null,null,null,null,null,null,null,null,null,null,null,null,null,"停機完了",null,null,"　　　　　時　　　　　分"]
[null,null,null,null,null,null,null,null,null,null,null,null,null,null,null,"停機理由"]
[null,null,null,null,null,null,null,null,null,null,null,null,null,null,null,"条件確認","M/C条件設定",null,null,"呼出№",null,{"$f":"②OP記入欄改!$D$16","v":3}]
[null,null,null,null,null,null,null,null,null,null,null,null,null,null,null,null,"欠点検出機",null,null,"使用条件№",null,{"$f":"②OP記入欄改!$D$17","v":2}]
[null,null,null,null,null,null,null,null,null,null,null,null,null,null,null,null,"速度(m/min)",null,null,480]
[null,null,null,null,null,null,null,null,null,null,null,null,null,null,null,null,"張力(N/ｍ・kg)"]
[null,null,null,null,null,null,null,null,null,null,null,null,null,null,null,null,"接圧(N/ｍ・kg)"]
[null,null,null,null,null,null,null,null,null,null,null,null,null,null,null,"外観確認"]
[null,null,null,null,null,null,null,null,null,null,null,null,null,null,null,"表層透過検査",null,null,null,"OK",null,"NG"]
[null,null,null,null,null,null,null,null,null,null,null,null,null,null,null,"巻姿外観確認[ｽﾀｰﾄ/中間/ﾗｽﾄ]"]
[null,null,null,null,null,null,null,null,null,null,null,null,null,null,null,"各枝番に問題無『〇』問題有『☓』を記載"]
[]
[]
[]
[]
[null,null,null,null,null,null,null,null,null,null,null,null,null,null,null,"※『☓』の場合は展開図に内容を記載する"]
[null,null,null,null,null,null,null,null,null,null,null,null,null,null,null,"検材エッジ",null,null,415]
[null,20,null,null,null,null,null,null,null,null,null,null,null,null,20,"表層ロス",null,null,0,null,null,"m"]
[null,null,null,null,null,null,null,null,null,null,null,null,null,null,null,"レザー/丸刃交換",null,null,null,"レザー/丸刃廃棄"]
[null,null,840,null,null,null,null,null,840,null,null,null,null,null,null,"  枚",null,null,null,"　枚"]
[null,"膜厚測定（ＣＰＰ・VMPET・BRPET）",null,null,null,null,null,null,null,null,null,null,null,null,null,"備考"]
[null,"ラスト"]
[null,"1セット表層"]
[null,"1セット芯"]
[]
[]
[]
[]
[]
[null,"スリット伝票　ＬＯＴ",null,null,null,null,null,{"$f":"②OP記入欄改!$D$5","v":60331356011},null,null,null,"製区",null,{"$f":"②OP記入欄改!$D$7","v":"T"},"品種",null,{"$f":"②OP記入欄改!$D$8","v":"CPP 2203"}]
[]
[null,"番手",null,{"$f":"②OP記入欄改!$D$9","v":25},"原反名",null,{"$f":"②OP記入欄改!$D$10","v":"9021A3"},null,"原反幅",null,{"$f":"②OP記入欄改!$D$11","v":1960},null,"原反長",null,{"$f":"②OP記入欄改!$D$12","v":45000},null,"前工程M/C",null,null,null,{"$f":"②OP記入欄改!$D$13","v":"DF6"}]
[null,"停機内容",null,null,null,null,null,"停機詳細",null,null,null,null,null,null,null,null,null,"停機時間"]
[null,"Ｆ破れ",null,null,"有/無",null,null,null,null,null,null,null,null,null,null,null,null,null,null,null,"hr"]
[null,"耳切れ",null,null,"有/無",null,null,null,null,null,null,null,null,null,null,null,null,null,null,null,"hr"]
[null,"紙管切断",null,null,"有/無",null,null,null,null,null,null,null,null,null,null,null,null,null,null,null,"hr"]
[null,"その他停機内容",null,null,null,null,null,null,null,null,null,null,null,null,null,null,null,null,null,null,"hr"]
[null,"備考"]
[]
[]
[]
[]
[]
[null,"外観確認内容"]
[null,"原反ズレ",null,null,null,"当てキズ",null,null,null,"溝ロール痕",null,null,null,"ＴＤスジ",null,null,null,"ピッチキズ"]
[null,"スリキズ",null,null,null,"クボミシワ",null,null,null,"シワムラ",null,null,null,"変色",null,null,null,"巻芯シワ"]
[null,"切断面・異物"]

{"sheet":"#30 3丁","index":13,"n_rows":71,"n_cols":25,"rows_kept":71,"cut":false,"hidden":true,"merged":[[0,7,1,10],[0,1,1,6],[0,11,1,12],[0,13,1,13],[0,14,1,15],[0,16,1,22],[4,2,4,3],[4,4,4,5],[4,6,4,7],[4,11,4,14],[4,15,4,17],[4,18,4,20],[2,16,2,19],[2,20,2,22],[3,2,3,3],[3,4,3,5],[3,6,3,7],[3,11,3,14],[3,15,3,17],[3,18,3,20],[2,4,2,5],[2,6,2,7],[2,8,2,9],[2,10,2,11],[2,12,2,13],[2,14,2,15],[6,2,6,3],[6,4,6,5],[6,6,6,7],[6,11,6,14],[6,15,6,17],[6,18,6,20],[5,2,5,3],[5,4,5,5],[5,6,5,7],[5,11,5,14],[5,15,5,17],[5,18,5,20],[8,2,8,3],[8,4,8,5],[8,6,8,7],[8,11,8,14],[8,15,8,17],[8,18,8,20],[7,2,7,3],[7,4,7,5],[7,6,7,7],[7,11,7,14],[7,15,7,17],[7,18,7,20],[10,2,10,3],[10,4,10,5],[10,6,10,7],[10,11,10,14],[10,15,10,17],[10,18,10,20],[9,2,9,3],[9,4,9,5],[9,6,9,7],[9,11,9,14],[9,15,9,17],[9,18,9,20],[12,2,12,3],[12,4,12,5],[12,6,12,7],[12,11,12,14],[12,15,12,17],[12,18,12,20],[11,2,11,3],[11,4,11,5],[11,6,11,7],[11,11,11,14],[11,15,11,17],[11,18,11,20],[14,1,14,5],[14,6,14,7],[14,8,14,11],[14,12,14,14],[14,15,14,18],[14,19,14,22],[13,2,13,3],[13,4,13,5],[13,6,13,7],[13,11,13,14],[13,15,13,17],[13,18,13,20],[15,1,15,5],[15,8,15,11],[15,12,15,14],[15,16,15,18],[15,20,15,22],[16,1,17,1],[16,15,17,15],[16,16,17,18],[16,19,17,19],[16,20,17,22],[21,15,21,17],[21,18,21,22],[22,15,22,17],[22,18,22,22],[23,15,23,17],[23,18,23,22],[18,15,18,17],[18,18,18,22],[19,15,19,17],[19,18,19,22],[20,15,20,17],[20,18,20,22],[24,15,24,17],[24,18,24,22],[25,15,25,17],[25,18,25,22],[26,15,30,15],[26,16,26,18],[27,16,27,18],[27,19,27,20],[27,21,27,22],[28,16,28,18],[26,21,26,22],[32,15,32,18],[32,19,32,20],[32,21,32,22],[33,15,33,22],[34,15,34,22],[39,15,39,22],[28,19,28,22],[29,16,29,18],[29,19,29,22],[30,16,30,18],[30,19,30,22],[31,15,31,22],[44,1,44,14],[45,1,45,2],[45,3,45,4],[45,5,45,6],[45,7,45,8],[45,9,45,10],[45,11,45,12],[45,13,45,14],[42,15,42,18],[42,19,42,22],[43,15,43,18],[43,19,43,22],[43,3,43,4],[43,7,43,8],[43,11,43,12],[40,18,40,20],[41,18,41,20],[53,1,54,6],[53,7,53,10],[53,11,54,12],[53,13,54,13],[53,14,54,15],[53,16,54,22],[54,7,54,10],[46,13,46,14],[47,1,47,2],[47,3,47,4],[47,5,47,6],[47,7,47,8],[47,9,47,10],[47,11,47,12],[47,13,47,14],[46,1,46,2],[46,3,46,4],[46,5,46,6],[46,7,46,8],[46,9,46,10],[46,11,46,12],[58,4,58,5],[58,7,58,16],[58,17,58,19],[59,4,59,5],[59,7,59,16],[59,17,59,19],[55,16,55,19],[55,20,55,22],[56,4,56,5],[57,4,57,5],[57,7,57,16],[57,17,57,19],[55,4,55,5],[55,6,55,7],[55,8,55,9],[55,10,55,11],[55,12,55,13],[55,14,55,15],[69,1,69,4],[69,5,69,8],[69,9,69,12],[69,13,69,16],[69,17,69,21],[70,1,70,4],[60,7,60,16],[60,17,60,19],[68,1,68,4],[68,5,68,8],[68,9,68,12],[68,13,68,16],[68,17,68,21]]}
[null,"スリット伝票　ＬＯＴ",null,null,null,null,null,{"$f":"②OP記入欄改!$D$5","v":60331356011},null,null,null,"製区",null,{"$f":"②OP記入欄改!$D$7","v":"T"},"品種",null,{"$f":"②OP記入欄改!$D$8","v":"CPP 2203"}]
[]
[null,"番手",null,{"$f":"②OP記入欄改!$D$9","v":25},"原反名",null,{"$f":"②OP記入欄改!$D$10","v":"9021A3"},null,"原反幅",null,{"$f":"②OP記入欄改!$D$11","v":1960},null,"原反長",null,{"$f":"②OP記入欄改!$D$12","v":45000},null,"前工程M/C",null,null,null,{"$f":"②OP記入欄改!$D$13","v":"DF6"}]
[null,null,{"$f":"②OP記入欄改!G3","v":"仕向先"},null,{"$f":"②OP記入欄改!I3","v":"製品幅"},null,{"$f":"②OP記入欄改!K3","v":"製品長さ"},null,{"$f":"②OP記入欄改!M3","v":"計本"},{"$f":"②OP記入欄改!N3","v":"実"},{"$f":"②OP記入欄改!O3","v":"梱形"},"Ａ保枝番",null,null,null,"ミル枝番",null,null,"Ｂ級枝番",null,null,"ロック\nシャフト","コア"]
[null,{"$f":"②OP記入欄改!F4","v":1},{"$f":"②OP記入欄改!G4","v":0},null,{"$f":"②OP記入欄改!I4","v":980},null,{"$f":"②OP記入欄改!K4","v":8000},null,{"$f":"②OP記入欄改!M4","v":5},{"$f":"②OP記入欄改!N4","v":0},{"$f":"②OP記入欄改!O4","v":0},null,null,null,null,null,null,null,null,null,null,"-",3,null,"-"]
[null,{"$f":"②OP記入欄改!F5","v":2},{"$f":"②OP記入欄改!G5","v":0},null,{"$f":"②OP記入欄改!I5","v":940},null,{"$f":"②OP記入欄改!K5","v":8000},null,{"$f":"②OP記入欄改!M5","v":5},{"$f":"②OP記入欄改!N5","v":0},{"$f":"②OP記入欄改!O5","v":0},null,null,null,null,null,null,null,null,null,null,"-",3,null,"〇"]
[null,{"$f":"②OP記入欄改!F6","v":3},{"$f":"②OP記入欄改!G6","v":0},null,{"$f":"②OP記入欄改!I6","v":980},null,{"$f":"②OP記入欄改!K6","v":4000},null,{"$f":"②OP記入欄改!M6","v":1},{"$f":"②OP記入欄改!N6","v":0},{"$f":"②OP記入欄改!O6","v":0},null,null,null,null,null,null,null,null,null,null,"-",3]
[null,{"$f":"②OP記入欄改!F7","v":4},{"$f":"②OP記入欄改!G7","v":0},null,{"$f":"②OP記入欄改!I7","v":940},null,{"$f":"②OP記入欄改!K7","v":4000},null,{"$f":"②OP記入欄改!M7","v":1},{"$f":"②OP記入欄改!N7","v":0},{"$f":"②OP記入欄改!O7","v":0}]
[null,{"$f":"②OP記入欄改!F8","v":5},{"$f":"②OP記入欄改!G8","v":0},null,{"$f":"②OP記入欄改!I8","v":0},null,{"$f":"②OP記入欄改!K8","v":0},null,{"$f":"②OP記入欄改!M8","v":0},{"$f":"②OP記入欄改!N8","v":0},{"$f":"②OP記入欄改!O8","v":0}]
[null,{"$f":"②OP記入欄改!F9","v":6},{"$f":"②OP記入欄改!G9","v":0},null,{"$f":"②OP記入欄改!I9","v":0},null,{"$f":"②OP記入欄改!K9","v":0},null,{"$f":"②OP記入欄改!M9","v":0},{"$f":"②OP記入欄改!N9","v":0},{"$f":"②OP記入欄改!O9","v":0}]
[null,{"$f":"②OP記入欄改!F10","v":7},{"$f":"②OP記入欄改!G10","v":0},null,{"$f":"②OP記入欄改!I10","v":0},null,{"$f":"②OP記入欄改!K10","v":0},null,{"$f":"②OP記入欄改!M10","v":0},{"$f":"②OP記入欄改!N10","v":0},{"$f":"②OP記入欄改!O10","v":0}]
[null,{"$f":"②OP記入欄改!F11","v":8},{"$f":"②OP記入欄改!G11","v":0},null,{"$f":"②OP記入欄改!I11","v":0},null,{"$f":"②OP記入欄改!K11","v":0},null,{"$f":"②OP記入欄改!M11","v":0},{"$f":"②OP記入欄改!N11","v":0},{"$f":"②OP記入欄改!O11","v":0}]
[null,{"$f":"②OP記入欄改!F12","v":9},{"$f":"②OP記入欄改!G12","v":0},null,{"$f":"②OP記入欄改!I12","v":0},null,{"$f":"②OP記入欄改!K12","v":0},null,{"$f":"②OP記入欄改!M12","v":0},{"$f":"②OP記入欄改!N12","v":0},{"$f":"②OP記入欄改!O12","v":0}]
[null,{"$f":"②OP記入欄改!F13","v":10},{"$f":"②OP記入欄改!G13","v":0},null,{"$f":"②OP記入欄改!I13","v":0},null,{"$f":"②OP記入欄改!K13","v":0},null,{"$f":"②OP記入欄改!M13","v":0},{"$f":"②OP記入欄改!N13","v":0},{"$f":"②OP記入欄改!O13","v":0}]
[null,"スリット作業指示№",null,null,null,null,"M/C№",null,"加工日",null,null,null,"前工程品質情報",null,null,"切断シフト1",null,null,null,"切断シフト2"]
[null,{"$f":"②OP記入欄改!$D$14","v":43855940001},null,null,null,null,"ＳＬ-",{"$f":"②OP記入欄改!$D$15","v":19},{"$f":"②OP記入欄改!$D$4","v":"2025-10-23"},null,null,null,"確認　　　□",null,null,"組","作業者",null,null,"組","作業者"]
[null,"巻芯\n確認"]
[]
[null,null,null,null,null,null,null,null,null,null,null,null,null,null,null,"切替開始",null,null,"　　　　　時　　　　　分"]
[null,null,null,null,null,null,null,null,null,null,null,null,null,null,null,"切断開始",null,null,"　　　　　時　　　　　分"]
[null,null,null,null,null,null,null,null,null,null,null,null,null,null,null,"切断完了",null,null,"　　　　　時　　　　　分"]
[null,null,null,null,null,null,null,null,null,null,null,null,null,null,null,"食事開始",null,null,"　　　　　時　　　　　分"]
[null,null,null,null,null,null,null,null,null,null,null,null,null,null,null,"食事完了",null,null,"　　　　　時　　　　　分"]
[null,null,null,null,null,null,null,null,null,null,null,null,null,null,null,"停機開始",null,null,"　　　　　時　　　　　分"]
[null,null,null,null,null,null,null,null,null,null,null,null,null,null,null,"停機完了",null,null,"　　　　　時　　　　　分"]
[null,null,null,null,null,null,null,null,null,null,null,null,null,null,null,"停機理由"]
[null,null,null,null,null,null,null,null,null,null,null,null,null,null,null,"条件確認","M/C条件設定",null,null,"呼出№",null,{"$f":"②OP記入欄改!$D$16","v":3}]
[null,null,null,null,null,null,null,null,null,null,null,null,null,null,null,null,"欠点検出機",null,null,"使用条件№",null,{"$f":"②OP記入欄改!$D$17","v":2}]
[null,null,null,null,null,null,null,null,null,null,null,null,null,null,null,null,"速度(m/min)",null,null,480]
[null,null,null,null,null,null,null,null,null,null,null,null,null,null,null,null,"張力(N/ｍ・kg)"]
[null,null,null,null,null,null,null,null,null,null,null,null,null,null,null,null,"接圧(N/ｍ・kg)"]
[null,null,null,null,null,null,null,null,null,null,null,null,null,null,null,"外観確認"]
[null,null,null,null,null,null,null,null,null,null,null,null,null,null,null,"表層透過検査",null,null,null,"OK",null,"NG"]
[null,null,null,null,null,null,null,null,null,null,null,null,null,null,null,"巻姿外観確認[ｽﾀｰﾄ/中間/ﾗｽﾄ]"]
[null,null,null,null,null,null,null,null,null,null,null,null,null,null,null,"各枝番に問題無『〇』問題有『☓』を記載"]
[]
[]
[]
[]
[null,null,null,null,null,null,null,null,null,null,null,null,null,null,null,"※『☓』の場合は展開図に内容を記載する"]
[null,null,null,null,null,null,null,null,null,null,null,null,null,null,null,"検材エッジ",null,null,265]
[null,20,null,null,null,null,null,null,null,null,null,null,null,null,20,"表層ロス",null,null,0,null,null,"m"]
[null,null,null,null,null,null,null,null,null,null,null,null,null,null,null,"レザー/丸刃交換",null,null,null,"レザー/丸刃廃棄"]
[null,null,null,500,null,null,null,840,null,null,null,640,null,null,null,"枚",null,null,null,"枚"]
[null,"膜厚測定（ＣＰＰ・VMPET・BRPET）",null,null,null,null,null,null,null,null,null,null,null,null,null,"備考"]
[null,"ラスト"]
[null,"1セット表層"]
[null,"1セット芯"]
[]
[]
[]
[]
[]
[null,"スリット伝票　ＬＯＴ",null,null,null,null,null,{"$f":"②OP記入欄改!$D$5","v":60331356011},null,null,null,"製区",null,{"$f":"②OP記入欄改!$D$7","v":"T"},"品種",null,{"$f":"②OP記入欄改!$D$8","v":"CPP 2203"}]
[]
[null,"番手",null,{"$f":"②OP記入欄改!$D$9","v":25},"原反名",null,{"$f":"②OP記入欄改!$D$10","v":"9021A3"},null,"原反幅",null,{"$f":"②OP記入欄改!$D$11","v":1960},null,"原反長",null,{"$f":"②OP記入欄改!$D$12","v":45000},null,"前工程M/C",null,null,null,{"$f":"②OP記入欄改!$D$13","v":"DF6"}]
[null,"停機内容",null,null,null,null,null,"停機詳細",null,null,null,null,null,null,null,null,null,"停機時間"]
[null,"Ｆ破れ",null,null,"有/無",null,null,null,null,null,null,null,null,null,null,null,null,null,null,null,"hr"]
[null,"耳切れ",null,null,"有/無",null,null,null,null,null,null,null,null,null,null,null,null,null,null,null,"hr"]
[null,"紙管切断",null,null,"有/無",null,null,null,null,null,null,null,null,null,null,null,null,null,null,null,"hr"]
[null,"その他停機内容",null,null,null,null,null,null,null,null,null,null,null,null,null,null,null,null,null,null,"hr"]
[null,"備考"]
[]
[]
[]
[]
[]
[null,"外観確認内容"]
[null,"原反ズレ",null,null,null,"当てキズ",null,null,null,"溝ロール痕",null,null,null,"ＴＤスジ",null,null,null,"ピッチキズ"]
[null,"スリキズ",null,null,null,"クボミシワ",null,null,null,"シワムラ",null,null,null,"変色",null,null,null,"巻芯シワ"]
[null,"切断面・異物"]

{"sheet":"15セット用","index":14,"n_rows":71,"n_cols":23,"rows_kept":71,"cut":false,"hidden":true,"merged":[[70,1,70,4],[68,1,68,4],[68,5,68,8],[68,9,68,12],[68,13,68,16],[68,17,68,21],[69,1,69,4],[69,5,69,8],[69,9,69,12],[69,13,69,16],[69,17,69,21],[60,7,60,16],[60,17,60,19],[58,4,58,5],[58,7,58,16],[58,17,58,19],[59,4,59,5],[59,7,59,16],[59,17,59,19],[55,16,55,19],[55,20,55,22],[56,4,56,5],[57,4,57,5],[57,7,57,16],[57,17,57,19],[55,4,55,5],[55,6,55,7],[55,8,55,9],[55,10,55,11],[55,12,55,13],[55,14,55,15],[53,1,54,6],[53,7,53,10],[53,11,54,12],[53,13,54,13],[53,14,54,15],[53,16,54,22],[54,7,54,10],[46,13,46,14],[47,1,47,2],[47,3,47,4],[47,5,47,6],[47,7,47,8],[47,9,47,10],[47,11,47,12],[47,13,47,14],[46,1,46,2],[46,3,46,4],[46,5,46,6],[46,7,46,8],[46,9,46,10],[46,11,46,12],[44,1,44,14],[45,1,45,2],[45,3,45,4],[45,5,45,6],[45,7,45,8],[45,9,45,10],[45,11,45,12],[45,13,45,14],[39,15,39,22],[42,15,42,18],[42,19,42,22],[43,15,43,18],[43,19,43,22],[40,18,40,20],[41,18,41,20],[31,15,31,22],[32,15,32,18],[32,19,32,20],[32,21,32,22],[33,15,33,22],[34,15,34,22],[24,15,24,17],[24,18,24,22],[25,15,25,17],[25,18,25,22],[26,15,30,15],[26,16,26,18],[27,16,27,18],[28,16,28,18],[29,16,29,18],[30,16,30,18],[27,19,27,20],[27,21,27,22],[26,21,26,22],[28,19,28,22],[29,19,29,20],[30,19,30,20],[21,15,21,17],[21,18,21,22],[22,15,22,17],[22,18,22,22],[23,15,23,17],[23,18,23,22],[18,15,18,17],[18,18,18,22],[19,15,19,17],[19,18,19,22],[20,15,20,17],[20,18,20,22],[15,1,15,5],[15,8,15,11],[15,12,15,14],[15,16,15,18],[15,20,15,22],[16,1,17,1],[16,15,17,15],[16,16,17,18],[16,19,17,19],[16,20,17,22],[14,1,14,5],[14,6,14,7],[14,8,14,11],[14,12,14,14],[14,15,14,18],[14,19,14,22],[13,2,13,3],[13,4,13,5],[13,6,13,7],[13,11,13,14],[13,15,13,17],[13,18,13,20],[12,2,12,3],[12,4,12,5],[12,6,12,7],[12,11,12,14],[12,15,12,17],[12,18,12,20],[11,2,11,3],[11,4,11,5],[11,6,11,7],[11,11,11,14],[11,15,11,17],[11,18,11,20],[10,2,10,3],[10,4,10,5],[10,6,10,7],[10,11,10,14],[10,15,10,17],[10,18,10,20],[9,2,9,3],[9,4,9,5],[9,6,9,7],[9,11,9,14],[9,15,9,17],[9,18,9,20],[8,2,8,3],[8,4,8,5],[8,6,8,7],[8,11,8,14],[8,15,8,17],[8,18,8,20],[7,2,7,3],[7,4,7,5],[7,6,7,7],[7,11,7,14],[7,15,7,17],[7,18,7,20],[2,12,2,13],[2,14,2,15],[6,2,6,3],[6,4,6,5],[6,6,6,7],[6,11,6,14],[6,15,6,17],[6,18,6,20],[5,2,5,3],[5,4,5,5],[5,6,5,7],[5,11,5,14],[5,15,5,17],[5,18,5,20],[0,7,1,10],[0,1,1,6],[0,11,1,12],[0,13,1,13],[0,14,1,15],[0,16,1,22],[4,2,4,3],[4,4,4,5],[4,6,4,7],[4,11,4,14],[4,15,4,17],[4,18,4,20],[2,16,2,19],[2,20,2,22],[3,2,3,3],[3,4,3,5],[3,6,3,7],[3,11,3,14],[3,15,3,17],[3,18,3,20],[2,4,2,5],[2,6,2,7],[2,8,2,9],[2,10,2,11]]}
[null,"スリット伝票　ＬＯＴ",null,null,null,null,null,{"$f":"②OP記入欄改!$D$5","v":60331356011},null,null,null,"製区",null,{"$f":"②OP記入欄改!$D$7","v":"T"},"品種",null,{"$f":"②OP記入欄改!$D$8","v":"CPP 2203"}]
[]
[null,"番手",null,{"$f":"②OP記入欄改!$D$9","v":25},"原反名",null,{"$f":"②OP記入欄改!$D$10","v":"9021A3"},null,"原反幅",null,{"$f":"②OP記入欄改!$D$11","v":1960},null,"原反長",null,{"$f":"②OP記入欄改!$D$12","v":45000},null,"前工程M/C",null,null,null,{"$f":"②OP記入欄改!$D$13","v":"DF6"}]
[null,null,{"$f":"②OP記入欄改!G3","v":"仕向先"},null,{"$f":"②OP記入欄改!I3","v":"製品幅"},null,{"$f":"②OP記入欄改!K3","v":"製品長さ"},null,{"$f":"②OP記入欄改!M3","v":"計本"},{"$f":"②OP記入欄改!N3","v":"実"},{"$f":"②OP記入欄改!O3","v":"梱形"},"Ａ保枝番",null,null,null,"ミル枝番",null,null,"Ｂ級枝番",null,null,"ロック\nシャフト","コア"]
[null,{"$f":"②OP記入欄改!F4","v":1},{"$f":"②OP記入欄改!G4","v":0},null,{"$f":"②OP記入欄改!I4","v":980},null,{"$f":"②OP記入欄改!K4","v":8000},null,{"$f":"②OP記入欄改!M4","v":5},{"$f":"②OP記入欄改!N4","v":0},{"$f":"②OP記入欄改!O4","v":0},null,null,null,null,null,null,null,null,null,null,"-",3]
[null,{"$f":"②OP記入欄改!F5","v":2},{"$f":"②OP記入欄改!G5","v":0},null,{"$f":"②OP記入欄改!I5","v":940},null,{"$f":"②OP記入欄改!K5","v":8000},null,{"$f":"②OP記入欄改!M5","v":5},{"$f":"②OP記入欄改!N5","v":0},{"$f":"②OP記入欄改!O5","v":0},null,null,null,null,null,null,null,null,null,null,"-",3]
[null,{"$f":"②OP記入欄改!F6","v":3},{"$f":"②OP記入欄改!G6","v":0},null,{"$f":"②OP記入欄改!I6","v":980},null,{"$f":"②OP記入欄改!K6","v":4000},null,{"$f":"②OP記入欄改!M6","v":1},{"$f":"②OP記入欄改!N6","v":0},{"$f":"②OP記入欄改!O6","v":0},null,null,null,null,null,null,null,null,null,null,"-",3]
[null,{"$f":"②OP記入欄改!F7","v":4},{"$f":"②OP記入欄改!G7","v":0},null,{"$f":"②OP記入欄改!I7","v":940},null,{"$f":"②OP記入欄改!K7","v":4000},null,{"$f":"②OP記入欄改!M7","v":1},{"$f":"②OP記入欄改!N7","v":0},{"$f":"②OP記入欄改!O7","v":0},null,null,null,null,null,null,null,null,null,null,"-",3]
[null,{"$f":"②OP記入欄改!F8","v":5},{"$f":"②OP記入欄改!G8","v":0},null,{"$f":"②OP記入欄改!I8","v":0},null,{"$f":"②OP記入欄改!K8","v":0},null,{"$f":"②OP記入欄改!M8","v":0},{"$f":"②OP記入欄改!N8","v":0},{"$f":"②OP記入欄改!O8","v":0}]
[null,{"$f":"②OP記入欄改!F9","v":6},{"$f":"②OP記入欄改!G9","v":0},null,{"$f":"②OP記入欄改!I9","v":0},null,{"$f":"②OP記入欄改!K9","v":0},null,{"$f":"②OP記入欄改!M9","v":0},{"$f":"②OP記入欄改!N9","v":0},{"$f":"②OP記入欄改!O9","v":0}]
[null,{"$f":"②OP記入欄改!F10","v":7},{"$f":"②OP記入欄改!G10","v":0},null,{"$f":"②OP記入欄改!I10","v":0},null,{"$f":"②OP記入欄改!K10","v":0},null,{"$f":"②OP記入欄改!M10","v":0},{"$f":"②OP記入欄改!N10","v":0},{"$f":"②OP記入欄改!O10","v":0}]
[null,{"$f":"②OP記入欄改!F11","v":8},{"$f":"②OP記入欄改!G11","v":0},null,{"$f":"②OP記入欄改!I11","v":0},null,{"$f":"②OP記入欄改!K11","v":0},null,{"$f":"②OP記入欄改!M11","v":0},{"$f":"②OP記入欄改!N11","v":0},{"$f":"②OP記入欄改!O11","v":0}]
[null,{"$f":"②OP記入欄改!F12","v":9},{"$f":"②OP記入欄改!G12","v":0},null,{"$f":"②OP記入欄改!I12","v":0},null,{"$f":"②OP記入欄改!K12","v":0},null,{"$f":"②OP記入欄改!M12","v":0},{"$f":"②OP記入欄改!N12","v":0},{"$f":"②OP記入欄改!O12","v":0}]
[null,{"$f":"②OP記入欄改!F13","v":10},{"$f":"②OP記入欄改!G13","v":0},null,{"$f":"②OP記入欄改!I13","v":0},null,{"$f":"②OP記入欄改!K13","v":0},null,{"$f":"②OP記入欄改!M13","v":0},{"$f":"②OP記入欄改!N13","v":0},{"$f":"②OP記入欄改!O13","v":0}]
[null,"スリット作業指示№",null,null,null,null,"M/C№",null,"加工日",null,null,null,"前工程品質情報",null,null,"切断シフト1",null,null,null,"切断シフト2"]
[null,{"$f":"②OP記入欄改!$D$14","v":43855940001},null,null,null,null,"ＳＬ-",{"$f":"②OP記入欄改!$D$15","v":19},{"$f":"②OP記入欄改!$D$4","v":"2025-10-23"},null,null,null,"確認　　　□",null,null,"組","作業者",null,null,"組","作業者"]
[null,"巻芯\n確認"]
[]
[null,null,null,null,null,null,null,null,null,null,null,null,null,null,null,"切替開始",null,null,"　　　　　時　　　　　分"]
[null,null,null,null,null,null,null,null,null,null,null,null,null,null,null,"切断開始",null,null,"　　　　　時　　　　　分"]
[null,null,null,null,null,null,null,null,null,null,null,null,null,null,null,"切断完了",null,null,"　　　　　時　　　　　分"]
[null,null,null,null,null,null,null,null,null,null,null,null,null,null,null,"食事開始",null,null,"　　　　　時　　　　　分"]
[null,null,null,null,null,null,null,null,null,null,null,null,null,null,null,"食事完了",null,null,"　　　　　時　　　　　分"]
[null,null,null,null,null,null,null,null,null,null,null,null,null,null,null,"停機開始",null,null,"　　　　　時　　　　　分"]
[null,null,null,null,null,null,null,null,null,null,null,null,null,null,null,"停機完了",null,null,"　　　　　時　　　　　分"]
[null,null,null,null,null,null,null,null,null,null,null,null,null,null,null,"停機理由"]
[null,null,null,null,null,null,null,null,null,null,null,null,null,null,null,"条件確認","M/C条件設定",null,null,"呼出№",null,{"$f":"②OP記入欄改!$D$16","v":3}]
[null,null,null,null,null,null,null,null,null,null,null,null,null,null,null,null,"欠点検出機",null,null,"使用条件№",null,{"$f":"②OP記入欄改!$D$17","v":2}]
[null,null,null,null,null,null,null,null,null,null,null,null,null,null,null,null,"速度(m/min)",null,null,480]
[null,null,null,null,null,null,null,null,null,null,null,null,null,null,null,null,"張力(N/ｍ・kg)"]
[null,null,null,null,null,null,null,null,null,null,null,null,null,null,null,null,"接圧(N/ｍ・kg)"]
[null,null,null,null,null,null,null,null,null,null,null,null,null,null,null,"外観確認"]
[null,null,null,null,null,null,null,null,null,null,null,null,null,null,null,"表層透過検査",null,null,null,"OK",null,"NG"]
[null,null,null,null,null,null,null,null,null,null,null,null,null,null,null,"巻姿外観確認[ｽﾀｰﾄ/中間/ﾗｽﾄ]"]
[null,null,null,null,null,null,null,null,null,null,null,null,null,null,null,"各枝番に問題無『〇』問題有『☓』を記載"]
[]
[]
[]
[]
[null,null,null,null,null,null,null,null,null,null,null,null,null,null,null,"※『☓』の場合は展開図に内容を記載する"]
[null,null,null,null,null,null,null,null,null,null,null,null,null,null,null,"検材エッジ",null,null,355]
[null,null,null,null,null,null,null,null,null,null,null,null,null,null,null,"表層ロス",null,null,null,null,null,"m"]
[null,null,null,null,null,null,null,null,null,null,null,null,null,null,null,"レザー/丸刃交換",null,null,null,"レザー/丸刃廃棄"]
[null,null,null,null,null,null,null,null,null,null,null,null,null,null,null,"枚",null,null,null,"枚"]
[null,"膜厚測定（ＣＰＰ・VMPET・BRPET）",null,null,null,null,null,null,null,null,null,null,null,null,null,"備考"]
[null,"ラスト"]
[null,"1セット表層"]
[null,"1セット芯"]
[]
[]
[]
[]
[]
[null,"スリット伝票　ＬＯＴ",null,null,null,null,null,{"$f":"②OP記入欄改!$D$5","v":60331356011},null,null,null,"製区",null,{"$f":"②OP記入欄改!$D$7","v":"T"},"品種",null,{"$f":"②OP記入欄改!$D$8","v":"CPP 2203"}]
[]
[null,"番手",null,{"$f":"②OP記入欄改!$D$9","v":25},"原反名",null,{"$f":"②OP記入欄改!$D$10","v":"9021A3"},null,"原反幅",null,{"$f":"②OP記入欄改!$D$11","v":1960},null,"原反長",null,{"$f":"②OP記入欄改!$D$12","v":45000},null,"前工程M/C",null,null,null,{"$f":"②OP記入欄改!$D$13","v":"DF6"}]
[null,"停機内容",null,null,null,null,null,"停機詳細",null,null,null,null,null,null,null,null,null,"停機時間"]
[null,"Ｆ破れ",null,null,"有/無",null,null,null,null,null,null,null,null,null,null,null,null,null,null,null,"hr"]
[null,"耳切れ",null,null,"有/無",null,null,null,null,null,null,null,null,null,null,null,null,null,null,null,"hr"]
[null,"紙管切断",null,null,"有/無",null,null,null,null,null,null,null,null,null,null,null,null,null,null,null,"hr"]
[null,"その他停機内容",null,null,null,null,null,null,null,null,null,null,null,null,null,null,null,null,null,null,"hr"]
[null,"備考"]
[]
[]
[]
[]
[]
[null,"外観確認内容"]
[null,"原反ズレ",null,null,null,"当てキズ",null,null,null,"溝ロール痕",null,null,null,"ＴＤスジ",null,null,null,"ピッチキズ"]
[null,"スリキズ",null,null,null,"クボミシワ",null,null,null,"シワムラ",null,null,null,"変色",null,null,null,"巻芯シワ"]
[null,"切断面・異物"]

{"sheet":"2丁","index":15,"n_rows":71,"n_cols":26,"rows_kept":71,"cut":false,"hidden":true,"merged":[[0,7,1,10],[0,1,1,6],[0,11,1,12],[0,13,1,13],[0,14,1,15],[0,16,1,22],[4,2,4,3],[4,4,4,5],[4,6,4,7],[4,11,4,14],[4,15,4,17],[4,18,4,20],[2,16,2,19],[2,20,2,22],[3,2,3,3],[3,4,3,5],[3,6,3,7],[3,11,3,14],[3,15,3,17],[3,18,3,20],[2,4,2,5],[2,6,2,7],[2,8,2,9],[2,10,2,11],[2,12,2,13],[2,14,2,15],[6,2,6,3],[6,4,6,5],[6,6,6,7],[6,11,6,14],[6,15,6,17],[6,18,6,20],[5,2,5,3],[5,4,5,5],[5,6,5,7],[5,11,5,14],[5,15,5,17],[5,18,5,20],[8,2,8,3],[8,4,8,5],[8,6,8,7],[8,11,8,14],[8,15,8,17],[8,18,8,20],[7,2,7,3],[7,4,7,5],[7,6,7,7],[7,11,7,14],[7,15,7,17],[7,18,7,20],[10,2,10,3],[10,4,10,5],[10,6,10,7],[10,11,10,14],[10,15,10,17],[10,18,10,20],[9,2,9,3],[9,4,9,5],[9,6,9,7],[9,11,9,14],[9,15,9,17],[9,18,9,20],[12,2,12,3],[12,4,12,5],[12,6,12,7],[12,11,12,14],[12,15,12,17],[12,18,12,20],[11,2,11,3],[11,4,11,5],[11,6,11,7],[11,11,11,14],[11,15,11,17],[11,18,11,20],[14,1,14,5],[14,6,14,7],[14,8,14,11],[14,12,14,14],[14,15,14,18],[14,19,14,22],[13,2,13,3],[13,4,13,5],[13,6,13,7],[13,11,13,14],[13,15,13,17],[13,18,13,20],[15,1,15,5],[15,8,15,11],[15,12,15,14],[15,16,15,18],[15,20,15,22],[16,1,17,1],[16,15,17,15],[16,16,17,18],[16,19,17,19],[16,20,17,22],[21,15,21,17],[21,18,21,22],[22,15,22,17],[22,18,22,22],[23,15,23,17],[23,18,23,22],[18,15,18,17],[18,18,18,22],[19,15,19,17],[19,18,19,22],[20,15,20,17],[20,18,20,22],[31,15,31,22],[32,15,32,18],[32,19,32,20],[32,21,32,22],[33,15,33,22],[34,15,34,22],[24,15,24,17],[24,18,24,22],[25,15,25,17],[25,18,25,22],[26,15,30,15],[26,16,26,18],[27,16,27,18],[28,16,28,18],[29,16,29,18],[30,16,30,18],[27,21,27,22],[27,19,27,20],[28,19,28,22],[29,19,29,20],[30,19,30,20],[26,21,26,22],[44,1,44,14],[45,1,45,2],[45,3,45,4],[45,5,45,6],[45,7,45,8],[45,9,45,10],[45,11,45,12],[45,13,45,14],[39,15,39,22],[40,15,40,22],[42,15,42,18],[42,19,42,22],[43,15,43,18],[43,19,43,22],[43,2,43,7],[43,8,43,13],[53,1,54,6],[53,7,53,10],[53,11,54,12],[53,13,54,13],[53,14,54,15],[53,16,54,22],[54,7,54,10],[46,13,46,14],[47,1,47,2],[47,3,47,4],[47,5,47,6],[47,7,47,8],[47,9,47,10],[47,11,47,12],[47,13,47,14],[46,1,46,2],[46,3,46,4],[46,5,46,6],[46,7,46,8],[46,9,46,10],[46,11,46,12],[58,4,58,5],[58,7,58,16],[58,17,58,19],[59,4,59,5],[59,7,59,16],[59,17,59,19],[55,16,55,19],[55,20,55,22],[56,4,56,5],[57,4,57,5],[57,7,57,16],[57,17,57,19],[55,4,55,5],[55,6,55,7],[55,8,55,9],[55,10,55,11],[55,12,55,13],[55,14,55,15],[69,1,69,4],[69,5,69,8],[69,9,69,12],[69,13,69,16],[69,17,69,21],[70,1,70,4],[60,7,60,16],[60,17,60,19],[68,1,68,4],[68,5,68,8],[68,9,68,12],[68,13,68,16],[68,17,68,21]]}
[null,"スリット伝票　ＬＯＴ",null,null,null,null,null,{"$f":"②OP記入欄改!$D$5","v":60331356011},null,null,null,"製区",null,{"$f":"②OP記入欄改!$D$7","v":"T"},"品種",null,{"$f":"②OP記入欄改!$D$8","v":"CPP 2203"}]
[]
[null,"番手",null,{"$f":"②OP記入欄改!$D$9","v":25},"原反名",null,{"$f":"②OP記入欄改!$D$10","v":"9021A3"},null,"原反幅",null,{"$f":"②OP記入欄改!$D$11","v":1960},null,"原反長",null,{"$f":"②OP記入欄改!$D$12","v":45000},null,"前工程M/C",null,null,null,{"$f":"②OP記入欄改!$D$13","v":"DF6"}]
[null,null,{"$f":"②OP記入欄改!G3","v":"仕向先"},null,{"$f":"②OP記入欄改!I3","v":"製品幅"},null,{"$f":"②OP記入欄改!K3","v":"製品長さ"},null,{"$f":"②OP記入欄改!M3","v":"計本"},{"$f":"②OP記入欄改!N3","v":"実"},{"$f":"②OP記入欄改!O3","v":"梱形"},"Ａ保枝番",null,null,null,"ミル枝番",null,null,"Ｂ級枝番",null,null,"ロック\nシャフト","コア"]
[null,{"$f":"②OP記入欄改!F4","v":1},{"$f":"②OP記入欄改!G4","v":0},null,{"$f":"②OP記入欄改!I4","v":980},null,{"$f":"②OP記入欄改!K4","v":8000},null,{"$f":"②OP記入欄改!M4","v":5},{"$f":"②OP記入欄改!N4","v":0},{"$f":"②OP記入欄改!O4","v":0},null,null,null,null,null,null,null,null,null,null,"〇",3]
[null,{"$f":"②OP記入欄改!F5","v":2},{"$f":"②OP記入欄改!G5","v":0},null,{"$f":"②OP記入欄改!I5","v":940},null,{"$f":"②OP記入欄改!K5","v":8000},null,{"$f":"②OP記入欄改!M5","v":5},{"$f":"②OP記入欄改!N5","v":0},{"$f":"②OP記入欄改!O5","v":0},null,null,null,null,null,null,null,null,null,null,"-",3,null,null,"-"]
[null,{"$f":"②OP記入欄改!F6","v":3},{"$f":"②OP記入欄改!G6","v":0},null,{"$f":"②OP記入欄改!I6","v":980},null,{"$f":"②OP記入欄改!K6","v":4000},null,{"$f":"②OP記入欄改!M6","v":1},{"$f":"②OP記入欄改!N6","v":0},{"$f":"②OP記入欄改!O6","v":0},null,null,null,null,null,null,null,null,null,null,null,null,null,null,"〇"]
[null,{"$f":"②OP記入欄改!F7","v":4},{"$f":"②OP記入欄改!G7","v":0},null,{"$f":"②OP記入欄改!I7","v":940},null,{"$f":"②OP記入欄改!K7","v":4000},null,{"$f":"②OP記入欄改!M7","v":1},{"$f":"②OP記入欄改!N7","v":0},{"$f":"②OP記入欄改!O7","v":0}]
[null,{"$f":"②OP記入欄改!F8","v":5},{"$f":"②OP記入欄改!G8","v":0},null,{"$f":"②OP記入欄改!I8","v":0},null,{"$f":"②OP記入欄改!K8","v":0},null,{"$f":"②OP記入欄改!M8","v":0},{"$f":"②OP記入欄改!N8","v":0},{"$f":"②OP記入欄改!O8","v":0}]
[null,{"$f":"②OP記入欄改!F9","v":6},{"$f":"②OP記入欄改!G9","v":0},null,{"$f":"②OP記入欄改!I9","v":0},null,{"$f":"②OP記入欄改!K9","v":0},null,{"$f":"②OP記入欄改!M9","v":0},{"$f":"②OP記入欄改!N9","v":0},{"$f":"②OP記入欄改!O9","v":0}]
[null,{"$f":"②OP記入欄改!F10","v":7},{"$f":"②OP記入欄改!G10","v":0},null,{"$f":"②OP記入欄改!I10","v":0},null,{"$f":"②OP記入欄改!K10","v":0},null,{"$f":"②OP記入欄改!M10","v":0},{"$f":"②OP記入欄改!N10","v":0},{"$f":"②OP記入欄改!O10","v":0}]
[null,{"$f":"②OP記入欄改!F11","v":8},{"$f":"②OP記入欄改!G11","v":0},null,{"$f":"②OP記入欄改!I11","v":0},null,{"$f":"②OP記入欄改!K11","v":0},null,{"$f":"②OP記入欄改!M11","v":0},{"$f":"②OP記入欄改!N11","v":0},{"$f":"②OP記入欄改!O11","v":0}]
[null,{"$f":"②OP記入欄改!F12","v":9},{"$f":"②OP記入欄改!G12","v":0},null,{"$f":"②OP記入欄改!I12","v":0},null,{"$f":"②OP記入欄改!K12","v":0},null,{"$f":"②OP記入欄改!M12","v":0},{"$f":"②OP記入欄改!N12","v":0},{"$f":"②OP記入欄改!O12","v":0}]
[null,{"$f":"②OP記入欄改!F13","v":10},{"$f":"②OP記入欄改!G13","v":0},null,{"$f":"②OP記入欄改!I13","v":0},null,{"$f":"②OP記入欄改!K13","v":0},null,{"$f":"②OP記入欄改!M13","v":0},{"$f":"②OP記入欄改!N13","v":0},{"$f":"②OP記入欄改!O13","v":0}]
[null,"スリット作業指示№",null,null,null,null,"M/C№",null,"加工日",null,null,null,"前工程品質情報",null,null,"切断シフト1",null,null,null,"切断シフト2"]
[null,{"$f":"②OP記入欄改!$D$14","v":43855940001},null,null,null,null,"ＳＬ-",{"$f":"②OP記入欄改!$D$15","v":19},{"$f":"②OP記入欄改!$D$4","v":"2025-10-23"},null,null,null,"確認　　　□",null,null,"組","作業者",null,null,"組","作業者"]
[null,"巻芯\n確認"]
[]
[null,null,null,null,null,null,null,null,null,null,null,null,null,null,null,"切替開始",null,null,"　　　　　時　　　　　分"]
[null,null,null,null,null,null,null,null,null,null,null,null,null,null,null,"切断開始",null,null,"　　　　　時　　　　　分"]
[null,null,null,null,null,null,null,null,null,null,null,null,null,null,null,"切断完了",null,null,"　　　　　時　　　　　分"]
[null,null,null,null,null,null,null,null,null,null,null,null,null,null,null,"食事開始",null,null,"　　　　　時　　　　　分"]
[null,null,null,null,null,null,null,null,null,null,null,null,null,null,null,"食事完了",null,null,"　　　　　時　　　　　分"]
[null,null,null,null,null,null,null,null,null,null,null,null,null,null,null,"停機開始",null,null,"　　　　　時　　　　　分"]
[null,null,null,null,null,null,null,null,null,null,null,null,null,null,null,"停機完了",null,null,"　　　　　時　　　　　分"]
[null,null,null,null,null,null,null,null,null,null,null,null,null,null,null,"停機理由"]
[null,null,null,null,null,null,null,null,null,null,null,null,null,null,null,"条件確認","M/C条件設定",null,null,"呼出№",null,{"$f":"②OP記入欄改!$D$16","v":3}]
[null,null,null,null,null,null,null,null,null,null,null,null,null,null,null,null,"欠点検出機",null,null,"使用条件№",null,{"$f":"②OP記入欄改!$D$17","v":2}]
[null,null,null,null,null,null,null,null,null,null,null,null,null,null,null,null,"速度(m/min)",null,null,450]
[null,null,null,null,null,null,null,null,null,null,null,null,null,null,null,null,"張力(N/ｍ・kg)"]
[null,null,null,null,null,null,null,null,null,null,null,null,null,null,null,null,"接圧(N/ｍ・kg)"]
[null,null,null,null,null,null,null,null,null,null,null,null,null,null,null,"外観確認"]
[null,null,null,null,null,null,null,null,null,null,null,null,null,null,null,"表層透過検査",null,null,null,"OK",null,"NG"]
[null,null,null,null,null,null,null,null,null,null,null,null,null,null,null,"巻姿外観確認[ｽﾀｰﾄ/中間/ﾗｽﾄ]"]
[null,null,null,null,null,null,null,null,null,null,null,null,null,null,null,"各枝番に問題無『〇』問題有『☓』を記載"]
[]
[]
[]
[]
[null,null,null,null,null,null,null,null,null,null,null,null,null,null,null,"※『☓』の場合は展開図に内容を記載する"]
[null,null,null,null,null,null,null,null,null,null,null,null,null,null,null,"検材エッジ　225ⅿｍ"]
[null,null,null,null,null,null,null,null,null,null,null,null,null,null,null,"表層ロス　　　　　　　ⅿ"]
[null,null,null,null,null,null,null,null,null,null,null,null,null,null,null,"レザー/丸刃交換",null,null,null,"レザー/丸刃廃棄"]
[null,null,null,null,null,null,null,null,null,null,null,null,null,null,null,"　枚",null,null,null,"　枚"]
[null,"膜厚測定（ＣＰＰ・VMPET・BRPET）"]
[null,"ラスト"]
[null,"1セット表層"]
[null,"1セット芯",null,null,null,null,null,null,null,null,null,null,null,null,null,"残",null,null,"m",null,null,null,"Φ"]
[]
[]
[]
[]
[]
[null,"スリット伝票　ＬＯＴ",null,null,null,null,null,{"$f":"②OP記入欄改!$D$5","v":60331356011},null,null,null,"製区",null,{"$f":"②OP記入欄改!$D$7","v":"T"},"品種",null,{"$f":"②OP記入欄改!$D$8","v":"CPP 2203"}]
[]
[null,"番手",null,{"$f":"②OP記入欄改!$D$9","v":25},"原反名",null,{"$f":"②OP記入欄改!$D$10","v":"9021A3"},null,"原反幅",null,{"$f":"②OP記入欄改!$D$11","v":1960},null,"原反長",null,{"$f":"②OP記入欄改!$D$12","v":45000},null,"前工程M/C",null,null,null,{"$f":"②OP記入欄改!$D$13","v":"DF6"}]
[null,"停機内容",null,null,null,null,null,"停機詳細",null,null,null,null,null,null,null,null,null,"停機時間"]
[null,"Ｆ破れ",null,null,"有/無",null,null,null,null,null,null,null,null,null,null,null,null,null,null,null,"hr"]
[null,"耳切れ",null,null,"有/無",null,null,null,null,null,null,null,null,null,null,null,null,null,null,null,"hr"]
[null,"紙管切断",null,null,"有/無",null,null,null,null,null,null,null,null,null,null,null,null,null,null,null,"hr"]
[null,"その他停機内容",null,null,null,null,null,null,null,null,null,null,null,null,null,null,null,null,null,null,"hr"]
[null,"備考"]
[]
[]
[]
[]
[]
[null,"外観確認内容"]
[null,"原反ズレ",null,null,null,"当てキズ",null,null,null,"溝ロール痕",null,null,null,"ＴＤスジ",null,null,null,"ピッチキズ"]
[null,"スリキズ",null,null,null,"クボミシワ",null,null,null,"シワムラ",null,null,null,"変色",null,null,null,"巻芯シワ"]
[null,"切断面・異物"]

{"sheet":"3丁","index":16,"n_rows":71,"n_cols":23,"rows_kept":71,"cut":false,"hidden":true,"merged":[[0,7,1,10],[70,1,70,4],[68,1,68,4],[68,5,68,8],[68,9,68,12],[68,13,68,16],[68,17,68,21],[69,1,69,4],[69,5,69,8],[69,9,69,12],[69,13,69,16],[69,17,69,21],[0,1,1,6],[0,11,1,12],[0,13,1,13],[0,14,1,15],[0,16,1,22],[4,2,4,3],[4,4,4,5],[4,6,4,7],[4,11,4,14],[4,15,4,17],[4,18,4,20],[2,16,2,19],[2,20,2,22],[3,2,3,3],[3,4,3,5],[3,6,3,7],[3,11,3,14],[3,15,3,17],[3,18,3,20],[2,4,2,5],[2,6,2,7],[2,8,2,9],[2,10,2,11],[2,12,2,13],[2,14,2,15],[6,2,6,3],[6,4,6,5],[6,6,6,7],[6,11,6,14],[6,15,6,17],[6,18,6,20],[5,2,5,3],[5,4,5,5],[5,6,5,7],[5,11,5,14],[5,15,5,17],[5,18,5,20],[8,2,8,3],[8,4,8,5],[8,6,8,7],[8,11,8,14],[8,15,8,17],[8,18,8,20],[7,2,7,3],[7,4,7,5],[7,6,7,7],[7,11,7,14],[7,15,7,17],[7,18,7,20],[10,2,10,3],[10,4,10,5],[10,6,10,7],[10,11,10,14],[10,15,10,17],[10,18,10,20],[9,2,9,3],[9,4,9,5],[9,6,9,7],[9,11,9,14],[9,15,9,17],[9,18,9,20],[12,2,12,3],[12,4,12,5],[12,6,12,7],[12,11,12,14],[12,15,12,17],[12,18,12,20],[11,2,11,3],[11,4,11,5],[11,6,11,7],[11,11,11,14],[11,15,11,17],[11,18,11,20],[14,1,14,5],[14,6,14,7],[14,8,14,11],[14,12,14,14],[14,15,14,18],[14,19,14,22],[13,2,13,3],[13,4,13,5],[13,6,13,7],[13,11,13,14],[13,15,13,17],[13,18,13,20],[15,1,15,5],[15,8,15,11],[15,12,15,14],[15,16,15,18],[15,20,15,22],[16,1,17,1],[16,15,17,15],[16,16,17,18],[16,19,17,19],[16,20,17,22],[21,15,21,17],[21,18,21,22],[22,15,22,17],[22,18,22,22],[23,15,23,17],[23,18,23,22],[18,15,18,17],[18,18,18,22],[19,15,19,17],[19,18,19,22],[20,15,20,17],[20,18,20,22],[31,15,31,22],[32,15,32,18],[32,19,32,20],[32,21,32,22],[33,15,33,22],[34,15,34,22],[24,15,24,17],[24,18,24,22],[25,15,25,17],[25,18,25,22],[26,15,30,15],[26,16,26,18],[27,16,27,18],[28,16,28,18],[29,16,29,18],[30,16,30,18],[27,19,27,20],[27,21,27,22],[28,19,28,22],[29,19,29,22],[30,19,30,22],[44,1,44,14],[45,1,45,2],[45,3,45,4],[45,5,45,6],[45,7,45,8],[45,9,45,10],[45,11,45,12],[45,13,45,14],[39,15,39,22],[40,15,40,22],[42,15,42,18],[42,19,42,22],[43,15,43,18],[43,19,43,22],[43,3,43,4],[43,7,43,8],[43,11,43,12],[53,1,54,6],[53,7,53,10],[53,11,54,12],[53,13,54,13],[53,14,54,15],[53,16,54,22],[54,7,54,10],[46,13,46,14],[47,1,47,2],[47,3,47,4],[47,5,47,6],[47,7,47,8],[47,9,47,10],[47,11,47,12],[47,13,47,14],[46,1,46,2],[46,3,46,4],[46,5,46,6],[46,7,46,8],[46,9,46,10],[46,11,46,12],[55,20,55,22],[56,4,56,5],[57,4,57,5],[57,7,57,16],[57,17,57,19],[55,4,55,5],[55,6,55,7],[55,8,55,9],[55,10,55,11],[55,12,55,13],[55,14,55,15],[60,7,60,16],[60,17,60,19],[58,4,58,5],[58,7,58,16],[58,17,58,19],[59,4,59,5],[59,7,59,16],[59,17,59,19],[55,16,55,19]]}
[null,"スリット伝票　ＬＯＴ",null,null,null,null,null,{"$f":"②OP記入欄改!$D$5","v":60331356011},null,null,null,"製区",null,{"$f":"②OP記入欄改!$D$7","v":"T"},"品種",null,{"$f":"②OP記入欄改!$D$8","v":"CPP 2203"}]
[]
[null,"番手",null,{"$f":"②OP記入欄改!$D$9","v":25},"原反名",null,{"$f":"②OP記入欄改!$D$10","v":"9021A3"},null,"原反幅",null,{"$f":"②OP記入欄改!$D$11","v":1960},null,"原反長",null,{"$f":"②OP記入欄改!$D$12","v":45000},null,"前工程M/C",null,null,null,{"$f":"②OP記入欄改!$D$13","v":"DF6"}]
[null,null,{"$f":"②OP記入欄改!G3","v":"仕向先"},null,{"$f":"②OP記入欄改!I3","v":"製品幅"},null,{"$f":"②OP記入欄改!K3","v":"製品長さ"},null,{"$f":"②OP記入欄改!M3","v":"計本"},{"$f":"②OP記入欄改!N3","v":"実"},{"$f":"②OP記入欄改!O3","v":"梱形"},"Ａ保枝番",null,null,null,"ミル枝番",null,null,"Ｂ級枝番",null,null,"ロック\nシャフト","コア"]
[null,{"$f":"②OP記入欄改!F4","v":1},{"$f":"②OP記入欄改!G4","v":0},null,{"$f":"②OP記入欄改!I4","v":980},null,{"$f":"②OP記入欄改!K4","v":8000},null,{"$f":"②OP記入欄改!M4","v":5},{"$f":"②OP記入欄改!N4","v":0},{"$f":"②OP記入欄改!O4","v":0},null,null,null,null,null,null,null,null,null,null,null,6]
[null,{"$f":"②OP記入欄改!F5","v":2},{"$f":"②OP記入欄改!G5","v":0},null,{"$f":"②OP記入欄改!I5","v":940},null,{"$f":"②OP記入欄改!K5","v":8000},null,{"$f":"②OP記入欄改!M5","v":5},{"$f":"②OP記入欄改!N5","v":0},{"$f":"②OP記入欄改!O5","v":0},null,null,null,null,null,null,null,null,null,null,null,6]
[null,{"$f":"②OP記入欄改!F6","v":3},{"$f":"②OP記入欄改!G6","v":0},null,{"$f":"②OP記入欄改!I6","v":980},null,{"$f":"②OP記入欄改!K6","v":4000},null,{"$f":"②OP記入欄改!M6","v":1},{"$f":"②OP記入欄改!N6","v":0},{"$f":"②OP記入欄改!O6","v":0},null,null,null,null,null,null,null,null,null,null,null,6]
[null,{"$f":"②OP記入欄改!F7","v":4},{"$f":"②OP記入欄改!G7","v":0},null,{"$f":"②OP記入欄改!I7","v":940},null,{"$f":"②OP記入欄改!K7","v":4000},null,{"$f":"②OP記入欄改!M7","v":1},{"$f":"②OP記入欄改!N7","v":0},{"$f":"②OP記入欄改!O7","v":0},null,null,null,null,null,null,null,null,null,null,null,6]
[null,{"$f":"②OP記入欄改!F8","v":5},{"$f":"②OP記入欄改!G8","v":0},null,{"$f":"②OP記入欄改!I8","v":0},null,{"$f":"②OP記入欄改!K8","v":0},null,{"$f":"②OP記入欄改!M8","v":0},{"$f":"②OP記入欄改!N8","v":0},"Ｐ",null,null,null,null,null,null,null,null,null,null,null,6]
[null,{"$f":"②OP記入欄改!F9","v":6},{"$f":"②OP記入欄改!G9","v":0},null,740,null,{"$f":"②OP記入欄改!K9","v":0},null,{"$f":"②OP記入欄改!M9","v":0},{"$f":"②OP記入欄改!N9","v":0},"Ｐ",null,null,null,null,null,null,null,null,null,null,null,6]
[null,{"$f":"②OP記入欄改!F10","v":7},{"$f":"②OP記入欄改!G10","v":0},null,{"$f":"②OP記入欄改!I10","v":0},null,{"$f":"②OP記入欄改!K10","v":0},null,{"$f":"②OP記入欄改!M10","v":0},{"$f":"②OP記入欄改!N10","v":0},{"$f":"②OP記入欄改!O10","v":0},null,null,null,null,null,null,null,null,null,null,null,6]
[null,{"$f":"②OP記入欄改!F11","v":8},{"$f":"②OP記入欄改!G11","v":0},null,{"$f":"②OP記入欄改!I11","v":0},null,{"$f":"②OP記入欄改!K11","v":0},null,{"$f":"②OP記入欄改!M11","v":0},{"$f":"②OP記入欄改!N11","v":0},{"$f":"②OP記入欄改!O11","v":0},null,null,null,null,null,null,null,null,null,null,null,6]
[null,{"$f":"②OP記入欄改!F12","v":9},{"$f":"②OP記入欄改!G12","v":0},null,{"$f":"②OP記入欄改!I12","v":0},null,{"$f":"②OP記入欄改!K12","v":0},null,{"$f":"②OP記入欄改!M12","v":0},{"$f":"②OP記入欄改!N12","v":0},{"$f":"②OP記入欄改!O12","v":0},null,null,null,null,null,null,null,null,null,null,null,6]
[null,{"$f":"②OP記入欄改!F13","v":10},{"$f":"②OP記入欄改!G13","v":0},null,{"$f":"②OP記入欄改!I13","v":0},null,{"$f":"②OP記入欄改!K13","v":0},null,{"$f":"②OP記入欄改!M13","v":0},{"$f":"②OP記入欄改!N13","v":0},{"$f":"②OP記入欄改!O13","v":0},null,null,null,null,null,null,null,null,null,null,null,6]
[null,"スリット作業指示№",null,null,null,null,"M/C№",null,"加工日",null,null,null,"前工程品質情報",null,null,"切断シフト1",null,null,null,"切断シフト2"]
[null,{"$f":"②OP記入欄改!$D$14","v":43855940001},null,null,null,null,"ＳＬ-",{"$f":"②OP記入欄改!$D$15","v":19},{"$f":"②OP記入欄改!$D$4","v":"2025-10-23"},null,null,null,"確認　　　□",null,null,"組","作業者",null,null,"組","作業者"]
[null,"巻芯\n確認"]
[]
[null,null,null,null,null,null,null,null,null,null,null,null,null,null,null,"切替開始",null,null,"　　　　　時　　　　　分"]
[null,null,null,null,null,null,null,null,null,null,null,null,null,null,null,"切断開始",null,null,"　　　　　時　　　　　分"]
[null,null,null,null,null,null,null,null,null,null,null,null,null,null,null,"切断完了",null,null,"　　　　　時　　　　　分"]
[null,null,null,null,null,null,null,null,null,null,null,null,null,null,null,"食事開始",null,null,"　　　　　時　　　　　分"]
[null,null,null,null,null,null,null,null,null,null,null,null,null,null,null,"食事完了",null,null,"　　　　　時　　　　　分"]
[null,null,null,null,null,null,null,null,null,null,null,null,null,null,null,"停機開始",null,null,"　　　　　時　　　　　分"]
[null,null,null,null,null,null,null,null,null,null,null,null,null,null,null,"停機完了",null,null,"　　　　　時　　　　　分"]
[null,null,null,null,null,null,null,null,null,null,null,null,null,null,null,"停機理由"]
[null,null,null,null,null,null,null,null,null,null,null,null,null,null,null,"条件確認","M/C条件設定",null,null,"呼出№",null,null,{"$f":"②OP記入欄改!$D$16","v":3}]
[null,null,null,null,null,null,null,null,null,null,null,null,null,null,null,null,"欠点検出機",null,null,"使用条件№",null,{"$f":"②OP記入欄改!$D$17","v":2}]
[null,null,null,null,null,null,null,null,null,null,null,null,null,null,null,null,"速度(m/min)",null,null,450]
[null,null,null,null,null,null,null,null,null,null,null,null,null,null,null,null,"張力(N/ｍ・kg)",null,null,14]
[null,null,null,null,null,null,null,null,null,null,null,null,null,null,null,null,"接圧(N/ｍ・kg)",null,null,20]
[null,null,null,null,null,null,null,null,null,null,null,null,null,null,null,"外観確認"]
[null,null,null,null,null,null,null,null,null,null,null,null,null,null,null,"表層透過検査",null,null,null,"OK",null,"NG"]
[null,null,null,null,null,null,null,null,null,null,null,null,null,null,null,"巻姿外観確認[ｽﾀｰﾄ/中間/ﾗｽﾄ]"]
[null,null,null,null,null,null,null,null,null,null,null,null,null,null,null,"各枝番に問題無『〇』問題有『☓』を記載"]
[]
[]
[]
[]
[null,null,null,null,null,null,null,null,null,null,null,null,null,null,null,"※『☓』の場合は展開図に内容を記載する"]
[null,null,null,null,null,null,null,null,null,null,null,null,null,null,null,"検材エッジ　　　　　　ⅿｍ"]
[null,20,null,null,null,null,null,null,null,null,null,null,null,null,20,"表層ロス　　　　　　　ⅿ"]
[null,null,null,null,null,null,null,null,null,null,null,null,null,null,null,"レザー/丸刃交換",null,null,null,"レザー/丸刃廃棄"]
[null,null,null,580,null,null,null,720,null,null,null,640,null,null,null,"　　枚",null,null,null,"　　枚"]
[null,"膜厚測定（ＣＰＰ・VMPET・BRPET）",null,null,null,null,null,null,null,null,null,null,null,null,null,"備考"]
[null,"ラスト"]
[null,"1セット表層"]
[null,"1セット芯",null,null,null,null,null,null,null,null,null,null,null,null,null,"残",null,null,"m",null,null,null,"Φ"]
[]
[]
[]
[]
[]
[null,"スリット伝票　ＬＯＴ",null,null,null,null,null,{"$f":"②OP記入欄改!$D$5","v":60331356011},null,null,null,"製区",null,{"$f":"②OP記入欄改!$D$7","v":"T"},"品種",null,{"$f":"②OP記入欄改!$D$8","v":"CPP 2203"}]
[]
[null,"番手",null,{"$f":"②OP記入欄改!$D$9","v":25},"原反名",null,{"$f":"②OP記入欄改!$D$10","v":"9021A3"},null,"原反幅",null,{"$f":"②OP記入欄改!$D$11","v":1960},null,"原反長",null,{"$f":"②OP記入欄改!$D$12","v":45000},null,"前工程M/C",null,null,null,{"$f":"②OP記入欄改!$D$13","v":"DF6"}]
[null,"停機内容",null,null,null,null,null,"停機詳細",null,null,null,null,null,null,null,null,null,"停機時間"]
[null,"Ｆ破れ",null,null,"有/無",null,null,null,null,null,null,null,null,null,null,null,null,null,null,null,"hr"]
[null,"耳切れ",null,null,"有/無",null,null,null,null,null,null,null,null,null,null,null,null,null,null,null,"hr"]
[null,"紙管切断",null,null,"有/無",null,null,null,null,null,null,null,null,null,null,null,null,null,null,null,"hr"]
[null,"その他停機内容",null,null,null,null,null,null,null,null,null,null,null,null,null,null,null,null,null,null,"hr"]
[null,"備考"]
[]
[]
[]
[]
[]
[null,"外観確認内容"]
[null,"原反ズレ",null,null,null,"当てキズ",null,null,null,"溝ロール痕",null,null,null,"ＴＤスジ",null,null,null,"ピッチキズ"]
[null,"スリキズ",null,null,null,"クボミシワ",null,null,null,"シワムラ",null,null,null,"変色",null,null,null,"巻芯シワ"]
[null,"切断面・異物"]

{"sheet":"ＣＰＰ#40","index":17,"n_rows":71,"n_cols":23,"rows_kept":71,"cut":false,"hidden":true,"merged":[[69,1,69,4],[69,5,69,8],[69,9,69,12],[69,13,69,16],[69,17,69,21],[70,1,70,4],[60,7,60,16],[60,17,60,19],[68,1,68,4],[68,5,68,8],[68,9,68,12],[68,13,68,16],[68,17,68,21],[55,20,55,22],[56,4,56,5],[57,4,57,5],[57,7,57,16],[57,17,57,19],[55,4,55,5],[55,6,55,7],[55,8,55,9],[55,10,55,11],[55,12,55,13],[55,14,55,15],[46,7,46,8],[46,9,46,10],[46,11,46,12],[58,4,58,5],[58,7,58,16],[58,17,58,19],[59,4,59,5],[59,7,59,16],[59,17,59,19],[55,16,55,19],[42,19,42,22],[43,2,43,7],[43,8,43,13],[43,15,43,18],[43,19,43,22],[40,18,40,20],[53,1,54,6],[53,7,53,10],[53,11,54,12],[53,13,54,13],[53,14,54,15],[53,16,54,22],[54,7,54,10],[46,13,46,14],[47,1,47,2],[47,3,47,4],[47,5,47,6],[47,7,47,8],[47,9,47,10],[47,11,47,12],[47,13,47,14],[46,1,46,2],[46,3,46,4],[46,5,46,6],[44,1,44,14],[45,1,45,2],[45,3,45,4],[45,5,45,6],[45,7,45,8],[45,9,45,10],[45,11,45,12],[45,13,45,14],[42,15,42,18],[32,15,32,18],[32,19,32,20],[32,21,32,22],[33,15,33,22],[34,15,34,22],[39,15,39,22],[28,19,28,22],[29,16,29,18],[29,19,29,20],[30,16,30,18],[30,19,30,20],[31,15,31,22],[24,15,24,17],[24,18,24,22],[25,15,25,17],[25,18,25,22],[26,15,30,15],[26,16,26,18],[27,16,27,18],[27,19,27,20],[27,21,27,22],[28,16,28,18],[21,15,21,17],[21,18,21,22],[22,15,22,17],[22,18,22,22],[23,15,23,17],[23,18,23,22],[18,15,18,17],[18,18,18,22],[19,15,19,17],[19,18,19,22],[20,15,20,17],[20,18,20,22],[15,1,15,5],[15,8,15,11],[15,12,15,14],[15,16,15,18],[15,20,15,22],[16,1,17,1],[16,15,17,15],[16,16,17,18],[16,19,17,19],[16,20,17,22],[14,1,14,5],[14,6,14,7],[14,8,14,11],[14,12,14,14],[14,15,14,18],[14,19,14,22],[13,2,13,3],[13,4,13,5],[13,6,13,7],[13,11,13,14],[13,15,13,17],[13,18,13,20],[12,2,12,3],[12,4,12,5],[12,6,12,7],[12,11,12,14],[12,15,12,17],[12,18,12,20],[11,2,11,3],[11,4,11,5],[11,6,11,7],[11,11,11,14],[11,15,11,17],[11,18,11,20],[10,2,10,3],[10,4,10,5],[10,6,10,7],[10,11,10,14],[10,15,10,17],[10,18,10,20],[9,2,9,3],[9,4,9,5],[9,6,9,7],[9,11,9,14],[9,15,9,17],[9,18,9,20],[8,2,8,3],[8,4,8,5],[8,6,8,7],[8,11,8,14],[8,15,8,17],[8,18,8,20],[7,2,7,3],[7,4,7,5],[7,6,7,7],[7,11,7,14],[7,15,7,17],[7,18,7,20],[2,12,2,13],[2,14,2,15],[6,2,6,3],[6,4,6,5],[6,6,6,7],[6,11,6,14],[6,15,6,17],[6,18,6,20],[5,2,5,3],[5,4,5,5],[5,6,5,7],[5,11,5,14],[5,15,5,17],[5,18,5,20],[0,1,1,6],[0,11,1,12],[0,13,1,13],[0,14,1,15],[0,16,1,22],[0,7,1,10],[4,2,4,3],[4,4,4,5],[4,6,4,7],[4,11,4,14],[4,15,4,17],[4,18,4,20],[2,16,2,19],[2,20,2,22],[3,2,3,3],[3,4,3,5],[3,6,3,7],[3,11,3,14],[3,15,3,17],[3,18,3,20],[2,4,2,5],[2,6,2,7],[2,8,2,9],[2,10,2,11]]}
[null,"スリット伝票　ＬＯＴ",null,null,null,null,null,{"$f":"②OP記入欄改!$D$5","v":60331356011},null,null,null,"製区",null,{"$f":"②OP記入欄改!$D$7","v":"T"},"品種",null,{"$f":"②OP記入欄改!$D$8","v":"CPP 2203"}]
[]
[null,"番手",null,{"$f":"②OP記入欄改!$D$9","v":25},"原反名",null,{"$f":"②OP記入欄改!$D$10","v":"9021A3"},null,"原反幅",null,{"$f":"②OP記入欄改!$D$11","v":1960},null,"原反長",null,{"$f":"②OP記入欄改!$D$12","v":45000},null,"前工程M/C",null,null,null,{"$f":"②OP記入欄改!$D$13","v":"DF6"}]
[null,null,{"$f":"②OP記入欄改!G3","v":"仕向先"},null,{"$f":"②OP記入欄改!I3","v":"製品幅"},null,{"$f":"②OP記入欄改!K3","v":"製品長さ"},null,{"$f":"②OP記入欄改!M3","v":"計本"},{"$f":"②OP記入欄改!N3","v":"実"},{"$f":"②OP記入欄改!O3","v":"梱形"},"Ａ保枝番",null,null,null,"ミル枝番",null,null,"Ｂ級枝番",null,null,"ロック\nシャフト","コア"]
[null,{"$f":"②OP記入欄改!F4","v":1},{"$f":"②OP記入欄改!G4","v":0},null,{"$f":"②OP記入欄改!I4","v":980},null,{"$f":"②OP記入欄改!K4","v":8000},null,{"$f":"②OP記入欄改!M4","v":5},{"$f":"②OP記入欄改!N4","v":0},{"$f":"②OP記入欄改!O4","v":0},null,null,null,null,null,null,null,null,null,null,null,6]
[null,{"$f":"②OP記入欄改!F5","v":2},{"$f":"②OP記入欄改!G5","v":0},null,{"$f":"②OP記入欄改!I5","v":940},null,{"$f":"②OP記入欄改!K5","v":8000},null,{"$f":"②OP記入欄改!M5","v":5},{"$f":"②OP記入欄改!N5","v":0},{"$f":"②OP記入欄改!O5","v":0},null,null,null,null,null,null,null,null,null,null,null,6]
[null,{"$f":"②OP記入欄改!F6","v":3},{"$f":"②OP記入欄改!G6","v":0},null,{"$f":"②OP記入欄改!I6","v":980},null,{"$f":"②OP記入欄改!K6","v":4000},null,{"$f":"②OP記入欄改!M6","v":1},{"$f":"②OP記入欄改!N6","v":0},{"$f":"②OP記入欄改!O6","v":0},null,null,null,null,null,null,null,null,null,null,null,6]
[null,{"$f":"②OP記入欄改!F7","v":4},{"$f":"②OP記入欄改!G7","v":0},null,{"$f":"②OP記入欄改!I7","v":940},null,{"$f":"②OP記入欄改!K7","v":4000},null,{"$f":"②OP記入欄改!M7","v":1},{"$f":"②OP記入欄改!N7","v":0},{"$f":"②OP記入欄改!O7","v":0},null,null,null,null,null,null,null,null,null,null,null,6]
[null,{"$f":"②OP記入欄改!F8","v":5},{"$f":"②OP記入欄改!G8","v":0},null,{"$f":"②OP記入欄改!I8","v":0},null,{"$f":"②OP記入欄改!K8","v":0},null,{"$f":"②OP記入欄改!M8","v":0},{"$f":"②OP記入欄改!N8","v":0}," ",null,null,null,null,null,null,null,null,null,null,null,6]
[null,{"$f":"②OP記入欄改!F9","v":6},{"$f":"②OP記入欄改!G9","v":0},null,{"$f":"②OP記入欄改!I9","v":0},null,{"$f":"②OP記入欄改!K9","v":0},null,{"$f":"②OP記入欄改!M9","v":0},{"$f":"②OP記入欄改!N9","v":0}," ",null,null,null,null,null,null,null,null,null,null,null,6]
[null,{"$f":"②OP記入欄改!F10","v":7},{"$f":"②OP記入欄改!G10","v":0},null,{"$f":"②OP記入欄改!I10","v":0},null,{"$f":"②OP記入欄改!K10","v":0},null,{"$f":"②OP記入欄改!M10","v":0},{"$f":"②OP記入欄改!N10","v":0},{"$f":"②OP記入欄改!O10","v":0},null,null,null,null,null,null,null,null,null,null,null,6]
[null,{"$f":"②OP記入欄改!F11","v":8},{"$f":"②OP記入欄改!G11","v":0},null,{"$f":"②OP記入欄改!I11","v":0},null,{"$f":"②OP記入欄改!K11","v":0},null,{"$f":"②OP記入欄改!M11","v":0},{"$f":"②OP記入欄改!N11","v":0},{"$f":"②OP記入欄改!O11","v":0},null,null,null,null,null,null,null,null,null,null,null,6]
[null,{"$f":"②OP記入欄改!F12","v":9},{"$f":"②OP記入欄改!G12","v":0},null,{"$f":"②OP記入欄改!I12","v":0},null,{"$f":"②OP記入欄改!K12","v":0},null,{"$f":"②OP記入欄改!M12","v":0},{"$f":"②OP記入欄改!N12","v":0},{"$f":"②OP記入欄改!O12","v":0},null,null,null,null,null,null,null,null,null,null,null,6]
[null,{"$f":"②OP記入欄改!F13","v":10},{"$f":"②OP記入欄改!G13","v":0},null,{"$f":"②OP記入欄改!I13","v":0},null,{"$f":"②OP記入欄改!K13","v":0},null,{"$f":"②OP記入欄改!M13","v":0},{"$f":"②OP記入欄改!N13","v":0},{"$f":"②OP記入欄改!O13","v":0},null,null,null,null,null,null,null,null,null,null,null,6]
[null,"スリット作業指示№",null,null,null,null,"M/C№",null,"加工日",null,null,null,"前工程品質情報",null,null,"切断シフト1",null,null,null,"切断シフト2"]
[null,{"$f":"②OP記入欄改!$D$14","v":43855940001},null,null,null,null,"ＳＬ-",{"$f":"②OP記入欄改!$D$15","v":19},{"$f":"②OP記入欄改!$D$4","v":"2025-10-23"},null,null,null,"確認　　　□",null,null,"組","作業者",null,null,"組","作業者"]
[null,"巻芯\n確認"]
[]
[null,null,null,null,null,null,null,null,null,null,null,null,null,null,null,"切替開始",null,null,"　　　　　時　　　　　分"]
[null,null,null,null,null,null,null,null,null,null,null,null,null,null,null,"切断開始",null,null,"　　　　　時　　　　　分"]
[null,null,null,null,null,null,null,null,null,null,null,null,null,null,null,"切断完了",null,null,"　　　　　時　　　　　分"]
[null,null,null,null,null,null,null,null,null,null,null,null,null,null,null,"食事開始",null,null,"　　　　　時　　　　　分"]
[null,null,null,null,null,null,null,null,null,null,null,null,null,null,null,"食事完了",null,null,"　　　　　時　　　　　分"]
[null,null,null,null,null,null,null,null,null,null,null,null,null,null,null,"停機開始",null,null,"　　　　　時　　　　　分"]
[null,null,null,null,null,null,null,null,null,null,null,null,null,null,null,"停機完了",null,null,"　　　　　時　　　　　分"]
[null,null,null,null,null,null,null,null,null,null,null,null,null,null,null,"停機理由"]
[null,null,null,null,null,null,null,null,null,null,null,null,null,null,null,"条件確認","M/C条件設定",null,null,"呼出№",null,null,{"$f":"②OP記入欄改!$D$16","v":3}]
[null,null,null,null,null,null,null,null,null,null,null,null,null,null,null,null,"欠点検出機",null,null,"使用条件№",null,{"$f":"②OP記入欄改!$D$17","v":2}]
[null,null,null,null,null,null,null,null,null,null,null,null,null,null,null,null,"速度(m/min)",null,null,400]
[null,null,null,null,null,null,null,null,null,null,null,null,null,null,null,null,"張力(N/ｍ・kg)"]
[null,null,null,null,null,null,null,null,null,null,null,null,null,null,null,null,"接圧(N/ｍ・kg)",null,null,20]
[null,null,null,null,null,null,null,null,null,null,null,null,null,null,null,"外観確認"]
[null,null,null,null,null,null,null,null,null,null,null,null,null,null,null,"表層透過検査",null,null,null,"OK",null,"NG"]
[null,null,null,null,null,null,null,null,null,null,null,null,null,null,null,"巻姿外観確認[ｽﾀｰﾄ/中間/ﾗｽﾄ]"]
[null,null,null,null,null,null,null,null,null,null,null,null,null,null,null,"各枝番に問題無『〇』問題有『☓』を記載"]
[]
[]
[]
[]
[null,null,null,null,null,null,null,null,null,null,null,null,null,null,null,"※『☓』の場合は展開図に内容を記載する"]
[null,null,null,null,null,null,null,null,null,null,null,null,null,null,null,"検材エッジ",null,null,285]
[null,null,null,null,null,null,null,null,null,null,null,null,null,null,null,"表層ロス　　　　　　　ⅿ"]
[null,null,null,null,null,null,null,null,null,null,null,null,null,null,null,"レザー/丸刃交換",null,null,null,"レザー/丸刃廃棄"]
[null,20,860,null,null,null,null,null,900,null,null,null,null,null,20,"3　 枚",null,null,null,"3　 枚"]
[null,"膜厚測定（ＣＰＰ・VMPET・BRPET）",null,null,null,null,null,null,null,null,null,null,null,null,null,"備考"]
[null,"ラスト"]
[null,"1セット表層"]
[null,"1セット芯",null,null,null,null,null,null,null,null,null,null,null,null,null,"残",null,null,"m",null,null,null,"Φ"]
[]
[]
[]
[]
[]
[null,"スリット伝票　ＬＯＴ",null,null,null,null,null,{"$f":"②OP記入欄改!$D$5","v":60331356011},null,null,null,"製区",null,{"$f":"②OP記入欄改!$D$7","v":"T"},"品種",null,{"$f":"②OP記入欄改!$D$8","v":"CPP 2203"}]
[]
[null,"番手",null,{"$f":"②OP記入欄改!$D$9","v":25},"原反名",null,{"$f":"②OP記入欄改!$D$10","v":"9021A3"},null,"原反幅",null,{"$f":"②OP記入欄改!$D$11","v":1960},null,"原反長",null,{"$f":"②OP記入欄改!$D$12","v":45000},null,"前工程M/C",null,null,null,{"$f":"②OP記入欄改!$D$13","v":"DF6"}]
[null,"停機内容",null,null,null,null,null,"停機詳細",null,null,null,null,null,null,null,null,null,"停機時間"]
[null,"Ｆ破れ",null,null,"有/無",null,null,null,null,null,null,null,null,null,null,null,null,null,null,null,"hr"]
[null,"耳切れ",null,null,"有/無",null,null,null,null,null,null,null,null,null,null,null,null,null,null,null,"hr"]
[null,"紙管切断",null,null,"有/無",null,null,null,null,null,null,null,null,null,null,null,null,null,null,null,"hr"]
[null,"その他停機内容",null,null,null,null,null,null,null,null,null,null,null,null,null,null,null,null,null,null,"hr"]
[null,"備考"]
[]
[]
[]
[]
[]
[null,"外観確認内容"]
[null,"原反ズレ",null,null,null,"当てキズ",null,null,null,"溝ロール痕",null,null,null,"ＴＤスジ",null,null,null,"ピッチキズ"]
[null,"スリキズ",null,null,null,"クボミシワ",null,null,null,"シワムラ",null,null,null,"変色",null,null,null,"巻芯シワ"]
[null,"切断面・異物"]

{"sheet":"3丁＃４０","index":18,"n_rows":71,"n_cols":23,"rows_kept":71,"cut":false,"hidden":true,"merged":[[0,1,1,6],[0,7,1,10],[0,11,1,12],[0,13,1,13],[0,14,1,15],[0,16,1,22],[4,2,4,3],[4,4,4,5],[4,6,4,7],[4,11,4,14],[4,15,4,17],[4,18,4,20],[2,16,2,19],[2,20,2,22],[3,2,3,3],[3,4,3,5],[3,6,3,7],[3,11,3,14],[3,15,3,17],[3,18,3,20],[2,4,2,5],[2,6,2,7],[2,8,2,9],[2,10,2,11],[2,12,2,13],[2,14,2,15],[6,2,6,3],[6,4,6,5],[6,6,6,7],[6,11,6,14],[6,15,6,17],[6,18,6,20],[5,2,5,3],[5,4,5,5],[5,6,5,7],[5,11,5,14],[5,15,5,17],[5,18,5,20],[8,2,8,3],[8,4,8,5],[8,6,8,7],[8,11,8,14],[8,15,8,17],[8,18,8,20],[7,2,7,3],[7,4,7,5],[7,6,7,7],[7,11,7,14],[7,15,7,17],[7,18,7,20],[10,2,10,3],[10,4,10,5],[10,6,10,7],[10,11,10,14],[10,15,10,17],[10,18,10,20],[9,2,9,3],[9,4,9,5],[9,6,9,7],[9,11,9,14],[9,15,9,17],[9,18,9,20],[12,2,12,3],[12,4,12,5],[12,6,12,7],[12,11,12,14],[12,15,12,17],[12,18,12,20],[11,2,11,3],[11,4,11,5],[11,6,11,7],[11,11,11,14],[11,15,11,17],[11,18,11,20],[14,1,14,5],[14,6,14,7],[14,8,14,11],[14,12,14,14],[14,15,14,18],[14,19,14,22],[13,2,13,3],[13,4,13,5],[13,6,13,7],[13,11,13,14],[13,15,13,17],[13,18,13,20],[15,1,15,5],[15,8,15,11],[15,12,15,14],[15,16,15,18],[15,20,15,22],[16,1,17,1],[16,15,17,15],[16,16,17,18],[16,19,17,19],[16,20,17,22],[21,15,21,17],[21,18,21,22],[22,15,22,17],[22,18,22,22],[23,15,23,17],[23,18,23,22],[18,15,18,17],[18,18,18,22],[19,15,19,17],[19,18,19,22],[20,15,20,17],[20,18,20,22],[28,19,28,22],[29,16,29,18],[29,19,29,20],[30,16,30,18],[30,19,30,20],[31,15,31,22],[24,15,24,17],[24,18,24,22],[25,15,25,17],[25,18,25,22],[26,15,30,15],[26,16,26,18],[27,16,27,18],[27,19,27,20],[27,21,27,22],[28,16,28,18],[42,19,42,22],[43,15,43,18],[43,19,43,22],[43,2,43,5],[43,6,43,10],[43,11,43,13],[40,18,40,20],[32,15,32,18],[32,19,32,20],[32,21,32,22],[33,15,33,22],[34,15,34,22],[39,15,39,22],[44,1,44,14],[45,1,45,2],[45,3,45,4],[45,5,45,6],[45,7,45,8],[45,9,45,10],[45,11,45,12],[45,13,45,14],[42,15,42,18],[53,1,54,6],[53,7,53,10],[53,11,54,12],[53,13,54,13],[53,14,54,15],[53,16,54,22],[54,7,54,10],[46,13,46,14],[47,1,47,2],[47,3,47,4],[47,5,47,6],[47,7,47,8],[47,9,47,10],[47,11,47,12],[47,13,47,14],[46,1,46,2],[46,3,46,4],[46,5,46,6],[46,7,46,8],[46,9,46,10],[46,11,46,12],[58,4,58,5],[58,7,58,16],[58,17,58,19],[59,4,59,5],[59,7,59,16],[59,17,59,19],[55,16,55,19],[55,20,55,22],[56,4,56,5],[57,4,57,5],[57,7,57,16],[57,17,57,19],[55,4,55,5],[55,6,55,7],[55,8,55,9],[55,10,55,11],[55,12,55,13],[55,14,55,15],[69,1,69,4],[69,5,69,8],[69,9,69,12],[69,13,69,16],[69,17,69,21],[70,1,70,4],[60,7,60,16],[60,17,60,19],[68,1,68,4],[68,5,68,8],[68,9,68,12],[68,13,68,16],[68,17,68,21]]}
[null,"スリット伝票　ＬＯＴ",null,null,null,null,null,{"$f":"②OP記入欄改!$D$5","v":60331356011},null,null,null,"製区",null,{"$f":"②OP記入欄改!$D$7","v":"T"},"品種",null,{"$f":"②OP記入欄改!$D$8","v":"CPP 2203"}]
[]
[null,"番手",null,{"$f":"②OP記入欄改!$D$9","v":25},"原反名",null,{"$f":"②OP記入欄改!$D$10","v":"9021A3"},null,"原反幅",null,{"$f":"②OP記入欄改!$D$11","v":1960},null,"原反長",null,{"$f":"②OP記入欄改!$D$12","v":45000},null,"前工程M/C",null,null,null,{"$f":"②OP記入欄改!$D$13","v":"DF6"}]
[null,null,{"$f":"②OP記入欄改!G3","v":"仕向先"},null,{"$f":"②OP記入欄改!I3","v":"製品幅"},null,{"$f":"②OP記入欄改!K3","v":"製品長さ"},null,{"$f":"②OP記入欄改!M3","v":"計本"},{"$f":"②OP記入欄改!N3","v":"実"},{"$f":"②OP記入欄改!O3","v":"梱形"},"Ａ保枝番",null,null,null,"ミル枝番",null,null,"Ｂ級枝番",null,null,"ロック\nシャフト","コア"]
[null,{"$f":"②OP記入欄改!F4","v":1},{"$f":"②OP記入欄改!G4","v":0},null,{"$f":"②OP記入欄改!I4","v":980},null,{"$f":"②OP記入欄改!K4","v":8000},null,{"$f":"②OP記入欄改!M4","v":5},{"$f":"②OP記入欄改!N4","v":0},{"$f":"②OP記入欄改!O4","v":0},null,null,null,null,null,null,null,null,null,null,null,6]
[null,{"$f":"②OP記入欄改!F5","v":2},{"$f":"②OP記入欄改!G5","v":0},null,{"$f":"②OP記入欄改!I5","v":940},null,{"$f":"②OP記入欄改!K5","v":8000},null,{"$f":"②OP記入欄改!M5","v":5},{"$f":"②OP記入欄改!N5","v":0},{"$f":"②OP記入欄改!O5","v":0},null,null,null,null,null,null,null,null,null,null,null,6]
[null,{"$f":"②OP記入欄改!F6","v":3},{"$f":"②OP記入欄改!G6","v":0},null,{"$f":"②OP記入欄改!I6","v":980},null,{"$f":"②OP記入欄改!K6","v":4000},null,{"$f":"②OP記入欄改!M6","v":1},{"$f":"②OP記入欄改!N6","v":0},{"$f":"②OP記入欄改!O6","v":0},null,null,null,null,null,null,null,null,null,null,null,6]
[null,{"$f":"②OP記入欄改!F7","v":4},{"$f":"②OP記入欄改!G7","v":0},null,{"$f":"②OP記入欄改!I7","v":940},null,{"$f":"②OP記入欄改!K7","v":4000},null,{"$f":"②OP記入欄改!M7","v":1},{"$f":"②OP記入欄改!N7","v":0},{"$f":"②OP記入欄改!O7","v":0},null,null,null,null,null,null,null,null,null,null,null,6]
[null,{"$f":"②OP記入欄改!F8","v":5},{"$f":"②OP記入欄改!G8","v":0},null,{"$f":"②OP記入欄改!I8","v":0},null,{"$f":"②OP記入欄改!K8","v":0},null,{"$f":"②OP記入欄改!M8","v":0},{"$f":"②OP記入欄改!N8","v":0},{"$f":"②OP記入欄改!O8","v":0},null,null,null,null,null,null,null,null,null,null,null,6]
[null,{"$f":"②OP記入欄改!F9","v":6},{"$f":"②OP記入欄改!G9","v":0},null,{"$f":"②OP記入欄改!I9","v":0},null,{"$f":"②OP記入欄改!K9","v":0},null,{"$f":"②OP記入欄改!M9","v":0},{"$f":"②OP記入欄改!N9","v":0},{"$f":"②OP記入欄改!O9","v":0},null,null,null,null,null,null,null,null,null,null,null,6]
[null,{"$f":"②OP記入欄改!F10","v":7},{"$f":"②OP記入欄改!G10","v":0},null,{"$f":"②OP記入欄改!I10","v":0},null,{"$f":"②OP記入欄改!K10","v":0},null,{"$f":"②OP記入欄改!M10","v":0},{"$f":"②OP記入欄改!N10","v":0},{"$f":"②OP記入欄改!O10","v":0},null,null,null,null,null,null,null,null,null,null,null,6]
[null,{"$f":"②OP記入欄改!F11","v":8},{"$f":"②OP記入欄改!G11","v":0},null,{"$f":"②OP記入欄改!I11","v":0},null,{"$f":"②OP記入欄改!K11","v":0},null,{"$f":"②OP記入欄改!M11","v":0},{"$f":"②OP記入欄改!N11","v":0},{"$f":"②OP記入欄改!O11","v":0},null,null,null,null,null,null,null,null,null,null,null,6]
[null,{"$f":"②OP記入欄改!F12","v":9},{"$f":"②OP記入欄改!G12","v":0},null,{"$f":"②OP記入欄改!I12","v":0},null,{"$f":"②OP記入欄改!K12","v":0},null,{"$f":"②OP記入欄改!M12","v":0},{"$f":"②OP記入欄改!N12","v":0},{"$f":"②OP記入欄改!O12","v":0},null,null,null,null,null,null,null,null,null,null,null,6]
[null,{"$f":"②OP記入欄改!F13","v":10},{"$f":"②OP記入欄改!G13","v":0},null,{"$f":"②OP記入欄改!I13","v":0},null,{"$f":"②OP記入欄改!K13","v":0},null,{"$f":"②OP記入欄改!M13","v":0},{"$f":"②OP記入欄改!N13","v":0},{"$f":"②OP記入欄改!O13","v":0},null,null,null,null,null,null,null,null,null,null,null,6]
[null,"スリット作業指示№",null,null,null,null,"M/C№",null,"加工日",null,null,null,"前工程品質情報",null,null,"切断シフト1",null,null,null,"切断シフト2"]
[null,{"$f":"②OP記入欄改!$D$14","v":43855940001},null,null,null,null,"ＳＬ-",{"$f":"②OP記入欄改!$D$15","v":19},{"$f":"②OP記入欄改!$D$4","v":"2025-10-23"},null,null,null,"確認　　　□",null,null,"組","作業者",null,null,"組","作業者"]
[null,"巻芯\n確認"]
[]
[null,null,null,null,null,null,null,null,null,null,null,null,null,null,null,"切替開始",null,null,"　　　　　時　　　　　分"]
[null,null,null,null,null,null,null,null,null,null,null,null,null,null,null,"切断開始",null,null,"　　　　　時　　　　　分"]
[null,null,null,null,null,null,null,null,null,null,null,null,null,null,null,"切断完了",null,null,"　　　　　時　　　　　分"]
[null,null,null,null,null,null,null,null,null,null,null,null,null,null,null,"食事開始",null,null,"　　　　　時　　　　　分"]
[null,null,null,null,null,null,null,null,null,null,null,null,null,null,null,"食事完了",null,null,"　　　　　時　　　　　分"]
[null,null,null,null,null,null,null,null,null,null,null,null,null,null,null,"停機開始",null,null,"　　　　　時　　　　　分"]
[null,null,null,null,null,null,null,null,null,null,null,null,null,null,null,"停機完了",null,null,"　　　　　時　　　　　分"]
[null,null,null,null,null,null,null,null,null,null,null,null,null,null,null,"停機理由"]
[null,null,null,null,null,null,null,null,null,null,null,null,null,null,null,"条件確認","M/C条件設定",null,null,"呼出№",null,null,{"$f":"②OP記入欄改!$D$16","v":3}]
[null,null,null,null,null,null,null,null,null,null,null,null,null,null,null,null,"欠点検出機",null,null,"使用条件№",null,{"$f":"②OP記入欄改!$D$17","v":2}]
[null,null,null,null,null,null,null,null,null,null,null,null,null,null,null,null,"速度(m/min)",null,null,400]
[null,null,null,null,null,null,null,null,null,null,null,null,null,null,null,null,"張力(N/ｍ・kg)"]
[null,null,null,null,null,null,null,null,null,null,null,null,null,null,null,null,"接圧(N/ｍ・kg)"]
[null,null,null,null,null,null,null,null,null,null,null,null,null,null,null,"外観確認"]
[null,null,null,null,null,null,null,null,null,null,null,null,null,null,null,"表層透過検査",null,null,null,"OK",null,"NG"]
[null,null,null,null,null,null,null,null,null,null,null,null,null,null,null,"巻姿外観確認[ｽﾀｰﾄ/中間/ﾗｽﾄ]"]
[null,null,null,null,null,null,null,null,null,null,null,null,null,null,null,"各枝番に問題無『〇』問題有『☓』を記載"]
[]
[]
[]
[]
[null,null,null,null,null,null,null,null,null,null,null,null,null,null,null,"※『☓』の場合は展開図に内容を記載する"]
[null,null,null,null,null,null,null,null,null,null,null,null,null,null,null,"検材エッジ",null,null,285]
[null,null,null,null,null,null,null,null,null,null,null,null,null,null,null,"表層ロス　　　　　　　ⅿ"]
[null,null,null,null,null,null,null,null,null,null,null,null,null,null,null,"レザー/丸刃交換",null,null,null,"レザー/丸刃廃棄"]
[null,20,680,null,null,null,1000,null,null,null,null,560,null,null,20,"0　枚",null,null,null,"0　枚"]
[null,"膜厚測定（ＣＰＰ・VMPET・BRPET）"]
[null,"ラスト"]
[null,"1セット表層"]
[null,"1セット芯",null,null,null,null,null,null,null,null,null,null,null,null,null,"残",null,null,"m",null,null,null,"Φ"]
[]
[]
[]
[]
[]
[null,"スリット伝票　ＬＯＴ",null,null,null,null,null,{"$f":"②OP記入欄改!$D$5","v":60331356011},null,null,null,"製区",null,{"$f":"②OP記入欄改!$D$7","v":"T"},"品種",null,{"$f":"②OP記入欄改!$D$8","v":"CPP 2203"}]
[]
[null,"番手",null,{"$f":"②OP記入欄改!$D$9","v":25},"原反名",null,{"$f":"②OP記入欄改!$D$10","v":"9021A3"},null,"原反幅",null,{"$f":"②OP記入欄改!$D$11","v":1960},null,"原反長",null,{"$f":"②OP記入欄改!$D$12","v":45000},null,"前工程M/C",null,null,null,{"$f":"②OP記入欄改!$D$13","v":"DF6"}]
[null,"停機内容",null,null,null,null,null,"停機詳細",null,null,null,null,null,null,null,null,null,"停機時間"]
[null,"Ｆ破れ",null,null,"有/無",null,null,null,null,null,null,null,null,null,null,null,null,null,null,null,"hr"]
[null,"耳切れ",null,null,"有/無",null,null,null,null,null,null,null,null,null,null,null,null,null,null,null,"hr"]
[null,"紙管切断",null,null,"有/無",null,null,null,null,null,null,null,null,null,null,null,null,null,null,null,"hr"]
[null,"その他停機内容",null,null,null,null,null,null,null,null,null,null,null,null,null,null,null,null,null,null,"hr"]
[null,"備考"]
[]
[]
[]
[]
[]
[null,"外観確認内容"]
[null,"原反ズレ",null,null,null,"当てキズ",null,null,null,"溝ロール痕",null,null,null,"ＴＤスジ",null,null,null,"ピッチキズ"]
[null,"スリキズ",null,null,null,"クボミシワ",null,null,null,"シワムラ",null,null,null,"変色",null,null,null,"巻芯シワ"]
[null,"切断面・異物"]

{"sheet":"CPP4000#20","index":19,"n_rows":71,"n_cols":23,"rows_kept":71,"cut":false,"hidden":true,"merged":[[0,7,1,10],[29,19,29,22],[30,19,30,22],[0,1,1,6],[0,11,1,12],[0,13,1,13],[0,14,1,15],[0,16,1,22],[4,2,4,3],[4,4,4,5],[4,6,4,7],[4,11,4,14],[4,15,4,17],[4,18,4,20],[2,16,2,19],[2,20,2,22],[3,2,3,3],[3,4,3,5],[3,6,3,7],[3,11,3,14],[3,15,3,17],[3,18,3,20],[2,4,2,5],[2,6,2,7],[2,8,2,9],[2,10,2,11],[2,12,2,13],[2,14,2,15],[6,2,6,3],[6,4,6,5],[6,6,6,7],[6,11,6,14],[6,15,6,17],[6,18,6,20],[5,2,5,3],[5,4,5,5],[5,6,5,7],[5,11,5,14],[5,15,5,17],[5,18,5,20],[8,2,8,3],[8,4,8,5],[8,6,8,7],[8,11,8,14],[8,15,8,17],[8,18,8,20],[7,2,7,3],[7,4,7,5],[7,6,7,7],[7,11,7,14],[7,15,7,17],[7,18,7,20],[10,2,10,3],[10,4,10,5],[10,6,10,7],[10,11,10,14],[10,15,10,17],[10,18,10,20],[9,2,9,3],[9,4,9,5],[9,6,9,7],[9,11,9,14],[9,15,9,17],[9,18,9,20],[12,2,12,3],[12,4,12,5],[12,6,12,7],[12,11,12,14],[12,15,12,17],[12,18,12,20],[11,2,11,3],[11,4,11,5],[11,6,11,7],[11,11,11,14],[11,15,11,17],[11,18,11,20],[14,1,14,5],[14,6,14,7],[14,8,14,11],[14,12,14,14],[14,15,14,18],[14,19,14,22],[13,2,13,3],[13,4,13,5],[13,6,13,7],[13,11,13,14],[13,15,13,17],[13,18,13,20],[15,1,15,5],[15,8,15,11],[15,12,15,14],[15,16,15,18],[15,20,15,22],[16,1,17,1],[16,15,17,15],[16,16,17,18],[16,19,17,19],[16,20,17,22],[21,15,21,17],[21,18,21,22],[22,15,22,17],[22,18,22,22],[23,15,23,17],[23,18,23,22],[18,15,18,17],[18,18,18,22],[19,15,19,17],[19,18,19,22],[20,15,20,17],[20,18,20,22],[24,15,24,17],[24,18,24,22],[25,15,25,17],[25,18,25,22],[26,15,30,15],[26,16,26,18],[27,16,27,18],[27,19,27,20],[27,21,27,22],[28,16,28,18],[32,15,32,18],[32,19,32,20],[32,21,32,22],[33,15,33,22],[34,15,34,22],[39,15,39,22],[28,19,28,22],[29,16,29,18],[30,16,30,18],[31,15,31,22],[44,1,44,14],[45,1,45,2],[45,3,45,4],[45,5,45,6],[45,7,45,8],[45,9,45,10],[45,11,45,12],[45,13,45,14],[40,15,40,22],[42,15,42,18],[42,19,42,22],[43,2,43,7],[43,8,43,13],[43,15,43,18],[43,19,43,22],[53,1,54,6],[53,7,53,10],[53,11,54,12],[53,13,54,13],[53,14,54,15],[53,16,54,22],[54,7,54,10],[46,13,46,14],[47,1,47,2],[47,3,47,4],[47,5,47,6],[47,7,47,8],[47,9,47,10],[47,11,47,12],[47,13,47,14],[46,1,46,2],[46,3,46,4],[46,5,46,6],[46,7,46,8],[46,9,46,10],[46,11,46,12],[58,4,58,5],[58,7,58,16],[58,17,58,19],[59,4,59,5],[59,7,59,16],[59,17,59,19],[55,16,55,19],[55,20,55,22],[56,4,56,5],[57,4,57,5],[57,7,57,16],[57,17,57,19],[55,4,55,5],[55,6,55,7],[55,8,55,9],[55,10,55,11],[55,12,55,13],[55,14,55,15],[69,1,69,4],[69,5,69,8],[69,9,69,12],[69,13,69,16],[69,17,69,21],[70,1,70,4],[60,7,60,16],[60,17,60,19],[68,1,68,4],[68,5,68,8],[68,9,68,12],[68,13,68,16],[68,17,68,21]]}
[null,"スリット伝票　ＬＯＴ",null,null,null,null,null,{"$f":"②OP記入欄改!$D$5","v":60331356011},null,null,null,"製区",null,{"$f":"②OP記入欄改!$D$7","v":"T"},"品種",null,{"$f":"②OP記入欄改!$D$8","v":"CPP 2203"}]
[]
[null,"番手",null,{"$f":"②OP記入欄改!$D$9","v":25},"原反名",null,{"$f":"②OP記入欄改!$D$10","v":"9021A3"},null,"原反幅",null,{"$f":"②OP記入欄改!$D$11","v":1960},null,"原反長",null,{"$f":"②OP記入欄改!$D$12","v":45000},null,"前工程M/C",null,null,null,{"$f":"②OP記入欄改!$D$13","v":"DF6"}]
[null,null,{"$f":"②OP記入欄改!G3","v":"仕向先"},null,{"$f":"②OP記入欄改!I3","v":"製品幅"},null,{"$f":"②OP記入欄改!K3","v":"製品長さ"},null,{"$f":"②OP記入欄改!M3","v":"計本"},{"$f":"②OP記入欄改!N3","v":"実"},{"$f":"②OP記入欄改!O3","v":"梱形"},"Ａ保枝番",null,null,null,"ミル枝番",null,null,"Ｂ級枝番",null,null,"ロック\nシャフト","コア"]
[null,{"$f":"②OP記入欄改!F4","v":1},{"$f":"②OP記入欄改!G4","v":0},null,{"$f":"②OP記入欄改!I4","v":980},null,{"$f":"②OP記入欄改!K4","v":8000},null,{"$f":"②OP記入欄改!M4","v":5},{"$f":"②OP記入欄改!N4","v":0},{"$f":"②OP記入欄改!O4","v":0},null,null,null,null,null,null,null,null,null,null,null,6]
[null,{"$f":"②OP記入欄改!F5","v":2},{"$f":"②OP記入欄改!G5","v":0},null,{"$f":"②OP記入欄改!I5","v":940},null,{"$f":"②OP記入欄改!K5","v":8000},null,{"$f":"②OP記入欄改!M5","v":5},{"$f":"②OP記入欄改!N5","v":0},{"$f":"②OP記入欄改!O5","v":0},null,null,null,null,null,null,null,null,null,null,null,6]
[null,{"$f":"②OP記入欄改!F6","v":3},{"$f":"②OP記入欄改!G6","v":0},null,{"$f":"②OP記入欄改!I6","v":980},null,{"$f":"②OP記入欄改!K6","v":4000},null,{"$f":"②OP記入欄改!M6","v":1},{"$f":"②OP記入欄改!N6","v":0},{"$f":"②OP記入欄改!O6","v":0},null,null,null,null,null,null,null,null,null,null,null,6]
[null,{"$f":"②OP記入欄改!F7","v":4},{"$f":"②OP記入欄改!G7","v":0},null,{"$f":"②OP記入欄改!I7","v":940},null,{"$f":"②OP記入欄改!K7","v":4000},null,{"$f":"②OP記入欄改!M7","v":1},{"$f":"②OP記入欄改!N7","v":0},{"$f":"②OP記入欄改!O7","v":0},null,null,null,null,null,null,null,null,null,null,null,6]
[null,{"$f":"②OP記入欄改!F8","v":5},{"$f":"②OP記入欄改!G8","v":0},null,{"$f":"②OP記入欄改!I8","v":0},null,{"$f":"②OP記入欄改!K8","v":0},null,{"$f":"②OP記入欄改!M8","v":0},{"$f":"②OP記入欄改!N8","v":0},{"$f":"②OP記入欄改!O8","v":0},null,null,null,null,null,null,null,null,null,null,null,6]
[null,{"$f":"②OP記入欄改!F9","v":6},{"$f":"②OP記入欄改!G9","v":0},null,{"$f":"②OP記入欄改!I9","v":0},null,{"$f":"②OP記入欄改!K9","v":0},null,{"$f":"②OP記入欄改!M9","v":0},{"$f":"②OP記入欄改!N9","v":0},{"$f":"②OP記入欄改!O9","v":0},null,null,null,null,null,null,null,null,null,null,null,6]
[null,{"$f":"②OP記入欄改!F10","v":7},{"$f":"②OP記入欄改!G10","v":0},null,{"$f":"②OP記入欄改!I10","v":0},null,{"$f":"②OP記入欄改!K10","v":0},null,{"$f":"②OP記入欄改!M10","v":0},{"$f":"②OP記入欄改!N10","v":0},{"$f":"②OP記入欄改!O10","v":0},null,null,null,null,null,null,null,null,null,null,null,6]
[null,{"$f":"②OP記入欄改!F11","v":8},{"$f":"②OP記入欄改!G11","v":0},null,{"$f":"②OP記入欄改!I11","v":0},null,{"$f":"②OP記入欄改!K11","v":0},null,{"$f":"②OP記入欄改!M11","v":0},{"$f":"②OP記入欄改!N11","v":0},{"$f":"②OP記入欄改!O11","v":0},null,null,null,null,null,null,null,null,null,null,null,6]
[null,{"$f":"②OP記入欄改!F12","v":9},{"$f":"②OP記入欄改!G12","v":0},null,{"$f":"②OP記入欄改!I12","v":0},null,{"$f":"②OP記入欄改!K12","v":0},null,{"$f":"②OP記入欄改!M12","v":0},{"$f":"②OP記入欄改!N12","v":0},{"$f":"②OP記入欄改!O12","v":0},null,null,null,null,null,null,null,null,null,null,null,6]
[null,{"$f":"②OP記入欄改!F13","v":10},{"$f":"②OP記入欄改!G13","v":0},null,{"$f":"②OP記入欄改!I13","v":0},null,{"$f":"②OP記入欄改!K13","v":0},null,{"$f":"②OP記入欄改!M13","v":0},{"$f":"②OP記入欄改!N13","v":0},{"$f":"②OP記入欄改!O13","v":0},null,null,null,null,null,null,null,null,null,null,null,6]
[null,"スリット作業指示№",null,null,null,null,"M/C№",null,"加工日",null,null,null,"前工程品質情報",null,null,"切断シフト1",null,null,null,"切断シフト2"]
[null,{"$f":"②OP記入欄改!$D$14","v":43855940001},null,null,null,null,"ＳＬ-",{"$f":"②OP記入欄改!$D$15","v":19},{"$f":"②OP記入欄改!$D$4","v":"2025-10-23"},null,null,null,"確認　　　□",null,null,"組","作業者",null,null,"組","作業者"]
[null,"巻芯\n確認"]
[]
[null,null,"25",null,null,null,null,null,"26",null,null,null,null,null,null,"切替開始",null,null,"　　　　　時　　　　　分"]
[null,null,null,null,null,null,null,null,null,null,null,null,null,null,null,"切断開始",null,null,"　　　　　時　　　　　分"]
[null,null,"23",null,null,null,null,null,"24",null,null,null,null,null,null,"切断完了",null,null,"　　　　　時　　　　　分"]
[null,null,null,null,null,null,null,null,null,null,null,null,null,null,null,"食事開始",null,null,"　　　　　時　　　　　分"]
[null,null,"21",null,null,null,null,null,"22",null,null,null,null,null,null,"食事完了",null,null,"　　　　　時　　　　　分"]
[null,null,null,null,null,null,null,null,null,null,null,null,null,null,null,"停機開始",null,null,"　　　　　時　　　　　分"]
[null,null,"19",null,null,null,null,null,"20",null,null,null,null,null,null,"停機完了",null,null,"　　　　　時　　　　　分"]
[null,null,null,null,null,null,null,null,null,null,null,null,null,null,null,"停機理由"]
[null,null,"17",null,null,null,null,null,"18",null,null,null,null,null,null,"条件確認","M/C条件設定",null,null,"呼出№",null,null,{"$f":"②OP記入欄改!$D$16","v":3}]
[null,null,null,null,null,null,null,null,null,null,null,null,null,null,null,null,"欠点検出機",null,null,"使用条件№",null,{"$f":"②OP記入欄改!$D$17","v":2}]
[null,null,"15",null,null,null,null,null,"16",null,null,null,null,null,null,null,"速度(m/min)",null,null,450]
[null,null,null,null,null,null,null,null,null,null,null,null,null,null,null,null,"張力(N/ｍ・kg)",null,null,14]
[null,null,"13",null,null,null,null,null,"14",null,null,null,null,null,null,null,"接圧(N/ｍ・kg)",null,null,22]
[null,null,null,null,null,null,null,null,null,null,null,null,null,null,null,"外観確認"]
[null,null,"11",null,null,null,null,null,"12",null,null,null,null,null,null,"表層透過検査",null,null,null,"OK",null,"NG"]
[null,null,null,null,null,null,null,null,null,null,null,null,null,null,null,"巻姿外観確認[ｽﾀｰﾄ/中間/ﾗｽﾄ]"]
[null,null,"09",null,null,null,null,null,"10",null,null,null,null,null,null,"各枝番に問題無『〇』問題有『☓』を記載"]
[]
[null,null,"07",null,null,null,null,null,"08"]
[]
[null,null,"05",null,null,null,null,null,"06"]
[null,null,null,null,null,null,null,null,null,null,null,null,null,null,null,"※『☓』の場合は展開図に内容を記載する"]
[null,null,"03",null,null,null,null,null,"04",null,null,null,null,null,null,"検材エッジ　　　　　　ⅿｍ"]
[null,null,null,null,null,null,null,null,null,null,null,null,null,null,null,"表層ロス　　　　　　　ⅿ"]
[null,null,"01",null,null,null,null,null,"02",null,null,null,null,null,null,"レザー/丸刃交換",null,null,null,"レザー/丸刃廃棄"]
[null,20,980,null,null,null,null,null,1000,null,null,null,null,null,20,"0　枚",null,null,null,"0　枚"]
[null,"膜厚測定（ＣＰＰ・VMPET・BRPET）",null,null,null,null,null,null,null,null,null,null,null,null,null,"備考"]
[null,"ラスト"]
[null,"1セット表層"]
[null,"1セット芯",null,null,null,null,null,null,null,null,null,null,null,null,null,"残",null,null,"m",null,null,null,"Φ"]
[]
[]
[]
[]
[]
[null,"スリット伝票　ＬＯＴ",null,null,null,null,null,{"$f":"②OP記入欄改!$D$5","v":60331356011},null,null,null,"製区",null,{"$f":"②OP記入欄改!$D$7","v":"T"},"品種",null,{"$f":"②OP記入欄改!$D$8","v":"CPP 2203"}]
[]
[null,"番手",null,{"$f":"②OP記入欄改!$D$9","v":25},"原反名",null,{"$f":"②OP記入欄改!$D$10","v":"9021A3"},null,"原反幅",null,{"$f":"②OP記入欄改!$D$11","v":1960},null,"原反長",null,{"$f":"②OP記入欄改!$D$12","v":45000},null,"前工程M/C",null,null,null,{"$f":"②OP記入欄改!$D$13","v":"DF6"}]
[null,"停機内容",null,null,null,null,null,"停機詳細",null,null,null,null,null,null,null,null,null,"停機時間"]
[null,"Ｆ破れ",null,null,"有/無",null,null,null,null,null,null,null,null,null,null,null,null,null,null,null,"hr"]
[null,"耳切れ",null,null,"有/無",null,null,null,null,null,null,null,null,null,null,null,null,null,null,null,"hr"]
[null,"紙管切断",null,null,"有/無",null,null,null,null,null,null,null,null,null,null,null,null,null,null,null,"hr"]
[null,"その他停機内容",null,null,null,null,null,null,null,null,null,null,null,null,null,null,null,null,null,null,"hr"]
[null,"備考"]
[]
[]
[]
[]
[]
[null,"外観確認内容"]
[null,"原反ズレ",null,null,null,"当てキズ",null,null,null,"溝ロール痕",null,null,null,"ＴＤスジ",null,null,null,"ピッチキズ"]
[null,"スリキズ",null,null,null,"クボミシワ",null,null,null,"シワムラ",null,null,null,"変色",null,null,null,"巻芯シワ"]
[null,"切断面・異物"]

{"sheet":"CPP800 S#20","index":20,"n_rows":71,"n_cols":27,"rows_kept":71,"cut":false,"hidden":true,"merged":[[0,7,1,10],[0,1,1,6],[0,11,1,12],[0,13,1,13],[0,14,1,15],[0,16,1,22],[4,2,4,3],[4,4,4,5],[4,6,4,7],[4,11,4,14],[4,15,4,17],[4,18,4,20],[2,16,2,19],[2,20,2,22],[3,2,3,3],[3,4,3,5],[3,6,3,7],[3,11,3,14],[3,15,3,17],[3,18,3,20],[2,4,2,5],[2,6,2,7],[2,8,2,9],[2,10,2,11],[2,12,2,13],[2,14,2,15],[6,2,6,3],[6,4,6,5],[6,6,6,7],[6,11,6,14],[6,15,6,17],[6,18,6,20],[5,2,5,3],[5,4,5,5],[5,6,5,7],[5,11,5,14],[5,15,5,17],[5,18,5,20],[8,2,8,3],[8,4,8,5],[8,6,8,7],[8,11,8,14],[8,15,8,17],[8,18,8,20],[7,2,7,3],[7,4,7,5],[7,6,7,7],[7,11,7,14],[7,15,7,17],[7,18,7,20],[10,2,10,3],[10,4,10,5],[10,6,10,7],[10,11,10,14],[10,15,10,17],[10,18,10,20],[9,2,9,3],[9,4,9,5],[9,6,9,7],[9,11,9,14],[9,15,9,17],[9,18,9,20],[12,2,12,3],[12,4,12,5],[12,6,12,7],[12,11,12,14],[12,15,12,17],[12,18,12,20],[11,2,11,3],[11,4,11,5],[11,6,11,7],[11,11,11,14],[11,15,11,17],[11,18,11,20],[14,1,14,5],[14,6,14,7],[14,8,14,11],[14,12,14,14],[14,15,14,18],[14,19,14,22],[13,2,13,3],[13,4,13,5],[13,6,13,7],[13,11,13,14],[13,15,13,17],[13,18,13,20],[15,1,15,5],[15,8,15,11],[15,12,15,14],[15,16,15,18],[15,20,15,22],[16,1,17,1],[16,15,17,15],[16,16,17,18],[16,19,17,19],[16,20,17,22],[21,15,21,17],[21,18,21,22],[22,15,22,17],[22,18,22,22],[23,15,23,17],[23,18,23,22],[18,15,18,17],[18,18,18,22],[19,15,19,17],[19,18,19,22],[20,15,20,17],[20,18,20,22],[28,19,28,22],[29,16,29,18],[29,19,29,20],[30,16,30,18],[30,19,30,20],[31,15,31,22],[24,15,24,17],[24,18,24,22],[25,15,25,17],[25,18,25,22],[26,15,30,15],[26,16,26,18],[27,16,27,18],[27,19,27,20],[27,21,27,22],[28,16,28,18],[42,19,42,22],[43,2,43,7],[43,8,43,13],[43,15,43,18],[43,19,43,22],[40,18,40,20],[32,15,32,18],[32,19,32,20],[32,21,32,22],[33,15,33,22],[34,15,34,22],[39,15,39,22],[44,1,44,14],[45,1,45,2],[45,3,45,4],[45,5,45,6],[45,7,45,8],[45,9,45,10],[45,11,45,12],[45,13,45,14],[42,15,42,18],[53,1,54,6],[53,7,53,10],[53,11,54,12],[53,13,54,13],[53,14,54,15],[53,16,54,22],[54,7,54,10],[46,13,46,14],[47,1,47,2],[47,3,47,4],[47,5,47,6],[47,7,47,8],[47,9,47,10],[47,11,47,12],[47,13,47,14],[46,1,46,2],[46,3,46,4],[46,5,46,6],[46,7,46,8],[46,9,46,10],[46,11,46,12],[58,4,58,5],[58,7,58,16],[58,17,58,19],[59,4,59,5],[59,7,59,16],[59,17,59,19],[55,16,55,19],[55,20,55,22],[56,4,56,5],[57,4,57,5],[57,7,57,16],[57,17,57,19],[55,4,55,5],[55,6,55,7],[55,8,55,9],[55,10,55,11],[55,12,55,13],[55,14,55,15],[69,1,69,4],[69,5,69,8],[69,9,69,12],[69,13,69,16],[69,17,69,21],[70,1,70,4],[60,7,60,16],[60,17,60,19],[68,1,68,4],[68,5,68,8],[68,9,68,12],[68,13,68,16],[68,17,68,21]]}
[null,"スリット伝票　ＬＯＴ",null,null,null,null,null,{"$f":"②OP記入欄改!$D$5","v":60331356011},null,null,null,"製区",null,{"$f":"②OP記入欄改!$D$7","v":"T"},"品種",null,{"$f":"②OP記入欄改!$D$8","v":"CPP 2203"}]
[]
[null,"番手",null,{"$f":"②OP記入欄改!$D$9","v":25},"原反名",null,{"$f":"②OP記入欄改!$D$10","v":"9021A3"},null,"原反幅",null,{"$f":"②OP記入欄改!$D$11","v":1960},null,"原反長",null,{"$f":"②OP記入欄改!$D$12","v":45000},null,"前工程M/C",null,null,null,{"$f":"②OP記入欄改!$D$13","v":"DF6"}]
[null,null,{"$f":"②OP記入欄改!G3","v":"仕向先"},null,{"$f":"②OP記入欄改!I3","v":"製品幅"},null,{"$f":"②OP記入欄改!K3","v":"製品長さ"},null,{"$f":"②OP記入欄改!M3","v":"計本"},{"$f":"②OP記入欄改!N3","v":"実"},{"$f":"②OP記入欄改!O3","v":"梱形"},"Ａ保枝番",null,null,null,"ミル枝番",null,null,"Ｂ級枝番",null,null,"ロック\nシャフト","コア"]
[null,{"$f":"②OP記入欄改!F4","v":1},{"$f":"②OP記入欄改!G4","v":0},null,{"$f":"②OP記入欄改!I4","v":980},null,{"$f":"②OP記入欄改!K4","v":8000},null,{"$f":"②OP記入欄改!M4","v":5},{"$f":"②OP記入欄改!N4","v":0},{"$f":"②OP記入欄改!O4","v":0},null,null,null,null,null,null,null,null,null,null,null,6]
[null,{"$f":"②OP記入欄改!F5","v":2},{"$f":"②OP記入欄改!G5","v":0},null,{"$f":"②OP記入欄改!I5","v":940},null,{"$f":"②OP記入欄改!K5","v":8000},null,{"$f":"②OP記入欄改!M5","v":5},{"$f":"②OP記入欄改!N5","v":0},{"$f":"②OP記入欄改!O5","v":0},null,null,null,null,null,null,null,null,null,null,null,6]
[null,{"$f":"②OP記入欄改!F6","v":3},{"$f":"②OP記入欄改!G6","v":0},null,{"$f":"②OP記入欄改!I6","v":980},null,{"$f":"②OP記入欄改!K6","v":4000},null,{"$f":"②OP記入欄改!M6","v":1},{"$f":"②OP記入欄改!N6","v":0},{"$f":"②OP記入欄改!O6","v":0},null,null,null,null,null,null,null,null,null,null,null,6]
[null,{"$f":"②OP記入欄改!F7","v":4},{"$f":"②OP記入欄改!G7","v":0},null,{"$f":"②OP記入欄改!I7","v":940},null,{"$f":"②OP記入欄改!K7","v":4000},null,{"$f":"②OP記入欄改!M7","v":1},{"$f":"②OP記入欄改!N7","v":0},{"$f":"②OP記入欄改!O7","v":0},null,null,null,null,null,null,null,null,null,null,null,6]
[null,{"$f":"②OP記入欄改!F8","v":5},{"$f":"②OP記入欄改!G8","v":0},null,{"$f":"②OP記入欄改!I8","v":0},null,{"$f":"②OP記入欄改!K8","v":0},null,{"$f":"②OP記入欄改!M8","v":0},{"$f":"②OP記入欄改!N8","v":0},{"$f":"②OP記入欄改!O8","v":0},null,null,null,null,null,null,null,null,null,null,null,6]
[null,{"$f":"②OP記入欄改!F9","v":6},{"$f":"②OP記入欄改!G9","v":0},null,{"$f":"②OP記入欄改!I9","v":0},null,{"$f":"②OP記入欄改!K9","v":0},null,{"$f":"②OP記入欄改!M9","v":0},{"$f":"②OP記入欄改!N9","v":0},{"$f":"②OP記入欄改!O9","v":0},null,null,null,null,null,null,null,null,null,null,null,6]
[null,{"$f":"②OP記入欄改!F10","v":7},{"$f":"②OP記入欄改!G10","v":0},null,{"$f":"②OP記入欄改!I10","v":0},null,{"$f":"②OP記入欄改!K10","v":0},null,{"$f":"②OP記入欄改!M10","v":0},{"$f":"②OP記入欄改!N10","v":0},{"$f":"②OP記入欄改!O10","v":0},null,null,null,null,null,null,null,null,null,null,null,6]
[null,{"$f":"②OP記入欄改!F11","v":8},{"$f":"②OP記入欄改!G11","v":0},null,{"$f":"②OP記入欄改!I11","v":0},null,{"$f":"②OP記入欄改!K11","v":0},null,{"$f":"②OP記入欄改!M11","v":0},{"$f":"②OP記入欄改!N11","v":0},{"$f":"②OP記入欄改!O11","v":0},null,null,null,null,null,null,null,null,null,null,null,6]
[null,{"$f":"②OP記入欄改!F12","v":9},{"$f":"②OP記入欄改!G12","v":0},null,{"$f":"②OP記入欄改!I12","v":0},null,{"$f":"②OP記入欄改!K12","v":0},null,{"$f":"②OP記入欄改!M12","v":0},{"$f":"②OP記入欄改!N12","v":0},{"$f":"②OP記入欄改!O12","v":0},null,null,null,null,null,null,null,null,null,null,null,6]
[null,{"$f":"②OP記入欄改!F13","v":10},{"$f":"②OP記入欄改!G13","v":0},null,{"$f":"②OP記入欄改!I13","v":0},null,{"$f":"②OP記入欄改!K13","v":0},null,{"$f":"②OP記入欄改!M13","v":0},{"$f":"②OP記入欄改!N13","v":0},{"$f":"②OP記入欄改!O13","v":0},null,null,null,null,null,null,null,null,null,null,null,6]
[null,"スリット作業指示№",null,null,null,null,"M/C№",null,"加工日",null,null,null,"前工程品質情報",null,null,"切断シフト1",null,null,null,"切断シフト2"]
[null,{"$f":"②OP記入欄改!$D$14","v":43855940001},null,null,null,null,"ＳＬ-",{"$f":"②OP記入欄改!$D$15","v":19},{"$f":"②OP記入欄改!$D$4","v":"2025-10-23"},null,null,null,"確認　　　□",null,null,"組","作業者",null,null,"組","作業者"]
[null,"巻芯\n確認"]
[]
[null,null,null,null,null,null,null,null,null,null,null,null,null,null,null,"切替開始",null,null,"　　　　　時　　　　　分"]
[null,null,"13",null,null,null,null,null,"14",null,null,null,null,null,null,"切断開始",null,null,"　　　　　時　　　　　分"]
[null,null,null,null,null,null,null,null,null,null,null,null,null,null,null,"切断完了",null,null,"　　　　　時　　　　　分"]
[null,null,null,null,null,null,null,null,null,null,null,null,null,null,null,"食事開始",null,null,"　　　　　時　　　　　分"]
[null,null,null,null,null,null,null,null,null,null,null,null,null,null,null,"食事完了",null,null,"　　　　　時　　　　　分"]
[null,null,"11",null,null,null,null,null,"12",null,null,null,null,null,null,"停機開始",null,null,"　　　　　時　　　　　分"]
[null,null,null,null,null,null,null,null,null,null,null,null,null,null,null,"停機完了",null,null,"　　　　　時　　　　　分"]
[null,null,null,null,null,null,null,null,null,null,null,null,null,null,null,"停機理由"]
[null,null,null,null,null,null,null,null,null,null,null,null,null,null,null,"条件確認","M/C条件設定",null,null,"呼出№",null,null,{"$f":"②OP記入欄改!$D$16","v":3}]
[null,null,"09",null,null,null,null,null,"10",null,null,null,null,null,null,null,"欠点検出機",null,null,"使用条件№",null,{"$f":"②OP記入欄改!$D$17","v":2}]
[null,null,null,null,null,null,null,null,null,null,null,null,null,null,null,null,"速度(m/min)",null,null,450]
[null,null,null,null,null,null,null,null,null,null,null,null,null,null,null,null,"張力(N/ｍ・kg)",null,null,14]
[null,null,null,null,null,null,null,null,null,null,null,null,null,null,null,null,"接圧(N/ｍ・kg)",null,null,"22/24"]
[null,null,"07",null,null,null,null,null,"08",null,null,null,null,null,null,"外観確認"]
[null,null,null,null,null,null,null,null,null,null,null,null,null,null,null,"表層透過検査",null,null,null,"OK",null,"NG"]
[null,null,null,null,null,null,null,null,null,null,null,null,null,null,null,"巻姿外観確認[ｽﾀｰﾄ/中間/ﾗｽﾄ]"]
[null,null,null,null,null,null,null,null,null,null,null,null,null,null,null,"各枝番に問題無『〇』問題有『☓』を記載"]
[null,null,"05",null,null,null,null,null,"06",null,null,null,null,null,null,null,null,null,null,null,null,null,null,null,null,null,"　"]
[]
[]
[]
[null,null,"03",null,null,null,null,null,"04",null,null,null,null,null,null,"※『☓』の場合は展開図に内容を記載する"]
[null,null,null,null,null,null,null,null,null,null,null,null,null,null,null,"検材エッジ",null,null,285]
[null,null,null,null,null,null,null,null,null,null,null,null,null,null,null,"表層ロス　　　　　　　ⅿ"]
[null,null,"01",null,null,null,null,null,"02",null,null,null,null,null,null,"レザー/丸刃交換",null,null,null,"レザー/丸刃廃棄"]
[null,20,1020,null,null,null,null,null,1020,null,null,null,null,null,20,"3　 枚",null,null,null,"3　 枚"]
[null,"膜厚測定（ＣＰＰ・VMPET・BRPET）",null,null,null,null,null,null,null,null,null,null,null,null,null,"備考"]
[null,"ラスト"]
[null,"1セット表層"]
[null,"1セット芯",null,null,null,null,null,null,null,null,null,null,null,null,null,"残",null,null,"m",null,null,null,"Φ"]
[]
[]
[]
[]
[]
[null,"スリット伝票　ＬＯＴ",null,null,null,null,null,{"$f":"②OP記入欄改!$D$5","v":60331356011},null,null,null,"製区",null,{"$f":"②OP記入欄改!$D$7","v":"T"},"品種",null,{"$f":"②OP記入欄改!$D$8","v":"CPP 2203"}]
[]
[null,"番手",null,{"$f":"②OP記入欄改!$D$9","v":25},"原反名",null,{"$f":"②OP記入欄改!$D$10","v":"9021A3"},null,"原反幅",null,{"$f":"②OP記入欄改!$D$11","v":1960},null,"原反長",null,{"$f":"②OP記入欄改!$D$12","v":45000},null,"前工程M/C",null,null,null,{"$f":"②OP記入欄改!$D$13","v":"DF6"}]
[null,"停機内容",null,null,null,null,null,"停機詳細",null,null,null,null,null,null,null,null,null,"停機時間"]
[null,"Ｆ破れ",null,null,"有/無",null,null,null,null,null,null,null,null,null,null,null,null,null,null,null,"hr"]
[null,"耳切れ",null,null,"有/無",null,null,null,null,null,null,null,null,null,null,null,null,null,null,null,"hr"]
[null,"紙管切断",null,null,"有/無",null,null,null,null,null,null,null,null,null,null,null,null,null,null,null,"hr"]
[null,"その他停機内容",null,null,null,null,null,null,null,null,null,null,null,null,null,null,null,null,null,null,"hr"]
[null,"備考"]
[]
[]
[]
[]
[]
[null,"外観確認内容"]
[null,"原反ズレ",null,null,null,"当てキズ",null,null,null,"溝ロール痕",null,null,null,"ＴＤスジ",null,null,null,"ピッチキズ"]
[null,"スリキズ",null,null,null,"クボミシワ",null,null,null,"シワムラ",null,null,null,"変色",null,null,null,"巻芯シワ"]
[null,"切断面・異物"]

{"sheet":"①入力手順","index":21,"n_rows":0,"n_cols":0,"rows_kept":0,"cut":false,"hidden":true,"merged":[]}

{"sheet":"③伝票原本 改 記入方法","index":22,"n_rows":71,"n_cols":23,"rows_kept":71,"cut":false,"hidden":true,"merged":[[70,1,70,4],[68,1,68,4],[68,5,68,8],[68,9,68,12],[68,13,68,16],[68,17,68,21],[69,1,69,4],[69,5,69,8],[69,9,69,12],[69,13,69,16],[69,17,69,21],[60,7,60,16],[60,17,60,19],[58,4,58,5],[58,7,58,16],[58,17,58,19],[59,4,59,5],[59,7,59,16],[59,17,59,19],[55,16,55,19],[55,20,55,22],[56,4,56,5],[57,4,57,5],[57,7,57,16],[57,17,57,19],[55,4,55,5],[55,6,55,7],[55,8,55,9],[55,10,55,11],[55,12,55,13],[55,14,55,15],[53,1,54,6],[53,7,53,10],[53,11,54,12],[53,13,54,13],[53,14,54,15],[53,16,54,22],[54,7,54,10],[46,13,46,14],[47,1,47,2],[47,3,47,4],[47,5,47,6],[47,7,47,8],[47,9,47,10],[47,11,47,12],[47,13,47,14],[46,1,46,2],[46,3,46,4],[46,5,46,6],[46,7,46,8],[46,9,46,10],[46,11,46,12],[44,1,44,14],[45,1,45,2],[45,3,45,4],[45,5,45,6],[45,7,45,8],[45,9,45,10],[45,11,45,12],[45,13,45,14],[39,15,39,22],[40,15,40,22],[42,15,42,18],[42,19,42,22],[43,15,43,18],[43,19,43,22],[31,15,31,22],[32,15,32,18],[32,19,32,20],[32,21,32,22],[33,15,33,22],[34,15,34,22],[24,15,24,17],[24,18,24,22],[25,15,25,17],[25,18,25,22],[26,15,30,15],[26,16,26,18],[27,16,27,18],[28,16,28,18],[29,16,29,18],[30,16,30,18],[27,19,27,20],[27,21,27,22],[21,15,21,17],[21,18,21,22],[22,15,22,17],[22,18,22,22],[23,15,23,17],[23,18,23,22],[18,15,18,17],[18,18,18,22],[19,15,19,17],[19,18,19,22],[20,15,20,17],[20,18,20,22],[15,1,15,5],[15,8,15,11],[15,12,15,14],[15,16,15,18],[15,20,15,22],[16,1,17,1],[14,1,14,5],[14,6,14,7],[14,8,14,11],[14,12,14,14],[14,15,14,18],[14,19,14,22],[13,2,13,3],[13,4,13,5],[13,6,13,7],[13,11,13,14],[13,15,13,17],[13,18,13,20],[12,2,12,3],[12,4,12,5],[12,6,12,7],[12,11,12,14],[12,15,12,17],[12,18,12,20],[11,2,11,3],[11,4,11,5],[11,6,11,7],[11,11,11,14],[11,15,11,17],[11,18,11,20],[10,2,10,3],[10,4,10,5],[10,6,10,7],[10,11,10,14],[10,15,10,17],[10,18,10,20],[9,2,9,3],[9,4,9,5],[9,6,9,7],[9,11,9,14],[9,15,9,17],[9,18,9,20],[8,2,8,3],[8,4,8,5],[8,6,8,7],[8,11,8,14],[8,15,8,17],[8,18,8,20],[7,2,7,3],[7,4,7,5],[7,6,7,7],[7,11,7,14],[7,15,7,17],[7,18,7,20],[6,2,6,3],[6,4,6,5],[6,6,6,7],[6,11,6,14],[6,15,6,17],[6,18,6,20],[5,4,5,5],[5,6,5,7],[5,11,5,14],[5,15,5,17],[5,18,5,20],[4,2,4,3],[4,4,4,5],[4,6,4,7],[4,11,4,14],[4,15,4,17],[4,18,4,20],[5,2,5,3],[0,1,1,6],[0,7,0,10],[0,11,1,12],[0,13,1,13],[0,14,1,15],[0,16,1,22],[1,7,1,10],[2,16,2,19],[2,20,2,22],[3,2,3,3],[3,4,3,5],[3,6,3,7],[3,11,3,14],[3,15,3,17],[3,18,3,20],[2,4,2,5],[2,6,2,7],[2,8,2,9],[2,10,2,11],[2,12,2,13],[2,14,2,15]]}
[null,"スリット伝票　ＬＯＴ",null,null,null,null,null,null,null,null,null,"製区",null,null,"品種"]
[]
[null,"番手",null,null,"原反名",null,null,null,"原反幅",null,null,null,"原反長",null,null,null,"前工程M/C"]
[null,null,"仕向先",null,"製品幅",null,"製品長さ",null,"計本","実","梱形","Ａ保枝番",null,null,null,"ミル枝番",null,null,"Ｂ級枝番",null,null,"ロック\nシャフト","コア"]
[null,1,null,null,null,null,null,null,null,null,null,null,null,null,null,null,null,null,null,null,null,null,6]
[null,2,null,null,null,null,null,null,null,null,null,null,null,null,null,null,null,null,null,null,null,null,6]
[null,3,null,null,null,null,null,null,null,null,null,null,null,null,null,null,null,null,null,null,null,null,6]
[null,4,null,null,null,null,null,null,null,null,null,null,null,null,null,null,null,null,null,null,null,null,6]
[null,5,null,null,null,null,null,null,null,null,null,null,null,null,null,null,null,null,null,null,null,null,6]
[null,6,null,null,null,null,null,null,null,null,null,null,null,null,null,null,null,null,null,null,null,null,6]
[null,7,null,null,null,null,null,null,null,null,null,null,null,null,null,null,null,null,null,null,null,null,6]
[null,8,null,null,null,null,null,null,null,null,null,null,null,null,null,null,null,null,null,null,null,null,6]
[null,9,null,null,null,null,null,null,null,null,null,null,null,null,null,null,null,null,null,null,null,null,6]
[null,10,null,null,null,null,null,null,null,null,null,null,null,null,null,null,null,null,null,null,null,null,6]
[null,"スリット作業指示№",null,null,null,null,"M/C№",null,"加工日",null,null,null,"前工程品質情報",null,null,"切断シフト1",null,null,null,"切断シフト2"]
[null,null,null,null,null,null,"ＳＬ-",null,"　　　　年　　　月　　　日",null,null,null,"確認　　　□",null,null,"組","作業者",null,null,"組","作業者"]
[null,"巻芯\n確認"]
[]
[null,null,null,null,null,null,null,null,null,null,null,null,null,null,null,"切替開始",null,null,"　　　　　時　　　　　分"]
[null,null,null,null,null,null,null,null,null,null,null,null,null,null,null,"切断開始",null,null,"　　　　　時　　　　　分"]
[null,null,null,null,null,null,null,null,null,null,null,null,null,null,null,"切断完了",null,null,"　　　　　時　　　　　分"]
[null,null,null,null,null,null,null,null,null,null,null,null,null,null,null,"食事開始",null,null,"　　　　　時　　　　　分"]
[null,null,null,null,null,null,null,null,null,null,null,null,null,null,null,"食事完了",null,null,"　　　　　時　　　　　分"]
[null,null,null,null,null,null,null,null,null,null,null,null,null,null,null,"停機開始",null,null,"　　　　　時　　　　　分"]
[null,null,null,null,null,null,null,null,null,null,null,null,null,null,null,"停機完了",null,null,"　　　　　時　　　　　分"]
[null,null,null,null,null,null,null,null,null,null,null,null,null,null,null,"停機理由"]
[null,null,null,null,null,null,null,null,null,null,null,null,null,null,null,"条件確認","M/C条件設定",null,null,"呼出№"]
[null,null,null,null,null,null,null,null,null,null,null,null,null,null,null,null,"欠点検出機",null,null,"使用条件№"]
[null,null,null,null,null,null,null,null,null,null,null,null,null,null,null,null,"速度(m/min)"]
[null,null,null,null,null,null,null,null,null,null,null,null,null,null,null,null,"張力(N/ｍ・kg)"]
[null,null,null,null,null,null,null,null,null,null,null,null,null,null,null,null,"接圧(N/ｍ・kg)"]
[null,null,null,null,null,null,null,null,null,null,null,null,null,null,null,"外観確認"]
[null,null,null,null,null,null,null,null,null,null,null,null,null,null,null,"表層透過検査",null,null,null,"OK",null,"NG"]
[null,null,null,null,null,null,null,null,null,null,null,null,null,null,null,"巻姿外観確認[ｽﾀｰﾄ/中間/ﾗｽﾄ]"]
[null,null,null,null,null,null,null,null,null,null,null,null,null,null,null,"各枝番に問題無『〇』問題有『☓』を記載"]
[]
[]
[]
[]
[null,null,null,null,null,null,null,null,null,null,null,null,null,null,null,"※『☓』の場合は展開図に内容を記載する"]
[null,null,null,null,null,null,null,null,null,null,null,null,null,null,null,"検材エッジ　　　　　　ⅿｍ"]
[null,null,null,null,null,null,null,null,null,null,null,null,null,null,null,"表層ロス　　　　　　　ⅿ"]
[null,null,null,null,null,null,null,null,null,null,null,null,null,null,null,"レザー/丸刃交換",null,null,null,"レザー/丸刃廃棄"]
[null,null,null,null,null,null,null,null,null,null,null,null,null,null,null,"枚",null,null,null,"枚"]
[null,"膜厚測定（ＣＰＰ・VMPET・BRPET）",null,null,null,null,null,null,null,null,null,null,null,null,null,"備考"]
[null,"ラスト"]
[null,"1セット表層"]
[null,"1セット芯"]
[]
[]
[]
[]
[]
[null,"スリット伝票　ＬＯＴ",null,null,null,null,null,null,null,null,null,"製区",null,null,"品種"]
[]
[null,"番手",null,null,"原反名",null,null,null,"原反幅",null,null,null,"原反長",null,null,null,"前工程M/C"]
[null,"停機内容",null,null,null,null,null,"停機詳細",null,null,null,null,null,null,null,null,null,"停機時間"]
[null,"Ｆ破れ",null,null,"有/無",null,null,null,null,null,null,null,null,null,null,null,null,null,null,null,"hr"]
[null,"耳切れ",null,null,"有/無",null,null,null,null,null,null,null,null,null,null,null,null,null,null,null,"hr"]
[null,"紙管切断",null,null,"有/無",null,null,null,null,null,null,null,null,null,null,null,null,null,null,null,"hr"]
[null,"その他停機内容",null,null,null,null,null,null,null,null,null,null,null,null,null,null,null,null,null,null,"hr"]
[null,"備考"]
[]
[]
[]
[]
[]
[null,"外観確認内容"]
[null,"原反ズレ",null,null,null,"当てキズ",null,null,null,"溝ロール痕",null,null,null,"ＴＤスジ",null,null,null,"ピッチキズ"]
[null,"スリキズ",null,null,null,"クボミシワ",null,null,null,"シワムラ",null,null,null,"変色",null,null,null,"巻芯シワ"]
[null,"切断面・異物"]

{"sheet":"枠図","index":23,"n_rows":40,"n_cols":3,"rows_kept":40,"cut":false,"hidden":true,"merged":[]}
[]
[]
[]
[]
[]
[]
[]
[]
[]
[]
[]
[]
[]
[]
[]
[]
[]
[]
[]
[]
[]
[]
[]
[]
[]
[]
[]
[]
[]
[]
[]
[]
[]
[]
[]
[]
[]
[]
[]
[null,null,"１５セット用"]

{"sheet":"Sheet3","index":24,"n_rows":0,"n_cols":0,"rows_kept":0,"cut":false,"hidden":true,"merged":[]}