{"text_format":"1","workbook":"xlsx","n_sheets":41,"sheets":["②OP記入欄改","条件ﾏｽﾀ","説明","シート選択ルール","2丁(22)","2丁(20)","2丁(12)","2丁(10)","3丁(33)","3丁(30)","3丁(15)","3丁(18)","2丁(30)","2丁(22)A","2丁(22)B","3丁(45)","2丁-3丁(25)","3丁-2丁(35)","3丁-2丁(32)","2丁(16)","3丁(24)","CPP ＃25 4000","CPP＃25 8000","CPＰ #25 4000 3丁","CPP＃25 8000 3丁","PET","PET 3","＃30 2丁","#30 3丁","15セット用","2丁","3丁","ＣＰＰ#40","3丁＃４０","CPP4000#20","CPP800 S#20","①入力手順","③伝票原本 改 記入方法","生産予定表 ","枠図","Sheet3"],"not_rendered":{"charts":0,"images":46,"macros":1,"external_links":0,"defined_names":37,"comments":0,"pivot_tables":0},"unopened":[],"bounds":{"document_bytes":16777216,"sheet_cells":100000,"rows_first":2000,"rows_last":500,"rows_between":2000,"halvings":0,"cell_chars":16384,"cell_head_chars":4096},"cells_cut":0,"cells_raw":0,"read":"whole","date_system":"1900"}

{"sheet":"②OP記入欄改","index":0,"n_rows":47,"n_cols":16,"rows_kept":47,"cut":false,"hidden":false,"merged":[[4,2,5,2],[4,1,5,1],[12,6,12,7],[12,8,12,9],[12,10,12,11],[10,6,10,7],[10,8,10,9],[10,10,10,11],[11,6,11,7],[11,8,11,9],[11,10,11,11],[8,6,8,7],[8,8,8,9],[8,10,8,11],[9,6,9,7],[9,8,9,9],[9,10,9,11],[6,6,6,7],[6,8,6,9],[6,10,6,11],[7,6,7,7],[7,8,7,9],[7,10,7,11],[4,6,4,7],[4,8,4,9],[4,10,4,11],[5,6,5,7],[5,8,5,9],[5,10,5,11],[2,6,2,7],[2,8,2,9],[2,10,2,11],[3,6,3,7],[3,8,3,9],[3,10,3,11]]}
[]
[]
[null,null,null,"スリットOP記入欄",null,null,"仕向先",null,"製品幅",null,"製品長さ",null,"計本","実","梱形"]
[null,1,"加工日","2025-10-23",null,1,{"$f":"$O$18","v":"ＤＮＰ京都　３Ｄｏｒ３Ｄ６"},null,{"$f":"$G$18","v":980},null,{"$f":"$H$18","v":8000},null,{"$f":"$J$18","v":5},null,"P","P"]
[null,2,"LOTNo\n（ｽﾘｯﾄﾛｯﾄ時のみ\n2行目使用する）",51023357021,null,2,{"$f":"$O$19","v":"ＤＮＰ京都　３Ｄｏｒ３Ｄ６"},null,{"$f":"$G$19","v":1020},null,{"$f":"$H$19","v":8000},null,{"$f":"J19","v":5},null,"P"]
[null,null,null,null,null,3,{"$f":"O20","v":"４０００ｍ余剰分"},null,{"$f":"$G$20","v":1020},null,{"$f":"$H$20","v":4000},null,{"$f":"J20","v":1},null,"P","P"]
[null,3,"製品区分","S",null,4,{"$f":"$O$21","v":"４０００ｍ余剰分"},null,{"$f":"$G$21","v":980},null,{"$f":"$H$21","v":4000},null,1]
[null,4,"品種","ＣＰＰ2703",null,5,{"$f":"$O$22","v":0},null,{"$f":"$G$22","v":0},null,{"$f":"$H$22","v":0},null,0]
[null,5,"番手",25,null,6,{"$f":"$O$23","v":0},null,{"$f":"$G$23","v":0},null,{"$f":"$H$23","v":0},null,0]
[null,6,"原反名",9041,null,7,{"$f":"$O$24","v":0},null,{"$f":"$G$24","v":0},null,{"$f":"$H$24","v":0},null,0]
[null,7,"原反幅",2080,null,8,{"$f":"$O$25","v":0},null,{"$f":"$G$25","v":0},null,{"$f":"$H$25","v":0},null,0]
[null,8,"原反長",45000,null,9,{"$f":"$O$26","v":0},null,{"$f":"$G$26","v":0},null,{"$f":"$H$26","v":0},null,0]
[null,9,"前工程Ｍ/Ｃ","DF7",null,10,{"$f":"$O$27","v":0},null,{"$f":"$G$27","v":0},null,{"$f":"$H$27","v":0},null,0]
[null,10,"スリット作業指示NO"]
[null,11,"スリットＭ/Ｃ",19]
[null,12,"Ｍ/Ｃ条件",2,null,null,"製品幅貼り付けＯＰ入力"]
[null,13,"検知器条件",1,null,null,"製品幅","製品長さ",null,"計本",null,null,null,"　　","仕向先","梱形"]
[null,null,null,null,null,1,980,8000,1,5,50,3,null,"2025-09-12","ＤＮＰ京都　３Ｄｏｒ３Ｄ６"]
[null,null,null,null,null,2,1020,8000,1,5,5,0,null,"2025-09-12","ＤＮＰ京都　３Ｄｏｒ３Ｄ６"]
[null,null,null,"製品名",null,3,1020,4000,1,1,1,0,null,"2025-09-12","４０００ｍ余剰分"]
[null,null,null,"透明品種",null,4,980,4000,1,1,20,0,null,"2025-09-12","４０００ｍ余剰分"]
[null,null,null,"VM-PET 1011 HG -CR",null,5]
[null,null,null,"VM-PET 1011 HGM-CR",null,6]
[null,null,null,"VM-PET 1011 HG",null,7]
[null,null,null,"VM-PET 1031 HG",null,8]
[null,null,null,"VM-PET 1011 HG-CW",null,9]
[null,null,null,"VM-PET 1011 RG-CW",null,10]
[null,null,null,"VM-PET 1011 EG-C1"]
[null,null,null,"VM-PET 1011 SB-R2",null,"原反名","前工程M/C","大型ＳＬ"]
[null,null,null,"VM-PET 1011 CXR",null,"9021Ｔ","DF1",1]
[null,null,null,"VM-PET 1011HG-CA",null,9041,"DF3",6,null," "]
[null,null,null,"VM-PET 1011HG-CX",null,"9041A3","DF4",9]
[null,null,null,"VM-PET 1011 RG-CR",null,"9021A3","DF5",10]
[null,null,null,"VM-PET 1011CXR",null,9061,"DF6",11]
[null,null,null,null,null,"P60","DF7",13]
[null,null,null,"ＣＰＰ品種",null,"P60D","CF1",15]
[null,null,null,"ＣＰＰ2703",null,"PTJ-C","CF5",17]
[null,null,null,"ＣＰＰ2203",null,"PC","DNP",19]
[null,null,null,"ＣＰＰ2704",null,"Ｍ127"]
[null,null,null,"CPP2803EZ",null,"FE2001"]
[null,null,null,"ＣＰＰ2703  KT3",null,"FE2001A"]
[null,null,null,"ALPET品種",null,"BP216"]
[null,null,null,"BR-PET 1012",null,"BP216M"]
[null,null,null,"BR-PET 1312",null,"FHP310M"]
[null,null,null,"VM-PET 1310",null,"ＢＨＤＬ"]
[null,null,null,"BR-PET 1517"]
[null,null,null,"BR-PET 1019"]

{"sheet":"条件ﾏｽﾀ","index":1,"n_rows":55,"n_cols":13,"rows_kept":55,"cut":false,"hidden":false,"merged":[]}
[]
[]
[]
[null,null,"欠点検出器エッジ設定"]
[null,null,"原反幅","エッジ幅",null,"品番","品名","コード",null,"品種",null,"M/C条件設定　呼び出しNo","欠点検出器"]
[null,null,1600,475,null,"＃25","MCP",2703,null,"CPP 2073",null,2,1]
[null,null,1620,465,null,"＃25","MCP",2203,null,"CPP 2203",null,2,1]
[null,null,1640,455,null,"＃25","3K",2703,null,"CPP 2073 KT3",null,2,2]
[null,null,1660,445,null,"＃30","MCP",2703,null,"CPP 2073",null,2,1]
[null,null,1680,435]
[null,null,1700,425,null,"＃12","ＢＲ",1012,null,"BR-PET 1012",null,0,3]
[null,null,1720,415,null,"＃12","ＢＲ",1019,null,"BR-PET 1019",null,0,6]
[null,null,1740,405]
[null,null,1760,395]
[null,null,1780,385]
[null,null,1800,375]
[null,null,1820,365]
[null,null,1840,355]
[null,null,1860,345]
[null,null,1880,335]
[null,null,1900,325]
[null,null,1920,315]
[null,null,1940,305]
[null,null,1960,295]
[null,null,1980,285]
[null,null,2000,275]
[null,null,2020,265]
[null,null,2040,255]
[null,null,2060,245]
[null,null,2080,235]
[null,null,2100,225]
[null,null,2120,215]
[null,null,2140,205]
[null,null,2160,195]
[null,null,2180,185]
[null,null,2200,175]
[null,null,2220,165]
[null,null,2240,155]
[null,null,2260,145]
[null,null,2280,135]
[null,null,2300,125]
[null,null,2320,115]
[null,null,2340,105]
[null,null,2360,95]
[null,null,2380,85]
[null,null,2400,75]
[]
[]
[]
[]
[]
[]
[null,null,1600,475]
[null,null,1620,465]
[null,null,1640,455]

{"sheet":"説明","index":2,"n_rows":85,"n_cols":14,"rows_kept":85,"cut":false,"hidden":false,"merged":[[28,9,29,9],[28,10,29,10]]}
[null,null,null,null,null,null,null,null,null,"１．１７行目の選択コピー"]
[]
[]
[]
[null,"動作説明"]
[]
[null,"１．生産予定表ファイルの行をコピー（例１７行目を選択コピー）"]
[null,"※生産予定表ファイルは名前が違うファイルあり"]
[]
[null,"２．伝票入力ファイルの②OP記入欄改シートのマクロ実行ボタン押す"]
[]
[null,"マクロ実行"]
[]
[null,"３．②OP記入欄改シートのD列に転記（転記例参照）"]
[]
[null,"４．コピーした17行目のAIからAQ列の連続した行までをコピー"]
[null,"例題ではAI17したに見ていきAI21が空白なので"]
[null,"AI17：AQ20の範囲をコピー"]
[]
[null,"５．②OP記入欄改シートのG18に値貼り付け"]
[]
[null,"６．該当のシートを選択（シート選択ルールに詳細載せています。）"]
[null,"　（例題の場合２丁の（１２）が表示）"]
[null,"※黄色タブのシートは通常非表示で運用する。"]
[null,"※再度マクロ実行した際、表示さえたシートは非表示にする（必ず１つのシートだけ表示される）"]
[null,null,null,null,null,null,null,null,null,"３．転記例",null,null,null,"３．転記例（生産予定表ファイルの参照箇所）"]
[null,null,null,null,null,null,null,null,null,null,null,"スリットOP記入欄"]
[null,"呼び出したシートに下記を転記",null,null,null,null,null,null,null,1,"加工日"]
[null,null,null,null,null,null,null,null,null,2,"LOTNo\n（ｽﾘｯﾄﾛｯﾄ時のみ\n2行目使用する）"]
[null,"７．４４行目に幅を転記する。"]
[null,"（例題の場合、1020と980が転記）",null,null,null,null,null,null,null,3,"製品区分","S"]
[null,null,null,null,null,null,null,null,null,4,"品種","ＣＰＰ2703"]
[null,"８．製品幅の余り分をセルB42O42に転記。",null,null,null,null,null,null,null,5,"番手",25]
[null,"（例題の場合、20が転記）　　原反幅-（製品幅＋製品幅）=結果÷2＝答え",null,null,null,null,null,null,null,6,"原反名",9041]
[null,"2040－（1020＋980）＝40÷２＝２０",null,null,null,null,null,null,null,7,"原反幅",2040]
[null,null,null,null,null,null,null,null,null,8,"原反長",45000]
[null,"９．コピーした17行目のY列とAE列一致する値を条件マスタシートのから探す",null,null,null,null,null,null,null,9,"前工程Ｍ/Ｃ"]
[null,"Y列＝条件マスタG列",null,null,null,null,null,null,null,10,"スリット作業指示NO"]
[null,"AE列＝条件マスタH列",null,null,null,null,null,null,null,11,"スリットＭ/Ｃ"]
[null,"一致した条件マスタL列の値を②OP記入欄改シートのD１６に転記",null,null,null,null,null,null,null,12,"Ｍ/Ｃ条件",2]
[null,"一致した条件マスタM列の値を②OP記入欄改シートのD１7に転記",null,null,null,null,null,null,null,13,"検知器条件",1]
[]
[null,"１０．②OP記入欄改シートの幅（D11）と一致する値を条件表シートのC列から探し"]
[null,"　一致した右セルの値をセルS41に転記",null,null,null,null,null,null,null,"４．範囲コピー例"]
[null,"　（例題の場合２５５となる）"]
[]
[]
[]
[]
[]
[]
[null,null,null,null,null,null,null,null,null,"５．セルG18に貼り付けた結果例"]
[]
[]
[]
[]
[]
[]
[]
[]
[null,null,null,null,null,null,null,null,null,"７．幅と一致するデータを検索"]
[]
[]
[]
[]
[]
[]
[]
[]
[]
[]
[]
[]
[]
[]
[]
[]
[]
[]
[]
[]
[]
[]
[]
[null,null,null,null,null,null,null,null,null,"７．転記結果"]

{"sheet":"シート選択ルール","index":3,"n_rows":58,"n_cols":23,"rows_kept":58,"cut":false,"hidden":false,"merged":[]}
[]
[null,null,null,null,null,null,null,null,null,null,null,null,null,null,null,"原反幅","原反長さ",null,null,null,null,"製品幅","製品長さ"]
[null,null,"シート選択ルール"]
[]
[null,null,"①生産予定表ファイルの赤セル部分が判別する項目になります。"]
[]
[null,null,"②原反幅から製品幅を差し引き何丁取りかみています。"]
[null,null,"　２行だから2丁取りとはなりません。"]
[]
[null,null,"※下記例と展開図を記載しています。"]
[]
[]
[null,null,null,null,null,null,null,null,"展開図"]
[null,null,null,null,null,null,null,null,null,"製品幅"]
[null,null,"原反幅","原反長さ","製品幅","製品長さ","本数",null,null,1160,860,null,null,"1160＋860＝2040（40余り）"]
[null,null,2060,45000,860,4000,11,null,1,null,null,4000,"製品長さ",null,null,null,"2丁取りの製品22本なので2丁（22）のシートを選択"]
[null,null,null,null,1160,4000,11,null,2,null,null,4000]
[null,null,null,null,null,null,null,null,3,null,null,4000]
[null,null,null,null,null,null,null,null,4,null,null,4000]
[null,null,null,null,null,null,null,null,5,null,null,4000]
[null,null,null,null,null,null,null,null,6,null,null,4000]
[null,null,null,null,null,null,null,null,7,null,null,4000]
[null,null,null,null,null,null,null,null,8,null,null,4000]
[null,null,null,null,null,null,null,null,9,null,null,4000]
[null,null,null,null,null,null,null,null,10,null,null,4000]
[null,null,null,null,null,null,null,null,11,null,null,4000]
[null,null,null,null,null,null,null,null,null,null,null,{"$f":"SUM(L16:L26)","v":44000}]
[null,null,null,null,null,null,null,null,null,"製品幅"]
[null,null,null,null,null,null,null,null,null,640,760,640,null,"640＋760＋640＝2040（40余り）"]
[null,null,2080,45000,640,4000,22,null,1,null,null,null,4000,"製品長さ"]
[null,null,null,null,760,4000,11,null,2,null,null,null,4000,null,null,null,"3丁取りの製品33本なので3丁（33）のシートを選択"]
[null,null,null,null,null,null,null,null,3,null,null,null,4000]
[null,null,null,null,null,null,null,null,4,null,null,null,4000]
[null,null,null,null,null,null,null,null,5,null,null,null,4000]
[null,null,null,null,null,null,null,null,6,null,null,null,4000]
[null,null,null,null,null,null,null,null,7,null,null,null,4000]
[null,null,null,null,null,null,null,null,8,null,null,null,4000]
[null,null,null,null,null,null,null,null,9,null,null,null,4000]
[null,null,null,null,null,null,null,null,10,null,null,null,4000]
[null,null,null,null,null,null,null,null,11,null,null,null,4000]
[null,null,null,null,null,null,null,null,null,null,null,null,{"$f":"SUM(M30:M40)","v":44000}]
[null,null,null,null,null,null,null,null,null,"製品幅"]
[null,null,null,null,null,null,null,null,null,1020,980,null,null,"1020＋980＝2000（40余り）"]
[null,null,2040,45000,980,8000,5,null,1,null,null,8000,"製品長さ",null,null,null,"2丁取りの製品12本なので2丁（12）のシートを選択"]
[null,null,null,null,1020,8000,5,null,2,null,null,8000]
[null,null,null,null,1020,4000,1,null,3,null,null,8000]
[null,null,null,null,980,4000,1,null,4,null,null,8000]
[null,null,null,null,null,null,null,null,5,null,null,8000]
[null,null,null,null,null,null,null,null,6,null,null,4000]
[null,null,null,null,null,null,null,null,null,null,null,{"$f":"SUM(L44:L49)","v":44000}]
[null,null,null,null,null,null,null,null,null,"製品幅"]
[null,null,null,null,null,null,null,null,null,680,680,640,null,"680＋680＋640＝2000（40余り）"]
[null,null,2040,45000,680,8000,10,null,1,null,null,null,8000,null,null,null,"3丁取りの製品18本なので3丁（18）のシートを選択"]
[null,null,null,null,640,8000,5,null,2,null,null,null,8000]
[null,null,null,null,680,4000,2,null,3,null,null,null,8000]
[null,null,null,null,640,4000,1,null,4,null,null,null,8000]
[null,null,null,null,null,null,null,null,5,null,null,null,8000]
[null,null,null,null,null,null,null,null,6,null,null,null,4000]

{"sheet":"2丁(22)","index":4,"n_rows":71,"n_cols":23,"rows_kept":71,"cut":false,"hidden":false,"merged":[[69,1,69,4],[69,5,69,8],[69,9,69,12],[69,13,69,16],[69,17,69,21],[70,1,70,4],[60,7,60,16],[60,17,60,19],[68,1,68,4],[68,5,68,8],[68,9,68,12],[68,13,68,16],[68,17,68,21],[58,4,58,5],[58,7,58,16],[58,17,58,19],[59,4,59,5],[59,7,59,16],[59,17,59,19],[55,16,55,19],[55,20,55,22],[56,4,56,5],[57,4,57,5],[57,7,57,16],[57,17,57,19],[55,4,55,5],[55,6,55,7],[55,8,55,9],[55,10,55,11],[55,12,55,13],[55,14,55,15],[53,1,54,6],[53,7,53,10],[53,11,54,12],[53,13,54,13],[53,14,54,15],[53,16,54,22],[54,7,54,10],[46,13,46,14],[47,1,47,2],[47,3,47,4],[47,5,47,6],[47,7,47,8],[47,9,47,10],[47,11,47,12],[47,13,47,14],[46,1,46,2],[46,3,46,4],[46,5,46,6],[46,7,46,8],[46,9,46,10],[46,11,46,12],[44,1,44,14],[45,1,45,2],[45,3,45,4],[45,5,45,6],[45,7,45,8],[45,9,45,10],[45,11,45,12],[45,13,45,14],[39,15,39,22],[40,18,40,20],[41,18,41,20],[42,15,42,18],[42,19,42,22],[43,2,43,7],[43,8,43,13],[43,15,43,18],[43,19,43,22],[31,15,31,22],[32,15,32,18],[32,19,32,20],[32,21,32,22],[33,15,33,22],[34,15,34,22],[28,16,28,18],[28,19,28,22],[29,16,29,18],[29,19,29,20],[30,16,30,18],[30,19,30,20],[24,15,24,17],[24,18,24,22],[25,15,25,17],[25,18,25,22],[26,15,30,15],[26,16,26,18],[26,21,26,22],[27,16,27,18],[27,19,27,20],[27,21,27,22],[21,15,21,17],[21,18,21,22],[22,15,22,17],[22,18,22,22],[23,15,23,17],[23,18,23,22],[18,15,18,17],[18,18,18,22],[19,15,19,17],[19,18,19,22],[20,15,20,17],[20,18,20,22],[15,1,15,5],[15,8,15,11],[15,12,15,14],[15,16,15,18],[15,20,15,22],[16,1,17,1],[16,15,17,15],[16,16,17,18],[16,19,17,19],[16,20,17,22],[14,1,14,5],[14,6,14,7],[14,8,14,11],[14,12,14,14],[14,15,14,18],[14,19,14,22],[13,2,13,3],[13,4,13,5],[13,6,13,7],[13,11,13,14],[13,15,13,17],[13,18,13,20],[12,2,12,3],[12,4,12,5],[12,6,12,7],[12,11,12,14],[12,15,12,17],[12,18,12,20],[11,2,11,3],[11,4,11,5],[11,6,11,7],[11,11,11,14],[11,15,11,17],[11,18,11,20],[10,2,10,3],[10,4,10,5],[10,6,10,7],[10,11,10,14],[10,15,10,17],[10,18,10,20],[9,2,9,3],[9,4,9,5],[9,6,9,7],[9,11,9,14],[9,15,9,17],[9,18,9,20],[8,2,8,3],[8,4,8,5],[8,6,8,7],[8,11,8,14],[8,15,8,17],[8,18,8,20],[7,2,7,3],[7,4,7,5],[7,6,7,7],[7,11,7,14],[7,15,7,17],[7,18,7,20],[6,2,6,3],[6,4,6,5],[6,6,6,7],[6,11,6,14],[6,15,6,17],[6,18,6,20],[5,2,5,3],[5,4,5,5],[5,6,5,7],[5,11,5,14],[5,15,5,17],[5,18,5,20],[4,2,4,3],[4,4,4,5],[4,6,4,7],[4,11,4,14],[4,15,4,17],[4,18,4,20],[2,16,2,19],[2,20,2,22],[3,2,3,3],[3,4,3,5],[3,6,3,7],[3,11,3,14],[3,15,3,17],[3,18,3,20],[2,4,2,5],[2,6,2,7],[2,8,2,9],[2,10,2,11],[2,12,2,13],[2,14,2,15],[0,1,1,6],[0,7,1,10],[0,11,1,12],[0,13,1,13],[0,14,1,15],[0,16,1,22]]}
[null,"スリット伝票　ＬＯＴ",null,null,null,null,null,{"$f":"②OP記入欄改!$D$5","v":51023357021},null,null,null,"製区",null,{"$f":"②OP記入欄改!$D$7","v":"S"},"品種",null,{"$f":"②OP記入欄改!$D$8","v":"ＣＰＰ2703"}]
[]
[null,"番手",null,{"$f":"②OP記入欄改!$D$9","v":25},"原反名",null,{"$f":"②OP記入欄改!$D$10","v":9041},null,"原反幅",null,{"$f":"②OP記入欄改!$D$11","v":2080},null,"原反長",null,{"$f":"②OP記入欄改!$D$12","v":45000},null,"前工程M/C",null,null,null,{"$f":"②OP記入欄改!$D$13","v":"DF7"}]
[null,null,{"$f":"②OP記入欄改!G3","v":"仕向先"},null,{"$f":"②OP記入欄改!I3","v":"製品幅"},null,{"$f":"②OP記入欄改!K3","v":"製品長さ"},null,{"$f":"②OP記入欄改!M3","v":"計本"},{"$f":"②OP記入欄改!N3","v":"実"},{"$f":"②OP記入欄改!O3","v":"梱形"},"Ａ保枝番",null,null,null,"ミル枝番",null,null,"Ｂ級枝番",null,null,"ロック\nシャフト","コア"]
[null,{"$f":"②OP記入欄改!F4","v":1},{"$f":"②OP記入欄改!G4","v":"ＤＮＰ京都　３Ｄｏｒ３Ｄ６"},null,{"$f":"②OP記入欄改!I4","v":980},null,{"$f":"②OP記入欄改!K4","v":8000},null,{"$f":"②OP記入欄改!M4","v":5},{"$f":"②OP記入欄改!N4","v":0},{"$f":"②OP記入欄改!O4","v":"P"},null,null,null,null,null,null,null,null,null,null,"-",3]
[null,{"$f":"②OP記入欄改!F5","v":2},{"$f":"②OP記入欄改!G5","v":"ＤＮＰ京都　３Ｄｏｒ３Ｄ６"},null,{"$f":"②OP記入欄改!I5","v":1020},null,{"$f":"②OP記入欄改!K5","v":8000},null,{"$f":"②OP記入欄改!M5","v":5},{"$f":"②OP記入欄改!N5","v":0},{"$f":"②OP記入欄改!O5","v":"P"},null,null,null,null,null,null,null,null,null,null,"〇",3]
[null,{"$f":"②OP記入欄改!F6","v":3},{"$f":"②OP記入欄改!G6","v":"４０００ｍ余剰分"},null,{"$f":"②OP記入欄改!I6","v":1020},null,{"$f":"②OP記入欄改!K6","v":4000},null,{"$f":"②OP記入欄改!M6","v":1},{"$f":"②OP記入欄改!N6","v":0}]
[null,{"$f":"②OP記入欄改!F7","v":4},{"$f":"②OP記入欄改!G7","v":"４０００ｍ余剰分"},null,{"$f":"②OP記入欄改!I7","v":980},null,{"$f":"②OP記入欄改!K7","v":4000},null,{"$f":"②OP記入欄改!M7","v":1},{"$f":"②OP記入欄改!N7","v":0},{"$f":"②OP記入欄改!O7","v":0}]
[null,{"$f":"②OP記入欄改!F8","v":5},{"$f":"②OP記入欄改!G8","v":0},null,{"$f":"②OP記入欄改!I8","v":0},null,{"$f":"②OP記入欄改!K8","v":0},null,{"$f":"②OP記入欄改!M8","v":0},{"$f":"②OP記入欄改!N8","v":0},{"$f":"②OP記入欄改!O8","v":0}]
[null,{"$f":"②OP記入欄改!F9","v":6},{"$f":"②OP記入欄改!G9","v":0},null,{"$f":"②OP記入欄改!I9","v":0},null,{"$f":"②OP記入欄改!K9","v":0},null,{"$f":"②OP記入欄改!M9","v":0},{"$f":"②OP記入欄改!N9","v":0},{"$f":"②OP記入欄改!O9","v":0}]
[null,{"$f":"②OP記入欄改!F10","v":7},{"$f":"②OP記入欄改!G10","v":0},null,{"$f":"②OP記入欄改!I10","v":0},null,{"$f":"②OP記入欄改!K10","v":0},null,{"$f":"②OP記入欄改!M10","v":0},{"$f":"②OP記入欄改!N10","v":0},{"$f":"②OP記入欄改!O10","v":0}]
[null,{"$f":"②OP記入欄改!F11","v":8},{"$f":"②OP記入欄改!G11","v":0},null,{"$f":"②OP記入欄改!I11","v":0},null,{"$f":"②OP記入欄改!K11","v":0},null,{"$f":"②OP記入欄改!M11","v":0},{"$f":"②OP記入欄改!N11","v":0},{"$f":"②OP記入欄改!O11","v":0}]
[null,{"$f":"②OP記入欄改!F12","v":9},{"$f":"②OP記入欄改!G12","v":0},null,{"$f":"②OP記入欄改!I12","v":0},null,{"$f":"②OP記入欄改!K12","v":0},null,{"$f":"②OP記入欄改!M12","v":0},{"$f":"②OP記入欄改!N12","v":0},{"$f":"②OP記入欄改!O12","v":0}]
[null,{"$f":"②OP記入欄改!F13","v":10},{"$f":"②OP記入欄改!G13","v":0},null,{"$f":"②OP記入欄改!I13","v":0},null,{"$f":"②OP記入欄改!K13","v":0},null,{"$f":"②OP記入欄改!M13","v":0},{"$f":"②OP記入欄改!N13","v":0},{"$f":"②OP記入欄改!O13","v":0}]
[null,"スリット作業指示№",null,null,null,null,"M/C№",null,"加工日",null,null,null,"前工程品質情報",null,null,"切断シフト1",null,null,null,"切断シフト2"]
[null,{"$f":"②OP記入欄改!$D$14","v":0},null,null,null,null,"ＳＬ-",{"$f":"②OP記入欄改!$D$15","v":19},{"$f":"②OP記入欄改!$D$4","v":"2025-10-23"},null,null,null,"確認　　　□",null,null,"組","作業者",null,null,"組","作業者"]
[null,"巻芯\n確認"]
[]
[null,null,null,null,null,null,null,null,null,null,null,null,null,null,null,"切替開始",null,null,"　　　　　時　　　　　分"]
[null,null,null,null,null,null,null,null,null,null,null,null,null,null,null,"切断開始",null,null,"　　　　　時　　　　　分"]
[null,null,null,null,null,null,null,null,null,null,null,null,null,null,null,"切断完了",null,null,"　　　　　時　　　　　分"]
[null,null,null,null,null,null,null,null,null,null,null,null,null,null,null,"食事開始",null,null,"　　　　　時　　　　　分"]
[null,null,null,null,null,null,null,null,null,null,null,null,null,null,null,"食事完了",null,null,"　　　　　時　　　　　分"]
[null,null,null,null,null,null,null,null,null,null,null,null,null,null,null,"停機開始",null,null,"　　　　　時　　　　　分"]
[null,null,null,null,null,null,null,null,null,null,null,null,null,null,null,"停機完了",null,null,"　　　　　時　　　　　分"]
[null,null,null,null,null,null,null,null,null,null,null,null,null,null,null,"停機理由"]
[null,null,null,null,null,null,null,null,null,null,null,null,null,null,null,"条件確認","M/C条件設定",null,null,"呼出№",null,{"$f":"②OP記入欄改!$D$16","v":2}]
[null,null,null,null,null,null,null,null,null,null,null,null,null,null,null,null,"欠点検出機",null,null,"使用条件№",null,{"$f":"②OP記入欄改!$D$17","v":1}]
[null,null,null,null,null,null,null,null,null,null,null,null,null,null,null,null,"速度(m/min)",null,null,480]
[null,null,null,null,null,null,null,null,null,null,null,null,null,null,null,null,"張力(N/ｍ・kg)"]
[null,null,null,null,null,null,null,null,null,null,null,null,null,null,null,null,"接圧(N/ｍ・kg)"]
[null,null,null,null,null,null,null,null,null,null,null,null,null,null,null,"外観確認"]
[null,null,null,null,null,null,null,null,null,null,null,null,null,null,null,"表層透過検査",null,null,null,"OK",null,"NG"]
[null,null,null,null,null,null,null,null,null,null,null,null,null,null,null,"巻姿外観確認[ｽﾀｰﾄ/中間/ﾗｽﾄ]"]
[null,null,null,null,null,null,null,null,null,null,null,null,null,null,null,"各枝番に問題無『〇』問題有『☓』を記載"]
[]
[]
[]
[]
[null,null,null,null,null,null,null,null,null,null,null,null,null,null,null,"※『☓』の場合は展開図に内容を記載する"]
[null,null,null,null,null,null,null,null,null,null,null,null,null,null,null,"検材エッジ",null,null,255]
[null,20,null,null,null,null,null,null,null,null,null,null,null,null,20,"表層ロス",null,null,100,null,null,"m"]
[null,null,null,null,null,null,null,null,null,null,null,null,null,null,null,"レザー/丸刃交換",null,null,null,"レザー/丸刃廃棄"]
[null,null,1020,null,null,null,null,null,980,null,null,null,null,null,null,"　枚",null,null,null,"　　枚"]
[null,"膜厚測定（ＣＰＰ・VMPET・BRPET）",null,null,null,null,null,null,null,null,null,null,null,null,null,"備考"]
[null,"ラスト"]
[null,"1セット表層"]
[null,"1セット芯"]
[]
[]
[]
[]
[]
[null,"スリット伝票　ＬＯＴ",null,null,null,null,null,{"$f":"②OP記入欄改!$D$5","v":51023357021},null,null,null,"製区",null,{"$f":"②OP記入欄改!$D$7","v":"S"},"品種",null,{"$f":"②OP記入欄改!$D$8","v":"ＣＰＰ2703"}]
[]
[null,"番手",null,{"$f":"②OP記入欄改!$D$9","v":25},"原反名",null,{"$f":"②OP記入欄改!$D$10","v":9041},null,"原反幅",null,{"$f":"②OP記入欄改!$D$11","v":2080},null,"原反長",null,{"$f":"②OP記入欄改!$D$12","v":45000},null,"前工程M/C",null,null,null,{"$f":"②OP記入欄改!$D$13","v":"DF7"}]
[null,"停機内容",null,null,null,null,null,"停機詳細",null,null,null,null,null,null,null,null,null,"停機時間"]
[null,"Ｆ破れ",null,null,"有/無",null,null,null,null,null,null,null,null,null,null,null,null,null,null,null,"hr"]
[null,"耳切れ",null,null,"有/無",null,null,null,null,null,null,null,null,null,null,null,null,null,null,null,"hr"]
[null,"紙管切断",null,null,"有/無",null,null,null,null,null,null,null,null,null,null,null,null,null,null,null,"hr"]
[null,"その他停機内容",null,null,null,null,null,null,null,null,null,null,null,null,null,null,null,null,null,null,"hr"]
[null,"備考"]
[]
[]
[]
[]
[]
[null,"外観確認内容"]
[null,"原反ズレ",null,null,null,"当てキズ",null,null,null,"溝ロール痕",null,null,null,"ＴＤスジ",null,null,null,"ピッチキズ"]
[null,"スリキズ",null,null,null,"クボミシワ",null,null,null,"シワムラ",null,null,null,"変色",null,null,null,"巻芯シワ"]
[null,"切断面・異物"]

{"sheet":"2丁(20)","index":5,"n_rows":71,"n_cols":25,"rows_kept":71,"cut":false,"hidden":false,"merged":[[69,1,69,4],[69,5,69,8],[69,9,69,12],[69,13,69,16],[69,17,69,21],[70,1,70,4],[60,7,60,16],[60,17,60,19],[68,1,68,4],[68,5,68,8],[68,9,68,12],[68,13,68,16],[68,17,68,21],[58,4,58,5],[58,7,58,16],[58,17,58,19],[59,4,59,5],[59,7,59,16],[59,17,59,19],[55,16,55,19],[55,20,55,22],[56,4,56,5],[57,4,57,5],[57,7,57,16],[57,17,57,19],[55,4,55,5],[55,6,55,7],[55,8,55,9],[55,10,55,11],[55,12,55,13],[55,14,55,15],[53,1,54,6],[53,7,53,10],[53,11,54,12],[53,13,54,13],[53,14,54,15],[53,16,54,22],[54,7,54,10],[46,13,46,14],[47,1,47,2],[47,3,47,4],[47,5,47,6],[47,7,47,8],[47,9,47,10],[47,11,47,12],[47,13,47,14],[46,1,46,2],[46,3,46,4],[46,5,46,6],[46,7,46,8],[46,9,46,10],[46,11,46,12],[44,1,44,14],[45,1,45,2],[45,3,45,4],[45,5,45,6],[45,7,45,8],[45,9,45,10],[45,11,45,12],[45,13,45,14],[39,15,39,22],[40,18,40,20],[41,18,41,20],[42,15,42,18],[42,19,42,22],[43,2,43,7],[43,8,43,13],[43,15,43,18],[43,19,43,22],[31,15,31,22],[32,15,32,18],[32,19,32,20],[32,21,32,22],[33,15,33,22],[34,15,34,22],[28,16,28,18],[28,19,28,22],[29,16,29,18],[29,19,29,20],[30,16,30,18],[30,19,30,20],[24,15,24,17],[24,18,24,22],[25,15,25,17],[25,18,25,22],[26,15,30,15],[26,16,26,18],[26,21,26,22],[27,16,27,18],[27,19,27,20],[27,21,27,22],[21,15,21,17],[21,18,21,22],[22,15,22,17],[22,18,22,22],[23,15,23,17],[23,18,23,22],[18,15,18,17],[18,18,18,22],[19,15,19,17],[19,18,19,22],[20,15,20,17],[20,18,20,22],[15,1,15,5],[15,8,15,11],[15,12,15,14],[15,16,15,18],[15,20,15,22],[16,1,17,1],[16,15,17,15],[16,16,17,18],[16,19,17,19],[16,20,17,22],[14,1,14,5],[14,6,14,7],[14,8,14,11],[14,12,14,14],[14,15,14,18],[14,19,14,22],[13,2,13,3],[13,4,13,5],[13,6,13,7],[13,11,13,14],[13,15,13,17],[13,18,13,20],[12,2,12,3],[12,4,12,5],[12,6,12,7],[12,11,12,14],[12,15,12,17],[12,18,12,20],[11,2,11,3],[11,4,11,5],[11,6,11,7],[11,11,11,14],[11,15,11,17],[11,18,11,20],[10,2,10,3],[10,4,10,5],[10,6,10,7],[10,11,10,14],[10,15,10,17],[10,18,10,20],[9,2,9,3],[9,4,9,5],[9,6,9,7],[9,11,9,14],[9,15,9,17],[9,18,9,20],[8,2,8,3],[8,4,8,5],[8,6,8,7],[8,11,8,14],[8,15,8,17],[8,18,8,20],[7,2,7,3],[7,4,7,5],[7,6,7,7],[7,11,7,14],[7,15,7,17],[7,18,7,20],[6,2,6,3],[6,4,6,5],[6,6,6,7],[6,11,6,14],[6,15,6,17],[6,18,6,20],[5,2,5,3],[5,4,5,5],[5,6,5,7],[5,11,5,14],[5,15,5,17],[5,18,5,20],[4,2,4,3],[4,4,4,5],[4,6,4,7],[4,11,4,14],[4,15,4,17],[4,18,4,20],[2,16,2,19],[2,20,2,22],[3,2,3,3],[3,4,3,5],[3,6,3,7],[3,11,3,14],[3,15,3,17],[3,18,3,20],[2,4,2,5],[2,6,2,7],[2,8,2,9],[2,10,2,11],[2,12,2,13],[2,14,2,15],[0,1,1,6],[0,7,1,10],[0,11,1,12],[0,13,1,13],[0,14,1,15],[0,16,1,22]]}
[null,"スリット伝票　ＬＯＴ",null,null,null,null,null,{"$f":"②OP記入欄改!$D$5","v":51023357021},null,null,null,"製区",null,{"$f":"②OP記入欄改!$D$7","v":"S"},"品種",null,{"$f":"②OP記入欄改!$D$8","v":"ＣＰＰ2703"}]
[]
[null,"番手",null,{"$f":"②OP記入欄改!$D$9","v":25},"原反名",null,{"$f":"②OP記入欄改!$D$10","v":9041},null,"原反幅",null,{"$f":"②OP記入欄改!$D$11","v":2080},null,"原反長",null,{"$f":"②OP記入欄改!$D$12","v":45000},null,"前工程M/C",null,null,null,{"$f":"②OP記入欄改!$D$13","v":"DF7"}]
[null,null,{"$f":"②OP記入欄改!G3","v":"仕向先"},null,{"$f":"②OP記入欄改!I3","v":"製品幅"},null,{"$f":"②OP記入欄改!K3","v":"製品長さ"},null,{"$f":"②OP記入欄改!M3","v":"計本"},{"$f":"②OP記入欄改!N3","v":"実"},{"$f":"②OP記入欄改!O3","v":"梱形"},"Ａ保枝番",null,null,null,"ミル枝番",null,null,"Ｂ級枝番",null,null,"ロック\nシャフト","コア"]
[null,{"$f":"②OP記入欄改!F4","v":1},{"$f":"②OP記入欄改!G4","v":"ＤＮＰ京都　３Ｄｏｒ３Ｄ６"},null,{"$f":"②OP記入欄改!I4","v":980},null,{"$f":"②OP記入欄改!K4","v":8000},null,{"$f":"②OP記入欄改!M4","v":5},{"$f":"②OP記入欄改!N4","v":0},{"$f":"②OP記入欄改!O4","v":"P"},null,null,null,null,null,null,null,null,null,null,"-",3,null,"-"]
[null,{"$f":"②OP記入欄改!F5","v":2},{"$f":"②OP記入欄改!G5","v":"ＤＮＰ京都　３Ｄｏｒ３Ｄ６"},null,{"$f":"②OP記入欄改!I5","v":1020},null,{"$f":"②OP記入欄改!K5","v":8000},null,{"$f":"②OP記入欄改!M5","v":5},{"$f":"②OP記入欄改!N5","v":0},{"$f":"②OP記入欄改!O5","v":"P"},null,null,null,null,null,null,null,null,null,null,"〇",3,null,"〇"]
[null,{"$f":"②OP記入欄改!F6","v":3},{"$f":"②OP記入欄改!G6","v":"４０００ｍ余剰分"},null,{"$f":"②OP記入欄改!I6","v":1020},null,{"$f":"②OP記入欄改!K6","v":4000},null,{"$f":"②OP記入欄改!M6","v":1},{"$f":"②OP記入欄改!N6","v":0}]
[null,{"$f":"②OP記入欄改!F7","v":4},{"$f":"②OP記入欄改!G7","v":"４０００ｍ余剰分"},null,{"$f":"②OP記入欄改!I7","v":980},null,{"$f":"②OP記入欄改!K7","v":4000},null,{"$f":"②OP記入欄改!M7","v":1},{"$f":"②OP記入欄改!N7","v":0},{"$f":"②OP記入欄改!O7","v":0}]
[null,{"$f":"②OP記入欄改!F8","v":5},{"$f":"②OP記入欄改!G8","v":0},null,{"$f":"②OP記入欄改!I8","v":0},null,{"$f":"②OP記入欄改!K8","v":0},null,{"$f":"②OP記入欄改!M8","v":0},{"$f":"②OP記入欄改!N8","v":0},{"$f":"②OP記入欄改!O8","v":0}]
[null,{"$f":"②OP記入欄改!F9","v":6},{"$f":"②OP記入欄改!G9","v":0},null,{"$f":"②OP記入欄改!I9","v":0},null,{"$f":"②OP記入欄改!K9","v":0},null,{"$f":"②OP記入欄改!M9","v":0},{"$f":"②OP記入欄改!N9","v":0},{"$f":"②OP記入欄改!O9","v":0}]
[null,{"$f":"②OP記入欄改!F10","v":7},{"$f":"②OP記入欄改!G10","v":0},null,{"$f":"②OP記入欄改!I10","v":0},null,{"$f":"②OP記入欄改!K10","v":0},null,{"$f":"②OP記入欄改!M10","v":0},{"$f":"②OP記入欄改!N10","v":0},{"$f":"②OP記入欄改!O10","v":0}]
[null,{"$f":"②OP記入欄改!F11","v":8},{"$f":"②OP記入欄改!G11","v":0},null,{"$f":"②OP記入欄改!I11","v":0},null,{"$f":"②OP記入欄改!K11","v":0},null,{"$f":"②OP記入欄改!M11","v":0},{"$f":"②OP記入欄改!N11","v":0},{"$f":"②OP記入欄改!O11","v":0}]
[null,{"$f":"②OP記入欄改!F12","v":9},{"$f":"②OP記入欄改!G12","v":0},null,{"$f":"②OP記入欄改!I12","v":0},null,{"$f":"②OP記入欄改!K12","v":0},null,{"$f":"②OP記入欄改!M12","v":0},{"$f":"②OP記入欄改!N12","v":0},{"$f":"②OP記入欄改!O12","v":0}]
[null,{"$f":"②OP記入欄改!F13","v":10},{"$f":"②OP記入欄改!G13","v":0},null,{"$f":"②OP記入欄改!I13","v":0},null,{"$f":"②OP記入欄改!K13","v":0},null,{"$f":"②OP記入欄改!M13","v":0},{"$f":"②OP記入欄改!N13","v":0},{"$f":"②OP記入欄改!O13","v":0}]
[null,"スリット作業指示№",null,null,null,null,"M/C№",null,"加工日",null,null,null,"前工程品質情報",null,null,"切断シフト1",null,null,null,"切断シフト2"]
[null,{"$f":"②OP記入欄改!$D$14","v":0},null,null,null,null,"ＳＬ-",{"$f":"②OP記入欄改!$D$15","v":19},{"$f":"②OP記入欄改!$D$4","v":"2025-10-23"},null,null,null,"確認　　　□",null,null,"組","作業者",null,null,"組","作業者"]
[null,"巻芯\n確認"]
[]
[null,null,null,null,null,null,null,null,null,null,null,null,null,null,null,"切替開始",null,null,"　　　　　時　　　　　分"]
[null,null,null,null,null,null,null,null,null,null,null,null,null,null,null,"切断開始",null,null,"　　　　　時　　　　　分"]
[null,null,null,null,null,null,null,null,null,null,null,null,null,null,null,"切断完了",null,null,"　　　　　時　　　　　分"]
[null,null,null,null,null,null,null,null,null,null,null,null,null,null,null,"食事開始",null,null,"　　　　　時　　　　　分"]
[null,null,null,null,null,null,null,null,null,null,null,null,null,null,null,"食事完了",null,null,"　　　　　時　　　　　分"]
[null,null,null,null,null,null,null,null,null,null,null,null,null,null,null,"停機開始",null,null,"　　　　　時　　　　　分"]
[null,null,null,null,null,null,null,null,null,null,null,null,null,null,null,"停機完了",null,null,"　　　　　時　　　　　分"]
[null,null,null,null,null,null,null,null,null,null,null,null,null,null,null,"停機理由"]
[null,null,null,null,null,null,null,null,null,null,null,null,null,null,null,"条件確認","M/C条件設定",null,null,"呼出№",null,{"$f":"②OP記入欄改!$D$16","v":2}]
[null,null,null,null,null,null,null,null,null,null,null,null,null,null,null,null,"欠点検出機",null,null,"使用条件№",null,{"$f":"②OP記入欄改!$D$17","v":1}]
[null,null,null,null,null,null,null,null,null,null,null,null,null,null,null,null,"速度(m/min)",null,null,480]
[null,null,null,null,null,null,null,null,null,null,null,null,null,null,null,null,"張力(N/ｍ・kg)"]
[null,null,null,null,null,null,null,null,null,null,null,null,null,null,null,null,"接圧(N/ｍ・kg)"]
[null,null,null,null,null,null,null,null,null,null,null,null,null,null,null,"外観確認"]
[null,null,null,null,null,null,null,null,null,null,null,null,null,null,null,"表層透過検査",null,null,null,"OK",null,"NG"]
[null,null,null,null,null,null,null,null,null,null,null,null,null,null,null,"巻姿外観確認[ｽﾀｰﾄ/中間/ﾗｽﾄ]"]
[null,null,null,null,null,null,null,null,null,null,null,null,null,null,null,"各枝番に問題無『〇』問題有『☓』を記載"]
[]
[]
[]
[]
[null,null,null,null,null,null,null,null,null,null,null,null,null,null,null,"※『☓』の場合は展開図に内容を記載する"]
[null,null,null,null,null,null,null,null,null,null,null,null,null,null,null,"検材エッジ",null,null,255]
[null,20,null,null,null,null,null,null,null,null,null,null,null,null,20,"表層ロス",null,null,100,null,null,"m"]
[null,null,null,null,null,null,null,null,null,null,null,null,null,null,null,"レザー/丸刃交換",null,null,null,"レザー/丸刃廃棄"]
[null,null,1020,null,null,null,null,null,980,null,null,null,null,null,null,"　枚",null,null,null,"　　枚"]
[null,"膜厚測定（ＣＰＰ・VMPET・BRPET）",null,null,null,null,null,null,null,null,null,null,null,null,null,"備考"]
[null,"ラスト"]
[null,"1セット表層"]
[null,"1セット芯"]
[]
[]
[]
[]
[]
[null,"スリット伝票　ＬＯＴ",null,null,null,null,null,{"$f":"②OP記入欄改!$D$5","v":51023357021},null,null,null,"製区",null,{"$f":"②OP記入欄改!$D$7","v":"S"},"品種",null,{"$f":"②OP記入欄改!$D$8","v":"ＣＰＰ2703"}]
[]
[null,"番手",null,{"$f":"②OP記入欄改!$D$9","v":25},"原反名",null,{"$f":"②OP記入欄改!$D$10","v":9041},null,"原反幅",null,{"$f":"②OP記入欄改!$D$11","v":2080},null,"原反長",null,{"$f":"②OP記入欄改!$D$12","v":45000},null,"前工程M/C",null,null,null,{"$f":"②OP記入欄改!$D$13","v":"DF7"}]
[null,"停機内容",null,null,null,null,null,"停機詳細",null,null,null,null,null,null,null,null,null,"停機時間"]
[null,"Ｆ破れ",null,null,"有/無",null,null,null,null,null,null,null,null,null,null,null,null,null,null,null,"hr"]
[null,"耳切れ",null,null,"有/無",null,null,null,null,null,null,null,null,null,null,null,null,null,null,null,"hr"]
[null,"紙管切断",null,null,"有/無",null,null,null,null,null,null,null,null,null,null,null,null,null,null,null,"hr"]
[null,"その他停機内容",null,null,null,null,null,null,null,null,null,null,null,null,null,null,null,null,null,null,"hr"]
[null,"備考"]
[]
[]
[]
[]
[]
[null,"外観確認内容"]
[null,"原反ズレ",null,null,null,"当てキズ",null,null,null,"溝ロール痕",null,null,null,"ＴＤスジ",null,null,null,"ピッチキズ"]
[null,"スリキズ",null,null,null,"クボミシワ",null,null,null,"シワムラ",null,null,null,"変色",null,null,null,"巻芯シワ"]
[null,"切断面・異物"]

{"sheet":"2丁(12)","index":6,"n_rows":71,"n_cols":25,"rows_kept":71,"cut":false,"hidden":false,"merged":[[69,1,69,4],[69,5,69,8],[69,9,69,12],[69,13,69,16],[69,17,69,21],[70,1,70,4],[60,7,60,16],[60,17,60,19],[68,1,68,4],[68,5,68,8],[68,9,68,12],[68,13,68,16],[68,17,68,21],[58,4,58,5],[58,7,58,16],[58,17,58,19],[59,4,59,5],[59,7,59,16],[59,17,59,19],[55,16,55,19],[55,20,55,22],[56,4,56,5],[57,4,57,5],[57,7,57,16],[57,17,57,19],[55,4,55,5],[55,6,55,7],[55,8,55,9],[55,10,55,11],[55,12,55,13],[55,14,55,15],[53,1,54,6],[53,7,53,10],[53,11,54,12],[53,13,54,13],[53,14,54,15],[53,16,54,22],[54,7,54,10],[46,13,46,14],[47,1,47,2],[47,3,47,4],[47,5,47,6],[47,7,47,8],[47,9,47,10],[47,11,47,12],[47,13,47,14],[46,1,46,2],[46,3,46,4],[46,5,46,6],[46,7,46,8],[46,9,46,10],[46,11,46,12],[44,1,44,14],[45,1,45,2],[45,3,45,4],[45,5,45,6],[45,7,45,8],[45,9,45,10],[45,11,45,12],[45,13,45,14],[39,15,39,22],[40,18,40,20],[41,18,41,20],[42,15,42,18],[42,19,42,22],[43,2,43,7],[43,8,43,13],[43,15,43,18],[43,19,43,22],[31,15,31,22],[32,15,32,18],[32,19,32,20],[32,21,32,22],[33,15,33,22],[34,15,34,22],[28,16,28,18],[28,19,28,22],[29,16,29,18],[29,19,29,20],[30,16,30,18],[30,19,30,20],[24,15,24,17],[24,18,24,22],[25,15,25,17],[25,18,25,22],[26,15,30,15],[26,16,26,18],[26,21,26,22],[27,16,27,18],[27,19,27,20],[27,21,27,22],[21,15,21,17],[21,18,21,22],[22,15,22,17],[22,18,22,22],[23,15,23,17],[23,18,23,22],[18,15,18,17],[18,18,18,22],[19,15,19,17],[19,18,19,22],[20,15,20,17],[20,18,20,22],[15,1,15,5],[15,8,15,11],[15,12,15,14],[15,16,15,18],[15,20,15,22],[16,1,17,1],[16,15,17,15],[16,16,17,18],[16,19,17,19],[16,20,17,22],[14,1,14,5],[14,6,14,7],[14,8,14,11],[14,12,14,14],[14,15,14,18],[14,19,14,22],[13,2,13,3],[13,4,13,5],[13,6,13,7],[13,11,13,14],[13,15,13,17],[13,18,13,20],[12,2,12,3],[12,4,12,5],[12,6,12,7],[12,11,12,14],[12,15,12,17],[12,18,12,20],[11,2,11,3],[11,4,11,5],[11,6,11,7],[11,11,11,14],[11,15,11,17],[11,18,11,20],[10,2,10,3],[10,4,10,5],[10,6,10,7],[10,11,10,14],[10,15,10,17],[10,18,10,20],[9,2,9,3],[9,4,9,5],[9,6,9,7],[9,11,9,14],[9,15,9,17],[9,18,9,20],[8,2,8,3],[8,4,8,5],[8,6,8,7],[8,11,8,14],[8,15,8,17],[8,18,8,20],[7,2,7,3],[7,4,7,5],[7,6,7,7],[7,11,7,14],[7,15,7,17],[7,18,7,20],[6,2,6,3],[6,4,6,5],[6,6,6,7],[6,11,6,14],[6,15,6,17],[6,18,6,20],[5,2,5,3],[5,4,5,5],[5,6,5,7],[5,11,5,14],[5,15,5,17],[5,18,5,20],[4,2,4,3],[4,4,4,5],[4,6,4,7],[4,11,4,14],[4,15,4,17],[4,18,4,20],[2,16,2,19],[2,20,2,22],[3,2,3,3],[3,4,3,5],[3,6,3,7],[3,11,3,14],[3,15,3,17],[3,18,3,20],[2,4,2,5],[2,6,2,7],[2,8,2,9],[2,10,2,11],[2,12,2,13],[2,14,2,15],[0,1,1,6],[0,7,1,10],[0,11,1,12],[0,13,1,13],[0,14,1,15],[0,16,1,22]]}
[null,"スリット伝票　ＬＯＴ",null,null,null,null,null,{"$f":"②OP記入欄改!$D$5","v":51023357021},null,null,null,"製区",null,{"$f":"②OP記入欄改!$D$7","v":"S"},"品種",null,{"$f":"②OP記入欄改!$D$8","v":"ＣＰＰ2703"}]
[]
[null,"番手",null,{"$f":"②OP記入欄改!$D$9","v":25},"原反名",null,{"$f":"②OP記入欄改!$D$10","v":9041},null,"原反幅",null,{"$f":"②OP記入欄改!$D$11","v":2080},null,"原反長",null,{"$f":"②OP記入欄改!$D$12","v":45000},null,"前工程M/C",null,null,null,{"$f":"②OP記入欄改!$D$13","v":"DF7"}]
[null,null,{"$f":"②OP記入欄改!G3","v":"仕向先"},null,{"$f":"②OP記入欄改!I3","v":"製品幅"},null,{"$f":"②OP記入欄改!K3","v":"製品長さ"},null,{"$f":"②OP記入欄改!M3","v":"計本"},{"$f":"②OP記入欄改!N3","v":"実"},{"$f":"②OP記入欄改!O3","v":"梱形"},"Ａ保枝番",null,null,null,"ミル枝番",null,null,"Ｂ級枝番",null,null,"ロック\nシャフト","コア"]
[null,{"$f":"②OP記入欄改!F4","v":1},{"$f":"②OP記入欄改!G4","v":"ＤＮＰ京都　３Ｄｏｒ３Ｄ６"},null,{"$f":"②OP記入欄改!I4","v":980},null,{"$f":"②OP記入欄改!K4","v":8000},null,{"$f":"②OP記入欄改!M4","v":5},{"$f":"②OP記入欄改!N4","v":0},{"$f":"②OP記入欄改!O4","v":"P"},null,null,null,null,null,null,null,null,null,null,"-",3,null,"-"]
[null,{"$f":"②OP記入欄改!F5","v":2},{"$f":"②OP記入欄改!G5","v":"ＤＮＰ京都　３Ｄｏｒ３Ｄ６"},null,{"$f":"②OP記入欄改!I5","v":1020},null,{"$f":"②OP記入欄改!K5","v":8000},null,{"$f":"②OP記入欄改!M5","v":5},{"$f":"②OP記入欄改!N5","v":0},{"$f":"②OP記入欄改!O5","v":"P"},null,null,null,null,null,null,null,null,null,null,"〇",3,null,"〇"]
[null,{"$f":"②OP記入欄改!F6","v":3},{"$f":"②OP記入欄改!G6","v":"４０００ｍ余剰分"},null,{"$f":"②OP記入欄改!I6","v":1020},null,{"$f":"②OP記入欄改!K6","v":4000},null,{"$f":"②OP記入欄改!M6","v":1},{"$f":"②OP記入欄改!N6","v":0}]
[null,{"$f":"②OP記入欄改!F7","v":4},{"$f":"②OP記入欄改!G7","v":"４０００ｍ余剰分"},null,{"$f":"②OP記入欄改!I7","v":980},null,{"$f":"②OP記入欄改!K7","v":4000},null,{"$f":"②OP記入欄改!M7","v":1},{"$f":"②OP記入欄改!N7","v":0},{"$f":"②OP記入欄改!O7","v":0}]
[null,{"$f":"②OP記入欄改!F8","v":5},{"$f":"②OP記入欄改!G8","v":0},null,{"$f":"②OP記入欄改!I8","v":0},null,{"$f":"②OP記入欄改!K8","v":0},null,{"$f":"②OP記入欄改!M8","v":0},{"$f":"②OP記入欄改!N8","v":0},{"$f":"②OP記入欄改!O8","v":0}]
[null,{"$f":"②OP記入欄改!F9","v":6},{"$f":"②OP記入欄改!G9","v":0},null,{"$f":"②OP記入欄改!I9","v":0},null,{"$f":"②OP記入欄改!K9","v":0},null,{"$f":"②OP記入欄改!M9","v":0},{"$f":"②OP記入欄改!N9","v":0},{"$f":"②OP記入欄改!O9","v":0}]
[null,{"$f":"②OP記入欄改!F10","v":7},{"$f":"②OP記入欄改!G10","v":0},null,{"$f":"②OP記入欄改!I10","v":0},null,{"$f":"②OP記入欄改!K10","v":0},null,{"$f":"②OP記入欄改!M10","v":0},{"$f":"②OP記入欄改!N10","v":0},{"$f":"②OP記入欄改!O10","v":0}]
[null,{"$f":"②OP記入欄改!F11","v":8},{"$f":"②OP記入欄改!G11","v":0},null,{"$f":"②OP記入欄改!I11","v":0},null,{"$f":"②OP記入欄改!K11","v":0},null,{"$f":"②OP記入欄改!M11","v":0},{"$f":"②OP記入欄改!N11","v":0},{"$f":"②OP記入欄改!O11","v":0}]
[null,{"$f":"②OP記入欄改!F12","v":9},{"$f":"②OP記入欄改!G12","v":0},null,{"$f":"②OP記入欄改!I12","v":0},null,{"$f":"②OP記入欄改!K12","v":0},null,{"$f":"②OP記入欄改!M12","v":0},{"$f":"②OP記入欄改!N12","v":0},{"$f":"②OP記入欄改!O12","v":0}]
[null,{"$f":"②OP記入欄改!F13","v":10},{"$f":"②OP記入欄改!G13","v":0},null,{"$f":"②OP記入欄改!I13","v":0},null,{"$f":"②OP記入欄改!K13","v":0},null,{"$f":"②OP記入欄改!M13","v":0},{"$f":"②OP記入欄改!N13","v":0},{"$f":"②OP記入欄改!O13","v":0}]
[null,"スリット作業指示№",null,null,null,null,"M/C№",null,"加工日",null,null,null,"前工程品質情報",null,null,"切断シフト1",null,null,null,"切断シフト2"]
[null,{"$f":"②OP記入欄改!$D$14","v":0},null,null,null,null,"ＳＬ-",{"$f":"②OP記入欄改!$D$15","v":19},{"$f":"②OP記入欄改!$D$4","v":"2025-10-23"},null,null,null,"確認　　　□",null,null,"組","作業者",null,null,"組","作業者"]
[null,"巻芯\n確認"]
[]
[null,null,null,null,null,null,null,null,null,null,null,null,null,null,null,"切替開始",null,null,"　　　　　時　　　　　分"]
[null,null,null,null,null,null,null,null,null,null,null,null,null,null,null,"切断開始",null,null,"　　　　　時　　　　　分"]
[null,null,null,null,null,null,null,null,null,null,null,null,null,null,null,"切断完了",null,null,"　　　　　時　　　　　分"]
[null,null,null,null,null,null,null,null,null,null,null,null,null,null,null,"食事開始",null,null,"　　　　　時　　　　　分"]
[null,null,null,null,null,null,null,null,null,null,null,null,null,null,null,"食事完了",null,null,"　　　　　時　　　　　分"]
[null,null,null,null,null,null,null,null,null,null,null,null,null,null,null,"停機開始",null,null,"　　　　　時　　　　　分"]
[null,null,null,null,null,null,null,null,null,null,null,null,null,null,null,"停機完了",null,null,"　　　　　時　　　　　分"]
[null,null,null,null,null,null,null,null,null,null,null,null,null,null,null,"停機理由"]
[null,null,null,null,null,null,null,null,null,null,null,null,null,null,null,"条件確認","M/C条件設定",null,null,"呼出№",null,{"$f":"②OP記入欄改!$D$16","v":2}]
[null,null,null,null,null,null,null,null,null,null,null,null,null,null,null,null,"欠点検出機",null,null,"使用条件№",null,{"$f":"②OP記入欄改!$D$17","v":1}]
[null,null,null,null,null,null,null,null,null,null,null,null,null,null,null,null,"速度(m/min)",null,null,480]
[null,null,null,null,null,null,null,null,null,null,null,null,null,null,null,null,"張力(N/ｍ・kg)"]
[null,null,null,null,null,null,null,null,null,null,null,null,null,null,null,null,"接圧(N/ｍ・kg)"]
[null,null,null,null,null,null,null,null,null,null,null,null,null,null,null,"外観確認"]
[null,null,null,null,null,null,null,null,null,null,null,null,null,null,null,"表層透過検査",null,null,null,"OK",null,"NG"]
[null,null,null,null,null,null,null,null,null,null,null,null,null,null,null,"巻姿外観確認[ｽﾀｰﾄ/中間/ﾗｽﾄ]"]
[null,null,null,null,null,null,null,null,null,null,null,null,null,null,null,"各枝番に問題無『〇』問題有『☓』を記載"]
[]
[]
[]
[]
[null,null,null,null,null,null,null,null,null,null,null,null,null,null,null,"※『☓』の場合は展開図に内容を記載する"]
[null,null,null,null,null,null,null,null,null,null,null,null,null,null,null,"検材エッジ",null,null,255]
[null,20,null,null,null,null,null,null,null,null,null,null,null,null,20,"表層ロス",null,null,100,null,null,"m"]
[null,null,null,null,null,null,null,null,null,null,null,null,null,null,null,"レザー/丸刃交換",null,null,null,"レザー/丸刃廃棄"]
[null,null,1020,null,null,null,null,null,980,null,null,null,null,null,null,"　枚",null,null,null,"　　枚"]
[null,"膜厚測定（ＣＰＰ・VMPET・BRPET）",null,null,null,null,null,null,null,null,null,null,null,null,null,"備考"]
[null,"ラスト"]
[null,"1セット表層"]
[null,"1セット芯"]
[]
[]
[]
[]
[]
[null,"スリット伝票　ＬＯＴ",null,null,null,null,null,{"$f":"②OP記入欄改!$D$5","v":51023357021},null,null,null,"製区",null,{"$f":"②OP記入欄改!$D$7","v":"S"},"品種",null,{"$f":"②OP記入欄改!$D$8","v":"ＣＰＰ2703"}]
[]
[null,"番手",null,{"$f":"②OP記入欄改!$D$9","v":25},"原反名",null,{"$f":"②OP記入欄改!$D$10","v":9041},null,"原反幅",null,{"$f":"②OP記入欄改!$D$11","v":2080},null,"原反長",null,{"$f":"②OP記入欄改!$D$12","v":45000},null,"前工程M/C",null,null,null,{"$f":"②OP記入欄改!$D$13","v":"DF7"}]
[null,"停機内容",null,null,null,null,null,"停機詳細",null,null,null,null,null,null,null,null,null,"停機時間"]
[null,"Ｆ破れ",null,null,"有/無",null,null,null,null,null,null,null,null,null,null,null,null,null,null,null,"hr"]
[null,"耳切れ",null,null,"有/無",null,null,null,null,null,null,null,null,null,null,null,null,null,null,null,"hr"]
[null,"紙管切断",null,null,"有/無",null,null,null,null,null,null,null,null,null,null,null,null,null,null,null,"hr"]
[null,"その他停機内容",null,null,null,null,null,null,null,null,null,null,null,null,null,null,null,null,null,null,"hr"]
[null,"備考"]
[]
[]
[]
[]
[]
[null,"外観確認内容"]
[null,"原反ズレ",null,null,null,"当てキズ",null,null,null,"溝ロール痕",null,null,null,"ＴＤスジ",null,null,null,"ピッチキズ"]
[null,"スリキズ",null,null,null,"クボミシワ",null,null,null,"シワムラ",null,null,null,"変色",null,null,null,"巻芯シワ"]
[null,"切断面・異物"]

{"sheet":"2丁(10)","index":7,"n_rows":71,"n_cols":25,"rows_kept":71,"cut":false,"hidden":false,"merged":[[69,1,69,4],[69,5,69,8],[69,9,69,12],[69,13,69,16],[69,17,69,21],[70,1,70,4],[60,7,60,16],[60,17,60,19],[68,1,68,4],[68,5,68,8],[68,9,68,12],[68,13,68,16],[68,17,68,21],[58,4,58,5],[58,7,58,16],[58,17,58,19],[59,4,59,5],[59,7,59,16],[59,17,59,19],[55,16,55,19],[55,20,55,22],[56,4,56,5],[57,4,57,5],[57,7,57,16],[57,17,57,19],[55,4,55,5],[55,6,55,7],[55,8,55,9],[55,10,55,11],[55,12,55,13],[55,14,55,15],[53,1,54,6],[53,7,53,10],[53,11,54,12],[53,13,54,13],[53,14,54,15],[53,16,54,22],[54,7,54,10],[46,13,46,14],[47,1,47,2],[47,3,47,4],[47,5,47,6],[47,7,47,8],[47,9,47,10],[47,11,47,12],[47,13,47,14],[46,1,46,2],[46,3,46,4],[46,5,46,6],[46,7,46,8],[46,9,46,10],[46,11,46,12],[44,1,44,14],[45,1,45,2],[45,3,45,4],[45,5,45,6],[45,7,45,8],[45,9,45,10],[45,11,45,12],[45,13,45,14],[39,15,39,22],[40,18,40,20],[41,18,41,20],[42,15,42,18],[42,19,42,22],[43,2,43,7],[43,8,43,13],[43,15,43,18],[43,19,43,22],[31,15,31,22],[32,15,32,18],[32,19,32,20],[32,21,32,22],[33,15,33,22],[34,15,34,22],[28,16,28,18],[28,19,28,22],[29,16,29,18],[29,19,29,20],[30,16,30,18],[30,19,30,20],[24,15,24,17],[24,18,24,22],[25,15,25,17],[25,18,25,22],[26,15,30,15],[26,16,26,18],[26,21,26,22],[27,16,27,18],[27,19,27,20],[27,21,27,22],[21,15,21,17],[21,18,21,22],[22,15,22,17],[22,18,22,22],[23,15,23,17],[23,18,23,22],[18,15,18,17],[18,18,18,22],[19,15,19,17],[19,18,19,22],[20,15,20,17],[20,18,20,22],[15,1,15,5],[15,8,15,11],[15,12,15,14],[15,16,15,18],[15,20,15,22],[16,1,17,1],[16,15,17,15],[16,16,17,18],[16,19,17,19],[16,20,17,22],[14,1,14,5],[14,6,14,7],[14,8,14,11],[14,12,14,14],[14,15,14,18],[14,19,14,22],[13,2,13,3],[13,4,13,5],[13,6,13,7],[13,11,13,14],[13,15,13,17],[13,18,13,20],[12,2,12,3],[12,4,12,5],[12,6,12,7],[12,11,12,14],[12,15,12,17],[12,18,12,20],[11,2,11,3],[11,4,11,5],[11,6,11,7],[11,11,11,14],[11,15,11,17],[11,18,11,20],[10,2,10,3],[10,4,10,5],[10,6,10,7],[10,11,10,14],[10,15,10,17],[10,18,10,20],[9,2,9,3],[9,4,9,5],[9,6,9,7],[9,11,9,14],[9,15,9,17],[9,18,9,20],[8,2,8,3],[8,4,8,5],[8,6,8,7],[8,11,8,14],[8,15,8,17],[8,18,8,20],[7,2,7,3],[7,4,7,5],[7,6,7,7],[7,11,7,14],[7,15,7,17],[7,18,7,20],[6,2,6,3],[6,4,6,5],[6,6,6,7],[6,11,6,14],[6,15,6,17],[6,18,6,20],[5,2,5,3],[5,4,5,5],[5,6,5,7],[5,11,5,14],[5,15,5,17],[5,18,5,20],[4,2,4,3],[4,4,4,5],[4,6,4,7],[4,11,4,14],[4,15,4,17],[4,18,4,20],[2,16,2,19],[2,20,2,22],[3,2,3,3],[3,4,3,5],[3,6,3,7],[3,11,3,14],[3,15,3,17],[3,18,3,20],[2,4,2,5],[2,6,2,7],[2,8,2,9],[2,10,2,11],[2,12,2,13],[2,14,2,15],[0,1,1,6],[0,7,1,10],[0,11,1,12],[0,13,1,13],[0,14,1,15],[0,16,1,22]]}
[null,"スリット伝票　ＬＯＴ",null,null,null,null,null,{"$f":"②OP記入欄改!$D$5","v":51023357021},null,null,null,"製区",null,{"$f":"②OP記入欄改!$D$7","v":"S"},"品種",null,{"$f":"②OP記入欄改!$D$8","v":"ＣＰＰ2703"}]
[]
[null,"番手",null,{"$f":"②OP記入欄改!$D$9","v":25},"原反名",null,{"$f":"②OP記入欄改!$D$10","v":9041},null,"原反幅",null,{"$f":"②OP記入欄改!$D$11","v":2080},null,"原反長",null,{"$f":"②OP記入欄改!$D$12","v":45000},null,"前工程M/C",null,null,null,{"$f":"②OP記入欄改!$D$13","v":"DF7"}]
[null,null,{"$f":"②OP記入欄改!G3","v":"仕向先"},null,{"$f":"②OP記入欄改!I3","v":"製品幅"},null,{"$f":"②OP記入欄改!K3","v":"製品長さ"},null,{"$f":"②OP記入欄改!M3","v":"計本"},{"$f":"②OP記入欄改!N3","v":"実"},{"$f":"②OP記入欄改!O3","v":"梱形"},"Ａ保枝番",null,null,null,"ミル枝番",null,null,"Ｂ級枝番",null,null,"ロック\nシャフト","コア"]
[null,{"$f":"②OP記入欄改!F4","v":1},{"$f":"②OP記入欄改!G4","v":"ＤＮＰ京都　３Ｄｏｒ３Ｄ６"},null,{"$f":"②OP記入欄改!I4","v":980},null,{"$f":"②OP記入欄改!K4","v":8000},null,{"$f":"②OP記入欄改!M4","v":5},{"$f":"②OP記入欄改!N4","v":0},{"$f":"②OP記入欄改!O4","v":"P"},null,null,null,null,null,null,null,null,null,null,"-",3,null,"-"]
[null,{"$f":"②OP記入欄改!F5","v":2},{"$f":"②OP記入欄改!G5","v":"ＤＮＰ京都　３Ｄｏｒ３Ｄ６"},null,{"$f":"②OP記入欄改!I5","v":1020},null,{"$f":"②OP記入欄改!K5","v":8000},null,{"$f":"②OP記入欄改!M5","v":5},{"$f":"②OP記入欄改!N5","v":0},{"$f":"②OP記入欄改!O5","v":"P"},null,null,null,null,null,null,null,null,null,null,"〇",3,null,"〇"]
[null,{"$f":"②OP記入欄改!F6","v":3},{"$f":"②OP記入欄改!G6","v":"４０００ｍ余剰分"},null,{"$f":"②OP記入欄改!I6","v":1020},null,{"$f":"②OP記入欄改!K6","v":4000},null,{"$f":"②OP記入欄改!M6","v":1},{"$f":"②OP記入欄改!N6","v":0}]
[null,{"$f":"②OP記入欄改!F7","v":4},{"$f":"②OP記入欄改!G7","v":"４０００ｍ余剰分"},null,{"$f":"②OP記入欄改!I7","v":980},null,{"$f":"②OP記入欄改!K7","v":4000},null,{"$f":"②OP記入欄改!M7","v":1},{"$f":"②OP記入欄改!N7","v":0},{"$f":"②OP記入欄改!O7","v":0}]
[null,{"$f":"②OP記入欄改!F8","v":5},{"$f":"②OP記入欄改!G8","v":0},null,{"$f":"②OP記入欄改!I8","v":0},null,{"$f":"②OP記入欄改!K8","v":0},null,{"$f":"②OP記入欄改!M8","v":0},{"$f":"②OP記入欄改!N8","v":0},{"$f":"②OP記入欄改!O8","v":0}]
[null,{"$f":"②OP記入欄改!F9","v":6},{"$f":"②OP記入欄改!G9","v":0},null,{"$f":"②OP記入欄改!I9","v":0},null,{"$f":"②OP記入欄改!K9","v":0},null,{"$f":"②OP記入欄改!M9","v":0},{"$f":"②OP記入欄改!N9","v":0},{"$f":"②OP記入欄改!O9","v":0}]
[null,{"$f":"②OP記入欄改!F10","v":7},{"$f":"②OP記入欄改!G10","v":0},null,{"$f":"②OP記入欄改!I10","v":0},null,{"$f":"②OP記入欄改!K10","v":0},null,{"$f":"②OP記入欄改!M10","v":0},{"$f":"②OP記入欄改!N10","v":0},{"$f":"②OP記入欄改!O10","v":0}]
[null,{"$f":"②OP記入欄改!F11","v":8},{"$f":"②OP記入欄改!G11","v":0},null,{"$f":"②OP記入欄改!I11","v":0},null,{"$f":"②OP記入欄改!K11","v":0},null,{"$f":"②OP記入欄改!M11","v":0},{"$f":"②OP記入欄改!N11","v":0},{"$f":"②OP記入欄改!O11","v":0}]
[null,{"$f":"②OP記入欄改!F12","v":9},{"$f":"②OP記入欄改!G12","v":0},null,{"$f":"②OP記入欄改!I12","v":0},null,{"$f":"②OP記入欄改!K12","v":0},null,{"$f":"②OP記入欄改!M12","v":0},{"$f":"②OP記入欄改!N12","v":0},{"$f":"②OP記入欄改!O12","v":0}]
[null,{"$f":"②OP記入欄改!F13","v":10},{"$f":"②OP記入欄改!G13","v":0},null,{"$f":"②OP記入欄改!I13","v":0},null,{"$f":"②OP記入欄改!K13","v":0},null,{"$f":"②OP記入欄改!M13","v":0},{"$f":"②OP記入欄改!N13","v":0},{"$f":"②OP記入欄改!O13","v":0}]
[null,"スリット作業指示№",null,null,null,null,"M/C№",null,"加工日",null,null,null,"前工程品質情報",null,null,"切断シフト1",null,null,null,"切断シフト2"]
[null,{"$f":"②OP記入欄改!$D$14","v":0},null,null,null,null,"ＳＬ-",{"$f":"②OP記入欄改!$D$15","v":19},{"$f":"②OP記入欄改!$D$4","v":"2025-10-23"},null,null,null,"確認　　　□",null,null,"組","作業者",null,null,"組","作業者"]
[null,"巻芯\n確認"]
[]
[null,null,null,null,null,null,null,null,null,null,null,null,null,null,null,"切替開始",null,null,"　　　　　時　　　　　分"]
[null,null,null,null,null,null,null,null,null,null,null,null,null,null,null,"切断開始",null,null,"　　　　　時　　　　　分"]
[null,null,null,null,null,null,null,null,null,null,null,null,null,null,null,"切断完了",null,null,"　　　　　時　　　　　分"]
[null,null,null,null,null,null,null,null,null,null,null,null,null,null,null,"食事開始",null,null,"　　　　　時　　　　　分"]
[null,null,null,null,null,null,null,null,null,null,null,null,null,null,null,"食事完了",null,null,"　　　　　時　　　　　分"]
[null,null,null,null,null,null,null,null,null,null,null,null,null,null,null,"停機開始",null,null,"　　　　　時　　　　　分"]
[null,null,null,null,null,null,null,null,null,null,null,null,null,null,null,"停機完了",null,null,"　　　　　時　　　　　分"]
[null,null,null,null,null,null,null,null,null,null,null,null,null,null,null,"停機理由"]
[null,null,null,null,null,null,null,null,null,null,null,null,null,null,null,"条件確認","M/C条件設定",null,null,"呼出№",null,{"$f":"②OP記入欄改!$D$16","v":2}]
[null,null,null,null,null,null,null,null,null,null,null,null,null,null,null,null,"欠点検出機",null,null,"使用条件№",null,{"$f":"②OP記入欄改!$D$17","v":1}]
[null,null,null,null,null,null,null,null,null,null,null,null,null,null,null,null,"速度(m/min)",null,null,480]
[null,null,null,null,null,null,null,null,null,null,null,null,null,null,null,null,"張力(N/ｍ・kg)"]
[null,null,null,null,null,null,null,null,null,null,null,null,null,null,null,null,"接圧(N/ｍ・kg)"]
[null,null,null,null,null,null,null,null,null,null,null,null,null,null,null,"外観確認"]
[null,null,null,null,null,null,null,null,null,null,null,null,null,null,null,"表層透過検査",null,null,null,"OK",null,"NG"]
[null,null,null,null,null,null,null,null,null,null,null,null,null,null,null,"巻姿外観確認[ｽﾀｰﾄ/中間/ﾗｽﾄ]"]
[null,null,null,null,null,null,null,null,null,null,null,null,null,null,null,"各枝番に問題無『〇』問題有『☓』を記載"]
[]
[]
[]
[]
[null,null,null,null,null,null,null,null,null,null,null,null,null,null,null,"※『☓』の場合は展開図に内容を記載する"]
[null,null,null,null,null,null,null,null,null,null,null,null,null,null,null,"検材エッジ",null,null,255]
[null,20,null,null,null,null,null,null,null,null,null,null,null,null,20,"表層ロス",null,null,100,null,null,"m"]
[null,null,null,null,null,null,null,null,null,null,null,null,null,null,null,"レザー/丸刃交換",null,null,null,"レザー/丸刃廃棄"]
[null,null,1020,null,null,null,null,null,980,null,null,null,null,null,null,"　枚",null,null,null,"　　枚"]
[null,"膜厚測定（ＣＰＰ・VMPET・BRPET）",null,null,null,null,null,null,null,null,null,null,null,null,null,"備考"]
[null,"ラスト"]
[null,"1セット表層"]
[null,"1セット芯"]
[]
[]
[]
[]
[]
[null,"スリット伝票　ＬＯＴ",null,null,null,null,null,{"$f":"②OP記入欄改!$D$5","v":51023357021},null,null,null,"製区",null,{"$f":"②OP記入欄改!$D$7","v":"S"},"品種",null,{"$f":"②OP記入欄改!$D$8","v":"ＣＰＰ2703"}]
[]
[null,"番手",null,{"$f":"②OP記入欄改!$D$9","v":25},"原反名",null,{"$f":"②OP記入欄改!$D$10","v":9041},null,"原反幅",null,{"$f":"②OP記入欄改!$D$11","v":2080},null,"原反長",null,{"$f":"②OP記入欄改!$D$12","v":45000},null,"前工程M/C",null,null,null,{"$f":"②OP記入欄改!$D$13","v":"DF7"}]
[null,"停機内容",null,null,null,null,null,"停機詳細",null,null,null,null,null,null,null,null,null,"停機時間"]
[null,"Ｆ破れ",null,null,"有/無",null,null,null,null,null,null,null,null,null,null,null,null,null,null,null,"hr"]
[null,"耳切れ",null,null,"有/無",null,null,null,null,null,null,null,null,null,null,null,null,null,null,null,"hr"]
[null,"紙管切断",null,null,"有/無",null,null,null,null,null,null,null,null,null,null,null,null,null,null,null,"hr"]
[null,"その他停機内容",null,null,null,null,null,null,null,null,null,null,null,null,null,null,null,null,null,null,"hr"]
[null,"備考"]
[]
[]
[]
[]
[]
[null,"外観確認内容"]
[null,"原反ズレ",null,null,null,"当てキズ",null,null,null,"溝ロール痕",null,null,null,"ＴＤスジ",null,null,null,"ピッチキズ"]
[null,"スリキズ",null,null,null,"クボミシワ",null,null,null,"シワムラ",null,null,null,"変色",null,null,null,"巻芯シワ"]
[null,"切断面・異物"]

{"sheet":"3丁(33)","index":8,"n_rows":71,"n_cols":25,"rows_kept":71,"cut":false,"hidden":false,"merged":[[69,1,69,4],[69,5,69,8],[69,9,69,12],[69,13,69,16],[69,17,69,21],[70,1,70,4],[60,7,60,16],[60,17,60,19],[68,1,68,4],[68,5,68,8],[68,9,68,12],[68,13,68,16],[68,17,68,21],[58,4,58,5],[58,7,58,16],[58,17,58,19],[59,4,59,5],[59,7,59,16],[59,17,59,19],[55,16,55,19],[55,20,55,22],[56,4,56,5],[57,4,57,5],[57,7,57,16],[57,17,57,19],[55,4,55,5],[55,6,55,7],[55,8,55,9],[55,10,55,11],[55,12,55,13],[55,14,55,15],[53,1,54,6],[53,7,53,10],[53,11,54,12],[53,13,54,13],[53,14,54,15],[53,16,54,22],[54,7,54,10],[46,13,46,14],[47,1,47,2],[47,3,47,4],[47,5,47,6],[47,7,47,8],[47,9,47,10],[47,11,47,12],[47,13,47,14],[46,1,46,2],[46,3,46,4],[46,5,46,6],[46,7,46,8],[46,9,46,10],[46,11,46,12],[44,1,44,14],[45,1,45,2],[45,3,45,4],[45,5,45,6],[45,7,45,8],[45,9,45,10],[45,11,45,12],[45,13,45,14],[39,15,39,22],[40,18,40,20],[41,18,41,20],[42,15,42,18],[42,19,42,22],[43,2,43,7],[43,8,43,13],[43,15,43,18],[43,19,43,22],[31,15,31,22],[32,15,32,18],[32,19,32,20],[32,21,32,22],[33,15,33,22],[34,15,34,22],[28,16,28,18],[28,19,28,22],[29,16,29,18],[29,19,29,20],[30,16,30,18],[30,19,30,20],[24,15,24,17],[24,18,24,22],[25,15,25,17],[25,18,25,22],[26,15,30,15],[26,16,26,18],[26,21,26,22],[27,16,27,18],[27,19,27,20],[27,21,27,22],[21,15,21,17],[21,18,21,22],[22,15,22,17],[22,18,22,22],[23,15,23,17],[23,18,23,22],[18,15,18,17],[18,18,18,22],[19,15,19,17],[19,18,19,22],[20,15,20,17],[20,18,20,22],[15,1,15,5],[15,8,15,11],[15,12,15,14],[15,16,15,18],[15,20,15,22],[16,1,17,1],[16,15,17,15],[16,16,17,18],[16,19,17,19],[16,20,17,22],[14,1,14,5],[14,6,14,7],[14,8,14,11],[14,12,14,14],[14,15,14,18],[14,19,14,22],[13,2,13,3],[13,4,13,5],[13,6,13,7],[13,11,13,14],[13,15,13,17],[13,18,13,20],[12,2,12,3],[12,4,12,5],[12,6,12,7],[12,11,12,14],[12,15,12,17],[12,18,12,20],[11,2,11,3],[11,4,11,5],[11,6,11,7],[11,11,11,14],[11,15,11,17],[11,18,11,20],[10,2,10,3],[10,4,10,5],[10,6,10,7],[10,11,10,14],[10,15,10,17],[10,18,10,20],[9,2,9,3],[9,4,9,5],[9,6,9,7],[9,11,9,14],[9,15,9,17],[9,18,9,20],[8,2,8,3],[8,4,8,5],[8,6,8,7],[8,11,8,14],[8,15,8,17],[8,18,8,20],[7,2,7,3],[7,4,7,5],[7,6,7,7],[7,11,7,14],[7,15,7,17],[7,18,7,20],[6,2,6,3],[6,4,6,5],[6,6,6,7],[6,11,6,14],[6,15,6,17],[6,18,6,20],[5,2,5,3],[5,4,5,5],[5,6,5,7],[5,11,5,14],[5,15,5,17],[5,18,5,20],[4,2,4,3],[4,4,4,5],[4,6,4,7],[4,11,4,14],[4,15,4,17],[4,18,4,20],[2,16,2,19],[2,20,2,22],[3,2,3,3],[3,4,3,5],[3,6,3,7],[3,11,3,14],[3,15,3,17],[3,18,3,20],[2,4,2,5],[2,6,2,7],[2,8,2,9],[2,10,2,11],[2,12,2,13],[2,14,2,15],[0,1,1,6],[0,7,1,10],[0,11,1,12],[0,13,1,13],[0,14,1,15],[0,16,1,22]]}
[null,"スリット伝票　ＬＯＴ",null,null,null,null,null,{"$f":"②OP記入欄改!$D$5","v":51023357021},null,null,null,"製区",null,{"$f":"②OP記入欄改!$D$7","v":"S"},"品種",null,{"$f":"②OP記入欄改!$D$8","v":"ＣＰＰ2703"}]
[]
[null,"番手",null,{"$f":"②OP記入欄改!$D$9","v":25},"原反名",null,{"$f":"②OP記入欄改!$D$10","v":9041},null,"原反幅",null,{"$f":"②OP記入欄改!$D$11","v":2080},null,"原反長",null,{"$f":"②OP記入欄改!$D$12","v":45000},null,"前工程M/C",null,null,null,{"$f":"②OP記入欄改!$D$13","v":"DF7"}]
[null,null,{"$f":"②OP記入欄改!G3","v":"仕向先"},null,{"$f":"②OP記入欄改!I3","v":"製品幅"},null,{"$f":"②OP記入欄改!K3","v":"製品長さ"},null,{"$f":"②OP記入欄改!M3","v":"計本"},{"$f":"②OP記入欄改!N3","v":"実"},{"$f":"②OP記入欄改!O3","v":"梱形"},"Ａ保枝番",null,null,null,"ミル枝番",null,null,"Ｂ級枝番",null,null,"ロック\nシャフト","コア"]
[null,{"$f":"②OP記入欄改!F4","v":1},{"$f":"②OP記入欄改!G4","v":"ＤＮＰ京都　３Ｄｏｒ３Ｄ６"},null,{"$f":"②OP記入欄改!I4","v":980},null,{"$f":"②OP記入欄改!K4","v":8000},null,{"$f":"②OP記入欄改!M4","v":5},{"$f":"②OP記入欄改!N4","v":0},{"$f":"②OP記入欄改!O4","v":"P"},null,null,null,null,null,null,null,null,null,null,"-",3,null,"-"]
[null,{"$f":"②OP記入欄改!F5","v":2},{"$f":"②OP記入欄改!G5","v":"ＤＮＰ京都　３Ｄｏｒ３Ｄ６"},null,{"$f":"②OP記入欄改!I5","v":1020},null,{"$f":"②OP記入欄改!K5","v":8000},null,{"$f":"②OP記入欄改!M5","v":5},{"$f":"②OP記入欄改!N5","v":0},{"$f":"②OP記入欄改!O5","v":"P"},null,null,null,null,null,null,null,null,null,null,"〇",3,null,"〇"]
[null,{"$f":"②OP記入欄改!F6","v":3},{"$f":"②OP記入欄改!G6","v":"４０００ｍ余剰分"},null,{"$f":"②OP記入欄改!I6","v":1020},null,{"$f":"②OP記入欄改!K6","v":4000},null,{"$f":"②OP記入欄改!M6","v":1},{"$f":"②OP記入欄改!N6","v":0}]
[null,{"$f":"②OP記入欄改!F7","v":4},{"$f":"②OP記入欄改!G7","v":"４０００ｍ余剰分"},null,{"$f":"②OP記入欄改!I7","v":980},null,{"$f":"②OP記入欄改!K7","v":4000},null,{"$f":"②OP記入欄改!M7","v":1},{"$f":"②OP記入欄改!N7","v":0},{"$f":"②OP記入欄改!O7","v":0}]
[null,{"$f":"②OP記入欄改!F8","v":5},{"$f":"②OP記入欄改!G8","v":0},null,{"$f":"②OP記入欄改!I8","v":0},null,{"$f":"②OP記入欄改!K8","v":0},null,{"$f":"②OP記入欄改!M8","v":0},{"$f":"②OP記入欄改!N8","v":0},{"$f":"②OP記入欄改!O8","v":0}]
[null,{"$f":"②OP記入欄改!F9","v":6},{"$f":"②OP記入欄改!G9","v":0},null,{"$f":"②OP記入欄改!I9","v":0},null,{"$f":"②OP記入欄改!K9","v":0},null,{"$f":"②OP記入欄改!M9","v":0},{"$f":"②OP記入欄改!N9","v":0},{"$f":"②OP記入欄改!O9","v":0}]
[null,{"$f":"②OP記入欄改!F10","v":7},{"$f":"②OP記入欄改!G10","v":0},null,{"$f":"②OP記入欄改!I10","v":0},null,{"$f":"②OP記入欄改!K10","v":0},null,{"$f":"②OP記入欄改!M10","v":0},{"$f":"②OP記入欄改!N10","v":0},{"$f":"②OP記入欄改!O10","v":0}]
[null,{"$f":"②OP記入欄改!F11","v":8},{"$f":"②OP記入欄改!G11","v":0},null,{"$f":"②OP記入欄改!I11","v":0},null,{"$f":"②OP記入欄改!K11","v":0},null,{"$f":"②OP記入欄改!M11","v":0},{"$f":"②OP記入欄改!N11","v":0},{"$f":"②OP記入欄改!O11","v":0}]
[null,{"$f":"②OP記入欄改!F12","v":9},{"$f":"②OP記入欄改!G12","v":0},null,{"$f":"②OP記入欄改!I12","v":0},null,{"$f":"②OP記入欄改!K12","v":0},null,{"$f":"②OP記入欄改!M12","v":0},{"$f":"②OP記入欄改!N12","v":0},{"$f":"②OP記入欄改!O12","v":0}]
[null,{"$f":"②OP記入欄改!F13","v":10},{"$f":"②OP記入欄改!G13","v":0},null,{"$f":"②OP記入欄改!I13","v":0},null,{"$f":"②OP記入欄改!K13","v":0},null,{"$f":"②OP記入欄改!M13","v":0},{"$f":"②OP記入欄改!N13","v":0},{"$f":"②OP記入欄改!O13","v":0}]
[null,"スリット作業指示№",null,null,null,null,"M/C№",null,"加工日",null,null,null,"前工程品質情報",null,null,"切断シフト1",null,null,null,"切断シフト2"]
[null,{"$f":"②OP記入欄改!$D$14","v":0},null,null,null,null,"ＳＬ-",{"$f":"②OP記入欄改!$D$15","v":19},{"$f":"②OP記入欄改!$D$4","v":"2025-10-23"},null,null,null,"確認　　　□",null,null,"組","作業者",null,null,"組","作業者"]
[null,"巻芯\n確認"]
[]
[null,null,null,null,null,null,null,null,null,null,null,null,null,null,null,"切替開始",null,null,"　　　　　時　　　　　分"]
[null,null,null,null,null,null,null,null,null,null,null,null,null,null,null,"切断開始",null,null,"　　　　　時　　　　　分"]
[null,null,null,null,null,null,null,null,null,null,null,null,null,null,null,"切断完了",null,null,"　　　　　時　　　　　分"]
[null,null,null,null,null,null,null,null,null,null,null,null,null,null,null,"食事開始",null,null,"　　　　　時　　　　　分"]
[null,null,null,null,null,null,null,null,null,null,null,null,null,null,null,"食事完了",null,null,"　　　　　時　　　　　分"]
[null,null,null,null,null,null,null,null,null,null,null,null,null,null,null,"停機開始",null,null,"　　　　　時　　　　　分"]
[null,null,null,null,null,null,null,null,null,null,null,null,null,null,null,"停機完了",null,null,"　　　　　時　　　　　分"]
[null,null,null,null,null,null,null,null,null,null,null,null,null,null,null,"停機理由"]
[null,null,null,null,null,null,null,null,null,null,null,null,null,null,null,"条件確認","M/C条件設定",null,null,"呼出№",null,{"$f":"②OP記入欄改!$D$16","v":2}]
[null,null,null,null,null,null,null,null,null,null,null,null,null,null,null,null,"欠点検出機",null,null,"使用条件№",null,{"$f":"②OP記入欄改!$D$17","v":1}]
[null,null,null,null,null,null,null,null,null,null,null,null,null,null,null,null,"速度(m/min)",null,null,480]
[null,null,null,null,null,null,null,null,null,null,null,null,null,null,null,null,"張力(N/ｍ・kg)"]
[null,null,null,null,null,null,null,null,null,null,null,null,null,null,null,null,"接圧(N/ｍ・kg)"]
[null,null,null,null,null,null,null,null,null,null,null,null,null,null,null,"外観確認"]
[null,null,null,null,null,null,null,null,null,null,null,null,null,null,null,"表層透過検査",null,null,null,"OK",null,"NG"]
[null,null,null,null,null,null,null,null,null,null,null,null,null,null,null,"巻姿外観確認[ｽﾀｰﾄ/中間/ﾗｽﾄ]"]
[null,null,null,null,null,null,null,null,null,null,null,null,null,null,null,"各枝番に問題無『〇』問題有『☓』を記載"]
[]
[]
[]
[]
[null,null,null,null,null,null,null,null,null,null,null,null,null,null,null,"※『☓』の場合は展開図に内容を記載する"]
[null,null,null,null,null,null,null,null,null,null,null,null,null,null,null,"検材エッジ",null,null,255]
[null,20,null,null,null,null,null,null,null,null,null,null,null,null,20,"表層ロス",null,null,100,null,null,"m"]
[null,null,null,null,null,null,null,null,null,null,null,null,null,null,null,"レザー/丸刃交換",null,null,null,"レザー/丸刃廃棄"]
[null,null,1020,null,null,null,null,null,980,null,null,null,null,null,null,"　枚",null,null,null,"　　枚"]
[null,"膜厚測定（ＣＰＰ・VMPET・BRPET）",null,null,null,null,null,null,null,null,null,null,null,null,null,"備考"]
[null,"ラスト"]
[null,"1セット表層"]
[null,"1セット芯"]
[]
[]
[]
[]
[]
[null,"スリット伝票　ＬＯＴ",null,null,null,null,null,{"$f":"②OP記入欄改!$D$5","v":51023357021},null,null,null,"製区",null,{"$f":"②OP記入欄改!$D$7","v":"S"},"品種",null,{"$f":"②OP記入欄改!$D$8","v":"ＣＰＰ2703"}]
[]
[null,"番手",null,{"$f":"②OP記入欄改!$D$9","v":25},"原反名",null,{"$f":"②OP記入欄改!$D$10","v":9041},null,"原反幅",null,{"$f":"②OP記入欄改!$D$11","v":2080},null,"原反長",null,{"$f":"②OP記入欄改!$D$12","v":45000},null,"前工程M/C",null,null,null,{"$f":"②OP記入欄改!$D$13","v":"DF7"}]
[null,"停機内容",null,null,null,null,null,"停機詳細",null,null,null,null,null,null,null,null,null,"停機時間"]
[null,"Ｆ破れ",null,null,"有/無",null,null,null,null,null,null,null,null,null,null,null,null,null,null,null,"hr"]
[null,"耳切れ",null,null,"有/無",null,null,null,null,null,null,null,null,null,null,null,null,null,null,null,"hr"]
[null,"紙管切断",null,null,"有/無",null,null,null,null,null,null,null,null,null,null,null,null,null,null,null,"hr"]
[null,"その他停機内容",null,null,null,null,null,null,null,null,null,null,null,null,null,null,null,null,null,null,"hr"]
[null,"備考"]
[]
[]
[]
[]
[]
[null,"外観確認内容"]
[null,"原反ズレ",null,null,null,"当てキズ",null,null,null,"溝ロール痕",null,null,null,"ＴＤスジ",null,null,null,"ピッチキズ"]
[null,"スリキズ",null,null,null,"クボミシワ",null,null,null,"シワムラ",null,null,null,"変色",null,null,null,"巻芯シワ"]
[null,"切断面・異物"]

{"sheet":"3丁(30)","index":9,"n_rows":71,"n_cols":25,"rows_kept":71,"cut":false,"hidden":false,"merged":[[69,1,69,4],[69,5,69,8],[69,9,69,12],[69,13,69,16],[69,17,69,21],[70,1,70,4],[60,7,60,16],[60,17,60,19],[68,1,68,4],[68,5,68,8],[68,9,68,12],[68,13,68,16],[68,17,68,21],[58,4,58,5],[58,7,58,16],[58,17,58,19],[59,4,59,5],[59,7,59,16],[59,17,59,19],[55,16,55,19],[55,20,55,22],[56,4,56,5],[57,4,57,5],[57,7,57,16],[57,17,57,19],[55,4,55,5],[55,6,55,7],[55,8,55,9],[55,10,55,11],[55,12,55,13],[55,14,55,15],[53,1,54,6],[53,7,53,10],[53,11,54,12],[53,13,54,13],[53,14,54,15],[53,16,54,22],[54,7,54,10],[46,13,46,14],[47,1,47,2],[47,3,47,4],[47,5,47,6],[47,7,47,8],[47,9,47,10],[47,11,47,12],[47,13,47,14],[46,1,46,2],[46,3,46,4],[46,5,46,6],[46,7,46,8],[46,9,46,10],[46,11,46,12],[44,1,44,14],[45,1,45,2],[45,3,45,4],[45,5,45,6],[45,7,45,8],[45,9,45,10],[45,11,45,12],[45,13,45,14],[39,15,39,22],[40,18,40,20],[41,18,41,20],[42,15,42,18],[42,19,42,22],[43,2,43,7],[43,8,43,13],[43,15,43,18],[43,19,43,22],[31,15,31,22],[32,15,32,18],[32,19,32,20],[32,21,32,22],[33,15,33,22],[34,15,34,22],[28,16,28,18],[28,19,28,22],[29,16,29,18],[29,19,29,20],[30,16,30,18],[30,19,30,20],[24,15,24,17],[24,18,24,22],[25,15,25,17],[25,18,25,22],[26,15,30,15],[26,16,26,18],[26,21,26,22],[27,16,27,18],[27,19,27,20],[27,21,27,22],[21,15,21,17],[21,18,21,22],[22,15,22,17],[22,18,22,22],[23,15,23,17],[23,18,23,22],[18,15,18,17],[18,18,18,22],[19,15,19,17],[19,18,19,22],[20,15,20,17],[20,18,20,22],[15,1,15,5],[15,8,15,11],[15,12,15,14],[15,16,15,18],[15,20,15,22],[16,1,17,1],[16,15,17,15],[16,16,17,18],[16,19,17,19],[16,20,17,22],[14,1,14,5],[14,6,14,7],[14,8,14,11],[14,12,14,14],[14,15,14,18],[14,19,14,22],[13,2,13,3],[13,4,13,5],[13,6,13,7],[13,11,13,14],[13,15,13,17],[13,18,13,20],[12,2,12,3],[12,4,12,5],[12,6,12,7],[12,11,12,14],[12,15,12,17],[12,18,12,20],[11,2,11,3],[11,4,11,5],[11,6,11,7],[11,11,11,14],[11,15,11,17],[11,18,11,20],[10,2,10,3],[10,4,10,5],[10,6,10,7],[10,11,10,14],[10,15,10,17],[10,18,10,20],[9,2,9,3],[9,4,9,5],[9,6,9,7],[9,11,9,14],[9,15,9,17],[9,18,9,20],[8,2,8,3],[8,4,8,5],[8,6,8,7],[8,11,8,14],[8,15,8,17],[8,18,8,20],[7,2,7,3],[7,4,7,5],[7,6,7,7],[7,11,7,14],[7,15,7,17],[7,18,7,20],[6,2,6,3],[6,4,6,5],[6,6,6,7],[6,11,6,14],[6,15,6,17],[6,18,6,20],[5,2,5,3],[5,4,5,5],[5,6,5,7],[5,11,5,14],[5,15,5,17],[5,18,5,20],[4,2,4,3],[4,4,4,5],[4,6,4,7],[4,11,4,14],[4,15,4,17],[4,18,4,20],[2,16,2,19],[2,20,2,22],[3,2,3,3],[3,4,3,5],[3,6,3,7],[3,11,3,14],[3,15,3,17],[3,18,3,20],[2,4,2,5],[2,6,2,7],[2,8,2,9],[2,10,2,11],[2,12,2,13],[2,14,2,15],[0,1,1,6],[0,7,1,10],[0,11,1,12],[0,13,1,13],[0,14,1,15],[0,16,1,22]]}
[null,"スリット伝票　ＬＯＴ",null,null,null,null,null,{"$f":"②OP記入欄改!$D$5","v":51023357021},null,null,null,"製区",null,{"$f":"②OP記入欄改!$D$7","v":"S"},"品種",null,{"$f":"②OP記入欄改!$D$8","v":"ＣＰＰ2703"}]
[]
[null,"番手",null,{"$f":"②OP記入欄改!$D$9","v":25},"原反名",null,{"$f":"②OP記入欄改!$D$10","v":9041},null,"原反幅",null,{"$f":"②OP記入欄改!$D$11","v":2080},null,"原反長",null,{"$f":"②OP記入欄改!$D$12","v":45000},null,"前工程M/C",null,null,null,{"$f":"②OP記入欄改!$D$13","v":"DF7"}]
[null,null,{"$f":"②OP記入欄改!G3","v":"仕向先"},null,{"$f":"②OP記入欄改!I3","v":"製品幅"},null,{"$f":"②OP記入欄改!K3","v":"製品長さ"},null,{"$f":"②OP記入欄改!M3","v":"計本"},{"$f":"②OP記入欄改!N3","v":"実"},{"$f":"②OP記入欄改!O3","v":"梱形"},"Ａ保枝番",null,null,null,"ミル枝番",null,null,"Ｂ級枝番",null,null,"ロック\nシャフト","コア"]
[null,{"$f":"②OP記入欄改!F4","v":1},{"$f":"②OP記入欄改!G4","v":"ＤＮＰ京都　３Ｄｏｒ３Ｄ６"},null,{"$f":"②OP記入欄改!I4","v":980},null,{"$f":"②OP記入欄改!K4","v":8000},null,{"$f":"②OP記入欄改!M4","v":5},{"$f":"②OP記入欄改!N4","v":0},{"$f":"②OP記入欄改!O4","v":"P"},null,null,null,null,null,null,null,null,null,null,"-",3,null,"-"]
[null,{"$f":"②OP記入欄改!F5","v":2},{"$f":"②OP記入欄改!G5","v":"ＤＮＰ京都　３Ｄｏｒ３Ｄ６"},null,{"$f":"②OP記入欄改!I5","v":1020},null,{"$f":"②OP記入欄改!K5","v":8000},null,{"$f":"②OP記入欄改!M5","v":5},{"$f":"②OP記入欄改!N5","v":0},{"$f":"②OP記入欄改!O5","v":"P"},null,null,null,null,null,null,null,null,null,null,"〇",3,null,"〇"]
[null,{"$f":"②OP記入欄改!F6","v":3},{"$f":"②OP記入欄改!G6","v":"４０００ｍ余剰分"},null,{"$f":"②OP記入欄改!I6","v":1020},null,{"$f":"②OP記入欄改!K6","v":4000},null,{"$f":"②OP記入欄改!M6","v":1},{"$f":"②OP記入欄改!N6","v":0}]
[null,{"$f":"②OP記入欄改!F7","v":4},{"$f":"②OP記入欄改!G7","v":"４０００ｍ余剰分"},null,{"$f":"②OP記入欄改!I7","v":980},null,{"$f":"②OP記入欄改!K7","v":4000},null,{"$f":"②OP記入欄改!M7","v":1},{"$f":"②OP記入欄改!N7","v":0},{"$f":"②OP記入欄改!O7","v":0}]
[null,{"$f":"②OP記入欄改!F8","v":5},{"$f":"②OP記入欄改!G8","v":0},null,{"$f":"②OP記入欄改!I8","v":0},null,{"$f":"②OP記入欄改!K8","v":0},null,{"$f":"②OP記入欄改!M8","v":0},{"$f":"②OP記入欄改!N8","v":0},{"$f":"②OP記入欄改!O8","v":0}]
[null,{"$f":"②OP記入欄改!F9","v":6},{"$f":"②OP記入欄改!G9","v":0},null,{"$f":"②OP記入欄改!I9","v":0},null,{"$f":"②OP記入欄改!K9","v":0},null,{"$f":"②OP記入欄改!M9","v":0},{"$f":"②OP記入欄改!N9","v":0},{"$f":"②OP記入欄改!O9","v":0}]
[null,{"$f":"②OP記入欄改!F10","v":7},{"$f":"②OP記入欄改!G10","v":0},null,{"$f":"②OP記入欄改!I10","v":0},null,{"$f":"②OP記入欄改!K10","v":0},null,{"$f":"②OP記入欄改!M10","v":0},{"$f":"②OP記入欄改!N10","v":0},{"$f":"②OP記入欄改!O10","v":0}]
[null,{"$f":"②OP記入欄改!F11","v":8},{"$f":"②OP記入欄改!G11","v":0},null,{"$f":"②OP記入欄改!I11","v":0},null,{"$f":"②OP記入欄改!K11","v":0},null,{"$f":"②OP記入欄改!M11","v":0},{"$f":"②OP記入欄改!N11","v":0},{"$f":"②OP記入欄改!O11","v":0}]
[null,{"$f":"②OP記入欄改!F12","v":9},{"$f":"②OP記入欄改!G12","v":0},null,{"$f":"②OP記入欄改!I12","v":0},null,{"$f":"②OP記入欄改!K12","v":0},null,{"$f":"②OP記入欄改!M12","v":0},{"$f":"②OP記入欄改!N12","v":0},{"$f":"②OP記入欄改!O12","v":0}]
[null,{"$f":"②OP記入欄改!F13","v":10},{"$f":"②OP記入欄改!G13","v":0},null,{"$f":"②OP記入欄改!I13","v":0},null,{"$f":"②OP記入欄改!K13","v":0},null,{"$f":"②OP記入欄改!M13","v":0},{"$f":"②OP記入欄改!N13","v":0},{"$f":"②OP記入欄改!O13","v":0}]
[null,"スリット作業指示№",null,null,null,null,"M/C№",null,"加工日",null,null,null,"前工程品質情報",null,null,"切断シフト1",null,null,null,"切断シフト2"]
[null,{"$f":"②OP記入欄改!$D$14","v":0},null,null,null,null,"ＳＬ-",{"$f":"②OP記入欄改!$D$15","v":19},{"$f":"②OP記入欄改!$D$4","v":"2025-10-23"},null,null,null,"確認　　　□",null,null,"組","作業者",null,null,"組","作業者"]
[null,"巻芯\n確認"]
[]
[null,null,null,null,null,null,null,null,null,null,null,null,null,null,null,"切替開始",null,null,"　　　　　時　　　　　分"]
[null,null,null,null,null,null,null,null,null,null,null,null,null,null,null,"切断開始",null,null,"　　　　　時　　　　　分"]
[null,null,null,null,null,null,null,null,null,null,null,null,null,null,null,"切断完了",null,null,"　　　　　時　　　　　分"]
[null,null,null,null,null,null,null,null,null,null,null,null,null,null,null,"食事開始",null,null,"　　　　　時　　　　　分"]
[null,null,null,null,null,null,null,null,null,null,null,null,null,null,null,"食事完了",null,null,"　　　　　時　　　　　分"]
[null,null,null,null,null,null,null,null,null,null,null,null,null,null,null,"停機開始",null,null,"　　　　　時　　　　　分"]
[null,null,null,null,null,null,null,null,null,null,null,null,null,null,null,"停機完了",null,null,"　　　　　時　　　　　分"]
[null,null,null,null,null,null,null,null,null,null,null,null,null,null,null,"停機理由"]
[null,null,null,null,null,null,null,null,null,null,null,null,null,null,null,"条件確認","M/C条件設定",null,null,"呼出№",null,{"$f":"②OP記入欄改!$D$16","v":2}]
[null,null,null,null,null,null,null,null,null,null,null,null,null,null,null,null,"欠点検出機",null,null,"使用条件№",null,{"$f":"②OP記入欄改!$D$17","v":1}]
[null,null,null,null,null,null,null,null,null,null,null,null,null,null,null,null,"速度(m/min)",null,null,480]
[null,null,null,null,null,null,null,null,null,null,null,null,null,null,null,null,"張力(N/ｍ・kg)"]
[null,null,null,null,null,null,null,null,null,null,null,null,null,null,null,null,"接圧(N/ｍ・kg)"]
[null,null,null,null,null,null,null,null,null,null,null,null,null,null,null,"外観確認"]
[null,null,null,null,null,null,null,null,null,null,null,null,null,null,null,"表層透過検査",null,null,null,"OK",null,"NG"]
[null,null,null,null,null,null,null,null,null,null,null,null,null,null,null,"巻姿外観確認[ｽﾀｰﾄ/中間/ﾗｽﾄ]"]
[null,null,null,null,null,null,null,null,null,null,null,null,null,null,null,"各枝番に問題無『〇』問題有『☓』を記載"]
[]
[]
[]
[]
[null,null,null,null,null,null,null,null,null,null,null,null,null,null,null,"※『☓』の場合は展開図に内容を記載する"]
[null,null,null,null,null,null,null,null,null,null,null,null,null,null,null,"検材エッジ",null,null,255]
[null,20,null,null,null,null,null,null,null,null,null,null,null,null,20,"表層ロス",null,null,100,null,null,"m"]
[null,null,null,null,null,null,null,null,null,null,null,null,null,null,null,"レザー/丸刃交換",null,null,null,"レザー/丸刃廃棄"]
[null,null,1020,null,null,null,null,null,980,null,null,null,null,null,null,"　枚",null,null,null,"　　枚"]
[null,"膜厚測定（ＣＰＰ・VMPET・BRPET）",null,null,null,null,null,null,null,null,null,null,null,null,null,"備考"]
[null,"ラスト"]
[null,"1セット表層"]
[null,"1セット芯"]
[]
[]
[]
[]
[]
[null,"スリット伝票　ＬＯＴ",null,null,null,null,null,{"$f":"②OP記入欄改!$D$5","v":51023357021},null,null,null,"製区",null,{"$f":"②OP記入欄改!$D$7","v":"S"},"品種",null,{"$f":"②OP記入欄改!$D$8","v":"ＣＰＰ2703"}]
[]
[null,"番手",null,{"$f":"②OP記入欄改!$D$9","v":25},"原反名",null,{"$f":"②OP記入欄改!$D$10","v":9041},null,"原反幅",null,{"$f":"②OP記入欄改!$D$11","v":2080},null,"原反長",null,{"$f":"②OP記入欄改!$D$12","v":45000},null,"前工程M/C",null,null,null,{"$f":"②OP記入欄改!$D$13","v":"DF7"}]
[null,"停機内容",null,null,null,null,null,"停機詳細",null,null,null,null,null,null,null,null,null,"停機時間"]
[null,"Ｆ破れ",null,null,"有/無",null,null,null,null,null,null,null,null,null,null,null,null,null,null,null,"hr"]
[null,"耳切れ",null,null,"有/無",null,null,null,null,null,null,null,null,null,null,null,null,null,null,null,"hr"]
[null,"紙管切断",null,null,"有/無",null,null,null,null,null,null,null,null,null,null,null,null,null,null,null,"hr"]
[null,"その他停機内容",null,null,null,null,null,null,null,null,null,null,null,null,null,null,null,null,null,null,"hr"]
[null,"備考"]
[]
[]
[]
[]
[]
[null,"外観確認内容"]
[null,"原反ズレ",null,null,null,"当てキズ",null,null,null,"溝ロール痕",null,null,null,"ＴＤスジ",null,null,null,"ピッチキズ"]
[null,"スリキズ",null,null,null,"クボミシワ",null,null,null,"シワムラ",null,null,null,"変色",null,null,null,"巻芯シワ"]
[null,"切断面・異物"]

{"sheet":"3丁(15)","index":10,"n_rows":71,"n_cols":25,"rows_kept":71,"cut":false,"hidden":false,"merged":[[69,1,69,4],[69,5,69,8],[69,9,69,12],[69,13,69,16],[69,17,69,21],[70,1,70,4],[60,7,60,16],[60,17,60,19],[68,1,68,4],[68,5,68,8],[68,9,68,12],[68,13,68,16],[68,17,68,21],[58,4,58,5],[58,7,58,16],[58,17,58,19],[59,4,59,5],[59,7,59,16],[59,17,59,19],[55,16,55,19],[55,20,55,22],[56,4,56,5],[57,4,57,5],[57,7,57,16],[57,17,57,19],[55,4,55,5],[55,6,55,7],[55,8,55,9],[55,10,55,11],[55,12,55,13],[55,14,55,15],[53,1,54,6],[53,7,53,10],[53,11,54,12],[53,13,54,13],[53,14,54,15],[53,16,54,22],[54,7,54,10],[46,13,46,14],[47,1,47,2],[47,3,47,4],[47,5,47,6],[47,7,47,8],[47,9,47,10],[47,11,47,12],[47,13,47,14],[46,1,46,2],[46,3,46,4],[46,5,46,6],[46,7,46,8],[46,9,46,10],[46,11,46,12],[44,1,44,14],[45,1,45,2],[45,3,45,4],[45,5,45,6],[45,7,45,8],[45,9,45,10],[45,11,45,12],[45,13,45,14],[39,15,39,22],[40,18,40,20],[41,18,41,20],[42,15,42,18],[42,19,42,22],[43,2,43,7],[43,8,43,13],[43,15,43,18],[43,19,43,22],[31,15,31,22],[32,15,32,18],[32,19,32,20],[32,21,32,22],[33,15,33,22],[34,15,34,22],[28,16,28,18],[28,19,28,22],[29,16,29,18],[29,19,29,20],[30,16,30,18],[30,19,30,20],[24,15,24,17],[24,18,24,22],[25,15,25,17],[25,18,25,22],[26,15,30,15],[26,16,26,18],[26,21,26,22],[27,16,27,18],[27,19,27,20],[27,21,27,22],[21,15,21,17],[21,18,21,22],[22,15,22,17],[22,18,22,22],[23,15,23,17],[23,18,23,22],[18,15,18,17],[18,18,18,22],[19,15,19,17],[19,18,19,22],[20,15,20,17],[20,18,20,22],[15,1,15,5],[15,8,15,11],[15,12,15,14],[15,16,15,18],[15,20,15,22],[16,1,17,1],[16,15,17,15],[16,16,17,18],[16,19,17,19],[16,20,17,22],[14,1,14,5],[14,6,14,7],[14,8,14,11],[14,12,14,14],[14,15,14,18],[14,19,14,22],[13,2,13,3],[13,4,13,5],[13,6,13,7],[13,11,13,14],[13,15,13,17],[13,18,13,20],[12,2,12,3],[12,4,12,5],[12,6,12,7],[12,11,12,14],[12,15,12,17],[12,18,12,20],[11,2,11,3],[11,4,11,5],[11,6,11,7],[11,11,11,14],[11,15,11,17],[11,18,11,20],[10,2,10,3],[10,4,10,5],[10,6,10,7],[10,11,10,14],[10,15,10,17],[10,18,10,20],[9,2,9,3],[9,4,9,5],[9,6,9,7],[9,11,9,14],[9,15,9,17],[9,18,9,20],[8,2,8,3],[8,4,8,5],[8,6,8,7],[8,11,8,14],[8,15,8,17],[8,18,8,20],[7,2,7,3],[7,4,7,5],[7,6,7,7],[7,11,7,14],[7,15,7,17],[7,18,7,20],[6,2,6,3],[6,4,6,5],[6,6,6,7],[6,11,6,14],[6,15,6,17],[6,18,6,20],[5,2,5,3],[5,4,5,5],[5,6,5,7],[5,11,5,14],[5,15,5,17],[5,18,5,20],[4,2,4,3],[4,4,4,5],[4,6,4,7],[4,11,4,14],[4,15,4,17],[4,18,4,20],[2,16,2,19],[2,20,2,22],[3,2,3,3],[3,4,3,5],[3,6,3,7],[3,11,3,14],[3,15,3,17],[3,18,3,20],[2,4,2,5],[2,6,2,7],[2,8,2,9],[2,10,2,11],[2,12,2,13],[2,14,2,15],[0,1,1,6],[0,7,1,10],[0,11,1,12],[0,13,1,13],[0,14,1,15],[0,16,1,22]]}
[null,"スリット伝票　ＬＯＴ",null,null,null,null,null,{"$f":"②OP記入欄改!$D$5","v":51023357021},null,null,null,"製区",null,{"$f":"②OP記入欄改!$D$7","v":"S"},"品種",null,{"$f":"②OP記入欄改!$D$8","v":"ＣＰＰ2703"}]
[]
[null,"番手",null,{"$f":"②OP記入欄改!$D$9","v":25},"原反名",null,{"$f":"②OP記入欄改!$D$10","v":9041},null,"原反幅",null,{"$f":"②OP記入欄改!$D$11","v":2080},null,"原反長",null,{"$f":"②OP記入欄改!$D$12","v":45000},null,"前工程M/C",null,null,null,{"$f":"②OP記入欄改!$D$13","v":"DF7"}]
[null,null,{"$f":"②OP記入欄改!G3","v":"仕向先"},null,{"$f":"②OP記入欄改!I3","v":"製品幅"},null,{"$f":"②OP記入欄改!K3","v":"製品長さ"},null,{"$f":"②OP記入欄改!M3","v":"計本"},{"$f":"②OP記入欄改!N3","v":"実"},{"$f":"②OP記入欄改!O3","v":"梱形"},"Ａ保枝番",null,null,null,"ミル枝番",null,null,"Ｂ級枝番",null,null,"ロック\nシャフト","コア"]
[null,{"$f":"②OP記入欄改!F4","v":1},{"$f":"②OP記入欄改!G4","v":"ＤＮＰ京都　３Ｄｏｒ３Ｄ６"},null,{"$f":"②OP記入欄改!I4","v":980},null,{"$f":"②OP記入欄改!K4","v":8000},null,{"$f":"②OP記入欄改!M4","v":5},{"$f":"②OP記入欄改!N4","v":0},{"$f":"②OP記入欄改!O4","v":"P"},null,null,null,null,null,null,null,null,null,null,"-",3,null,"-"]
[null,{"$f":"②OP記入欄改!F5","v":2},{"$f":"②OP記入欄改!G5","v":"ＤＮＰ京都　３Ｄｏｒ３Ｄ６"},null,{"$f":"②OP記入欄改!I5","v":1020},null,{"$f":"②OP記入欄改!K5","v":8000},null,{"$f":"②OP記入欄改!M5","v":5},{"$f":"②OP記入欄改!N5","v":0},{"$f":"②OP記入欄改!O5","v":"P"},null,null,null,null,null,null,null,null,null,null,"〇",3,null,"〇"]
[null,{"$f":"②OP記入欄改!F6","v":3},{"$f":"②OP記入欄改!G6","v":"４０００ｍ余剰分"},null,{"$f":"②OP記入欄改!I6","v":1020},null,{"$f":"②OP記入欄改!K6","v":4000},null,{"$f":"②OP記入欄改!M6","v":1},{"$f":"②OP記入欄改!N6","v":0}]
[null,{"$f":"②OP記入欄改!F7","v":4},{"$f":"②OP記入欄改!G7","v":"４０００ｍ余剰分"},null,{"$f":"②OP記入欄改!I7","v":980},null,{"$f":"②OP記入欄改!K7","v":4000},null,{"$f":"②OP記入欄改!M7","v":1},{"$f":"②OP記入欄改!N7","v":0},{"$f":"②OP記入欄改!O7","v":0}]
[null,{"$f":"②OP記入欄改!F8","v":5},{"$f":"②OP記入欄改!G8","v":0},null,{"$f":"②OP記入欄改!I8","v":0},null,{"$f":"②OP記入欄改!K8","v":0},null,{"$f":"②OP記入欄改!M8","v":0},{"$f":"②OP記入欄改!N8","v":0},{"$f":"②OP記入欄改!O8","v":0}]
[null,{"$f":"②OP記入欄改!F9","v":6},{"$f":"②OP記入欄改!G9","v":0},null,{"$f":"②OP記入欄改!I9","v":0},null,{"$f":"②OP記入欄改!K9","v":0},null,{"$f":"②OP記入欄改!M9","v":0},{"$f":"②OP記入欄改!N9","v":0},{"$f":"②OP記入欄改!O9","v":0}]
[null,{"$f":"②OP記入欄改!F10","v":7},{"$f":"②OP記入欄改!G10","v":0},null,{"$f":"②OP記入欄改!I10","v":0},null,{"$f":"②OP記入欄改!K10","v":0},null,{"$f":"②OP記入欄改!M10","v":0},{"$f":"②OP記入欄改!N10","v":0},{"$f":"②OP記入欄改!O10","v":0}]
[null,{"$f":"②OP記入欄改!F11","v":8},{"$f":"②OP記入欄改!G11","v":0},null,{"$f":"②OP記入欄改!I11","v":0},null,{"$f":"②OP記入欄改!K11","v":0},null,{"$f":"②OP記入欄改!M11","v":0},{"$f":"②OP記入欄改!N11","v":0},{"$f":"②OP記入欄改!O11","v":0}]
[null,{"$f":"②OP記入欄改!F12","v":9},{"$f":"②OP記入欄改!G12","v":0},null,{"$f":"②OP記入欄改!I12","v":0},null,{"$f":"②OP記入欄改!K12","v":0},null,{"$f":"②OP記入欄改!M12","v":0},{"$f":"②OP記入欄改!N12","v":0},{"$f":"②OP記入欄改!O12","v":0}]
[null,{"$f":"②OP記入欄改!F13","v":10},{"$f":"②OP記入欄改!G13","v":0},null,{"$f":"②OP記入欄改!I13","v":0},null,{"$f":"②OP記入欄改!K13","v":0},null,{"$f":"②OP記入欄改!M13","v":0},{"$f":"②OP記入欄改!N13","v":0},{"$f":"②OP記入欄改!O13","v":0}]
[null,"スリット作業指示№",null,null,null,null,"M/C№",null,"加工日",null,null,null,"前工程品質情報",null,null,"切断シフト1",null,null,null,"切断シフト2"]
[null,{"$f":"②OP記入欄改!$D$14","v":0},null,null,null,null,"ＳＬ-",{"$f":"②OP記入欄改!$D$15","v":19},{"$f":"②OP記入欄改!$D$4","v":"2025-10-23"},null,null,null,"確認　　　□",null,null,"組","作業者",null,null,"組","作業者"]
[null,"巻芯\n確認"]
[]
[null,null,null,null,null,null,null,null,null,null,null,null,null,null,null,"切替開始",null,null,"　　　　　時　　　　　分"]
[null,null,null,null,null,null,null,null,null,null,null,null,null,null,null,"切断開始",null,null,"　　　　　時　　　　　分"]
[null,null,null,null,null,null,null,null,null,null,null,null,null,null,null,"切断完了",null,null,"　　　　　時　　　　　分"]
[null,null,null,null,null,null,null,null,null,null,null,null,null,null,null,"食事開始",null,null,"　　　　　時　　　　　分"]
[null,null,null,null,null,null,null,null,null,null,null,null,null,null,null,"食事完了",null,null,"　　　　　時　　　　　分"]
[null,null,null,null,null,null,null,null,null,null,null,null,null,null,null,"停機開始",null,null,"　　　　　時　　　　　分"]
[null,null,null,null,null,null,null,null,null,null,null,null,null,null,null,"停機完了",null,null,"　　　　　時　　　　　分"]
[null,null,null,null,null,null,null,null,null,null,null,null,null,null,null,"停機理由"]
[null,null,null,null,null,null,null,null,null,null,null,null,null,null,null,"条件確認","M/C条件設定",null,null,"呼出№",null,{"$f":"②OP記入欄改!$D$16","v":2}]
[null,null,null,null,null,null,null,null,null,null,null,null,null,null,null,null,"欠点検出機",null,null,"使用条件№",null,{"$f":"②OP記入欄改!$D$17","v":1}]
[null,null,null,null,null,null,null,null,null,null,null,null,null,null,null,null,"速度(m/min)",null,null,480]
[null,null,null,null,null,null,null,null,null,null,null,null,null,null,null,null,"張力(N/ｍ・kg)"]
[null,null,null,null,null,null,null,null,null,null,null,null,null,null,null,null,"接圧(N/ｍ・kg)"]
[null,null,null,null,null,null,null,null,null,null,null,null,null,null,null,"外観確認"]
[null,null,null,null,null,null,null,null,null,null,null,null,null,null,null,"表層透過検査",null,null,null,"OK",null,"NG"]
[null,null,null,null,null,null,null,null,null,null,null,null,null,null,null,"巻姿外観確認[ｽﾀｰﾄ/中間/ﾗｽﾄ]"]
[null,null,null,null,null,null,null,null,null,null,null,null,null,null,null,"各枝番に問題無『〇』問題有『☓』を記載"]
[]
[]
[]
[]
[null,null,null,null,null,null,null,null,null,null,null,null,null,null,null,"※『☓』の場合は展開図に内容を記載する"]
[null,null,null,null,null,null,null,null,null,null,null,null,null,null,null,"検材エッジ",null,null,255]
[null,20,null,null,null,null,null,null,null,null,null,null,null,null,20,"表層ロス",null,null,100,null,null,"m"]
[null,null,null,null,null,null,null,null,null,null,null,null,null,null,null,"レザー/丸刃交換",null,null,null,"レザー/丸刃廃棄"]
[null,null,1020,null,null,null,null,null,980,null,null,null,null,null,null,"　枚",null,null,null,"　　枚"]
[null,"膜厚測定（ＣＰＰ・VMPET・BRPET）",null,null,null,null,null,null,null,null,null,null,null,null,null,"備考"]
[null,"ラスト"]
[null,"1セット表層"]
[null,"1セット芯"]
[]
[]
[]
[]
[]
[null,"スリット伝票　ＬＯＴ",null,null,null,null,null,{"$f":"②OP記入欄改!$D$5","v":51023357021},null,null,null,"製区",null,{"$f":"②OP記入欄改!$D$7","v":"S"},"品種",null,{"$f":"②OP記入欄改!$D$8","v":"ＣＰＰ2703"}]
[]
[null,"番手",null,{"$f":"②OP記入欄改!$D$9","v":25},"原反名",null,{"$f":"②OP記入欄改!$D$10","v":9041},null,"原反幅",null,{"$f":"②OP記入欄改!$D$11","v":2080},null,"原反長",null,{"$f":"②OP記入欄改!$D$12","v":45000},null,"前工程M/C",null,null,null,{"$f":"②OP記入欄改!$D$13","v":"DF7"}]
[null,"停機内容",null,null,null,null,null,"停機詳細",null,null,null,null,null,null,null,null,null,"停機時間"]
[null,"Ｆ破れ",null,null,"有/無",null,null,null,null,null,null,null,null,null,null,null,null,null,null,null,"hr"]
[null,"耳切れ",null,null,"有/無",null,null,null,null,null,null,null,null,null,null,null,null,null,null,null,"hr"]
[null,"紙管切断",null,null,"有/無",null,null,null,null,null,null,null,null,null,null,null,null,null,null,null,"hr"]
[null,"その他停機内容",null,null,null,null,null,null,null,null,null,null,null,null,null,null,null,null,null,null,"hr"]
[null,"備考"]
[]
[]
[]
[]
[]
[null,"外観確認内容"]
[null,"原反ズレ",null,null,null,"当てキズ",null,null,null,"溝ロール痕",null,null,null,"ＴＤスジ",null,null,null,"ピッチキズ"]
[null,"スリキズ",null,null,null,"クボミシワ",null,null,null,"シワムラ",null,null,null,"変色",null,null,null,"巻芯シワ"]
[null,"切断面・異物"]

{"sheet":"3丁(18)","index":11,"n_rows":71,"n_cols":25,"rows_kept":71,"cut":false,"hidden":false,"merged":[[69,1,69,4],[69,5,69,8],[69,9,69,12],[69,13,69,16],[69,17,69,21],[70,1,70,4],[60,7,60,16],[60,17,60,19],[68,1,68,4],[68,5,68,8],[68,9,68,12],[68,13,68,16],[68,17,68,21],[58,4,58,5],[58,7,58,16],[58,17,58,19],[59,4,59,5],[59,7,59,16],[59,17,59,19],[55,16,55,19],[55,20,55,22],[56,4,56,5],[57,4,57,5],[57,7,57,16],[57,17,57,19],[55,4,55,5],[55,6,55,7],[55,8,55,9],[55,10,55,11],[55,12,55,13],[55,14,55,15],[53,1,54,6],[53,7,53,10],[53,11,54,12],[53,13,54,13],[53,14,54,15],[53,16,54,22],[54,7,54,10],[46,13,46,14],[47,1,47,2],[47,3,47,4],[47,5,47,6],[47,7,47,8],[47,9,47,10],[47,11,47,12],[47,13,47,14],[46,1,46,2],[46,3,46,4],[46,5,46,6],[46,7,46,8],[46,9,46,10],[46,11,46,12],[44,1,44,14],[45,1,45,2],[45,3,45,4],[45,5,45,6],[45,7,45,8],[45,9,45,10],[45,11,45,12],[45,13,45,14],[39,15,39,22],[40,18,40,20],[41,18,41,20],[42,15,42,18],[42,19,42,22],[43,2,43,7],[43,8,43,13],[43,15,43,18],[43,19,43,22],[31,15,31,22],[32,15,32,18],[32,19,32,20],[32,21,32,22],[33,15,33,22],[34,15,34,22],[28,16,28,18],[28,19,28,22],[29,16,29,18],[29,19,29,20],[30,16,30,18],[30,19,30,20],[24,15,24,17],[24,18,24,22],[25,15,25,17],[25,18,25,22],[26,15,30,15],[26,16,26,18],[26,21,26,22],[27,16,27,18],[27,19,27,20],[27,21,27,22],[21,15,21,17],[21,18,21,22],[22,15,22,17],[22,18,22,22],[23,15,23,17],[23,18,23,22],[18,15,18,17],[18,18,18,22],[19,15,19,17],[19,18,19,22],[20,15,20,17],[20,18,20,22],[15,1,15,5],[15,8,15,11],[15,12,15,14],[15,16,15,18],[15,20,15,22],[16,1,17,1],[16,15,17,15],[16,16,17,18],[16,19,17,19],[16,20,17,22],[14,1,14,5],[14,6,14,7],[14,8,14,11],[14,12,14,14],[14,15,14,18],[14,19,14,22],[13,2,13,3],[13,4,13,5],[13,6,13,7],[13,11,13,14],[13,15,13,17],[13,18,13,20],[12,2,12,3],[12,4,12,5],[12,6,12,7],[12,11,12,14],[12,15,12,17],[12,18,12,20],[11,2,11,3],[11,4,11,5],[11,6,11,7],[11,11,11,14],[11,15,11,17],[11,18,11,20],[10,2,10,3],[10,4,10,5],[10,6,10,7],[10,11,10,14],[10,15,10,17],[10,18,10,20],[9,2,9,3],[9,4,9,5],[9,6,9,7],[9,11,9,14],[9,15,9,17],[9,18,9,20],[8,2,8,3],[8,4,8,5],[8,6,8,7],[8,11,8,14],[8,15,8,17],[8,18,8,20],[7,2,7,3],[7,4,7,5],[7,6,7,7],[7,11,7,14],[7,15,7,17],[7,18,7,20],[6,2,6,3],[6,4,6,5],[6,6,6,7],[6,11,6,14],[6,15,6,17],[6,18,6,20],[5,2,5,3],[5,4,5,5],[5,6,5,7],[5,11,5,14],[5,15,5,17],[5,18,5,20],[4,2,4,3],[4,4,4,5],[4,6,4,7],[4,11,4,14],[4,15,4,17],[4,18,4,20],[2,16,2,19],[2,20,2,22],[3,2,3,3],[3,4,3,5],[3,6,3,7],[3,11,3,14],[3,15,3,17],[3,18,3,20],[2,4,2,5],[2,6,2,7],[2,8,2,9],[2,10,2,11],[2,12,2,13],[2,14,2,15],[0,1,1,6],[0,7,1,10],[0,11,1,12],[0,13,1,13],[0,14,1,15],[0,16,1,22]]}
[null,"スリット伝票　ＬＯＴ",null,null,null,null,null,{"$f":"②OP記入欄改!$D$5","v":51023357021},null,null,null,"製区",null,{"$f":"②OP記入欄改!$D$7","v":"S"},"品種",null,{"$f":"②OP記入欄改!$D$8","v":"ＣＰＰ2703"}]
[]
[null,"番手",null,{"$f":"②OP記入欄改!$D$9","v":25},"原反名",null,{"$f":"②OP記入欄改!$D$10","v":9041},null,"原反幅",null,{"$f":"②OP記入欄改!$D$11","v":2080},null,"原反長",null,{"$f":"②OP記入欄改!$D$12","v":45000},null,"前工程M/C",null,null,null,{"$f":"②OP記入欄改!$D$13","v":"DF7"}]
[null,null,{"$f":"②OP記入欄改!G3","v":"仕向先"},null,{"$f":"②OP記入欄改!I3","v":"製品幅"},null,{"$f":"②OP記入欄改!K3","v":"製品長さ"},null,{"$f":"②OP記入欄改!M3","v":"計本"},{"$f":"②OP記入欄改!N3","v":"実"},{"$f":"②OP記入欄改!O3","v":"梱形"},"Ａ保枝番",null,null,null,"ミル枝番",null,null,"Ｂ級枝番",null,null,"ロック\nシャフト","コア"]
[null,{"$f":"②OP記入欄改!F4","v":1},{"$f":"②OP記入欄改!G4","v":"ＤＮＰ京都　３Ｄｏｒ３Ｄ６"},null,{"$f":"②OP記入欄改!I4","v":980},null,{"$f":"②OP記入欄改!K4","v":8000},null,{"$f":"②OP記入欄改!M4","v":5},{"$f":"②OP記入欄改!N4","v":0},{"$f":"②OP記入欄改!O4","v":"P"},null,null,null,null,null,null,null,null,null,null,"-",3,null,"-"]
[null,{"$f":"②OP記入欄改!F5","v":2},{"$f":"②OP記入欄改!G5","v":"ＤＮＰ京都　３Ｄｏｒ３Ｄ６"},null,{"$f":"②OP記入欄改!I5","v":1020},null,{"$f":"②OP記入欄改!K5","v":8000},null,{"$f":"②OP記入欄改!M5","v":5},{"$f":"②OP記入欄改!N5","v":0},{"$f":"②OP記入欄改!O5","v":"P"},null,null,null,null,null,null,null,null,null,null,"〇",3,null,"〇"]
[null,{"$f":"②OP記入欄改!F6","v":3},{"$f":"②OP記入欄改!G6","v":"４０００ｍ余剰分"},null,{"$f":"②OP記入欄改!I6","v":1020},null,{"$f":"②OP記入欄改!K6","v":4000},null,{"$f":"②OP記入欄改!M6","v":1},{"$f":"②OP記入欄改!N6","v":0}]
[null,{"$f":"②OP記入欄改!F7","v":4},{"$f":"②OP記入欄改!G7","v":"４０００ｍ余剰分"},null,{"$f":"②OP記入欄改!I7","v":980},null,{"$f":"②OP記入欄改!K7","v":4000},null,{"$f":"②OP記入欄改!M7","v":1},{"$f":"②OP記入欄改!N7","v":0},{"$f":"②OP記入欄改!O7","v":0}]
[null,{"$f":"②OP記入欄改!F8","v":5},{"$f":"②OP記入欄改!G8","v":0},null,{"$f":"②OP記入欄改!I8","v":0},null,{"$f":"②OP記入欄改!K8","v":0},null,{"$f":"②OP記入欄改!M8","v":0},{"$f":"②OP記入欄改!N8","v":0},{"$f":"②OP記入欄改!O8","v":0}]
[null,{"$f":"②OP記入欄改!F9","v":6},{"$f":"②OP記入欄改!G9","v":0},null,{"$f":"②OP記入欄改!I9","v":0},null,{"$f":"②OP記入欄改!K9","v":0},null,{"$f":"②OP記入欄改!M9","v":0},{"$f":"②OP記入欄改!N9","v":0},{"$f":"②OP記入欄改!O9","v":0}]
[null,{"$f":"②OP記入欄改!F10","v":7},{"$f":"②OP記入欄改!G10","v":0},null,{"$f":"②OP記入欄改!I10","v":0},null,{"$f":"②OP記入欄改!K10","v":0},null,{"$f":"②OP記入欄改!M10","v":0},{"$f":"②OP記入欄改!N10","v":0},{"$f":"②OP記入欄改!O10","v":0}]
[null,{"$f":"②OP記入欄改!F11","v":8},{"$f":"②OP記入欄改!G11","v":0},null,{"$f":"②OP記入欄改!I11","v":0},null,{"$f":"②OP記入欄改!K11","v":0},null,{"$f":"②OP記入欄改!M11","v":0},{"$f":"②OP記入欄改!N11","v":0},{"$f":"②OP記入欄改!O11","v":0}]
[null,{"$f":"②OP記入欄改!F12","v":9},{"$f":"②OP記入欄改!G12","v":0},null,{"$f":"②OP記入欄改!I12","v":0},null,{"$f":"②OP記入欄改!K12","v":0},null,{"$f":"②OP記入欄改!M12","v":0},{"$f":"②OP記入欄改!N12","v":0},{"$f":"②OP記入欄改!O12","v":0}]
[null,{"$f":"②OP記入欄改!F13","v":10},{"$f":"②OP記入欄改!G13","v":0},null,{"$f":"②OP記入欄改!I13","v":0},null,{"$f":"②OP記入欄改!K13","v":0},null,{"$f":"②OP記入欄改!M13","v":0},{"$f":"②OP記入欄改!N13","v":0},{"$f":"②OP記入欄改!O13","v":0}]
[null,"スリット作業指示№",null,null,null,null,"M/C№",null,"加工日",null,null,null,"前工程品質情報",null,null,"切断シフト1",null,null,null,"切断シフト2"]
[null,{"$f":"②OP記入欄改!$D$14","v":0},null,null,null,null,"ＳＬ-",{"$f":"②OP記入欄改!$D$15","v":19},{"$f":"②OP記入欄改!$D$4","v":"2025-10-23"},null,null,null,"確認　　　□",null,null,"組","作業者",null,null,"組","作業者"]
[null,"巻芯\n確認"]
[]
[null,null,null,null,null,null,null,null,null,null,null,null,null,null,null,"切替開始",null,null,"　　　　　時　　　　　分"]
[null,null,null,null,null,null,null,null,null,null,null,null,null,null,null,"切断開始",null,null,"　　　　　時　　　　　分"]
[null,null,null,null,null,null,null,null,null,null,null,null,null,null,null,"切断完了",null,null,"　　　　　時　　　　　分"]
[null,null,null,null,null,null,null,null,null,null,null,null,null,null,null,"食事開始",null,null,"　　　　　時　　　　　分"]
[null,null,null,null,null,null,null,null,null,null,null,null,null,null,null,"食事完了",null,null,"　　　　　時　　　　　分"]
[null,null,null,null,null,null,null,null,null,null,null,null,null,null,null,"停機開始",null,null,"　　　　　時　　　　　分"]
[null,null,null,null,null,null,null,null,null,null,null,null,null,null,null,"停機完了",null,null,"　　　　　時　　　　　分"]
[null,null,null,null,null,null,null,null,null,null,null,null,null,null,null,"停機理由"]
[null,null,null,null,null,null,null,null,null,null,null,null,null,null,null,"条件確認","M/C条件設定",null,null,"呼出№",null,{"$f":"②OP記入欄改!$D$16","v":2}]
[null,null,null,null,null,null,null,null,null,null,null,null,null,null,null,null,"欠点検出機",null,null,"使用条件№",null,{"$f":"②OP記入欄改!$D$17","v":1}]
[null,null,null,null,null,null,null,null,null,null,null,null,null,null,null,null,"速度(m/min)",null,null,480]
[null,null,null,null,null,null,null,null,null,null,null,null,null,null,null,null,"張力(N/ｍ・kg)"]
[null,null,null,null,null,null,null,null,null,null,null,null,null,null,null,null,"接圧(N/ｍ・kg)"]
[null,null,null,null,null,null,null,null,null,null,null,null,null,null,null,"外観確認"]
[null,null,null,null,null,null,null,null,null,null,null,null,null,null,null,"表層透過検査",null,null,null,"OK",null,"NG"]
[null,null,null,null,null,null,null,null,null,null,null,null,null,null,null,"巻姿外観確認[ｽﾀｰﾄ/中間/ﾗｽﾄ]"]
[null,null,null,null,null,null,null,null,null,null,null,null,null,null,null,"各枝番に問題無『〇』問題有『☓』を記載"]
[]
[]
[]
[]
[null,null,null,null,null,null,null,null,null,null,null,null,null,null,null,"※『☓』の場合は展開図に内容を記載する"]
[null,null,null,null,null,null,null,null,null,null,null,null,null,null,null,"検材エッジ",null,null,255]
[null,20,null,null,null,null,null,null,null,null,null,null,null,null,20,"表層ロス",null,null,100,null,null,"m"]
[null,null,null,null,null,null,null,null,null,null,null,null,null,null,null,"レザー/丸刃交換",null,null,null,"レザー/丸刃廃棄"]
[null,null,1020,null,null,null,null,null,980,null,null,null,null,null,null,"　枚",null,null,null,"　　枚"]
[null,"膜厚測定（ＣＰＰ・VMPET・BRPET）",null,null,null,null,null,null,null,null,null,null,null,null,null,"備考"]
[null,"ラスト"]
[null,"1セット表層"]
[null,"1セット芯"]
[]
[]
[]
[]
[]
[null,"スリット伝票　ＬＯＴ",null,null,null,null,null,{"$f":"②OP記入欄改!$D$5","v":51023357021},null,null,null,"製区",null,{"$f":"②OP記入欄改!$D$7","v":"S"},"品種",null,{"$f":"②OP記入欄改!$D$8","v":"ＣＰＰ2703"}]
[]
[null,"番手",null,{"$f":"②OP記入欄改!$D$9","v":25},"原反名",null,{"$f":"②OP記入欄改!$D$10","v":9041},null,"原反幅",null,{"$f":"②OP記入欄改!$D$11","v":2080},null,"原反長",null,{"$f":"②OP記入欄改!$D$12","v":45000},null,"前工程M/C",null,null,null,{"$f":"②OP記入欄改!$D$13","v":"DF7"}]
[null,"停機内容",null,null,null,null,null,"停機詳細",null,null,null,null,null,null,null,null,null,"停機時間"]
[null,"Ｆ破れ",null,null,"有/無",null,null,null,null,null,null,null,null,null,null,null,null,null,null,null,"hr"]
[null,"耳切れ",null,null,"有/無",null,null,null,null,null,null,null,null,null,null,null,null,null,null,null,"hr"]
[null,"紙管切断",null,null,"有/無",null,null,null,null,null,null,null,null,null,null,null,null,null,null,null,"hr"]
[null,"その他停機内容",null,null,null,null,null,null,null,null,null,null,null,null,null,null,null,null,null,null,"hr"]
[null,"備考"]
[]
[]
[]
[]
[]
[null,"外観確認内容"]
[null,"原反ズレ",null,null,null,"当てキズ",null,null,null,"溝ロール痕",null,null,null,"ＴＤスジ",null,null,null,"ピッチキズ"]
[null,"スリキズ",null,null,null,"クボミシワ",null,null,null,"シワムラ",null,null,null,"変色",null,null,null,"巻芯シワ"]
[null,"切断面・異物"]

{"sheet":"2丁(30)","index":12,"n_rows":71,"n_cols":25,"rows_kept":71,"cut":false,"hidden":false,"merged":[[69,1,69,4],[69,5,69,8],[69,9,69,12],[69,13,69,16],[69,17,69,21],[70,1,70,4],[60,7,60,16],[60,17,60,19],[68,1,68,4],[68,5,68,8],[68,9,68,12],[68,13,68,16],[68,17,68,21],[58,4,58,5],[58,7,58,16],[58,17,58,19],[59,4,59,5],[59,7,59,16],[59,17,59,19],[55,16,55,19],[55,20,55,22],[56,4,56,5],[57,4,57,5],[57,7,57,16],[57,17,57,19],[55,4,55,5],[55,6,55,7],[55,8,55,9],[55,10,55,11],[55,12,55,13],[55,14,55,15],[53,1,54,6],[53,7,53,10],[53,11,54,12],[53,13,54,13],[53,14,54,15],[53,16,54,22],[54,7,54,10],[46,13,46,14],[47,1,47,2],[47,3,47,4],[47,5,47,6],[47,7,47,8],[47,9,47,10],[47,11,47,12],[47,13,47,14],[46,1,46,2],[46,3,46,4],[46,5,46,6],[46,7,46,8],[46,9,46,10],[46,11,46,12],[44,1,44,14],[45,1,45,2],[45,3,45,4],[45,5,45,6],[45,7,45,8],[45,9,45,10],[45,11,45,12],[45,13,45,14],[39,15,39,22],[40,18,40,20],[41,18,41,20],[42,15,42,18],[42,19,42,22],[43,2,43,7],[43,8,43,13],[43,15,43,18],[43,19,43,22],[31,15,31,22],[32,15,32,18],[32,19,32,20],[32,21,32,22],[33,15,33,22],[34,15,34,22],[28,16,28,18],[28,19,28,22],[29,16,29,18],[29,19,29,20],[30,16,30,18],[30,19,30,20],[24,15,24,17],[24,18,24,22],[25,15,25,17],[25,18,25,22],[26,15,30,15],[26,16,26,18],[26,21,26,22],[27,16,27,18],[27,19,27,20],[27,21,27,22],[21,15,21,17],[21,18,21,22],[22,15,22,17],[22,18,22,22],[23,15,23,17],[23,18,23,22],[18,15,18,17],[18,18,18,22],[19,15,19,17],[19,18,19,22],[20,15,20,17],[20,18,20,22],[15,1,15,5],[15,8,15,11],[15,12,15,14],[15,16,15,18],[15,20,15,22],[16,1,17,1],[16,15,17,15],[16,16,17,18],[16,19,17,19],[16,20,17,22],[14,1,14,5],[14,6,14,7],[14,8,14,11],[14,12,14,14],[14,15,14,18],[14,19,14,22],[13,2,13,3],[13,4,13,5],[13,6,13,7],[13,11,13,14],[13,15,13,17],[13,18,13,20],[12,2,12,3],[12,4,12,5],[12,6,12,7],[12,11,12,14],[12,15,12,17],[12,18,12,20],[11,2,11,3],[11,4,11,5],[11,6,11,7],[11,11,11,14],[11,15,11,17],[11,18,11,20],[10,2,10,3],[10,4,10,5],[10,6,10,7],[10,11,10,14],[10,15,10,17],[10,18,10,20],[9,2,9,3],[9,4,9,5],[9,6,9,7],[9,11,9,14],[9,15,9,17],[9,18,9,20],[8,2,8,3],[8,4,8,5],[8,6,8,7],[8,11,8,14],[8,15,8,17],[8,18,8,20],[7,2,7,3],[7,4,7,5],[7,6,7,7],[7,11,7,14],[7,15,7,17],[7,18,7,20],[6,2,6,3],[6,4,6,5],[6,6,6,7],[6,11,6,14],[6,15,6,17],[6,18,6,20],[5,2,5,3],[5,4,5,5],[5,6,5,7],[5,11,5,14],[5,15,5,17],[5,18,5,20],[4,2,4,3],[4,4,4,5],[4,6,4,7],[4,11,4,14],[4,15,4,17],[4,18,4,20],[2,16,2,19],[2,20,2,22],[3,2,3,3],[3,4,3,5],[3,6,3,7],[3,11,3,14],[3,15,3,17],[3,18,3,20],[2,4,2,5],[2,6,2,7],[2,8,2,9],[2,10,2,11],[2,12,2,13],[2,14,2,15],[0,1,1,6],[0,7,1,10],[0,11,1,12],[0,13,1,13],[0,14,1,15],[0,16,1,22]]}
[null,"スリット伝票　ＬＯＴ",null,null,null,null,null,{"$f":"②OP記入欄改!$D$5","v":51023357021},null,null,null,"製区",null,{"$f":"②OP記入欄改!$D$7","v":"S"},"品種",null,{"$f":"②OP記入欄改!$D$8","v":"ＣＰＰ2703"}]
[]
[null,"番手",null,{"$f":"②OP記入欄改!$D$9","v":25},"原反名",null,{"$f":"②OP記入欄改!$D$10","v":9041},null,"原反幅",null,{"$f":"②OP記入欄改!$D$11","v":2080},null,"原反長",null,{"$f":"②OP記入欄改!$D$12","v":45000},null,"前工程M/C",null,null,null,{"$f":"②OP記入欄改!$D$13","v":"DF7"}]
[null,null,{"$f":"②OP記入欄改!G3","v":"仕向先"},null,{"$f":"②OP記入欄改!I3","v":"製品幅"},null,{"$f":"②OP記入欄改!K3","v":"製品長さ"},null,{"$f":"②OP記入欄改!M3","v":"計本"},{"$f":"②OP記入欄改!N3","v":"実"},{"$f":"②OP記入欄改!O3","v":"梱形"},"Ａ保枝番",null,null,null,"ミル枝番",null,null,"Ｂ級枝番",null,null,"ロック\nシャフト","コア"]
[null,{"$f":"②OP記入欄改!F4","v":1},{"$f":"②OP記入欄改!G4","v":"ＤＮＰ京都　３Ｄｏｒ３Ｄ６"},null,{"$f":"②OP記入欄改!I4","v":980},null,{"$f":"②OP記入欄改!K4","v":8000},null,{"$f":"②OP記入欄改!M4","v":5},{"$f":"②OP記入欄改!N4","v":0},{"$f":"②OP記入欄改!O4","v":"P"},null,null,null,null,null,null,null,null,null,null,"-",3,null,"-"]
[null,{"$f":"②OP記入欄改!F5","v":2},{"$f":"②OP記入欄改!G5","v":"ＤＮＰ京都　３Ｄｏｒ３Ｄ６"},null,{"$f":"②OP記入欄改!I5","v":1020},null,{"$f":"②OP記入欄改!K5","v":8000},null,{"$f":"②OP記入欄改!M5","v":5},{"$f":"②OP記入欄改!N5","v":0},{"$f":"②OP記入欄改!O5","v":"P"},null,null,null,null,null,null,null,null,null,null,"〇",3,null,"〇"]
[null,{"$f":"②OP記入欄改!F6","v":3},{"$f":"②OP記入欄改!G6","v":"４０００ｍ余剰分"},null,{"$f":"②OP記入欄改!I6","v":1020},null,{"$f":"②OP記入欄改!K6","v":4000},null,{"$f":"②OP記入欄改!M6","v":1},{"$f":"②OP記入欄改!N6","v":0}]
[null,{"$f":"②OP記入欄改!F7","v":4},{"$f":"②OP記入欄改!G7","v":"４０００ｍ余剰分"},null,{"$f":"②OP記入欄改!I7","v":980},null,{"$f":"②OP記入欄改!K7","v":4000},null,{"$f":"②OP記入欄改!M7","v":1},{"$f":"②OP記入欄改!N7","v":0},{"$f":"②OP記入欄改!O7","v":0}]
[null,{"$f":"②OP記入欄改!F8","v":5},{"$f":"②OP記入欄改!G8","v":0},null,{"$f":"②OP記入欄改!I8","v":0},null,{"$f":"②OP記入欄改!K8","v":0},null,{"$f":"②OP記入欄改!M8","v":0},{"$f":"②OP記入欄改!N8","v":0},{"$f":"②OP記入欄改!O8","v":0}]
[null,{"$f":"②OP記入欄改!F9","v":6},{"$f":"②OP記入欄改!G9","v":0},null,{"$f":"②OP記入欄改!I9","v":0},null,{"$f":"②OP記入欄改!K9","v":0},null,{"$f":"②OP記入欄改!M9","v":0},{"$f":"②OP記入欄改!N9","v":0},{"$f":"②OP記入欄改!O9","v":0}]
[null,{"$f":"②OP記入欄改!F10","v":7},{"$f":"②OP記入欄改!G10","v":0},null,{"$f":"②OP記入欄改!I10","v":0},null,{"$f":"②OP記入欄改!K10","v":0},null,{"$f":"②OP記入欄改!M10","v":0},{"$f":"②OP記入欄改!N10","v":0},{"$f":"②OP記入欄改!O10","v":0}]
[null,{"$f":"②OP記入欄改!F11","v":8},{"$f":"②OP記入欄改!G11","v":0},null,{"$f":"②OP記入欄改!I11","v":0},null,{"$f":"②OP記入欄改!K11","v":0},null,{"$f":"②OP記入欄改!M11","v":0},{"$f":"②OP記入欄改!N11","v":0},{"$f":"②OP記入欄改!O11","v":0}]
[null,{"$f":"②OP記入欄改!F12","v":9},{"$f":"②OP記入欄改!G12","v":0},null,{"$f":"②OP記入欄改!I12","v":0},null,{"$f":"②OP記入欄改!K12","v":0},null,{"$f":"②OP記入欄改!M12","v":0},{"$f":"②OP記入欄改!N12","v":0},{"$f":"②OP記入欄改!O12","v":0}]
[null,{"$f":"②OP記入欄改!F13","v":10},{"$f":"②OP記入欄改!G13","v":0},null,{"$f":"②OP記入欄改!I13","v":0},null,{"$f":"②OP記入欄改!K13","v":0},null,{"$f":"②OP記入欄改!M13","v":0},{"$f":"②OP記入欄改!N13","v":0},{"$f":"②OP記入欄改!O13","v":0}]
[null,"スリット作業指示№",null,null,null,null,"M/C№",null,"加工日",null,null,null,"前工程品質情報",null,null,"切断シフト1",null,null,null,"切断シフト2"]
[null,{"$f":"②OP記入欄改!$D$14","v":0},null,null,null,null,"ＳＬ-",{"$f":"②OP記入欄改!$D$15","v":19},{"$f":"②OP記入欄改!$D$4","v":"2025-10-23"},null,null,null,"確認　　　□",null,null,"組","作業者",null,null,"組","作業者"]
[null,"巻芯\n確認"]
[]
[null,null,null,null,null,null,null,null,null,null,null,null,null,null,null,"切替開始",null,null,"　　　　　時　　　　　分"]
[null,null,null,null,null,null,null,null,null,null,null,null,null,null,null,"切断開始",null,null,"　　　　　時　　　　　分"]
[null,null,null,null,null,null,null,null,null,null,null,null,null,null,null,"切断完了",null,null,"　　　　　時　　　　　分"]
[null,null,null,null,null,null,null,null,null,null,null,null,null,null,null,"食事開始",null,null,"　　　　　時　　　　　分"]
[null,null,null,null,null,null,null,null,null,null,null,null,null,null,null,"食事完了",null,null,"　　　　　時　　　　　分"]
[null,null,null,null,null,null,null,null,null,null,null,null,null,null,null,"停機開始",null,null,"　　　　　時　　　　　分"]
[null,null,null,null,null,null,null,null,null,null,null,null,null,null,null,"停機完了",null,null,"　　　　　時　　　　　分"]
[null,null,null,null,null,null,null,null,null,null,null,null,null,null,null,"停機理由"]
[null,null,null,null,null,null,null,null,null,null,null,null,null,null,null,"条件確認","M/C条件設定",null,null,"呼出№",null,{"$f":"②OP記入欄改!$D$16","v":2}]
[null,null,null,null,null,null,null,null,null,null,null,null,null,null,null,null,"欠点検出機",null,null,"使用条件№",null,{"$f":"②OP記入欄改!$D$17","v":1}]
[null,null,null,null,null,null,null,null,null,null,null,null,null,null,null,null,"速度(m/min)",null,null,480]
[null,null,null,null,null,null,null,null,null,null,null,null,null,null,null,null,"張力(N/ｍ・kg)"]
[null,null,null,null,null,null,null,null,null,null,null,null,null,null,null,null,"接圧(N/ｍ・kg)"]
[null,null,null,null,null,null,null,null,null,null,null,null,null,null,null,"外観確認"]
[null,null,null,null,null,null,null,null,null,null,null,null,null,null,null,"表層透過検査",null,null,null,"OK",null,"NG"]
[null,null,null,null,null,null,null,null,null,null,null,null,null,null,null,"巻姿外観確認[ｽﾀｰﾄ/中間/ﾗｽﾄ]"]
[null,null,null,null,null,null,null,null,null,null,null,null,null,null,null,"各枝番に問題無『〇』問題有『☓』を記載"]
[]
[]
[]
[]
[null,null,null,null,null,null,null,null,null,null,null,null,null,null,null,"※『☓』の場合は展開図に内容を記載する"]
[null,null,null,null,null,null,null,null,null,null,null,null,null,null,null,"検材エッジ",null,null,255]
[null,20,null,null,null,null,null,null,null,null,null,null,null,null,20,"表層ロス",null,null,100,null,null,"m"]
[null,null,null,null,null,null,null,null,null,null,null,null,null,null,null,"レザー/丸刃交換",null,null,null,"レザー/丸刃廃棄"]
[null,null,1020,null,null,null,null,null,980,null,null,null,null,null,null,"　枚",null,null,null,"　　枚"]
[null,"膜厚測定（ＣＰＰ・VMPET・BRPET）",null,null,null,null,null,null,null,null,null,null,null,null,null,"備考"]
[null,"ラスト"]
[null,"1セット表層"]
[null,"1セット芯"]
[]
[]
[]
[]
[]
[null,"スリット伝票　ＬＯＴ",null,null,null,null,null,{"$f":"②OP記入欄改!$D$5","v":51023357021},null,null,null,"製区",null,{"$f":"②OP記入欄改!$D$7","v":"S"},"品種",null,{"$f":"②OP記入欄改!$D$8","v":"ＣＰＰ2703"}]
[]
[null,"番手",null,{"$f":"②OP記入欄改!$D$9","v":25},"原反名",null,{"$f":"②OP記入欄改!$D$10","v":9041},null,"原反幅",null,{"$f":"②OP記入欄改!$D$11","v":2080},null,"原反長",null,{"$f":"②OP記入欄改!$D$12","v":45000},null,"前工程M/C",null,null,null,{"$f":"②OP記入欄改!$D$13","v":"DF7"}]
[null,"停機内容",null,null,null,null,null,"停機詳細",null,null,null,null,null,null,null,null,null,"停機時間"]
[null,"Ｆ破れ",null,null,"有/無",null,null,null,null,null,null,null,null,null,null,null,null,null,null,null,"hr"]
[null,"耳切れ",null,null,"有/無",null,null,null,null,null,null,null,null,null,null,null,null,null,null,null,"hr"]
[null,"紙管切断",null,null,"有/無",null,null,null,null,null,null,null,null,null,null,null,null,null,null,null,"hr"]
[null,"その他停機内容",null,null,null,null,null,null,null,null,null,null,null,null,null,null,null,null,null,null,"hr"]
[null,"備考"]
[]
[]
[]
[]
[]
[null,"外観確認内容"]
[null,"原反ズレ",null,null,null,"当てキズ",null,null,null,"溝ロール痕",null,null,null,"ＴＤスジ",null,null,null,"ピッチキズ"]
[null,"スリキズ",null,null,null,"クボミシワ",null,null,null,"シワムラ",null,null,null,"変色",null,null,null,"巻芯シワ"]
[null,"切断面・異物"]

{"sheet":"2丁(22)A","index":13,"n_rows":71,"n_cols":25,"rows_kept":71,"cut":false,"hidden":false,"merged":[[69,1,69,4],[69,5,69,8],[69,9,69,12],[69,13,69,16],[69,17,69,21],[70,1,70,4],[60,7,60,16],[60,17,60,19],[68,1,68,4],[68,5,68,8],[68,9,68,12],[68,13,68,16],[68,17,68,21],[58,4,58,5],[58,7,58,16],[58,17,58,19],[59,4,59,5],[59,7,59,16],[59,17,59,19],[55,16,55,19],[55,20,55,22],[56,4,56,5],[57,4,57,5],[57,7,57,16],[57,17,57,19],[55,4,55,5],[55,6,55,7],[55,8,55,9],[55,10,55,11],[55,12,55,13],[55,14,55,15],[53,1,54,6],[53,7,53,10],[53,11,54,12],[53,13,54,13],[53,14,54,15],[53,16,54,22],[54,7,54,10],[46,13,46,14],[47,1,47,2],[47,3,47,4],[47,5,47,6],[47,7,47,8],[47,9,47,10],[47,11,47,12],[47,13,47,14],[46,1,46,2],[46,3,46,4],[46,5,46,6],[46,7,46,8],[46,9,46,10],[46,11,46,12],[44,1,44,14],[45,1,45,2],[45,3,45,4],[45,5,45,6],[45,7,45,8],[45,9,45,10],[45,11,45,12],[45,13,45,14],[39,15,39,22],[40,18,40,20],[41,18,41,20],[42,15,42,18],[42,19,42,22],[43,2,43,7],[43,8,43,13],[43,15,43,18],[43,19,43,22],[31,15,31,22],[32,15,32,18],[32,19,32,20],[32,21,32,22],[33,15,33,22],[34,15,34,22],[28,16,28,18],[28,19,28,22],[29,16,29,18],[29,19,29,20],[30,16,30,18],[30,19,30,20],[24,15,24,17],[24,18,24,22],[25,15,25,17],[25,18,25,22],[26,15,30,15],[26,16,26,18],[26,21,26,22],[27,16,27,18],[27,19,27,20],[27,21,27,22],[21,15,21,17],[21,18,21,22],[22,15,22,17],[22,18,22,22],[23,15,23,17],[23,18,23,22],[18,15,18,17],[18,18,18,22],[19,15,19,17],[19,18,19,22],[20,15,20,17],[20,18,20,22],[15,1,15,5],[15,8,15,11],[15,12,15,14],[15,16,15,18],[15,20,15,22],[16,1,17,1],[16,15,17,15],[16,16,17,18],[16,19,17,19],[16,20,17,22],[14,1,14,5],[14,6,14,7],[14,8,14,11],[14,12,14,14],[14,15,14,18],[14,19,14,22],[13,2,13,3],[13,4,13,5],[13,6,13,7],[13,11,13,14],[13,15,13,17],[13,18,13,20],[12,2,12,3],[12,4,12,5],[12,6,12,7],[12,11,12,14],[12,15,12,17],[12,18,12,20],[11,2,11,3],[11,4,11,5],[11,6,11,7],[11,11,11,14],[11,15,11,17],[11,18,11,20],[10,2,10,3],[10,4,10,5],[10,6,10,7],[10,11,10,14],[10,15,10,17],[10,18,10,20],[9,2,9,3],[9,4,9,5],[9,6,9,7],[9,11,9,14],[9,15,9,17],[9,18,9,20],[8,2,8,3],[8,4,8,5],[8,6,8,7],[8,11,8,14],[8,15,8,17],[8,18,8,20],[7,2,7,3],[7,4,7,5],[7,6,7,7],[7,11,7,14],[7,15,7,17],[7,18,7,20],[6,2,6,3],[6,4,6,5],[6,6,6,7],[6,11,6,14],[6,15,6,17],[6,18,6,20],[5,2,5,3],[5,4,5,5],[5,6,5,7],[5,11,5,14],[5,15,5,17],[5,18,5,20],[4,2,4,3],[4,4,4,5],[4,6,4,7],[4,11,4,14],[4,15,4,17],[4,18,4,20],[2,16,2,19],[2,20,2,22],[3,2,3,3],[3,4,3,5],[3,6,3,7],[3,11,3,14],[3,15,3,17],[3,18,3,20],[2,4,2,5],[2,6,2,7],[2,8,2,9],[2,10,2,11],[2,12,2,13],[2,14,2,15],[0,1,1,6],[0,7,1,10],[0,11,1,12],[0,13,1,13],[0,14,1,15],[0,16,1,22]]}
[null,"スリット伝票　ＬＯＴ",null,null,null,null,null,{"$f":"②OP記入欄改!$D$5","v":51023357021},null,null,null,"製区",null,{"$f":"②OP記入欄改!$D$7","v":"S"},"品種",null,{"$f":"②OP記入欄改!$D$8","v":"ＣＰＰ2703"}]
[]
[null,"番手",null,{"$f":"②OP記入欄改!$D$9","v":25},"原反名",null,{"$f":"②OP記入欄改!$D$10","v":9041},null,"原反幅",null,{"$f":"②OP記入欄改!$D$11","v":2080},null,"原反長",null,{"$f":"②OP記入欄改!$D$12","v":45000},null,"前工程M/C",null,null,null,{"$f":"②OP記入欄改!$D$13","v":"DF7"}]
[null,null,{"$f":"②OP記入欄改!G3","v":"仕向先"},null,{"$f":"②OP記入欄改!I3","v":"製品幅"},null,{"$f":"②OP記入欄改!K3","v":"製品長さ"},null,{"$f":"②OP記入欄改!M3","v":"計本"},{"$f":"②OP記入欄改!N3","v":"実"},{"$f":"②OP記入欄改!O3","v":"梱形"},"Ａ保枝番",null,null,null,"ミル枝番",null,null,"Ｂ級枝番",null,null,"ロック\nシャフト","コア"]
[null,{"$f":"②OP記入欄改!F4","v":1},{"$f":"②OP記入欄改!G4","v":"ＤＮＰ京都　３Ｄｏｒ３Ｄ６"},null,{"$f":"②OP記入欄改!I4","v":980},null,{"$f":"②OP記入欄改!K4","v":8000},null,{"$f":"②OP記入欄改!M4","v":5},{"$f":"②OP記入欄改!N4","v":0},{"$f":"②OP記入欄改!O4","v":"P"},null,null,null,null,null,null,null,null,null,null,"-",3,null,"-"]
[null,{"$f":"②OP記入欄改!F5","v":2},{"$f":"②OP記入欄改!G5","v":"ＤＮＰ京都　３Ｄｏｒ３Ｄ６"},null,{"$f":"②OP記入欄改!I5","v":1020},null,{"$f":"②OP記入欄改!K5","v":8000},null,{"$f":"②OP記入欄改!M5","v":5},{"$f":"②OP記入欄改!N5","v":0},{"$f":"②OP記入欄改!O5","v":"P"},null,null,null,null,null,null,null,null,null,null,"〇",3,null,"〇"]
[null,{"$f":"②OP記入欄改!F6","v":3},{"$f":"②OP記入欄改!G6","v":"４０００ｍ余剰分"},null,{"$f":"②OP記入欄改!I6","v":1020},null,{"$f":"②OP記入欄改!K6","v":4000},null,{"$f":"②OP記入欄改!M6","v":1},{"$f":"②OP記入欄改!N6","v":0}]
[null,{"$f":"②OP記入欄改!F7","v":4},{"$f":"②OP記入欄改!G7","v":"４０００ｍ余剰分"},null,{"$f":"②OP記入欄改!I7","v":980},null,{"$f":"②OP記入欄改!K7","v":4000},null,{"$f":"②OP記入欄改!M7","v":1},{"$f":"②OP記入欄改!N7","v":0},{"$f":"②OP記入欄改!O7","v":0}]
[null,{"$f":"②OP記入欄改!F8","v":5},{"$f":"②OP記入欄改!G8","v":0},null,{"$f":"②OP記入欄改!I8","v":0},null,{"$f":"②OP記入欄改!K8","v":0},null,{"$f":"②OP記入欄改!M8","v":0},{"$f":"②OP記入欄改!N8","v":0},{"$f":"②OP記入欄改!O8","v":0}]
[null,{"$f":"②OP記入欄改!F9","v":6},{"$f":"②OP記入欄改!G9","v":0},null,{"$f":"②OP記入欄改!I9","v":0},null,{"$f":"②OP記入欄改!K9","v":0},null,{"$f":"②OP記入欄改!M9","v":0},{"$f":"②OP記入欄改!N9","v":0},{"$f":"②OP記入欄改!O9","v":0}]
[null,{"$f":"②OP記入欄改!F10","v":7},{"$f":"②OP記入欄改!G10","v":0},null,{"$f":"②OP記入欄改!I10","v":0},null,{"$f":"②OP記入欄改!K10","v":0},null,{"$f":"②OP記入欄改!M10","v":0},{"$f":"②OP記入欄改!N10","v":0},{"$f":"②OP記入欄改!O10","v":0}]
[null,{"$f":"②OP記入欄改!F11","v":8},{"$f":"②OP記入欄改!G11","v":0},null,{"$f":"②OP記入欄改!I11","v":0},null,{"$f":"②OP記入欄改!K11","v":0},null,{"$f":"②OP記入欄改!M11","v":0},{"$f":"②OP記入欄改!N11","v":0},{"$f":"②OP記入欄改!O11","v":0}]
[null,{"$f":"②OP記入欄改!F12","v":9},{"$f":"②OP記入欄改!G12","v":0},null,{"$f":"②OP記入欄改!I12","v":0},null,{"$f":"②OP記入欄改!K12","v":0},null,{"$f":"②OP記入欄改!M12","v":0},{"$f":"②OP記入欄改!N12","v":0},{"$f":"②OP記入欄改!O12","v":0}]
[null,{"$f":"②OP記入欄改!F13","v":10},{"$f":"②OP記入欄改!G13","v":0},null,{"$f":"②OP記入欄改!I13","v":0},null,{"$f":"②OP記入欄改!K13","v":0},null,{"$f":"②OP記入欄改!M13","v":0},{"$f":"②OP記入欄改!N13","v":0},{"$f":"②OP記入欄改!O13","v":0}]
[null,"スリット作業指示№",null,null,null,null,"M/C№",null,"加工日",null,null,null,"前工程品質情報",null,null,"切断シフト1",null,null,null,"切断シフト2"]
[null,{"$f":"②OP記入欄改!$D$14","v":0},null,null,null,null,"ＳＬ-",{"$f":"②OP記入欄改!$D$15","v":19},{"$f":"②OP記入欄改!$D$4","v":"2025-10-23"},null,null,null,"確認　　　□",null,null,"組","作業者",null,null,"組","作業者"]
[null,"巻芯\n確認"]
[]
[null,null,null,null,null,null,null,null,null,null,null,null,null,null,null,"切替開始",null,null,"　　　　　時　　　　　分"]
[null,null,null,null,null,null,null,null,null,null,null,null,null,null,null,"切断開始",null,null,"　　　　　時　　　　　分"]
[null,null,null,null,null,null,null,null,null,null,null,null,null,null,null,"切断完了",null,null,"　　　　　時　　　　　分"]
[null,null,null,null,null,null,null,null,null,null,null,null,null,null,null,"食事開始",null,null,"　　　　　時　　　　　分"]
[null,null,null,null,null,null,null,null,null,null,null,null,null,null,null,"食事完了",null,null,"　　　　　時　　　　　分"]
[null,null,null,null,null,null,null,null,null,null,null,null,null,null,null,"停機開始",null,null,"　　　　　時　　　　　分"]
[null,null,null,null,null,null,null,null,null,null,null,null,null,null,null,"停機完了",null,null,"　　　　　時　　　　　分"]
[null,null,null,null,null,null,null,null,null,null,null,null,null,null,null,"停機理由"]
[null,null,null,null,null,null,null,null,null,null,null,null,null,null,null,"条件確認","M/C条件設定",null,null,"呼出№",null,{"$f":"②OP記入欄改!$D$16","v":2}]
[null,null,null,null,null,null,null,null,null,null,null,null,null,null,null,null,"欠点検出機",null,null,"使用条件№",null,{"$f":"②OP記入欄改!$D$17","v":1}]
[null,null,null,null,null,null,null,null,null,null,null,null,null,null,null,null,"速度(m/min)",null,null,480]
[null,null,null,null,null,null,null,null,null,null,null,null,null,null,null,null,"張力(N/ｍ・kg)"]
[null,null,null,null,null,null,null,null,null,null,null,null,null,null,null,null,"接圧(N/ｍ・kg)"]
[null,null,null,null,null,null,null,null,null,null,null,null,null,null,null,"外観確認"]
[null,null,null,null,null,null,null,null,null,null,null,null,null,null,null,"表層透過検査",null,null,null,"OK",null,"NG"]
[null,null,null,null,null,null,null,null,null,null,null,null,null,null,null,"巻姿外観確認[ｽﾀｰﾄ/中間/ﾗｽﾄ]"]
[null,null,null,null,null,null,null,null,null,null,null,null,null,null,null,"各枝番に問題無『〇』問題有『☓』を記載"]
[]
[]
[]
[]
[null,null,null,null,null,null,null,null,null,null,null,null,null,null,null,"※『☓』の場合は展開図に内容を記載する"]
[null,null,null,null,null,null,null,null,null,null,null,null,null,null,null,"検材エッジ",null,null,255]
[null,20,null,null,null,null,null,null,null,null,null,null,null,null,20,"表層ロス",null,null,100,null,null,"m"]
[null,null,null,null,null,null,null,null,null,null,null,null,null,null,null,"レザー/丸刃交換",null,null,null,"レザー/丸刃廃棄"]
[null,null,1020,null,null,null,null,null,980,null,null,null,null,null,null,"　枚",null,null,null,"　　枚"]
[null,"膜厚測定（ＣＰＰ・VMPET・BRPET）",null,null,null,null,null,null,null,null,null,null,null,null,null,"備考"]
[null,"ラスト"]
[null,"1セット表層"]
[null,"1セット芯"]
[]
[]
[]
[]
[]
[null,"スリット伝票　ＬＯＴ",null,null,null,null,null,{"$f":"②OP記入欄改!$D$5","v":51023357021},null,null,null,"製区",null,{"$f":"②OP記入欄改!$D$7","v":"S"},"品種",null,{"$f":"②OP記入欄改!$D$8","v":"ＣＰＰ2703"}]
[]
[null,"番手",null,{"$f":"②OP記入欄改!$D$9","v":25},"原反名",null,{"$f":"②OP記入欄改!$D$10","v":9041},null,"原反幅",null,{"$f":"②OP記入欄改!$D$11","v":2080},null,"原反長",null,{"$f":"②OP記入欄改!$D$12","v":45000},null,"前工程M/C",null,null,null,{"$f":"②OP記入欄改!$D$13","v":"DF7"}]
[null,"停機内容",null,null,null,null,null,"停機詳細",null,null,null,null,null,null,null,null,null,"停機時間"]
[null,"Ｆ破れ",null,null,"有/無",null,null,null,null,null,null,null,null,null,null,null,null,null,null,null,"hr"]
[null,"耳切れ",null,null,"有/無",null,null,null,null,null,null,null,null,null,null,null,null,null,null,null,"hr"]
[null,"紙管切断",null,null,"有/無",null,null,null,null,null,null,null,null,null,null,null,null,null,null,null,"hr"]
[null,"その他停機内容",null,null,null,null,null,null,null,null,null,null,null,null,null,null,null,null,null,null,"hr"]
[null,"備考"]
[]
[]
[]
[]
[]
[null,"外観確認内容"]
[null,"原反ズレ",null,null,null,"当てキズ",null,null,null,"溝ロール痕",null,null,null,"ＴＤスジ",null,null,null,"ピッチキズ"]
[null,"スリキズ",null,null,null,"クボミシワ",null,null,null,"シワムラ",null,null,null,"変色",null,null,null,"巻芯シワ"]
[null,"切断面・異物"]

{"sheet":"2丁(22)B","index":14,"n_rows":71,"n_cols":25,"rows_kept":71,"cut":false,"hidden":false,"merged":[[69,1,69,4],[69,5,69,8],[69,9,69,12],[69,13,69,16],[69,17,69,21],[70,1,70,4],[60,7,60,16],[60,17,60,19],[68,1,68,4],[68,5,68,8],[68,9,68,12],[68,13,68,16],[68,17,68,21],[58,4,58,5],[58,7,58,16],[58,17,58,19],[59,4,59,5],[59,7,59,16],[59,17,59,19],[55,16,55,19],[55,20,55,22],[56,4,56,5],[57,4,57,5],[57,7,57,16],[57,17,57,19],[55,4,55,5],[55,6,55,7],[55,8,55,9],[55,10,55,11],[55,12,55,13],[55,14,55,15],[53,1,54,6],[53,7,53,10],[53,11,54,12],[53,13,54,13],[53,14,54,15],[53,16,54,22],[54,7,54,10],[46,13,46,14],[47,1,47,2],[47,3,47,4],[47,5,47,6],[47,7,47,8],[47,9,47,10],[47,11,47,12],[47,13,47,14],[46,1,46,2],[46,3,46,4],[46,5,46,6],[46,7,46,8],[46,9,46,10],[46,11,46,12],[44,1,44,14],[45,1,45,2],[45,3,45,4],[45,5,45,6],[45,7,45,8],[45,9,45,10],[45,11,45,12],[45,13,45,14],[39,15,39,22],[40,18,40,20],[41,18,41,20],[42,15,42,18],[42,19,42,22],[43,2,43,7],[43,8,43,13],[43,15,43,18],[43,19,43,22],[31,15,31,22],[32,15,32,18],[32,19,32,20],[32,21,32,22],[33,15,33,22],[34,15,34,22],[28,16,28,18],[28,19,28,22],[29,16,29,18],[29,19,29,20],[30,16,30,18],[30,19,30,20],[24,15,24,17],[24,18,24,22],[25,15,25,17],[25,18,25,22],[26,15,30,15],[26,16,26,18],[26,21,26,22],[27,16,27,18],[27,19,27,20],[27,21,27,22],[21,15,21,17],[21,18,21,22],[22,15,22,17],[22,18,22,22],[23,15,23,17],[23,18,23,22],[18,15,18,17],[18,18,18,22],[19,15,19,17],[19,18,19,22],[20,15,20,17],[20,18,20,22],[15,1,15,5],[15,8,15,11],[15,12,15,14],[15,16,15,18],[15,20,15,22],[16,1,17,1],[16,15,17,15],[16,16,17,18],[16,19,17,19],[16,20,17,22],[14,1,14,5],[14,6,14,7],[14,8,14,11],[14,12,14,14],[14,15,14,18],[14,19,14,22],[13,2,13,3],[13,4,13,5],[13,6,13,7],[13,11,13,14],[13,15,13,17],[13,18,13,20],[12,2,12,3],[12,4,12,5],[12,6,12,7],[12,11,12,14],[12,15,12,17],[12,18,12,20],[11,2,11,3],[11,4,11,5],[11,6,11,7],[11,11,11,14],[11,15,11,17],[11,18,11,20],[10,2,10,3],[10,4,10,5],[10,6,10,7],[10,11,10,14],[10,15,10,17],[10,18,10,20],[9,2,9,3],[9,4,9,5],[9,6,9,7],[9,11,9,14],[9,15,9,17],[9,18,9,20],[8,2,8,3],[8,4,8,5],[8,6,8,7],[8,11,8,14],[8,15,8,17],[8,18,8,20],[7,2,7,3],[7,4,7,5],[7,6,7,7],[7,11,7,14],[7,15,7,17],[7,18,7,20],[6,2,6,3],[6,4,6,5],[6,6,6,7],[6,11,6,14],[6,15,6,17],[6,18,6,20],[5,2,5,3],[5,4,5,5],[5,6,5,7],[5,11,5,14],[5,15,5,17],[5,18,5,20],[4,2,4,3],[4,4,4,5],[4,6,4,7],[4,11,4,14],[4,15,4,17],[4,18,4,20],[2,16,2,19],[2,20,2,22],[3,2,3,3],[3,4,3,5],[3,6,3,7],[3,11,3,14],[3,15,3,17],[3,18,3,20],[2,4,2,5],[2,6,2,7],[2,8,2,9],[2,10,2,11],[2,12,2,13],[2,14,2,15],[0,1,1,6],[0,7,1,10],[0,11,1,12],[0,13,1,13],[0,14,1,15],[0,16,1,22]]}
[null,"スリット伝票　ＬＯＴ",null,null,null,null,null,{"$f":"②OP記入欄改!$D$5","v":51023357021},null,null,null,"製区",null,{"$f":"②OP記入欄改!$D$7","v":"S"},"品種",null,{"$f":"②OP記入欄改!$D$8","v":"ＣＰＰ2703"}]
[]
[null,"番手",null,{"$f":"②OP記入欄改!$D$9","v":25},"原反名",null,{"$f":"②OP記入欄改!$D$10","v":9041},null,"原反幅",null,{"$f":"②OP記入欄改!$D$11","v":2080},null,"原反長",null,{"$f":"②OP記入欄改!$D$12","v":45000},null,"前工程M/C",null,null,null,{"$f":"②OP記入欄改!$D$13","v":"DF7"}]
[null,null,{"$f":"②OP記入欄改!G3","v":"仕向先"},null,{"$f":"②OP記入欄改!I3","v":"製品幅"},null,{"$f":"②OP記入欄改!K3","v":"製品長さ"},null,{"$f":"②OP記入欄改!M3","v":"計本"},{"$f":"②OP記入欄改!N3","v":"実"},{"$f":"②OP記入欄改!O3","v":"梱形"},"Ａ保枝番",null,null,null,"ミル枝番",null,null,"Ｂ級枝番",null,null,"ロック\nシャフト","コア"]
[null,{"$f":"②OP記入欄改!F4","v":1},{"$f":"②OP記入欄改!G4","v":"ＤＮＰ京都　３Ｄｏｒ３Ｄ６"},null,{"$f":"②OP記入欄改!I4","v":980},null,{"$f":"②OP記入欄改!K4","v":8000},null,{"$f":"②OP記入欄改!M4","v":5},{"$f":"②OP記入欄改!N4","v":0},{"$f":"②OP記入欄改!O4","v":"P"},null,null,null,null,null,null,null,null,null,null,"-",3,null,"-"]
[null,{"$f":"②OP記入欄改!F5","v":2},{"$f":"②OP記入欄改!G5","v":"ＤＮＰ京都　３Ｄｏｒ３Ｄ６"},null,{"$f":"②OP記入欄改!I5","v":1020},null,{"$f":"②OP記入欄改!K5","v":8000},null,{"$f":"②OP記入欄改!M5","v":5},{"$f":"②OP記入欄改!N5","v":0},{"$f":"②OP記入欄改!O5","v":"P"},null,null,null,null,null,null,null,null,null,null,"〇",3,null,"〇"]
[null,{"$f":"②OP記入欄改!F6","v":3},{"$f":"②OP記入欄改!G6","v":"４０００ｍ余剰分"},null,{"$f":"②OP記入欄改!I6","v":1020},null,{"$f":"②OP記入欄改!K6","v":4000},null,{"$f":"②OP記入欄改!M6","v":1},{"$f":"②OP記入欄改!N6","v":0}]
[null,{"$f":"②OP記入欄改!F7","v":4},{"$f":"②OP記入欄改!G7","v":"４０００ｍ余剰分"},null,{"$f":"②OP記入欄改!I7","v":980},null,{"$f":"②OP記入欄改!K7","v":4000},null,{"$f":"②OP記入欄改!M7","v":1},{"$f":"②OP記入欄改!N7","v":0},{"$f":"②OP記入欄改!O7","v":0}]
[null,{"$f":"②OP記入欄改!F8","v":5},{"$f":"②OP記入欄改!G8","v":0},null,{"$f":"②OP記入欄改!I8","v":0},null,{"$f":"②OP記入欄改!K8","v":0},null,{"$f":"②OP記入欄改!M8","v":0},{"$f":"②OP記入欄改!N8","v":0},{"$f":"②OP記入欄改!O8","v":0}]
[null,{"$f":"②OP記入欄改!F9","v":6},{"$f":"②OP記入欄改!G9","v":0},null,{"$f":"②OP記入欄改!I9","v":0},null,{"$f":"②OP記入欄改!K9","v":0},null,{"$f":"②OP記入欄改!M9","v":0},{"$f":"②OP記入欄改!N9","v":0},{"$f":"②OP記入欄改!O9","v":0}]
[null,{"$f":"②OP記入欄改!F10","v":7},{"$f":"②OP記入欄改!G10","v":0},null,{"$f":"②OP記入欄改!I10","v":0},null,{"$f":"②OP記入欄改!K10","v":0},null,{"$f":"②OP記入欄改!M10","v":0},{"$f":"②OP記入欄改!N10","v":0},{"$f":"②OP記入欄改!O10","v":0}]
[null,{"$f":"②OP記入欄改!F11","v":8},{"$f":"②OP記入欄改!G11","v":0},null,{"$f":"②OP記入欄改!I11","v":0},null,{"$f":"②OP記入欄改!K11","v":0},null,{"$f":"②OP記入欄改!M11","v":0},{"$f":"②OP記入欄改!N11","v":0},{"$f":"②OP記入欄改!O11","v":0}]
[null,{"$f":"②OP記入欄改!F12","v":9},{"$f":"②OP記入欄改!G12","v":0},null,{"$f":"②OP記入欄改!I12","v":0},null,{"$f":"②OP記入欄改!K12","v":0},null,{"$f":"②OP記入欄改!M12","v":0},{"$f":"②OP記入欄改!N12","v":0},{"$f":"②OP記入欄改!O12","v":0}]
[null,{"$f":"②OP記入欄改!F13","v":10},{"$f":"②OP記入欄改!G13","v":0},null,{"$f":"②OP記入欄改!I13","v":0},null,{"$f":"②OP記入欄改!K13","v":0},null,{"$f":"②OP記入欄改!M13","v":0},{"$f":"②OP記入欄改!N13","v":0},{"$f":"②OP記入欄改!O13","v":0}]
[null,"スリット作業指示№",null,null,null,null,"M/C№",null,"加工日",null,null,null,"前工程品質情報",null,null,"切断シフト1",null,null,null,"切断シフト2"]
[null,{"$f":"②OP記入欄改!$D$14","v":0},null,null,null,null,"ＳＬ-",{"$f":"②OP記入欄改!$D$15","v":19},{"$f":"②OP記入欄改!$D$4","v":"2025-10-23"},null,null,null,"確認　　　□",null,null,"組","作業者",null,null,"組","作業者"]
[null,"巻芯\n確認"]
[]
[null,null,null,null,null,null,null,null,null,null,null,null,null,null,null,"切替開始",null,null,"　　　　　時　　　　　分"]
[null,null,null,null,null,null,null,null,null,null,null,null,null,null,null,"切断開始",null,null,"　　　　　時　　　　　分"]
[null,null,null,null,null,null,null,null,null,null,null,null,null,null,null,"切断完了",null,null,"　　　　　時　　　　　分"]
[null,null,null,null,null,null,null,null,null,null,null,null,null,null,null,"食事開始",null,null,"　　　　　時　　　　　分"]
[null,null,null,null,null,null,null,null,null,null,null,null,null,null,null,"食事完了",null,null,"　　　　　時　　　　　分"]
[null,null,null,null,null,null,null,null,null,null,null,null,null,null,null,"停機開始",null,null,"　　　　　時　　　　　分"]
[null,null,null,null,null,null,null,null,null,null,null,null,null,null,null,"停機完了",null,null,"　　　　　時　　　　　分"]
[null,null,null,null,null,null,null,null,null,null,null,null,null,null,null,"停機理由"]
[null,null,null,null,null,null,null,null,null,null,null,null,null,null,null,"条件確認","M/C条件設定",null,null,"呼出№",null,{"$f":"②OP記入欄改!$D$16","v":2}]
[null,null,null,null,null,null,null,null,null,null,null,null,null,null,null,null,"欠点検出機",null,null,"使用条件№",null,{"$f":"②OP記入欄改!$D$17","v":1}]
[null,null,null,null,null,null,null,null,null,null,null,null,null,null,null,null,"速度(m/min)",null,null,480]
[null,null,null,null,null,null,null,null,null,null,null,null,null,null,null,null,"張力(N/ｍ・kg)"]
[null,null,null,null,null,null,null,null,null,null,null,null,null,null,null,null,"接圧(N/ｍ・kg)"]
[null,null,null,null,null,null,null,null,null,null,null,null,null,null,null,"外観確認"]
[null,null,null,null,null,null,null,null,null,null,null,null,null,null,null,"表層透過検査",null,null,null,"OK",null,"NG"]
[null,null,null,null,null,null,null,null,null,null,null,null,null,null,null,"巻姿外観確認[ｽﾀｰﾄ/中間/ﾗｽﾄ]"]
[null,null,null,null,null,null,null,null,null,null,null,null,null,null,null,"各枝番に問題無『〇』問題有『☓』を記載"]
[]
[]
[]
[]
[null,null,null,null,null,null,null,null,null,null,null,null,null,null,null,"※『☓』の場合は展開図に内容を記載する"]
[null,null,null,null,null,null,null,null,null,null,null,null,null,null,null,"検材エッジ",null,null,255]
[null,20,null,null,null,null,null,null,null,null,null,null,null,null,20,"表層ロス",null,null,100,null,null,"m"]
[null,null,null,null,null,null,null,null,null,null,null,null,null,null,null,"レザー/丸刃交換",null,null,null,"レザー/丸刃廃棄"]
[null,null,1020,null,null,null,null,null,980,null,null,null,null,null,null,"　枚",null,null,null,"　　枚"]
[null,"膜厚測定（ＣＰＰ・VMPET・BRPET）",null,null,null,null,null,null,null,null,null,null,null,null,null,"備考"]
[null,"ラスト"]
[null,"1セット表層"]
[null,"1セット芯"]
[]
[]
[]
[]
[]
[null,"スリット伝票　ＬＯＴ",null,null,null,null,null,{"$f":"②OP記入欄改!$D$5","v":51023357021},null,null,null,"製区",null,{"$f":"②OP記入欄改!$D$7","v":"S"},"品種",null,{"$f":"②OP記入欄改!$D$8","v":"ＣＰＰ2703"}]
[]
[null,"番手",null,{"$f":"②OP記入欄改!$D$9","v":25},"原反名",null,{"$f":"②OP記入欄改!$D$10","v":9041},null,"原反幅",null,{"$f":"②OP記入欄改!$D$11","v":2080},null,"原反長",null,{"$f":"②OP記入欄改!$D$12","v":45000},null,"前工程M/C",null,null,null,{"$f":"②OP記入欄改!$D$13","v":"DF7"}]
[null,"停機内容",null,null,null,null,null,"停機詳細",null,null,null,null,null,null,null,null,null,"停機時間"]
[null,"Ｆ破れ",null,null,"有/無",null,null,null,null,null,null,null,null,null,null,null,null,null,null,null,"hr"]
[null,"耳切れ",null,null,"有/無",null,null,null,null,null,null,null,null,null,null,null,null,null,null,null,"hr"]
[null,"紙管切断",null,null,"有/無",null,null,null,null,null,null,null,null,null,null,null,null,null,null,null,"hr"]
[null,"その他停機内容",null,null,null,null,null,null,null,null,null,null,null,null,null,null,null,null,null,null,"hr"]
[null,"備考"]
[]
[]
[]
[]
[]
[null,"外観確認内容"]
[null,"原反ズレ",null,null,null,"当てキズ",null,null,null,"溝ロール痕",null,null,null,"ＴＤスジ",null,null,null,"ピッチキズ"]
[null,"スリキズ",null,null,null,"クボミシワ",null,null,null,"シワムラ",null,null,null,"変色",null,null,null,"巻芯シワ"]
[null,"切断面・異物"]

{"sheet":"3丁(45)","index":15,"n_rows":71,"n_cols":25,"rows_kept":71,"cut":false,"hidden":false,"merged":[[69,1,69,4],[69,5,69,8],[69,9,69,12],[69,13,69,16],[69,17,69,21],[70,1,70,4],[60,7,60,16],[60,17,60,19],[68,1,68,4],[68,5,68,8],[68,9,68,12],[68,13,68,16],[68,17,68,21],[58,4,58,5],[58,7,58,16],[58,17,58,19],[59,4,59,5],[59,7,59,16],[59,17,59,19],[55,16,55,19],[55,20,55,22],[56,4,56,5],[57,4,57,5],[57,7,57,16],[57,17,57,19],[55,4,55,5],[55,6,55,7],[55,8,55,9],[55,10,55,11],[55,12,55,13],[55,14,55,15],[53,1,54,6],[53,7,53,10],[53,11,54,12],[53,13,54,13],[53,14,54,15],[53,16,54,22],[54,7,54,10],[46,13,46,14],[47,1,47,2],[47,3,47,4],[47,5,47,6],[47,7,47,8],[47,9,47,10],[47,11,47,12],[47,13,47,14],[46,1,46,2],[46,3,46,4],[46,5,46,6],[46,7,46,8],[46,9,46,10],[46,11,46,12],[44,1,44,14],[45,1,45,2],[45,3,45,4],[45,5,45,6],[45,7,45,8],[45,9,45,10],[45,11,45,12],[45,13,45,14],[39,15,39,22],[40,18,40,20],[41,18,41,20],[42,15,42,18],[42,19,42,22],[43,2,43,7],[43,8,43,13],[43,15,43,18],[43,19,43,22],[31,15,31,22],[32,15,32,18],[32,19,32,20],[32,21,32,22],[33,15,33,22],[34,15,34,22],[28,16,28,18],[28,19,28,22],[29,16,29,18],[29,19,29,20],[30,16,30,18],[30,19,30,20],[24,15,24,17],[24,18,24,22],[25,15,25,17],[25,18,25,22],[26,15,30,15],[26,16,26,18],[26,21,26,22],[27,16,27,18],[27,19,27,20],[27,21,27,22],[21,15,21,17],[21,18,21,22],[22,15,22,17],[22,18,22,22],[23,15,23,17],[23,18,23,22],[18,15,18,17],[18,18,18,22],[19,15,19,17],[19,18,19,22],[20,15,20,17],[20,18,20,22],[15,1,15,5],[15,8,15,11],[15,12,15,14],[15,16,15,18],[15,20,15,22],[16,1,17,1],[16,15,17,15],[16,16,17,18],[16,19,17,19],[16,20,17,22],[14,1,14,5],[14,6,14,7],[14,8,14,11],[14,12,14,14],[14,15,14,18],[14,19,14,22],[13,2,13,3],[13,4,13,5],[13,6,13,7],[13,11,13,14],[13,15,13,17],[13,18,13,20],[12,2,12,3],[12,4,12,5],[12,6,12,7],[12,11,12,14],[12,15,12,17],[12,18,12,20],[11,2,11,3],[11,4,11,5],[11,6,11,7],[11,11,11,14],[11,15,11,17],[11,18,11,20],[10,2,10,3],[10,4,10,5],[10,6,10,7],[10,11,10,14],[10,15,10,17],[10,18,10,20],[9,2,9,3],[9,4,9,5],[9,6,9,7],[9,11,9,14],[9,15,9,17],[9,18,9,20],[8,2,8,3],[8,4,8,5],[8,6,8,7],[8,11,8,14],[8,15,8,17],[8,18,8,20],[7,2,7,3],[7,4,7,5],[7,6,7,7],[7,11,7,14],[7,15,7,17],[7,18,7,20],[6,2,6,3],[6,4,6,5],[6,6,6,7],[6,11,6,14],[6,15,6,17],[6,18,6,20],[5,2,5,3],[5,4,5,5],[5,6,5,7],[5,11,5,14],[5,15,5,17],[5,18,5,20],[4,2,4,3],[4,4,4,5],[4,6,4,7],[4,11,4,14],[4,15,4,17],[4,18,4,20],[2,16,2,19],[2,20,2,22],[3,2,3,3],[3,4,3,5],[3,6,3,7],[3,11,3,14],[3,15,3,17],[3,18,3,20],[2,4,2,5],[2,6,2,7],[2,8,2,9],[2,10,2,11],[2,12,2,13],[2,14,2,15],[0,1,1,6],[0,7,1,10],[0,11,1,12],[0,13,1,13],[0,14,1,15],[0,16,1,22]]}
[null,"スリット伝票　ＬＯＴ",null,null,null,null,null,{"$f":"②OP記入欄改!$D$5","v":51023357021},null,null,null,"製区",null,{"$f":"②OP記入欄改!$D$7","v":"S"},"品種",null,{"$f":"②OP記入欄改!$D$8","v":"ＣＰＰ2703"}]
[]
[null,"番手",null,{"$f":"②OP記入欄改!$D$9","v":25},"原反名",null,{"$f":"②OP記入欄改!$D$10","v":9041},null,"原反幅",null,{"$f":"②OP記入欄改!$D$11","v":2080},null,"原反長",null,{"$f":"②OP記入欄改!$D$12","v":45000},null,"前工程M/C",null,null,null,{"$f":"②OP記入欄改!$D$13","v":"DF7"}]
[null,null,{"$f":"②OP記入欄改!G3","v":"仕向先"},null,{"$f":"②OP記入欄改!I3","v":"製品幅"},null,{"$f":"②OP記入欄改!K3","v":"製品長さ"},null,{"$f":"②OP記入欄改!M3","v":"計本"},{"$f":"②OP記入欄改!N3","v":"実"},{"$f":"②OP記入欄改!O3","v":"梱形"},"Ａ保枝番",null,null,null,"ミル枝番",null,null,"Ｂ級枝番",null,null,"ロック\nシャフト","コア"]
[null,{"$f":"②OP記入欄改!F4","v":1},{"$f":"②OP記入欄改!G4","v":"ＤＮＰ京都　３Ｄｏｒ３Ｄ６"},null,{"$f":"②OP記入欄改!I4","v":980},null,{"$f":"②OP記入欄改!K4","v":8000},null,{"$f":"②OP記入欄改!M4","v":5},{"$f":"②OP記入欄改!N4","v":0},{"$f":"②OP記入欄改!O4","v":"P"},null,null,null,null,null,null,null,null,null,null,"-",3,null,"-"]
[null,{"$f":"②OP記入欄改!F5","v":2},{"$f":"②OP記入欄改!G5","v":"ＤＮＰ京都　３Ｄｏｒ３Ｄ６"},null,{"$f":"②OP記入欄改!I5","v":1020},null,{"$f":"②OP記入欄改!K5","v":8000},null,{"$f":"②OP記入欄改!M5","v":5},{"$f":"②OP記入欄改!N5","v":0},{"$f":"②OP記入欄改!O5","v":"P"},null,null,null,null,null,null,null,null,null,null,"〇",3,null,"〇"]
[null,{"$f":"②OP記入欄改!F6","v":3},{"$f":"②OP記入欄改!G6","v":"４０００ｍ余剰分"},null,{"$f":"②OP記入欄改!I6","v":1020},null,{"$f":"②OP記入欄改!K6","v":4000},null,{"$f":"②OP記入欄改!M6","v":1},{"$f":"②OP記入欄改!N6","v":0}]
[null,{"$f":"②OP記入欄改!F7","v":4},{"$f":"②OP記入欄改!G7","v":"４０００ｍ余剰分"},null,{"$f":"②OP記入欄改!I7","v":980},null,{"$f":"②OP記入欄改!K7","v":4000},null,{"$f":"②OP記入欄改!M7","v":1},{"$f":"②OP記入欄改!N7","v":0},{"$f":"②OP記入欄改!O7","v":0}]
[null,{"$f":"②OP記入欄改!F8","v":5},{"$f":"②OP記入欄改!G8","v":0},null,{"$f":"②OP記入欄改!I8","v":0},null,{"$f":"②OP記入欄改!K8","v":0},null,{"$f":"②OP記入欄改!M8","v":0},{"$f":"②OP記入欄改!N8","v":0},{"$f":"②OP記入欄改!O8","v":0}]
[null,{"$f":"②OP記入欄改!F9","v":6},{"$f":"②OP記入欄改!G9","v":0},null,{"$f":"②OP記入欄改!I9","v":0},null,{"$f":"②OP記入欄改!K9","v":0},null,{"$f":"②OP記入欄改!M9","v":0},{"$f":"②OP記入欄改!N9","v":0},{"$f":"②OP記入欄改!O9","v":0}]
[null,{"$f":"②OP記入欄改!F10","v":7},{"$f":"②OP記入欄改!G10","v":0},null,{"$f":"②OP記入欄改!I10","v":0},null,{"$f":"②OP記入欄改!K10","v":0},null,{"$f":"②OP記入欄改!M10","v":0},{"$f":"②OP記入欄改!N10","v":0},{"$f":"②OP記入欄改!O10","v":0}]
[null,{"$f":"②OP記入欄改!F11","v":8},{"$f":"②OP記入欄改!G11","v":0},null,{"$f":"②OP記入欄改!I11","v":0},null,{"$f":"②OP記入欄改!K11","v":0},null,{"$f":"②OP記入欄改!M11","v":0},{"$f":"②OP記入欄改!N11","v":0},{"$f":"②OP記入欄改!O11","v":0}]
[null,{"$f":"②OP記入欄改!F12","v":9},{"$f":"②OP記入欄改!G12","v":0},null,{"$f":"②OP記入欄改!I12","v":0},null,{"$f":"②OP記入欄改!K12","v":0},null,{"$f":"②OP記入欄改!M12","v":0},{"$f":"②OP記入欄改!N12","v":0},{"$f":"②OP記入欄改!O12","v":0}]
[null,{"$f":"②OP記入欄改!F13","v":10},{"$f":"②OP記入欄改!G13","v":0},null,{"$f":"②OP記入欄改!I13","v":0},null,{"$f":"②OP記入欄改!K13","v":0},null,{"$f":"②OP記入欄改!M13","v":0},{"$f":"②OP記入欄改!N13","v":0},{"$f":"②OP記入欄改!O13","v":0}]
[null,"スリット作業指示№",null,null,null,null,"M/C№",null,"加工日",null,null,null,"前工程品質情報",null,null,"切断シフト1",null,null,null,"切断シフト2"]
[null,{"$f":"②OP記入欄改!$D$14","v":0},null,null,null,null,"ＳＬ-",{"$f":"②OP記入欄改!$D$15","v":19},{"$f":"②OP記入欄改!$D$4","v":"2025-10-23"},null,null,null,"確認　　　□",null,null,"組","作業者",null,null,"組","作業者"]
[null,"巻芯\n確認"]
[]
[null,null,null,null,null,null,null,null,null,null,null,null,null,null,null,"切替開始",null,null,"　　　　　時　　　　　分"]
[null,null,null,null,null,null,null,null,null,null,null,null,null,null,null,"切断開始",null,null,"　　　　　時　　　　　分"]
[null,null,null,null,null,null,null,null,null,null,null,null,null,null,null,"切断完了",null,null,"　　　　　時　　　　　分"]
[null,null,null,null,null,null,null,null,null,null,null,null,null,null,null,"食事開始",null,null,"　　　　　時　　　　　分"]
[null,null,null,null,null,null,null,null,null,null,null,null,null,null,null,"食事完了",null,null,"　　　　　時　　　　　分"]
[null,null,null,null,null,null,null,null,null,null,null,null,null,null,null,"停機開始",null,null,"　　　　　時　　　　　分"]
[null,null,null,null,null,null,null,null,null,null,null,null,null,null,null,"停機完了",null,null,"　　　　　時　　　　　分"]
[null,null,null,null,null,null,null,null,null,null,null,null,null,null,null,"停機理由"]
[null,null,null,null,null,null,null,null,null,null,null,null,null,null,null,"条件確認","M/C条件設定",null,null,"呼出№",null,{"$f":"②OP記入欄改!$D$16","v":2}]
[null,null,null,null,null,null,null,null,null,null,null,null,null,null,null,null,"欠点検出機",null,null,"使用条件№",null,{"$f":"②OP記入欄改!$D$17","v":1}]
[null,null,null,null,null,null,null,null,null,null,null,null,null,null,null,null,"速度(m/min)",null,null,480]
[null,null,null,null,null,null,null,null,null,null,null,null,null,null,null,null,"張力(N/ｍ・kg)"]
[null,null,null,null,null,null,null,null,null,null,null,null,null,null,null,null,"接圧(N/ｍ・kg)"]
[null,null,null,null,null,null,null,null,null,null,null,null,null,null,null,"外観確認"]
[null,null,null,null,null,null,null,null,null,null,null,null,null,null,null,"表層透過検査",null,null,null,"OK",null,"NG"]
[null,null,null,null,null,null,null,null,null,null,null,null,null,null,null,"巻姿外観確認[ｽﾀｰﾄ/中間/ﾗｽﾄ]"]
[null,null,null,null,null,null,null,null,null,null,null,null,null,null,null,"各枝番に問題無『〇』問題有『☓』を記載"]
[]
[]
[]
[]
[null,null,null,null,null,null,null,null,null,null,null,null,null,null,null,"※『☓』の場合は展開図に内容を記載する"]
[null,null,null,null,null,null,null,null,null,null,null,null,null,null,null,"検材エッジ",null,null,255]
[null,20,null,null,null,null,null,null,null,null,null,null,null,null,20,"表層ロス",null,null,100,null,null,"m"]
[null,null,null,null,null,null,null,null,null,null,null,null,null,null,null,"レザー/丸刃交換",null,null,null,"レザー/丸刃廃棄"]
[null,null,1020,null,null,null,null,null,980,null,null,null,null,null,null,"　枚",null,null,null,"　　枚"]
[null,"膜厚測定（ＣＰＰ・VMPET・BRPET）",null,null,null,null,null,null,null,null,null,null,null,null,null,"備考"]
[null,"ラスト"]
[null,"1セット表層"]
[null,"1セット芯"]
[]
[]
[]
[]
[]
[null,"スリット伝票　ＬＯＴ",null,null,null,null,null,{"$f":"②OP記入欄改!$D$5","v":51023357021},null,null,null,"製区",null,{"$f":"②OP記入欄改!$D$7","v":"S"},"品種",null,{"$f":"②OP記入欄改!$D$8","v":"ＣＰＰ2703"}]
[]
[null,"番手",null,{"$f":"②OP記入欄改!$D$9","v":25},"原反名",null,{"$f":"②OP記入欄改!$D$10","v":9041},null,"原反幅",null,{"$f":"②OP記入欄改!$D$11","v":2080},null,"原反長",null,{"$f":"②OP記入欄改!$D$12","v":45000},null,"前工程M/C",null,null,null,{"$f":"②OP記入欄改!$D$13","v":"DF7"}]
[null,"停機内容",null,null,null,null,null,"停機詳細",null,null,null,null,null,null,null,null,null,"停機時間"]
[null,"Ｆ破れ",null,null,"有/無",null,null,null,null,null,null,null,null,null,null,null,null,null,null,null,"hr"]
[null,"耳切れ",null,null,"有/無",null,null,null,null,null,null,null,null,null,null,null,null,null,null,null,"hr"]
[null,"紙管切断",null,null,"有/無",null,null,null,null,null,null,null,null,null,null,null,null,null,null,null,"hr"]
[null,"その他停機内容",null,null,null,null,null,null,null,null,null,null,null,null,null,null,null,null,null,null,"hr"]
[null,"備考"]
[]
[]
[]
[]
[]
[null,"外観確認内容"]
[null,"原反ズレ",null,null,null,"当てキズ",null,null,null,"溝ロール痕",null,null,null,"ＴＤスジ",null,null,null,"ピッチキズ"]
[null,"スリキズ",null,null,null,"クボミシワ",null,null,null,"シワムラ",null,null,null,"変色",null,null,null,"巻芯シワ"]
[null,"切断面・異物"]

{"sheet":"2丁-3丁(25)","index":16,"n_rows":71,"n_cols":25,"rows_kept":71,"cut":false,"hidden":false,"merged":[[69,1,69,4],[69,5,69,8],[69,9,69,12],[69,13,69,16],[69,17,69,21],[70,1,70,4],[60,7,60,16],[60,17,60,19],[68,1,68,4],[68,5,68,8],[68,9,68,12],[68,13,68,16],[68,17,68,21],[58,4,58,5],[58,7,58,16],[58,17,58,19],[59,4,59,5],[59,7,59,16],[59,17,59,19],[55,16,55,19],[55,20,55,22],[56,4,56,5],[57,4,57,5],[57,7,57,16],[57,17,57,19],[55,4,55,5],[55,6,55,7],[55,8,55,9],[55,10,55,11],[55,12,55,13],[55,14,55,15],[53,1,54,6],[53,7,53,10],[53,11,54,12],[53,13,54,13],[53,14,54,15],[53,16,54,22],[54,7,54,10],[46,13,46,14],[47,1,47,2],[47,3,47,4],[47,5,47,6],[47,7,47,8],[47,9,47,10],[47,11,47,12],[47,13,47,14],[46,1,46,2],[46,3,46,4],[46,5,46,6],[46,7,46,8],[46,9,46,10],[46,11,46,12],[44,1,44,14],[45,1,45,2],[45,3,45,4],[45,5,45,6],[45,7,45,8],[45,9,45,10],[45,11,45,12],[45,13,45,14],[39,15,39,22],[40,18,40,20],[41,18,41,20],[42,15,42,18],[42,19,42,22],[43,2,43,7],[43,8,43,13],[43,15,43,18],[43,19,43,22],[31,15,31,22],[32,15,32,18],[32,19,32,20],[32,21,32,22],[33,15,33,22],[34,15,34,22],[28,16,28,18],[28,19,28,22],[29,16,29,18],[29,19,29,20],[30,16,30,18],[30,19,30,20],[24,15,24,17],[24,18,24,22],[25,15,25,17],[25,18,25,22],[26,15,30,15],[26,16,26,18],[26,21,26,22],[27,16,27,18],[27,19,27,20],[27,21,27,22],[21,15,21,17],[21,18,21,22],[22,15,22,17],[22,18,22,22],[23,15,23,17],[23,18,23,22],[18,15,18,17],[18,18,18,22],[19,15,19,17],[19,18,19,22],[20,15,20,17],[20,18,20,22],[15,1,15,5],[15,8,15,11],[15,12,15,14],[15,16,15,18],[15,20,15,22],[16,1,17,1],[16,15,17,15],[16,16,17,18],[16,19,17,19],[16,20,17,22],[14,1,14,5],[14,6,14,7],[14,8,14,11],[14,12,14,14],[14,15,14,18],[14,19,14,22],[13,2,13,3],[13,4,13,5],[13,6,13,7],[13,11,13,14],[13,15,13,17],[13,18,13,20],[12,2,12,3],[12,4,12,5],[12,6,12,7],[12,11,12,14],[12,15,12,17],[12,18,12,20],[11,2,11,3],[11,4,11,5],[11,6,11,7],[11,11,11,14],[11,15,11,17],[11,18,11,20],[10,2,10,3],[10,4,10,5],[10,6,10,7],[10,11,10,14],[10,15,10,17],[10,18,10,20],[9,2,9,3],[9,4,9,5],[9,6,9,7],[9,11,9,14],[9,15,9,17],[9,18,9,20],[8,2,8,3],[8,4,8,5],[8,6,8,7],[8,11,8,14],[8,15,8,17],[8,18,8,20],[7,2,7,3],[7,4,7,5],[7,6,7,7],[7,11,7,14],[7,15,7,17],[7,18,7,20],[6,2,6,3],[6,4,6,5],[6,6,6,7],[6,11,6,14],[6,15,6,17],[6,18,6,20],[5,2,5,3],[5,4,5,5],[5,6,5,7],[5,11,5,14],[5,15,5,17],[5,18,5,20],[4,2,4,3],[4,4,4,5],[4,6,4,7],[4,11,4,14],[4,15,4,17],[4,18,4,20],[2,16,2,19],[2,20,2,22],[3,2,3,3],[3,4,3,5],[3,6,3,7],[3,11,3,14],[3,15,3,17],[3,18,3,20],[2,4,2,5],[2,6,2,7],[2,8,2,9],[2,10,2,11],[2,12,2,13],[2,14,2,15],[0,1,1,6],[0,7,1,10],[0,11,1,12],[0,13,1,13],[0,14,1,15],[0,16,1,22]]}
[null,"スリット伝票　ＬＯＴ",null,null,null,null,null,{"$f":"②OP記入欄改!$D$5","v":51023357021},null,null,null,"製区",null,{"$f":"②OP記入欄改!$D$7","v":"S"},"品種",null,{"$f":"②OP記入欄改!$D$8","v":"ＣＰＰ2703"}]
[]
[null,"番手",null,{"$f":"②OP記入欄改!$D$9","v":25},"原反名",null,{"$f":"②OP記入欄改!$D$10","v":9041},null,"原反幅",null,{"$f":"②OP記入欄改!$D$11","v":2080},null,"原反長",null,{"$f":"②OP記入欄改!$D$12","v":45000},null,"前工程M/C",null,null,null,{"$f":"②OP記入欄改!$D$13","v":"DF7"}]
[null,null,{"$f":"②OP記入欄改!G3","v":"仕向先"},null,{"$f":"②OP記入欄改!I3","v":"製品幅"},null,{"$f":"②OP記入欄改!K3","v":"製品長さ"},null,{"$f":"②OP記入欄改!M3","v":"計本"},{"$f":"②OP記入欄改!N3","v":"実"},{"$f":"②OP記入欄改!O3","v":"梱形"},"Ａ保枝番",null,null,null,"ミル枝番",null,null,"Ｂ級枝番",null,null,"ロック\nシャフト","コア"]
[null,{"$f":"②OP記入欄改!F4","v":1},{"$f":"②OP記入欄改!G4","v":"ＤＮＰ京都　３Ｄｏｒ３Ｄ６"},null,{"$f":"②OP記入欄改!I4","v":980},null,{"$f":"②OP記入欄改!K4","v":8000},null,{"$f":"②OP記入欄改!M4","v":5},{"$f":"②OP記入欄改!N4","v":0},{"$f":"②OP記入欄改!O4","v":"P"},null,null,null,null,null,null,null,null,null,null,"-",3,null,"-"]
[null,{"$f":"②OP記入欄改!F5","v":2},{"$f":"②OP記入欄改!G5","v":"ＤＮＰ京都　３Ｄｏｒ３Ｄ６"},null,{"$f":"②OP記入欄改!I5","v":1020},null,{"$f":"②OP記入欄改!K5","v":8000},null,{"$f":"②OP記入欄改!M5","v":5},{"$f":"②OP記入欄改!N5","v":0},{"$f":"②OP記入欄改!O5","v":"P"},null,null,null,null,null,null,null,null,null,null,"〇",3,null,"〇"]
[null,{"$f":"②OP記入欄改!F6","v":3},{"$f":"②OP記入欄改!G6","v":"４０００ｍ余剰分"},null,{"$f":"②OP記入欄改!I6","v":1020},null,{"$f":"②OP記入欄改!K6","v":4000},null,{"$f":"②OP記入欄改!M6","v":1},{"$f":"②OP記入欄改!N6","v":0}]
[null,{"$f":"②OP記入欄改!F7","v":4},{"$f":"②OP記入欄改!G7","v":"４０００ｍ余剰分"},null,{"$f":"②OP記入欄改!I7","v":980},null,{"$f":"②OP記入欄改!K7","v":4000},null,{"$f":"②OP記入欄改!M7","v":1},{"$f":"②OP記入欄改!N7","v":0},{"$f":"②OP記入欄改!O7","v":0}]
[null,{"$f":"②OP記入欄改!F8","v":5},{"$f":"②OP記入欄改!G8","v":0},null,{"$f":"②OP記入欄改!I8","v":0},null,{"$f":"②OP記入欄改!K8","v":0},null,{"$f":"②OP記入欄改!M8","v":0},{"$f":"②OP記入欄改!N8","v":0},{"$f":"②OP記入欄改!O8","v":0}]
[null,{"$f":"②OP記入欄改!F9","v":6},{"$f":"②OP記入欄改!G9","v":0},null,{"$f":"②OP記入欄改!I9","v":0},null,{"$f":"②OP記入欄改!K9","v":0},null,{"$f":"②OP記入欄改!M9","v":0},{"$f":"②OP記入欄改!N9","v":0},{"$f":"②OP記入欄改!O9","v":0}]
[null,{"$f":"②OP記入欄改!F10","v":7},{"$f":"②OP記入欄改!G10","v":0},null,{"$f":"②OP記入欄改!I10","v":0},null,{"$f":"②OP記入欄改!K10","v":0},null,{"$f":"②OP記入欄改!M10","v":0},{"$f":"②OP記入欄改!N10","v":0},{"$f":"②OP記入欄改!O10","v":0}]
[null,{"$f":"②OP記入欄改!F11","v":8},{"$f":"②OP記入欄改!G11","v":0},null,{"$f":"②OP記入欄改!I11","v":0},null,{"$f":"②OP記入欄改!K11","v":0},null,{"$f":"②OP記入欄改!M11","v":0},{"$f":"②OP記入欄改!N11","v":0},{"$f":"②OP記入欄改!O11","v":0}]
[null,{"$f":"②OP記入欄改!F12","v":9},{"$f":"②OP記入欄改!G12","v":0},null,{"$f":"②OP記入欄改!I12","v":0},null,{"$f":"②OP記入欄改!K12","v":0},null,{"$f":"②OP記入欄改!M12","v":0},{"$f":"②OP記入欄改!N12","v":0},{"$f":"②OP記入欄改!O12","v":0}]
[null,{"$f":"②OP記入欄改!F13","v":10},{"$f":"②OP記入欄改!G13","v":0},null,{"$f":"②OP記入欄改!I13","v":0},null,{"$f":"②OP記入欄改!K13","v":0},null,{"$f":"②OP記入欄改!M13","v":0},{"$f":"②OP記入欄改!N13","v":0},{"$f":"②OP記入欄改!O13","v":0}]
[null,"スリット作業指示№",null,null,null,null,"M/C№",null,"加工日",null,null,null,"前工程品質情報",null,null,"切断シフト1",null,null,null,"切断シフト2"]
[null,{"$f":"②OP記入欄改!$D$14","v":0},null,null,null,null,"ＳＬ-",{"$f":"②OP記入欄改!$D$15","v":19},{"$f":"②OP記入欄改!$D$4","v":"2025-10-23"},null,null,null,"確認　　　□",null,null,"組","作業者",null,null,"組","作業者"]
[null,"巻芯\n確認"]
[]
[null,null,null,null,null,null,null,null,null,null,null,null,null,null,null,"切替開始",null,null,"　　　　　時　　　　　分"]
[null,null,null,null,null,null,null,null,null,null,null,null,null,null,null,"切断開始",null,null,"　　　　　時　　　　　分"]
[null,null,null,null,null,null,null,null,null,null,null,null,null,null,null,"切断完了",null,null,"　　　　　時　　　　　分"]
[null,null,null,null,null,null,null,null,null,null,null,null,null,null,null,"食事開始",null,null,"　　　　　時　　　　　分"]
[null,null,null,null,null,null,null,null,null,null,null,null,null,null,null,"食事完了",null,null,"　　　　　時　　　　　分"]
[null,null,null,null,null,null,null,null,null,null,null,null,null,null,null,"停機開始",null,null,"　　　　　時　　　　　分"]
[null,null,null,null,null,null,null,null,null,null,null,null,null,null,null,"停機完了",null,null,"　　　　　時　　　　　分"]
[null,null,null,null,null,null,null,null,null,null,null,null,null,null,null,"停機理由"]
[null,null,null,null,null,null,null,null,null,null,null,null,null,null,null,"条件確認","M/C条件設定",null,null,"呼出№",null,{"$f":"②OP記入欄改!$D$16","v":2}]
[null,null,null,null,null,null,null,null,null,null,null,null,null,null,null,null,"欠点検出機",null,null,"使用条件№",null,{"$f":"②OP記入欄改!$D$17","v":1}]
[null,null,null,null,null,null,null,null,null,null,null,null,null,null,null,null,"速度(m/min)",null,null,480]
[null,null,null,null,null,null,null,null,null,null,null,null,null,null,null,null,"張力(N/ｍ・kg)"]
[null,null,null,null,null,null,null,null,null,null,null,null,null,null,null,null,"接圧(N/ｍ・kg)"]
[null,null,null,null,null,null,null,null,null,null,null,null,null,null,null,"外観確認"]
[null,null,null,null,null,null,null,null,null,null,null,null,null,null,null,"表層透過検査",null,null,null,"OK",null,"NG"]
[null,null,null,null,null,null,null,null,null,null,null,null,null,null,null,"巻姿外観確認[ｽﾀｰﾄ/中間/ﾗｽﾄ]"]
[null,null,null,null,null,null,null,null,null,null,null,null,null,null,null,"各枝番に問題無『〇』問題有『☓』を記載"]
[]
[]
[]
[]
[null,null,null,null,null,null,null,null,null,null,null,null,null,null,null,"※『☓』の場合は展開図に内容を記載する"]
[null,null,null,null,null,null,null,null,null,null,null,null,null,null,null,"検材エッジ",null,null,255]
[null,20,null,null,null,null,null,null,null,null,null,null,null,null,20,"表層ロス",null,null,100,null,null,"m"]
[null,null,null,null,null,null,null,null,null,null,null,null,null,null,null,"レザー/丸刃交換",null,null,null,"レザー/丸刃廃棄"]
[null,null,1020,null,null,null,null,null,980,null,null,null,null,null,null,"　枚",null,null,null,"　　枚"]
[null,"膜厚測定（ＣＰＰ・VMPET・BRPET）",null,null,null,null,null,null,null,null,null,null,null,null,null,"備考"]
[null,"ラスト"]
[null,"1セット表層"]
[null,"1セット芯"]
[]
[]
[]
[]
[]
[null,"スリット伝票　ＬＯＴ",null,null,null,null,null,{"$f":"②OP記入欄改!$D$5","v":51023357021},null,null,null,"製区",null,{"$f":"②OP記入欄改!$D$7","v":"S"},"品種",null,{"$f":"②OP記入欄改!$D$8","v":"ＣＰＰ2703"}]
[]
[null,"番手",null,{"$f":"②OP記入欄改!$D$9","v":25},"原反名",null,{"$f":"②OP記入欄改!$D$10","v":9041},null,"原反幅",null,{"$f":"②OP記入欄改!$D$11","v":2080},null,"原反長",null,{"$f":"②OP記入欄改!$D$12","v":45000},null,"前工程M/C",null,null,null,{"$f":"②OP記入欄改!$D$13","v":"DF7"}]
[null,"停機内容",null,null,null,null,null,"停機詳細",null,null,null,null,null,null,null,null,null,"停機時間"]
[null,"Ｆ破れ",null,null,"有/無",null,null,null,null,null,null,null,null,null,null,null,null,null,null,null,"hr"]
[null,"耳切れ",null,null,"有/無",null,null,null,null,null,null,null,null,null,null,null,null,null,null,null,"hr"]
[null,"紙管切断",null,null,"有/無",null,null,null,null,null,null,null,null,null,null,null,null,null,null,null,"hr"]
[null,"その他停機内容",null,null,null,null,null,null,null,null,null,null,null,null,null,null,null,null,null,null,"hr"]
[null,"備考"]
[]
[]
[]
[]
[]
[null,"外観確認内容"]
[null,"原反ズレ",null,null,null,"当てキズ",null,null,null,"溝ロール痕",null,null,null,"ＴＤスジ",null,null,null,"ピッチキズ"]
[null,"スリキズ",null,null,null,"クボミシワ",null,null,null,"シワムラ",null,null,null,"変色",null,null,null,"巻芯シワ"]
[null,"切断面・異物"]

{"sheet":"3丁-2丁(35)","index":17,"n_rows":71,"n_cols":25,"rows_kept":71,"cut":false,"hidden":false,"merged":[[69,1,69,4],[69,5,69,8],[69,9,69,12],[69,13,69,16],[69,17,69,21],[70,1,70,4],[60,7,60,16],[60,17,60,19],[68,1,68,4],[68,5,68,8],[68,9,68,12],[68,13,68,16],[68,17,68,21],[58,4,58,5],[58,7,58,16],[58,17,58,19],[59,4,59,5],[59,7,59,16],[59,17,59,19],[55,16,55,19],[55,20,55,22],[56,4,56,5],[57,4,57,5],[57,7,57,16],[57,17,57,19],[55,4,55,5],[55,6,55,7],[55,8,55,9],[55,10,55,11],[55,12,55,13],[55,14,55,15],[53,1,54,6],[53,7,53,10],[53,11,54,12],[53,13,54,13],[53,14,54,15],[53,16,54,22],[54,7,54,10],[46,13,46,14],[47,1,47,2],[47,3,47,4],[47,5,47,6],[47,7,47,8],[47,9,47,10],[47,11,47,12],[47,13,47,14],[46,1,46,2],[46,3,46,4],[46,5,46,6],[46,7,46,8],[46,9,46,10],[46,11,46,12],[44,1,44,14],[45,1,45,2],[45,3,45,4],[45,5,45,6],[45,7,45,8],[45,9,45,10],[45,11,45,12],[45,13,45,14],[39,15,39,22],[40,18,40,20],[41,18,41,20],[42,15,42,18],[42,19,42,22],[43,2,43,7],[43,8,43,13],[43,15,43,18],[43,19,43,22],[31,15,31,22],[32,15,32,18],[32,19,32,20],[32,21,32,22],[33,15,33,22],[34,15,34,22],[28,16,28,18],[28,19,28,22],[29,16,29,18],[29,19,29,20],[30,16,30,18],[30,19,30,20],[24,15,24,17],[24,18,24,22],[25,15,25,17],[25,18,25,22],[26,15,30,15],[26,16,26,18],[26,21,26,22],[27,16,27,18],[27,19,27,20],[27,21,27,22],[21,15,21,17],[21,18,21,22],[22,15,22,17],[22,18,22,22],[23,15,23,17],[23,18,23,22],[18,15,18,17],[18,18,18,22],[19,15,19,17],[19,18,19,22],[20,15,20,17],[20,18,20,22],[15,1,15,5],[15,8,15,11],[15,12,15,14],[15,16,15,18],[15,20,15,22],[16,1,17,1],[16,15,17,15],[16,16,17,18],[16,19,17,19],[16,20,17,22],[14,1,14,5],[14,6,14,7],[14,8,14,11],[14,12,14,14],[14,15,14,18],[14,19,14,22],[13,2,13,3],[13,4,13,5],[13,6,13,7],[13,11,13,14],[13,15,13,17],[13,18,13,20],[12,2,12,3],[12,4,12,5],[12,6,12,7],[12,11,12,14],[12,15,12,17],[12,18,12,20],[11,2,11,3],[11,4,11,5],[11,6,11,7],[11,11,11,14],[11,15,11,17],[11,18,11,20],[10,2,10,3],[10,4,10,5],[10,6,10,7],[10,11,10,14],[10,15,10,17],[10,18,10,20],[9,2,9,3],[9,4,9,5],[9,6,9,7],[9,11,9,14],[9,15,9,17],[9,18,9,20],[8,2,8,3],[8,4,8,5],[8,6,8,7],[8,11,8,14],[8,15,8,17],[8,18,8,20],[7,2,7,3],[7,4,7,5],[7,6,7,7],[7,11,7,14],[7,15,7,17],[7,18,7,20],[6,2,6,3],[6,4,6,5],[6,6,6,7],[6,11,6,14],[6,15,6,17],[6,18,6,20],[5,2,5,3],[5,4,5,5],[5,6,5,7],[5,11,5,14],[5,15,5,17],[5,18,5,20],[4,2,4,3],[4,4,4,5],[4,6,4,7],[4,11,4,14],[4,15,4,17],[4,18,4,20],[2,16,2,19],[2,20,2,22],[3,2,3,3],[3,4,3,5],[3,6,3,7],[3,11,3,14],[3,15,3,17],[3,18,3,20],[2,4,2,5],[2,6,2,7],[2,8,2,9],[2,10,2,11],[2,12,2,13],[2,14,2,15],[0,1,1,6],[0,7,1,10],[0,11,1,12],[0,13,1,13],[0,14,1,15],[0,16,1,22]]}
[null,"スリット伝票　ＬＯＴ",null,null,null,null,null,{"$f":"②OP記入欄改!$D$5","v":51023357021},null,null,null,"製区",null,{"$f":"②OP記入欄改!$D$7","v":"S"},"品種",null,{"$f":"②OP記入欄改!$D$8","v":"ＣＰＰ2703"}]
[]
[null,"番手",null,{"$f":"②OP記入欄改!$D$9","v":25},"原反名",null,{"$f":"②OP記入欄改!$D$10","v":9041},null,"原反幅",null,{"$f":"②OP記入欄改!$D$11","v":2080},null,"原反長",null,{"$f":"②OP記入欄改!$D$12","v":45000},null,"前工程M/C",null,null,null,{"$f":"②OP記入欄改!$D$13","v":"DF7"}]
[null,null,{"$f":"②OP記入欄改!G3","v":"仕向先"},null,{"$f":"②OP記入欄改!I3","v":"製品幅"},null,{"$f":"②OP記入欄改!K3","v":"製品長さ"},null,{"$f":"②OP記入欄改!M3","v":"計本"},{"$f":"②OP記入欄改!N3","v":"実"},{"$f":"②OP記入欄改!O3","v":"梱形"},"Ａ保枝番",null,null,null,"ミル枝番",null,null,"Ｂ級枝番",null,null,"ロック\nシャフト","コア"]
[null,{"$f":"②OP記入欄改!F4","v":1},{"$f":"②OP記入欄改!G4","v":"ＤＮＰ京都　３Ｄｏｒ３Ｄ６"},null,{"$f":"②OP記入欄改!I4","v":980},null,{"$f":"②OP記入欄改!K4","v":8000},null,{"$f":"②OP記入欄改!M4","v":5},{"$f":"②OP記入欄改!N4","v":0},{"$f":"②OP記入欄改!O4","v":"P"},null,null,null,null,null,null,null,null,null,null,"-",3,null,"-"]
[null,{"$f":"②OP記入欄改!F5","v":2},{"$f":"②OP記入欄改!G5","v":"ＤＮＰ京都　３Ｄｏｒ３Ｄ６"},null,{"$f":"②OP記入欄改!I5","v":1020},null,{"$f":"②OP記入欄改!K5","v":8000},null,{"$f":"②OP記入欄改!M5","v":5},{"$f":"②OP記入欄改!N5","v":0},{"$f":"②OP記入欄改!O5","v":"P"},null,null,null,null,null,null,null,null,null,null,"〇",3,null,"〇"]
[null,{"$f":"②OP記入欄改!F6","v":3},{"$f":"②OP記入欄改!G6","v":"４０００ｍ余剰分"},null,{"$f":"②OP記入欄改!I6","v":1020},null,{"$f":"②OP記入欄改!K6","v":4000},null,{"$f":"②OP記入欄改!M6","v":1},{"$f":"②OP記入欄改!N6","v":0}]
[null,{"$f":"②OP記入欄改!F7","v":4},{"$f":"②OP記入欄改!G7","v":"４０００ｍ余剰分"},null,{"$f":"②OP記入欄改!I7","v":980},null,{"$f":"②OP記入欄改!K7","v":4000},null,{"$f":"②OP記入欄改!M7","v":1},{"$f":"②OP記入欄改!N7","v":0},{"$f":"②OP記入欄改!O7","v":0}]
[null,{"$f":"②OP記入欄改!F8","v":5},{"$f":"②OP記入欄改!G8","v":0},null,{"$f":"②OP記入欄改!I8","v":0},null,{"$f":"②OP記入欄改!K8","v":0},null,{"$f":"②OP記入欄改!M8","v":0},{"$f":"②OP記入欄改!N8","v":0},{"$f":"②OP記入欄改!O8","v":0}]
[null,{"$f":"②OP記入欄改!F9","v":6},{"$f":"②OP記入欄改!G9","v":0},null,{"$f":"②OP記入欄改!I9","v":0},null,{"$f":"②OP記入欄改!K9","v":0},null,{"$f":"②OP記入欄改!M9","v":0},{"$f":"②OP記入欄改!N9","v":0},{"$f":"②OP記入欄改!O9","v":0}]
[null,{"$f":"②OP記入欄改!F10","v":7},{"$f":"②OP記入欄改!G10","v":0},null,{"$f":"②OP記入欄改!I10","v":0},null,{"$f":"②OP記入欄改!K10","v":0},null,{"$f":"②OP記入欄改!M10","v":0},{"$f":"②OP記入欄改!N10","v":0},{"$f":"②OP記入欄改!O10","v":0}]
[null,{"$f":"②OP記入欄改!F11","v":8},{"$f":"②OP記入欄改!G11","v":0},null,{"$f":"②OP記入欄改!I11","v":0},null,{"$f":"②OP記入欄改!K11","v":0},null,{"$f":"②OP記入欄改!M11","v":0},{"$f":"②OP記入欄改!N11","v":0},{"$f":"②OP記入欄改!O11","v":0}]
[null,{"$f":"②OP記入欄改!F12","v":9},{"$f":"②OP記入欄改!G12","v":0},null,{"$f":"②OP記入欄改!I12","v":0},null,{"$f":"②OP記入欄改!K12","v":0},null,{"$f":"②OP記入欄改!M12","v":0},{"$f":"②OP記入欄改!N12","v":0},{"$f":"②OP記入欄改!O12","v":0}]
[null,{"$f":"②OP記入欄改!F13","v":10},{"$f":"②OP記入欄改!G13","v":0},null,{"$f":"②OP記入欄改!I13","v":0},null,{"$f":"②OP記入欄改!K13","v":0},null,{"$f":"②OP記入欄改!M13","v":0},{"$f":"②OP記入欄改!N13","v":0},{"$f":"②OP記入欄改!O13","v":0}]
[null,"スリット作業指示№",null,null,null,null,"M/C№",null,"加工日",null,null,null,"前工程品質情報",null,null,"切断シフト1",null,null,null,"切断シフト2"]
[null,{"$f":"②OP記入欄改!$D$14","v":0},null,null,null,null,"ＳＬ-",{"$f":"②OP記入欄改!$D$15","v":19},{"$f":"②OP記入欄改!$D$4","v":"2025-10-23"},null,null,null,"確認　　　□",null,null,"組","作業者",null,null,"組","作業者"]
[null,"巻芯\n確認"]
[]
[null,null,null,null,null,null,null,null,null,null,null,null,null,null,null,"切替開始",null,null,"　　　　　時　　　　　分"]
[null,null,null,null,null,null,null,null,null,null,null,null,null,null,null,"切断開始",null,null,"　　　　　時　　　　　分"]
[null,null,null,null,null,null,null,null,null,null,null,null,null,null,null,"切断完了",null,null,"　　　　　時　　　　　分"]
[null,null,null,null,null,null,null,null,null,null,null,null,null,null,null,"食事開始",null,null,"　　　　　時　　　　　分"]
[null,null,null,null,null,null,null,null,null,null,null,null,null,null,null,"食事完了",null,null,"　　　　　時　　　　　分"]
[null,null,null,null,null,null,null,null,null,null,null,null,null,null,null,"停機開始",null,null,"　　　　　時　　　　　分"]
[null,null,null,null,null,null,null,null,null,null,null,null,null,null,null,"停機完了",null,null,"　　　　　時　　　　　分"]
[null,null,null,null,null,null,null,null,null,null,null,null,null,null,null,"停機理由"]
[null,null,null,null,null,null,null,null,null,null,null,null,null,null,null,"条件確認","M/C条件設定",null,null,"呼出№",null,{"$f":"②OP記入欄改!$D$16","v":2}]
[null,null,null,null,null,null,null,null,null,null,null,null,null,null,null,null,"欠点検出機",null,null,"使用条件№",null,{"$f":"②OP記入欄改!$D$17","v":1}]
[null,null,null,null,null,null,null,null,null,null,null,null,null,null,null,null,"速度(m/min)",null,null,480]
[null,null,null,null,null,null,null,null,null,null,null,null,null,null,null,null,"張力(N/ｍ・kg)"]
[null,null,null,null,null,null,null,null,null,null,null,null,null,null,null,null,"接圧(N/ｍ・kg)"]
[null,null,null,null,null,null,null,null,null,null,null,null,null,null,null,"外観確認"]
[null,null,null,null,null,null,null,null,null,null,null,null,null,null,null,"表層透過検査",null,null,null,"OK",null,"NG"]
[null,null,null,null,null,null,null,null,null,null,null,null,null,null,null,"巻姿外観確認[ｽﾀｰﾄ/中間/ﾗｽﾄ]"]
[null,null,null,null,null,null,null,null,null,null,null,null,null,null,null,"各枝番に問題無『〇』問題有『☓』を記載"]
[]
[]
[]
[]
[null,null,null,null,null,null,null,null,null,null,null,null,null,null,null,"※『☓』の場合は展開図に内容を記載する"]
[null,null,null,null,null,null,null,null,null,null,null,null,null,null,null,"検材エッジ",null,null,255]
[null,20,null,null,null,null,null,null,null,null,null,null,null,null,20,"表層ロス",null,null,100,null,null,"m"]
[null,null,null,null,null,null,null,null,null,null,null,null,null,null,null,"レザー/丸刃交換",null,null,null,"レザー/丸刃廃棄"]
[null,null,1020,null,null,null,null,null,980,null,null,null,null,null,null,"　枚",null,null,null,"　　枚"]
[null,"膜厚測定（ＣＰＰ・VMPET・BRPET）",null,null,null,null,null,null,null,null,null,null,null,null,null,"備考"]
[null,"ラスト"]
[null,"1セット表層"]
[null,"1セット芯"]
[]
[]
[]
[]
[]
[null,"スリット伝票　ＬＯＴ",null,null,null,null,null,{"$f":"②OP記入欄改!$D$5","v":51023357021},null,null,null,"製区",null,{"$f":"②OP記入欄改!$D$7","v":"S"},"品種",null,{"$f":"②OP記入欄改!$D$8","v":"ＣＰＰ2703"}]
[]
[null,"番手",null,{"$f":"②OP記入欄改!$D$9","v":25},"原反名",null,{"$f":"②OP記入欄改!$D$10","v":9041},null,"原反幅",null,{"$f":"②OP記入欄改!$D$11","v":2080},null,"原反長",null,{"$f":"②OP記入欄改!$D$12","v":45000},null,"前工程M/C",null,null,null,{"$f":"②OP記入欄改!$D$13","v":"DF7"}]
[null,"停機内容",null,null,null,null,null,"停機詳細",null,null,null,null,null,null,null,null,null,"停機時間"]
[null,"Ｆ破れ",null,null,"有/無",null,null,null,null,null,null,null,null,null,null,null,null,null,null,null,"hr"]
[null,"耳切れ",null,null,"有/無",null,null,null,null,null,null,null,null,null,null,null,null,null,null,null,"hr"]
[null,"紙管切断",null,null,"有/無",null,null,null,null,null,null,null,null,null,null,null,null,null,null,null,"hr"]
[null,"その他停機内容",null,null,null,null,null,null,null,null,null,null,null,null,null,null,null,null,null,null,"hr"]
[null,"備考"]
[]
[]
[]
[]
[]
[null,"外観確認内容"]
[null,"原反ズレ",null,null,null,"当てキズ",null,null,null,"溝ロール痕",null,null,null,"ＴＤスジ",null,null,null,"ピッチキズ"]
[null,"スリキズ",null,null,null,"クボミシワ",null,null,null,"シワムラ",null,null,null,"変色",null,null,null,"巻芯シワ"]
[null,"切断面・異物"]

{"sheet":"3丁-2丁(32)","index":18,"n_rows":71,"n_cols":25,"rows_kept":71,"cut":false,"hidden":false,"merged":[[69,1,69,4],[69,5,69,8],[69,9,69,12],[69,13,69,16],[69,17,69,21],[70,1,70,4],[60,7,60,16],[60,17,60,19],[68,1,68,4],[68,5,68,8],[68,9,68,12],[68,13,68,16],[68,17,68,21],[58,4,58,5],[58,7,58,16],[58,17,58,19],[59,4,59,5],[59,7,59,16],[59,17,59,19],[55,16,55,19],[55,20,55,22],[56,4,56,5],[57,4,57,5],[57,7,57,16],[57,17,57,19],[55,4,55,5],[55,6,55,7],[55,8,55,9],[55,10,55,11],[55,12,55,13],[55,14,55,15],[53,1,54,6],[53,7,53,10],[53,11,54,12],[53,13,54,13],[53,14,54,15],[53,16,54,22],[54,7,54,10],[46,13,46,14],[47,1,47,2],[47,3,47,4],[47,5,47,6],[47,7,47,8],[47,9,47,10],[47,11,47,12],[47,13,47,14],[46,1,46,2],[46,3,46,4],[46,5,46,6],[46,7,46,8],[46,9,46,10],[46,11,46,12],[44,1,44,14],[45,1,45,2],[45,3,45,4],[45,5,45,6],[45,7,45,8],[45,9,45,10],[45,11,45,12],[45,13,45,14],[39,15,39,22],[40,18,40,20],[41,18,41,20],[42,15,42,18],[42,19,42,22],[43,2,43,7],[43,8,43,13],[43,15,43,18],[43,19,43,22],[31,15,31,22],[32,15,32,18],[32,19,32,20],[32,21,32,22],[33,15,33,22],[34,15,34,22],[28,16,28,18],[28,19,28,22],[29,16,29,18],[29,19,29,20],[30,16,30,18],[30,19,30,20],[24,15,24,17],[24,18,24,22],[25,15,25,17],[25,18,25,22],[26,15,30,15],[26,16,26,18],[26,21,26,22],[27,16,27,18],[27,19,27,20],[27,21,27,22],[21,15,21,17],[21,18,21,22],[22,15,22,17],[22,18,22,22],[23,15,23,17],[23,18,23,22],[18,15,18,17],[18,18,18,22],[19,15,19,17],[19,18,19,22],[20,15,20,17],[20,18,20,22],[15,1,15,5],[15,8,15,11],[15,12,15,14],[15,16,15,18],[15,20,15,22],[16,1,17,1],[16,15,17,15],[16,16,17,18],[16,19,17,19],[16,20,17,22],[14,1,14,5],[14,6,14,7],[14,8,14,11],[14,12,14,14],[14,15,14,18],[14,19,14,22],[13,2,13,3],[13,4,13,5],[13,6,13,7],[13,11,13,14],[13,15,13,17],[13,18,13,20],[12,2,12,3],[12,4,12,5],[12,6,12,7],[12,11,12,14],[12,15,12,17],[12,18,12,20],[11,2,11,3],[11,4,11,5],[11,6,11,7],[11,11,11,14],[11,15,11,17],[11,18,11,20],[10,2,10,3],[10,4,10,5],[10,6,10,7],[10,11,10,14],[10,15,10,17],[10,18,10,20],[9,2,9,3],[9,4,9,5],[9,6,9,7],[9,11,9,14],[9,15,9,17],[9,18,9,20],[8,2,8,3],[8,4,8,5],[8,6,8,7],[8,11,8,14],[8,15,8,17],[8,18,8,20],[7,2,7,3],[7,4,7,5],[7,6,7,7],[7,11,7,14],[7,15,7,17],[7,18,7,20],[6,2,6,3],[6,4,6,5],[6,6,6,7],[6,11,6,14],[6,15,6,17],[6,18,6,20],[5,2,5,3],[5,4,5,5],[5,6,5,7],[5,11,5,14],[5,15,5,17],[5,18,5,20],[4,2,4,3],[4,4,4,5],[4,6,4,7],[4,11,4,14],[4,15,4,17],[4,18,4,20],[2,16,2,19],[2,20,2,22],[3,2,3,3],[3,4,3,5],[3,6,3,7],[3,11,3,14],[3,15,3,17],[3,18,3,20],[2,4,2,5],[2,6,2,7],[2,8,2,9],[2,10,2,11],[2,12,2,13],[2,14,2,15],[0,1,1,6],[0,7,1,10],[0,11,1,12],[0,13,1,13],[0,14,1,15],[0,16,1,22]]}
[null,"スリット伝票　ＬＯＴ",null,null,null,null,null,{"$f":"②OP記入欄改!$D$5","v":51023357021},null,null,null,"製区",null,{"$f":"②OP記入欄改!$D$7","v":"S"},"品種",null,{"$f":"②OP記入欄改!$D$8","v":"ＣＰＰ2703"}]
[]
[null,"番手",null,{"$f":"②OP記入欄改!$D$9","v":25},"原反名",null,{"$f":"②OP記入欄改!$D$10","v":9041},null,"原反幅",null,{"$f":"②OP記入欄改!$D$11","v":2080},null,"原反長",null,{"$f":"②OP記入欄改!$D$12","v":45000},null,"前工程M/C",null,null,null,{"$f":"②OP記入欄改!$D$13","v":"DF7"}]
[null,null,{"$f":"②OP記入欄改!G3","v":"仕向先"},null,{"$f":"②OP記入欄改!I3","v":"製品幅"},null,{"$f":"②OP記入欄改!K3","v":"製品長さ"},null,{"$f":"②OP記入欄改!M3","v":"計本"},{"$f":"②OP記入欄改!N3","v":"実"},{"$f":"②OP記入欄改!O3","v":"梱形"},"Ａ保枝番",null,null,null,"ミル枝番",null,null,"Ｂ級枝番",null,null,"ロック\nシャフト","コア"]
[null,{"$f":"②OP記入欄改!F4","v":1},{"$f":"②OP記入欄改!G4","v":"ＤＮＰ京都　３Ｄｏｒ３Ｄ６"},null,{"$f":"②OP記入欄改!I4","v":980},null,{"$f":"②OP記入欄改!K4","v":8000},null,{"$f":"②OP記入欄改!M4","v":5},{"$f":"②OP記入欄改!N4","v":0},{"$f":"②OP記入欄改!O4","v":"P"},null,null,null,null,null,null,null,null,null,null,"-",3,null,"-"]
[null,{"$f":"②OP記入欄改!F5","v":2},{"$f":"②OP記入欄改!G5","v":"ＤＮＰ京都　３Ｄｏｒ３Ｄ６"},null,{"$f":"②OP記入欄改!I5","v":1020},null,{"$f":"②OP記入欄改!K5","v":8000},null,{"$f":"②OP記入欄改!M5","v":5},{"$f":"②OP記入欄改!N5","v":0},{"$f":"②OP記入欄改!O5","v":"P"},null,null,null,null,null,null,null,null,null,null,"〇",3,null,"〇"]
[null,{"$f":"②OP記入欄改!F6","v":3},{"$f":"②OP記入欄改!G6","v":"４０００ｍ余剰分"},null,{"$f":"②OP記入欄改!I6","v":1020},null,{"$f":"②OP記入欄改!K6","v":4000},null,{"$f":"②OP記入欄改!M6","v":1},{"$f":"②OP記入欄改!N6","v":0}]
[null,{"$f":"②OP記入欄改!F7","v":4},{"$f":"②OP記入欄改!G7","v":"４０００ｍ余剰分"},null,{"$f":"②OP記入欄改!I7","v":980},null,{"$f":"②OP記入欄改!K7","v":4000},null,{"$f":"②OP記入欄改!M7","v":1},{"$f":"②OP記入欄改!N7","v":0},{"$f":"②OP記入欄改!O7","v":0}]
[null,{"$f":"②OP記入欄改!F8","v":5},{"$f":"②OP記入欄改!G8","v":0},null,{"$f":"②OP記入欄改!I8","v":0},null,{"$f":"②OP記入欄改!K8","v":0},null,{"$f":"②OP記入欄改!M8","v":0},{"$f":"②OP記入欄改!N8","v":0},{"$f":"②OP記入欄改!O8","v":0}]
[null,{"$f":"②OP記入欄改!F9","v":6},{"$f":"②OP記入欄改!G9","v":0},null,{"$f":"②OP記入欄改!I9","v":0},null,{"$f":"②OP記入欄改!K9","v":0},null,{"$f":"②OP記入欄改!M9","v":0},{"$f":"②OP記入欄改!N9","v":0},{"$f":"②OP記入欄改!O9","v":0}]
[null,{"$f":"②OP記入欄改!F10","v":7},{"$f":"②OP記入欄改!G10","v":0},null,{"$f":"②OP記入欄改!I10","v":0},null,{"$f":"②OP記入欄改!K10","v":0},null,{"$f":"②OP記入欄改!M10","v":0},{"$f":"②OP記入欄改!N10","v":0},{"$f":"②OP記入欄改!O10","v":0}]
[null,{"$f":"②OP記入欄改!F11","v":8},{"$f":"②OP記入欄改!G11","v":0},null,{"$f":"②OP記入欄改!I11","v":0},null,{"$f":"②OP記入欄改!K11","v":0},null,{"$f":"②OP記入欄改!M11","v":0},{"$f":"②OP記入欄改!N11","v":0},{"$f":"②OP記入欄改!O11","v":0}]
[null,{"$f":"②OP記入欄改!F12","v":9},{"$f":"②OP記入欄改!G12","v":0},null,{"$f":"②OP記入欄改!I12","v":0},null,{"$f":"②OP記入欄改!K12","v":0},null,{"$f":"②OP記入欄改!M12","v":0},{"$f":"②OP記入欄改!N12","v":0},{"$f":"②OP記入欄改!O12","v":0}]
[null,{"$f":"②OP記入欄改!F13","v":10},{"$f":"②OP記入欄改!G13","v":0},null,{"$f":"②OP記入欄改!I13","v":0},null,{"$f":"②OP記入欄改!K13","v":0},null,{"$f":"②OP記入欄改!M13","v":0},{"$f":"②OP記入欄改!N13","v":0},{"$f":"②OP記入欄改!O13","v":0}]
[null,"スリット作業指示№",null,null,null,null,"M/C№",null,"加工日",null,null,null,"前工程品質情報",null,null,"切断シフト1",null,null,null,"切断シフト2"]
[null,{"$f":"②OP記入欄改!$D$14","v":0},null,null,null,null,"ＳＬ-",{"$f":"②OP記入欄改!$D$15","v":19},{"$f":"②OP記入欄改!$D$4","v":"2025-10-23"},null,null,null,"確認　　　□",null,null,"組","作業者",null,null,"組","作業者"]
[null,"巻芯\n確認"]
[]
[null,null,null,null,null,null,null,null,null,null,null,null,null,null,null,"切替開始",null,null,"　　　　　時　　　　　分"]
[null,null,null,null,null,null,null,null,null,null,null,null,null,null,null,"切断開始",null,null,"　　　　　時　　　　　分"]
[null,null,null,null,null,null,null,null,null,null,null,null,null,null,null,"切断完了",null,null,"　　　　　時　　　　　分"]
[null,null,null,null,null,null,null,null,null,null,null,null,null,null,null,"食事開始",null,null,"　　　　　時　　　　　分"]
[null,null,null,null,null,null,null,null,null,null,null,null,null,null,null,"食事完了",null,null,"　　　　　時　　　　　分"]
[null,null,null,null,null,null,null,null,null,null,null,null,null,null,null,"停機開始",null,null,"　　　　　時　　　　　分"]
[null,null,null,null,null,null,null,null,null,null,null,null,null,null,null,"停機完了",null,null,"　　　　　時　　　　　分"]
[null,null,null,null,null,null,null,null,null,null,null,null,null,null,null,"停機理由"]
[null,null,null,null,null,null,null,null,null,null,null,null,null,null,null,"条件確認","M/C条件設定",null,null,"呼出№",null,{"$f":"②OP記入欄改!$D$16","v":2}]
[null,null,null,null,null,null,null,null,null,null,null,null,null,null,null,null,"欠点検出機",null,null,"使用条件№",null,{"$f":"②OP記入欄改!$D$17","v":1}]
[null,null,null,null,null,null,null,null,null,null,null,null,null,null,null,null,"速度(m/min)",null,null,480]
[null,null,null,null,null,null,null,null,null,null,null,null,null,null,null,null,"張力(N/ｍ・kg)"]
[null,null,null,null,null,null,null,null,null,null,null,null,null,null,null,null,"接圧(N/ｍ・kg)"]
[null,null,null,null,null,null,null,null,null,null,null,null,null,null,null,"外観確認"]
[null,null,null,null,null,null,null,null,null,null,null,null,null,null,null,"表層透過検査",null,null,null,"OK",null,"NG"]
[null,null,null,null,null,null,null,null,null,null,null,null,null,null,null,"巻姿外観確認[ｽﾀｰﾄ/中間/ﾗｽﾄ]"]
[null,null,null,null,null,null,null,null,null,null,null,null,null,null,null,"各枝番に問題無『〇』問題有『☓』を記載"]
[]
[]
[]
[]
[null,null,null,null,null,null,null,null,null,null,null,null,null,null,null,"※『☓』の場合は展開図に内容を記載する"]
[null,null,null,null,null,null,null,null,null,null,null,null,null,null,null,"検材エッジ",null,null,255]
[null,20,null,null,null,null,null,null,null,null,null,null,null,null,20,"表層ロス",null,null,100,null,null,"m"]
[null,null,null,null,null,null,null,null,null,null,null,null,null,null,null,"レザー/丸刃交換",null,null,null,"レザー/丸刃廃棄"]
[null,null,1020,null,null,null,null,null,980,null,null,null,null,null,null,"　枚",null,null,null,"　　枚"]
[null,"膜厚測定（ＣＰＰ・VMPET・BRPET）",null,null,null,null,null,null,null,null,null,null,null,null,null,"備考"]
[null,"ラスト"]
[null,"1セット表層"]
[null,"1セット芯"]
[]
[]
[]
[]
[]
[null,"スリット伝票　ＬＯＴ",null,null,null,null,null,{"$f":"②OP記入欄改!$D$5","v":51023357021},null,null,null,"製区",null,{"$f":"②OP記入欄改!$D$7","v":"S"},"品種",null,{"$f":"②OP記入欄改!$D$8","v":"ＣＰＰ2703"}]
[]
[null,"番手",null,{"$f":"②OP記入欄改!$D$9","v":25},"原反名",null,{"$f":"②OP記入欄改!$D$10","v":9041},null,"原反幅",null,{"$f":"②OP記入欄改!$D$11","v":2080},null,"原反長",null,{"$f":"②OP記入欄改!$D$12","v":45000},null,"前工程M/C",null,null,null,{"$f":"②OP記入欄改!$D$13","v":"DF7"}]
[null,"停機内容",null,null,null,null,null,"停機詳細",null,null,null,null,null,null,null,null,null,"停機時間"]
[null,"Ｆ破れ",null,null,"有/無",null,null,null,null,null,null,null,null,null,null,null,null,null,null,null,"hr"]
[null,"耳切れ",null,null,"有/無",null,null,null,null,null,null,null,null,null,null,null,null,null,null,null,"hr"]
[null,"紙管切断",null,null,"有/無",null,null,null,null,null,null,null,null,null,null,null,null,null,null,null,"hr"]
[null,"その他停機内容",null,null,null,null,null,null,null,null,null,null,null,null,null,null,null,null,null,null,"hr"]
[null,"備考"]
[]
[]
[]
[]
[]
[null,"外観確認内容"]
[null,"原反ズレ",null,null,null,"当てキズ",null,null,null,"溝ロール痕",null,null,null,"ＴＤスジ",null,null,null,"ピッチキズ"]
[null,"スリキズ",null,null,null,"クボミシワ",null,null,null,"シワムラ",null,null,null,"変色",null,null,null,"巻芯シワ"]
[null,"切断面・異物"]

{"sheet":"2丁(16)","index":19,"n_rows":71,"n_cols":25,"rows_kept":71,"cut":false,"hidden":false,"merged":[[69,1,69,4],[69,5,69,8],[69,9,69,12],[69,13,69,16],[69,17,69,21],[70,1,70,4],[60,7,60,16],[60,17,60,19],[68,1,68,4],[68,5,68,8],[68,9,68,12],[68,13,68,16],[68,17,68,21],[58,4,58,5],[58,7,58,16],[58,17,58,19],[59,4,59,5],[59,7,59,16],[59,17,59,19],[55,16,55,19],[55,20,55,22],[56,4,56,5],[57,4,57,5],[57,7,57,16],[57,17,57,19],[55,4,55,5],[55,6,55,7],[55,8,55,9],[55,10,55,11],[55,12,55,13],[55,14,55,15],[53,1,54,6],[53,7,53,10],[53,11,54,12],[53,13,54,13],[53,14,54,15],[53,16,54,22],[54,7,54,10],[46,13,46,14],[47,1,47,2],[47,3,47,4],[47,5,47,6],[47,7,47,8],[47,9,47,10],[47,11,47,12],[47,13,47,14],[46,1,46,2],[46,3,46,4],[46,5,46,6],[46,7,46,8],[46,9,46,10],[46,11,46,12],[44,1,44,14],[45,1,45,2],[45,3,45,4],[45,5,45,6],[45,7,45,8],[45,9,45,10],[45,11,45,12],[45,13,45,14],[39,15,39,22],[40,18,40,20],[41,18,41,20],[42,15,42,18],[42,19,42,22],[43,2,43,7],[43,8,43,13],[43,15,43,18],[43,19,43,22],[31,15,31,22],[32,15,32,18],[32,19,32,20],[32,21,32,22],[33,15,33,22],[34,15,34,22],[28,16,28,18],[28,19,28,22],[29,16,29,18],[29,19,29,20],[30,16,30,18],[30,19,30,20],[24,15,24,17],[24,18,24,22],[25,15,25,17],[25,18,25,22],[26,15,30,15],[26,16,26,18],[26,21,26,22],[27,16,27,18],[27,19,27,20],[27,21,27,22],[21,15,21,17],[21,18,21,22],[22,15,22,17],[22,18,22,22],[23,15,23,17],[23,18,23,22],[18,15,18,17],[18,18,18,22],[19,15,19,17],[19,18,19,22],[20,15,20,17],[20,18,20,22],[15,1,15,5],[15,8,15,11],[15,12,15,14],[15,16,15,18],[15,20,15,22],[16,1,17,1],[16,15,17,15],[16,16,17,18],[16,19,17,19],[16,20,17,22],[14,1,14,5],[14,6,14,7],[14,8,14,11],[14,12,14,14],[14,15,14,18],[14,19,14,22],[13,2,13,3],[13,4,13,5],[13,6,13,7],[13,11,13,14],[13,15,13,17],[13,18,13,20],[12,2,12,3],[12,4,12,5],[12,6,12,7],[12,11,12,14],[12,15,12,17],[12,18,12,20],[11,2,11,3],[11,4,11,5],[11,6,11,7],[11,11,11,14],[11,15,11,17],[11,18,11,20],[10,2,10,3],[10,4,10,5],[10,6,10,7],[10,11,10,14],[10,15,10,17],[10,18,10,20],[9,2,9,3],[9,4,9,5],[9,6,9,7],[9,11,9,14],[9,15,9,17],[9,18,9,20],[8,2,8,3],[8,4,8,5],[8,6,8,7],[8,11,8,14],[8,15,8,17],[8,18,8,20],[7,2,7,3],[7,4,7,5],[7,6,7,7],[7,11,7,14],[7,15,7,17],[7,18,7,20],[6,2,6,3],[6,4,6,5],[6,6,6,7],[6,11,6,14],[6,15,6,17],[6,18,6,20],[5,2,5,3],[5,4,5,5],[5,6,5,7],[5,11,5,14],[5,15,5,17],[5,18,5,20],[4,2,4,3],[4,4,4,5],[4,6,4,7],[4,11,4,14],[4,15,4,17],[4,18,4,20],[2,16,2,19],[2,20,2,22],[3,2,3,3],[3,4,3,5],[3,6,3,7],[3,11,3,14],[3,15,3,17],[3,18,3,20],[2,4,2,5],[2,6,2,7],[2,8,2,9],[2,10,2,11],[2,12,2,13],[2,14,2,15],[0,1,1,6],[0,7,1,10],[0,11,1,12],[0,13,1,13],[0,14,1,15],[0,16,1,22]]}
[null,"スリット伝票　ＬＯＴ",null,null,null,null,null,{"$f":"②OP記入欄改!$D$5","v":51023357021},null,null,null,"製区",null,{"$f":"②OP記入欄改!$D$7","v":"S"},"品種",null,{"$f":"②OP記入欄改!$D$8","v":"ＣＰＰ2703"}]
[]
[null,"番手",null,{"$f":"②OP記入欄改!$D$9","v":25},"原反名",null,{"$f":"②OP記入欄改!$D$10","v":9041},null,"原反幅",null,{"$f":"②OP記入欄改!$D$11","v":2080},null,"原反長",null,{"$f":"②OP記入欄改!$D$12","v":45000},null,"前工程M/C",null,null,null,{"$f":"②OP記入欄改!$D$13","v":"DF7"}]
[null,null,{"$f":"②OP記入欄改!G3","v":"仕向先"},null,{"$f":"②OP記入欄改!I3","v":"製品幅"},null,{"$f":"②OP記入欄改!K3","v":"製品長さ"},null,{"$f":"②OP記入欄改!M3","v":"計本"},{"$f":"②OP記入欄改!N3","v":"実"},{"$f":"②OP記入欄改!O3","v":"梱形"},"Ａ保枝番",null,null,null,"ミル枝番",null,null,"Ｂ級枝番",null,null,"ロック\nシャフト","コア"]
[null,{"$f":"②OP記入欄改!F4","v":1},{"$f":"②OP記入欄改!G4","v":"ＤＮＰ京都　３Ｄｏｒ３Ｄ６"},null,{"$f":"②OP記入欄改!I4","v":980},null,{"$f":"②OP記入欄改!K4","v":8000},null,{"$f":"②OP記入欄改!M4","v":5},{"$f":"②OP記入欄改!N4","v":0},{"$f":"②OP記入欄改!O4","v":"P"},null,null,null,null,null,null,null,null,null,null,"-",3,null,"-"]
[null,{"$f":"②OP記入欄改!F5","v":2},{"$f":"②OP記入欄改!G5","v":"ＤＮＰ京都　３Ｄｏｒ３Ｄ６"},null,{"$f":"②OP記入欄改!I5","v":1020},null,{"$f":"②OP記入欄改!K5","v":8000},null,{"$f":"②OP記入欄改!M5","v":5},{"$f":"②OP記入欄改!N5","v":0},{"$f":"②OP記入欄改!O5","v":"P"},null,null,null,null,null,null,null,null,null,null,"〇",3,null,"〇"]
[null,{"$f":"②OP記入欄改!F6","v":3},{"$f":"②OP記入欄改!G6","v":"４０００ｍ余剰分"},null,{"$f":"②OP記入欄改!I6","v":1020},null,{"$f":"②OP記入欄改!K6","v":4000},null,{"$f":"②OP記入欄改!M6","v":1},{"$f":"②OP記入欄改!N6","v":0}]
[null,{"$f":"②OP記入欄改!F7","v":4},{"$f":"②OP記入欄改!G7","v":"４０００ｍ余剰分"},null,{"$f":"②OP記入欄改!I7","v":980},null,{"$f":"②OP記入欄改!K7","v":4000},null,{"$f":"②OP記入欄改!M7","v":1},{"$f":"②OP記入欄改!N7","v":0},{"$f":"②OP記入欄改!O7","v":0}]
[null,{"$f":"②OP記入欄改!F8","v":5},{"$f":"②OP記入欄改!G8","v":0},null,{"$f":"②OP記入欄改!I8","v":0},null,{"$f":"②OP記入欄改!K8","v":0},null,{"$f":"②OP記入欄改!M8","v":0},{"$f":"②OP記入欄改!N8","v":0},{"$f":"②OP記入欄改!O8","v":0}]
[null,{"$f":"②OP記入欄改!F9","v":6},{"$f":"②OP記入欄改!G9","v":0},null,{"$f":"②OP記入欄改!I9","v":0},null,{"$f":"②OP記入欄改!K9","v":0},null,{"$f":"②OP記入欄改!M9","v":0},{"$f":"②OP記入欄改!N9","v":0},{"$f":"②OP記入欄改!O9","v":0}]
[null,{"$f":"②OP記入欄改!F10","v":7},{"$f":"②OP記入欄改!G10","v":0},null,{"$f":"②OP記入欄改!I10","v":0},null,{"$f":"②OP記入欄改!K10","v":0},null,{"$f":"②OP記入欄改!M10","v":0},{"$f":"②OP記入欄改!N10","v":0},{"$f":"②OP記入欄改!O10","v":0}]
[null,{"$f":"②OP記入欄改!F11","v":8},{"$f":"②OP記入欄改!G11","v":0},null,{"$f":"②OP記入欄改!I11","v":0},null,{"$f":"②OP記入欄改!K11","v":0},null,{"$f":"②OP記入欄改!M11","v":0},{"$f":"②OP記入欄改!N11","v":0},{"$f":"②OP記入欄改!O11","v":0}]
[null,{"$f":"②OP記入欄改!F12","v":9},{"$f":"②OP記入欄改!G12","v":0},null,{"$f":"②OP記入欄改!I12","v":0},null,{"$f":"②OP記入欄改!K12","v":0},null,{"$f":"②OP記入欄改!M12","v":0},{"$f":"②OP記入欄改!N12","v":0},{"$f":"②OP記入欄改!O12","v":0}]
[null,{"$f":"②OP記入欄改!F13","v":10},{"$f":"②OP記入欄改!G13","v":0},null,{"$f":"②OP記入欄改!I13","v":0},null,{"$f":"②OP記入欄改!K13","v":0},null,{"$f":"②OP記入欄改!M13","v":0},{"$f":"②OP記入欄改!N13","v":0},{"$f":"②OP記入欄改!O13","v":0}]
[null,"スリット作業指示№",null,null,null,null,"M/C№",null,"加工日",null,null,null,"前工程品質情報",null,null,"切断シフト1",null,null,null,"切断シフト2"]
[null,{"$f":"②OP記入欄改!$D$14","v":0},null,null,null,null,"ＳＬ-",{"$f":"②OP記入欄改!$D$15","v":19},{"$f":"②OP記入欄改!$D$4","v":"2025-10-23"},null,null,null,"確認　　　□",null,null,"組","作業者",null,null,"組","作業者"]
[null,"巻芯\n確認"]
[]
[null,null,null,null,null,null,null,null,null,null,null,null,null,null,null,"切替開始",null,null,"　　　　　時　　　　　分"]
[null,null,null,null,null,null,null,null,null,null,null,null,null,null,null,"切断開始",null,null,"　　　　　時　　　　　分"]
[null,null,null,null,null,null,null,null,null,null,null,null,null,null,null,"切断完了",null,null,"　　　　　時　　　　　分"]
[null,null,null,null,null,null,null,null,null,null,null,null,null,null,null,"食事開始",null,null,"　　　　　時　　　　　分"]
[null,null,null,null,null,null,null,null,null,null,null,null,null,null,null,"食事完了",null,null,"　　　　　時　　　　　分"]
[null,null,null,null,null,null,null,null,null,null,null,null,null,null,null,"停機開始",null,null,"　　　　　時　　　　　分"]
[null,null,null,null,null,null,null,null,null,null,null,null,null,null,null,"停機完了",null,null,"　　　　　時　　　　　分"]
[null,null,null,null,null,null,null,null,null,null,null,null,null,null,null,"停機理由"]
[null,null,null,null,null,null,null,null,null,null,null,null,null,null,null,"条件確認","M/C条件設定",null,null,"呼出№",null,{"$f":"②OP記入欄改!$D$16","v":2}]
[null,null,null,null,null,null,null,null,null,null,null,null,null,null,null,null,"欠点検出機",null,null,"使用条件№",null,{"$f":"②OP記入欄改!$D$17","v":1}]
[null,null,null,null,null,null,null,null,null,null,null,null,null,null,null,null,"速度(m/min)",null,null,480]
[null,null,null,null,null,null,null,null,null,null,null,null,null,null,null,null,"張力(N/ｍ・kg)"]
[null,null,null,null,null,null,null,null,null,null,null,null,null,null,null,null,"接圧(N/ｍ・kg)"]
[null,null,null,null,null,null,null,null,null,null,null,null,null,null,null,"外観確認"]
[null,null,null,null,null,null,null,null,null,null,null,null,null,null,null,"表層透過検査",null,null,null,"OK",null,"NG"]
[null,null,null,null,null,null,null,null,null,null,null,null,null,null,null,"巻姿外観確認[ｽﾀｰﾄ/中間/ﾗｽﾄ]"]
[null,null,null,null,null,null,null,null,null,null,null,null,null,null,null,"各枝番に問題無『〇』問題有『☓』を記載"]
[]
[]
[]
[]
[null,null,null,null,null,null,null,null,null,null,null,null,null,null,null,"※『☓』の場合は展開図に内容を記載する"]
[null,null,null,null,null,null,null,null,null,null,null,null,null,null,null,"検材エッジ",null,null,255]
[null,20,null,null,null,null,null,null,null,null,null,null,null,null,20,"表層ロス",null,null,100,null,null,"m"]
[null,null,null,null,null,null,null,null,null,null,null,null,null,null,null,"レザー/丸刃交換",null,null,null,"レザー/丸刃廃棄"]
[null,null,1020,null,null,null,null,null,980,null,null,null,null,null,null,"　枚",null,null,null,"　　枚"]
[null,"膜厚測定（ＣＰＰ・VMPET・BRPET）",null,null,null,null,null,null,null,null,null,null,null,null,null,"備考"]
[null,"ラスト"]
[null,"1セット表層"]
[null,"1セット芯"]
[]
[]
[]
[]
[]
[null,"スリット伝票　ＬＯＴ",null,null,null,null,null,{"$f":"②OP記入欄改!$D$5","v":51023357021},null,null,null,"製区",null,{"$f":"②OP記入欄改!$D$7","v":"S"},"品種",null,{"$f":"②OP記入欄改!$D$8","v":"ＣＰＰ2703"}]
[]
[null,"番手",null,{"$f":"②OP記入欄改!$D$9","v":25},"原反名",null,{"$f":"②OP記入欄改!$D$10","v":9041},null,"原反幅",null,{"$f":"②OP記入欄改!$D$11","v":2080},null,"原反長",null,{"$f":"②OP記入欄改!$D$12","v":45000},null,"前工程M/C",null,null,null,{"$f":"②OP記入欄改!$D$13","v":"DF7"}]
[null,"停機内容",null,null,null,null,null,"停機詳細",null,null,null,null,null,null,null,null,null,"停機時間"]
[null,"Ｆ破れ",null,null,"有/無",null,null,null,null,null,null,null,null,null,null,null,null,null,null,null,"hr"]
[null,"耳切れ",null,null,"有/無",null,null,null,null,null,null,null,null,null,null,null,null,null,null,null,"hr"]
[null,"紙管切断",null,null,"有/無",null,null,null,null,null,null,null,null,null,null,null,null,null,null,null,"hr"]
[null,"その他停機内容",null,null,null,null,null,null,null,null,null,null,null,null,null,null,null,null,null,null,"hr"]
[null,"備考"]
[]
[]
[]
[]
[]
[null,"外観確認内容"]
[null,"原反ズレ",null,null,null,"当てキズ",null,null,null,"溝ロール痕",null,null,null,"ＴＤスジ",null,null,null,"ピッチキズ"]
[null,"スリキズ",null,null,null,"クボミシワ",null,null,null,"シワムラ",null,null,null,"変色",null,null,null,"巻芯シワ"]
[null,"切断面・異物"]

{"sheet":"3丁(24)","index":20,"n_rows":71,"n_cols":25,"rows_kept":71,"cut":false,"hidden":false,"merged":[[69,1,69,4],[69,5,69,8],[69,9,69,12],[69,13,69,16],[69,17,69,21],[70,1,70,4],[60,7,60,16],[60,17,60,19],[68,1,68,4],[68,5,68,8],[68,9,68,12],[68,13,68,16],[68,17,68,21],[58,4,58,5],[58,7,58,16],[58,17,58,19],[59,4,59,5],[59,7,59,16],[59,17,59,19],[55,16,55,19],[55,20,55,22],[56,4,56,5],[57,4,57,5],[57,7,57,16],[57,17,57,19],[55,4,55,5],[55,6,55,7],[55,8,55,9],[55,10,55,11],[55,12,55,13],[55,14,55,15],[53,1,54,6],[53,7,53,10],[53,11,54,12],[53,13,54,13],[53,14,54,15],[53,16,54,22],[54,7,54,10],[46,13,46,14],[47,1,47,2],[47,3,47,4],[47,5,47,6],[47,7,47,8],[47,9,47,10],[47,11,47,12],[47,13,47,14],[46,1,46,2],[46,3,46,4],[46,5,46,6],[46,7,46,8],[46,9,46,10],[46,11,46,12],[44,1,44,14],[45,1,45,2],[45,3,45,4],[45,5,45,6],[45,7,45,8],[45,9,45,10],[45,11,45,12],[45,13,45,14],[39,15,39,22],[40,18,40,20],[41,18,41,20],[42,15,42,18],[42,19,42,22],[43,2,43,7],[43,8,43,13],[43,15,43,18],[43,19,43,22],[31,15,31,22],[32,15,32,18],[32,19,32,20],[32,21,32,22],[33,15,33,22],[34,15,34,22],[28,16,28,18],[28,19,28,22],[29,16,29,18],[29,19,29,20],[30,16,30,18],[30,19,30,20],[24,15,24,17],[24,18,24,22],[25,15,25,17],[25,18,25,22],[26,15,30,15],[26,16,26,18],[26,21,26,22],[27,16,27,18],[27,19,27,20],[27,21,27,22],[21,15,21,17],[21,18,21,22],[22,15,22,17],[22,18,22,22],[23,15,23,17],[23,18,23,22],[18,15,18,17],[18,18,18,22],[19,15,19,17],[19,18,19,22],[20,15,20,17],[20,18,20,22],[15,1,15,5],[15,8,15,11],[15,12,15,14],[15,16,15,18],[15,20,15,22],[16,1,17,1],[16,15,17,15],[16,16,17,18],[16,19,17,19],[16,20,17,22],[14,1,14,5],[14,6,14,7],[14,8,14,11],[14,12,14,14],[14,15,14,18],[14,19,14,22],[13,2,13,3],[13,4,13,5],[13,6,13,7],[13,11,13,14],[13,15,13,17],[13,18,13,20],[12,2,12,3],[12,4,12,5],[12,6,12,7],[12,11,12,14],[12,15,12,17],[12,18,12,20],[11,2,11,3],[11,4,11,5],[11,6,11,7],[11,11,11,14],[11,15,11,17],[11,18,11,20],[10,2,10,3],[10,4,10,5],[10,6,10,7],[10,11,10,14],[10,15,10,17],[10,18,10,20],[9,2,9,3],[9,4,9,5],[9,6,9,7],[9,11,9,14],[9,15,9,17],[9,18,9,20],[8,2,8,3],[8,4,8,5],[8,6,8,7],[8,11,8,14],[8,15,8,17],[8,18,8,20],[7,2,7,3],[7,4,7,5],[7,6,7,7],[7,11,7,14],[7,15,7,17],[7,18,7,20],[6,2,6,3],[6,4,6,5],[6,6,6,7],[6,11,6,14],[6,15,6,17],[6,18,6,20],[5,2,5,3],[5,4,5,5],[5,6,5,7],[5,11,5,14],[5,15,5,17],[5,18,5,20],[4,2,4,3],[4,4,4,5],[4,6,4,7],[4,11,4,14],[4,15,4,17],[4,18,4,20],[2,16,2,19],[2,20,2,22],[3,2,3,3],[3,4,3,5],[3,6,3,7],[3,11,3,14],[3,15,3,17],[3,18,3,20],[2,4,2,5],[2,6,2,7],[2,8,2,9],[2,10,2,11],[2,12,2,13],[2,14,2,15],[0,1,1,6],[0,7,1,10],[0,11,1,12],[0,13,1,13],[0,14,1,15],[0,16,1,22]]}
[null,"スリット伝票　ＬＯＴ",null,null,null,null,null,{"$f":"②OP記入欄改!$D$5","v":51023357021},null,null,null,"製区",null,{"$f":"②OP記入欄改!$D$7","v":"S"},"品種",null,{"$f":"②OP記入欄改!$D$8","v":"ＣＰＰ2703"}]
[]
[null,"番手",null,{"$f":"②OP記入欄改!$D$9","v":25},"原反名",null,{"$f":"②OP記入欄改!$D$10","v":9041},null,"原反幅",null,{"$f":"②OP記入欄改!$D$11","v":2080},null,"原反長",null,{"$f":"②OP記入欄改!$D$12","v":45000},null,"前工程M/C",null,null,null,{"$f":"②OP記入欄改!$D$13","v":"DF7"}]
[null,null,{"$f":"②OP記入欄改!G3","v":"仕向先"},null,{"$f":"②OP記入欄改!I3","v":"製品幅"},null,{"$f":"②OP記入欄改!K3","v":"製品長さ"},null,{"$f":"②OP記入欄改!M3","v":"計本"},{"$f":"②OP記入欄改!N3","v":"実"},{"$f":"②OP記入欄改!O3","v":"梱形"},"Ａ保枝番",null,null,null,"ミル枝番",null,null,"Ｂ級枝番",null,null,"ロック\nシャフト","コア"]
[null,{"$f":"②OP記入欄改!F4","v":1},{"$f":"②OP記入欄改!G4","v":"ＤＮＰ京都　３Ｄｏｒ３Ｄ６"},null,{"$f":"②OP記入欄改!I4","v":980},null,{"$f":"②OP記入欄改!K4","v":8000},null,{"$f":"②OP記入欄改!M4","v":5},{"$f":"②OP記入欄改!N4","v":0},{"$f":"②OP記入欄改!O4","v":"P"},null,null,null,null,null,null,null,null,null,null,"-",3,null,"-"]
[null,{"$f":"②OP記入欄改!F5","v":2},{"$f":"②OP記入欄改!G5","v":"ＤＮＰ京都　３Ｄｏｒ３Ｄ６"},null,{"$f":"②OP記入欄改!I5","v":1020},null,{"$f":"②OP記入欄改!K5","v":8000},null,{"$f":"②OP記入欄改!M5","v":5},{"$f":"②OP記入欄改!N5","v":0},{"$f":"②OP記入欄改!O5","v":"P"},null,null,null,null,null,null,null,null,null,null,"〇",3,null,"〇"]
[null,{"$f":"②OP記入欄改!F6","v":3},{"$f":"②OP記入欄改!G6","v":"４０００ｍ余剰分"},null,{"$f":"②OP記入欄改!I6","v":1020},null,{"$f":"②OP記入欄改!K6","v":4000},null,{"$f":"②OP記入欄改!M6","v":1},{"$f":"②OP記入欄改!N6","v":0}]
[null,{"$f":"②OP記入欄改!F7","v":4},{"$f":"②OP記入欄改!G7","v":"４０００ｍ余剰分"},null,{"$f":"②OP記入欄改!I7","v":980},null,{"$f":"②OP記入欄改!K7","v":4000},null,{"$f":"②OP記入欄改!M7","v":1},{"$f":"②OP記入欄改!N7","v":0},{"$f":"②OP記入欄改!O7","v":0}]
[null,{"$f":"②OP記入欄改!F8","v":5},{"$f":"②OP記入欄改!G8","v":0},null,{"$f":"②OP記入欄改!I8","v":0},null,{"$f":"②OP記入欄改!K8","v":0},null,{"$f":"②OP記入欄改!M8","v":0},{"$f":"②OP記入欄改!N8","v":0},{"$f":"②OP記入欄改!O8","v":0}]
[null,{"$f":"②OP記入欄改!F9","v":6},{"$f":"②OP記入欄改!G9","v":0},null,{"$f":"②OP記入欄改!I9","v":0},null,{"$f":"②OP記入欄改!K9","v":0},null,{"$f":"②OP記入欄改!M9","v":0},{"$f":"②OP記入欄改!N9","v":0},{"$f":"②OP記入欄改!O9","v":0}]
[null,{"$f":"②OP記入欄改!F10","v":7},{"$f":"②OP記入欄改!G10","v":0},null,{"$f":"②OP記入欄改!I10","v":0},null,{"$f":"②OP記入欄改!K10","v":0},null,{"$f":"②OP記入欄改!M10","v":0},{"$f":"②OP記入欄改!N10","v":0},{"$f":"②OP記入欄改!O10","v":0}]
[null,{"$f":"②OP記入欄改!F11","v":8},{"$f":"②OP記入欄改!G11","v":0},null,{"$f":"②OP記入欄改!I11","v":0},null,{"$f":"②OP記入欄改!K11","v":0},null,{"$f":"②OP記入欄改!M11","v":0},{"$f":"②OP記入欄改!N11","v":0},{"$f":"②OP記入欄改!O11","v":0}]
[null,{"$f":"②OP記入欄改!F12","v":9},{"$f":"②OP記入欄改!G12","v":0},null,{"$f":"②OP記入欄改!I12","v":0},null,{"$f":"②OP記入欄改!K12","v":0},null,{"$f":"②OP記入欄改!M12","v":0},{"$f":"②OP記入欄改!N12","v":0},{"$f":"②OP記入欄改!O12","v":0}]
[null,{"$f":"②OP記入欄改!F13","v":10},{"$f":"②OP記入欄改!G13","v":0},null,{"$f":"②OP記入欄改!I13","v":0},null,{"$f":"②OP記入欄改!K13","v":0},null,{"$f":"②OP記入欄改!M13","v":0},{"$f":"②OP記入欄改!N13","v":0},{"$f":"②OP記入欄改!O13","v":0}]
[null,"スリット作業指示№",null,null,null,null,"M/C№",null,"加工日",null,null,null,"前工程品質情報",null,null,"切断シフト1",null,null,null,"切断シフト2"]
[null,{"$f":"②OP記入欄改!$D$14","v":0},null,null,null,null,"ＳＬ-",{"$f":"②OP記入欄改!$D$15","v":19},{"$f":"②OP記入欄改!$D$4","v":"2025-10-23"},null,null,null,"確認　　　□",null,null,"組","作業者",null,null,"組","作業者"]
[null,"巻芯\n確認"]
[]
[null,null,null,null,null,null,null,null,null,null,null,null,null,null,null,"切替開始",null,null,"　　　　　時　　　　　分"]
[null,null,null,null,null,null,null,null,null,null,null,null,null,null,null,"切断開始",null,null,"　　　　　時　　　　　分"]
[null,null,null,null,null,null,null,null,null,null,null,null,null,null,null,"切断完了",null,null,"　　　　　時　　　　　分"]
[null,null,null,null,null,null,null,null,null,null,null,null,null,null,null,"食事開始",null,null,"　　　　　時　　　　　分"]
[null,null,null,null,null,null,null,null,null,null,null,null,null,null,null,"食事完了",null,null,"　　　　　時　　　　　分"]
[null,null,null,null,null,null,null,null,null,null,null,null,null,null,null,"停機開始",null,null,"　　　　　時　　　　　分"]
[null,null,null,null,null,null,null,null,null,null,null,null,null,null,null,"停機完了",null,null,"　　　　　時　　　　　分"]
[null,null,null,null,null,null,null,null,null,null,null,null,null,null,null,"停機理由"]
[null,null,null,null,null,null,null,null,null,null,null,null,null,null,null,"条件確認","M/C条件設定",null,null,"呼出№",null,{"$f":"②OP記入欄改!$D$16","v":2}]
[null,null,null,null,null,null,null,null,null,null,null,null,null,null,null,null,"欠点検出機",null,null,"使用条件№",null,{"$f":"②OP記入欄改!$D$17","v":1}]
[null,null,null,null,null,null,null,null,null,null,null,null,null,null,null,null,"速度(m/min)",null,null,480]
[null,null,null,null,null,null,null,null,null,null,null,null,null,null,null,null,"張力(N/ｍ・kg)"]
[null,null,null,null,null,null,null,null,null,null,null,null,null,null,null,null,"接圧(N/ｍ・kg)"]
[null,null,null,null,null,null,null,null,null,null,null,null,null,null,null,"外観確認"]
[null,null,null,null,null,null,null,null,null,null,null,null,null,null,null,"表層透過検査",null,null,null,"OK",null,"NG"]
[null,null,null,null,null,null,null,null,null,null,null,null,null,null,null,"巻姿外観確認[ｽﾀｰﾄ/中間/ﾗｽﾄ]"]
[null,null,null,null,null,null,null,null,null,null,null,null,null,null,null,"各枝番に問題無『〇』問題有『☓』を記載"]
[]
[]
[]
[]
[null,null,null,null,null,null,null,null,null,null,null,null,null,null,null,"※『☓』の場合は展開図に内容を記載する"]
[null,null,null,null,null,null,null,null,null,null,null,null,null,null,null,"検材エッジ",null,null,255]
[null,20,null,null,null,null,null,null,null,null,null,null,null,null,20,"表層ロス",null,null,100,null,null,"m"]
[null,null,null,null,null,null,null,null,null,null,null,null,null,null,null,"レザー/丸刃交換",null,null,null,"レザー/丸刃廃棄"]
[null,null,1020,null,null,null,null,null,980,null,null,null,null,null,null,"　枚",null,null,null,"　　枚"]
[null,"膜厚測定（ＣＰＰ・VMPET・BRPET）",null,null,null,null,null,null,null,null,null,null,null,null,null,"備考"]
[null,"ラスト"]
[null,"1セット表層"]
[null,"1セット芯"]
[]
[]
[]
[]
[]
[null,"スリット伝票　ＬＯＴ",null,null,null,null,null,{"$f":"②OP記入欄改!$D$5","v":51023357021},null,null,null,"製区",null,{"$f":"②OP記入欄改!$D$7","v":"S"},"品種",null,{"$f":"②OP記入欄改!$D$8","v":"ＣＰＰ2703"}]
[]
[null,"番手",null,{"$f":"②OP記入欄改!$D$9","v":25},"原反名",null,{"$f":"②OP記入欄改!$D$10","v":9041},null,"原反幅",null,{"$f":"②OP記入欄改!$D$11","v":2080},null,"原反長",null,{"$f":"②OP記入欄改!$D$12","v":45000},null,"前工程M/C",null,null,null,{"$f":"②OP記入欄改!$D$13","v":"DF7"}]
[null,"停機内容",null,null,null,null,null,"停機詳細",null,null,null,null,null,null,null,null,null,"停機時間"]
[null,"Ｆ破れ",null,null,"有/無",null,null,null,null,null,null,null,null,null,null,null,null,null,null,null,"hr"]
[null,"耳切れ",null,null,"有/無",null,null,null,null,null,null,null,null,null,null,null,null,null,null,null,"hr"]
[null,"紙管切断",null,null,"有/無",null,null,null,null,null,null,null,null,null,null,null,null,null,null,null,"hr"]
[null,"その他停機内容",null,null,null,null,null,null,null,null,null,null,null,null,null,null,null,null,null,null,"hr"]
[null,"備考"]
[]
[]
[]
[]
[]
[null,"外観確認内容"]
[null,"原反ズレ",null,null,null,"当てキズ",null,null,null,"溝ロール痕",null,null,null,"ＴＤスジ",null,null,null,"ピッチキズ"]
[null,"スリキズ",null,null,null,"クボミシワ",null,null,null,"シワムラ",null,null,null,"変色",null,null,null,"巻芯シワ"]
[null,"切断面・異物"]

{"sheet":"CPP ＃25 4000","index":21,"n_rows":71,"n_cols":25,"rows_kept":71,"cut":false,"hidden":false,"merged":[[0,7,1,10],[43,2,43,7],[43,8,43,13],[70,1,70,4],[68,1,68,4],[68,5,68,8],[68,9,68,12],[68,13,68,16],[68,17,68,21],[69,1,69,4],[69,5,69,8],[69,9,69,12],[69,13,69,16],[69,17,69,21],[60,7,60,16],[60,17,60,19],[58,4,58,5],[58,7,58,16],[58,17,58,19],[59,4,59,5],[59,7,59,16],[59,17,59,19],[55,16,55,19],[55,20,55,22],[56,4,56,5],[57,4,57,5],[57,7,57,16],[57,17,57,19],[55,4,55,5],[55,6,55,7],[55,8,55,9],[55,10,55,11],[55,12,55,13],[55,14,55,15],[53,1,54,6],[53,7,53,10],[53,11,54,12],[53,13,54,13],[53,14,54,15],[53,16,54,22],[54,7,54,10],[46,13,46,14],[47,1,47,2],[47,3,47,4],[47,5,47,6],[47,7,47,8],[47,9,47,10],[47,11,47,12],[47,13,47,14],[46,1,46,2],[46,3,46,4],[46,5,46,6],[46,7,46,8],[46,9,46,10],[46,11,46,12],[44,1,44,14],[45,1,45,2],[45,3,45,4],[45,5,45,6],[45,7,45,8],[45,9,45,10],[45,11,45,12],[45,13,45,14],[39,15,39,22],[42,15,42,18],[42,19,42,22],[43,15,43,18],[43,19,43,22],[40,18,40,20],[41,18,41,20],[31,15,31,22],[32,15,32,18],[32,19,32,20],[32,21,32,22],[33,15,33,22],[34,15,34,22],[24,15,24,17],[24,18,24,22],[25,15,25,17],[25,18,25,22],[26,15,30,15],[26,16,26,18],[27,16,27,18],[28,16,28,18],[29,16,29,18],[30,16,30,18],[27,19,27,20],[27,21,27,22],[28,19,28,22],[29,19,29,20],[30,19,30,20],[26,21,26,22],[21,15,21,17],[21,18,21,22],[22,15,22,17],[22,18,22,22],[23,15,23,17],[23,18,23,22],[18,15,18,17],[18,18,18,22],[19,15,19,17],[19,18,19,22],[20,15,20,17],[20,18,20,22],[15,1,15,5],[15,8,15,11],[15,12,15,14],[15,16,15,18],[15,20,15,22],[16,1,17,1],[16,15,17,15],[16,16,17,18],[16,19,17,19],[16,20,17,22],[14,1,14,5],[14,6,14,7],[14,8,14,11],[14,12,14,14],[14,15,14,18],[14,19,14,22],[13,2,13,3],[13,4,13,5],[13,6,13,7],[13,11,13,14],[13,15,13,17],[13,18,13,20],[12,2,12,3],[12,4,12,5],[12,6,12,7],[12,11,12,14],[12,15,12,17],[12,18,12,20],[11,2,11,3],[11,4,11,5],[11,6,11,7],[11,11,11,14],[11,15,11,17],[11,18,11,20],[10,2,10,3],[10,4,10,5],[10,6,10,7],[10,11,10,14],[10,15,10,17],[10,18,10,20],[9,2,9,3],[9,4,9,5],[9,6,9,7],[9,11,9,14],[9,15,9,17],[9,18,9,20],[8,2,8,3],[8,4,8,5],[8,6,8,7],[8,11,8,14],[8,15,8,17],[8,18,8,20],[7,2,7,3],[7,4,7,5],[7,6,7,7],[7,11,7,14],[7,15,7,17],[7,18,7,20],[2,14,2,15],[6,2,6,3],[6,4,6,5],[6,6,6,7],[6,11,6,14],[6,15,6,17],[6,18,6,20],[5,2,5,3],[5,4,5,5],[5,6,5,7],[5,11,5,14],[5,15,5,17],[5,18,5,20],[0,1,1,6],[0,11,1,12],[0,13,1,13],[0,14,1,15],[0,16,1,22],[4,2,4,3],[4,4,4,5],[4,6,4,7],[4,11,4,14],[4,15,4,17],[4,18,4,20],[2,16,2,19],[2,20,2,22],[3,2,3,3],[3,4,3,5],[3,6,3,7],[3,11,3,14],[3,15,3,17],[3,18,3,20],[2,4,2,5],[2,6,2,7],[2,8,2,9],[2,10,2,11],[2,12,2,13]]}
[null,"スリット伝票　ＬＯＴ",null,null,null,null,null,{"$f":"②OP記入欄改!$D$5","v":51023357021},null,null,null,"製区",null,{"$f":"②OP記入欄改!$D$7","v":"S"},"品種",null,{"$f":"②OP記入欄改!$D$8","v":"ＣＰＰ2703"}]
[]
[null,"番手",null,{"$f":"②OP記入欄改!$D$9","v":25},"原反名",null,{"$f":"②OP記入欄改!$D$10","v":9041},null,"原反幅",null,{"$f":"②OP記入欄改!$D$11","v":2080},null,"原反長",null,{"$f":"②OP記入欄改!$D$12","v":45000},null,"前工程M/C",null,null,null,{"$f":"②OP記入欄改!$D$13","v":"DF7"}]
[null,null,{"$f":"②OP記入欄改!G3","v":"仕向先"},null,{"$f":"②OP記入欄改!I3","v":"製品幅"},null,{"$f":"②OP記入欄改!K3","v":"製品長さ"},null,{"$f":"②OP記入欄改!M3","v":"計本"},{"$f":"②OP記入欄改!N3","v":"実"},{"$f":"②OP記入欄改!O3","v":"梱形"},"Ａ保枝番",null,null,null,"ミル枝番",null,null,"Ｂ級枝番",null,null,"ロック\nシャフト","コア"]
[null,{"$f":"②OP記入欄改!F4","v":1},{"$f":"②OP記入欄改!G4","v":"ＤＮＰ京都　３Ｄｏｒ３Ｄ６"},null,{"$f":"②OP記入欄改!I4","v":980},null,{"$f":"②OP記入欄改!K4","v":8000},null,{"$f":"②OP記入欄改!M4","v":5},{"$f":"②OP記入欄改!N4","v":0},{"$f":"②OP記入欄改!O4","v":"P"},null,null,null,null,null,null,null,null,null,null,"-",3,null,"-"]
[null,{"$f":"②OP記入欄改!F5","v":2},{"$f":"②OP記入欄改!G5","v":"ＤＮＰ京都　３Ｄｏｒ３Ｄ６"},null,{"$f":"②OP記入欄改!I5","v":1020},null,{"$f":"②OP記入欄改!K5","v":8000},null,{"$f":"②OP記入欄改!M5","v":5},{"$f":"②OP記入欄改!N5","v":0},{"$f":"②OP記入欄改!O5","v":"P"},null,null,null,null,null,null,null,null,null,null,"〇",3,null,"〇"]
[null,{"$f":"②OP記入欄改!F6","v":3},{"$f":"②OP記入欄改!G6","v":"４０００ｍ余剰分"},null,{"$f":"②OP記入欄改!I6","v":1020},null,{"$f":"②OP記入欄改!K6","v":4000},null,{"$f":"②OP記入欄改!M6","v":1},{"$f":"②OP記入欄改!N6","v":0}]
[null,{"$f":"②OP記入欄改!F7","v":4},{"$f":"②OP記入欄改!G7","v":"４０００ｍ余剰分"},null,{"$f":"②OP記入欄改!I7","v":980},null,{"$f":"②OP記入欄改!K7","v":4000},null,{"$f":"②OP記入欄改!M7","v":1},{"$f":"②OP記入欄改!N7","v":0},{"$f":"②OP記入欄改!O7","v":0}]
[null,{"$f":"②OP記入欄改!F8","v":5},{"$f":"②OP記入欄改!G8","v":0},null,{"$f":"②OP記入欄改!I8","v":0},null,{"$f":"②OP記入欄改!K8","v":0},null,{"$f":"②OP記入欄改!M8","v":0},{"$f":"②OP記入欄改!N8","v":0},{"$f":"②OP記入欄改!O8","v":0}]
[null,{"$f":"②OP記入欄改!F9","v":6},{"$f":"②OP記入欄改!G9","v":0},null,{"$f":"②OP記入欄改!I9","v":0},null,{"$f":"②OP記入欄改!K9","v":0},null,{"$f":"②OP記入欄改!M9","v":0},{"$f":"②OP記入欄改!N9","v":0},{"$f":"②OP記入欄改!O9","v":0}]
[null,{"$f":"②OP記入欄改!F10","v":7},{"$f":"②OP記入欄改!G10","v":0},null,{"$f":"②OP記入欄改!I10","v":0},null,{"$f":"②OP記入欄改!K10","v":0},null,{"$f":"②OP記入欄改!M10","v":0},{"$f":"②OP記入欄改!N10","v":0},{"$f":"②OP記入欄改!O10","v":0}]
[null,{"$f":"②OP記入欄改!F11","v":8},{"$f":"②OP記入欄改!G11","v":0},null,{"$f":"②OP記入欄改!I11","v":0},null,{"$f":"②OP記入欄改!K11","v":0},null,{"$f":"②OP記入欄改!M11","v":0},{"$f":"②OP記入欄改!N11","v":0},{"$f":"②OP記入欄改!O11","v":0}]
[null,{"$f":"②OP記入欄改!F12","v":9},{"$f":"②OP記入欄改!G12","v":0},null,{"$f":"②OP記入欄改!I12","v":0},null,{"$f":"②OP記入欄改!K12","v":0},null,{"$f":"②OP記入欄改!M12","v":0},{"$f":"②OP記入欄改!N12","v":0},{"$f":"②OP記入欄改!O12","v":0}]
[null,{"$f":"②OP記入欄改!F13","v":10},{"$f":"②OP記入欄改!G13","v":0},null,{"$f":"②OP記入欄改!I13","v":0},null,{"$f":"②OP記入欄改!K13","v":0},null,{"$f":"②OP記入欄改!M13","v":0},{"$f":"②OP記入欄改!N13","v":0},{"$f":"②OP記入欄改!O13","v":0}]
[null,"スリット作業指示№",null,null,null,null,"M/C№",null,"加工日",null,null,null,"前工程品質情報",null,null,"切断シフト1",null,null,null,"切断シフト2"]
[null,{"$f":"②OP記入欄改!$D$14","v":0},null,null,null,null,"ＳＬ-",{"$f":"②OP記入欄改!$D$15","v":19},{"$f":"②OP記入欄改!$D$4","v":"2025-10-23"},null,null,null,"確認　　　□",null,null,"組","作業者",null,null,"組","作業者"]
[null,"巻芯\n確認"]
[]
[null,null,null,null,null,null,null,null,null,null,null,null,null,null,null,"切替開始",null,null,"　　　　　時　　　　　分"]
[null,null,null,null,null,null,null,null,null,null,null,null,null,null,null,"切断開始",null,null,"　　　　　時　　　　　分"]
[null,null,null,null,null,null,null,null,null,null,null,null,null,null,null,"切断完了",null,null,"　　　　　時　　　　　分"]
[null,null,null,null,null,null,null,null,null,null,null,null,null,null,null,"食事開始",null,null,"　　　　　時　　　　　分"]
[null,null,null,null,null,null,null,null,null,null,null,null,null,null,null,"食事完了",null,null,"　　　　　時　　　　　分"]
[null,null,null,null,null,null,null,null,null,null,null,null,null,null,null,"停機開始",null,null,"　　　　　時　　　　　分"]
[null,null,null,null,null,null,null,null,null,null,null,null,null,null,null,"停機完了",null,null,"　　　　　時　　　　　分"]
[null,null,null,null,null,null,null,null,null,null,null,null,null,null,null,"停機理由"]
[null,null,null,null,null,null,null,null,null,null,null,null,null,null,null,"条件確認","M/C条件設定",null,null,"呼出№",null,{"$f":"②OP記入欄改!$D$16","v":2}]
[null,null,null,null,null,null,null,null,null,null,null,null,null,null,null,null,"欠点検出機",null,null,"使用条件№",null,{"$f":"②OP記入欄改!$D$17","v":1}]
[null,null,null,null,null,null,null,null,null,null,null,null,null,null,null,null,"速度(m/min)",null,null,480]
[null,null,null,null,null,null,null,null,null,null,null,null,null,null,null,null,"張力(N/ｍ・kg)"]
[null,null,null,null,null,null,null,null,null,null,null,null,null,null,null,null,"接圧(N/ｍ・kg)"]
[null,null,null,null,null,null,null,null,null,null,null,null,null,null,null,"外観確認"]
[null,null,null,null,null,null,null,null,null,null,null,null,null,null,null,"表層透過検査",null,null,null,"OK",null,"NG"]
[null,null,null,null,null,null,null,null,null,null,null,null,null,null,null,"巻姿外観確認[ｽﾀｰﾄ/中間/ﾗｽﾄ]"]
[null,null,null,null,null,null,null,null,null,null,null,null,null,null,null,"各枝番に問題無『〇』問題有『☓』を記載"]
[]
[]
[]
[]
[null,null,null,null,null,null,null,null,null,null,null,null,null,null,null,"※『☓』の場合は展開図に内容を記載する"]
[null,null,null,null,null,null,null,null,null,null,null,null,null,null,null,"検材エッジ",null,null,255]
[null,20,null,null,null,null,null,null,null,null,null,null,null,null,20,"表層ロス",null,null,100,null,null,"m"]
[null,null,null,null,null,null,null,null,null,null,null,null,null,null,null,"レザー/丸刃交換",null,null,null,"レザー/丸刃廃棄"]
[null,null,1020,null,null,null,null,null,980,null,null,null,null,null,null,"　枚",null,null,null,"　　枚"]
[null,"膜厚測定（ＣＰＰ・VMPET・BRPET）",null,null,null,null,null,null,null,null,null,null,null,null,null,"備考"]
[null,"ラスト"]
[null,"1セット表層"]
[null,"1セット芯"]
[]
[]
[]
[]
[]
[null,"スリット伝票　ＬＯＴ",null,null,null,null,null,{"$f":"②OP記入欄改!$D$5","v":51023357021},null,null,null,"製区",null,{"$f":"②OP記入欄改!$D$7","v":"S"},"品種",null,{"$f":"②OP記入欄改!$D$8","v":"ＣＰＰ2703"}]
[]
[null,"番手",null,{"$f":"②OP記入欄改!$D$9","v":25},"原反名",null,{"$f":"②OP記入欄改!$D$10","v":9041},null,"原反幅",null,{"$f":"②OP記入欄改!$D$11","v":2080},null,"原反長",null,{"$f":"②OP記入欄改!$D$12","v":45000},null,"前工程M/C",null,null,null,{"$f":"②OP記入欄改!$D$13","v":"DF7"}]
[null,"停機内容",null,null,null,null,null,"停機詳細",null,null,null,null,null,null,null,null,null,"停機時間"]
[null,"Ｆ破れ",null,null,"有/無",null,null,null,null,null,null,null,null,null,null,null,null,null,null,null,"hr"]
[null,"耳切れ",null,null,"有/無",null,null,null,null,null,null,null,null,null,null,null,null,null,null,null,"hr"]
[null,"紙管切断",null,null,"有/無",null,null,null,null,null,null,null,null,null,null,null,null,null,null,null,"hr"]
[null,"その他停機内容",null,null,null,null,null,null,null,null,null,null,null,null,null,null,null,null,null,null,"hr"]
[null,"備考"]
[]
[]
[]
[]
[]
[null,"外観確認内容"]
[null,"原反ズレ",null,null,null,"当てキズ",null,null,null,"溝ロール痕",null,null,null,"ＴＤスジ",null,null,null,"ピッチキズ"]
[null,"スリキズ",null,null,null,"クボミシワ",null,null,null,"シワムラ",null,null,null,"変色",null,null,null,"巻芯シワ"]
[null,"切断面・異物"]

{"sheet":"CPP＃25 8000","index":22,"n_rows":71,"n_cols":26,"rows_kept":71,"cut":false,"hidden":false,"merged":[[0,7,1,10],[70,1,70,4],[68,1,68,4],[68,5,68,8],[68,9,68,12],[68,13,68,16],[68,17,68,21],[69,1,69,4],[69,5,69,8],[69,9,69,12],[69,13,69,16],[69,17,69,21],[60,7,60,16],[60,17,60,19],[58,4,58,5],[58,7,58,16],[58,17,58,19],[59,4,59,5],[59,7,59,16],[59,17,59,19],[55,16,55,19],[55,20,55,22],[56,4,56,5],[57,4,57,5],[57,7,57,16],[57,17,57,19],[55,4,55,5],[55,6,55,7],[55,8,55,9],[55,10,55,11],[55,12,55,13],[55,14,55,15],[53,1,54,6],[53,7,53,10],[53,11,54,12],[53,13,54,13],[53,14,54,15],[53,16,54,22],[54,7,54,10],[46,13,46,14],[47,1,47,2],[47,3,47,4],[47,5,47,6],[47,7,47,8],[47,9,47,10],[47,11,47,12],[47,13,47,14],[46,1,46,2],[46,3,46,4],[46,5,46,6],[46,7,46,8],[46,9,46,10],[46,11,46,12],[44,1,44,14],[45,1,45,2],[45,3,45,4],[45,5,45,6],[45,7,45,8],[45,9,45,10],[45,11,45,12],[45,13,45,14],[39,15,39,22],[42,15,42,18],[42,19,42,22],[43,15,43,18],[43,19,43,22],[43,2,43,7],[43,8,43,13],[40,18,40,20],[41,18,41,20],[31,15,31,22],[32,15,32,18],[32,19,32,20],[32,21,32,22],[33,15,33,22],[34,15,34,22],[24,15,24,17],[24,18,24,22],[25,15,25,17],[25,18,25,22],[26,15,30,15],[26,16,26,18],[27,16,27,18],[28,16,28,18],[29,16,29,18],[30,16,30,18],[27,19,27,20],[27,21,27,22],[28,19,28,22],[29,19,29,20],[30,19,30,20],[26,21,26,22],[21,15,21,17],[21,18,21,22],[22,15,22,17],[22,18,22,22],[23,15,23,17],[23,18,23,22],[18,15,18,17],[18,18,18,22],[19,15,19,17],[19,18,19,22],[20,15,20,17],[20,18,20,22],[15,1,15,5],[15,8,15,11],[15,12,15,14],[15,16,15,18],[15,20,15,22],[16,1,17,1],[16,15,17,15],[16,16,17,18],[16,19,17,19],[16,20,17,22],[14,1,14,5],[14,6,14,7],[14,8,14,11],[14,12,14,14],[14,15,14,18],[14,19,14,22],[13,2,13,3],[13,4,13,5],[13,6,13,7],[13,11,13,14],[13,15,13,17],[13,18,13,20],[12,2,12,3],[12,4,12,5],[12,6,12,7],[12,11,12,14],[12,15,12,17],[12,18,12,20],[11,2,11,3],[11,4,11,5],[11,6,11,7],[11,11,11,14],[11,15,11,17],[11,18,11,20],[10,2,10,3],[10,4,10,5],[10,6,10,7],[10,11,10,14],[10,15,10,17],[10,18,10,20],[9,2,9,3],[9,4,9,5],[9,6,9,7],[9,11,9,14],[9,15,9,17],[9,18,9,20],[8,2,8,3],[8,4,8,5],[8,6,8,7],[8,11,8,14],[8,15,8,17],[8,18,8,20],[7,2,7,3],[7,4,7,5],[7,6,7,7],[7,11,7,14],[7,15,7,17],[7,18,7,20],[2,14,2,15],[6,2,6,3],[6,4,6,5],[6,6,6,7],[6,11,6,14],[6,15,6,17],[6,18,6,20],[5,2,5,3],[5,4,5,5],[5,6,5,7],[5,11,5,14],[5,15,5,17],[5,18,5,20],[0,1,1,6],[0,11,1,12],[0,13,1,13],[0,14,1,15],[0,16,1,22],[4,2,4,3],[4,4,4,5],[4,6,4,7],[4,11,4,14],[4,15,4,17],[4,18,4,20],[2,16,2,19],[2,20,2,22],[3,2,3,3],[3,4,3,5],[3,6,3,7],[3,11,3,14],[3,15,3,17],[3,18,3,20],[2,4,2,5],[2,6,2,7],[2,8,2,9],[2,10,2,11],[2,12,2,13]]}
[null,"スリット伝票　ＬＯＴ",null,null,null,null,null,{"$f":"②OP記入欄改!$D$5","v":51023357021},null,null,null,"製区",null,{"$f":"②OP記入欄改!$D$7","v":"S"},"品種",null,{"$f":"②OP記入欄改!$D$8","v":"ＣＰＰ2703"}]
[]
[null,"番手",null,{"$f":"②OP記入欄改!$D$9","v":25},"原反名",null,{"$f":"②OP記入欄改!$D$10","v":9041},null,"原反幅",null,{"$f":"②OP記入欄改!$D$11","v":2080},null,"原反長",null,{"$f":"②OP記入欄改!$D$12","v":45000},null,"前工程M/C",null,null,null,{"$f":"②OP記入欄改!$D$13","v":"DF7"}]
[null,null,{"$f":"②OP記入欄改!G3","v":"仕向先"},null,{"$f":"②OP記入欄改!I3","v":"製品幅"},null,{"$f":"②OP記入欄改!K3","v":"製品長さ"},null,{"$f":"②OP記入欄改!M3","v":"計本"},{"$f":"②OP記入欄改!N3","v":"実"},{"$f":"②OP記入欄改!O3","v":"梱形"},"Ａ保枝番",null,null,null,"ミル枝番",null,null,"Ｂ級枝番",null,null,"ロック\nシャフト","コア"]
[null,{"$f":"②OP記入欄改!F4","v":1},{"$f":"②OP記入欄改!G4","v":"ＤＮＰ京都　３Ｄｏｒ３Ｄ６"},null,{"$f":"②OP記入欄改!I4","v":980},null,{"$f":"②OP記入欄改!K4","v":8000},null,{"$f":"②OP記入欄改!M4","v":5},{"$f":"②OP記入欄改!N4","v":0},{"$f":"②OP記入欄改!O4","v":"P"},null,null,null,null,null,null,null,null,null,null,"-",3,null,"-"]
[null,{"$f":"②OP記入欄改!F5","v":2},{"$f":"②OP記入欄改!G5","v":"ＤＮＰ京都　３Ｄｏｒ３Ｄ６"},null,{"$f":"②OP記入欄改!I5","v":1020},null,{"$f":"②OP記入欄改!K5","v":8000},null,{"$f":"②OP記入欄改!M5","v":5},{"$f":"②OP記入欄改!N5","v":0},{"$f":"②OP記入欄改!O5","v":"P"},null,null,null,null,null,null,null,null,null,null,"-",3,null,"〇"]
[null,{"$f":"②OP記入欄改!F6","v":3},{"$f":"②OP記入欄改!G6","v":"４０００ｍ余剰分"},null,{"$f":"②OP記入欄改!I6","v":1020},null,{"$f":"②OP記入欄改!K6","v":4000},null,{"$f":"②OP記入欄改!M6","v":1},{"$f":"②OP記入欄改!N6","v":0},{"$f":"②OP記入欄改!O6","v":"P"}]
[null,{"$f":"②OP記入欄改!F7","v":4},{"$f":"②OP記入欄改!G7","v":"４０００ｍ余剰分"},null,{"$f":"②OP記入欄改!I7","v":980},null,{"$f":"②OP記入欄改!K7","v":4000},null,{"$f":"②OP記入欄改!M7","v":1},{"$f":"②OP記入欄改!N7","v":0},{"$f":"②OP記入欄改!O7","v":0}]
[null,{"$f":"②OP記入欄改!F8","v":5},{"$f":"②OP記入欄改!G8","v":0},null,{"$f":"②OP記入欄改!I8","v":0},null,{"$f":"②OP記入欄改!K8","v":0},null,{"$f":"②OP記入欄改!M8","v":0},{"$f":"②OP記入欄改!N8","v":0},{"$f":"②OP記入欄改!O8","v":0}]
[null,{"$f":"②OP記入欄改!F9","v":6},{"$f":"②OP記入欄改!G9","v":0},null,{"$f":"②OP記入欄改!I9","v":0},null,{"$f":"②OP記入欄改!K9","v":0},null,{"$f":"②OP記入欄改!M9","v":0},{"$f":"②OP記入欄改!N9","v":0},{"$f":"②OP記入欄改!O9","v":0}]
[null,{"$f":"②OP記入欄改!F10","v":7},{"$f":"②OP記入欄改!G10","v":0},null,{"$f":"②OP記入欄改!I10","v":0},null,{"$f":"②OP記入欄改!K10","v":0},null,{"$f":"②OP記入欄改!M10","v":0},{"$f":"②OP記入欄改!N10","v":0},{"$f":"②OP記入欄改!O10","v":0}]
[null,{"$f":"②OP記入欄改!F11","v":8},{"$f":"②OP記入欄改!G11","v":0},null,{"$f":"②OP記入欄改!I11","v":0},null,{"$f":"②OP記入欄改!K11","v":0},null,{"$f":"②OP記入欄改!M11","v":0},{"$f":"②OP記入欄改!N11","v":0},{"$f":"②OP記入欄改!O11","v":0}]
[null,{"$f":"②OP記入欄改!F12","v":9},{"$f":"②OP記入欄改!G12","v":0},null,{"$f":"②OP記入欄改!I12","v":0},null,{"$f":"②OP記入欄改!K12","v":0},null,{"$f":"②OP記入欄改!M12","v":0},{"$f":"②OP記入欄改!N12","v":0},{"$f":"②OP記入欄改!O12","v":0}]
[null,{"$f":"②OP記入欄改!F13","v":10},{"$f":"②OP記入欄改!G13","v":0},null,{"$f":"②OP記入欄改!I13","v":0},null,{"$f":"②OP記入欄改!K13","v":0},null,{"$f":"②OP記入欄改!M13","v":0},{"$f":"②OP記入欄改!N13","v":0},{"$f":"②OP記入欄改!O13","v":0}]
[null,"スリット作業指示№",null,null,null,null,"M/C№",null,"加工日",null,null,null,"前工程品質情報",null,null,"切断シフト1",null,null,null,"切断シフト2"]
[null,{"$f":"②OP記入欄改!$D$14","v":0},null,null,null,null,"ＳＬ-",{"$f":"②OP記入欄改!$D$15","v":19},{"$f":"②OP記入欄改!$D$4","v":"2025-10-23"},null,null,null,"確認　　　□",null,null,"組","作業者",null,null,"組","作業者"]
[null,"巻芯\n確認"]
[]
[null,null,null,null,null,null,null,null,null,null,null,null,null,null,null,"切替開始",null,null,"　　　　　時　　　　　分"]
[null,null,null,null,null,null,null,null,null,null,null,null,null,null,null,"切断開始",null,null,"　　　　　時　　　　　分"]
[null,null,null,null,null,null,null,null,null,null,null,null,null,null,null,"切断完了",null,null,"　　　　　時　　　　　分"]
[null,null,null,null,null,null,null,null,null,null,null,null,null,null,null,"食事開始",null,null,"　　　　　時　　　　　分"]
[null,null,null,null,null,null,null,null,null,null,null,null,null,null,null,"食事完了",null,null,"　　　　　時　　　　　分"]
[null,null,null,null,null,null,null,null,null,null,null,null,null,null,null,"停機開始",null,null,"　　　　　時　　　　　分"]
[null,null,null,null,null,null,null,null,null,null,null,null,null,null,null,"停機完了",null,null,"　　　　　時　　　　　分"]
[null,null,null,null,null,null,null,null,null,null,null,null,null,null,null,"停機理由"]
[null,null,null,null,null,null,null,null,null,null,null,null,null,null,null,"条件確認","M/C条件設定",null,null,"呼出№",null,{"$f":"②OP記入欄改!$D$16","v":2}]
[null,null,null,null,null,null,null,null,null,null,null,null,null,null,null,null,"欠点検出機",null,null,"使用条件№",null,{"$f":"②OP記入欄改!$D$17","v":1}]
[null,null,null,null,null,null,null,null,null,null,null,null,null,null,null,null,"速度(m/min)",null,null,480]
[null,null,null,null,null,null,null,null,null,null,null,null,null,null,null,null,"張力(N/ｍ・kg)"]
[null,null,null,null,null,null,null,null,null,null,null,null,null,null,null,null,"接圧(N/ｍ・kg)"]
[null,null,null,null,null,null,null,null,null,null,null,null,null,null,null,"外観確認"]
[null,null,null,null,null,null,null,null,null,null,null,null,null,null,null,"表層透過検査",null,null,null,"OK",null,"NG"]
[null,null,null,null,null,null,null,null,null,null,null,null,null,null,null,"巻姿外観確認[ｽﾀｰﾄ/中間/ﾗｽﾄ]"]
[null,null,null,null,null,null,null,null,null,null,null,null,null,null,null,"各枝番に問題無『〇』問題有『☓』を記載"]
[]
[]
[]
[]
[null,null,null,null,null,null,null,null,null,null,null,null,null,null,null,"※『☓』の場合は展開図に内容を記載する"]
[null,null,null,null,null,null,null,null,null,null,null,null,null,null,null,"検材エッジ",null,null,275,null,null,null,null,null,null,"　"]
[null,20,null,null,null,null,null,null,null,null,null,null,null,null,20,"表層ロス",null,null,100,null,null,"m"]
[null,null,null,null,null,null,null,null,null,null,null,null,null,null,null,"レザー/丸刃交換",null,null,null,"レザー/丸刃廃棄"]
[null,null,980,null,null,null,null,null,980,null,null,null,null,null,null,"　枚",null,null,null,"　枚"]
[null,"膜厚測定（ＣＰＰ・VMPET・BRPET）",null,null,null,null,null,null,null,null,null,null,null,null,null,"備考"]
[null,"ラスト"]
[null,"1セット表層"]
[null,"1セット芯"]
[]
[]
[]
[]
[]
[null,"スリット伝票　ＬＯＴ",null,null,null,null,null,{"$f":"②OP記入欄改!$D$5","v":51023357021},null,null,null,"製区",null,{"$f":"②OP記入欄改!$D$7","v":"S"},"品種",null,{"$f":"②OP記入欄改!$D$8","v":"ＣＰＰ2703"}]
[]
[null,"番手",null,{"$f":"②OP記入欄改!$D$9","v":25},"原反名",null,{"$f":"②OP記入欄改!$D$10","v":9041},null,"原反幅",null,{"$f":"②OP記入欄改!$D$11","v":2080},null,"原反長",null,{"$f":"②OP記入欄改!$D$12","v":45000},null,"前工程M/C",null,null,null,{"$f":"②OP記入欄改!$D$13","v":"DF7"}]
[null,"停機内容",null,null,null,null,null,"停機詳細",null,null,null,null,null,null,null,null,null,"停機時間"]
[null,"Ｆ破れ",null,null,"有/無",null,null,null,null,null,null,null,null,null,null,null,null,null,null,null,"hr"]
[null,"耳切れ",null,null,"有/無",null,null,null,null,null,null,null,null,null,null,null,null,null,null,null,"hr"]
[null,"紙管切断",null,null,"有/無",null,null,null,null,null,null,null,null,null,null,null,null,null,null,null,"hr"]
[null,"その他停機内容",null,null,null,null,null,null,null,null,null,null,null,null,null,null,null,null,null,null,"hr"]
[null,"備考"]
[]
[]
[]
[]
[]
[null,"外観確認内容"]
[null,"原反ズレ",null,null,null,"当てキズ",null,null,null,"溝ロール痕",null,null,null,"ＴＤスジ",null,null,null,"ピッチキズ"]
[null,"スリキズ",null,null,null,"クボミシワ",null,null,null,"シワムラ",null,null,null,"変色",null,null,null,"巻芯シワ"]
[null,"切断面・異物"]

{"sheet":"CPＰ #25 4000 3丁","index":23,"n_rows":71,"n_cols":25,"rows_kept":71,"cut":false,"hidden":false,"merged":[[0,7,1,10],[70,1,70,4],[68,1,68,4],[68,5,68,8],[68,9,68,12],[68,13,68,16],[68,17,68,21],[69,1,69,4],[69,5,69,8],[69,9,69,12],[69,13,69,16],[69,17,69,21],[60,7,60,16],[60,17,60,19],[58,4,58,5],[58,7,58,16],[58,17,58,19],[59,4,59,5],[59,7,59,16],[59,17,59,19],[55,16,55,19],[55,20,55,22],[56,4,56,5],[57,4,57,5],[57,7,57,16],[57,17,57,19],[55,4,55,5],[55,6,55,7],[55,8,55,9],[55,10,55,11],[55,12,55,13],[55,14,55,15],[53,1,54,6],[53,7,53,10],[53,11,54,12],[53,13,54,13],[53,14,54,15],[53,16,54,22],[54,7,54,10],[46,13,46,14],[47,1,47,2],[47,3,47,4],[47,5,47,6],[47,7,47,8],[47,9,47,10],[47,11,47,12],[47,13,47,14],[46,1,46,2],[46,3,46,4],[46,5,46,6],[46,7,46,8],[46,9,46,10],[46,11,46,12],[44,1,44,14],[45,1,45,2],[45,3,45,4],[45,5,45,6],[45,7,45,8],[45,9,45,10],[45,11,45,12],[45,13,45,14],[39,15,39,22],[42,15,42,18],[42,19,42,22],[43,15,43,18],[43,19,43,22],[43,3,43,4],[43,7,43,8],[43,11,43,12],[40,18,40,20],[41,18,41,20],[31,15,31,22],[32,15,32,18],[32,19,32,20],[32,21,32,22],[33,15,33,22],[34,15,34,22],[24,15,24,17],[24,18,24,22],[25,15,25,17],[25,18,25,22],[26,15,30,15],[26,16,26,18],[27,16,27,18],[28,16,28,18],[29,16,29,18],[30,16,30,18],[27,19,27,20],[27,21,27,22],[28,19,28,22],[29,19,29,22],[30,19,30,22],[26,21,26,22],[21,15,21,17],[21,18,21,22],[22,15,22,17],[22,18,22,22],[23,15,23,17],[23,18,23,22],[18,15,18,17],[18,18,18,22],[19,15,19,17],[19,18,19,22],[20,15,20,17],[20,18,20,22],[15,1,15,5],[15,8,15,11],[15,12,15,14],[15,16,15,18],[15,20,15,22],[16,1,17,1],[16,15,17,15],[16,16,17,18],[16,19,17,19],[16,20,17,22],[14,1,14,5],[14,6,14,7],[14,8,14,11],[14,12,14,14],[14,15,14,18],[14,19,14,22],[13,2,13,3],[13,4,13,5],[13,6,13,7],[13,11,13,14],[13,15,13,17],[13,18,13,20],[12,2,12,3],[12,4,12,5],[12,6,12,7],[12,11,12,14],[12,15,12,17],[12,18,12,20],[11,2,11,3],[11,4,11,5],[11,6,11,7],[11,11,11,14],[11,15,11,17],[11,18,11,20],[10,2,10,3],[10,4,10,5],[10,6,10,7],[10,11,10,14],[10,15,10,17],[10,18,10,20],[9,2,9,3],[9,4,9,5],[9,6,9,7],[9,11,9,14],[9,15,9,17],[9,18,9,20],[8,2,8,3],[8,4,8,5],[8,6,8,7],[8,11,8,14],[8,15,8,17],[8,18,8,20],[7,2,7,3],[7,4,7,5],[7,6,7,7],[7,11,7,14],[7,15,7,17],[7,18,7,20],[2,14,2,15],[6,2,6,3],[6,4,6,5],[6,6,6,7],[6,11,6,14],[6,15,6,17],[6,18,6,20],[5,2,5,3],[5,4,5,5],[5,6,5,7],[5,11,5,14],[5,15,5,17],[5,18,5,20],[0,1,1,6],[0,11,1,12],[0,13,1,13],[0,14,1,15],[0,16,1,22],[4,2,4,3],[4,4,4,5],[4,6,4,7],[4,11,4,14],[4,15,4,17],[4,18,4,20],[2,16,2,19],[2,20,2,22],[3,2,3,3],[3,4,3,5],[3,6,3,7],[3,11,3,14],[3,15,3,17],[3,18,3,20],[2,4,2,5],[2,6,2,7],[2,8,2,9],[2,10,2,11],[2,12,2,13]]}
[null,"スリット伝票　ＬＯＴ",null,null,null,null,null,{"$f":"②OP記入欄改!$D$5","v":51023357021},null,null,null,"製区",null,{"$f":"②OP記入欄改!$D$7","v":"S"},"品種",null,{"$f":"②OP記入欄改!$D$8","v":"ＣＰＰ2703"}]
[]
[null,"番手",null,{"$f":"②OP記入欄改!$D$9","v":25},"原反名",null,{"$f":"②OP記入欄改!$D$10","v":9041},null,"原反幅",null,{"$f":"②OP記入欄改!$D$11","v":2080},null,"原反長",null,{"$f":"②OP記入欄改!$D$12","v":45000},null,"前工程M/C",null,null,null,{"$f":"②OP記入欄改!$D$13","v":"DF7"}]
[null,null,{"$f":"②OP記入欄改!G3","v":"仕向先"},null,{"$f":"②OP記入欄改!I3","v":"製品幅"},null,{"$f":"②OP記入欄改!K3","v":"製品長さ"},null,{"$f":"②OP記入欄改!M3","v":"計本"},{"$f":"②OP記入欄改!N3","v":"実"},{"$f":"②OP記入欄改!O3","v":"梱形"},"Ａ保枝番",null,null,null,"ミル枝番",null,null,"Ｂ級枝番",null,null,"ロック\nシャフト","コア"]
[null,{"$f":"②OP記入欄改!F4","v":1},{"$f":"②OP記入欄改!G4","v":"ＤＮＰ京都　３Ｄｏｒ３Ｄ６"},null,{"$f":"②OP記入欄改!I4","v":980},null,{"$f":"②OP記入欄改!K4","v":8000},null,{"$f":"②OP記入欄改!M4","v":5},{"$f":"②OP記入欄改!N4","v":0},{"$f":"②OP記入欄改!O4","v":"P"},null,null,null,null,null,null,null,null,null,null,"-",3,null,"-"]
[null,{"$f":"②OP記入欄改!F5","v":2},{"$f":"②OP記入欄改!G5","v":"ＤＮＰ京都　３Ｄｏｒ３Ｄ６"},null,{"$f":"②OP記入欄改!I5","v":1020},null,{"$f":"②OP記入欄改!K5","v":8000},null,{"$f":"②OP記入欄改!M5","v":5},{"$f":"②OP記入欄改!N5","v":0},{"$f":"②OP記入欄改!O5","v":"P"},null,null,null,null,null,null,null,null,null,null,"-",3,null,"〇"]
[null,{"$f":"②OP記入欄改!F6","v":3},{"$f":"②OP記入欄改!G6","v":"４０００ｍ余剰分"},null,{"$f":"②OP記入欄改!I6","v":1020},null,{"$f":"②OP記入欄改!K6","v":4000},null,{"$f":"②OP記入欄改!M6","v":1},{"$f":"②OP記入欄改!N6","v":0},{"$f":"②OP記入欄改!O6","v":"P"},null,null,null,null,null,null,null,null,null,null,"-",3]
[null,{"$f":"②OP記入欄改!F7","v":4},{"$f":"②OP記入欄改!G7","v":"４０００ｍ余剰分"},null,{"$f":"②OP記入欄改!I7","v":980},null,{"$f":"②OP記入欄改!K7","v":4000},null,{"$f":"②OP記入欄改!M7","v":1},{"$f":"②OP記入欄改!N7","v":0},{"$f":"②OP記入欄改!O7","v":0}]
[null,{"$f":"②OP記入欄改!F8","v":5},{"$f":"②OP記入欄改!G8","v":0},null,{"$f":"②OP記入欄改!I8","v":0},null,{"$f":"②OP記入欄改!K8","v":0},null,{"$f":"②OP記入欄改!M8","v":0},{"$f":"②OP記入欄改!N8","v":0},{"$f":"②OP記入欄改!O8","v":0}]
[null,{"$f":"②OP記入欄改!F9","v":6},{"$f":"②OP記入欄改!G9","v":0},null,{"$f":"②OP記入欄改!I9","v":0},null,{"$f":"②OP記入欄改!K9","v":0},null,{"$f":"②OP記入欄改!M9","v":0},{"$f":"②OP記入欄改!N9","v":0},{"$f":"②OP記入欄改!O9","v":0}]
[null,{"$f":"②OP記入欄改!F10","v":7},{"$f":"②OP記入欄改!G10","v":0},null,{"$f":"②OP記入欄改!I10","v":0},null,{"$f":"②OP記入欄改!K10","v":0},null,{"$f":"②OP記入欄改!M10","v":0},{"$f":"②OP記入欄改!N10","v":0},{"$f":"②OP記入欄改!O10","v":0}]
[null,{"$f":"②OP記入欄改!F11","v":8},{"$f":"②OP記入欄改!G11","v":0},null,{"$f":"②OP記入欄改!I11","v":0},null,{"$f":"②OP記入欄改!K11","v":0},null,{"$f":"②OP記入欄改!M11","v":0},{"$f":"②OP記入欄改!N11","v":0},{"$f":"②OP記入欄改!O11","v":0}]
[null,{"$f":"②OP記入欄改!F12","v":9},{"$f":"②OP記入欄改!G12","v":0},null,{"$f":"②OP記入欄改!I12","v":0},null,{"$f":"②OP記入欄改!K12","v":0},null,{"$f":"②OP記入欄改!M12","v":0},{"$f":"②OP記入欄改!N12","v":0},{"$f":"②OP記入欄改!O12","v":0}]
[null,{"$f":"②OP記入欄改!F13","v":10},{"$f":"②OP記入欄改!G13","v":0},null,{"$f":"②OP記入欄改!I13","v":0},null,{"$f":"②OP記入欄改!K13","v":0},null,{"$f":"②OP記入欄改!M13","v":0},{"$f":"②OP記入欄改!N13","v":0},{"$f":"②OP記入欄改!O13","v":0}]
[null,"スリット作業指示№",null,null,null,null,"M/C№",null,"加工日",null,null,null,"前工程品質情報",null,null,"切断シフト1",null,null,null,"切断シフト2"]
[null,{"$f":"②OP記入欄改!$D$14","v":0},null,null,null,null,"ＳＬ-",{"$f":"②OP記入欄改!$D$15","v":19},{"$f":"②OP記入欄改!$D$4","v":"2025-10-23"},null,null,null,"確認　　　□",null,null,"組","作業者",null,null,"組","作業者"]
[null,"巻芯\n確認"]
[]
[null,null,null,null,null,null,null,null,null,null,null,null,null,null,null,"切替開始",null,null,"　　　　　時　　　　　分"]
[null,null,null,null,null,null,null,null,null,null,null,null,null,null,null,"切断開始",null,null,"　　　　　時　　　　　分"]
[null,null,null,null,null,null,null,null,null,null,null,null,null,null,null,"切断完了",null,null,"　　　　　時　　　　　分"]
[null,null,null,null,null,null,null,null,null,null,null,null,null,null,null,"食事開始",null,null,"　　　　　時　　　　　分"]
[null,null,null,null,null,null,null,null,null,null,null,null,null,null,null,"食事完了",null,null,"　　　　　時　　　　　分"]
[null,null,null,null,null,null,null,null,null,null,null,null,null,null,null,"停機開始",null,null,"　　　　　時　　　　　分"]
[null,null,null,null,null,null,null,null,null,null,null,null,null,null,null,"停機完了",null,null,"　　　　　時　　　　　分"]
[null,null,null,null,null,null,null,null,null,null,null,null,null,null,null,"停機理由"]
[null,null,null,null,null,null,null,null,null,null,null,null,null,null,null,"条件確認","M/C条件設定",null,null,"呼出№",null,{"$f":"②OP記入欄改!$D$16","v":2}]
[null,null,null,null,null,null,null,null,null,null,null,null,null,null,null,null,"欠点検出機",null,null,"使用条件№",null,{"$f":"②OP記入欄改!$D$17","v":1}]
[null,null,null,null,null,null,null,null,null,null,null,null,null,null,null,null,"速度(m/min)",null,null,480]
[null,null,null,null,null,null,null,null,null,null,null,null,null,null,null,null,"張力(N/ｍ・kg)"]
[null,null,null,null,null,null,null,null,null,null,null,null,null,null,null,null,"接圧(N/ｍ・kg)"]
[null,null,null,null,null,null,null,null,null,null,null,null,null,null,null,"外観確認"]
[null,null,null,null,null,null,null,null,null,null,null,null,null,null,null,"表層透過検査",null,null,null,"OK",null,"NG"]
[null,null,null,null,null,null,null,null,null,null,null,null,null,null,null,"巻姿外観確認[ｽﾀｰﾄ/中間/ﾗｽﾄ]"]
[null,null,null,null,null,null,null,null,null,null,null,null,null,null,null,"各枝番に問題無『〇』問題有『☓』を記載"]
[]
[]
[]
[]
[null,null,null,null,null,null,null,null,null,null,null,null,null,null,null,"※『☓』の場合は展開図に内容を記載する"]
[null,null,null,null,null,null,null,null,null,null,null,null,null,null,null,"検材エッジ",null,null,245]
[null,20,null,null,null,null,null,null,null,null,null,null,null,null,20,"表層ロス",null,null,100,null,null,"m"]
[null,null,null,null,null,null,null,null,null,null,null,null,null,null,null,"レザー/丸刃交換",null,null,null,"レザー/丸刃廃棄"]
[null,null,null,580,null,null,null,820,null,null,null,620,null,null,null,"枚",null,null,null,"枚"]
[null,"膜厚測定（ＣＰＰ・VMPET・BRPET）",null,null,null,null,null,null,null,null,null,null,null,null,null,"備考"]
[null,"ラスト"]
[null,"1セット表層"]
[null,"1セット芯"]
[]
[]
[]
[]
[]
[null,"スリット伝票　ＬＯＴ",null,null,null,null,null,{"$f":"②OP記入欄改!$D$5","v":51023357021},null,null,null,"製区",null,{"$f":"②OP記入欄改!$D$7","v":"S"},"品種",null,{"$f":"②OP記入欄改!$D$8","v":"ＣＰＰ2703"}]
[]
[null,"番手",null,{"$f":"②OP記入欄改!$D$9","v":25},"原反名",null,{"$f":"②OP記入欄改!$D$10","v":9041},null,"原反幅",null,{"$f":"②OP記入欄改!$D$11","v":2080},null,"原反長",null,{"$f":"②OP記入欄改!$D$12","v":45000},null,"前工程M/C",null,null,null,{"$f":"②OP記入欄改!$D$13","v":"DF7"}]
[null,"停機内容",null,null,null,null,null,"停機詳細",null,null,null,null,null,null,null,null,null,"停機時間"]
[null,"Ｆ破れ",null,null,"有/無",null,null,null,null,null,null,null,null,null,null,null,null,null,null,null,"hr"]
[null,"耳切れ",null,null,"有/無",null,null,null,null,null,null,null,null,null,null,null,null,null,null,null,"hr"]
[null,"紙管切断",null,null,"有/無",null,null,null,null,null,null,null,null,null,null,null,null,null,null,null,"hr"]
[null,"その他停機内容",null,null,null,null,null,null,null,null,null,null,null,null,null,null,null,null,null,null,"hr"]
[null,"備考"]
[]
[]
[]
[]
[]
[null,"外観確認内容"]
[null,"原反ズレ",null,null,null,"当てキズ",null,null,null,"溝ロール痕",null,null,null,"ＴＤスジ",null,null,null,"ピッチキズ"]
[null,"スリキズ",null,null,null,"クボミシワ",null,null,null,"シワムラ",null,null,null,"変色",null,null,null,"巻芯シワ"]
[null,"切断面・異物"]

{"sheet":"CPP＃25 8000 3丁","index":24,"n_rows":71,"n_cols":25,"rows_kept":71,"cut":false,"hidden":false,"merged":[[70,1,70,4],[68,1,68,4],[68,5,68,8],[68,9,68,12],[68,13,68,16],[68,17,68,21],[69,1,69,4],[69,5,69,8],[69,9,69,12],[69,13,69,16],[69,17,69,21],[60,7,60,16],[60,17,60,19],[58,4,58,5],[58,7,58,16],[58,17,58,19],[59,4,59,5],[59,7,59,16],[59,17,59,19],[55,16,55,19],[55,20,55,22],[56,4,56,5],[57,4,57,5],[57,7,57,16],[57,17,57,19],[55,4,55,5],[55,6,55,7],[55,8,55,9],[55,10,55,11],[55,12,55,13],[55,14,55,15],[53,1,54,6],[53,7,53,10],[53,11,54,12],[53,13,54,13],[53,14,54,15],[53,16,54,22],[54,7,54,10],[46,13,46,14],[47,1,47,2],[47,3,47,4],[47,5,47,6],[47,7,47,8],[47,9,47,10],[47,11,47,12],[47,13,47,14],[46,1,46,2],[46,3,46,4],[46,5,46,6],[46,7,46,8],[46,9,46,10],[46,11,46,12],[44,1,44,14],[45,1,45,2],[45,3,45,4],[45,5,45,6],[45,7,45,8],[45,9,45,10],[45,11,45,12],[45,13,45,14],[39,15,39,22],[42,15,42,18],[42,19,42,22],[43,15,43,18],[43,19,43,22],[40,18,40,20],[43,3,43,4],[43,7,43,8],[43,11,43,12],[41,18,41,20],[31,15,31,22],[32,15,32,18],[32,19,32,20],[32,21,32,22],[33,15,33,22],[34,15,34,22],[24,15,24,17],[24,18,24,22],[25,15,25,17],[25,18,25,22],[26,15,30,15],[26,16,26,18],[27,16,27,18],[28,16,28,18],[29,16,29,18],[30,16,30,18],[27,19,27,20],[27,21,27,22],[28,19,28,22],[29,19,29,20],[30,19,30,20],[26,21,26,22],[21,15,21,17],[21,18,21,22],[22,15,22,17],[22,18,22,22],[23,15,23,17],[23,18,23,22],[18,15,18,17],[18,18,18,22],[19,15,19,17],[19,18,19,22],[20,15,20,17],[20,18,20,22],[15,1,15,5],[15,8,15,11],[15,12,15,14],[15,16,15,18],[15,20,15,22],[16,1,17,1],[16,15,17,15],[16,16,17,18],[16,19,17,19],[16,20,17,22],[14,1,14,5],[14,6,14,7],[14,8,14,11],[14,12,14,14],[14,15,14,18],[14,19,14,22],[13,2,13,3],[13,4,13,5],[13,6,13,7],[13,11,13,14],[13,15,13,17],[13,18,13,20],[12,2,12,3],[12,4,12,5],[12,6,12,7],[12,11,12,14],[12,15,12,17],[12,18,12,20],[11,2,11,3],[11,4,11,5],[11,6,11,7],[11,11,11,14],[11,15,11,17],[11,18,11,20],[10,2,10,3],[10,4,10,5],[10,6,10,7],[10,11,10,14],[10,15,10,17],[10,18,10,20],[9,2,9,3],[9,4,9,5],[9,6,9,7],[9,11,9,14],[9,15,9,17],[9,18,9,20],[8,2,8,3],[8,4,8,5],[8,6,8,7],[8,11,8,14],[8,15,8,17],[8,18,8,20],[7,2,7,3],[7,4,7,5],[7,6,7,7],[7,11,7,14],[7,15,7,17],[7,18,7,20],[2,10,2,11],[2,12,2,13],[2,14,2,15],[6,2,6,3],[6,4,6,5],[6,6,6,7],[6,11,6,14],[6,15,6,17],[6,18,6,20],[5,2,5,3],[5,4,5,5],[5,6,5,7],[5,11,5,14],[5,15,5,17],[5,18,5,20],[0,1,1,6],[0,7,0,10],[0,11,1,12],[0,13,1,13],[0,14,1,15],[0,16,1,22],[1,7,1,10],[4,2,4,3],[4,4,4,5],[4,6,4,7],[4,11,4,14],[4,15,4,17],[4,18,4,20],[2,16,2,19],[2,20,2,22],[3,2,3,3],[3,4,3,5],[3,6,3,7],[3,11,3,14],[3,15,3,17],[3,18,3,20],[2,4,2,5],[2,6,2,7],[2,8,2,9]]}
[null,"スリット伝票　ＬＯＴ",null,null,null,null,null,{"$f":"②OP記入欄改!$D$5","v":51023357021},null,null,null,"製区",null,{"$f":"②OP記入欄改!$D$7","v":"S"},"品種",null,{"$f":"②OP記入欄改!$D$8","v":"ＣＰＰ2703"}]
[]
[null,"番手",null,{"$f":"②OP記入欄改!$D$9","v":25},"原反名",null,{"$f":"②OP記入欄改!$D$10","v":9041},null,"原反幅",null,{"$f":"②OP記入欄改!$D$11","v":2080},null,"原反長",null,{"$f":"②OP記入欄改!$D$12","v":45000},null,"前工程M/C",null,null,null,{"$f":"②OP記入欄改!$D$13","v":"DF7"}]
[null,null,{"$f":"②OP記入欄改!G3","v":"仕向先"},null,{"$f":"②OP記入欄改!I3","v":"製品幅"},null,{"$f":"②OP記入欄改!K3","v":"製品長さ"},null,{"$f":"②OP記入欄改!M3","v":"計本"},{"$f":"②OP記入欄改!N3","v":"実"},{"$f":"②OP記入欄改!O3","v":"梱形"},"Ａ保枝番",null,null,null,"ミル枝番",null,null,"Ｂ級枝番",null,null,"ロック\nシャフト","コア"]
[null,{"$f":"②OP記入欄改!F4","v":1},{"$f":"②OP記入欄改!G4","v":"ＤＮＰ京都　３Ｄｏｒ３Ｄ６"},null,{"$f":"②OP記入欄改!I4","v":980},null,{"$f":"②OP記入欄改!K4","v":8000},null,{"$f":"②OP記入欄改!M4","v":5},{"$f":"②OP記入欄改!N4","v":0},{"$f":"②OP記入欄改!O4","v":"P"},null,null,null,null,null,null,null,null,null,null,"-",3]
[null,{"$f":"②OP記入欄改!F5","v":2},{"$f":"②OP記入欄改!G5","v":"ＤＮＰ京都　３Ｄｏｒ３Ｄ６"},null,{"$f":"②OP記入欄改!I5","v":1020},null,{"$f":"②OP記入欄改!K5","v":8000},null,{"$f":"②OP記入欄改!M5","v":5},{"$f":"②OP記入欄改!N5","v":0},{"$f":"②OP記入欄改!O5","v":"P"},null,null,null,null,null,null,null,null,null,null,"-",3,null,"-"]
[null,{"$f":"②OP記入欄改!F6","v":3},{"$f":"②OP記入欄改!G6","v":"４０００ｍ余剰分"},null,{"$f":"②OP記入欄改!I6","v":1020},null,{"$f":"②OP記入欄改!K6","v":4000},null,{"$f":"②OP記入欄改!M6","v":1},{"$f":"②OP記入欄改!N6","v":0},{"$f":"②OP記入欄改!O6","v":"P"},null,null,null,null,null,null,null,null,null,null,"-",3,null,"〇"]
[null,{"$f":"②OP記入欄改!F7","v":4},{"$f":"②OP記入欄改!G7","v":"４０００ｍ余剰分"},null,{"$f":"②OP記入欄改!I7","v":980},null,{"$f":"②OP記入欄改!K7","v":4000},null,{"$f":"②OP記入欄改!M7","v":1},{"$f":"②OP記入欄改!N7","v":0},{"$f":"②OP記入欄改!O7","v":0}]
[null,{"$f":"②OP記入欄改!F8","v":5},{"$f":"②OP記入欄改!G8","v":0},null,{"$f":"②OP記入欄改!I8","v":0},null,{"$f":"②OP記入欄改!K8","v":0},null,{"$f":"②OP記入欄改!M8","v":0},{"$f":"②OP記入欄改!N8","v":0},{"$f":"②OP記入欄改!O8","v":0}]
[null,{"$f":"②OP記入欄改!F9","v":6},{"$f":"②OP記入欄改!G9","v":0},null,{"$f":"②OP記入欄改!I9","v":0},null,{"$f":"②OP記入欄改!K9","v":0},null,{"$f":"②OP記入欄改!M9","v":0},{"$f":"②OP記入欄改!N9","v":0},{"$f":"②OP記入欄改!O9","v":0}]
[null,{"$f":"②OP記入欄改!F10","v":7},{"$f":"②OP記入欄改!G10","v":0},null,{"$f":"②OP記入欄改!I10","v":0},null,{"$f":"②OP記入欄改!K10","v":0},null,{"$f":"②OP記入欄改!M10","v":0},{"$f":"②OP記入欄改!N10","v":0},{"$f":"②OP記入欄改!O10","v":0}]
[null,{"$f":"②OP記入欄改!F11","v":8},{"$f":"②OP記入欄改!G11","v":0},null,{"$f":"②OP記入欄改!I11","v":0},null,{"$f":"②OP記入欄改!K11","v":0},null,{"$f":"②OP記入欄改!M11","v":0},{"$f":"②OP記入欄改!N11","v":0},{"$f":"②OP記入欄改!O11","v":0}]
[null,{"$f":"②OP記入欄改!F12","v":9},{"$f":"②OP記入欄改!G12","v":0},null,{"$f":"②OP記入欄改!I12","v":0},null,{"$f":"②OP記入欄改!K12","v":0},null,{"$f":"②OP記入欄改!M12","v":0},{"$f":"②OP記入欄改!N12","v":0},{"$f":"②OP記入欄改!O12","v":0}]
[null,{"$f":"②OP記入欄改!F13","v":10},{"$f":"②OP記入欄改!G13","v":0},null,{"$f":"②OP記入欄改!I13","v":0},null,{"$f":"②OP記入欄改!K13","v":0},null,{"$f":"②OP記入欄改!M13","v":0},{"$f":"②OP記入欄改!N13","v":0},{"$f":"②OP記入欄改!O13","v":0}]
[null,"スリット作業指示№",null,null,null,null,"M/C№",null,"加工日",null,null,null,"前工程品質情報",null,null,"切断シフト1",null,null,null,"切断シフト2"]
[null,{"$f":"②OP記入欄改!$D$14","v":0},null,null,null,null,"ＳＬ-",{"$f":"②OP記入欄改!$D$15","v":19},{"$f":"②OP記入欄改!$D$4","v":"2025-10-23"},null,null,null,"確認　　　□",null,null,"組","作業者",null,null,"組","作業者"]
[null,"巻芯\n確認"]
[]
[null,null,null,null,null,null,null,null,null,null,null,null,null,null,null,"切替開始",null,null,"　　　　　時　　　　　分"]
[null,null,null,null,null,null,null,null,null,null,null,null,null,null,null,"切断開始",null,null,"　　　　　時　　　　　分"]
[null,null,null,null,null,null,null,null,null,null,null,null,null,null,null,"切断完了",null,null,"　　　　　時　　　　　分"]
[null,null,null,null,null,null,null,null,null,null,null,null,null,null,null,"食事開始",null,null,"　　　　　時　　　　　分"]
[null,null,null,null,null,null,null,null,null,null,null,null,null,null,null,"食事完了",null,null,"　　　　　時　　　　　分"]
[null,null,null,null,null,null,null,null,null,null,null,null,null,null,null,"停機開始",null,null,"　　　　　時　　　　　分"]
[null,null,null,null,null,null,null,null,null,null,null,null,null,null,null,"停機完了",null,null,"　　　　　時　　　　　分"]
[null,null,null,null,null,null,null,null,null,null,null,null,null,null,null,"停機理由"]
[null,null,null,null,null,null,null,null,null,null,null,null,null,null,null,"条件確認","M/C条件設定",null,null,"呼出№",null,{"$f":"②OP記入欄改!$D$16","v":2}]
[null,null,null,null,null,null,null,null,null,null,null,null,null,null,null,null,"欠点検出機",null,null,"使用条件№",null,{"$f":"②OP記入欄改!$D$17","v":1}]
[null,null,null,null,null,null,null,null,null,null,null,null,null,null,null,null,"速度(m/min)",null,null,480]
[null,null,null,null,null,null,null,null,null,null,null,null,null,null,null,null,"張力(N/ｍ・kg)"]
[null,null,null,null,null,null,null,null,null,null,null,null,null,null,null,null,"接圧(N/ｍ・kg)"]
[null,null,null,null,null,null,null,null,null,null,null,null,null,null,null,"外観確認"]
[null,null,null,null,null,null,null,null,null,null,null,null,null,null,null,"表層透過検査",null,null,null,"OK",null,"NG"]
[null,null,null,null,null,null,null,null,null,null,null,null,null,null,null,"巻姿外観確認[ｽﾀｰﾄ/中間/ﾗｽﾄ]"]
[null,null,null,null,null,null,null,null,null,null,null,null,null,null,null,"各枝番に問題無『〇』問題有『☓』を記載"]
[]
[]
[]
[]
[null,null,null,null,null,null,null,null,null,null,null,null,null,null,null,"※『☓』の場合は展開図に内容を記載する"]
[null,null,null,null,null,null,null,null,null,null,null,null,null,null,null,"検材エッジ",null,null,115]
[null,20,null,null,null,null,null,null,null,null,null,null,null,null,20,"表層ロス　　　　　　　ⅿ",null,null,100,null,null,"m"]
[null,null,null,null,null,null,null,null,null,null,null,null,null,null,null,"レザー/丸刃交換",null,null,null,"レザー/丸刃廃棄"]
[null,null,null,620,null,null,null,860,null,null,null,800,null,null,null,"枚",null,null,null,"枚"]
[null,"膜厚測定（ＣＰＰ・VMPET・BRPET）",null,null,null,null,null,null,null,null,null,null,null,null,null,"備考"]
[null,"ラスト"]
[null,"1セット表層"]
[null,"1セット芯"]
[]
[]
[]
[]
[]
[null,"スリット伝票　ＬＯＴ",null,null,null,null,null,{"$f":"②OP記入欄改!$D$5","v":51023357021},null,null,null,"製区",null,{"$f":"②OP記入欄改!$D$7","v":"S"},"品種",null,{"$f":"②OP記入欄改!$D$8","v":"ＣＰＰ2703"}]
[]
[null,"番手",null,{"$f":"②OP記入欄改!$D$9","v":25},"原反名",null,{"$f":"②OP記入欄改!$D$10","v":9041},null,"原反幅",null,{"$f":"②OP記入欄改!$D$11","v":2080},null,"原反長",null,{"$f":"②OP記入欄改!$D$12","v":45000},null,"前工程M/C",null,null,null,{"$f":"②OP記入欄改!$D$13","v":"DF7"}]
[null,"停機内容",null,null,null,null,null,"停機詳細",null,null,null,null,null,null,null,null,null,"停機時間"]
[null,"Ｆ破れ",null,null,"有/無",null,null,null,null,null,null,null,null,null,null,null,null,null,null,null,"hr"]
[null,"耳切れ",null,null,"有/無",null,null,null,null,null,null,null,null,null,null,null,null,null,null,null,"hr"]
[null,"紙管切断",null,null,"有/無",null,null,null,null,null,null,null,null,null,null,null,null,null,null,null,"hr"]
[null,"その他停機内容",null,null,null,null,null,null,null,null,null,null,null,null,null,null,null,null,null,null,"hr"]
[null,"備考"]
[]
[]
[]
[]
[]
[null,"外観確認内容"]
[null,"原反ズレ",null,null,null,"当てキズ",null,null,null,"溝ロール痕",null,null,null,"ＴＤスジ",null,null,null,"ピッチキズ"]
[null,"スリキズ",null,null,null,"クボミシワ",null,null,null,"シワムラ",null,null,null,"変色",null,null,null,"巻芯シワ"]
[null,"切断面・異物"]

{"sheet":"PET","index":25,"n_rows":71,"n_cols":25,"rows_kept":71,"cut":false,"hidden":false,"merged":[[70,1,70,4],[68,1,68,4],[68,5,68,8],[68,9,68,12],[68,13,68,16],[68,17,68,21],[69,1,69,4],[69,5,69,8],[69,9,69,12],[69,13,69,16],[69,17,69,21],[60,7,60,16],[60,17,60,19],[58,4,58,5],[58,7,58,16],[58,17,58,19],[59,4,59,5],[59,7,59,16],[59,17,59,19],[55,16,55,19],[55,20,55,22],[56,4,56,5],[57,4,57,5],[57,7,57,16],[57,17,57,19],[55,4,55,5],[55,6,55,7],[55,8,55,9],[55,10,55,11],[55,12,55,13],[55,14,55,15],[53,1,54,6],[53,7,53,10],[53,11,54,12],[53,13,54,13],[53,14,54,15],[53,16,54,22],[54,7,54,10],[46,13,46,14],[47,1,47,2],[47,3,47,4],[47,5,47,6],[47,7,47,8],[47,9,47,10],[47,11,47,12],[47,13,47,14],[46,1,46,2],[46,3,46,4],[46,5,46,6],[46,7,46,8],[46,9,46,10],[46,11,46,12],[44,1,44,14],[45,1,45,2],[45,3,45,4],[45,5,45,6],[45,7,45,8],[45,9,45,10],[45,11,45,12],[45,13,45,14],[39,15,39,22],[42,15,42,18],[42,19,42,22],[43,15,43,18],[43,19,43,22],[40,18,40,20],[41,18,41,20],[43,4,43,5],[43,10,43,11],[31,15,31,22],[32,15,32,18],[32,19,32,20],[32,21,32,22],[33,15,33,22],[34,15,34,22],[24,15,24,17],[24,18,24,22],[25,15,25,17],[25,18,25,22],[26,15,30,15],[26,16,26,18],[27,16,27,18],[28,16,28,18],[29,16,29,18],[30,16,30,18],[27,19,27,20],[27,21,27,22],[26,21,26,22],[28,19,28,22],[21,15,21,17],[21,18,21,22],[22,15,22,17],[22,18,22,22],[23,15,23,17],[23,18,23,22],[18,15,18,17],[18,18,18,22],[19,15,19,17],[19,18,19,22],[20,15,20,17],[20,18,20,22],[15,1,15,5],[15,8,15,11],[15,12,15,14],[15,16,15,18],[15,20,15,22],[16,1,17,1],[16,15,17,15],[16,16,17,18],[16,19,17,19],[16,20,17,22],[14,1,14,5],[14,6,14,7],[14,8,14,11],[14,12,14,14],[14,15,14,18],[14,19,14,22],[13,2,13,3],[13,4,13,5],[13,6,13,7],[13,11,13,14],[13,15,13,17],[13,18,13,20],[12,2,12,3],[12,4,12,5],[12,6,12,7],[12,11,12,14],[12,15,12,17],[12,18,12,20],[11,2,11,3],[11,4,11,5],[11,6,11,7],[11,11,11,14],[11,15,11,17],[11,18,11,20],[10,2,10,3],[10,4,10,5],[10,6,10,7],[10,11,10,14],[10,15,10,17],[10,18,10,20],[9,2,9,3],[9,4,9,5],[9,6,9,7],[9,11,9,14],[9,15,9,17],[9,18,9,20],[8,2,8,3],[8,4,8,5],[8,6,8,7],[8,11,8,14],[8,15,8,17],[8,18,8,20],[7,2,7,3],[7,4,7,5],[7,6,7,7],[7,11,7,14],[7,15,7,17],[7,18,7,20],[2,10,2,11],[2,12,2,13],[2,14,2,15],[6,2,6,3],[6,4,6,5],[6,6,6,7],[6,11,6,14],[6,15,6,17],[6,18,6,20],[5,2,5,3],[5,4,5,5],[5,6,5,7],[5,11,5,14],[5,15,5,17],[5,18,5,20],[0,1,1,6],[0,7,0,10],[0,11,1,12],[0,13,1,13],[0,14,1,15],[0,16,1,22],[1,7,1,10],[4,2,4,3],[4,4,4,5],[4,6,4,7],[4,11,4,14],[4,15,4,17],[4,18,4,20],[2,16,2,19],[2,20,2,22],[3,2,3,3],[3,4,3,5],[3,6,3,7],[3,11,3,14],[3,15,3,17],[3,18,3,20],[2,4,2,5],[2,6,2,7],[2,8,2,9]]}
[null,"スリット伝票　ＬＯＴ",null,null,null,null,null,{"$f":"②OP記入欄改!$D$5","v":51023357021},null,null,null,"製区",null,{"$f":"②OP記入欄改!$D$7","v":"S"},"品種",null,{"$f":"②OP記入欄改!$D$8","v":"ＣＰＰ2703"}]
[]
[null,"番手",null,{"$f":"②OP記入欄改!$D$9","v":25},"原反名",null,{"$f":"②OP記入欄改!$D$10","v":9041},null,"原反幅",null,{"$f":"②OP記入欄改!$D$11","v":2080},null,"原反長",null,{"$f":"②OP記入欄改!$D$12","v":45000},null,"前工程M/C",null,null,null,{"$f":"②OP記入欄改!$D$13","v":"DF7"}]
[null,null,{"$f":"②OP記入欄改!G3","v":"仕向先"},null,{"$f":"②OP記入欄改!I3","v":"製品幅"},null,{"$f":"②OP記入欄改!K3","v":"製品長さ"},null,{"$f":"②OP記入欄改!M3","v":"計本"},{"$f":"②OP記入欄改!N3","v":"実"},{"$f":"②OP記入欄改!O3","v":"梱形"},"Ａ保枝番",null,null,null,"ミル枝番",null,null,"Ｂ級枝番",null,null,"ロック\nシャフト","コア"]
[null,{"$f":"②OP記入欄改!F4","v":1},{"$f":"②OP記入欄改!G4","v":"ＤＮＰ京都　３Ｄｏｒ３Ｄ６"},null,{"$f":"②OP記入欄改!I4","v":980},null,{"$f":"②OP記入欄改!K4","v":8000},null,{"$f":"②OP記入欄改!M4","v":5},{"$f":"②OP記入欄改!N4","v":0},{"$f":"②OP記入欄改!O4","v":"P"},null,null,null,null,null,null,null,null,null,null,"-",3,null,"-"]
[null,{"$f":"②OP記入欄改!F5","v":2},{"$f":"②OP記入欄改!G5","v":"ＤＮＰ京都　３Ｄｏｒ３Ｄ６"},null,{"$f":"②OP記入欄改!I5","v":1020},null,{"$f":"②OP記入欄改!K5","v":8000},null,{"$f":"②OP記入欄改!M5","v":5},{"$f":"②OP記入欄改!N5","v":0},{"$f":"②OP記入欄改!O5","v":"P"},null,null,null,null,null,null,null,null,null,null,"〇",3,null,"〇"]
[null,{"$f":"②OP記入欄改!F6","v":3},{"$f":"②OP記入欄改!G6","v":"４０００ｍ余剰分"},null,{"$f":"②OP記入欄改!I6","v":1020},null,{"$f":"②OP記入欄改!K6","v":4000},null,{"$f":"②OP記入欄改!M6","v":1},{"$f":"②OP記入欄改!N6","v":0}]
[null,{"$f":"②OP記入欄改!F7","v":4},{"$f":"②OP記入欄改!G7","v":"４０００ｍ余剰分"},null,{"$f":"②OP記入欄改!I7","v":980},null,{"$f":"②OP記入欄改!K7","v":4000},null,{"$f":"②OP記入欄改!M7","v":1},{"$f":"②OP記入欄改!N7","v":0}]
[null,{"$f":"②OP記入欄改!F8","v":5},{"$f":"②OP記入欄改!G8","v":0},null,{"$f":"②OP記入欄改!I8","v":0},null,{"$f":"②OP記入欄改!K8","v":0},null,{"$f":"②OP記入欄改!M8","v":0},{"$f":"②OP記入欄改!N8","v":0},{"$f":"②OP記入欄改!O8","v":0}]
[null,{"$f":"②OP記入欄改!F9","v":6},{"$f":"②OP記入欄改!G9","v":0},null,{"$f":"②OP記入欄改!I9","v":0},null,{"$f":"②OP記入欄改!K9","v":0},null,{"$f":"②OP記入欄改!M9","v":0},{"$f":"②OP記入欄改!N9","v":0},{"$f":"②OP記入欄改!O9","v":0}]
[null,{"$f":"②OP記入欄改!F10","v":7},{"$f":"②OP記入欄改!G10","v":0},null,{"$f":"②OP記入欄改!I10","v":0},null,{"$f":"②OP記入欄改!K10","v":0},null,{"$f":"②OP記入欄改!M10","v":0},{"$f":"②OP記入欄改!N10","v":0},{"$f":"②OP記入欄改!O10","v":0}]
[null,{"$f":"②OP記入欄改!F11","v":8},{"$f":"②OP記入欄改!G11","v":0},null,{"$f":"②OP記入欄改!I11","v":0},null,{"$f":"②OP記入欄改!K11","v":0},null,{"$f":"②OP記入欄改!M11","v":0},{"$f":"②OP記入欄改!N11","v":0},{"$f":"②OP記入欄改!O11","v":0}]
[null,{"$f":"②OP記入欄改!F12","v":9},{"$f":"②OP記入欄改!G12","v":0},null,{"$f":"②OP記入欄改!I12","v":0},null,{"$f":"②OP記入欄改!K12","v":0},null,{"$f":"②OP記入欄改!M12","v":0},{"$f":"②OP記入欄改!N12","v":0},{"$f":"②OP記入欄改!O12","v":0}]
[null,{"$f":"②OP記入欄改!F13","v":10},{"$f":"②OP記入欄改!G13","v":0},null,{"$f":"②OP記入欄改!I13","v":0},null,{"$f":"②OP記入欄改!K13","v":0},null,{"$f":"②OP記入欄改!M13","v":0},{"$f":"②OP記入欄改!N13","v":0},{"$f":"②OP記入欄改!O13","v":0}]
[null,"スリット作業指示№",null,null,null,null,"M/C№",null,"加工日",null,null,null,"前工程品質情報",null,null,"切断シフト1",null,null,null,"切断シフト2"]
[null,{"$f":"②OP記入欄改!$D$14","v":0},null,null,null,null,"ＳＬ-",{"$f":"②OP記入欄改!$D$15","v":19},{"$f":"②OP記入欄改!$D$4","v":"2025-10-23"},null,null,null,"確認　　　□",null,null,"組","作業者",null,null,"組","作業者"]
[null,"巻芯\n確認"]
[]
[null,null,null,null,null,null,null,null,null,null,null,null,null,null,null,"切替開始",null,null,"　　　　　時　　　　　分"]
[null,null,null,null,null,null,null,null,null,null,null,null,null,null,null,"切断開始",null,null,"　　　　　時　　　　　分"]
[null,null,null,null,null,null,null,null,null,null,null,null,null,null,null,"切断完了",null,null,"　　　　　時　　　　　分"]
[null,null,null,null,null,null,null,null,null,null,null,null,null,null,null,"食事開始",null,null,"　　　　　時　　　　　分"]
[null,null,null,null,null,null,null,null,null,null,null,null,null,null,null,"食事完了",null,null,"　　　　　時　　　　　分"]
[null,null,null,null,null,null,null,null,null,null,null,null,null,null,null,"停機開始",null,null,"　　　　　時　　　　　分"]
[null,null,null,null,null,null,null,null,null,null,null,null,null,null,null,"停機完了",null,null,"　　　　　時　　　　　分"]
[null,null,null,null,null,null,null,null,null,null,null,null,null,null,null,"停機理由"]
[null,null,null,null,null,null,null,null,null,null,null,null,null,null,null,"条件確認","M/C条件設定",null,null,"呼出№",null,{"$f":"②OP記入欄改!$D$16","v":2}]
[null,null,null,null,null,null,null,null,null,null,null,null,null,null,null,null,"欠点検出機",null,null,"使用条件№",null,{"$f":"②OP記入欄改!$D$17","v":1}]
[null,null,null,null,null,null,null,null,null,null,null,null,null,null,null,null,"速度(m/min)",null,null,450]
[null,null,null,null,null,null,null,null,null,null,null,null,null,null,null,null,"張力(N/ｍ・kg)"]
[null,null,null,null,null,null,null,null,null,null,null,null,null,null,null,null,"接圧(N/ｍ・kg)"]
[null,null,null,null,null,null,null,null,null,null,null,null,null,null,null,"外観確認"]
[null,null,null,null,null,null,null,null,null,null,null,null,null,null,null,"表層透過検査",null,null,null,"OK",null,"NG"]
[null,null,null,null,null,null,null,null,null,null,null,null,null,null,null,"巻姿外観確認[ｽﾀｰﾄ/中間/ﾗｽﾄ]"]
[null,null,null,null,null,null,null,null,null,null,null,null,null,null,null,"各枝番に問題無『〇』問題有『☓』を記載"]
[]
[]
[]
[]
[null,null,null,null,null,null,null,null,null,null,null,null,null,null,null,"※『☓』の場合は展開図に内容を記載する"]
[null,null,null,null,null,null,null,null,null,null,null,null,null,null,null,"検材エッジ",null,null,305]
[null,60,null,null,null,null,null,null,null,null,null,null,null,null,60,"表層ロス",null,null,"―",null,null,"m"]
[null,null,null,null,null,null,null,null,null,null,null,null,null,null,null,"レザー/丸刃交換",null,null,null,"レザー/丸刃廃棄"]
[null,null,null,null,1080,null,null,null,null,null,740,null,null,null,null,"枚",null,null,null,"枚"]
[null,null,null,null,null,null,null,null,null,null,null,null,null,null,null,"備考"]
[null,"ラスト"]
[null,"1セット表層"]
[null,"1セット芯"]
[]
[]
[]
[]
[]
[null,"スリット伝票　ＬＯＴ",null,null,null,null,null,{"$f":"②OP記入欄改!$D$5","v":51023357021},null,null,null,"製区",null,{"$f":"②OP記入欄改!$D$7","v":"S"},"品種",null,{"$f":"②OP記入欄改!$D$8","v":"ＣＰＰ2703"}]
[]
[null,"番手",null,{"$f":"②OP記入欄改!$D$9","v":25},"原反名",null,{"$f":"②OP記入欄改!$D$10","v":9041},null,"原反幅",null,{"$f":"②OP記入欄改!$D$11","v":2080},null,"原反長",null,{"$f":"②OP記入欄改!$D$12","v":45000},null,"前工程M/C",null,null,null,{"$f":"②OP記入欄改!$D$13","v":"DF7"}]
[null,"停機内容",null,null,null,null,null,"停機詳細",null,null,null,null,null,null,null,null,null,"停機時間"]
[null,"Ｆ破れ",null,null,"有/無",null,null,null,null,null,null,null,null,null,null,null,null,null,null,null,"hr"]
[null,"耳切れ",null,null,"有/無",null,null,null,null,null,null,null,null,null,null,null,null,null,null,null,"hr"]
[null,"紙管切断",null,null,"有/無",null,null,null,null,null,null,null,null,null,null,null,null,null,null,null,"hr"]
[null,"その他停機内容",null,null,null,null,null,null,null,null,null,null,null,null,null,null,null,null,null,null,"hr"]
[null,"備考"]
[]
[]
[]
[]
[]
[null,"外観確認内容"]
[null,"原反ズレ",null,null,null,"当てキズ",null,null,null,"溝ロール痕",null,null,null,"ＴＤスジ",null,null,null,"ピッチキズ"]
[null,"スリキズ",null,null,null,"クボミシワ",null,null,null,"シワムラ",null,null,null,"変色",null,null,null,"巻芯シワ"]
[null,"切断面・異物"]

{"sheet":"PET 3","index":26,"n_rows":71,"n_cols":25,"rows_kept":71,"cut":false,"hidden":false,"merged":[[24,3,24,6],[24,10,24,12],[70,1,70,4],[68,1,68,4],[68,5,68,8],[68,9,68,12],[68,13,68,16],[68,17,68,21],[69,1,69,4],[69,5,69,8],[69,9,69,12],[69,13,69,16],[69,17,69,21],[60,7,60,16],[60,17,60,19],[58,4,58,5],[58,7,58,16],[58,17,58,19],[59,4,59,5],[59,7,59,16],[59,17,59,19],[55,16,55,19],[55,20,55,22],[56,4,56,5],[57,4,57,5],[57,7,57,16],[57,17,57,19],[55,4,55,5],[55,6,55,7],[55,8,55,9],[55,10,55,11],[55,12,55,13],[55,14,55,15],[53,1,54,6],[53,7,53,10],[53,11,54,12],[53,13,54,13],[53,14,54,15],[53,16,54,22],[54,7,54,10],[46,13,46,14],[47,1,47,2],[47,3,47,4],[47,5,47,6],[47,7,47,8],[47,9,47,10],[47,11,47,12],[47,13,47,14],[46,1,46,2],[46,3,46,4],[46,5,46,6],[46,7,46,8],[46,9,46,10],[46,11,46,12],[44,1,44,14],[45,1,45,2],[45,3,45,4],[45,5,45,6],[45,7,45,8],[45,9,45,10],[45,11,45,12],[45,13,45,14],[39,15,39,22],[42,15,42,18],[42,19,42,22],[43,15,43,18],[43,19,43,22],[40,18,40,20],[41,18,41,20],[43,10,43,13],[43,6,43,9],[43,2,43,5],[31,15,31,22],[32,15,32,18],[32,19,32,20],[32,21,32,22],[33,15,33,22],[34,15,34,22],[24,15,24,17],[24,18,24,22],[25,15,25,17],[25,18,25,22],[26,15,30,15],[26,16,26,18],[27,16,27,18],[28,16,28,18],[29,16,29,18],[30,16,30,18],[27,19,27,20],[27,21,27,22],[26,21,26,22],[28,19,28,22],[21,15,21,17],[21,18,21,22],[22,15,22,17],[22,18,22,22],[23,15,23,17],[23,18,23,22],[18,15,18,17],[18,18,18,22],[19,15,19,17],[19,18,19,22],[20,15,20,17],[20,18,20,22],[15,1,15,5],[15,8,15,11],[15,12,15,14],[15,16,15,18],[15,20,15,22],[16,1,17,1],[16,15,17,15],[16,16,17,18],[16,19,17,19],[16,20,17,22],[14,1,14,5],[14,6,14,7],[14,8,14,11],[14,12,14,14],[14,15,14,18],[14,19,14,22],[13,2,13,3],[13,4,13,5],[13,6,13,7],[13,11,13,14],[13,15,13,17],[13,18,13,20],[12,2,12,3],[12,4,12,5],[12,6,12,7],[12,11,12,14],[12,15,12,17],[12,18,12,20],[11,2,11,3],[11,4,11,5],[11,6,11,7],[11,11,11,14],[11,15,11,17],[11,18,11,20],[10,2,10,3],[10,4,10,5],[10,6,10,7],[10,11,10,14],[10,15,10,17],[10,18,10,20],[9,2,9,3],[9,4,9,5],[9,6,9,7],[9,11,9,14],[9,15,9,17],[9,18,9,20],[8,2,8,3],[8,4,8,5],[8,6,8,7],[8,11,8,14],[8,15,8,17],[8,18,8,20],[7,2,7,3],[7,4,7,5],[7,6,7,7],[7,11,7,14],[7,15,7,17],[7,18,7,20],[2,10,2,11],[2,12,2,13],[2,14,2,15],[6,2,6,3],[6,4,6,5],[6,6,6,7],[6,11,6,14],[6,15,6,17],[6,18,6,20],[5,2,5,3],[5,4,5,5],[5,6,5,7],[5,11,5,14],[5,15,5,17],[5,18,5,20],[0,1,1,6],[0,7,0,10],[0,11,1,12],[0,13,1,13],[0,14,1,15],[0,16,1,22],[1,7,1,10],[4,2,4,3],[4,4,4,5],[4,6,4,7],[4,11,4,14],[4,15,4,17],[4,18,4,20],[2,16,2,19],[2,20,2,22],[3,2,3,3],[3,4,3,5],[3,6,3,7],[3,11,3,14],[3,15,3,17],[3,18,3,20],[2,4,2,5],[2,6,2,7],[2,8,2,9]]}
[null,"スリット伝票　ＬＯＴ",null,null,null,null,null,{"$f":"②OP記入欄改!$D$5","v":51023357021},null,null,null,"製区",null,{"$f":"②OP記入欄改!$D$7","v":"S"},"品種",null,{"$f":"②OP記入欄改!$D$8","v":"ＣＰＰ2703"}]
[]
[null,"番手",null,{"$f":"②OP記入欄改!$D$9","v":25},"原反名",null,{"$f":"②OP記入欄改!$D$10","v":9041},null,"原反幅",null,{"$f":"②OP記入欄改!$D$11","v":2080},null,"原反長",null,{"$f":"②OP記入欄改!$D$12","v":45000},null,"前工程M/C",null,null,null,{"$f":"②OP記入欄改!$D$13","v":"DF7"}]
[null,null,{"$f":"②OP記入欄改!G3","v":"仕向先"},null,{"$f":"②OP記入欄改!I3","v":"製品幅"},null,{"$f":"②OP記入欄改!K3","v":"製品長さ"},null,{"$f":"②OP記入欄改!M3","v":"計本"},{"$f":"②OP記入欄改!N3","v":"実"},{"$f":"②OP記入欄改!O3","v":"梱形"},"Ａ保枝番",null,null,null,"ミル枝番",null,null,"Ｂ級枝番",null,null,"ロック\nシャフト","コア"]
[null,{"$f":"②OP記入欄改!F4","v":1},{"$f":"②OP記入欄改!G4","v":"ＤＮＰ京都　３Ｄｏｒ３Ｄ６"},null,{"$f":"②OP記入欄改!I4","v":980},null,{"$f":"②OP記入欄改!K4","v":8000},null,{"$f":"②OP記入欄改!M4","v":5},{"$f":"②OP記入欄改!N4","v":0},{"$f":"②OP記入欄改!O4","v":"P"},null,null,null,null,null,null,null,null,null,null,"-",3,null,"-"]
[null,{"$f":"②OP記入欄改!F5","v":2},{"$f":"②OP記入欄改!G5","v":"ＤＮＰ京都　３Ｄｏｒ３Ｄ６"},null,{"$f":"②OP記入欄改!I5","v":1020},null,{"$f":"②OP記入欄改!K5","v":8000},null,{"$f":"②OP記入欄改!M5","v":5},{"$f":"②OP記入欄改!N5","v":0},{"$f":"②OP記入欄改!O5","v":"P"},null,null,null,null,null,null,null,null,null,null,"-",3,null,"〇"]
[null,{"$f":"②OP記入欄改!F6","v":3},{"$f":"②OP記入欄改!G6","v":"４０００ｍ余剰分"},null,{"$f":"②OP記入欄改!I6","v":1020},null,{"$f":"②OP記入欄改!K6","v":4000},null,{"$f":"②OP記入欄改!M6","v":1},{"$f":"②OP記入欄改!N6","v":0},{"$f":"②OP記入欄改!O6","v":"P"},null,null,null,null,null,null,null,null,null,null,"-",3]
[null,{"$f":"②OP記入欄改!F7","v":4},{"$f":"②OP記入欄改!G7","v":"４０００ｍ余剰分"},null,{"$f":"②OP記入欄改!I7","v":980},null,{"$f":"②OP記入欄改!K7","v":4000},null,{"$f":"②OP記入欄改!M7","v":1},{"$f":"②OP記入欄改!N7","v":0},{"$f":"②OP記入欄改!O7","v":0},null,null,null,null,null,null,null,null,null,null,"-",3]
[null,{"$f":"②OP記入欄改!F8","v":5},{"$f":"②OP記入欄改!G8","v":0},null,{"$f":"②OP記入欄改!I8","v":0},null,{"$f":"②OP記入欄改!K8","v":0},null,{"$f":"②OP記入欄改!M8","v":0},{"$f":"②OP記入欄改!N8","v":0},{"$f":"②OP記入欄改!O8","v":0},null,null,null,null,null,null,null,null,null,null,"-",3]
[null,{"$f":"②OP記入欄改!F9","v":6},{"$f":"②OP記入欄改!G9","v":0},null,{"$f":"②OP記入欄改!I9","v":0},null,{"$f":"②OP記入欄改!K9","v":0},null,{"$f":"②OP記入欄改!M9","v":0},{"$f":"②OP記入欄改!N9","v":0},{"$f":"②OP記入欄改!O9","v":0}]
[null,{"$f":"②OP記入欄改!F10","v":7},{"$f":"②OP記入欄改!G10","v":0},null,{"$f":"②OP記入欄改!I10","v":0},null,{"$f":"②OP記入欄改!K10","v":0},null,{"$f":"②OP記入欄改!M10","v":0},{"$f":"②OP記入欄改!N10","v":0},{"$f":"②OP記入欄改!O10","v":0}]
[null,{"$f":"②OP記入欄改!F11","v":8},{"$f":"②OP記入欄改!G11","v":0},null,{"$f":"②OP記入欄改!I11","v":0},null,{"$f":"②OP記入欄改!K11","v":0},null,{"$f":"②OP記入欄改!M11","v":0},{"$f":"②OP記入欄改!N11","v":0},{"$f":"②OP記入欄改!O11","v":0}]
[null,{"$f":"②OP記入欄改!F12","v":9},{"$f":"②OP記入欄改!G12","v":0},null,{"$f":"②OP記入欄改!I12","v":0},null,{"$f":"②OP記入欄改!K12","v":0},null,{"$f":"②OP記入欄改!M12","v":0},{"$f":"②OP記入欄改!N12","v":0},{"$f":"②OP記入欄改!O12","v":0}]
[null,{"$f":"②OP記入欄改!F13","v":10},{"$f":"②OP記入欄改!G13","v":0},null,{"$f":"②OP記入欄改!I13","v":0},null,{"$f":"②OP記入欄改!K13","v":0},null,{"$f":"②OP記入欄改!M13","v":0},{"$f":"②OP記入欄改!N13","v":0},{"$f":"②OP記入欄改!O13","v":0}]
[null,"スリット作業指示№",null,null,null,null,"M/C№",null,"加工日",null,null,null,"前工程品質情報",null,null,"切断シフト1",null,null,null,"切断シフト2"]
[null,{"$f":"②OP記入欄改!$D$14","v":0},null,null,null,null,"ＳＬ-",{"$f":"②OP記入欄改!$D$15","v":19},{"$f":"②OP記入欄改!$D$4","v":"2025-10-23"},null,null,null,"確認　　　□",null,null,"組","作業者",null,null,"組","作業者"]
[null,"巻芯\n確認"]
[]
[null,null,null,null,null,null,null,null,null,null,null,null,null,null,null,"切替開始",null,null,"　　　　　時　　　　　分"]
[null,null,null,null,null,null,null,null,null,null,null,null,null,null,null,"切断開始",null,null,"　　　　　時　　　　　分"]
[null,null,null,null,null,null,null,null,null,null,null,null,null,null,null,"切断完了",null,null,"　　　　　時　　　　　分"]
[null,null,null,null,null,null,null,null,null,null,null,null,null,null,null,"食事開始",null,null,"　　　　　時　　　　　分"]
[null,null,null,null,null,null,null,null,null,null,null,null,null,null,null,"食事完了",null,null,"　　　　　時　　　　　分"]
[null,null,null,null,null,null,null,null,null,null,null,null,null,null,null,"停機開始",null,null,"　　　　　時　　　　　分"]
[null,null,null,null,null,null,null,null,null,null,null,null,null,null,null,"停機完了",null,null,"　　　　　時　　　　　分"]
[null,null,null,null,null,null,null,null,null,null,null,null,null,null,null,"停機理由"]
[null,null,null,null,null,null,null,null,null,null,null,null,null,null,null,"条件確認","M/C条件設定",null,null,"呼出№",null,{"$f":"②OP記入欄改!$D$16","v":2}]
[null,null,null,null,null,null,null,null,null,null,null,null,null,null,null,null,"欠点検出機",null,null,"使用条件№",null,{"$f":"②OP記入欄改!$D$17","v":1}]
[null,null,null,null,null,null,null,null,null,null,null,null,null,null,null,null,"速度(m/min)",null,null,450]
[null,null,null,null,null,null,null,null,null,null,null,null,null,null,null,null,"張力(N/ｍ・kg)"]
[null,null,null,null,null,null,null,null,null,null,null,null,null,null,null,null,"接圧(N/ｍ・kg)"]
[null,null,null,null,null,null,null,null,null,null,null,null,null,null,null,"外観確認"]
[null,null,null,null,null,null,null,null,null,null,null,null,null,null,null,"表層透過検査",null,null,null,"OK",null,"NG"]
[null,20,null,null,null,null,null,null,null,null,null,null,null,null,20,"巻姿外観確認[ｽﾀｰﾄ/中間/ﾗｽﾄ]"]
[null,null,null,null,null,null,null,null,null,null,null,null,null,null,null,"各枝番に問題無『〇』問題有『☓』を記載"]
[]
[]
[]
[]
[null,null,null,null,null,null,null,null,null,null,null,null,null,null,null,"※『☓』の場合は展開図に内容を記載する"]
[null,null,null,null,null,null,null,null,null,null,null,null,null,null,null,"検材エッジ",null,null,455]
[null,20,null,null,null,null,null,null,null,null,null,null,null,null,20,"表層ロス",null,null,"―",null,null,"m"]
[null,null,null,null,null,null,null,null,null,null,null,null,null,null,null,"レザー/丸刃交換",null,null,null,"レザー/丸刃廃棄"]
[null,null,520,null,null,null,560,null,null,null,520,null,null,null,null,"枚",null,null,null,"枚"]
[null,"膜厚測定（ＣＰＰ・VMPET・BRPET）",null,null,null,null,null,null,null,null,null,null,null,null,null,"備考"]
[null,"ラスト"]
[null,"1セット表層"]
[null,"1セット芯"]
[]
[]
[]
[]
[]
[null,"スリット伝票　ＬＯＴ",null,null,null,null,null,{"$f":"②OP記入欄改!$D$5","v":51023357021},null,null,null,"製区",null,{"$f":"②OP記入欄改!$D$7","v":"S"},"品種",null,{"$f":"②OP記入欄改!$D$8","v":"ＣＰＰ2703"}]
[]
[null,"番手",null,{"$f":"②OP記入欄改!$D$9","v":25},"原反名",null,{"$f":"②OP記入欄改!$D$10","v":9041},null,"原反幅",null,{"$f":"②OP記入欄改!$D$11","v":2080},null,"原反長",null,{"$f":"②OP記入欄改!$D$12","v":45000},null,"前工程M/C",null,null,null,{"$f":"②OP記入欄改!$D$13","v":"DF7"}]
[null,"停機内容",null,null,null,null,null,"停機詳細",null,null,null,null,null,null,null,null,null,"停機時間"]
[null,"Ｆ破れ",null,null,"有/無",null,null,null,null,null,null,null,null,null,null,null,null,null,null,null,"hr"]
[null,"耳切れ",null,null,"有/無",null,null,null,null,null,null,null,null,null,null,null,null,null,null,null,"hr"]
[null,"紙管切断",null,null,"有/無",null,null,null,null,null,null,null,null,null,null,null,null,null,null,null,"hr"]
[null,"その他停機内容",null,null,null,null,null,null,null,null,null,null,null,null,null,null,null,null,null,null,"hr"]
[null,"備考"]
[]
[]
[]
[]
[]
[null,"外観確認内容"]
[null,"原反ズレ",null,null,null,"当てキズ",null,null,null,"溝ロール痕",null,null,null,"ＴＤスジ",null,null,null,"ピッチキズ"]
[null,"スリキズ",null,null,null,"クボミシワ",null,null,null,"シワムラ",null,null,null,"変色",null,null,null,"巻芯シワ"]
[null,"切断面・異物"]

{"sheet":"＃30 2丁","index":27,"n_rows":71,"n_cols":25,"rows_kept":71,"cut":false,"hidden":false,"merged":[[0,7,1,10],[69,1,69,4],[69,5,69,8],[69,9,69,12],[69,13,69,16],[69,17,69,21],[70,1,70,4],[60,7,60,16],[60,17,60,19],[68,1,68,4],[68,5,68,8],[68,9,68,12],[68,13,68,16],[68,17,68,21],[58,4,58,5],[58,7,58,16],[58,17,58,19],[59,4,59,5],[59,7,59,16],[59,17,59,19],[55,16,55,19],[55,20,55,22],[56,4,56,5],[57,4,57,5],[57,7,57,16],[57,17,57,19],[55,4,55,5],[55,6,55,7],[55,8,55,9],[55,10,55,11],[55,12,55,13],[55,14,55,15],[53,1,54,6],[53,7,53,10],[53,11,54,12],[53,13,54,13],[53,14,54,15],[53,16,54,22],[54,7,54,10],[46,13,46,14],[47,1,47,2],[47,3,47,4],[47,5,47,6],[47,7,47,8],[47,9,47,10],[47,11,47,12],[47,13,47,14],[46,1,46,2],[46,3,46,4],[46,5,46,6],[46,7,46,8],[46,9,46,10],[46,11,46,12],[44,1,44,14],[45,1,45,2],[45,3,45,4],[45,5,45,6],[45,7,45,8],[45,9,45,10],[45,11,45,12],[45,13,45,14],[42,15,42,18],[42,19,42,22],[43,15,43,18],[43,19,43,22],[43,8,43,13],[43,2,43,7],[40,18,40,20],[41,18,41,20],[32,15,32,18],[32,19,32,20],[32,21,32,22],[33,15,33,22],[34,15,34,22],[39,15,39,22],[28,19,28,22],[29,16,29,18],[29,19,29,20],[30,16,30,18],[30,19,30,20],[31,15,31,22],[24,15,24,17],[24,18,24,22],[25,15,25,17],[25,18,25,22],[26,15,30,15],[26,16,26,18],[27,16,27,18],[27,19,27,20],[27,21,27,22],[28,16,28,18],[26,21,26,22],[21,15,21,17],[21,18,21,22],[22,15,22,17],[22,18,22,22],[23,15,23,17],[23,18,23,22],[18,15,18,17],[18,18,18,22],[19,15,19,17],[19,18,19,22],[20,15,20,17],[20,18,20,22],[15,1,15,5],[15,8,15,11],[15,12,15,14],[15,16,15,18],[15,20,15,22],[16,1,17,1],[16,15,17,15],[16,16,17,18],[16,19,17,19],[16,20,17,22],[14,1,14,5],[14,6,14,7],[14,8,14,11],[14,12,14,14],[14,15,14,18],[14,19,14,22],[13,2,13,3],[13,4,13,5],[13,6,13,7],[13,11,13,14],[13,15,13,17],[13,18,13,20],[12,2,12,3],[12,4,12,5],[12,6,12,7],[12,11,12,14],[12,15,12,17],[12,18,12,20],[11,2,11,3],[11,4,11,5],[11,6,11,7],[11,11,11,14],[11,15,11,17],[11,18,11,20],[10,2,10,3],[10,4,10,5],[10,6,10,7],[10,11,10,14],[10,15,10,17],[10,18,10,20],[9,2,9,3],[9,4,9,5],[9,6,9,7],[9,11,9,14],[9,15,9,17],[9,18,9,20],[8,2,8,3],[8,4,8,5],[8,6,8,7],[8,11,8,14],[8,15,8,17],[8,18,8,20],[7,2,7,3],[7,4,7,5],[7,6,7,7],[7,11,7,14],[7,15,7,17],[7,18,7,20],[2,14,2,15],[6,2,6,3],[6,4,6,5],[6,6,6,7],[6,11,6,14],[6,15,6,17],[6,18,6,20],[5,2,5,3],[5,4,5,5],[5,6,5,7],[5,11,5,14],[5,15,5,17],[5,18,5,20],[0,1,1,6],[0,11,1,12],[0,13,1,13],[0,14,1,15],[0,16,1,22],[4,2,4,3],[4,4,4,5],[4,6,4,7],[4,11,4,14],[4,15,4,17],[4,18,4,20],[2,16,2,19],[2,20,2,22],[3,2,3,3],[3,4,3,5],[3,6,3,7],[3,11,3,14],[3,15,3,17],[3,18,3,20],[2,4,2,5],[2,6,2,7],[2,8,2,9],[2,10,2,11],[2,12,2,13]]}
[null,"スリット伝票　ＬＯＴ",null,null,null,null,null,{"$f":"②OP記入欄改!$D$5","v":51023357021},null,null,null,"製区",null,{"$f":"②OP記入欄改!$D$7","v":"S"},"品種",null,{"$f":"②OP記入欄改!$D$8","v":"ＣＰＰ2703"}]
[]
[null,"番手",null,{"$f":"②OP記入欄改!$D$9","v":25},"原反名",null,{"$f":"②OP記入欄改!$D$10","v":9041},null,"原反幅",null,{"$f":"②OP記入欄改!$D$11","v":2080},null,"原反長",null,{"$f":"②OP記入欄改!$D$12","v":45000},null,"前工程M/C",null,null,null,{"$f":"②OP記入欄改!$D$13","v":"DF7"}]
[null,null,{"$f":"②OP記入欄改!G3","v":"仕向先"},null,{"$f":"②OP記入欄改!I3","v":"製品幅"},null,{"$f":"②OP記入欄改!K3","v":"製品長さ"},null,{"$f":"②OP記入欄改!M3","v":"計本"},{"$f":"②OP記入欄改!N3","v":"実"},{"$f":"②OP記入欄改!O3","v":"梱形"},"Ａ保枝番",null,null,null,"ミル枝番",null,null,"Ｂ級枝番",null,null,"ロック\nシャフト","コア"]
[null,{"$f":"②OP記入欄改!F4","v":1},{"$f":"②OP記入欄改!G4","v":"ＤＮＰ京都　３Ｄｏｒ３Ｄ６"},null,{"$f":"②OP記入欄改!I4","v":980},null,{"$f":"②OP記入欄改!K4","v":8000},null,{"$f":"②OP記入欄改!M4","v":5},{"$f":"②OP記入欄改!N4","v":0},{"$f":"②OP記入欄改!O4","v":"P"},null,null,null,null,null,null,null,null,null,null,"-",3,null,"-"]
[null,{"$f":"②OP記入欄改!F5","v":2},{"$f":"②OP記入欄改!G5","v":"ＤＮＰ京都　３Ｄｏｒ３Ｄ６"},null,{"$f":"②OP記入欄改!I5","v":1020},null,{"$f":"②OP記入欄改!K5","v":8000},null,{"$f":"②OP記入欄改!M5","v":5},{"$f":"②OP記入欄改!N5","v":0},{"$f":"②OP記入欄改!O5","v":"P"},null,null,null,null,null,null,null,null,null,null,null,null,null,"〇"]
[null,{"$f":"②OP記入欄改!F6","v":3},{"$f":"②OP記入欄改!G6","v":"４０００ｍ余剰分"},null,{"$f":"②OP記入欄改!I6","v":1020},null,{"$f":"②OP記入欄改!K6","v":4000},null,{"$f":"②OP記入欄改!M6","v":1},{"$f":"②OP記入欄改!N6","v":0},{"$f":"②OP記入欄改!O6","v":"P"}]
[null,{"$f":"②OP記入欄改!F7","v":4},{"$f":"②OP記入欄改!G7","v":"４０００ｍ余剰分"},null,{"$f":"②OP記入欄改!I7","v":980},null,{"$f":"②OP記入欄改!K7","v":4000},null,{"$f":"②OP記入欄改!M7","v":1},{"$f":"②OP記入欄改!N7","v":0},{"$f":"②OP記入欄改!O7","v":0}]
[null,{"$f":"②OP記入欄改!F8","v":5},{"$f":"②OP記入欄改!G8","v":0},null,{"$f":"②OP記入欄改!I8","v":0},null,{"$f":"②OP記入欄改!K8","v":0},null,{"$f":"②OP記入欄改!M8","v":0},{"$f":"②OP記入欄改!N8","v":0},{"$f":"②OP記入欄改!O8","v":0}]
[null,{"$f":"②OP記入欄改!F9","v":6},{"$f":"②OP記入欄改!G9","v":0},null,{"$f":"②OP記入欄改!I9","v":0},null,{"$f":"②OP記入欄改!K9","v":0},null,{"$f":"②OP記入欄改!M9","v":0},{"$f":"②OP記入欄改!N9","v":0}]
[null,{"$f":"②OP記入欄改!F10","v":7},{"$f":"②OP記入欄改!G10","v":0},null,{"$f":"②OP記入欄改!I10","v":0},null,{"$f":"②OP記入欄改!K10","v":0},null,{"$f":"②OP記入欄改!M10","v":0},{"$f":"②OP記入欄改!N10","v":0}]
[null,{"$f":"②OP記入欄改!F11","v":8},{"$f":"②OP記入欄改!G11","v":0},null,{"$f":"②OP記入欄改!I11","v":0},null,{"$f":"②OP記入欄改!K11","v":0},null,{"$f":"②OP記入欄改!M11","v":0},{"$f":"②OP記入欄改!N11","v":0}]
[null,{"$f":"②OP記入欄改!F12","v":9},{"$f":"②OP記入欄改!G12","v":0},null,{"$f":"②OP記入欄改!I12","v":0},null,{"$f":"②OP記入欄改!K12","v":0},null,{"$f":"②OP記入欄改!M12","v":0},{"$f":"②OP記入欄改!N12","v":0}]
[null,{"$f":"②OP記入欄改!F13","v":10},{"$f":"②OP記入欄改!G13","v":0},null,{"$f":"②OP記入欄改!I13","v":0},null,{"$f":"②OP記入欄改!K13","v":0},null,{"$f":"②OP記入欄改!M13","v":0},{"$f":"②OP記入欄改!N13","v":0}]
[null,"スリット作業指示№",null,null,null,null,"M/C№",null,"加工日",null,null,null,"前工程品質情報",null,null,"切断シフト1",null,null,null,"切断シフト2"]
[null,{"$f":"②OP記入欄改!$D$14","v":0},null,null,null,null,"ＳＬ-",{"$f":"②OP記入欄改!$D$15","v":19},{"$f":"②OP記入欄改!$D$4","v":"2025-10-23"},null,null,null,"確認　　　□",null,null,"組","作業者",null,null,"組","作業者"]
[null,"巻芯\n確認"]
[]
[null,null,null,null,null,null,null,null,null,null,null,null,null,null,null,"切替開始",null,null,"　　　　　時　　　　　分"]
[null,null,null,null,null,null,null,null,null,null,null,null,null,null,null,"切断開始",null,null,"　　　　　時　　　　　分"]
[null,null,null,null,null,null,null,null,null,null,null,null,null,null,null,"切断完了",null,null,"　　　　　時　　　　　分"]
[null,null,null,null,null,null,null,null,null,null,null,null,null,null,null,"食事開始",null,null,"　　　　　時　　　　　分"]
[null,null,null,null,null,null,null,null,null,null,null,null,null,null,null,"食事完了",null,null,"　　　　　時　　　　　分"]
[null,null,null,null,null,null,null,null,null,null,null,null,null,null,null,"停機開始",null,null,"　　　　　時　　　　　分"]
[null,null,null,null,null,null,null,null,null,null,null,null,null,null,null,"停機完了",null,null,"　　　　　時　　　　　分"]
[null,null,null,null,null,null,null,null,null,null,null,null,null,null,null,"停機理由"]
[null,null,null,null,null,null,null,null,null,null,null,null,null,null,null,"条件確認","M/C条件設定",null,null,"呼出№",null,{"$f":"②OP記入欄改!$D$16","v":2}]
[null,null,null,null,null,null,null,null,null,null,null,null,null,null,null,null,"欠点検出機",null,null,"使用条件№",null,{"$f":"②OP記入欄改!$D$17","v":1}]
[null,null,null,null,null,null,null,null,null,null,null,null,null,null,null,null,"速度(m/min)",null,null,480]
[null,null,null,null,null,null,null,null,null,null,null,null,null,null,null,null,"張力(N/ｍ・kg)"]
[null,null,null,null,null,null,null,null,null,null,null,null,null,null,null,null,"接圧(N/ｍ・kg)"]
[null,null,null,null,null,null,null,null,null,null,null,null,null,null,null,"外観確認"]
[null,null,null,null,null,null,null,null,null,null,null,null,null,null,null,"表層透過検査",null,null,null,"OK",null,"NG"]
[null,null,null,null,null,null,null,null,null,null,null,null,null,null,null,"巻姿外観確認[ｽﾀｰﾄ/中間/ﾗｽﾄ]"]
[null,null,null,null,null,null,null,null,null,null,null,null,null,null,null,"各枝番に問題無『〇』問題有『☓』を記載"]
[]
[]
[]
[]
[null,null,null,null,null,null,null,null,null,null,null,null,null,null,null,"※『☓』の場合は展開図に内容を記載する"]
[null,null,null,null,null,null,null,null,null,null,null,null,null,null,null,"検材エッジ",null,null,415]
[null,20,null,null,null,null,null,null,null,null,null,null,null,null,20,"表層ロス",null,null,0,null,null,"m"]
[null,null,null,null,null,null,null,null,null,null,null,null,null,null,null,"レザー/丸刃交換",null,null,null,"レザー/丸刃廃棄"]
[null,null,840,null,null,null,null,null,840,null,null,null,null,null,null,"  枚",null,null,null,"　枚"]
[null,"膜厚測定（ＣＰＰ・VMPET・BRPET）",null,null,null,null,null,null,null,null,null,null,null,null,null,"備考"]
[null,"ラスト"]
[null,"1セット表層"]
[null,"1セット芯"]
[]
[]
[]
[]
[]
[null,"スリット伝票　ＬＯＴ",null,null,null,null,null,{"$f":"②OP記入欄改!$D$5","v":51023357021},null,null,null,"製区",null,{"$f":"②OP記入欄改!$D$7","v":"S"},"品種",null,{"$f":"②OP記入欄改!$D$8","v":"ＣＰＰ2703"}]
[]
[null,"番手",null,{"$f":"②OP記入欄改!$D$9","v":25},"原反名",null,{"$f":"②OP記入欄改!$D$10","v":9041},null,"原反幅",null,{"$f":"②OP記入欄改!$D$11","v":2080},null,"原反長",null,{"$f":"②OP記入欄改!$D$12","v":45000},null,"前工程M/C",null,null,null,{"$f":"②OP記入欄改!$D$13","v":"DF7"}]
[null,"停機内容",null,null,null,null,null,"停機詳細",null,null,null,null,null,null,null,null,null,"停機時間"]
[null,"Ｆ破れ",null,null,"有/無",null,null,null,null,null,null,null,null,null,null,null,null,null,null,null,"hr"]
[null,"耳切れ",null,null,"有/無",null,null,null,null,null,null,null,null,null,null,null,null,null,null,null,"hr"]
[null,"紙管切断",null,null,"有/無",null,null,null,null,null,null,null,null,null,null,null,null,null,null,null,"hr"]
[null,"その他停機内容",null,null,null,null,null,null,null,null,null,null,null,null,null,null,null,null,null,null,"hr"]
[null,"備考"]
[]
[]
[]
[]
[]
[null,"外観確認内容"]
[null,"原反ズレ",null,null,null,"当てキズ",null,null,null,"溝ロール痕",null,null,null,"ＴＤスジ",null,null,null,"ピッチキズ"]
[null,"スリキズ",null,null,null,"クボミシワ",null,null,null,"シワムラ",null,null,null,"変色",null,null,null,"巻芯シワ"]
[null,"切断面・異物"]

{"sheet":"#30 3丁","index":28,"n_rows":71,"n_cols":25,"rows_kept":71,"cut":false,"hidden":false,"merged":[[0,7,1,10],[0,1,1,6],[0,11,1,12],[0,13,1,13],[0,14,1,15],[0,16,1,22],[4,2,4,3],[4,4,4,5],[4,6,4,7],[4,11,4,14],[4,15,4,17],[4,18,4,20],[2,16,2,19],[2,20,2,22],[3,2,3,3],[3,4,3,5],[3,6,3,7],[3,11,3,14],[3,15,3,17],[3,18,3,20],[2,4,2,5],[2,6,2,7],[2,8,2,9],[2,10,2,11],[2,12,2,13],[2,14,2,15],[6,2,6,3],[6,4,6,5],[6,6,6,7],[6,11,6,14],[6,15,6,17],[6,18,6,20],[5,2,5,3],[5,4,5,5],[5,6,5,7],[5,11,5,14],[5,15,5,17],[5,18,5,20],[8,2,8,3],[8,4,8,5],[8,6,8,7],[8,11,8,14],[8,15,8,17],[8,18,8,20],[7,2,7,3],[7,4,7,5],[7,6,7,7],[7,11,7,14],[7,15,7,17],[7,18,7,20],[10,2,10,3],[10,4,10,5],[10,6,10,7],[10,11,10,14],[10,15,10,17],[10,18,10,20],[9,2,9,3],[9,4,9,5],[9,6,9,7],[9,11,9,14],[9,15,9,17],[9,18,9,20],[12,2,12,3],[12,4,12,5],[12,6,12,7],[12,11,12,14],[12,15,12,17],[12,18,12,20],[11,2,11,3],[11,4,11,5],[11,6,11,7],[11,11,11,14],[11,15,11,17],[11,18,11,20],[14,1,14,5],[14,6,14,7],[14,8,14,11],[14,12,14,14],[14,15,14,18],[14,19,14,22],[13,2,13,3],[13,4,13,5],[13,6,13,7],[13,11,13,14],[13,15,13,17],[13,18,13,20],[15,1,15,5],[15,8,15,11],[15,12,15,14],[15,16,15,18],[15,20,15,22],[16,1,17,1],[16,15,17,15],[16,16,17,18],[16,19,17,19],[16,20,17,22],[21,15,21,17],[21,18,21,22],[22,15,22,17],[22,18,22,22],[23,15,23,17],[23,18,23,22],[18,15,18,17],[18,18,18,22],[19,15,19,17],[19,18,19,22],[20,15,20,17],[20,18,20,22],[24,15,24,17],[24,18,24,22],[25,15,25,17],[25,18,25,22],[26,15,30,15],[26,16,26,18],[27,16,27,18],[27,19,27,20],[27,21,27,22],[28,16,28,18],[26,21,26,22],[32,15,32,18],[32,19,32,20],[32,21,32,22],[33,15,33,22],[34,15,34,22],[39,15,39,22],[28,19,28,22],[29,16,29,18],[29,19,29,22],[30,16,30,18],[30,19,30,22],[31,15,31,22],[44,1,44,14],[45,1,45,2],[45,3,45,4],[45,5,45,6],[45,7,45,8],[45,9,45,10],[45,11,45,12],[45,13,45,14],[42,15,42,18],[42,19,42,22],[43,15,43,18],[43,19,43,22],[43,3,43,4],[43,7,43,8],[43,11,43,12],[40,18,40,20],[41,18,41,20],[53,1,54,6],[53,7,53,10],[53,11,54,12],[53,13,54,13],[53,14,54,15],[53,16,54,22],[54,7,54,10],[46,13,46,14],[47,1,47,2],[47,3,47,4],[47,5,47,6],[47,7,47,8],[47,9,47,10],[47,11,47,12],[47,13,47,14],[46,1,46,2],[46,3,46,4],[46,5,46,6],[46,7,46,8],[46,9,46,10],[46,11,46,12],[58,4,58,5],[58,7,58,16],[58,17,58,19],[59,4,59,5],[59,7,59,16],[59,17,59,19],[55,16,55,19],[55,20,55,22],[56,4,56,5],[57,4,57,5],[57,7,57,16],[57,17,57,19],[55,4,55,5],[55,6,55,7],[55,8,55,9],[55,10,55,11],[55,12,55,13],[55,14,55,15],[69,1,69,4],[69,5,69,8],[69,9,69,12],[69,13,69,16],[69,17,69,21],[70,1,70,4],[60,7,60,16],[60,17,60,19],[68,1,68,4],[68,5,68,8],[68,9,68,12],[68,13,68,16],[68,17,68,21]]}
[null,"スリット伝票　ＬＯＴ",null,null,null,null,null,{"$f":"②OP記入欄改!$D$5","v":51023357021},null,null,null,"製区",null,{"$f":"②OP記入欄改!$D$7","v":"S"},"品種",null,{"$f":"②OP記入欄改!$D$8","v":"ＣＰＰ2703"}]
[]
[null,"番手",null,{"$f":"②OP記入欄改!$D$9","v":25},"原反名",null,{"$f":"②OP記入欄改!$D$10","v":9041},null,"原反幅",null,{"$f":"②OP記入欄改!$D$11","v":2080},null,"原反長",null,{"$f":"②OP記入欄改!$D$12","v":45000},null,"前工程M/C",null,null,null,{"$f":"②OP記入欄改!$D$13","v":"DF7"}]
[null,null,{"$f":"②OP記入欄改!G3","v":"仕向先"},null,{"$f":"②OP記入欄改!I3","v":"製品幅"},null,{"$f":"②OP記入欄改!K3","v":"製品長さ"},null,{"$f":"②OP記入欄改!M3","v":"計本"},{"$f":"②OP記入欄改!N3","v":"実"},{"$f":"②OP記入欄改!O3","v":"梱形"},"Ａ保枝番",null,null,null,"ミル枝番",null,null,"Ｂ級枝番",null,null,"ロック\nシャフト","コア"]
[null,{"$f":"②OP記入欄改!F4","v":1},{"$f":"②OP記入欄改!G4","v":"ＤＮＰ京都　３Ｄｏｒ３Ｄ６"},null,{"$f":"②OP記入欄改!I4","v":980},null,{"$f":"②OP記入欄改!K4","v":8000},null,{"$f":"②OP記入欄改!M4","v":5},{"$f":"②OP記入欄改!N4","v":0},{"$f":"②OP記入欄改!O4","v":"P"},null,null,null,null,null,null,null,null,null,null,"-",3,null,"-"]
[null,{"$f":"②OP記入欄改!F5","v":2},{"$f":"②OP記入欄改!G5","v":"ＤＮＰ京都　３Ｄｏｒ３Ｄ６"},null,{"$f":"②OP記入欄改!I5","v":1020},null,{"$f":"②OP記入欄改!K5","v":8000},null,{"$f":"②OP記入欄改!M5","v":5},{"$f":"②OP記入欄改!N5","v":0},{"$f":"②OP記入欄改!O5","v":"P"},null,null,null,null,null,null,null,null,null,null,"-",3,null,"〇"]
[null,{"$f":"②OP記入欄改!F6","v":3},{"$f":"②OP記入欄改!G6","v":"４０００ｍ余剰分"},null,{"$f":"②OP記入欄改!I6","v":1020},null,{"$f":"②OP記入欄改!K6","v":4000},null,{"$f":"②OP記入欄改!M6","v":1},{"$f":"②OP記入欄改!N6","v":0},{"$f":"②OP記入欄改!O6","v":"P"},null,null,null,null,null,null,null,null,null,null,"-",3]
[null,{"$f":"②OP記入欄改!F7","v":4},{"$f":"②OP記入欄改!G7","v":"４０００ｍ余剰分"},null,{"$f":"②OP記入欄改!I7","v":980},null,{"$f":"②OP記入欄改!K7","v":4000},null,{"$f":"②OP記入欄改!M7","v":1},{"$f":"②OP記入欄改!N7","v":0},{"$f":"②OP記入欄改!O7","v":0}]
[null,{"$f":"②OP記入欄改!F8","v":5},{"$f":"②OP記入欄改!G8","v":0},null,{"$f":"②OP記入欄改!I8","v":0},null,{"$f":"②OP記入欄改!K8","v":0},null,{"$f":"②OP記入欄改!M8","v":0},{"$f":"②OP記入欄改!N8","v":0},{"$f":"②OP記入欄改!O8","v":0}]
[null,{"$f":"②OP記入欄改!F9","v":6},{"$f":"②OP記入欄改!G9","v":0},null,{"$f":"②OP記入欄改!I9","v":0},null,{"$f":"②OP記入欄改!K9","v":0},null,{"$f":"②OP記入欄改!M9","v":0},{"$f":"②OP記入欄改!N9","v":0},{"$f":"②OP記入欄改!O9","v":0}]
[null,{"$f":"②OP記入欄改!F10","v":7},{"$f":"②OP記入欄改!G10","v":0},null,{"$f":"②OP記入欄改!I10","v":0},null,{"$f":"②OP記入欄改!K10","v":0},null,{"$f":"②OP記入欄改!M10","v":0},{"$f":"②OP記入欄改!N10","v":0},{"$f":"②OP記入欄改!O10","v":0}]
[null,{"$f":"②OP記入欄改!F11","v":8},{"$f":"②OP記入欄改!G11","v":0},null,{"$f":"②OP記入欄改!I11","v":0},null,{"$f":"②OP記入欄改!K11","v":0},null,{"$f":"②OP記入欄改!M11","v":0},{"$f":"②OP記入欄改!N11","v":0},{"$f":"②OP記入欄改!O11","v":0}]
[null,{"$f":"②OP記入欄改!F12","v":9},{"$f":"②OP記入欄改!G12","v":0},null,{"$f":"②OP記入欄改!I12","v":0},null,{"$f":"②OP記入欄改!K12","v":0},null,{"$f":"②OP記入欄改!M12","v":0},{"$f":"②OP記入欄改!N12","v":0},{"$f":"②OP記入欄改!O12","v":0}]
[null,{"$f":"②OP記入欄改!F13","v":10},{"$f":"②OP記入欄改!G13","v":0},null,{"$f":"②OP記入欄改!I13","v":0},null,{"$f":"②OP記入欄改!K13","v":0},null,{"$f":"②OP記入欄改!M13","v":0},{"$f":"②OP記入欄改!N13","v":0},{"$f":"②OP記入欄改!O13","v":0}]
[null,"スリット作業指示№",null,null,null,null,"M/C№",null,"加工日",null,null,null,"前工程品質情報",null,null,"切断シフト1",null,null,null,"切断シフト2"]
[null,{"$f":"②OP記入欄改!$D$14","v":0},null,null,null,null,"ＳＬ-",{"$f":"②OP記入欄改!$D$15","v":19},{"$f":"②OP記入欄改!$D$4","v":"2025-10-23"},null,null,null,"確認　　　□",null,null,"組","作業者",null,null,"組","作業者"]
[null,"巻芯\n確認"]
[]
[null,null,null,null,null,null,null,null,null,null,null,null,null,null,null,"切替開始",null,null,"　　　　　時　　　　　分"]
[null,null,null,null,null,null,null,null,null,null,null,null,null,null,null,"切断開始",null,null,"　　　　　時　　　　　分"]
[null,null,null,null,null,null,null,null,null,null,null,null,null,null,null,"切断完了",null,null,"　　　　　時　　　　　分"]
[null,null,null,null,null,null,null,null,null,null,null,null,null,null,null,"食事開始",null,null,"　　　　　時　　　　　分"]
[null,null,null,null,null,null,null,null,null,null,null,null,null,null,null,"食事完了",null,null,"　　　　　時　　　　　分"]
[null,null,null,null,null,null,null,null,null,null,null,null,null,null,null,"停機開始",null,null,"　　　　　時　　　　　分"]
[null,null,null,null,null,null,null,null,null,null,null,null,null,null,null,"停機完了",null,null,"　　　　　時　　　　　分"]
[null,null,null,null,null,null,null,null,null,null,null,null,null,null,null,"停機理由"]
[null,null,null,null,null,null,null,null,null,null,null,null,null,null,null,"条件確認","M/C条件設定",null,null,"呼出№",null,{"$f":"②OP記入欄改!$D$16","v":2}]
[null,null,null,null,null,null,null,null,null,null,null,null,null,null,null,null,"欠点検出機",null,null,"使用条件№",null,{"$f":"②OP記入欄改!$D$17","v":1}]
[null,null,null,null,null,null,null,null,null,null,null,null,null,null,null,null,"速度(m/min)",null,null,480]
[null,null,null,null,null,null,null,null,null,null,null,null,null,null,null,null,"張力(N/ｍ・kg)"]
[null,null,null,null,null,null,null,null,null,null,null,null,null,null,null,null,"接圧(N/ｍ・kg)"]
[null,null,null,null,null,null,null,null,null,null,null,null,null,null,null,"外観確認"]
[null,null,null,null,null,null,null,null,null,null,null,null,null,null,null,"表層透過検査",null,null,null,"OK",null,"NG"]
[null,null,null,null,null,null,null,null,null,null,null,null,null,null,null,"巻姿外観確認[ｽﾀｰﾄ/中間/ﾗｽﾄ]"]
[null,null,null,null,null,null,null,null,null,null,null,null,null,null,null,"各枝番に問題無『〇』問題有『☓』を記載"]
[]
[]
[]
[]
[null,null,null,null,null,null,null,null,null,null,null,null,null,null,null,"※『☓』の場合は展開図に内容を記載する"]
[null,null,null,null,null,null,null,null,null,null,null,null,null,null,null,"検材エッジ",null,null,265]
[null,20,null,null,null,null,null,null,null,null,null,null,null,null,20,"表層ロス",null,null,0,null,null,"m"]
[null,null,null,null,null,null,null,null,null,null,null,null,null,null,null,"レザー/丸刃交換",null,null,null,"レザー/丸刃廃棄"]
[null,null,null,500,null,null,null,840,null,null,null,640,null,null,null,"枚",null,null,null,"枚"]
[null,"膜厚測定（ＣＰＰ・VMPET・BRPET）",null,null,null,null,null,null,null,null,null,null,null,null,null,"備考"]
[null,"ラスト"]
[null,"1セット表層"]
[null,"1セット芯"]
[]
[]
[]
[]
[]
[null,"スリット伝票　ＬＯＴ",null,null,null,null,null,{"$f":"②OP記入欄改!$D$5","v":51023357021},null,null,null,"製区",null,{"$f":"②OP記入欄改!$D$7","v":"S"},"品種",null,{"$f":"②OP記入欄改!$D$8","v":"ＣＰＰ2703"}]
[]
[null,"番手",null,{"$f":"②OP記入欄改!$D$9","v":25},"原反名",null,{"$f":"②OP記入欄改!$D$10","v":9041},null,"原反幅",null,{"$f":"②OP記入欄改!$D$11","v":2080},null,"原反長",null,{"$f":"②OP記入欄改!$D$12","v":45000},null,"前工程M/C",null,null,null,{"$f":"②OP記入欄改!$D$13","v":"DF7"}]
[null,"停機内容",null,null,null,null,null,"停機詳細",null,null,null,null,null,null,null,null,null,"停機時間"]
[null,"Ｆ破れ",null,null,"有/無",null,null,null,null,null,null,null,null,null,null,null,null,null,null,null,"hr"]
[null,"耳切れ",null,null,"有/無",null,null,null,null,null,null,null,null,null,null,null,null,null,null,null,"hr"]
[null,"紙管切断",null,null,"有/無",null,null,null,null,null,null,null,null,null,null,null,null,null,null,null,"hr"]
[null,"その他停機内容",null,null,null,null,null,null,null,null,null,null,null,null,null,null,null,null,null,null,"hr"]
[null,"備考"]
[]
[]
[]
[]
[]
[null,"外観確認内容"]
[null,"原反ズレ",null,null,null,"当てキズ",null,null,null,"溝ロール痕",null,null,null,"ＴＤスジ",null,null,null,"ピッチキズ"]
[null,"スリキズ",null,null,null,"クボミシワ",null,null,null,"シワムラ",null,null,null,"変色",null,null,null,"巻芯シワ"]
[null,"切断面・異物"]

{"sheet":"15セット用","index":29,"n_rows":71,"n_cols":23,"rows_kept":71,"cut":false,"hidden":false,"merged":[[70,1,70,4],[68,1,68,4],[68,5,68,8],[68,9,68,12],[68,13,68,16],[68,17,68,21],[69,1,69,4],[69,5,69,8],[69,9,69,12],[69,13,69,16],[69,17,69,21],[60,7,60,16],[60,17,60,19],[58,4,58,5],[58,7,58,16],[58,17,58,19],[59,4,59,5],[59,7,59,16],[59,17,59,19],[55,16,55,19],[55,20,55,22],[56,4,56,5],[57,4,57,5],[57,7,57,16],[57,17,57,19],[55,4,55,5],[55,6,55,7],[55,8,55,9],[55,10,55,11],[55,12,55,13],[55,14,55,15],[53,1,54,6],[53,7,53,10],[53,11,54,12],[53,13,54,13],[53,14,54,15],[53,16,54,22],[54,7,54,10],[46,13,46,14],[47,1,47,2],[47,3,47,4],[47,5,47,6],[47,7,47,8],[47,9,47,10],[47,11,47,12],[47,13,47,14],[46,1,46,2],[46,3,46,4],[46,5,46,6],[46,7,46,8],[46,9,46,10],[46,11,46,12],[44,1,44,14],[45,1,45,2],[45,3,45,4],[45,5,45,6],[45,7,45,8],[45,9,45,10],[45,11,45,12],[45,13,45,14],[39,15,39,22],[42,15,42,18],[42,19,42,22],[43,15,43,18],[43,19,43,22],[40,18,40,20],[41,18,41,20],[31,15,31,22],[32,15,32,18],[32,19,32,20],[32,21,32,22],[33,15,33,22],[34,15,34,22],[24,15,24,17],[24,18,24,22],[25,15,25,17],[25,18,25,22],[26,15,30,15],[26,16,26,18],[27,16,27,18],[28,16,28,18],[29,16,29,18],[30,16,30,18],[27,19,27,20],[27,21,27,22],[26,21,26,22],[28,19,28,22],[29,19,29,20],[30,19,30,20],[21,15,21,17],[21,18,21,22],[22,15,22,17],[22,18,22,22],[23,15,23,17],[23,18,23,22],[18,15,18,17],[18,18,18,22],[19,15,19,17],[19,18,19,22],[20,15,20,17],[20,18,20,22],[15,1,15,5],[15,8,15,11],[15,12,15,14],[15,16,15,18],[15,20,15,22],[16,1,17,1],[16,15,17,15],[16,16,17,18],[16,19,17,19],[16,20,17,22],[14,1,14,5],[14,6,14,7],[14,8,14,11],[14,12,14,14],[14,15,14,18],[14,19,14,22],[13,2,13,3],[13,4,13,5],[13,6,13,7],[13,11,13,14],[13,15,13,17],[13,18,13,20],[12,2,12,3],[12,4,12,5],[12,6,12,7],[12,11,12,14],[12,15,12,17],[12,18,12,20],[11,2,11,3],[11,4,11,5],[11,6,11,7],[11,11,11,14],[11,15,11,17],[11,18,11,20],[10,2,10,3],[10,4,10,5],[10,6,10,7],[10,11,10,14],[10,15,10,17],[10,18,10,20],[9,2,9,3],[9,4,9,5],[9,6,9,7],[9,11,9,14],[9,15,9,17],[9,18,9,20],[8,2,8,3],[8,4,8,5],[8,6,8,7],[8,11,8,14],[8,15,8,17],[8,18,8,20],[7,2,7,3],[7,4,7,5],[7,6,7,7],[7,11,7,14],[7,15,7,17],[7,18,7,20],[2,12,2,13],[2,14,2,15],[6,2,6,3],[6,4,6,5],[6,6,6,7],[6,11,6,14],[6,15,6,17],[6,18,6,20],[5,2,5,3],[5,4,5,5],[5,6,5,7],[5,11,5,14],[5,15,5,17],[5,18,5,20],[0,7,1,10],[0,1,1,6],[0,11,1,12],[0,13,1,13],[0,14,1,15],[0,16,1,22],[4,2,4,3],[4,4,4,5],[4,6,4,7],[4,11,4,14],[4,15,4,17],[4,18,4,20],[2,16,2,19],[2,20,2,22],[3,2,3,3],[3,4,3,5],[3,6,3,7],[3,11,3,14],[3,15,3,17],[3,18,3,20],[2,4,2,5],[2,6,2,7],[2,8,2,9],[2,10,2,11]]}
[null,"スリット伝票　ＬＯＴ",null,null,null,null,null,{"$f":"②OP記入欄改!$D$5","v":51023357021},null,null,null,"製区",null,{"$f":"②OP記入欄改!$D$7","v":"S"},"品種",null,{"$f":"②OP記入欄改!$D$8","v":"ＣＰＰ2703"}]
[]
[null,"番手",null,{"$f":"②OP記入欄改!$D$9","v":25},"原反名",null,{"$f":"②OP記入欄改!$D$10","v":9041},null,"原反幅",null,{"$f":"②OP記入欄改!$D$11","v":2080},null,"原反長",null,{"$f":"②OP記入欄改!$D$12","v":45000},null,"前工程M/C",null,null,null,{"$f":"②OP記入欄改!$D$13","v":"DF7"}]
[null,null,{"$f":"②OP記入欄改!G3","v":"仕向先"},null,{"$f":"②OP記入欄改!I3","v":"製品幅"},null,{"$f":"②OP記入欄改!K3","v":"製品長さ"},null,{"$f":"②OP記入欄改!M3","v":"計本"},{"$f":"②OP記入欄改!N3","v":"実"},{"$f":"②OP記入欄改!O3","v":"梱形"},"Ａ保枝番",null,null,null,"ミル枝番",null,null,"Ｂ級枝番",null,null,"ロック\nシャフト","コア"]
[null,{"$f":"②OP記入欄改!F4","v":1},{"$f":"②OP記入欄改!G4","v":"ＤＮＰ京都　３Ｄｏｒ３Ｄ６"},null,{"$f":"②OP記入欄改!I4","v":980},null,{"$f":"②OP記入欄改!K4","v":8000},null,{"$f":"②OP記入欄改!M4","v":5},{"$f":"②OP記入欄改!N4","v":0},{"$f":"②OP記入欄改!O4","v":"P"},null,null,null,null,null,null,null,null,null,null,"-",3]
[null,{"$f":"②OP記入欄改!F5","v":2},{"$f":"②OP記入欄改!G5","v":"ＤＮＰ京都　３Ｄｏｒ３Ｄ６"},null,{"$f":"②OP記入欄改!I5","v":1020},null,{"$f":"②OP記入欄改!K5","v":8000},null,{"$f":"②OP記入欄改!M5","v":5},{"$f":"②OP記入欄改!N5","v":0},{"$f":"②OP記入欄改!O5","v":"P"},null,null,null,null,null,null,null,null,null,null,"-",3]
[null,{"$f":"②OP記入欄改!F6","v":3},{"$f":"②OP記入欄改!G6","v":"４０００ｍ余剰分"},null,{"$f":"②OP記入欄改!I6","v":1020},null,{"$f":"②OP記入欄改!K6","v":4000},null,{"$f":"②OP記入欄改!M6","v":1},{"$f":"②OP記入欄改!N6","v":0},{"$f":"②OP記入欄改!O6","v":"P"},null,null,null,null,null,null,null,null,null,null,"-",3]
[null,{"$f":"②OP記入欄改!F7","v":4},{"$f":"②OP記入欄改!G7","v":"４０００ｍ余剰分"},null,{"$f":"②OP記入欄改!I7","v":980},null,{"$f":"②OP記入欄改!K7","v":4000},null,{"$f":"②OP記入欄改!M7","v":1},{"$f":"②OP記入欄改!N7","v":0},{"$f":"②OP記入欄改!O7","v":0},null,null,null,null,null,null,null,null,null,null,"-",3]
[null,{"$f":"②OP記入欄改!F8","v":5},{"$f":"②OP記入欄改!G8","v":0},null,{"$f":"②OP記入欄改!I8","v":0},null,{"$f":"②OP記入欄改!K8","v":0},null,{"$f":"②OP記入欄改!M8","v":0},{"$f":"②OP記入欄改!N8","v":0},{"$f":"②OP記入欄改!O8","v":0}]
[null,{"$f":"②OP記入欄改!F9","v":6},{"$f":"②OP記入欄改!G9","v":0},null,{"$f":"②OP記入欄改!I9","v":0},null,{"$f":"②OP記入欄改!K9","v":0},null,{"$f":"②OP記入欄改!M9","v":0},{"$f":"②OP記入欄改!N9","v":0},{"$f":"②OP記入欄改!O9","v":0}]
[null,{"$f":"②OP記入欄改!F10","v":7},{"$f":"②OP記入欄改!G10","v":0},null,{"$f":"②OP記入欄改!I10","v":0},null,{"$f":"②OP記入欄改!K10","v":0},null,{"$f":"②OP記入欄改!M10","v":0},{"$f":"②OP記入欄改!N10","v":0},{"$f":"②OP記入欄改!O10","v":0}]
[null,{"$f":"②OP記入欄改!F11","v":8},{"$f":"②OP記入欄改!G11","v":0},null,{"$f":"②OP記入欄改!I11","v":0},null,{"$f":"②OP記入欄改!K11","v":0},null,{"$f":"②OP記入欄改!M11","v":0},{"$f":"②OP記入欄改!N11","v":0},{"$f":"②OP記入欄改!O11","v":0}]
[null,{"$f":"②OP記入欄改!F12","v":9},{"$f":"②OP記入欄改!G12","v":0},null,{"$f":"②OP記入欄改!I12","v":0},null,{"$f":"②OP記入欄改!K12","v":0},null,{"$f":"②OP記入欄改!M12","v":0},{"$f":"②OP記入欄改!N12","v":0},{"$f":"②OP記入欄改!O12","v":0}]
[null,{"$f":"②OP記入欄改!F13","v":10},{"$f":"②OP記入欄改!G13","v":0},null,{"$f":"②OP記入欄改!I13","v":0},null,{"$f":"②OP記入欄改!K13","v":0},null,{"$f":"②OP記入欄改!M13","v":0},{"$f":"②OP記入欄改!N13","v":0},{"$f":"②OP記入欄改!O13","v":0}]
[null,"スリット作業指示№",null,null,null,null,"M/C№",null,"加工日",null,null,null,"前工程品質情報",null,null,"切断シフト1",null,null,null,"切断シフト2"]
[null,{"$f":"②OP記入欄改!$D$14","v":0},null,null,null,null,"ＳＬ-",{"$f":"②OP記入欄改!$D$15","v":19},{"$f":"②OP記入欄改!$D$4","v":"2025-10-23"},null,null,null,"確認　　　□",null,null,"組","作業者",null,null,"組","作業者"]
[null,"巻芯\n確認"]
[]
[null,null,null,null,null,null,null,null,null,null,null,null,null,null,null,"切替開始",null,null,"　　　　　時　　　　　分"]
[null,null,null,null,null,null,null,null,null,null,null,null,null,null,null,"切断開始",null,null,"　　　　　時　　　　　分"]
[null,null,null,null,null,null,null,null,null,null,null,null,null,null,null,"切断完了",null,null,"　　　　　時　　　　　分"]
[null,null,null,null,null,null,null,null,null,null,null,null,null,null,null,"食事開始",null,null,"　　　　　時　　　　　分"]
[null,null,null,null,null,null,null,null,null,null,null,null,null,null,null,"食事完了",null,null,"　　　　　時　　　　　分"]
[null,null,null,null,null,null,null,null,null,null,null,null,null,null,null,"停機開始",null,null,"　　　　　時　　　　　分"]
[null,null,null,null,null,null,null,null,null,null,null,null,null,null,null,"停機完了",null,null,"　　　　　時　　　　　分"]
[null,null,null,null,null,null,null,null,null,null,null,null,null,null,null,"停機理由"]
[null,null,null,null,null,null,null,null,null,null,null,null,null,null,null,"条件確認","M/C条件設定",null,null,"呼出№",null,{"$f":"②OP記入欄改!$D$16","v":2}]
[null,null,null,null,null,null,null,null,null,null,null,null,null,null,null,null,"欠点検出機",null,null,"使用条件№",null,{"$f":"②OP記入欄改!$D$17","v":1}]
[null,null,null,null,null,null,null,null,null,null,null,null,null,null,null,null,"速度(m/min)",null,null,480]
[null,null,null,null,null,null,null,null,null,null,null,null,null,null,null,null,"張力(N/ｍ・kg)"]
[null,null,null,null,null,null,null,null,null,null,null,null,null,null,null,null,"接圧(N/ｍ・kg)"]
[null,null,null,null,null,null,null,null,null,null,null,null,null,null,null,"外観確認"]
[null,null,null,null,null,null,null,null,null,null,null,null,null,null,null,"表層透過検査",null,null,null,"OK",null,"NG"]
[null,null,null,null,null,null,null,null,null,null,null,null,null,null,null,"巻姿外観確認[ｽﾀｰﾄ/中間/ﾗｽﾄ]"]
[null,null,null,null,null,null,null,null,null,null,null,null,null,null,null,"各枝番に問題無『〇』問題有『☓』を記載"]
[]
[]
[]
[]
[null,null,null,null,null,null,null,null,null,null,null,null,null,null,null,"※『☓』の場合は展開図に内容を記載する"]
[null,null,null,null,null,null,null,null,null,null,null,null,null,null,null,"検材エッジ",null,null,355]
[null,null,null,null,null,null,null,null,null,null,null,null,null,null,null,"表層ロス",null,null,null,null,null,"m"]
[null,null,null,null,null,null,null,null,null,null,null,null,null,null,null,"レザー/丸刃交換",null,null,null,"レザー/丸刃廃棄"]
[null,null,null,null,null,null,null,null,null,null,null,null,null,null,null,"枚",null,null,null,"枚"]
[null,"膜厚測定（ＣＰＰ・VMPET・BRPET）",null,null,null,null,null,null,null,null,null,null,null,null,null,"備考"]
[null,"ラスト"]
[null,"1セット表層"]
[null,"1セット芯"]
[]
[]
[]
[]
[]
[null,"スリット伝票　ＬＯＴ",null,null,null,null,null,{"$f":"②OP記入欄改!$D$5","v":51023357021},null,null,null,"製区",null,{"$f":"②OP記入欄改!$D$7","v":"S"},"品種",null,{"$f":"②OP記入欄改!$D$8","v":"ＣＰＰ2703"}]
[]
[null,"番手",null,{"$f":"②OP記入欄改!$D$9","v":25},"原反名",null,{"$f":"②OP記入欄改!$D$10","v":9041},null,"原反幅",null,{"$f":"②OP記入欄改!$D$11","v":2080},null,"原反長",null,{"$f":"②OP記入欄改!$D$12","v":45000},null,"前工程M/C",null,null,null,{"$f":"②OP記入欄改!$D$13","v":"DF7"}]
[null,"停機内容",null,null,null,null,null,"停機詳細",null,null,null,null,null,null,null,null,null,"停機時間"]
[null,"Ｆ破れ",null,null,"有/無",null,null,null,null,null,null,null,null,null,null,null,null,null,null,null,"hr"]
[null,"耳切れ",null,null,"有/無",null,null,null,null,null,null,null,null,null,null,null,null,null,null,null,"hr"]
[null,"紙管切断",null,null,"有/無",null,null,null,null,null,null,null,null,null,null,null,null,null,null,null,"hr"]
[null,"その他停機内容",null,null,null,null,null,null,null,null,null,null,null,null,null,null,null,null,null,null,"hr"]
[null,"備考"]
[]
[]
[]
[]
[]
[null,"外観確認内容"]
[null,"原反ズレ",null,null,null,"当てキズ",null,null,null,"溝ロール痕",null,null,null,"ＴＤスジ",null,null,null,"ピッチキズ"]
[null,"スリキズ",null,null,null,"クボミシワ",null,null,null,"シワムラ",null,null,null,"変色",null,null,null,"巻芯シワ"]
[null,"切断面・異物"]

{"sheet":"2丁","index":30,"n_rows":71,"n_cols":26,"rows_kept":71,"cut":false,"hidden":false,"merged":[[0,7,1,10],[0,1,1,6],[0,11,1,12],[0,13,1,13],[0,14,1,15],[0,16,1,22],[4,2,4,3],[4,4,4,5],[4,6,4,7],[4,11,4,14],[4,15,4,17],[4,18,4,20],[2,16,2,19],[2,20,2,22],[3,2,3,3],[3,4,3,5],[3,6,3,7],[3,11,3,14],[3,15,3,17],[3,18,3,20],[2,4,2,5],[2,6,2,7],[2,8,2,9],[2,10,2,11],[2,12,2,13],[2,14,2,15],[6,2,6,3],[6,4,6,5],[6,6,6,7],[6,11,6,14],[6,15,6,17],[6,18,6,20],[5,2,5,3],[5,4,5,5],[5,6,5,7],[5,11,5,14],[5,15,5,17],[5,18,5,20],[8,2,8,3],[8,4,8,5],[8,6,8,7],[8,11,8,14],[8,15,8,17],[8,18,8,20],[7,2,7,3],[7,4,7,5],[7,6,7,7],[7,11,7,14],[7,15,7,17],[7,18,7,20],[10,2,10,3],[10,4,10,5],[10,6,10,7],[10,11,10,14],[10,15,10,17],[10,18,10,20],[9,2,9,3],[9,4,9,5],[9,6,9,7],[9,11,9,14],[9,15,9,17],[9,18,9,20],[12,2,12,3],[12,4,12,5],[12,6,12,7],[12,11,12,14],[12,15,12,17],[12,18,12,20],[11,2,11,3],[11,4,11,5],[11,6,11,7],[11,11,11,14],[11,15,11,17],[11,18,11,20],[14,1,14,5],[14,6,14,7],[14,8,14,11],[14,12,14,14],[14,15,14,18],[14,19,14,22],[13,2,13,3],[13,4,13,5],[13,6,13,7],[13,11,13,14],[13,15,13,17],[13,18,13,20],[15,1,15,5],[15,8,15,11],[15,12,15,14],[15,16,15,18],[15,20,15,22],[16,1,17,1],[16,15,17,15],[16,16,17,18],[16,19,17,19],[16,20,17,22],[21,15,21,17],[21,18,21,22],[22,15,22,17],[22,18,22,22],[23,15,23,17],[23,18,23,22],[18,15,18,17],[18,18,18,22],[19,15,19,17],[19,18,19,22],[20,15,20,17],[20,18,20,22],[31,15,31,22],[32,15,32,18],[32,19,32,20],[32,21,32,22],[33,15,33,22],[34,15,34,22],[24,15,24,17],[24,18,24,22],[25,15,25,17],[25,18,25,22],[26,15,30,15],[26,16,26,18],[27,16,27,18],[28,16,28,18],[29,16,29,18],[30,16,30,18],[27,21,27,22],[27,19,27,20],[28,19,28,22],[29,19,29,20],[30,19,30,20],[26,21,26,22],[44,1,44,14],[45,1,45,2],[45,3,45,4],[45,5,45,6],[45,7,45,8],[45,9,45,10],[45,11,45,12],[45,13,45,14],[39,15,39,22],[40,15,40,22],[42,15,42,18],[42,19,42,22],[43,15,43,18],[43,19,43,22],[43,2,43,7],[43,8,43,13],[53,1,54,6],[53,7,53,10],[53,11,54,12],[53,13,54,13],[53,14,54,15],[53,16,54,22],[54,7,54,10],[46,13,46,14],[47,1,47,2],[47,3,47,4],[47,5,47,6],[47,7,47,8],[47,9,47,10],[47,11,47,12],[47,13,47,14],[46,1,46,2],[46,3,46,4],[46,5,46,6],[46,7,46,8],[46,9,46,10],[46,11,46,12],[58,4,58,5],[58,7,58,16],[58,17,58,19],[59,4,59,5],[59,7,59,16],[59,17,59,19],[55,16,55,19],[55,20,55,22],[56,4,56,5],[57,4,57,5],[57,7,57,16],[57,17,57,19],[55,4,55,5],[55,6,55,7],[55,8,55,9],[55,10,55,11],[55,12,55,13],[55,14,55,15],[69,1,69,4],[69,5,69,8],[69,9,69,12],[69,13,69,16],[69,17,69,21],[70,1,70,4],[60,7,60,16],[60,17,60,19],[68,1,68,4],[68,5,68,8],[68,9,68,12],[68,13,68,16],[68,17,68,21]]}
[null,"スリット伝票　ＬＯＴ",null,null,null,null,null,{"$f":"②OP記入欄改!$D$5","v":51023357021},null,null,null,"製区",null,{"$f":"②OP記入欄改!$D$7","v":"S"},"品種",null,{"$f":"②OP記入欄改!$D$8","v":"ＣＰＰ2703"}]
[]
[null,"番手",null,{"$f":"②OP記入欄改!$D$9","v":25},"原反名",null,{"$f":"②OP記入欄改!$D$10","v":9041},null,"原反幅",null,{"$f":"②OP記入欄改!$D$11","v":2080},null,"原反長",null,{"$f":"②OP記入欄改!$D$12","v":45000},null,"前工程M/C",null,null,null,{"$f":"②OP記入欄改!$D$13","v":"DF7"}]
[null,null,{"$f":"②OP記入欄改!G3","v":"仕向先"},null,{"$f":"②OP記入欄改!I3","v":"製品幅"},null,{"$f":"②OP記入欄改!K3","v":"製品長さ"},null,{"$f":"②OP記入欄改!M3","v":"計本"},{"$f":"②OP記入欄改!N3","v":"実"},{"$f":"②OP記入欄改!O3","v":"梱形"},"Ａ保枝番",null,null,null,"ミル枝番",null,null,"Ｂ級枝番",null,null,"ロック\nシャフト","コア"]
[null,{"$f":"②OP記入欄改!F4","v":1},{"$f":"②OP記入欄改!G4","v":"ＤＮＰ京都　３Ｄｏｒ３Ｄ６"},null,{"$f":"②OP記入欄改!I4","v":980},null,{"$f":"②OP記入欄改!K4","v":8000},null,{"$f":"②OP記入欄改!M4","v":5},{"$f":"②OP記入欄改!N4","v":0},{"$f":"②OP記入欄改!O4","v":"P"},null,null,null,null,null,null,null,null,null,null,"〇",3]
[null,{"$f":"②OP記入欄改!F5","v":2},{"$f":"②OP記入欄改!G5","v":"ＤＮＰ京都　３Ｄｏｒ３Ｄ６"},null,{"$f":"②OP記入欄改!I5","v":1020},null,{"$f":"②OP記入欄改!K5","v":8000},null,{"$f":"②OP記入欄改!M5","v":5},{"$f":"②OP記入欄改!N5","v":0},{"$f":"②OP記入欄改!O5","v":"P"},null,null,null,null,null,null,null,null,null,null,"-",3,null,null,"-"]
[null,{"$f":"②OP記入欄改!F6","v":3},{"$f":"②OP記入欄改!G6","v":"４０００ｍ余剰分"},null,{"$f":"②OP記入欄改!I6","v":1020},null,{"$f":"②OP記入欄改!K6","v":4000},null,{"$f":"②OP記入欄改!M6","v":1},{"$f":"②OP記入欄改!N6","v":0},{"$f":"②OP記入欄改!O6","v":"P"},null,null,null,null,null,null,null,null,null,null,null,null,null,null,"〇"]
[null,{"$f":"②OP記入欄改!F7","v":4},{"$f":"②OP記入欄改!G7","v":"４０００ｍ余剰分"},null,{"$f":"②OP記入欄改!I7","v":980},null,{"$f":"②OP記入欄改!K7","v":4000},null,{"$f":"②OP記入欄改!M7","v":1},{"$f":"②OP記入欄改!N7","v":0},{"$f":"②OP記入欄改!O7","v":0}]
[null,{"$f":"②OP記入欄改!F8","v":5},{"$f":"②OP記入欄改!G8","v":0},null,{"$f":"②OP記入欄改!I8","v":0},null,{"$f":"②OP記入欄改!K8","v":0},null,{"$f":"②OP記入欄改!M8","v":0},{"$f":"②OP記入欄改!N8","v":0},{"$f":"②OP記入欄改!O8","v":0}]
[null,{"$f":"②OP記入欄改!F9","v":6},{"$f":"②OP記入欄改!G9","v":0},null,{"$f":"②OP記入欄改!I9","v":0},null,{"$f":"②OP記入欄改!K9","v":0},null,{"$f":"②OP記入欄改!M9","v":0},{"$f":"②OP記入欄改!N9","v":0},{"$f":"②OP記入欄改!O9","v":0}]
[null,{"$f":"②OP記入欄改!F10","v":7},{"$f":"②OP記入欄改!G10","v":0},null,{"$f":"②OP記入欄改!I10","v":0},null,{"$f":"②OP記入欄改!K10","v":0},null,{"$f":"②OP記入欄改!M10","v":0},{"$f":"②OP記入欄改!N10","v":0},{"$f":"②OP記入欄改!O10","v":0}]
[null,{"$f":"②OP記入欄改!F11","v":8},{"$f":"②OP記入欄改!G11","v":0},null,{"$f":"②OP記入欄改!I11","v":0},null,{"$f":"②OP記入欄改!K11","v":0},null,{"$f":"②OP記入欄改!M11","v":0},{"$f":"②OP記入欄改!N11","v":0},{"$f":"②OP記入欄改!O11","v":0}]
[null,{"$f":"②OP記入欄改!F12","v":9},{"$f":"②OP記入欄改!G12","v":0},null,{"$f":"②OP記入欄改!I12","v":0},null,{"$f":"②OP記入欄改!K12","v":0},null,{"$f":"②OP記入欄改!M12","v":0},{"$f":"②OP記入欄改!N12","v":0},{"$f":"②OP記入欄改!O12","v":0}]
[null,{"$f":"②OP記入欄改!F13","v":10},{"$f":"②OP記入欄改!G13","v":0},null,{"$f":"②OP記入欄改!I13","v":0},null,{"$f":"②OP記入欄改!K13","v":0},null,{"$f":"②OP記入欄改!M13","v":0},{"$f":"②OP記入欄改!N13","v":0},{"$f":"②OP記入欄改!O13","v":0}]
[null,"スリット作業指示№",null,null,null,null,"M/C№",null,"加工日",null,null,null,"前工程品質情報",null,null,"切断シフト1",null,null,null,"切断シフト2"]
[null,{"$f":"②OP記入欄改!$D$14","v":0},null,null,null,null,"ＳＬ-",{"$f":"②OP記入欄改!$D$15","v":19},{"$f":"②OP記入欄改!$D$4","v":"2025-10-23"},null,null,null,"確認　　　□",null,null,"組","作業者",null,null,"組","作業者"]
[null,"巻芯\n確認"]
[]
[null,null,null,null,null,null,null,null,null,null,null,null,null,null,null,"切替開始",null,null,"　　　　　時　　　　　分"]
[null,null,null,null,null,null,null,null,null,null,null,null,null,null,null,"切断開始",null,null,"　　　　　時　　　　　分"]
[null,null,null,null,null,null,null,null,null,null,null,null,null,null,null,"切断完了",null,null,"　　　　　時　　　　　分"]
[null,null,null,null,null,null,null,null,null,null,null,null,null,null,null,"食事開始",null,null,"　　　　　時　　　　　分"]
[null,null,null,null,null,null,null,null,null,null,null,null,null,null,null,"食事完了",null,null,"　　　　　時　　　　　分"]
[null,null,null,null,null,null,null,null,null,null,null,null,null,null,null,"停機開始",null,null,"　　　　　時　　　　　分"]
[null,null,null,null,null,null,null,null,null,null,null,null,null,null,null,"停機完了",null,null,"　　　　　時　　　　　分"]
[null,null,null,null,null,null,null,null,null,null,null,null,null,null,null,"停機理由"]
[null,null,null,null,null,null,null,null,null,null,null,null,null,null,null,"条件確認","M/C条件設定",null,null,"呼出№",null,{"$f":"②OP記入欄改!$D$16","v":2}]
[null,null,null,null,null,null,null,null,null,null,null,null,null,null,null,null,"欠点検出機",null,null,"使用条件№",null,{"$f":"②OP記入欄改!$D$17","v":1}]
[null,null,null,null,null,null,null,null,null,null,null,null,null,null,null,null,"速度(m/min)",null,null,450]
[null,null,null,null,null,null,null,null,null,null,null,null,null,null,null,null,"張力(N/ｍ・kg)"]
[null,null,null,null,null,null,null,null,null,null,null,null,null,null,null,null,"接圧(N/ｍ・kg)"]
[null,null,null,null,null,null,null,null,null,null,null,null,null,null,null,"外観確認"]
[null,null,null,null,null,null,null,null,null,null,null,null,null,null,null,"表層透過検査",null,null,null,"OK",null,"NG"]
[null,null,null,null,null,null,null,null,null,null,null,null,null,null,null,"巻姿外観確認[ｽﾀｰﾄ/中間/ﾗｽﾄ]"]
[null,null,null,null,null,null,null,null,null,null,null,null,null,null,null,"各枝番に問題無『〇』問題有『☓』を記載"]
[]
[]
[]
[]
[null,null,null,null,null,null,null,null,null,null,null,null,null,null,null,"※『☓』の場合は展開図に内容を記載する"]
[null,null,null,null,null,null,null,null,null,null,null,null,null,null,null,"検材エッジ　225ⅿｍ"]
[null,null,null,null,null,null,null,null,null,null,null,null,null,null,null,"表層ロス　　　　　　　ⅿ"]
[null,null,null,null,null,null,null,null,null,null,null,null,null,null,null,"レザー/丸刃交換",null,null,null,"レザー/丸刃廃棄"]
[null,null,null,null,null,null,null,null,null,null,null,null,null,null,null,"　枚",null,null,null,"　枚"]
[null,"膜厚測定（ＣＰＰ・VMPET・BRPET）"]
[null,"ラスト"]
[null,"1セット表層"]
[null,"1セット芯",null,null,null,null,null,null,null,null,null,null,null,null,null,"残",null,null,"m",null,null,null,"Φ"]
[]
[]
[]
[]
[]
[null,"スリット伝票　ＬＯＴ",null,null,null,null,null,{"$f":"②OP記入欄改!$D$5","v":51023357021},null,null,null,"製区",null,{"$f":"②OP記入欄改!$D$7","v":"S"},"品種",null,{"$f":"②OP記入欄改!$D$8","v":"ＣＰＰ2703"}]
[]
[null,"番手",null,{"$f":"②OP記入欄改!$D$9","v":25},"原反名",null,{"$f":"②OP記入欄改!$D$10","v":9041},null,"原反幅",null,{"$f":"②OP記入欄改!$D$11","v":2080},null,"原反長",null,{"$f":"②OP記入欄改!$D$12","v":45000},null,"前工程M/C",null,null,null,{"$f":"②OP記入欄改!$D$13","v":"DF7"}]
[null,"停機内容",null,null,null,null,null,"停機詳細",null,null,null,null,null,null,null,null,null,"停機時間"]
[null,"Ｆ破れ",null,null,"有/無",null,null,null,null,null,null,null,null,null,null,null,null,null,null,null,"hr"]
[null,"耳切れ",null,null,"有/無",null,null,null,null,null,null,null,null,null,null,null,null,null,null,null,"hr"]
[null,"紙管切断",null,null,"有/無",null,null,null,null,null,null,null,null,null,null,null,null,null,null,null,"hr"]
[null,"その他停機内容",null,null,null,null,null,null,null,null,null,null,null,null,null,null,null,null,null,null,"hr"]
[null,"備考"]
[]
[]
[]
[]
[]
[null,"外観確認内容"]
[null,"原反ズレ",null,null,null,"当てキズ",null,null,null,"溝ロール痕",null,null,null,"ＴＤスジ",null,null,null,"ピッチキズ"]
[null,"スリキズ",null,null,null,"クボミシワ",null,null,null,"シワムラ",null,null,null,"変色",null,null,null,"巻芯シワ"]
[null,"切断面・異物"]

{"sheet":"3丁","index":31,"n_rows":71,"n_cols":23,"rows_kept":71,"cut":false,"hidden":false,"merged":[[0,7,1,10],[70,1,70,4],[68,1,68,4],[68,5,68,8],[68,9,68,12],[68,13,68,16],[68,17,68,21],[69,1,69,4],[69,5,69,8],[69,9,69,12],[69,13,69,16],[69,17,69,21],[0,1,1,6],[0,11,1,12],[0,13,1,13],[0,14,1,15],[0,16,1,22],[4,2,4,3],[4,4,4,5],[4,6,4,7],[4,11,4,14],[4,15,4,17],[4,18,4,20],[2,16,2,19],[2,20,2,22],[3,2,3,3],[3,4,3,5],[3,6,3,7],[3,11,3,14],[3,15,3,17],[3,18,3,20],[2,4,2,5],[2,6,2,7],[2,8,2,9],[2,10,2,11],[2,12,2,13],[2,14,2,15],[6,2,6,3],[6,4,6,5],[6,6,6,7],[6,11,6,14],[6,15,6,17],[6,18,6,20],[5,2,5,3],[5,4,5,5],[5,6,5,7],[5,11,5,14],[5,15,5,17],[5,18,5,20],[8,2,8,3],[8,4,8,5],[8,6,8,7],[8,11,8,14],[8,15,8,17],[8,18,8,20],[7,2,7,3],[7,4,7,5],[7,6,7,7],[7,11,7,14],[7,15,7,17],[7,18,7,20],[10,2,10,3],[10,4,10,5],[10,6,10,7],[10,11,10,14],[10,15,10,17],[10,18,10,20],[9,2,9,3],[9,4,9,5],[9,6,9,7],[9,11,9,14],[9,15,9,17],[9,18,9,20],[12,2,12,3],[12,4,12,5],[12,6,12,7],[12,11,12,14],[12,15,12,17],[12,18,12,20],[11,2,11,3],[11,4,11,5],[11,6,11,7],[11,11,11,14],[11,15,11,17],[11,18,11,20],[14,1,14,5],[14,6,14,7],[14,8,14,11],[14,12,14,14],[14,15,14,18],[14,19,14,22],[13,2,13,3],[13,4,13,5],[13,6,13,7],[13,11,13,14],[13,15,13,17],[13,18,13,20],[15,1,15,5],[15,8,15,11],[15,12,15,14],[15,16,15,18],[15,20,15,22],[16,1,17,1],[16,15,17,15],[16,16,17,18],[16,19,17,19],[16,20,17,22],[21,15,21,17],[21,18,21,22],[22,15,22,17],[22,18,22,22],[23,15,23,17],[23,18,23,22],[18,15,18,17],[18,18,18,22],[19,15,19,17],[19,18,19,22],[20,15,20,17],[20,18,20,22],[31,15,31,22],[32,15,32,18],[32,19,32,20],[32,21,32,22],[33,15,33,22],[34,15,34,22],[24,15,24,17],[24,18,24,22],[25,15,25,17],[25,18,25,22],[26,15,30,15],[26,16,26,18],[27,16,27,18],[28,16,28,18],[29,16,29,18],[30,16,30,18],[27,19,27,20],[27,21,27,22],[28,19,28,22],[29,19,29,22],[30,19,30,22],[44,1,44,14],[45,1,45,2],[45,3,45,4],[45,5,45,6],[45,7,45,8],[45,9,45,10],[45,11,45,12],[45,13,45,14],[39,15,39,22],[40,15,40,22],[42,15,42,18],[42,19,42,22],[43,15,43,18],[43,19,43,22],[43,3,43,4],[43,7,43,8],[43,11,43,12],[53,1,54,6],[53,7,53,10],[53,11,54,12],[53,13,54,13],[53,14,54,15],[53,16,54,22],[54,7,54,10],[46,13,46,14],[47,1,47,2],[47,3,47,4],[47,5,47,6],[47,7,47,8],[47,9,47,10],[47,11,47,12],[47,13,47,14],[46,1,46,2],[46,3,46,4],[46,5,46,6],[46,7,46,8],[46,9,46,10],[46,11,46,12],[55,20,55,22],[56,4,56,5],[57,4,57,5],[57,7,57,16],[57,17,57,19],[55,4,55,5],[55,6,55,7],[55,8,55,9],[55,10,55,11],[55,12,55,13],[55,14,55,15],[60,7,60,16],[60,17,60,19],[58,4,58,5],[58,7,58,16],[58,17,58,19],[59,4,59,5],[59,7,59,16],[59,17,59,19],[55,16,55,19]]}
[null,"スリット伝票　ＬＯＴ",null,null,null,null,null,{"$f":"②OP記入欄改!$D$5","v":51023357021},null,null,null,"製区",null,{"$f":"②OP記入欄改!$D$7","v":"S"},"品種",null,{"$f":"②OP記入欄改!$D$8","v":"ＣＰＰ2703"}]
[]
[null,"番手",null,{"$f":"②OP記入欄改!$D$9","v":25},"原反名",null,{"$f":"②OP記入欄改!$D$10","v":9041},null,"原反幅",null,{"$f":"②OP記入欄改!$D$11","v":2080},null,"原反長",null,{"$f":"②OP記入欄改!$D$12","v":45000},null,"前工程M/C",null,null,null,{"$f":"②OP記入欄改!$D$13","v":"DF7"}]
[null,null,{"$f":"②OP記入欄改!G3","v":"仕向先"},null,{"$f":"②OP記入欄改!I3","v":"製品幅"},null,{"$f":"②OP記入欄改!K3","v":"製品長さ"},null,{"$f":"②OP記入欄改!M3","v":"計本"},{"$f":"②OP記入欄改!N3","v":"実"},{"$f":"②OP記入欄改!O3","v":"梱形"},"Ａ保枝番",null,null,null,"ミル枝番",null,null,"Ｂ級枝番",null,null,"ロック\nシャフト","コア"]
[null,{"$f":"②OP記入欄改!F4","v":1},{"$f":"②OP記入欄改!G4","v":"ＤＮＰ京都　３Ｄｏｒ３Ｄ６"},null,{"$f":"②OP記入欄改!I4","v":980},null,{"$f":"②OP記入欄改!K4","v":8000},null,{"$f":"②OP記入欄改!M4","v":5},{"$f":"②OP記入欄改!N4","v":0},{"$f":"②OP記入欄改!O4","v":"P"},null,null,null,null,null,null,null,null,null,null,null,6]
[null,{"$f":"②OP記入欄改!F5","v":2},{"$f":"②OP記入欄改!G5","v":"ＤＮＰ京都　３Ｄｏｒ３Ｄ６"},null,{"$f":"②OP記入欄改!I5","v":1020},null,{"$f":"②OP記入欄改!K5","v":8000},null,{"$f":"②OP記入欄改!M5","v":5},{"$f":"②OP記入欄改!N5","v":0},{"$f":"②OP記入欄改!O5","v":"P"},null,null,null,null,null,null,null,null,null,null,null,6]
[null,{"$f":"②OP記入欄改!F6","v":3},{"$f":"②OP記入欄改!G6","v":"４０００ｍ余剰分"},null,{"$f":"②OP記入欄改!I6","v":1020},null,{"$f":"②OP記入欄改!K6","v":4000},null,{"$f":"②OP記入欄改!M6","v":1},{"$f":"②OP記入欄改!N6","v":0},{"$f":"②OP記入欄改!O6","v":"P"},null,null,null,null,null,null,null,null,null,null,null,6]
[null,{"$f":"②OP記入欄改!F7","v":4},{"$f":"②OP記入欄改!G7","v":"４０００ｍ余剰分"},null,{"$f":"②OP記入欄改!I7","v":980},null,{"$f":"②OP記入欄改!K7","v":4000},null,{"$f":"②OP記入欄改!M7","v":1},{"$f":"②OP記入欄改!N7","v":0},{"$f":"②OP記入欄改!O7","v":0},null,null,null,null,null,null,null,null,null,null,null,6]
[null,{"$f":"②OP記入欄改!F8","v":5},{"$f":"②OP記入欄改!G8","v":0},null,{"$f":"②OP記入欄改!I8","v":0},null,{"$f":"②OP記入欄改!K8","v":0},null,{"$f":"②OP記入欄改!M8","v":0},{"$f":"②OP記入欄改!N8","v":0},"Ｐ",null,null,null,null,null,null,null,null,null,null,null,6]
[null,{"$f":"②OP記入欄改!F9","v":6},{"$f":"②OP記入欄改!G9","v":0},null,740,null,{"$f":"②OP記入欄改!K9","v":0},null,{"$f":"②OP記入欄改!M9","v":0},{"$f":"②OP記入欄改!N9","v":0},"Ｐ",null,null,null,null,null,null,null,null,null,null,null,6]
[null,{"$f":"②OP記入欄改!F10","v":7},{"$f":"②OP記入欄改!G10","v":0},null,{"$f":"②OP記入欄改!I10","v":0},null,{"$f":"②OP記入欄改!K10","v":0},null,{"$f":"②OP記入欄改!M10","v":0},{"$f":"②OP記入欄改!N10","v":0},{"$f":"②OP記入欄改!O10","v":0},null,null,null,null,null,null,null,null,null,null,null,6]
[null,{"$f":"②OP記入欄改!F11","v":8},{"$f":"②OP記入欄改!G11","v":0},null,{"$f":"②OP記入欄改!I11","v":0},null,{"$f":"②OP記入欄改!K11","v":0},null,{"$f":"②OP記入欄改!M11","v":0},{"$f":"②OP記入欄改!N11","v":0},{"$f":"②OP記入欄改!O11","v":0},null,null,null,null,null,null,null,null,null,null,null,6]
[null,{"$f":"②OP記入欄改!F12","v":9},{"$f":"②OP記入欄改!G12","v":0},null,{"$f":"②OP記入欄改!I12","v":0},null,{"$f":"②OP記入欄改!K12","v":0},null,{"$f":"②OP記入欄改!M12","v":0},{"$f":"②OP記入欄改!N12","v":0},{"$f":"②OP記入欄改!O12","v":0},null,null,null,null,null,null,null,null,null,null,null,6]
[null,{"$f":"②OP記入欄改!F13","v":10},{"$f":"②OP記入欄改!G13","v":0},null,{"$f":"②OP記入欄改!I13","v":0},null,{"$f":"②OP記入欄改!K13","v":0},null,{"$f":"②OP記入欄改!M13","v":0},{"$f":"②OP記入欄改!N13","v":0},{"$f":"②OP記入欄改!O13","v":0},null,null,null,null,null,null,null,null,null,null,null,6]
[null,"スリット作業指示№",null,null,null,null,"M/C№",null,"加工日",null,null,null,"前工程品質情報",null,null,"切断シフト1",null,null,null,"切断シフト2"]
[null,{"$f":"②OP記入欄改!$D$14","v":0},null,null,null,null,"ＳＬ-",{"$f":"②OP記入欄改!$D$15","v":19},{"$f":"②OP記入欄改!$D$4","v":"2025-10-23"},null,null,null,"確認　　　□",null,null,"組","作業者",null,null,"組","作業者"]
[null,"巻芯\n確認"]
[]
[null,null,null,null,null,null,null,null,null,null,null,null,null,null,null,"切替開始",null,null,"　　　　　時　　　　　分"]
[null,null,null,null,null,null,null,null,null,null,null,null,null,null,null,"切断開始",null,null,"　　　　　時　　　　　分"]
[null,null,null,null,null,null,null,null,null,null,null,null,null,null,null,"切断完了",null,null,"　　　　　時　　　　　分"]
[null,null,null,null,null,null,null,null,null,null,null,null,null,null,null,"食事開始",null,null,"　　　　　時　　　　　分"]
[null,null,null,null,null,null,null,null,null,null,null,null,null,null,null,"食事完了",null,null,"　　　　　時　　　　　分"]
[null,null,null,null,null,null,null,null,null,null,null,null,null,null,null,"停機開始",null,null,"　　　　　時　　　　　分"]
[null,null,null,null,null,null,null,null,null,null,null,null,null,null,null,"停機完了",null,null,"　　　　　時　　　　　分"]
[null,null,null,null,null,null,null,null,null,null,null,null,null,null,null,"停機理由"]
[null,null,null,null,null,null,null,null,null,null,null,null,null,null,null,"条件確認","M/C条件設定",null,null,"呼出№",null,null,{"$f":"②OP記入欄改!$D$16","v":2}]
[null,null,null,null,null,null,null,null,null,null,null,null,null,null,null,null,"欠点検出機",null,null,"使用条件№",null,{"$f":"②OP記入欄改!$D$17","v":1}]
[null,null,null,null,null,null,null,null,null,null,null,null,null,null,null,null,"速度(m/min)",null,null,450]
[null,null,null,null,null,null,null,null,null,null,null,null,null,null,null,null,"張力(N/ｍ・kg)",null,null,14]
[null,null,null,null,null,null,null,null,null,null,null,null,null,null,null,null,"接圧(N/ｍ・kg)",null,null,20]
[null,null,null,null,null,null,null,null,null,null,null,null,null,null,null,"外観確認"]
[null,null,null,null,null,null,null,null,null,null,null,null,null,null,null,"表層透過検査",null,null,null,"OK",null,"NG"]
[null,null,null,null,null,null,null,null,null,null,null,null,null,null,null,"巻姿外観確認[ｽﾀｰﾄ/中間/ﾗｽﾄ]"]
[null,null,null,null,null,null,null,null,null,null,null,null,null,null,null,"各枝番に問題無『〇』問題有『☓』を記載"]
[]
[]
[]
[]
[null,null,null,null,null,null,null,null,null,null,null,null,null,null,null,"※『☓』の場合は展開図に内容を記載する"]
[null,null,null,null,null,null,null,null,null,null,null,null,null,null,null,"検材エッジ　　　　　　ⅿｍ"]
[null,20,null,null,null,null,null,null,null,null,null,null,null,null,20,"表層ロス　　　　　　　ⅿ"]
[null,null,null,null,null,null,null,null,null,null,null,null,null,null,null,"レザー/丸刃交換",null,null,null,"レザー/丸刃廃棄"]
[null,null,null,580,null,null,null,720,null,null,null,640,null,null,null,"　　枚",null,null,null,"　　枚"]
[null,"膜厚測定（ＣＰＰ・VMPET・BRPET）",null,null,null,null,null,null,null,null,null,null,null,null,null,"備考"]
[null,"ラスト"]
[null,"1セット表層"]
[null,"1セット芯",null,null,null,null,null,null,null,null,null,null,null,null,null,"残",null,null,"m",null,null,null,"Φ"]
[]
[]
[]
[]
[]
[null,"スリット伝票　ＬＯＴ",null,null,null,null,null,{"$f":"②OP記入欄改!$D$5","v":51023357021},null,null,null,"製区",null,{"$f":"②OP記入欄改!$D$7","v":"S"},"品種",null,{"$f":"②OP記入欄改!$D$8","v":"ＣＰＰ2703"}]
[]
[null,"番手",null,{"$f":"②OP記入欄改!$D$9","v":25},"原反名",null,{"$f":"②OP記入欄改!$D$10","v":9041},null,"原反幅",null,{"$f":"②OP記入欄改!$D$11","v":2080},null,"原反長",null,{"$f":"②OP記入欄改!$D$12","v":45000},null,"前工程M/C",null,null,null,{"$f":"②OP記入欄改!$D$13","v":"DF7"}]
[null,"停機内容",null,null,null,null,null,"停機詳細",null,null,null,null,null,null,null,null,null,"停機時間"]
[null,"Ｆ破れ",null,null,"有/無",null,null,null,null,null,null,null,null,null,null,null,null,null,null,null,"hr"]
[null,"耳切れ",null,null,"有/無",null,null,null,null,null,null,null,null,null,null,null,null,null,null,null,"hr"]
[null,"紙管切断",null,null,"有/無",null,null,null,null,null,null,null,null,null,null,null,null,null,null,null,"hr"]
[null,"その他停機内容",null,null,null,null,null,null,null,null,null,null,null,null,null,null,null,null,null,null,"hr"]
[null,"備考"]
[]
[]
[]
[]
[]
[null,"外観確認内容"]
[null,"原反ズレ",null,null,null,"当てキズ",null,null,null,"溝ロール痕",null,null,null,"ＴＤスジ",null,null,null,"ピッチキズ"]
[null,"スリキズ",null,null,null,"クボミシワ",null,null,null,"シワムラ",null,null,null,"変色",null,null,null,"巻芯シワ"]
[null,"切断面・異物"]

{"sheet":"ＣＰＰ#40","index":32,"n_rows":71,"n_cols":23,"rows_kept":71,"cut":false,"hidden":false,"merged":[[69,1,69,4],[69,5,69,8],[69,9,69,12],[69,13,69,16],[69,17,69,21],[70,1,70,4],[60,7,60,16],[60,17,60,19],[68,1,68,4],[68,5,68,8],[68,9,68,12],[68,13,68,16],[68,17,68,21],[55,20,55,22],[56,4,56,5],[57,4,57,5],[57,7,57,16],[57,17,57,19],[55,4,55,5],[55,6,55,7],[55,8,55,9],[55,10,55,11],[55,12,55,13],[55,14,55,15],[46,7,46,8],[46,9,46,10],[46,11,46,12],[58,4,58,5],[58,7,58,16],[58,17,58,19],[59,4,59,5],[59,7,59,16],[59,17,59,19],[55,16,55,19],[42,19,42,22],[43,2,43,7],[43,8,43,13],[43,15,43,18],[43,19,43,22],[40,18,40,20],[53,1,54,6],[53,7,53,10],[53,11,54,12],[53,13,54,13],[53,14,54,15],[53,16,54,22],[54,7,54,10],[46,13,46,14],[47,1,47,2],[47,3,47,4],[47,5,47,6],[47,7,47,8],[47,9,47,10],[47,11,47,12],[47,13,47,14],[46,1,46,2],[46,3,46,4],[46,5,46,6],[44,1,44,14],[45,1,45,2],[45,3,45,4],[45,5,45,6],[45,7,45,8],[45,9,45,10],[45,11,45,12],[45,13,45,14],[42,15,42,18],[32,15,32,18],[32,19,32,20],[32,21,32,22],[33,15,33,22],[34,15,34,22],[39,15,39,22],[28,19,28,22],[29,16,29,18],[29,19,29,20],[30,16,30,18],[30,19,30,20],[31,15,31,22],[24,15,24,17],[24,18,24,22],[25,15,25,17],[25,18,25,22],[26,15,30,15],[26,16,26,18],[27,16,27,18],[27,19,27,20],[27,21,27,22],[28,16,28,18],[21,15,21,17],[21,18,21,22],[22,15,22,17],[22,18,22,22],[23,15,23,17],[23,18,23,22],[18,15,18,17],[18,18,18,22],[19,15,19,17],[19,18,19,22],[20,15,20,17],[20,18,20,22],[15,1,15,5],[15,8,15,11],[15,12,15,14],[15,16,15,18],[15,20,15,22],[16,1,17,1],[16,15,17,15],[16,16,17,18],[16,19,17,19],[16,20,17,22],[14,1,14,5],[14,6,14,7],[14,8,14,11],[14,12,14,14],[14,15,14,18],[14,19,14,22],[13,2,13,3],[13,4,13,5],[13,6,13,7],[13,11,13,14],[13,15,13,17],[13,18,13,20],[12,2,12,3],[12,4,12,5],[12,6,12,7],[12,11,12,14],[12,15,12,17],[12,18,12,20],[11,2,11,3],[11,4,11,5],[11,6,11,7],[11,11,11,14],[11,15,11,17],[11,18,11,20],[10,2,10,3],[10,4,10,5],[10,6,10,7],[10,11,10,14],[10,15,10,17],[10,18,10,20],[9,2,9,3],[9,4,9,5],[9,6,9,7],[9,11,9,14],[9,15,9,17],[9,18,9,20],[8,2,8,3],[8,4,8,5],[8,6,8,7],[8,11,8,14],[8,15,8,17],[8,18,8,20],[7,2,7,3],[7,4,7,5],[7,6,7,7],[7,11,7,14],[7,15,7,17],[7,18,7,20],[2,12,2,13],[2,14,2,15],[6,2,6,3],[6,4,6,5],[6,6,6,7],[6,11,6,14],[6,15,6,17],[6,18,6,20],[5,2,5,3],[5,4,5,5],[5,6,5,7],[5,11,5,14],[5,15,5,17],[5,18,5,20],[0,1,1,6],[0,11,1,12],[0,13,1,13],[0,14,1,15],[0,16,1,22],[0,7,1,10],[4,2,4,3],[4,4,4,5],[4,6,4,7],[4,11,4,14],[4,15,4,17],[4,18,4,20],[2,16,2,19],[2,20,2,22],[3,2,3,3],[3,4,3,5],[3,6,3,7],[3,11,3,14],[3,15,3,17],[3,18,3,20],[2,4,2,5],[2,6,2,7],[2,8,2,9],[2,10,2,11]]}
[null,"スリット伝票　ＬＯＴ",null,null,null,null,null,{"$f":"②OP記入欄改!$D$5","v":51023357021},null,null,null,"製区",null,{"$f":"②OP記入欄改!$D$7","v":"S"},"品種",null,{"$f":"②OP記入欄改!$D$8","v":"ＣＰＰ2703"}]
[]
[null,"番手",null,{"$f":"②OP記入欄改!$D$9","v":25},"原反名",null,{"$f":"②OP記入欄改!$D$10","v":9041},null,"原反幅",null,{"$f":"②OP記入欄改!$D$11","v":2080},null,"原反長",null,{"$f":"②OP記入欄改!$D$12","v":45000},null,"前工程M/C",null,null,null,{"$f":"②OP記入欄改!$D$13","v":"DF7"}]
[null,null,{"$f":"②OP記入欄改!G3","v":"仕向先"},null,{"$f":"②OP記入欄改!I3","v":"製品幅"},null,{"$f":"②OP記入欄改!K3","v":"製品長さ"},null,{"$f":"②OP記入欄改!M3","v":"計本"},{"$f":"②OP記入欄改!N3","v":"実"},{"$f":"②OP記入欄改!O3","v":"梱形"},"Ａ保枝番",null,null,null,"ミル枝番",null,null,"Ｂ級枝番",null,null,"ロック\nシャフト","コア"]
[null,{"$f":"②OP記入欄改!F4","v":1},{"$f":"②OP記入欄改!G4","v":"ＤＮＰ京都　３Ｄｏｒ３Ｄ６"},null,{"$f":"②OP記入欄改!I4","v":980},null,{"$f":"②OP記入欄改!K4","v":8000},null,{"$f":"②OP記入欄改!M4","v":5},{"$f":"②OP記入欄改!N4","v":0},{"$f":"②OP記入欄改!O4","v":"P"},null,null,null,null,null,null,null,null,null,null,null,6]
[null,{"$f":"②OP記入欄改!F5","v":2},{"$f":"②OP記入欄改!G5","v":"ＤＮＰ京都　３Ｄｏｒ３Ｄ６"},null,{"$f":"②OP記入欄改!I5","v":1020},null,{"$f":"②OP記入欄改!K5","v":8000},null,{"$f":"②OP記入欄改!M5","v":5},{"$f":"②OP記入欄改!N5","v":0},{"$f":"②OP記入欄改!O5","v":"P"},null,null,null,null,null,null,null,null,null,null,null,6]
[null,{"$f":"②OP記入欄改!F6","v":3},{"$f":"②OP記入欄改!G6","v":"４０００ｍ余剰分"},null,{"$f":"②OP記入欄改!I6","v":1020},null,{"$f":"②OP記入欄改!K6","v":4000},null,{"$f":"②OP記入欄改!M6","v":1},{"$f":"②OP記入欄改!N6","v":0},{"$f":"②OP記入欄改!O6","v":"P"},null,null,null,null,null,null,null,null,null,null,null,6]
[null,{"$f":"②OP記入欄改!F7","v":4},{"$f":"②OP記入欄改!G7","v":"４０００ｍ余剰分"},null,{"$f":"②OP記入欄改!I7","v":980},null,{"$f":"②OP記入欄改!K7","v":4000},null,{"$f":"②OP記入欄改!M7","v":1},{"$f":"②OP記入欄改!N7","v":0},{"$f":"②OP記入欄改!O7","v":0},null,null,null,null,null,null,null,null,null,null,null,6]
[null,{"$f":"②OP記入欄改!F8","v":5},{"$f":"②OP記入欄改!G8","v":0},null,{"$f":"②OP記入欄改!I8","v":0},null,{"$f":"②OP記入欄改!K8","v":0},null,{"$f":"②OP記入欄改!M8","v":0},{"$f":"②OP記入欄改!N8","v":0}," ",null,null,null,null,null,null,null,null,null,null,null,6]
[null,{"$f":"②OP記入欄改!F9","v":6},{"$f":"②OP記入欄改!G9","v":0},null,{"$f":"②OP記入欄改!I9","v":0},null,{"$f":"②OP記入欄改!K9","v":0},null,{"$f":"②OP記入欄改!M9","v":0},{"$f":"②OP記入欄改!N9","v":0}," ",null,null,null,null,null,null,null,null,null,null,null,6]
[null,{"$f":"②OP記入欄改!F10","v":7},{"$f":"②OP記入欄改!G10","v":0},null,{"$f":"②OP記入欄改!I10","v":0},null,{"$f":"②OP記入欄改!K10","v":0},null,{"$f":"②OP記入欄改!M10","v":0},{"$f":"②OP記入欄改!N10","v":0},{"$f":"②OP記入欄改!O10","v":0},null,null,null,null,null,null,null,null,null,null,null,6]
[null,{"$f":"②OP記入欄改!F11","v":8},{"$f":"②OP記入欄改!G11","v":0},null,{"$f":"②OP記入欄改!I11","v":0},null,{"$f":"②OP記入欄改!K11","v":0},null,{"$f":"②OP記入欄改!M11","v":0},{"$f":"②OP記入欄改!N11","v":0},{"$f":"②OP記入欄改!O11","v":0},null,null,null,null,null,null,null,null,null,null,null,6]
[null,{"$f":"②OP記入欄改!F12","v":9},{"$f":"②OP記入欄改!G12","v":0},null,{"$f":"②OP記入欄改!I12","v":0},null,{"$f":"②OP記入欄改!K12","v":0},null,{"$f":"②OP記入欄改!M12","v":0},{"$f":"②OP記入欄改!N12","v":0},{"$f":"②OP記入欄改!O12","v":0},null,null,null,null,null,null,null,null,null,null,null,6]
[null,{"$f":"②OP記入欄改!F13","v":10},{"$f":"②OP記入欄改!G13","v":0},null,{"$f":"②OP記入欄改!I13","v":0},null,{"$f":"②OP記入欄改!K13","v":0},null,{"$f":"②OP記入欄改!M13","v":0},{"$f":"②OP記入欄改!N13","v":0},{"$f":"②OP記入欄改!O13","v":0},null,null,null,null,null,null,null,null,null,null,null,6]
[null,"スリット作業指示№",null,null,null,null,"M/C№",null,"加工日",null,null,null,"前工程品質情報",null,null,"切断シフト1",null,null,null,"切断シフト2"]
[null,{"$f":"②OP記入欄改!$D$14","v":0},null,null,null,null,"ＳＬ-",{"$f":"②OP記入欄改!$D$15","v":19},{"$f":"②OP記入欄改!$D$4","v":"2025-10-23"},null,null,null,"確認　　　□",null,null,"組","作業者",null,null,"組","作業者"]
[null,"巻芯\n確認"]
[]
[null,null,null,null,null,null,null,null,null,null,null,null,null,null,null,"切替開始",null,null,"　　　　　時　　　　　分"]
[null,null,null,null,null,null,null,null,null,null,null,null,null,null,null,"切断開始",null,null,"　　　　　時　　　　　分"]
[null,null,null,null,null,null,null,null,null,null,null,null,null,null,null,"切断完了",null,null,"　　　　　時　　　　　分"]
[null,null,null,null,null,null,null,null,null,null,null,null,null,null,null,"食事開始",null,null,"　　　　　時　　　　　分"]
[null,null,null,null,null,null,null,null,null,null,null,null,null,null,null,"食事完了",null,null,"　　　　　時　　　　　分"]
[null,null,null,null,null,null,null,null,null,null,null,null,null,null,null,"停機開始",null,null,"　　　　　時　　　　　分"]
[null,null,null,null,null,null,null,null,null,null,null,null,null,null,null,"停機完了",null,null,"　　　　　時　　　　　分"]
[null,null,null,null,null,null,null,null,null,null,null,null,null,null,null,"停機理由"]
[null,null,null,null,null,null,null,null,null,null,null,null,null,null,null,"条件確認","M/C条件設定",null,null,"呼出№",null,null,{"$f":"②OP記入欄改!$D$16","v":2}]
[null,null,null,null,null,null,null,null,null,null,null,null,null,null,null,null,"欠点検出機",null,null,"使用条件№",null,{"$f":"②OP記入欄改!$D$17","v":1}]
[null,null,null,null,null,null,null,null,null,null,null,null,null,null,null,null,"速度(m/min)",null,null,400]
[null,null,null,null,null,null,null,null,null,null,null,null,null,null,null,null,"張力(N/ｍ・kg)"]
[null,null,null,null,null,null,null,null,null,null,null,null,null,null,null,null,"接圧(N/ｍ・kg)",null,null,20]
[null,null,null,null,null,null,null,null,null,null,null,null,null,null,null,"外観確認"]
[null,null,null,null,null,null,null,null,null,null,null,null,null,null,null,"表層透過検査",null,null,null,"OK",null,"NG"]
[null,null,null,null,null,null,null,null,null,null,null,null,null,null,null,"巻姿外観確認[ｽﾀｰﾄ/中間/ﾗｽﾄ]"]
[null,null,null,null,null,null,null,null,null,null,null,null,null,null,null,"各枝番に問題無『〇』問題有『☓』を記載"]
[]
[]
[]
[]
[null,null,null,null,null,null,null,null,null,null,null,null,null,null,null,"※『☓』の場合は展開図に内容を記載する"]
[null,null,null,null,null,null,null,null,null,null,null,null,null,null,null,"検材エッジ",null,null,285]
[null,null,null,null,null,null,null,null,null,null,null,null,null,null,null,"表層ロス　　　　　　　ⅿ"]
[null,null,null,null,null,null,null,null,null,null,null,null,null,null,null,"レザー/丸刃交換",null,null,null,"レザー/丸刃廃棄"]
[null,20,860,null,null,null,null,null,900,null,null,null,null,null,20,"3　 枚",null,null,null,"3　 枚"]
[null,"膜厚測定（ＣＰＰ・VMPET・BRPET）",null,null,null,null,null,null,null,null,null,null,null,null,null,"備考"]
[null,"ラスト"]
[null,"1セット表層"]
[null,"1セット芯",null,null,null,null,null,null,null,null,null,null,null,null,null,"残",null,null,"m",null,null,null,"Φ"]
[]
[]
[]
[]
[]
[null,"スリット伝票　ＬＯＴ",null,null,null,null,null,{"$f":"②OP記入欄改!$D$5","v":51023357021},null,null,null,"製区",null,{"$f":"②OP記入欄改!$D$7","v":"S"},"品種",null,{"$f":"②OP記入欄改!$D$8","v":"ＣＰＰ2703"}]
[]
[null,"番手",null,{"$f":"②OP記入欄改!$D$9","v":25},"原反名",null,{"$f":"②OP記入欄改!$D$10","v":9041},null,"原反幅",null,{"$f":"②OP記入欄改!$D$11","v":2080},null,"原反長",null,{"$f":"②OP記入欄改!$D$12","v":45000},null,"前工程M/C",null,null,null,{"$f":"②OP記入欄改!$D$13","v":"DF7"}]
[null,"停機内容",null,null,null,null,null,"停機詳細",null,null,null,null,null,null,null,null,null,"停機時間"]
[null,"Ｆ破れ",null,null,"有/無",null,null,null,null,null,null,null,null,null,null,null,null,null,null,null,"hr"]
[null,"耳切れ",null,null,"有/無",null,null,null,null,null,null,null,null,null,null,null,null,null,null,null,"hr"]
[null,"紙管切断",null,null,"有/無",null,null,null,null,null,null,null,null,null,null,null,null,null,null,null,"hr"]
[null,"その他停機内容",null,null,null,null,null,null,null,null,null,null,null,null,null,null,null,null,null,null,"hr"]
[null,"備考"]
[]
[]
[]
[]
[]
[null,"外観確認内容"]
[null,"原反ズレ",null,null,null,"当てキズ",null,null,null,"溝ロール痕",null,null,null,"ＴＤスジ",null,null,null,"ピッチキズ"]
[null,"スリキズ",null,null,null,"クボミシワ",null,null,null,"シワムラ",null,null,null,"変色",null,null,null,"巻芯シワ"]
[null,"切断面・異物"]

{"sheet":"3丁＃４０","index":33,"n_rows":71,"n_cols":23,"rows_kept":71,"cut":false,"hidden":false,"merged":[[0,1,1,6],[0,7,1,10],[0,11,1,12],[0,13,1,13],[0,14,1,15],[0,16,1,22],[4,2,4,3],[4,4,4,5],[4,6,4,7],[4,11,4,14],[4,15,4,17],[4,18,4,20],[2,16,2,19],[2,20,2,22],[3,2,3,3],[3,4,3,5],[3,6,3,7],[3,11,3,14],[3,15,3,17],[3,18,3,20],[2,4,2,5],[2,6,2,7],[2,8,2,9],[2,10,2,11],[2,12,2,13],[2,14,2,15],[6,2,6,3],[6,4,6,5],[6,6,6,7],[6,11,6,14],[6,15,6,17],[6,18,6,20],[5,2,5,3],[5,4,5,5],[5,6,5,7],[5,11,5,14],[5,15,5,17],[5,18,5,20],[8,2,8,3],[8,4,8,5],[8,6,8,7],[8,11,8,14],[8,15,8,17],[8,18,8,20],[7,2,7,3],[7,4,7,5],[7,6,7,7],[7,11,7,14],[7,15,7,17],[7,18,7,20],[10,2,10,3],[10,4,10,5],[10,6,10,7],[10,11,10,14],[10,15,10,17],[10,18,10,20],[9,2,9,3],[9,4,9,5],[9,6,9,7],[9,11,9,14],[9,15,9,17],[9,18,9,20],[12,2,12,3],[12,4,12,5],[12,6,12,7],[12,11,12,14],[12,15,12,17],[12,18,12,20],[11,2,11,3],[11,4,11,5],[11,6,11,7],[11,11,11,14],[11,15,11,17],[11,18,11,20],[14,1,14,5],[14,6,14,7],[14,8,14,11],[14,12,14,14],[14,15,14,18],[14,19,14,22],[13,2,13,3],[13,4,13,5],[13,6,13,7],[13,11,13,14],[13,15,13,17],[13,18,13,20],[15,1,15,5],[15,8,15,11],[15,12,15,14],[15,16,15,18],[15,20,15,22],[16,1,17,1],[16,15,17,15],[16,16,17,18],[16,19,17,19],[16,20,17,22],[21,15,21,17],[21,18,21,22],[22,15,22,17],[22,18,22,22],[23,15,23,17],[23,18,23,22],[18,15,18,17],[18,18,18,22],[19,15,19,17],[19,18,19,22],[20,15,20,17],[20,18,20,22],[28,19,28,22],[29,16,29,18],[29,19,29,20],[30,16,30,18],[30,19,30,20],[31,15,31,22],[24,15,24,17],[24,18,24,22],[25,15,25,17],[25,18,25,22],[26,15,30,15],[26,16,26,18],[27,16,27,18],[27,19,27,20],[27,21,27,22],[28,16,28,18],[42,19,42,22],[43,15,43,18],[43,19,43,22],[43,2,43,5],[43,6,43,10],[43,11,43,13],[40,18,40,20],[32,15,32,18],[32,19,32,20],[32,21,32,22],[33,15,33,22],[34,15,34,22],[39,15,39,22],[44,1,44,14],[45,1,45,2],[45,3,45,4],[45,5,45,6],[45,7,45,8],[45,9,45,10],[45,11,45,12],[45,13,45,14],[42,15,42,18],[53,1,54,6],[53,7,53,10],[53,11,54,12],[53,13,54,13],[53,14,54,15],[53,16,54,22],[54,7,54,10],[46,13,46,14],[47,1,47,2],[47,3,47,4],[47,5,47,6],[47,7,47,8],[47,9,47,10],[47,11,47,12],[47,13,47,14],[46,1,46,2],[46,3,46,4],[46,5,46,6],[46,7,46,8],[46,9,46,10],[46,11,46,12],[58,4,58,5],[58,7,58,16],[58,17,58,19],[59,4,59,5],[59,7,59,16],[59,17,59,19],[55,16,55,19],[55,20,55,22],[56,4,56,5],[57,4,57,5],[57,7,57,16],[57,17,57,19],[55,4,55,5],[55,6,55,7],[55,8,55,9],[55,10,55,11],[55,12,55,13],[55,14,55,15],[69,1,69,4],[69,5,69,8],[69,9,69,12],[69,13,69,16],[69,17,69,21],[70,1,70,4],[60,7,60,16],[60,17,60,19],[68,1,68,4],[68,5,68,8],[68,9,68,12],[68,13,68,16],[68,17,68,21]]}
[null,"スリット伝票　ＬＯＴ",null,null,null,null,null,{"$f":"②OP記入欄改!$D$5","v":51023357021},null,null,null,"製区",null,{"$f":"②OP記入欄改!$D$7","v":"S"},"品種",null,{"$f":"②OP記入欄改!$D$8","v":"ＣＰＰ2703"}]
[]
[null,"番手",null,{"$f":"②OP記入欄改!$D$9","v":25},"原反名",null,{"$f":"②OP記入欄改!$D$10","v":9041},null,"原反幅",null,{"$f":"②OP記入欄改!$D$11","v":2080},null,"原反長",null,{"$f":"②OP記入欄改!$D$12","v":45000},null,"前工程M/C",null,null,null,{"$f":"②OP記入欄改!$D$13","v":"DF7"}]
[null,null,{"$f":"②OP記入欄改!G3","v":"仕向先"},null,{"$f":"②OP記入欄改!I3","v":"製品幅"},null,{"$f":"②OP記入欄改!K3","v":"製品長さ"},null,{"$f":"②OP記入欄改!M3","v":"計本"},{"$f":"②OP記入欄改!N3","v":"実"},{"$f":"②OP記入欄改!O3","v":"梱形"},"Ａ保枝番",null,null,null,"ミル枝番",null,null,"Ｂ級枝番",null,null,"ロック\nシャフト","コア"]
[null,{"$f":"②OP記入欄改!F4","v":1},{"$f":"②OP記入欄改!G4","v":"ＤＮＰ京都　３Ｄｏｒ３Ｄ６"},null,{"$f":"②OP記入欄改!I4","v":980},null,{"$f":"②OP記入欄改!K4","v":8000},null,{"$f":"②OP記入欄改!M4","v":5},{"$f":"②OP記入欄改!N4","v":0},{"$f":"②OP記入欄改!O4","v":"P"},null,null,null,null,null,null,null,null,null,null,null,6]
[null,{"$f":"②OP記入欄改!F5","v":2},{"$f":"②OP記入欄改!G5","v":"ＤＮＰ京都　３Ｄｏｒ３Ｄ６"},null,{"$f":"②OP記入欄改!I5","v":1020},null,{"$f":"②OP記入欄改!K5","v":8000},null,{"$f":"②OP記入欄改!M5","v":5},{"$f":"②OP記入欄改!N5","v":0},{"$f":"②OP記入欄改!O5","v":"P"},null,null,null,null,null,null,null,null,null,null,null,6]
[null,{"$f":"②OP記入欄改!F6","v":3},{"$f":"②OP記入欄改!G6","v":"４０００ｍ余剰分"},null,{"$f":"②OP記入欄改!I6","v":1020},null,{"$f":"②OP記入欄改!K6","v":4000},null,{"$f":"②OP記入欄改!M6","v":1},{"$f":"②OP記入欄改!N6","v":0},{"$f":"②OP記入欄改!O6","v":"P"},null,null,null,null,null,null,null,null,null,null,null,6]
[null,{"$f":"②OP記入欄改!F7","v":4},{"$f":"②OP記入欄改!G7","v":"４０００ｍ余剰分"},null,{"$f":"②OP記入欄改!I7","v":980},null,{"$f":"②OP記入欄改!K7","v":4000},null,{"$f":"②OP記入欄改!M7","v":1},{"$f":"②OP記入欄改!N7","v":0},{"$f":"②OP記入欄改!O7","v":0},null,null,null,null,null,null,null,null,null,null,null,6]
[null,{"$f":"②OP記入欄改!F8","v":5},{"$f":"②OP記入欄改!G8","v":0},null,{"$f":"②OP記入欄改!I8","v":0},null,{"$f":"②OP記入欄改!K8","v":0},null,{"$f":"②OP記入欄改!M8","v":0},{"$f":"②OP記入欄改!N8","v":0},{"$f":"②OP記入欄改!O8","v":0},null,null,null,null,null,null,null,null,null,null,null,6]
[null,{"$f":"②OP記入欄改!F9","v":6},{"$f":"②OP記入欄改!G9","v":0},null,{"$f":"②OP記入欄改!I9","v":0},null,{"$f":"②OP記入欄改!K9","v":0},null,{"$f":"②OP記入欄改!M9","v":0},{"$f":"②OP記入欄改!N9","v":0},{"$f":"②OP記入欄改!O9","v":0},null,null,null,null,null,null,null,null,null,null,null,6]
[null,{"$f":"②OP記入欄改!F10","v":7},{"$f":"②OP記入欄改!G10","v":0},null,{"$f":"②OP記入欄改!I10","v":0},null,{"$f":"②OP記入欄改!K10","v":0},null,{"$f":"②OP記入欄改!M10","v":0},{"$f":"②OP記入欄改!N10","v":0},{"$f":"②OP記入欄改!O10","v":0},null,null,null,null,null,null,null,null,null,null,null,6]
[null,{"$f":"②OP記入欄改!F11","v":8},{"$f":"②OP記入欄改!G11","v":0},null,{"$f":"②OP記入欄改!I11","v":0},null,{"$f":"②OP記入欄改!K11","v":0},null,{"$f":"②OP記入欄改!M11","v":0},{"$f":"②OP記入欄改!N11","v":0},{"$f":"②OP記入欄改!O11","v":0},null,null,null,null,null,null,null,null,null,null,null,6]
[null,{"$f":"②OP記入欄改!F12","v":9},{"$f":"②OP記入欄改!G12","v":0},null,{"$f":"②OP記入欄改!I12","v":0},null,{"$f":"②OP記入欄改!K12","v":0},null,{"$f":"②OP記入欄改!M12","v":0},{"$f":"②OP記入欄改!N12","v":0},{"$f":"②OP記入欄改!O12","v":0},null,null,null,null,null,null,null,null,null,null,null,6]
[null,{"$f":"②OP記入欄改!F13","v":10},{"$f":"②OP記入欄改!G13","v":0},null,{"$f":"②OP記入欄改!I13","v":0},null,{"$f":"②OP記入欄改!K13","v":0},null,{"$f":"②OP記入欄改!M13","v":0},{"$f":"②OP記入欄改!N13","v":0},{"$f":"②OP記入欄改!O13","v":0},null,null,null,null,null,null,null,null,null,null,null,6]
[null,"スリット作業指示№",null,null,null,null,"M/C№",null,"加工日",null,null,null,"前工程品質情報",null,null,"切断シフト1",null,null,null,"切断シフト2"]
[null,{"$f":"②OP記入欄改!$D$14","v":0},null,null,null,null,"ＳＬ-",{"$f":"②OP記入欄改!$D$15","v":19},{"$f":"②OP記入欄改!$D$4","v":"2025-10-23"},null,null,null,"確認　　　□",null,null,"組","作業者",null,null,"組","作業者"]
[null,"巻芯\n確認"]
[]
[null,null,null,null,null,null,null,null,null,null,null,null,null,null,null,"切替開始",null,null,"　　　　　時　　　　　分"]
[null,null,null,null,null,null,null,null,null,null,null,null,null,null,null,"切断開始",null,null,"　　　　　時　　　　　分"]
[null,null,null,null,null,null,null,null,null,null,null,null,null,null,null,"切断完了",null,null,"　　　　　時　　　　　分"]
[null,null,null,null,null,null,null,null,null,null,null,null,null,null,null,"食事開始",null,null,"　　　　　時　　　　　分"]
[null,null,null,null,null,null,null,null,null,null,null,null,null,null,null,"食事完了",null,null,"　　　　　時　　　　　分"]
[null,null,null,null,null,null,null,null,null,null,null,null,null,null,null,"停機開始",null,null,"　　　　　時　　　　　分"]
[null,null,null,null,null,null,null,null,null,null,null,null,null,null,null,"停機完了",null,null,"　　　　　時　　　　　分"]
[null,null,null,null,null,null,null,null,null,null,null,null,null,null,null,"停機理由"]
[null,null,null,null,null,null,null,null,null,null,null,null,null,null,null,"条件確認","M/C条件設定",null,null,"呼出№",null,null,{"$f":"②OP記入欄改!$D$16","v":2}]
[null,null,null,null,null,null,null,null,null,null,null,null,null,null,null,null,"欠点検出機",null,null,"使用条件№",null,{"$f":"②OP記入欄改!$D$17","v":1}]
[null,null,null,null,null,null,null,null,null,null,null,null,null,null,null,null,"速度(m/min)",null,null,400]
[null,null,null,null,null,null,null,null,null,null,null,null,null,null,null,null,"張力(N/ｍ・kg)"]
[null,null,null,null,null,null,null,null,null,null,null,null,null,null,null,null,"接圧(N/ｍ・kg)"]
[null,null,null,null,null,null,null,null,null,null,null,null,null,null,null,"外観確認"]
[null,null,null,null,null,null,null,null,null,null,null,null,null,null,null,"表層透過検査",null,null,null,"OK",null,"NG"]
[null,null,null,null,null,null,null,null,null,null,null,null,null,null,null,"巻姿外観確認[ｽﾀｰﾄ/中間/ﾗｽﾄ]"]
[null,null,null,null,null,null,null,null,null,null,null,null,null,null,null,"各枝番に問題無『〇』問題有『☓』を記載"]
[]
[]
[]
[]
[null,null,null,null,null,null,null,null,null,null,null,null,null,null,null,"※『☓』の場合は展開図に内容を記載する"]
[null,null,null,null,null,null,null,null,null,null,null,null,null,null,null,"検材エッジ",null,null,285]
[null,null,null,null,null,null,null,null,null,null,null,null,null,null,null,"表層ロス　　　　　　　ⅿ"]
[null,null,null,null,null,null,null,null,null,null,null,null,null,null,null,"レザー/丸刃交換",null,null,null,"レザー/丸刃廃棄"]
[null,20,680,null,null,null,1000,null,null,null,null,560,null,null,20,"0　枚",null,null,null,"0　枚"]
[null,"膜厚測定（ＣＰＰ・VMPET・BRPET）"]
[null,"ラスト"]
[null,"1セット表層"]
[null,"1セット芯",null,null,null,null,null,null,null,null,null,null,null,null,null,"残",null,null,"m",null,null,null,"Φ"]
[]
[]
[]
[]
[]
[null,"スリット伝票　ＬＯＴ",null,null,null,null,null,{"$f":"②OP記入欄改!$D$5","v":51023357021},null,null,null,"製区",null,{"$f":"②OP記入欄改!$D$7","v":"S"},"品種",null,{"$f":"②OP記入欄改!$D$8","v":"ＣＰＰ2703"}]
[]
[null,"番手",null,{"$f":"②OP記入欄改!$D$9","v":25},"原反名",null,{"$f":"②OP記入欄改!$D$10","v":9041},null,"原反幅",null,{"$f":"②OP記入欄改!$D$11","v":2080},null,"原反長",null,{"$f":"②OP記入欄改!$D$12","v":45000},null,"前工程M/C",null,null,null,{"$f":"②OP記入欄改!$D$13","v":"DF7"}]
[null,"停機内容",null,null,null,null,null,"停機詳細",null,null,null,null,null,null,null,null,null,"停機時間"]
[null,"Ｆ破れ",null,null,"有/無",null,null,null,null,null,null,null,null,null,null,null,null,null,null,null,"hr"]
[null,"耳切れ",null,null,"有/無",null,null,null,null,null,null,null,null,null,null,null,null,null,null,null,"hr"]
[null,"紙管切断",null,null,"有/無",null,null,null,null,null,null,null,null,null,null,null,null,null,null,null,"hr"]
[null,"その他停機内容",null,null,null,null,null,null,null,null,null,null,null,null,null,null,null,null,null,null,"hr"]
[null,"備考"]
[]
[]
[]
[]
[]
[null,"外観確認内容"]
[null,"原反ズレ",null,null,null,"当てキズ",null,null,null,"溝ロール痕",null,null,null,"ＴＤスジ",null,null,null,"ピッチキズ"]
[null,"スリキズ",null,null,null,"クボミシワ",null,null,null,"シワムラ",null,null,null,"変色",null,null,null,"巻芯シワ"]
[null,"切断面・異物"]

{"sheet":"CPP4000#20","index":34,"n_rows":71,"n_cols":23,"rows_kept":71,"cut":false,"hidden":false,"merged":[[0,7,1,10],[29,19,29,22],[30,19,30,22],[0,1,1,6],[0,11,1,12],[0,13,1,13],[0,14,1,15],[0,16,1,22],[4,2,4,3],[4,4,4,5],[4,6,4,7],[4,11,4,14],[4,15,4,17],[4,18,4,20],[2,16,2,19],[2,20,2,22],[3,2,3,3],[3,4,3,5],[3,6,3,7],[3,11,3,14],[3,15,3,17],[3,18,3,20],[2,4,2,5],[2,6,2,7],[2,8,2,9],[2,10,2,11],[2,12,2,13],[2,14,2,15],[6,2,6,3],[6,4,6,5],[6,6,6,7],[6,11,6,14],[6,15,6,17],[6,18,6,20],[5,2,5,3],[5,4,5,5],[5,6,5,7],[5,11,5,14],[5,15,5,17],[5,18,5,20],[8,2,8,3],[8,4,8,5],[8,6,8,7],[8,11,8,14],[8,15,8,17],[8,18,8,20],[7,2,7,3],[7,4,7,5],[7,6,7,7],[7,11,7,14],[7,15,7,17],[7,18,7,20],[10,2,10,3],[10,4,10,5],[10,6,10,7],[10,11,10,14],[10,15,10,17],[10,18,10,20],[9,2,9,3],[9,4,9,5],[9,6,9,7],[9,11,9,14],[9,15,9,17],[9,18,9,20],[12,2,12,3],[12,4,12,5],[12,6,12,7],[12,11,12,14],[12,15,12,17],[12,18,12,20],[11,2,11,3],[11,4,11,5],[11,6,11,7],[11,11,11,14],[11,15,11,17],[11,18,11,20],[14,1,14,5],[14,6,14,7],[14,8,14,11],[14,12,14,14],[14,15,14,18],[14,19,14,22],[13,2,13,3],[13,4,13,5],[13,6,13,7],[13,11,13,14],[13,15,13,17],[13,18,13,20],[15,1,15,5],[15,8,15,11],[15,12,15,14],[15,16,15,18],[15,20,15,22],[16,1,17,1],[16,15,17,15],[16,16,17,18],[16,19,17,19],[16,20,17,22],[21,15,21,17],[21,18,21,22],[22,15,22,17],[22,18,22,22],[23,15,23,17],[23,18,23,22],[18,15,18,17],[18,18,18,22],[19,15,19,17],[19,18,19,22],[20,15,20,17],[20,18,20,22],[24,15,24,17],[24,18,24,22],[25,15,25,17],[25,18,25,22],[26,15,30,15],[26,16,26,18],[27,16,27,18],[27,19,27,20],[27,21,27,22],[28,16,28,18],[32,15,32,18],[32,19,32,20],[32,21,32,22],[33,15,33,22],[34,15,34,22],[39,15,39,22],[28,19,28,22],[29,16,29,18],[30,16,30,18],[31,15,31,22],[44,1,44,14],[45,1,45,2],[45,3,45,4],[45,5,45,6],[45,7,45,8],[45,9,45,10],[45,11,45,12],[45,13,45,14],[40,15,40,22],[42,15,42,18],[42,19,42,22],[43,2,43,7],[43,8,43,13],[43,15,43,18],[43,19,43,22],[53,1,54,6],[53,7,53,10],[53,11,54,12],[53,13,54,13],[53,14,54,15],[53,16,54,22],[54,7,54,10],[46,13,46,14],[47,1,47,2],[47,3,47,4],[47,5,47,6],[47,7,47,8],[47,9,47,10],[47,11,47,12],[47,13,47,14],[46,1,46,2],[46,3,46,4],[46,5,46,6],[46,7,46,8],[46,9,46,10],[46,11,46,12],[58,4,58,5],[58,7,58,16],[58,17,58,19],[59,4,59,5],[59,7,59,16],[59,17,59,19],[55,16,55,19],[55,20,55,22],[56,4,56,5],[57,4,57,5],[57,7,57,16],[57,17,57,19],[55,4,55,5],[55,6,55,7],[55,8,55,9],[55,10,55,11],[55,12,55,13],[55,14,55,15],[69,1,69,4],[69,5,69,8],[69,9,69,12],[69,13,69,16],[69,17,69,21],[70,1,70,4],[60,7,60,16],[60,17,60,19],[68,1,68,4],[68,5,68,8],[68,9,68,12],[68,13,68,16],[68,17,68,21]]}
[null,"スリット伝票　ＬＯＴ",null,null,null,null,null,{"$f":"②OP記入欄改!$D$5","v":51023357021},null,null,null,"製区",null,{"$f":"②OP記入欄改!$D$7","v":"S"},"品種",null,{"$f":"②OP記入欄改!$D$8","v":"ＣＰＰ2703"}]
[]
[null,"番手",null,{"$f":"②OP記入欄改!$D$9","v":25},"原反名",null,{"$f":"②OP記入欄改!$D$10","v":9041},null,"原反幅",null,{"$f":"②OP記入欄改!$D$11","v":2080},null,"原反長",null,{"$f":"②OP記入欄改!$D$12","v":45000},null,"前工程M/C",null,null,null,{"$f":"②OP記入欄改!$D$13","v":"DF7"}]
[null,null,{"$f":"②OP記入欄改!G3","v":"仕向先"},null,{"$f":"②OP記入欄改!I3","v":"製品幅"},null,{"$f":"②OP記入欄改!K3","v":"製品長さ"},null,{"$f":"②OP記入欄改!M3","v":"計本"},{"$f":"②OP記入欄改!N3","v":"実"},{"$f":"②OP記入欄改!O3","v":"梱形"},"Ａ保枝番",null,null,null,"ミル枝番",null,null,"Ｂ級枝番",null,null,"ロック\nシャフト","コア"]
[null,{"$f":"②OP記入欄改!F4","v":1},{"$f":"②OP記入欄改!G4","v":"ＤＮＰ京都　３Ｄｏｒ３Ｄ６"},null,{"$f":"②OP記入欄改!I4","v":980},null,{"$f":"②OP記入欄改!K4","v":8000},null,{"$f":"②OP記入欄改!M4","v":5},{"$f":"②OP記入欄改!N4","v":0},{"$f":"②OP記入欄改!O4","v":"P"},null,null,null,null,null,null,null,null,null,null,null,6]
[null,{"$f":"②OP記入欄改!F5","v":2},{"$f":"②OP記入欄改!G5","v":"ＤＮＰ京都　３Ｄｏｒ３Ｄ６"},null,{"$f":"②OP記入欄改!I5","v":1020},null,{"$f":"②OP記入欄改!K5","v":8000},null,{"$f":"②OP記入欄改!M5","v":5},{"$f":"②OP記入欄改!N5","v":0},{"$f":"②OP記入欄改!O5","v":"P"},null,null,null,null,null,null,null,null,null,null,null,6]
[null,{"$f":"②OP記入欄改!F6","v":3},{"$f":"②OP記入欄改!G6","v":"４０００ｍ余剰分"},null,{"$f":"②OP記入欄改!I6","v":1020},null,{"$f":"②OP記入欄改!K6","v":4000},null,{"$f":"②OP記入欄改!M6","v":1},{"$f":"②OP記入欄改!N6","v":0},{"$f":"②OP記入欄改!O6","v":"P"},null,null,null,null,null,null,null,null,null,null,null,6]
[null,{"$f":"②OP記入欄改!F7","v":4},{"$f":"②OP記入欄改!G7","v":"４０００ｍ余剰分"},null,{"$f":"②OP記入欄改!I7","v":980},null,{"$f":"②OP記入欄改!K7","v":4000},null,{"$f":"②OP記入欄改!M7","v":1},{"$f":"②OP記入欄改!N7","v":0},{"$f":"②OP記入欄改!O7","v":0},null,null,null,null,null,null,null,null,null,null,null,6]
[null,{"$f":"②OP記入欄改!F8","v":5},{"$f":"②OP記入欄改!G8","v":0},null,{"$f":"②OP記入欄改!I8","v":0},null,{"$f":"②OP記入欄改!K8","v":0},null,{"$f":"②OP記入欄改!M8","v":0},{"$f":"②OP記入欄改!N8","v":0},{"$f":"②OP記入欄改!O8","v":0},null,null,null,null,null,null,null,null,null,null,null,6]
[null,{"$f":"②OP記入欄改!F9","v":6},{"$f":"②OP記入欄改!G9","v":0},null,{"$f":"②OP記入欄改!I9","v":0},null,{"$f":"②OP記入欄改!K9","v":0},null,{"$f":"②OP記入欄改!M9","v":0},{"$f":"②OP記入欄改!N9","v":0},{"$f":"②OP記入欄改!O9","v":0},null,null,null,null,null,null,null,null,null,null,null,6]
[null,{"$f":"②OP記入欄改!F10","v":7},{"$f":"②OP記入欄改!G10","v":0},null,{"$f":"②OP記入欄改!I10","v":0},null,{"$f":"②OP記入欄改!K10","v":0},null,{"$f":"②OP記入欄改!M10","v":0},{"$f":"②OP記入欄改!N10","v":0},{"$f":"②OP記入欄改!O10","v":0},null,null,null,null,null,null,null,null,null,null,null,6]
[null,{"$f":"②OP記入欄改!F11","v":8},{"$f":"②OP記入欄改!G11","v":0},null,{"$f":"②OP記入欄改!I11","v":0},null,{"$f":"②OP記入欄改!K11","v":0},null,{"$f":"②OP記入欄改!M11","v":0},{"$f":"②OP記入欄改!N11","v":0},{"$f":"②OP記入欄改!O11","v":0},null,null,null,null,null,null,null,null,null,null,null,6]
[null,{"$f":"②OP記入欄改!F12","v":9},{"$f":"②OP記入欄改!G12","v":0},null,{"$f":"②OP記入欄改!I12","v":0},null,{"$f":"②OP記入欄改!K12","v":0},null,{"$f":"②OP記入欄改!M12","v":0},{"$f":"②OP記入欄改!N12","v":0},{"$f":"②OP記入欄改!O12","v":0},null,null,null,null,null,null,null,null,null,null,null,6]
[null,{"$f":"②OP記入欄改!F13","v":10},{"$f":"②OP記入欄改!G13","v":0},null,{"$f":"②OP記入欄改!I13","v":0},null,{"$f":"②OP記入欄改!K13","v":0},null,{"$f":"②OP記入欄改!M13","v":0},{"$f":"②OP記入欄改!N13","v":0},{"$f":"②OP記入欄改!O13","v":0},null,null,null,null,null,null,null,null,null,null,null,6]
[null,"スリット作業指示№",null,null,null,null,"M/C№",null,"加工日",null,null,null,"前工程品質情報",null,null,"切断シフト1",null,null,null,"切断シフト2"]
[null,{"$f":"②OP記入欄改!$D$14","v":0},null,null,null,null,"ＳＬ-",{"$f":"②OP記入欄改!$D$15","v":19},{"$f":"②OP記入欄改!$D$4","v":"2025-10-23"},null,null,null,"確認　　　□",null,null,"組","作業者",null,null,"組","作業者"]
[null,"巻芯\n確認"]
[]
[null,null,"25",null,null,null,null,null,"26",null,null,null,null,null,null,"切替開始",null,null,"　　　　　時　　　　　分"]
[null,null,null,null,null,null,null,null,null,null,null,null,null,null,null,"切断開始",null,null,"　　　　　時　　　　　分"]
[null,null,"23",null,null,null,null,null,"24",null,null,null,null,null,null,"切断完了",null,null,"　　　　　時　　　　　分"]
[null,null,null,null,null,null,null,null,null,null,null,null,null,null,null,"食事開始",null,null,"　　　　　時　　　　　分"]
[null,null,"21",null,null,null,null,null,"22",null,null,null,null,null,null,"食事完了",null,null,"　　　　　時　　　　　分"]
[null,null,null,null,null,null,null,null,null,null,null,null,null,null,null,"停機開始",null,null,"　　　　　時　　　　　分"]
[null,null,"19",null,null,null,null,null,"20",null,null,null,null,null,null,"停機完了",null,null,"　　　　　時　　　　　分"]
[null,null,null,null,null,null,null,null,null,null,null,null,null,null,null,"停機理由"]
[null,null,"17",null,null,null,null,null,"18",null,null,null,null,null,null,"条件確認","M/C条件設定",null,null,"呼出№",null,null,{"$f":"②OP記入欄改!$D$16","v":2}]
[null,null,null,null,null,null,null,null,null,null,null,null,null,null,null,null,"欠点検出機",null,null,"使用条件№",null,{"$f":"②OP記入欄改!$D$17","v":1}]
[null,null,"15",null,null,null,null,null,"16",null,null,null,null,null,null,null,"速度(m/min)",null,null,450]
[null,null,null,null,null,null,null,null,null,null,null,null,null,null,null,null,"張力(N/ｍ・kg)",null,null,14]
[null,null,"13",null,null,null,null,null,"14",null,null,null,null,null,null,null,"接圧(N/ｍ・kg)",null,null,22]
[null,null,null,null,null,null,null,null,null,null,null,null,null,null,null,"外観確認"]
[null,null,"11",null,null,null,null,null,"12",null,null,null,null,null,null,"表層透過検査",null,null,null,"OK",null,"NG"]
[null,null,null,null,null,null,null,null,null,null,null,null,null,null,null,"巻姿外観確認[ｽﾀｰﾄ/中間/ﾗｽﾄ]"]
[null,null,"09",null,null,null,null,null,"10",null,null,null,null,null,null,"各枝番に問題無『〇』問題有『☓』を記載"]
[]
[null,null,"07",null,null,null,null,null,"08"]
[]
[null,null,"05",null,null,null,null,null,"06"]
[null,null,null,null,null,null,null,null,null,null,null,null,null,null,null,"※『☓』の場合は展開図に内容を記載する"]
[null,null,"03",null,null,null,null,null,"04",null,null,null,null,null,null,"検材エッジ　　　　　　ⅿｍ"]
[null,null,null,null,null,null,null,null,null,null,null,null,null,null,null,"表層ロス　　　　　　　ⅿ"]
[null,null,"01",null,null,null,null,null,"02",null,null,null,null,null,null,"レザー/丸刃交換",null,null,null,"レザー/丸刃廃棄"]
[null,20,980,null,null,null,null,null,1000,null,null,null,null,null,20,"0　枚",null,null,null,"0　枚"]
[null,"膜厚測定（ＣＰＰ・VMPET・BRPET）",null,null,null,null,null,null,null,null,null,null,null,null,null,"備考"]
[null,"ラスト"]
[null,"1セット表層"]
[null,"1セット芯",null,null,null,null,null,null,null,null,null,null,null,null,null,"残",null,null,"m",null,null,null,"Φ"]
[]
[]
[]
[]
[]
[null,"スリット伝票　ＬＯＴ",null,null,null,null,null,{"$f":"②OP記入欄改!$D$5","v":51023357021},null,null,null,"製区",null,{"$f":"②OP記入欄改!$D$7","v":"S"},"品種",null,{"$f":"②OP記入欄改!$D$8","v":"ＣＰＰ2703"}]
[]
[null,"番手",null,{"$f":"②OP記入欄改!$D$9","v":25},"原反名",null,{"$f":"②OP記入欄改!$D$10","v":9041},null,"原反幅",null,{"$f":"②OP記入欄改!$D$11","v":2080},null,"原反長",null,{"$f":"②OP記入欄改!$D$12","v":45000},null,"前工程M/C",null,null,null,{"$f":"②OP記入欄改!$D$13","v":"DF7"}]
[null,"停機内容",null,null,null,null,null,"停機詳細",null,null,null,null,null,null,null,null,null,"停機時間"]
[null,"Ｆ破れ",null,null,"有/無",null,null,null,null,null,null,null,null,null,null,null,null,null,null,null,"hr"]
[null,"耳切れ",null,null,"有/無",null,null,null,null,null,null,null,null,null,null,null,null,null,null,null,"hr"]
[null,"紙管切断",null,null,"有/無",null,null,null,null,null,null,null,null,null,null,null,null,null,null,null,"hr"]
[null,"その他停機内容",null,null,null,null,null,null,null,null,null,null,null,null,null,null,null,null,null,null,"hr"]
[null,"備考"]
[]
[]
[]
[]
[]
[null,"外観確認内容"]
[null,"原反ズレ",null,null,null,"当てキズ",null,null,null,"溝ロール痕",null,null,null,"ＴＤスジ",null,null,null,"ピッチキズ"]
[null,"スリキズ",null,null,null,"クボミシワ",null,null,null,"シワムラ",null,null,null,"変色",null,null,null,"巻芯シワ"]
[null,"切断面・異物"]

{"sheet":"CPP800 S#20","index":35,"n_rows":71,"n_cols":27,"rows_kept":71,"cut":false,"hidden":false,"merged":[[0,7,1,10],[0,1,1,6],[0,11,1,12],[0,13,1,13],[0,14,1,15],[0,16,1,22],[4,2,4,3],[4,4,4,5],[4,6,4,7],[4,11,4,14],[4,15,4,17],[4,18,4,20],[2,16,2,19],[2,20,2,22],[3,2,3,3],[3,4,3,5],[3,6,3,7],[3,11,3,14],[3,15,3,17],[3,18,3,20],[2,4,2,5],[2,6,2,7],[2,8,2,9],[2,10,2,11],[2,12,2,13],[2,14,2,15],[6,2,6,3],[6,4,6,5],[6,6,6,7],[6,11,6,14],[6,15,6,17],[6,18,6,20],[5,2,5,3],[5,4,5,5],[5,6,5,7],[5,11,5,14],[5,15,5,17],[5,18,5,20],[8,2,8,3],[8,4,8,5],[8,6,8,7],[8,11,8,14],[8,15,8,17],[8,18,8,20],[7,2,7,3],[7,4,7,5],[7,6,7,7],[7,11,7,14],[7,15,7,17],[7,18,7,20],[10,2,10,3],[10,4,10,5],[10,6,10,7],[10,11,10,14],[10,15,10,17],[10,18,10,20],[9,2,9,3],[9,4,9,5],[9,6,9,7],[9,11,9,14],[9,15,9,17],[9,18,9,20],[12,2,12,3],[12,4,12,5],[12,6,12,7],[12,11,12,14],[12,15,12,17],[12,18,12,20],[11,2,11,3],[11,4,11,5],[11,6,11,7],[11,11,11,14],[11,15,11,17],[11,18,11,20],[14,1,14,5],[14,6,14,7],[14,8,14,11],[14,12,14,14],[14,15,14,18],[14,19,14,22],[13,2,13,3],[13,4,13,5],[13,6,13,7],[13,11,13,14],[13,15,13,17],[13,18,13,20],[15,1,15,5],[15,8,15,11],[15,12,15,14],[15,16,15,18],[15,20,15,22],[16,1,17,1],[16,15,17,15],[16,16,17,18],[16,19,17,19],[16,20,17,22],[21,15,21,17],[21,18,21,22],[22,15,22,17],[22,18,22,22],[23,15,23,17],[23,18,23,22],[18,15,18,17],[18,18,18,22],[19,15,19,17],[19,18,19,22],[20,15,20,17],[20,18,20,22],[28,19,28,22],[29,16,29,18],[29,19,29,20],[30,16,30,18],[30,19,30,20],[31,15,31,22],[24,15,24,17],[24,18,24,22],[25,15,25,17],[25,18,25,22],[26,15,30,15],[26,16,26,18],[27,16,27,18],[27,19,27,20],[27,21,27,22],[28,16,28,18],[42,19,42,22],[43,2,43,7],[43,8,43,13],[43,15,43,18],[43,19,43,22],[40,18,40,20],[32,15,32,18],[32,19,32,20],[32,21,32,22],[33,15,33,22],[34,15,34,22],[39,15,39,22],[44,1,44,14],[45,1,45,2],[45,3,45,4],[45,5,45,6],[45,7,45,8],[45,9,45,10],[45,11,45,12],[45,13,45,14],[42,15,42,18],[53,1,54,6],[53,7,53,10],[53,11,54,12],[53,13,54,13],[53,14,54,15],[53,16,54,22],[54,7,54,10],[46,13,46,14],[47,1,47,2],[47,3,47,4],[47,5,47,6],[47,7,47,8],[47,9,47,10],[47,11,47,12],[47,13,47,14],[46,1,46,2],[46,3,46,4],[46,5,46,6],[46,7,46,8],[46,9,46,10],[46,11,46,12],[58,4,58,5],[58,7,58,16],[58,17,58,19],[59,4,59,5],[59,7,59,16],[59,17,59,19],[55,16,55,19],[55,20,55,22],[56,4,56,5],[57,4,57,5],[57,7,57,16],[57,17,57,19],[55,4,55,5],[55,6,55,7],[55,8,55,9],[55,10,55,11],[55,12,55,13],[55,14,55,15],[69,1,69,4],[69,5,69,8],[69,9,69,12],[69,13,69,16],[69,17,69,21],[70,1,70,4],[60,7,60,16],[60,17,60,19],[68,1,68,4],[68,5,68,8],[68,9,68,12],[68,13,68,16],[68,17,68,21]]}
[null,"スリット伝票　ＬＯＴ",null,null,null,null,null,{"$f":"②OP記入欄改!$D$5","v":51023357021},null,null,null,"製区",null,{"$f":"②OP記入欄改!$D$7","v":"S"},"品種",null,{"$f":"②OP記入欄改!$D$8","v":"ＣＰＰ2703"}]
[]
[null,"番手",null,{"$f":"②OP記入欄改!$D$9","v":25},"原反名",null,{"$f":"②OP記入欄改!$D$10","v":9041},null,"原反幅",null,{"$f":"②OP記入欄改!$D$11","v":2080},null,"原反長",null,{"$f":"②OP記入欄改!$D$12","v":45000},null,"前工程M/C",null,null,null,{"$f":"②OP記入欄改!$D$13","v":"DF7"}]
[null,null,{"$f":"②OP記入欄改!G3","v":"仕向先"},null,{"$f":"②OP記入欄改!I3","v":"製品幅"},null,{"$f":"②OP記入欄改!K3","v":"製品長さ"},null,{"$f":"②OP記入欄改!M3","v":"計本"},{"$f":"②OP記入欄改!N3","v":"実"},{"$f":"②OP記入欄改!O3","v":"梱形"},"Ａ保枝番",null,null,null,"ミル枝番",null,null,"Ｂ級枝番",null,null,"ロック\nシャフト","コア"]
[null,{"$f":"②OP記入欄改!F4","v":1},{"$f":"②OP記入欄改!G4","v":"ＤＮＰ京都　３Ｄｏｒ３Ｄ６"},null,{"$f":"②OP記入欄改!I4","v":980},null,{"$f":"②OP記入欄改!K4","v":8000},null,{"$f":"②OP記入欄改!M4","v":5},{"$f":"②OP記入欄改!N4","v":0},{"$f":"②OP記入欄改!O4","v":"P"},null,null,null,null,null,null,null,null,null,null,null,6]
[null,{"$f":"②OP記入欄改!F5","v":2},{"$f":"②OP記入欄改!G5","v":"ＤＮＰ京都　３Ｄｏｒ３Ｄ６"},null,{"$f":"②OP記入欄改!I5","v":1020},null,{"$f":"②OP記入欄改!K5","v":8000},null,{"$f":"②OP記入欄改!M5","v":5},{"$f":"②OP記入欄改!N5","v":0},{"$f":"②OP記入欄改!O5","v":"P"},null,null,null,null,null,null,null,null,null,null,null,6]
[null,{"$f":"②OP記入欄改!F6","v":3},{"$f":"②OP記入欄改!G6","v":"４０００ｍ余剰分"},null,{"$f":"②OP記入欄改!I6","v":1020},null,{"$f":"②OP記入欄改!K6","v":4000},null,{"$f":"②OP記入欄改!M6","v":1},{"$f":"②OP記入欄改!N6","v":0},{"$f":"②OP記入欄改!O6","v":"P"},null,null,null,null,null,null,null,null,null,null,null,6]
[null,{"$f":"②OP記入欄改!F7","v":4},{"$f":"②OP記入欄改!G7","v":"４０００ｍ余剰分"},null,{"$f":"②OP記入欄改!I7","v":980},null,{"$f":"②OP記入欄改!K7","v":4000},null,{"$f":"②OP記入欄改!M7","v":1},{"$f":"②OP記入欄改!N7","v":0},{"$f":"②OP記入欄改!O7","v":0},null,null,null,null,null,null,null,null,null,null,null,6]
[null,{"$f":"②OP記入欄改!F8","v":5},{"$f":"②OP記入欄改!G8","v":0},null,{"$f":"②OP記入欄改!I8","v":0},null,{"$f":"②OP記入欄改!K8","v":0},null,{"$f":"②OP記入欄改!M8","v":0},{"$f":"②OP記入欄改!N8","v":0},{"$f":"②OP記入欄改!O8","v":0},null,null,null,null,null,null,null,null,null,null,null,6]
[null,{"$f":"②OP記入欄改!F9","v":6},{"$f":"②OP記入欄改!G9","v":0},null,{"$f":"②OP記入欄改!I9","v":0},null,{"$f":"②OP記入欄改!K9","v":0},null,{"$f":"②OP記入欄改!M9","v":0},{"$f":"②OP記入欄改!N9","v":0},{"$f":"②OP記入欄改!O9","v":0},null,null,null,null,null,null,null,null,null,null,null,6]
[null,{"$f":"②OP記入欄改!F10","v":7},{"$f":"②OP記入欄改!G10","v":0},null,{"$f":"②OP記入欄改!I10","v":0},null,{"$f":"②OP記入欄改!K10","v":0},null,{"$f":"②OP記入欄改!M10","v":0},{"$f":"②OP記入欄改!N10","v":0},{"$f":"②OP記入欄改!O10","v":0},null,null,null,null,null,null,null,null,null,null,null,6]
[null,{"$f":"②OP記入欄改!F11","v":8},{"$f":"②OP記入欄改!G11","v":0},null,{"$f":"②OP記入欄改!I11","v":0},null,{"$f":"②OP記入欄改!K11","v":0},null,{"$f":"②OP記入欄改!M11","v":0},{"$f":"②OP記入欄改!N11","v":0},{"$f":"②OP記入欄改!O11","v":0},null,null,null,null,null,null,null,null,null,null,null,6]
[null,{"$f":"②OP記入欄改!F12","v":9},{"$f":"②OP記入欄改!G12","v":0},null,{"$f":"②OP記入欄改!I12","v":0},null,{"$f":"②OP記入欄改!K12","v":0},null,{"$f":"②OP記入欄改!M12","v":0},{"$f":"②OP記入欄改!N12","v":0},{"$f":"②OP記入欄改!O12","v":0},null,null,null,null,null,null,null,null,null,null,null,6]
[null,{"$f":"②OP記入欄改!F13","v":10},{"$f":"②OP記入欄改!G13","v":0},null,{"$f":"②OP記入欄改!I13","v":0},null,{"$f":"②OP記入欄改!K13","v":0},null,{"$f":"②OP記入欄改!M13","v":0},{"$f":"②OP記入欄改!N13","v":0},{"$f":"②OP記入欄改!O13","v":0},null,null,null,null,null,null,null,null,null,null,null,6]
[null,"スリット作業指示№",null,null,null,null,"M/C№",null,"加工日",null,null,null,"前工程品質情報",null,null,"切断シフト1",null,null,null,"切断シフト2"]
[null,{"$f":"②OP記入欄改!$D$14","v":0},null,null,null,null,"ＳＬ-",{"$f":"②OP記入欄改!$D$15","v":19},{"$f":"②OP記入欄改!$D$4","v":"2025-10-23"},null,null,null,"確認　　　□",null,null,"組","作業者",null,null,"組","作業者"]
[null,"巻芯\n確認"]
[]
[null,null,null,null,null,null,null,null,null,null,null,null,null,null,null,"切替開始",null,null,"　　　　　時　　　　　分"]
[null,null,"13",null,null,null,null,null,"14",null,null,null,null,null,null,"切断開始",null,null,"　　　　　時　　　　　分"]
[null,null,null,null,null,null,null,null,null,null,null,null,null,null,null,"切断完了",null,null,"　　　　　時　　　　　分"]
[null,null,null,null,null,null,null,null,null,null,null,null,null,null,null,"食事開始",null,null,"　　　　　時　　　　　分"]
[null,null,null,null,null,null,null,null,null,null,null,null,null,null,null,"食事完了",null,null,"　　　　　時　　　　　分"]
[null,null,"11",null,null,null,null,null,"12",null,null,null,null,null,null,"停機開始",null,null,"　　　　　時　　　　　分"]
[null,null,null,null,null,null,null,null,null,null,null,null,null,null,null,"停機完了",null,null,"　　　　　時　　　　　分"]
[null,null,null,null,null,null,null,null,null,null,null,null,null,null,null,"停機理由"]
[null,null,null,null,null,null,null,null,null,null,null,null,null,null,null,"条件確認","M/C条件設定",null,null,"呼出№",null,null,{"$f":"②OP記入欄改!$D$16","v":2}]
[null,null,"09",null,null,null,null,null,"10",null,null,null,null,null,null,null,"欠点検出機",null,null,"使用条件№",null,{"$f":"②OP記入欄改!$D$17","v":1}]
[null,null,null,null,null,null,null,null,null,null,null,null,null,null,null,null,"速度(m/min)",null,null,450]
[null,null,null,null,null,null,null,null,null,null,null,null,null,null,null,null,"張力(N/ｍ・kg)",null,null,14]
[null,null,null,null,null,null,null,null,null,null,null,null,null,null,null,null,"接圧(N/ｍ・kg)",null,null,"22/24"]
[null,null,"07",null,null,null,null,null,"08",null,null,null,null,null,null,"外観確認"]
[null,null,null,null,null,null,null,null,null,null,null,null,null,null,null,"表層透過検査",null,null,null,"OK",null,"NG"]
[null,null,null,null,null,null,null,null,null,null,null,null,null,null,null,"巻姿外観確認[ｽﾀｰﾄ/中間/ﾗｽﾄ]"]
[null,null,null,null,null,null,null,null,null,null,null,null,null,null,null,"各枝番に問題無『〇』問題有『☓』を記載"]
[null,null,"05",null,null,null,null,null,"06",null,null,null,null,null,null,null,null,null,null,null,null,null,null,null,null,null,"　"]
[]
[]
[]
[null,null,"03",null,null,null,null,null,"04",null,null,null,null,null,null,"※『☓』の場合は展開図に内容を記載する"]
[null,null,null,null,null,null,null,null,null,null,null,null,null,null,null,"検材エッジ",null,null,285]
[null,null,null,null,null,null,null,null,null,null,null,null,null,null,null,"表層ロス　　　　　　　ⅿ"]
[null,null,"01",null,null,null,null,null,"02",null,null,null,null,null,null,"レザー/丸刃交換",null,null,null,"レザー/丸刃廃棄"]
[null,20,1020,null,null,null,null,null,1020,null,null,null,null,null,20,"3　 枚",null,null,null,"3　 枚"]
[null,"膜厚測定（ＣＰＰ・VMPET・BRPET）",null,null,null,null,null,null,null,null,null,null,null,null,null,"備考"]
[null,"ラスト"]
[null,"1セット表層"]
[null,"1セット芯",null,null,null,null,null,null,null,null,null,null,null,null,null,"残",null,null,"m",null,null,null,"Φ"]
[]
[]
[]
[]
[]
[null,"スリット伝票　ＬＯＴ",null,null,null,null,null,{"$f":"②OP記入欄改!$D$5","v":51023357021},null,null,null,"製区",null,{"$f":"②OP記入欄改!$D$7","v":"S"},"品種",null,{"$f":"②OP記入欄改!$D$8","v":"ＣＰＰ2703"}]
[]
[null,"番手",null,{"$f":"②OP記入欄改!$D$9","v":25},"原反名",null,{"$f":"②OP記入欄改!$D$10","v":9041},null,"原反幅",null,{"$f":"②OP記入欄改!$D$11","v":2080},null,"原反長",null,{"$f":"②OP記入欄改!$D$12","v":45000},null,"前工程M/C",null,null,null,{"$f":"②OP記入欄改!$D$13","v":"DF7"}]
[null,"停機内容",null,null,null,null,null,"停機詳細",null,null,null,null,null,null,null,null,null,"停機時間"]
[null,"Ｆ破れ",null,null,"有/無",null,null,null,null,null,null,null,null,null,null,null,null,null,null,null,"hr"]
[null,"耳切れ",null,null,"有/無",null,null,null,null,null,null,null,null,null,null,null,null,null,null,null,"hr"]
[null,"紙管切断",null,null,"有/無",null,null,null,null,null,null,null,null,null,null,null,null,null,null,null,"hr"]
[null,"その他停機内容",null,null,null,null,null,null,null,null,null,null,null,null,null,null,null,null,null,null,"hr"]
[null,"備考"]
[]
[]
[]
[]
[]
[null,"外観確認内容"]
[null,"原反ズレ",null,null,null,"当てキズ",null,null,null,"溝ロール痕",null,null,null,"ＴＤスジ",null,null,null,"ピッチキズ"]
[null,"スリキズ",null,null,null,"クボミシワ",null,null,null,"シワムラ",null,null,null,"変色",null,null,null,"巻芯シワ"]
[null,"切断面・異物"]

{"sheet":"①入力手順","index":36,"n_rows":0,"n_cols":0,"rows_kept":0,"cut":false,"hidden":false,"merged":[]}

{"sheet":"③伝票原本 改 記入方法","index":37,"n_rows":71,"n_cols":42,"rows_kept":71,"cut":false,"hidden":false,"merged":[[70,1,70,4],[68,1,68,4],[68,5,68,8],[68,9,68,12],[68,13,68,16],[68,17,68,21],[69,1,69,4],[69,5,69,8],[69,9,69,12],[69,13,69,16],[69,17,69,21],[60,7,60,16],[60,17,60,19],[58,4,58,5],[58,7,58,16],[58,17,58,19],[59,4,59,5],[59,7,59,16],[59,17,59,19],[55,16,55,19],[55,20,55,22],[56,4,56,5],[57,4,57,5],[57,7,57,16],[57,17,57,19],[55,4,55,5],[55,6,55,7],[55,8,55,9],[55,10,55,11],[55,12,55,13],[55,14,55,15],[53,1,54,6],[53,7,53,10],[53,11,54,12],[53,13,54,13],[53,14,54,15],[53,16,54,22],[54,7,54,10],[46,13,46,14],[47,1,47,2],[47,3,47,4],[47,5,47,6],[47,7,47,8],[47,9,47,10],[47,11,47,12],[47,13,47,14],[46,1,46,2],[46,3,46,4],[46,5,46,6],[46,7,46,8],[46,9,46,10],[46,11,46,12],[44,1,44,14],[45,1,45,2],[45,3,45,4],[45,5,45,6],[45,7,45,8],[45,9,45,10],[45,11,45,12],[45,13,45,14],[39,15,39,22],[40,15,40,22],[42,15,42,18],[42,19,42,22],[43,15,43,18],[43,19,43,22],[31,15,31,22],[32,15,32,18],[32,19,32,20],[32,21,32,22],[33,15,33,22],[34,15,34,22],[24,15,24,17],[24,18,24,22],[25,15,25,17],[25,18,25,22],[26,15,30,15],[26,16,26,18],[27,16,27,18],[28,16,28,18],[29,16,29,18],[30,16,30,18],[27,19,27,20],[27,21,27,22],[21,15,21,17],[21,18,21,22],[22,15,22,17],[22,18,22,22],[23,15,23,17],[23,18,23,22],[18,15,18,17],[18,18,18,22],[19,15,19,17],[19,18,19,22],[20,15,20,17],[20,18,20,22],[15,1,15,5],[15,8,15,11],[15,12,15,14],[15,16,15,18],[15,20,15,22],[16,1,17,1],[14,1,14,5],[14,6,14,7],[14,8,14,11],[14,12,14,14],[14,15,14,18],[14,19,14,22],[13,2,13,3],[13,4,13,5],[13,6,13,7],[13,11,13,14],[13,15,13,17],[13,18,13,20],[12,2,12,3],[12,4,12,5],[12,6,12,7],[12,11,12,14],[12,15,12,17],[12,18,12,20],[11,2,11,3],[11,4,11,5],[11,6,11,7],[11,11,11,14],[11,15,11,17],[11,18,11,20],[10,2,10,3],[10,4,10,5],[10,6,10,7],[10,11,10,14],[10,15,10,17],[10,18,10,20],[9,2,9,3],[9,4,9,5],[9,6,9,7],[9,11,9,14],[9,15,9,17],[9,18,9,20],[8,2,8,3],[8,4,8,5],[8,6,8,7],[8,11,8,14],[8,15,8,17],[8,18,8,20],[7,2,7,3],[7,4,7,5],[7,6,7,7],[7,11,7,14],[7,15,7,17],[7,18,7,20],[6,2,6,3],[6,4,6,5],[6,6,6,7],[6,11,6,14],[6,15,6,17],[6,18,6,20],[5,4,5,5],[5,6,5,7],[5,11,5,14],[5,15,5,17],[5,18,5,20],[4,2,4,3],[4,4,4,5],[4,6,4,7],[4,11,4,14],[4,15,4,17],[4,18,4,20],[6,32,7,32],[6,33,7,33],[0,1,1,6],[0,7,0,10],[0,11,1,12],[0,13,1,13],[0,14,1,15],[0,16,1,22],[1,7,1,10],[2,16,2,19],[2,20,2,22],[3,2,3,3],[3,4,3,5],[3,6,3,7],[3,11,3,14],[3,15,3,17],[3,18,3,20],[2,4,2,5],[2,6,2,7],[2,8,2,9],[2,10,2,11],[2,12,2,13],[2,14,2,15],[5,2,5,3]]}
[null,"スリット伝票　ＬＯＴ",null,null,null,null,null,null,null,null,null,"製区",null,null,"品種"]
[]
[null,"番手",null,null,"原反名",null,null,null,"原反幅",null,null,null,"原反長",null,null,null,"前工程M/C"]
[null,null,"仕向先",null,"製品幅",null,"製品長さ",null,"計本","実","梱形","Ａ保枝番",null,null,null,"ミル枝番",null,null,"Ｂ級枝番",null,null,"ロック\nシャフト","コア"]
[null,1,null,null,null,null,null,null,null,null,null,null,null,null,null,null,null,null,null,null,null,null,6,null,null,null,null,null,null,null,null,null,null,null,"スリットOP記入欄"]
[null,2,null,null,null,null,null,null,null,null,null,null,null,null,null,null,null,null,null,null,null,null,6,null,null,null,null,null,null,null,null,null,1,"加工日","2025-10-23","←手入力"]
[null,3,null,null,null,null,null,null,null,null,null,null,null,null,null,null,null,null,null,null,null,null,6,null,null,null,null,null,null,null,null,null,2,"LOTNo\n（ｽﾘｯﾄﾛｯﾄ時のみ\n2行目使用する）",51023357021,"←手入力"]
[null,4,null,null,null,null,null,null,null,null,null,null,null,null,null,null,null,null,null,null,null,null,6]
[null,5,null,null,null,null,null,null,null,null,null,null,null,null,null,null,null,null,null,null,null,null,6,null,null,null,null,null,null,null,null,null,3,"製品区分","T"]
[null,6,null,null,null,null,null,null,null,null,null,null,null,null,null,null,null,null,null,null,null,null,6,null,null,null,null,null,null,null,null,null,4,"品種","ＣＰＰ2703"]
[null,7,null,null,null,null,null,null,null,null,null,null,null,null,null,null,null,null,null,null,null,null,6,null,null,null,null,null,null,null,null,null,5,"番手",25]
[null,8,null,null,null,null,null,null,null,null,null,null,null,null,null,null,null,null,null,null,null,null,6,null,null,null,null,null,null,null,null,null,6,"原反名","9041A3"]
[null,9,null,null,null,null,null,null,null,null,null,null,null,null,null,null,null,null,null,null,null,null,6,null,null,null,null,null,null,null,null,null,7,"原反幅",2060]
[null,10,null,null,null,null,null,null,null,null,null,null,null,null,null,null,null,null,null,null,null,null,6,null,null,null,null,null,null,null,null,null,8,"原反長",45000]
[null,"スリット作業指示№",null,null,null,null,"M/C№",null,"加工日",null,null,null,"前工程品質情報",null,null,"切断シフト1",null,null,null,"切断シフト2",null,null,null,null,null,null,null,null,null,null,null,null,9,"前工程Ｍ/Ｃ","DF7","←手入力"]
[null,null,null,null,null,null,"ＳＬ-",null,"　　　　年　　　月　　　日",null,null,null,"確認　　　□",null,null,"組","作業者",null,null,"組","作業者",null,null,null,null,null,null,null,null,null,null,null,10,"スリット作業指示NO"]
[null,"巻芯\n確認",null,null,null,null,null,null,null,null,null,null,null,null,null,null,null,null,null,null,null,null,null,null,null,null,null,null,null,null,null,null,11,"スリットＭ/Ｃ",19,"←手入力"]
[null,null,null,null,null,null,null,null,null,null,null,null,null,null,null,null,null,null,null,null,null,null,null,null,null,null,null,null,null,null,null,null,12,"Ｍ/Ｃ条件",2]
[null,null,null,null,null,null,null,null,null,null,null,null,null,null,null,"切替開始",null,null,"　　　　　時　　　　　分",null,null,null,null,null,null,null,null,null,null,null,null,null,13,"検知器条件",1]
[null,null,null,null,null,null,null,null,null,null,null,null,null,null,null,"切断開始",null,null,"　　　　　時　　　　　分"]
[null,null,null,null,null,null,null,null,null,null,null,null,null,null,null,"切断完了",null,null,"　　　　　時　　　　　分"]
[null,null,null,null,null,null,null,null,null,null,null,null,null,null,null,"食事開始",null,null,"　　　　　時　　　　　分"]
[null,null,null,null,null,null,null,null,null,null,null,null,null,null,null,"食事完了",null,null,"　　　　　時　　　　　分"]
[null,null,null,null,null,null,null,null,null,null,null,null,null,null,null,"停機開始",null,null,"　　　　　時　　　　　分"]
[null,null,null,null,null,null,null,null,null,null,null,null,null,null,null,"停機完了",null,null,"　　　　　時　　　　　分"]
[null,null,null,null,null,null,null,null,null,null,null,null,null,null,null,"停機理由"]
[null,null,null,null,null,null,null,null,null,null,null,null,null,null,null,"条件確認","M/C条件設定",null,null,"呼出№",null,null,null,null,null,null,null,null,null,null,null,null,null,null,null,null,null,null,null,null,"MCP",2]
[null,null,null,null,null,null,null,null,null,null,null,null,null,null,null,null,"欠点検出機",null,null,"使用条件№",null,null,null,null,null,null,null,null,null,null,null,null,null,null,null,null,null,null,null,null,"MK3",1]
[null,null,null,null,null,null,null,null,null,null,null,null,null,null,null,null,"速度(m/min)"]
[null,null,null,null,null,null,null,null,null,null,null,null,null,null,null,null,"張力(N/ｍ・kg)"]
[null,null,null,null,null,null,null,null,null,null,null,null,null,null,null,null,"接圧(N/ｍ・kg)"]
[null,null,null,null,null,null,null,null,null,null,null,null,null,null,null,"外観確認"]
[null,null,null,null,null,null,null,null,null,null,null,null,null,null,null,"表層透過検査",null,null,null,"OK",null,"NG"]
[null,null,null,null,null,null,null,null,null,null,null,null,null,null,null,"巻姿外観確認[ｽﾀｰﾄ/中間/ﾗｽﾄ]"]
[null,null,null,null,null,null,null,null,null,null,null,null,null,null,null,"各枝番に問題無『〇』問題有『☓』を記載"]
[]
[]
[]
[]
[null,null,null,null,null,null,null,null,null,null,null,null,null,null,null,"※『☓』の場合は展開図に内容を記載する"]
[null,null,null,null,null,null,null,null,null,null,null,null,null,null,null,"検材エッジ　　　　　　ⅿｍ"]
[null,null,null,null,null,null,null,null,null,null,null,null,null,null,null,"表層ロス　　　　　　　ⅿ"]
[null,null,null,null,null,null,null,null,null,null,null,null,null,null,null,"レザー/丸刃交換",null,null,null,"レザー/丸刃廃棄"]
[null,null,null,null,null,null,null,null,null,null,null,null,null,null,null,"枚",null,null,null,"枚"]
[null,"膜厚測定（ＣＰＰ・VMPET・BRPET）",null,null,null,null,null,null,null,null,null,null,null,null,null,"備考"]
[null,"ラスト"]
[null,"1セット表層"]
[null,"1セット芯"]
[]
[]
[]
[]
[]
[null,"スリット伝票　ＬＯＴ",null,null,null,null,null,null,null,null,null,"製区",null,null,"品種"]
[]
[null,"番手",null,null,"原反名",null,null,null,"原反幅",null,null,null,"原反長",null,null,null,"前工程M/C"]
[null,"停機内容",null,null,null,null,null,"停機詳細",null,null,null,null,null,null,null,null,null,"停機時間"]
[null,"Ｆ破れ",null,null,"有/無",null,null,null,null,null,null,null,null,null,null,null,null,null,null,null,"hr"]
[null,"耳切れ",null,null,"有/無",null,null,null,null,null,null,null,null,null,null,null,null,null,null,null,"hr"]
[null,"紙管切断",null,null,"有/無",null,null,null,null,null,null,null,null,null,null,null,null,null,null,null,"hr"]
[null,"その他停機内容",null,null,null,null,null,null,null,null,null,null,null,null,null,null,null,null,null,null,"hr"]
[null,"備考"]
[]
[]
[]
[]
[]
[null,"外観確認内容"]
[null,"原反ズレ",null,null,null,"当てキズ",null,null,null,"溝ロール痕",null,null,null,"ＴＤスジ",null,null,null,"ピッチキズ"]
[null,"スリキズ",null,null,null,"クボミシワ",null,null,null,"シワムラ",null,null,null,"変色",null,null,null,"巻芯シワ"]
[null,"切断面・異物"]

{"sheet":"生産予定表 ","index":38,"n_rows":738,"n_cols":54,"rows_kept":738,"cut":false,"hidden":false,"merged":[[4,3,5,3],[4,4,5,4],[4,8,4,23],[4,24,4,43]]}
["svfss003","emesHN",null,null,"V090629"]
[]
[null,null,"マシン","DF4"]
[null,null,"月度"]
["生産","加工","受付","製造ロット","生計NO","工程","切替時間","GRP","原反情報",null,null,null,null,null,null,null,null,null,null,null,null,null,null,null,"製品情報"]
["予定日","順序","NO",null,null,"コード","(分)","NO","原反在庫NO","ﾀｲﾌﾟ","ﾀｲﾌﾟ略名","ﾛｯﾄNO","発注NO","品番","品番区分","幅","組合せ幅","決済幅","長さ","余り長さ","決済長さ","本数","巻足し有","入荷日","品名ｺｰﾄﾞ","ﾀｲﾌﾟ","内輸区分","製品区分","原価区分","元原反","製品名","約定NO","枝番","取位置","幅","長さ","規格","本数","必本","実績本数","ｴﾘｱ","納期","備考","梱包形態","次行程情報","進捗管理","契約部課"]
[]
["2025-10-01",1,null,"50930354121","42694740001",null,null,null,null,"9041A3","9041A3",null,"2388746",25,null,2060,null,null,45000,null,null,1,null,"2025-09-30","MCP","2703","N","T","3E4B",null,2703,"3854535",1,null,920,4000,1,11,20,null,null,"2025-10-14","ＤＦ４／６指定　細川",null,null,null,"211"]
[null,null,null,null,null,null,null,null,null,null,null,null,null,null,null,null,null,null,null,null,null,null,null,null,"MCP","2703","N","T","3E4B",null,2703,"3854614",1,null,1100,4000,1,11,50,null,null,"2025-10-14","ＤＦ４／６指定　細川",null,null,null,"211"]
[]
["2025-10-01",2,null,"51001354011","42694750001",null,null,null,null,"9041A3","9041A3",null,"2388746",25,null,2060,null,null,45000,null,null,1,null,"2025-09-30","MCP","2703","N","T","3E4B",null,2703,"3854564",1,null,960,8000,1,5,20,null,null,"2025-10-14","細川",null,null,null,"211"]
[null,null,null,null,null,null,null,null,null,null,null,null,null,null,null,null,null,null,null,null,null,null,null,null,"MCP","2703","N","T","3E4B",null,2703,"3854591",1,null,1060,8000,1,5,35,null,null,"2025-10-14","ＤＦ４／６指定　細川",null,null,null,"211",null,880,8000,1,5,null,1]
[null,null,null,null,null,null,null,null,null,null,null,null,null,null,null,null,null,null,null,null,null,null,null,null,"MCP","2703","N","T","3E4B",null,2703,"3854153",1,null,1060,4000,1,1,19,null,null,"2025-10-14","４０００ｍ余剰分",null,null,null,"211",null,1100,8000,1,5]
[null,null,null,null,null,null,null,null,null,null,null,null,null,null,null,null,null,null,null,null,null,null,null,null,"MCP","2703","N","T","3E4B",null,2703,"3854108",1,null,960,4000,1,1,20,null,null,"2025-10-14","４０００ｍ余剰分",null,null,null,"211",null,1100,4000,1,1]
[null,null,null,null,null,null,null,null,null,null,null,null,null,null,null,null,null,null,null,null,null,null,null,null,null,null,null,null,null,null,null,null,null,null,null,null,null,null,null,null,null,null,null,null,null,null,null,null,880,4000,1,1]
["2025-10-01",3,null,null,"42694760001",null,null,null,null,"9041A3","9041A3",null,"2388748",25,null,2040,null,null,45000,null,null,1,null,"2025-09-30","MCP","2703","N","T","3E4B",null,2703,"3854320",1,null,900,4000,1,11,40,null,null,"2025-10-14","須田　№３８３９９７７ショート、Ａ３原反使用可",null,null,null,"217"]
[null,null,null,null,null,null,null,null,null,null,null,null,null,null,null,null,null,null,null,null,null,null,null,null,"MCP","2703","N","T","3E4B",null,2703,"3854613",1,null,1100,4000,1,11,50,null,null,"2025-10-14","ＤＦ４／６指定　細川",null,null,null,"211"]
[null,null,null,null,null,null,null,null,null,null,null,null,null,null,null,null,null,null,null,null,null,null,null,null,null,null,null,null,null,null,null,null,null,null,null,null,null,null,null,null,null,null,null,null,null,null,null,null,900,4000,1,11,null,2]
["2025-10-01",4,null,null,"42694770001",null,null,null,null,"9041A3","9041A3",null,"2388748",25,null,2040,null,null,45000,null,null,1,null,"2025-09-30","MCP","2703","N","T","3E4B",null,2703,"3854531",1,null,900,4000,1,11,20,null,null,"2025-10-14","細川",null,null,null,"211",null,1100,4000,1,11]
[null,null,null,null,null,null,null,null,null,null,null,null,null,null,null,null,null,null,null,null,null,null,null,null,"MCP","2703","N","T","3E4B",null,2703,"3854466",1,null,1100,4000,1,11,10,null,null,"2025-10-14","ユーザーフリー",null,null,null,"213"]
[]
["2025-10-01",5,null,null,"42694880001",null,null,null,null,"9041",9041,null,"2388750",25,null,2020,null,null,45000,null,null,1,null,"2025-09-30","MCP","2703","N","S","3M",null,2703,"3854514",1,null,880,8000,1,5,40,null,null,"2025-10-14","ＤＦ４／６指定　細川",null,null,null,"211",null,8000,1,5,null,null,3]
[null,null,null,null,null,null,null,null,null,null,null,null,null,null,null,null,null,null,null,null,null,null,null,null,"MCP","2703","N","S","3M",null,2703,"3854630",1,null,1100,8000,1,5,40,null,null,"2025-10-14","ＤＦ４／６指定　細川",null,null,null,"211",null,8000,1,5]
[null,null,null,null,null,null,null,null,null,null,null,null,null,null,null,null,null,null,null,null,null,null,null,null,"MCP","2703","N","S","3M",null,2703,"3854181",1,null,1100,4000,1,1,15,null,null,"2025-10-14","４０００ｍ余剰分",null,null,null,"211",null,4000,1,1]
[null,null,null,null,null,null,null,null,null,null,null,null,null,null,null,null,null,null,null,null,null,null,null,null,"MCP","2703","N","S","3M",null,2703,"3854235",1,null,880,4000,1,1,20,null,null,"2025-10-14","４０００ｍ余剰分",null,null,null,"211",null,4000,1,1]
[]
["2025-10-01",6,null,null,"42694780001",null,null,null,null,"9041A3","9041A3",null,"2388751",25,null,2000,null,null,45000,null,null,1,null,"2025-09-30","MCP","2703","N","T","3E4B",null,2703,"3854422",1,null,900,4000,1,11,10,null,null,"2025-10-14","尾池",null,null,null,"215"]
[null,null,null,null,null,null,null,null,null,null,null,null,null,null,null,null,null,null,null,null,null,null,null,null,"MCP","2703","N","T","3E4B",null,2703,"3854582",1,null,1060,4000,1,11,40,null,null,"2025-10-14","ＤＦ４／６指定　細川",null,null,null,"211"]
[]
["2025-10-01",7,null,null,"42694790001",null,null,null,null,"9041A3","9041A3",null,"2388751",25,null,2000,null,null,45000,null,null,1,null,"2025-09-30","MCP","2703","N","T","3E4B",null,2703,"3854496",1,null,820,8000,1,5,10,null,null,"2025-10-14",null,null,null,null,"211"]
[null,null,null,null,null,null,null,null,null,null,null,null,null,null,null,null,null,null,null,null,null,null,null,null,"MCP","2703","N","T","3E4B",null,2703,"3854650",1,null,1140,8000,1,5,20,null,null,"2025-10-14","ＤＦ４／６指定　細川",null,null,null,"211"]
[null,null,null,null,null,null,null,null,null,null,null,null,null,null,null,null,null,null,null,null,null,null,null,null,"MCP","2703","N","T","3E4B",null,2703,"3854085",1,null,1140,4000,1,1,3,null,null,"2025-10-14","４０００ｍ余剰分",null,null,null,"211"]
[null,null,null,null,null,null,null,null,null,null,null,null,null,null,null,null,null,null,null,null,null,null,null,null,"MCP","2703","N","T","3E4B",null,2703,"3854097",1,null,820,4000,1,1,4,null,null,"2025-10-14","４０００ｍ余剰分",null,null,null,"211"]
[]
["2025-10-01",8,null,null,"42694800001",null,null,null,null,"9041A3","9041A3",null,"2388752",25,null,1980,null,null,45000,null,null,1,null,"2025-09-30","MCP","2703","N","T","3E4B",null,2703,"3854518",1,null,880,8000,1,5,50,null,null,"2025-10-14","細川",null,null,null,"211"]
[null,null,null,null,null,null,null,null,null,null,null,null,null,null,null,null,null,null,null,null,null,null,null,null,"MCP","2703","N","T","3E4B",null,2703,"3854590",1,null,1060,8000,1,5,35,null,null,"2025-10-14","ＤＦ４／６指定　細川",null,null,null,"211"]
[null,null,null,null,null,null,null,null,null,null,null,null,null,null,null,null,null,null,null,null,null,null,null,null,"MCP","2703","N","T","3E4B",null,2703,"3854149",1,null,1060,4000,1,1,19,null,null,"2025-10-14","４０００ｍ余剰分",null,null,null,"211"]
[null,null,null,null,null,null,null,null,null,null,null,null,null,null,null,null,null,null,null,null,null,null,null,null,"MCP","2703","N","T","3E4B",null,2703,"3854219",1,null,880,4000,1,1,20,null,null,"2025-10-14","４０００ｍ余剰分",null,null,null,"211"]
[]
["2025-10-01",9,null,null,"42694810001",null,null,null,null,"9041A3","9041A3",null,"2388752",25,null,1980,null,null,45000,null,null,1,null,"2025-09-30","MCP","2703","N","T","3E4B",null,2703,"3854437",1,null,940,8000,1,5,10,null,null,"2025-10-14","ユーザーフリー",null,null,null,"218"]
[null,null,null,null,null,null,null,null,null,null,null,null,null,null,null,null,null,null,null,null,null,null,null,null,"MCP","2703","N","T","3E4B",null,2703,"3854571",1,null,1000,8000,1,5,5,null,null,"2025-10-14","ＤＦ４／６指定　細川",null,null,null,"211"]
[null,null,null,null,null,null,null,null,null,null,null,null,null,null,null,null,null,null,null,null,null,null,null,null,"MCP","2703","N","T","3E4B",null,2703,"3854084",1,null,1000,4000,1,1,1,null,null,"2025-10-14","４０００ｍ余剰分",null,null,null,"211"]
[null,null,null,null,null,null,null,null,null,null,null,null,null,null,null,null,null,null,null,null,null,null,null,null,"MCP","2703","N","T","3E4B",null,2703,"3854141",1,null,940,4000,1,1,2,null,null,"2025-10-14","４０００ｍ余剰分",null,null,null,"218"]
[]
["2025-10-01",10,null,null,"42694890001",null,null,null,null,"9041",9041,null,"2388753",25,null,1960,null,null,45000,null,null,1,null,"2025-09-30","MCP","2703","N","S","3D",null,2703,"3854446",1,null,960,8000,1,10,20,null,null,"2025-10-14","ＤＮＰ京都　３Ｄｏｒ３Ｄ６",null,null,null,"213"]
[null,null,null,null,null,null,null,null,null,null,null,null,null,null,null,null,null,null,null,null,null,null,null,null,"MCP",2703,"N","S","3M",null,2703,3854051,1,null,960,4000,1,2,null,null,null,"2025-10-14","４０００ｍ余剰分",null,null,null,"211"]
[]
["2025-10-02",1,null,null,"43602420001",null,null,null,null,"9021T","9021T",null,"2389846",20,null,1880,null,null,53000,null,null,1,null,"2025-10-01","MCP","2203","N","S","3M",null,2203,3856566,1,null,820,4000,1,26,null,null,null,"2025-10-14",null,null,null,null,"214"]
[]
["2025-10-02",2,null,null,"43602430001",null,null,null,null,"9021T","9021T",null,"2389847",20,null,1800,null,null,53000,null,null,1,null,"2025-10-01","MCP","2203","N","S","3M",null,2203,3856567,1,null,820,4000,1,26,null,null,null,"2025-10-14",null,null,null,null,"214"]
[]
["2025-10-02",3,null,null,"43602440001",null,null,null,null,"9041A3","9041A3",null,"2389848",25,null,2100,null,null,45000,null,null,1,null,"2025-10-01","MCP","2703","N","T","3E4B",null,2703,"3857097",1,null,660,4000,1,11,10,null,null,"2025-10-14","サイチ　優先配台",null,null,null,"213"]
[null,null,null,null,null,null,null,null,null,null,null,null,null,null,null,null,null,null,null,null,null,null,null,null,"MCP","2703","N","T","3E4B",null,2703,"3857208",1,null,680,4000,1,11,20,null,null,"2025-10-14","尾池",null,null,null,"215"]
[null,null,null,null,null,null,null,null,null,null,null,null,null,null,null,null,null,null,null,null,null,null,null,null,"MCP","2703","N","T","3E4B",null,2703,"3857210",1,null,720,4000,1,11,40,null,null,"2025-10-14","尾池",null,null,null,"215"]
[]
["2025-10-02",4,null,null,"43602450001",null,null,null,null,"9041A3","9041A3",null,"2389848",25,null,2100,null,null,45000,null,null,1,null,"2025-10-01","MCP","2703","N","T","3E4B",null,2703,"3857216",1,null,920,8000,1,5,15,null,null,"2025-10-14","尾池",null,null,null,"215"]
[null,null,null,null,null,null,null,null,null,null,null,null,null,null,null,null,null,null,null,null,null,null,null,null,"MCP","2703","N","T","3E4B",null,2703,"3857090",1,null,1140,8000,1,5,5,null,null,"2025-10-14","大三紙業　Ａ３原反使用可",null,null,null,"217"]
[null,null,null,null,null,null,null,null,null,null,null,null,null,null,null,null,null,null,null,null,null,null,null,null,"MCP","2703","N","T","3E4B",null,2703,"3857040",1,null,1140,4000,1,1,1,null,null,"2025-10-14","４０００ｍ余剰分",null,null,null,"217"]
[null,null,null,null,null,null,null,null,null,null,null,null,null,null,null,null,null,null,null,null,null,null,null,null,"MCP","2703","N","T","3E4B",null,2703,"3857039",1,null,920,4000,1,1,1,null,null,"2025-10-14","４０００ｍ余剰分",null,null,null,"215"]
[]
["2025-10-02",5,null,null,"43602510001",null,null,null,null,"9041",9041,null,"2389850",25,null,2100,null,null,45000,null,null,1,null,"2025-10-01","MCP","2703","N","S","3M",null,2703,"3857147",1,null,820,4000,1,11,80,null,null,"2025-10-14","ユーザーフリー",null,null,null,"213"]
[null,null,null,null,null,null,null,null,null,null,null,null,null,null,null,null,null,null,null,null,null,null,null,null,"MCP","2703","N","S","3M",null,2703,"3857120",1,null,620,4000,1,22,40,null,null,"2025-10-14","ユーザーフリー",null,null,null,"213"]
[]
["2025-10-02",6,null,null,"43602520001",null,null,null,null,"9041",9041,null,"2389852",25,null,2080,null,null,45000,null,null,1,null,"2025-10-01","MCP","2703","N","S","3M",null,2703,"3857146",1,null,820,4000,1,11,80,null,null,"2025-10-14","ユーザーフリー",null,null,null,"213"]
[null,null,null,null,null,null,null,null,null,null,null,null,null,null,null,null,null,null,null,null,null,null,null,null,"MCP","2703","N","S","3M",null,2703,"3857118",1,null,540,4000,1,11,10,null,null,"2025-10-14","ユーザーフリー",null,null,null,"213"]
[null,null,null,null,null,null,null,null,null,null,null,null,null,null,null,null,null,null,null,null,null,null,null,null,"MCP","2703","N","S","3M",null,2703,"3857209",1,null,680,4000,1,11,20,null,null,"2025-10-14","尾池",null,null,null,"215"]
[]
["2025-10-02",7,null,null,"43602530001",null,null,null,null,"9041",9041,null,"2389852",25,null,2080,null,null,45000,null,null,1,null,"2025-10-01","MCP","2703","N","S","3M",null,2703,"3857153",1,null,860,4000,1,11,20,null,null,"2025-10-14","ユーザーフリー",null,null,null,"213"]
[null,null,null,null,null,null,null,null,null,null,null,null,null,null,null,null,null,null,null,null,null,null,null,null,"MCP","2703","N","S","3M",null,2703,"3857202",1,null,1180,4000,1,11,20,null,null,"2025-10-14","ユーザーフリー",null,null,null,"213"]
[]
["2025-10-02",8,null,null,"43602460001",null,null,null,null,"9041A3","9041A3",null,"2389920",25,null,2040,null,null,45000,null,null,1,null,"2025-10-02","MCP","2703","N","T","3E4B",null,2703,"3854500",1,null,860,4000,1,11,10,null,null,"2025-10-14",null,null,null,null,"211"]
[null,null,null,null,null,null,null,null,null,null,null,null,null,null,null,null,null,null,null,null,null,null,null,null,"MCP","2703","N","T","3E4B",null,2703,"3854648",1,null,1140,4000,1,11,10,null,null,"2025-10-14","ＤＦ４／６指定　細川",null,null,null,"211"]
[]
["2025-10-02",9,null,null,"43602470001",null,null,null,null,"9041A3","9041A3",null,"2389920",25,null,2040,null,null,45000,null,null,1,null,"2025-10-02","MCP","2703","N","T","3E4B",null,2703,"3854321",1,null,900,4000,1,11,40,null,null,"2025-10-14","須田　№３８３９９７７ショート、Ａ３原反使用可",null,null,null,"217"]
[null,null,null,null,null,null,null,null,null,null,null,null,null,null,null,null,null,null,null,null,null,null,null,null,"MCP","2703","N","T","3E4B",null,2703,"3854618",1,null,1100,4000,1,11,70,null,null,"2025-10-14","細川",null,null,null,"211"]
[]
["2025-10-02",10,null,null,"43602480001",null,null,null,null,"9041A3","9041A3",null,"2389920",25,null,2040,null,null,45000,null,null,1,null,"2025-10-02","MCP","2703","N","T","3E4B",null,2703,"3854438",1,null,940,8000,1,5,10,null,null,"2025-10-14","ユーザーフリー",null,null,null,"218"]
[null,null,null,null,null,null,null,null,null,null,null,null,null,null,null,null,null,null,null,null,null,null,null,null,"MCP","2703","N","T","3E4B",null,2703,"3854599",1,null,1060,8000,1,5,65,null,null,"2025-10-14","細川",null,null,null,"211"]
[null,null,null,null,null,null,null,null,null,null,null,null,null,null,null,null,null,null,null,null,null,null,null,null,"MCP","2703","N","T","3E4B",null,2703,"3854151",1,null,1060,4000,1,1,19,null,null,"2025-10-14","４０００ｍ余剰分",null,null,null,"211"]
[null,null,null,null,null,null,null,null,null,null,null,null,null,null,null,null,null,null,null,null,null,null,null,null,"MCP","2703","N","T","3E4B",null,2703,"3854142",1,null,940,4000,1,1,2,null,null,"2025-10-14","４０００ｍ余剰分",null,null,null,"218"]
[]
["2025-10-03",1,null,null,"43602490001",null,null,null,null,"9041A3","9041A3",null,"2389920",25,null,2040,null,null,45000,null,null,1,null,"2025-10-02","MCP","2703","N","T","3E4B",null,2703,"3854522",1,null,880,8000,1,5,50,null,null,"2025-10-14","細川",null,null,null,"211"]
[null,null,null,null,null,null,null,null,null,null,null,null,null,null,null,null,null,null,null,null,null,null,null,null,"MCP","2703","N","T","3E4B",null,2703,"3854646",1,null,1120,8000,1,5,10,null,null,"2025-10-14","細川",null,null,null,"211"]
[null,null,null,null,null,null,null,null,null,null,null,null,null,null,null,null,null,null,null,null,null,null,null,null,"MCP","2703","N","T","3E4B",null,2703,"3854184",1,null,1120,4000,1,1,3,null,null,"2025-10-14","４０００ｍ余剰分",null,null,null,"211"]
[null,null,null,null,null,null,null,null,null,null,null,null,null,null,null,null,null,null,null,null,null,null,null,null,"MCP","2703","N","T","3E4B",null,2703,"3854223",1,null,880,4000,1,1,20,null,null,"2025-10-14","４０００ｍ余剰分",null,null,null,"211"]
[]
["2025-10-03",2,null,null,"43602500001",null,null,null,null,"9041A3","9041A3",null,"2389920",25,null,2040,null,null,45000,null,null,1,null,"2025-10-02","MCP","2703","N","T","3E4B",null,2703,"3854376",1,null,780,4000,1,11,60,null,null,"2025-10-14","ユーザーフリー",null,null,null,"213"]
[null,null,null,null,null,null,null,null,null,null,null,null,null,null,null,null,null,null,null,null,null,null,null,null,"MCP","2703","N","T","3E4B",null,2703,"3854687",1,null,1220,4000,1,11,30,null,null,"2025-10-14",null,null,null,null,"211"]
[]
["2025-10-03",3,null,null,"43602540001",null,null,null,null,"9041",9041,null,"2389854",25,null,2040,null,null,45000,null,null,1,null,"2025-10-01","MCP","2703","N","S","3D",null,2703,"3857175",1,null,980,8000,1,5,40,null,null,"2025-10-14","ＤＮＰ京都　３Ｄｏｒ３Ｄ６",null,null,null,"213"]
[null,null,null,null,null,null,null,null,null,null,null,null,null,null,null,null,null,null,null,null,null,null,null,null,"MCP","2703","N","S","3M",null,2703,"3857188",1,null,1020,8000,1,5,35,null,null,"2025-10-14","ユーザーフリー",null,null,null,"213"]
[null,null,null,null,null,null,null,null,null,null,null,null,null,null,null,null,null,null,null,null,null,null,null,null,"MCP","2703","N","S","3M",null,2703,"3857049",1,null,1020,4000,1,1,4,null,null,"2025-10-14","４０００ｍ余剰分",null,null,null,"213"]
[null,null,null,null,null,null,null,null,null,null,null,null,null,null,null,null,null,null,null,null,null,null,null,null,"MCP","2703","N","S","3M",null,2703,"3857080",1,null,980,4000,1,1,7,null,null,"2025-10-14","４０００ｍ余剰分",null,null,null,"213"]
[]
["2025-10-03",4,null,null,"43602550001",null,null,null,null,"9041",9041,null,"2389854",25,null,2040,null,null,45000,null,null,1,null,"2025-10-01","MCP","2703","N","S","3D",null,2703,"3857176",1,null,980,8000,1,5,40,null,null,"2025-10-14","ＤＮＰ京都　３Ｄｏｒ３Ｄ６",null,null,null,"213"]
[null,null,null,null,null,null,null,null,null,null,null,null,null,null,null,null,null,null,null,null,null,null,null,null,"MCP","2703","N","S","3M",null,2703,"3857189",1,null,1020,8000,1,5,35,null,null,"2025-10-14","ユーザーフリー",null,null,null,"213"]
[null,null,null,null,null,null,null,null,null,null,null,null,null,null,null,null,null,null,null,null,null,null,null,null,"MCP","2703","N","S","3M",null,2703,"3857050",1,null,1020,4000,1,1,4,null,null,"2025-10-14","４０００ｍ余剰分",null,null,null,"213"]
[null,null,null,null,null,null,null,null,null,null,null,null,null,null,null,null,null,null,null,null,null,null,null,null,"MCP","2703","N","S","3M",null,2703,"3857081",1,null,980,4000,1,1,7,null,null,"2025-10-14","４０００ｍ余剰分",null,null,null,"213"]
[]
["2025-10-03",5,null,null,"43602560001",null,null,null,null,"9041",9041,null,"2389855",25,null,2020,null,null,45000,null,null,1,null,"2025-10-01","MCP","2703","N","S","3M",null,2703,"3857248",1,null,1180,8000,1,5,30,null,null,"2025-10-14","細川",null,null,null,"211"]
[null,null,null,null,null,null,null,null,null,null,null,null,null,null,null,null,null,null,null,null,null,null,null,null,"MCP","2703","N","S","3D",null,2703,"3857144",1,null,800,8000,1,5,10,null,null,"2025-10-14","ＤＮＰ京都　３Ｄｏｒ３Ｄ６",null,null,null,"213"]
[null,null,null,null,null,null,null,null,null,null,null,null,null,null,null,null,null,null,null,null,null,null,null,null,"MCP","2703","N","S","3M",null,2703,"3857045",1,null,1180,4000,1,1,2,null,null,"2025-10-14","４０００ｍ余剰分",null,null,null,"211"]
[null,null,null,null,null,null,null,null,null,null,null,null,null,null,null,null,null,null,null,null,null,null,null,null,"MCP","2703","N","S","3M",null,2703,"3857070",1,null,800,4000,1,1,2,null,null,"2025-10-14","４０００ｍ余剰分",null,null,null,"213"]
[]
["2025-10-03",6,null,null,"43602570001",null,null,null,null,"9041",9041,null,"2389922",25,null,2020,null,null,45000,null,null,1,null,"2025-10-02","MCP","2703","N","S","3D",null,2703,"3857171",1,null,940,8000,1,5,30,null,null,"2025-10-14","ＤＮＰ京都　３Ｄｏｒ３Ｄ６",null,null,null,"213"]
[null,null,null,null,null,null,null,null,null,null,null,null,null,null,null,null,null,null,null,null,null,null,null,null,"MCP","2703","N","S","3D",null,2703,"3857192",1,null,1040,8000,1,5,20,null,null,"2025-10-14","ＤＮＰ京都　３Ｄｏｒ３Ｄ６",null,null,null,"213"]
[null,null,null,null,null,null,null,null,null,null,null,null,null,null,null,null,null,null,null,null,null,null,null,null,"MCP","2703","N","S","3M",null,2703,"3857053",1,null,1040,4000,1,1,4,null,null,"2025-10-14","４０００ｍ余剰分",null,null,null,"213"]
[null,null,null,null,null,null,null,null,null,null,null,null,null,null,null,null,null,null,null,null,null,null,null,null,"MCP","2703","N","S","3M",null,2703,"3857076",1,null,940,4000,1,1,2,null,null,"2025-10-14","４０００ｍ余剰分",null,null,null,"213"]
[]
["2025-10-03",7,null,null,"43602580001",null,null,null,null,"9041",9041,null,"2389922",25,null,2020,null,null,45000,null,null,1,null,"2025-10-02","MCP","2703","N","S","3D",null,2703,"3857141",1,null,780,8000,1,5,5,null,null,"2025-10-14","ＤＮＰ京都　３Ｄｏｒ３Ｄ６",null,null,null,"213"]
[null,null,null,null,null,null,null,null,null,null,null,null,null,null,null,null,null,null,null,null,null,null,null,null,"MCP","2703","N","S","3M",null,2703,"3857252",1,null,1200,8000,1,5,10,null,null,"2025-10-14","ＤＦ４／６指定",null,null,null,"211"]
[null,null,null,null,null,null,null,null,null,null,null,null,null,null,null,null,null,null,null,null,null,null,null,null,"MCP","2703","N","S","3M",null,2703,"3857047",1,null,1200,4000,1,1,2,null,null,"2025-10-14","４０００ｍ余剰分",null,null,null,"211"]
[null,null,null,null,null,null,null,null,null,null,null,null,null,null,null,null,null,null,null,null,null,null,null,null,"MCP","2703","N","S","3M",null,2703,"3857069",1,null,780,4000,1,1,1,null,null,"2025-10-14","４０００ｍ余剰分",null,null,null,"213"]
[]
["2025-10-03",8,null,null,"43602590001",null,null,null,null,"9041",9041,null,"2389923",25,null,2000,null,null,45000,null,null,1,null,"2025-10-02","MCP","2703","N","S","3M",null,2703,"3857092",1,null,540,4000,1,11,30,null,null,"2025-10-14","サイチ　優先配台",null,null,null,"213"]
[null,null,null,null,null,null,null,null,null,null,null,null,null,null,null,null,null,null,null,null,null,null,null,null,"MCP","2703","N","S","3M",null,2703,"3857094",1,null,620,4000,1,11,20,null,null,"2025-10-14","サイチ　優先配台",null,null,null,"213"]
[null,null,null,null,null,null,null,null,null,null,null,null,null,null,null,null,null,null,null,null,null,null,null,null,"MCP","2703","N","S","3M",null,2703,"3857142",1,null,800,4000,1,11,40,null,null,"2025-10-14","ユーザーフリー",null,null,null,"213"]
[]
["2025-10-03",9,null,null,"43602600001",null,null,null,null,"9041",9041,null,"2389923",25,null,2000,null,null,45000,null,null,1,null,"2025-10-02","MCP","2703","N","S","3M",null,2703,"3857111",1,null,920,4000,1,11,60,null,null,"2025-10-14","サイチ　優先配台",null,null,null,"213"]
[null,null,null,null,null,null,null,null,null,null,null,null,null,null,null,null,null,null,null,null,null,null,null,null,"MCP","2703","N","S","3M",null,2703,"3857219",1,null,1040,4000,1,11,70,null,null,"2025-10-14","尾池",null,null,null,"215"]
[]
["2025-10-03",10,null,null,"43602610001",null,null,null,null,"9041",9041,null,"2389923",25,null,2000,null,null,45000,null,null,1,null,"2025-10-02","MCP","2703","N","S","3D",null,2703,"3857155",1,null,860,8000,1,5,10,null,null,"2025-10-14","ＤＮＰ京都　３Ｄｏｒ３Ｄ６",null,null,null,"213"]
[null,null,null,null,null,null,null,null,null,null,null,null,null,null,null,null,null,null,null,null,null,null,null,null,"MCP","2703","N","S","3D",null,2703,"3857199",1,null,1100,8000,1,5,10,null,null,"2025-10-14","ＤＮＰ京都　３Ｄｏｒ３Ｄ６",null,null,null,"213"]
[null,null,null,null,null,null,null,null,null,null,null,null,null,null,null,null,null,null,null,null,null,null,null,null,"MCP","2703","N","S","3M",null,2703,"3857057",1,null,1100,4000,1,1,3,null,null,"2025-10-14","４０００ｍ余剰分",null,null,null,"213"]
[null,null,null,null,null,null,null,null,null,null,null,null,null,null,null,null,null,null,null,null,null,null,null,null,"MCP","2703","N","S","3M",null,2703,"3857072",1,null,860,4000,1,1,2,null,null,"2025-10-14","４０００ｍ余剰分",null,null,null,"213"]
[]
["2025-10-04",1,null,null,"43602620001",null,null,null,null,"9041",9041,null,"2390386",25,null,1980,null,null,45000,null,null,1,null,"2025-10-03","MCP","2703","N","S","3M",null,2703,"3857161",1,null,900,4000,1,11,70,null,null,"2025-10-15","ユーザーフリー",null,null,null,"213"]
[null,null,null,null,null,null,null,null,null,null,null,null,null,null,null,null,null,null,null,null,null,null,null,null,"MCP","2703","N","S","3M",null,2703,"3857220",1,null,1040,4000,1,11,70,null,null,"2025-10-15","尾池",null,null,null,"215"]
[]
["2025-10-04",2,null,null,"43602630001",null,null,null,null,"9041",9041,null,"2390386",25,null,1980,null,null,45000,null,null,1,null,"2025-10-03","MCP","2703","N","S","3M",null,2703,"3857162",1,null,900,4000,1,11,70,null,null,"2025-10-15","ユーザーフリー",null,null,null,"213"]
[null,null,null,null,null,null,null,null,null,null,null,null,null,null,null,null,null,null,null,null,null,null,null,null,"MCP","2703","N","S","3M",null,2703,"3857221",1,null,1040,4000,1,11,70,null,null,"2025-10-15","尾池",null,null,null,"215"]
[]
["2025-10-04",3,null,null,"43602640001",null,null,null,null,"9041",9041,null,"2390386",25,null,1980,null,null,45000,null,null,1,null,"2025-10-03","MCP","2703","N","S","3M",null,2703,"3857169",1,null,920,4000,1,11,70,null,null,"2025-10-15","ユーザーフリー",null,null,null,"213"]
[null,null,null,null,null,null,null,null,null,null,null,null,null,null,null,null,null,null,null,null,null,null,null,null,"MCP","2703","N","S","3M",null,2703,"3857186",1,null,1020,4000,1,11,50,null,null,"2025-10-15","ユーザーフリー",null,null,null,"213"]
[]
["2025-10-04",4,null,null,"43602650001",null,null,null,null,"9041",9041,null,"2390386",25,null,1980,null,null,45000,null,null,1,null,"2025-10-03","MCP","2703","N","S","3M",null,2703,"3857157",1,null,880,4000,1,11,20,null,null,"2025-10-15","ユーザーフリー",null,null,null,"213"]
[null,null,null,null,null,null,null,null,null,null,null,null,null,null,null,null,null,null,null,null,null,null,null,null,"MCP","2703","N","S","3M",null,2703,"3857239",1,null,1060,4000,1,11,20,null,null,"2025-10-15","細川",null,null,null,"211"]
[]
["2025-10-04",5,null,null,"43602660001",null,null,null,null,"9041",9041,null,"2390386",25,null,1980,null,null,45000,null,null,1,null,"2025-10-03","MCP","2703","N","S","3M",null,2703,"3857114",1,null,1180,8000,1,5,30,null,null,"2025-10-15","サイチ　優先配台",null,null,null,"213"]
[null,null,null,null,null,null,null,null,null,null,null,null,null,null,null,null,null,null,null,null,null,null,null,null,"MCP","2703","N","S","3M",null,2703,"3857136",1,null,760,8000,1,5,10,null,null,"2025-10-15","ユーザーフリー",null,null,null,"213"]
[null,null,null,null,null,null,null,null,null,null,null,null,null,null,null,null,null,null,null,null,null,null,null,null,"MCP","2703","N","S","3M",null,2703,"3857060",1,null,1180,4000,1,1,4,null,null,"2025-10-15","４０００ｍ余剰分",null,null,null,"213"]
[null,null,null,null,null,null,null,null,null,null,null,null,null,null,null,null,null,null,null,null,null,null,null,null,"MCP","2703","N","S","3M",null,2703,"3857065",1,null,760,4000,1,1,4,null,null,"2025-10-15","４０００ｍ余剰分",null,null,null,"213"]
[]
["2025-10-04",6,null,null,"43602670001",null,null,null,null,"9041",9041,null,"2390386",25,null,1980,null,null,45000,null,null,1,null,"2025-10-03","MCP","2703","N","S","3M",null,2703,"3857115",1,null,1180,8000,1,5,30,null,null,"2025-10-15","サイチ　優先配台",null,null,null,"213"]
[null,null,null,null,null,null,null,null,null,null,null,null,null,null,null,null,null,null,null,null,null,null,null,null,"MCP","2703","N","S","3D",null,2703,"3857138",1,null,760,8000,1,5,10,null,null,"2025-10-15","ＤＮＰ京都　３Ｄｏｒ３Ｄ６",null,null,null,"213"]
[null,null,null,null,null,null,null,null,null,null,null,null,null,null,null,null,null,null,null,null,null,null,null,null,"MCP","2703","N","S","3M",null,2703,"3857061",1,null,1180,4000,1,1,4,null,null,"2025-10-15","４０００ｍ余剰分",null,null,null,"213"]
[null,null,null,null,null,null,null,null,null,null,null,null,null,null,null,null,null,null,null,null,null,null,null,null,"MCP","2703","N","S","3M",null,2703,"3857066",1,null,760,4000,1,1,4,null,null,"2025-10-15","４０００ｍ余剰分",null,null,null,"213"]
[]
["2025-10-04",7,null,null,"43602770001",null,null,null,null,"9041A3","9041A3",null,"2390387",25,null,1980,null,null,45000,null,null,1,null,"2025-10-03","MCP","2703","N","T","3E4B",null,2703,"3858028",1,null,960,8000,1,5,100,null,null,"2025-10-15","細川",null,null,null,"211"]
[null,null,null,null,null,null,null,null,null,null,null,null,null,null,null,null,null,null,null,null,null,null,null,null,"MCP","2703","N","T","3E4B",null,2703,"3858052",1,null,980,8000,1,5,50,null,null,"2025-10-15","ＤＦ４／６指定　細川",null,null,null,"211"]
[null,null,null,null,null,null,null,null,null,null,null,null,null,null,null,null,null,null,null,null,null,null,null,null,"MCP","2703","N","T","3E4B",null,2703,"3857602",1,null,980,4000,1,1,22,null,null,"2025-10-15","４０００ｍ余剰分",null,null,null,"211"]
[null,null,null,null,null,null,null,null,null,null,null,null,null,null,null,null,null,null,null,null,null,null,null,null,"MCP","2703","N","T","3E4B",null,2703,"3857573",1,null,960,4000,1,1,40,null,null,"2025-10-15","４０００ｍ余剰分",null,null,null,"211"]
[]
["2025-10-04",8,null,null,"43602780001",null,null,null,null,"9041A3","9041A3",null,"2390387",25,null,1980,null,null,45000,null,null,1,null,"2025-10-03","MCP","2703","N","T","3E4B",null,2703,"3858029",1,null,960,8000,1,5,100,null,null,"2025-10-15","細川",null,null,null,"211"]
[null,null,null,null,null,null,null,null,null,null,null,null,null,null,null,null,null,null,null,null,null,null,null,null,"MCP","2703","N","T","3E4B",null,2703,"3858053",1,null,980,8000,1,5,50,null,null,"2025-10-15","ＤＦ４／６指定　細川",null,null,null,"211"]
[null,null,null,null,null,null,null,null,null,null,null,null,null,null,null,null,null,null,null,null,null,null,null,null,"MCP","2703","N","T","3E4B",null,2703,"3857605",1,null,980,4000,1,1,22,null,null,"2025-10-15","４０００ｍ余剰分",null,null,null,"211"]
[null,null,null,null,null,null,null,null,null,null,null,null,null,null,null,null,null,null,null,null,null,null,null,null,"MCP","2703","N","T","3E4B",null,2703,"3857575",1,null,960,4000,1,1,40,null,null,"2025-10-15","４０００ｍ余剰分",null,null,null,"211"]
[]
["2025-10-04",9,null,null,"43602790001",null,null,null,null,"9041A3","9041A3",null,"2390387",25,null,1980,null,null,45000,null,null,1,null,"2025-10-03","MCP","2703","N","T","3E4B",null,2703,"3858030",1,null,960,8000,1,5,100,null,null,"2025-10-15","細川",null,null,null,"211"]
[null,null,null,null,null,null,null,null,null,null,null,null,null,null,null,null,null,null,null,null,null,null,null,null,"MCP","2703","N","T","3E4B",null,2703,"3858054",1,null,980,8000,1,5,50,null,null,"2025-10-15","ＤＦ４／６指定　細川",null,null,null,"211"]
[null,null,null,null,null,null,null,null,null,null,null,null,null,null,null,null,null,null,null,null,null,null,null,null,"MCP","2703","N","T","3E4B",null,2703,"3857606",1,null,980,4000,1,1,22,null,null,"2025-10-15","４０００ｍ余剰分",null,null,null,"211"]
[null,null,null,null,null,null,null,null,null,null,null,null,null,null,null,null,null,null,null,null,null,null,null,null,"MCP","2703","N","T","3E4B",null,2703,"3857576",1,null,960,4000,1,1,40,null,null,"2025-10-15","４０００ｍ余剰分",null,null,null,"211"]
[]
["2025-10-04",10,null,null,"43602800001",null,null,null,null,"9041A3","9041A3",null,"2390388",25,null,1960,null,null,45000,null,null,1,null,"2025-10-03","MCP","2703","N","T","3E4B",null,2703,"3857098",1,null,820,4000,1,11,70,null,null,"2025-10-15","サイチ　優先配台",null,null,null,"213"]
[null,null,null,null,null,null,null,null,null,null,null,null,null,null,null,null,null,null,null,null,null,null,null,null,"MCP","2703","N","T","3E4B",null,2703,"3857196",1,null,1100,4000,1,11,40,null,null,"2025-10-15","ユーザーフリー",null,null,null,"213"]
[]
["2025-10-05",1,null,null,"43602810001",null,null,null,null,"9041A3","9041A3",null,"2390397",25,null,1960,null,null,45000,null,null,1,null,"2025-10-04","MCP","2703","N","T","3E4B",null,2703,"3857106",1,null,920,4000,1,11,60,null,null,"2025-10-16","サイチ　優先配台",null,null,null,"213"]
[null,null,null,null,null,null,null,null,null,null,null,null,null,null,null,null,null,null,null,null,null,null,null,null,"MCP","2703","N","T","3E4B",null,2703,"3857182",1,null,1000,4000,1,11,70,null,null,"2025-10-16","ユーザーフリー",null,null,null,"213"]
[]
["2025-10-05",2,null,null,"43602820001",null,null,null,null,"9041A3","9041A3",null,"2390397",25,null,1960,null,null,45000,null,null,1,null,"2025-10-04","MCP","2703","N","T","3E4B",null,2703,"3857099",1,null,820,4000,1,11,70,null,null,"2025-10-16","サイチ　優先配台",null,null,null,"213"]
[null,null,null,null,null,null,null,null,null,null,null,null,null,null,null,null,null,null,null,null,null,null,null,null,"MCP","2703","N","T","3E4B",null,2703,"3857242",1,null,1100,4000,1,11,20,null,null,"2025-10-16","細川",null,null,null,"211"]
[]
["2025-10-05",3,null,null,"43602830001",null,null,null,null,"9041A3","9041A3",null,"2390397",25,null,1960,null,null,45000,null,null,1,null,"2025-10-04","MCP","2703","N","T","3E4B",null,2703,"3857107",1,null,920,4000,1,11,60,null,null,"2025-10-16","サイチ　優先配台",null,null,null,"213"]
[null,null,null,null,null,null,null,null,null,null,null,null,null,null,null,null,null,null,null,null,null,null,null,null,"MCP","2703","N","T","3E4B",null,2703,"3857183",1,null,1000,4000,1,11,70,null,null,"2025-10-16","ユーザーフリー",null,null,null,"213"]
[]
["2025-10-05",4,null,null,"43602680001",null,null,null,null,"9041",9041,null,"2390398",25,null,1920,null,null,41000,null,null,1,null,"2025-10-04","MCP","2703","N","S","3M",null,2703,"3857167",1,null,920,4000,1,10,70,null,null,"2025-10-16","ユーザーフリー",null,null,null,"213"]
[null,null,null,null,null,null,null,null,null,null,null,null,null,null,null,null,null,null,null,null,null,null,null,null,"MCP","2703","N","S","3M",null,2703,"3857217",1,null,960,4000,1,10,40,null,null,"2025-10-16","尾池",null,null,null,"215"]
[]
["2025-10-05",5,null,null,"43602690001",null,null,null,null,"9041",9041,null,"2390399",25,null,1840,null,null,41000,null,null,1,null,"2025-10-04","MCP","2703","N","S","3M",null,2703,"3857152",1,null,840,4000,1,10,140,null,null,"2025-10-16","ユーザーフリー",null,null,null,"213"]
[null,null,null,null,null,null,null,null,null,null,null,null,null,null,null,null,null,null,null,null,null,null,null,null,"MCP","2703","N","S","3M",null,2703,"3857234",1,null,960,4000,1,10,40,null,null,"2025-10-16","細川",null,null,null,"211"]
[]
["2025-10-05",6,null,null,"43602700001",null,null,null,null,"9041",9041,null,"2390400",25,null,2320,null,null,41000,null,null,1,null,"2025-10-04","MCP","2703","N","S","3M",null,2703,"3857133",1,null,760,4000,1,30,100,null,null,"2025-10-16","ユーザーフリー",null,null,null,"213"]
[]
["2025-10-05",7,null,null,"43602710001",null,null,null,null,"9041",9041,null,"2390401",25,null,2300,null,null,41000,null,null,1,null,"2025-10-04","MCP","2703","N","S","3M",null,2703,"3857796",1,null,700,4000,1,10,10,null,null,"2025-10-16","ユーザーフリー",null,null,null,"213"]
[null,null,null,null,null,null,null,null,null,null,null,null,null,null,null,null,null,null,null,null,null,null,null,null,"MCP","2703","N","S","3M",null,2703,"3857802",1,null,760,4000,1,10,40,null,null,"2025-10-16","ユーザーフリー",null,null,null,"213"]
[null,null,null,null,null,null,null,null,null,null,null,null,null,null,null,null,null,null,null,null,null,null,null,null,"MCP","2703","N","S","3M",null,2703,"3857957",1,null,800,4000,1,10,10,null,null,"2025-10-16","ＤＦ４／６指定",null,null,null,"211"]
[]
["2025-10-05",8,null,null,"43602720001",null,null,null,null,"9041",9041,null,"2390402",25,null,2240,null,null,41000,null,null,1,null,"2025-10-04","MCP","2703","N","S","3M",null,2703,"3857123",1,null,660,4000,1,10,20,null,null,"2025-10-16","ユーザーフリー",null,null,null,"213"]
[null,null,null,null,null,null,null,null,null,null,null,null,null,null,null,null,null,null,null,null,null,null,null,null,"MCP","2703","N","S","3M",null,2703,"3857132",1,null,760,4000,1,10,100,null,null,"2025-10-16","ユーザーフリー",null,null,null,"213"]
[null,null,null,null,null,null,null,null,null,null,null,null,null,null,null,null,null,null,null,null,null,null,null,null,"MCP","2703","N","S","3M",null,2703,"3857140",1,null,780,4000,1,10,10,null,null,"2025-10-16","ユーザーフリー",null,null,null,"213"]
[]
["2025-10-05",9,null,null,"43602840001",null,null,null,null,"9041A3","9041A3",null,"2390403",25,null,2100,null,null,45000,null,null,1,null,"2025-10-04","MCP","2703","N","T","3E4B",null,2703,"3857112",1,null,1180,8000,1,5,30,null,null,"2025-10-16","サイチ　優先配台",null,null,null,"213"]
[null,null,null,null,null,null,null,null,null,null,null,null,null,null,null,null,null,null,null,null,null,null,null,null,"MCP","2703","N","T","3E4B",null,2703,"3857229",1,null,880,8000,1,5,10,null,null,"2025-10-16","細川",null,null,null,"211"]
[null,null,null,null,null,null,null,null,null,null,null,null,null,null,null,null,null,null,null,null,null,null,null,null,"MCP","2703","N","T","3E4B",null,2703,"3857037",1,null,1180,4000,1,1,2,null,null,"2025-10-16","４０００ｍ余剰分",null,null,null,"213"]
[null,null,null,null,null,null,null,null,null,null,null,null,null,null,null,null,null,null,null,null,null,null,null,null,"MCP","2703","N","T","3E4B",null,2703,"3857035",1,null,880,4000,1,1,2,null,null,"2025-10-16","４０００ｍ余剰分",null,null,null,"211"]
[]
["2025-10-05",10,null,null,"43602850001",null,null,null,null,"9041A3","9041A3",null,"2390403",25,null,2100,null,null,45000,null,null,1,null,"2025-10-04","MCP","2703","N","T","3E4B",null,2703,"3857205",1,null,540,4000,1,11,20,null,null,"2025-10-16","尾池",null,null,null,"215"]
[null,null,null,null,null,null,null,null,null,null,null,null,null,null,null,null,null,null,null,null,null,null,null,null,"MCP","2703","N","T","3E4B",null,2703,"3857129",1,null,740,4000,1,11,30,null,null,"2025-10-16","ユーザーフリー",null,null,null,"213"]
[null,null,null,null,null,null,null,null,null,null,null,null,null,null,null,null,null,null,null,null,null,null,null,null,"MCP","2703","N","T","3E4B",null,2703,"3857214",1,null,780,4000,1,11,20,null,null,"2025-10-16","尾池",null,null,null,"215"]
[]
["2025-10-06",1,null,null,"43602860001",null,null,null,null,"9041A3","9041A3",null,"2390403",25,null,2100,null,null,45000,null,null,1,null,"2025-10-04","MCP","2703","N","T","3E4B",null,2703,"3857784",1,null,900,8000,1,5,10,null,null,"2025-10-17","凸版　ＤＦ４・６指定　優先希望！",null,null,null,"214"]
[null,null,null,null,null,null,null,null,null,null,null,null,null,null,null,null,null,null,null,null,null,null,null,null,"MCP","2703","N","T","3E4B",null,2703,"3858136",1,null,1160,8000,1,5,40,null,null,"2025-10-17","細川",null,null,null,"211"]
[null,null,null,null,null,null,null,null,null,null,null,null,null,null,null,null,null,null,null,null,null,null,null,null,"MCP","2703","N","T","3E4B",null,2703,"3857544",1,null,1160,4000,1,1,12,null,null,"2025-10-17","４０００ｍ余剰分",null,null,null,"211"]
[null,null,null,null,null,null,null,null,null,null,null,null,null,null,null,null,null,null,null,null,null,null,null,null,"MCP","2703","N","T","3E4B",null,2703,"3857753",1,null,900,4000,1,1,2,null,null,"2025-10-17","４０００ｍ余剰分",null,null,null,"214"]
[]
["2025-10-06",2,null,null,"43602870001",null,null,null,null,"9041A3","9041A3",null,"2390403",25,null,2100,null,null,45000,null,null,1,null,"2025-10-04","MCP","2703","N","T","3E4B",null,2703,"3858075",1,null,1000,8000,1,5,40,null,null,"2025-10-17","細川",null,null,null,"211"]
[null,null,null,null,null,null,null,null,null,null,null,null,null,null,null,null,null,null,null,null,null,null,null,null,"MCP","2703","N","T","3E4B",null,2703,"3858098",1,null,1060,8000,1,5,65,null,null,"2025-10-17","細川",null,null,null,"211"]
[null,null,null,null,null,null,null,null,null,null,null,null,null,null,null,null,null,null,null,null,null,null,null,null,"MCP","2703","N","T","3E4B",null,2703,"3857675",1,null,1060,4000,1,1,13,null,null,"2025-10-17","４０００ｍ余剰分",null,null,null,"211"]
[null,null,null,null,null,null,null,null,null,null,null,null,null,null,null,null,null,null,null,null,null,null,null,null,"MCP","2703","N","T","3E4B",null,2703,"3857658",1,null,1000,4000,1,1,14,null,null,"2025-10-17","４０００ｍ余剰分",null,null,null,"211"]
[]
["2025-10-06",3,null,null,"43602880001",null,null,null,null,"9041A3","9041A3",null,"2390403",25,null,2100,null,null,45000,null,null,1,null,"2025-10-04","MCP","2703","N","T","3E4B",null,2703,"3858076",1,null,1000,8000,1,5,40,null,null,"2025-10-17","細川",null,null,null,"211"]
[null,null,null,null,null,null,null,null,null,null,null,null,null,null,null,null,null,null,null,null,null,null,null,null,"MCP","2703","N","T","3E4B",null,2703,"3858099",1,null,1060,8000,1,5,65,null,null,"2025-10-17","細川",null,null,null,"211"]
[null,null,null,null,null,null,null,null,null,null,null,null,null,null,null,null,null,null,null,null,null,null,null,null,"MCP","2703","N","T","3E4B",null,2703,"3857676",1,null,1060,4000,1,1,13,null,null,"2025-10-17","４０００ｍ余剰分",null,null,null,"211"]
[null,null,null,null,null,null,null,null,null,null,null,null,null,null,null,null,null,null,null,null,null,null,null,null,"MCP","2703","N","T","3E4B",null,2703,"3857659",1,null,1000,4000,1,1,14,null,null,"2025-10-17","４０００ｍ余剰分",null,null,null,"211"]
[]
["2025-10-06",4,null,null,"43602890001",null,null,null,null,"9041A3","9041A3",null,"2390403",25,null,2100,null,null,45000,null,null,1,null,"2025-10-04","MCP","2703","N","T","3E4B",null,2703,"3858077",1,null,1000,8000,1,5,40,null,null,"2025-10-17","細川",null,null,null,"211"]
[null,null,null,null,null,null,null,null,null,null,null,null,null,null,null,null,null,null,null,null,null,null,null,null,"MCP","2703","N","T","3E4B",null,2703,"3858100",1,null,1060,8000,1,5,65,null,null,"2025-10-17","細川",null,null,null,"211"]
[null,null,null,null,null,null,null,null,null,null,null,null,null,null,null,null,null,null,null,null,null,null,null,null,"MCP","2703","N","T","3E4B",null,2703,"3857677",1,null,1060,4000,1,1,13,null,null,"2025-10-17","４０００ｍ余剰分",null,null,null,"211"]
[null,null,null,null,null,null,null,null,null,null,null,null,null,null,null,null,null,null,null,null,null,null,null,null,"MCP","2703","N","T","3E4B",null,2703,"3857660",1,null,1000,4000,1,1,14,null,null,"2025-10-17","４０００ｍ余剰分",null,null,null,"211"]
[]
["2025-10-06",5,null,null,"43602900001",null,null,null,null,"9041A3","9041A3",null,"2390403",25,null,2100,null,null,45000,null,null,1,null,"2025-10-04","MCP","2703","N","T","3E4B",null,2703,"3858078",1,null,1000,8000,1,5,40,null,null,"2025-10-17","細川",null,null,null,"211"]
[null,null,null,null,null,null,null,null,null,null,null,null,null,null,null,null,null,null,null,null,null,null,null,null,"MCP","2703","N","T","3E4B",null,2703,"3858101",1,null,1060,8000,1,5,65,null,null,"2025-10-17","細川",null,null,null,"211"]
[null,null,null,null,null,null,null,null,null,null,null,null,null,null,null,null,null,null,null,null,null,null,null,null,"MCP","2703","N","T","3E4B",null,2703,"3857678",1,null,1060,4000,1,1,13,null,null,"2025-10-17","４０００ｍ余剰分",null,null,null,"211"]
[null,null,null,null,null,null,null,null,null,null,null,null,null,null,null,null,null,null,null,null,null,null,null,null,"MCP","2703","N","T","3E4B",null,2703,"3857661",1,null,1000,4000,1,1,14,null,null,"2025-10-17","４０００ｍ余剰分",null,null,null,"211"]
[]
["2025-10-06",6,null,null,"43602730001",null,null,null,null,"9041",9041,null,"2390406",25,null,2100,null,null,45000,null,null,1,null,"2025-10-04","MCP","2703","N","S","3M",null,2703,"3857148",1,null,820,4000,1,11,80,null,null,"2025-10-17","ユーザーフリー",null,null,null,"213"]
[null,null,null,null,null,null,null,null,null,null,null,null,null,null,null,null,null,null,null,null,null,null,null,null,"MCP","2703","N","S","3M",null,2703,"3857226",1,null,620,4000,1,11,20,null,null,"2025-10-17","細川",null,null,null,"211"]
[null,null,null,null,null,null,null,null,null,null,null,null,null,null,null,null,null,null,null,null,null,null,null,null,"MCP","2703","N","S","3M",null,2703,"3857207",1,null,620,4000,1,11,10,null,null,"2025-10-17","尾池",null,null,null,"215"]
[]
["2025-10-06",7,null,null,"43602740001",null,null,null,null,"9041",9041,null,"2390406",25,null,2100,null,null,45000,null,null,1,null,"2025-10-04","MCP","2703","N","S","3M",null,2703,"3857818",1,null,840,4000,1,11,130,null,null,"2025-10-17","ユーザーフリー",null,null,null,"213"]
[null,null,null,null,null,null,null,null,null,null,null,null,null,null,null,null,null,null,null,null,null,null,null,null,"MCP","2703","N","S","3M",null,2703,"3858154",1,null,1220,4000,1,11,10,null,null,"2025-10-17",null,null,null,null,"211"]
[]
["2025-10-06",8,null,null,"43602750001",null,null,null,null,"9041",9041,null,"2390406",25,null,2100,null,null,45000,null,null,1,null,"2025-10-04","MCP","2703","N","S","3M",null,2703,"3857896",1,null,920,4000,1,11,40,null,null,"2025-10-17","尾池",null,null,null,"215"]
[null,null,null,null,null,null,null,null,null,null,null,null,null,null,null,null,null,null,null,null,null,null,null,null,"MCP","2703","N","S","3M",null,2703,"3858126",1,null,1140,4000,1,11,20,null,null,"2025-10-17","ＤＦ４／６指定　細川",null,null,null,"211"]
[]
["2025-10-06",9,null,null,"43602760001",null,null,null,null,"9041",9041,null,"2390406",25,null,2100,null,null,45000,null,null,1,null,"2025-10-04","MCP","2703","N","S","3M",null,2703,"3857878",1,null,720,8000,1,10,20,null,null,"2025-10-17","尾池",null,null,null,"215"]
[null,null,null,null,null,null,null,null,null,null,null,null,null,null,null,null,null,null,null,null,null,null,null,null,"MCP","2703","N","S","3M",null,2703,"3857949",1,null,620,8000,1,5,10,null,null,"2025-10-17","細川",null,null,null,"211",null,720,620,720,4000]
[null,null,null,null,null,null,null,null,null,null,null,null,null,null,null,null,null,null,null,null,null,null,null,null,"MCP","2703","N","S","3M",null,2703,"3857768",1,null,720,4000,1,2,4,null,null,"2025-10-17","４０００ｍ余剰分",null,null,null,"215",null,720,620,720,8000]
[null,null,null,null,null,null,null,null,null,null,null,null,null,null,null,null,null,null,null,null,null,null,null,null,"MCP","2703","N","S","3M",null,2703,"3857557",1,null,620,4000,1,1,2,null,null,"2025-10-17","４０００ｍ余剰分",null,null,null,"211",null,720,620,720,8000]
[null,null,null,null,null,null,null,null,null,null,null,null,null,null,null,null,null,null,null,null,null,null,null,null,null,null,null,null,null,null,null,null,null,null,null,null,null,null,null,null,null,null,null,null,null,null,null,null,720,620,720,8000]
["2025-10-06",10,null,null,"43602910001",null,null,null,null,"9041A3","9041A3",null,"2390408",25,null,2080,null,null,45000,null,null,1,null,"2025-10-04","MCP","2703","N","T","3E4B",null,2703,"3857854",1,null,980,8000,1,5,80,null,null,"2025-10-17","ユーザーフリー",null,null,null,"213",null,720,620,720,8000]
[null,null,null,null,null,null,null,null,null,null,null,null,null,null,null,null,null,null,null,null,null,null,null,null,"MCP","2703","N","T","3E4B",null,2703,"3858093",1,null,1060,8000,1,5,25,null,null,"2025-10-17","ＤＦ４／６指定　細川",null,null,null,"211",null,720,620,720,8000]
[null,null,null,null,null,null,null,null,null,null,null,null,null,null,null,null,null,null,null,null,null,null,null,null,"MCP","2703","N","T","3E4B",null,2703,"3857536",1,null,1060,4000,1,1,5,null,null,"2025-10-17","４０００ｍ余剰分",null,null,null,"211"]
[null,null,null,null,null,null,null,null,null,null,null,null,null,null,null,null,null,null,null,null,null,null,null,null,"MCP","2703","N","T","3E4B",null,2703,"3857632",1,null,980,4000,1,1,16,null,null,"2025-10-17","４０００ｍ余剰分",null,null,null,"213"]
[]
[]
[]
[]
[]
[]
["未配台"]
[null,null,null,null,null,null,null,null,null,"9021T","9021T",null,null,25,null,2300,null,null,41000,null,null,1,null,null,"MCP","2203","N","S","3M",null,2203,"3855095",1,null,1020,4000,1,10,10,null,null,"2025-10-17",null,null,null,null,"213"]
[null,null,null,null,null,null,null,null,null,null,null,null,null,null,null,null,null,null,null,null,null,null,null,null,"MCP","2203","N","S","3M",null,2203,"3855097",1,null,600,4000,1,10,10,null,null,"2025-10-17",null,null,null,null,"211"]
[null,null,null,null,null,null,null,null,null,null,null,null,null,null,null,null,null,null,null,null,null,null,null,null,"MCP","2203","N","S","3M",null,2203,"3855098",1,null,620,4000,1,10,10,null,null,"2025-10-17",null,null,null,null,"211"]
[]
[]
[null,null,null,null,null,null,null,null,null,"9041A3","9041A3",null,null,25,null,2020,null,null,45000,null,null,1,null,null,"MCP","2703","N","T","3E4B",null,2703,"3854553",1,null,960,8000,1,5,80,null,null,"2025-10-17","ＤＦ４／６指定　細川",null,null,null,"211"]
[null,null,null,null,null,null,null,null,null,null,null,null,null,null,null,null,null,null,null,null,null,null,null,null,"MCP","2703","N","T","3E4B",null,2703,"3854456",1,null,1020,8000,1,5,25,null,null,"2025-10-17","ユーザーフリー",null,null,null,"213"]
[null,null,null,null,null,null,null,null,null,null,null,null,null,null,null,null,null,null,null,null,null,null,null,null,"MCP","2703","N","T","3E4B",null,2703,"3854251",1,null,1020,4000,1,1,5,null,null,"2025-10-17","４０００ｍ余剰分",null,null,null,"213"]
[null,null,null,null,null,null,null,null,null,null,null,null,null,null,null,null,null,null,null,null,null,null,null,null,"MCP","2703","N","T","3E4B",null,2703,"3854105",1,null,960,4000,1,1,20,null,null,"2025-10-17","４０００ｍ余剰分",null,null,null,"211"]
[]
[null,null,null,null,null,null,null,null,null,"9041A3","9041A3",null,null,25,null,2020,null,null,45000,null,null,1,null,null,"MCP","2703","N","T","3E4B",null,2703,"3854554",1,null,960,8000,1,5,80,null,null,"2025-10-17","ＤＦ４／６指定　細川",null,null,null,"211"]
[null,null,null,null,null,null,null,null,null,null,null,null,null,null,null,null,null,null,null,null,null,null,null,null,"MCP","2703","N","T","3E4B",null,2703,"3854573",1,null,1020,8000,1,5,10,null,null,"2025-10-17","ＤＦ４／６指定　細川",null,null,null,"211"]
[null,null,null,null,null,null,null,null,null,null,null,null,null,null,null,null,null,null,null,null,null,null,null,null,"MCP","2703","N","T","3E4B",null,2703,"3854143",1,null,1020,4000,1,1,2,null,null,"2025-10-17","４０００ｍ余剰分",null,null,null,"211"]
[null,null,null,null,null,null,null,null,null,null,null,null,null,null,null,null,null,null,null,null,null,null,null,null,"MCP","2703","N","T","3E4B",null,2703,"3854106",1,null,960,4000,1,1,20,null,null,"2025-10-17","４０００ｍ余剰分",null,null,null,"211"]
[]
[null,null,null,null,null,null,null,null,null,"9041A3","9041A3",null,null,25,null,2020,null,null,45000,null,null,1,null,null,"MCP","2703","N","T","3E4B",null,2703,"3854520",1,null,880,8000,1,5,50,null,null,"2025-10-17","細川",null,null,null,"211"]
[null,null,null,null,null,null,null,null,null,null,null,null,null,null,null,null,null,null,null,null,null,null,null,null,"MCP","2703","N","T","3E4B",null,2703,"3854626",1,null,1100,8000,1,5,40,null,null,"2025-10-17","ＤＦ４／６指定　細川",null,null,null,"211"]
[null,null,null,null,null,null,null,null,null,null,null,null,null,null,null,null,null,null,null,null,null,null,null,null,"MCP","2703","N","T","3E4B",null,2703,"3854170",1,null,1100,4000,1,1,15,null,null,"2025-10-17","４０００ｍ余剰分",null,null,null,"211"]
[null,null,null,null,null,null,null,null,null,null,null,null,null,null,null,null,null,null,null,null,null,null,null,null,"MCP","2703","N","T","3E4B",null,2703,"3854221",1,null,880,4000,1,1,20,null,null,"2025-10-17","４０００ｍ余剰分",null,null,null,"211"]
[]
[null,null,null,null,null,null,null,null,null,"9041A3","9041A3",null,null,25,null,2020,null,null,45000,null,null,1,null,null,"MCP","2703","N","T","3E4B",null,2703,"3854521",1,null,880,8000,1,5,50,null,null,"2025-10-17","細川",null,null,null,"211"]
[null,null,null,null,null,null,null,null,null,null,null,null,null,null,null,null,null,null,null,null,null,null,null,null,"MCP","2703","N","T","3E4B",null,2703,"3854470",1,null,1100,8000,1,5,10,null,null,"2025-10-17","尾池",null,null,null,"215"]
[null,null,null,null,null,null,null,null,null,null,null,null,null,null,null,null,null,null,null,null,null,null,null,null,"MCP","2703","N","T","3E4B",null,2703,"3854289",1,null,1100,4000,1,1,2,null,null,"2025-10-17","４０００ｍ余剰分",null,null,null,"215"]
[null,null,null,null,null,null,null,null,null,null,null,null,null,null,null,null,null,null,null,null,null,null,null,null,"MCP","2703","N","T","3E4B",null,2703,"3854222",1,null,880,4000,1,1,20,null,null,"2025-10-17","４０００ｍ余剰分",null,null,null,"211"]
[]
[]
[null,null,null,null,null,null,null,null,null,"9041A3","9041A3",null,null,25,null,1960,null,null,45000,null,null,1,null,null,"MCP","2703","N","T","3E4B",null,2703,"3857100",1,null,820,4000,1,11,70,null,null,"2025-11-06","サイチ　優先配台",null,null,null,"213"]
[null,null,null,null,null,null,null,null,null,null,null,null,null,null,null,null,null,null,null,null,null,null,null,null,"MCP","2703","N","T","3E4B",null,2703,"3857197",1,null,1100,4000,1,11,40,null,null,"2025-11-06","ユーザーフリー",null,null,null,"213"]
[]
[null,null,null,null,null,null,null,null,null,"9041",9041,null,null,25,null,1960,null,null,45000,null,null,1,null,null,"MCP","2703","N","S","3M",null,2703,"3857087",1,null,900,4000,1,11,10,null,null,"2025-11-06","凸版　ＤＦ４・６指定",null,null,null,"214"]
[null,null,null,null,null,null,null,null,null,null,null,null,null,null,null,null,null,null,null,null,null,null,null,null,"MCP","2703","N","S","3M",null,2703,"3857237",1,null,1020,4000,1,11,10,null,null,"2025-11-06","ＤＦ４／６指定　細川",null,null,null,"211"]
[]
[null,null,null,null,null,null,null,null,null,"9041",9041,null,null,25,null,1960,null,null,45000,null,null,1,null,null,"MCP","2703","N","S","3M",null,2703,"3857231",1,null,960,4000,1,22,40,null,null,"2025-11-06","ＤＦ４／６指定　細川",null,null,null,"211"]
[]
[null,null,null,null,null,null,null,null,null,"9041",9041,null,null,25,null,1960,null,null,45000,null,null,1,null,null,"MCP","2703","N","S","3M",null,2703,"3857168",1,null,920,4000,1,11,70,null,null,"2025-11-06","ユーザーフリー",null,null,null,"213"]
[null,null,null,null,null,null,null,null,null,null,null,null,null,null,null,null,null,null,null,null,null,null,null,null,"MCP","2703","N","S","3M",null,2703,"3857185",1,null,1000,4000,1,11,70,null,null,"2025-11-06","ユーザーフリー",null,null,null,"213"]
[]
[null,null,null,null,null,null,null,null,null,"9041",9041,null,null,25,null,2080,null,null,45000,null,null,1,null,null,"MCP","2703","N","S","3M",null,2703,"3857228",1,null,860,4000,1,11,20,null,null,"2025-11-06","ＤＦ４／６指定",null,null,null,"211"]
[null,null,null,null,null,null,null,null,null,null,null,null,null,null,null,null,null,null,null,null,null,null,null,null,"MCP","2703","N","S","3M",null,2703,"3857247",1,null,1180,4000,1,11,20,null,null,"2025-11-06","細川",null,null,null,"211"]
[]
[null,null,null,null,null,null,null,null,null,"9041",9041,null,null,25,null,2080,null,null,45000,null,null,1,null,null,"MCP","2703","N","S","3M",null,2703,"3857225",1,null,620,4000,1,11,10,null,null,"2025-11-06","ＤＦ４／６指定　細川",null,null,null,"211"]
[null,null,null,null,null,null,null,null,null,null,null,null,null,null,null,null,null,null,null,null,null,null,null,null,"MCP","2703","N","S","3M",null,2703,"3857125",1,null,700,4000,1,11,30,null,null,"2025-11-06","ユーザーフリー",null,null,null,"213"]
[null,null,null,null,null,null,null,null,null,null,null,null,null,null,null,null,null,null,null,null,null,null,null,null,"MCP","2703","N","S","3M",null,2703,"3857211",1,null,720,4000,1,11,40,null,null,"2025-11-06","尾池",null,null,null,"215"]
[]
[null,null,null,null,null,null,null,null,null,"9041",9041,null,null,25,null,2060,null,null,45000,null,null,1,null,null,"MCP","2703","N","S","3D",null,2703,"3857177",1,null,980,8000,1,5,40,null,null,"2025-11-06","ＤＮＰ京都　３Ｄｏｒ３Ｄ６",null,null,null,"213"]
[null,null,null,null,null,null,null,null,null,null,null,null,null,null,null,null,null,null,null,null,null,null,null,null,"MCP","2703","N","S","3D",null,2703,"3857193",1,null,1040,8000,1,5,20,null,null,"2025-11-06","ＤＮＰ京都　３Ｄｏｒ３Ｄ６",null,null,null,"213"]
[null,null,null,null,null,null,null,null,null,null,null,null,null,null,null,null,null,null,null,null,null,null,null,null,"MCP","2703","N","S","3M",null,2703,"3857054",1,null,1040,4000,1,1,4,null,null,"2025-11-06","４０００ｍ余剰分",null,null,null,"213"]
[null,null,null,null,null,null,null,null,null,null,null,null,null,null,null,null,null,null,null,null,null,null,null,null,"MCP","2703","N","S","3M",null,2703,"3857082",1,null,980,4000,1,1,7,null,null,"2025-11-06","４０００ｍ余剰分",null,null,null,"213"]
[]
[null,null,null,null,null,null,null,null,null,"9041",9041,null,null,25,null,2060,null,null,45000,null,null,1,null,null,"MCP","2703","N","S","3D",null,2703,"3857159",1,null,880,8000,1,5,10,null,null,"2025-11-06","ＤＮＰ京都　３Ｄｏｒ３Ｄ６",null,null,null,"213"]
[null,null,null,null,null,null,null,null,null,null,null,null,null,null,null,null,null,null,null,null,null,null,null,null,"MCP","2703","N","S","3M",null,2703,"3857245",1,null,1140,8000,1,5,10,null,null,"2025-11-06","ＤＦ４／６指定　細川",null,null,null,"211"]
[null,null,null,null,null,null,null,null,null,null,null,null,null,null,null,null,null,null,null,null,null,null,null,null,"MCP","2703","N","S","3M",null,2703,"3857043",1,null,1140,4000,1,1,2,null,null,"2025-11-06","４０００ｍ余剰分",null,null,null,"211"]
[null,null,null,null,null,null,null,null,null,null,null,null,null,null,null,null,null,null,null,null,null,null,null,null,"MCP","2703","N","S","3M",null,2703,"3857074",1,null,880,4000,1,1,2,null,null,"2025-11-06","４０００ｍ余剰分",null,null,null,"213"]
[]
[null,null,null,null,null,null,null,null,null,"9041",9041,null,null,25,null,2060,null,null,45000,null,null,1,null,null,"MCP","2703","N","S","3D",null,2703,"3857173",1,null,960,8000,1,5,30,null,null,"2025-11-06","ＤＮＰ京都　３Ｄｏｒ３Ｄ６",null,null,null,"213"]
[null,null,null,null,null,null,null,null,null,null,null,null,null,null,null,null,null,null,null,null,null,null,null,null,"MCP","2703","N","S","3M",null,2703,"3857241",1,null,1060,8000,1,5,70,null,null,"2025-11-06","細川",null,null,null,"211"]
[null,null,null,null,null,null,null,null,null,null,null,null,null,null,null,null,null,null,null,null,null,null,null,null,"MCP","2703","N","S","3M",null,2703,"3857041",1,null,1060,4000,1,1,2,null,null,"2025-11-06","４０００ｍ余剰分",null,null,null,"211"]
[null,null,null,null,null,null,null,null,null,null,null,null,null,null,null,null,null,null,null,null,null,null,null,null,"MCP","2703","N","S","3M",null,2703,"3857078",1,null,960,4000,1,1,2,null,null,"2025-11-06","４０００ｍ余剰分",null,null,null,"213"]
[]
[]
[null,null,null,null,null,null,null,null,null,"9021T","9021T",null,null,25,null,2080,null,null,45000,null,null,1,null,null,"MCP","2203","N","S","3M",null,2203,"3857938",1,null,1020,8000,1,10,20,null,null,"2025-10-17",null,null,null,null,"213"]
[null,null,null,null,null,null,null,null,null,null,null,null,null,null,null,null,null,null,null,null,null,null,null,null,"MCP","2203","N","S","3M",null,2203,"3857617",1,null,1020,4000,1,2,4,null,null,"2025-10-17","４０００ｍ余剰分",null,null,null,"213"]
[]
[null,null,null,null,null,null,null,null,null,"9021T","9021T",null,null,25,null,2080,null,null,45000,null,null,1,null,null,"MCP","2203","N","S","3M",null,2203,"3857939",1,null,1020,8000,1,10,20,null,null,"2025-10-17",null,null,null,null,"213"]
[null,null,null,null,null,null,null,null,null,null,null,null,null,null,null,null,null,null,null,null,null,null,null,null,"MCP","2203","N","S","3M",null,2203,"3857618",1,null,1020,4000,1,2,4,null,null,"2025-10-17","４０００ｍ余剰分",null,null,null,"213"]
[]
[null,null,null,null,null,null,null,null,null,"9021T","9021T",null,null,25,null,1780,null,null,45000,null,null,1,null,null,"MCP","2203","N","S","3M",null,2203,"3857940",1,null,800,8000,1,5,10,null,null,"2025-11-06",null,null,null,null,"211"]
[null,null,null,null,null,null,null,null,null,null,null,null,null,null,null,null,null,null,null,null,null,null,null,null,"MCP","2203","N","S","3M",null,2203,"3857943",1,null,940,8000,1,5,10,null,null,"2025-11-06",null,null,null,null,"211"]
[null,null,null,null,null,null,null,null,null,null,null,null,null,null,null,null,null,null,null,null,null,null,null,null,"MCP","2203","N","S","3M",null,2203,"3857654",1,null,940,4000,1,1,2,null,null,"2025-11-06","４０００ｍ余剰分",null,null,null,"211"]
[null,null,null,null,null,null,null,null,null,null,null,null,null,null,null,null,null,null,null,null,null,null,null,null,"MCP","2203","N","S","3M",null,2203,"3857652",1,null,800,4000,1,1,2,null,null,"2025-11-06","４０００ｍ余剰分",null,null,null,"211"]
[]
[null,null,null,null,null,null,null,null,null,"9021T","9021T",null,null,25,null,1840,null,null,45000,null,null,1,null,null,"MCP","2203","N","S","3M",null,2203,"3857942",1,null,900,8000,1,10,10,null,null,"2025-11-06",null,null,null,null,"211"]
[null,null,null,null,null,null,null,null,null,null,null,null,null,null,null,null,null,null,null,null,null,null,null,null,"MCP","2203","N","S","3M",null,2203,"3857531",1,null,900,4000,1,2,2,null,null,"2025-11-06","４０００ｍ余剰分",null,null,null,"211"]
[]
[null,null,null,null,null,null,null,null,null,"9021T","9021T",null,null,25,null,2000,null,null,45000,null,null,1,null,null,"MCP","2203","N","S","3M",null,2203,"3857935",1,null,980,8000,1,10,55,null,null,"2025-10-17",null,null,null,null,"213"]
[null,null,null,null,null,null,null,null,null,null,null,null,null,null,null,null,null,null,null,null,null,null,null,null,"MCP","2203","N","S","3M",null,2203,"3857735",1,null,980,4000,1,2,7,null,null,"2025-10-17","４０００ｍ余剰分",null,null,null,"213"]
[]
[null,null,null,null,null,null,null,null,null,"9021T","9021T",null,null,25,null,2000,null,null,45000,null,null,1,null,null,"MCP","2203","N","S","3M",null,2203,"3857936",1,null,980,8000,1,10,55,null,null,"2025-10-17",null,null,null,null,"213"]
[null,null,null,null,null,null,null,null,null,null,null,null,null,null,null,null,null,null,null,null,null,null,null,null,"MCP","2203","N","S","3M",null,2203,"3857736",1,null,980,4000,1,2,7,null,null,"2025-10-17","４０００ｍ余剰分",null,null,null,"213"]
[]
[null,null,null,null,null,null,null,null,null,"9021T","9021T",null,null,25,null,1980,null,null,45000,null,null,1,null,null,"MCP","2203","N","S","3M",null,2203,"3857934",1,null,980,8000,1,5,55,null,null,"2025-10-17",null,null,null,null,"213"]
[null,null,null,null,null,null,null,null,null,null,null,null,null,null,null,null,null,null,null,null,null,null,null,null,"MCP","2203","N","S","3M",null,2203,"3857492",1,null,960,8000,1,5,5,null,null,"2025-11-06","相手幅",null,null,null,"211"]
[null,null,null,null,null,null,null,null,null,null,null,null,null,null,null,null,null,null,null,null,null,null,null,null,"MCP","2203","N","S","3M",null,2203,"3857734",1,null,980,4000,1,1,7,null,null,"2025-10-17","４０００ｍ余剰分",null,null,null,"213"]
[null,null,null,null,null,null,null,null,null,null,null,null,null,null,null,null,null,null,null,null,null,null,null,null,"MCP","2203","N","S","3M",null,2203,"3857532",1,null,960,4000,1,1,1,null,null,"2025-11-06","４０００ｍ余剰分",null,null,null,"211"]
[]
[null,null,null,null,null,null,null,null,null,"9021T","9021T",null,null,25,null,1740,null,null,45000,null,null,1,null,null,"MCP","2203","N","S","3M",null,2203,"3858162",1,null,1100,4000,1,11,5,null,null,"2025-10-17",null,null,null,null,"211"]
[null,null,null,null,null,null,null,null,null,null,null,null,null,null,null,null,null,null,null,null,null,null,null,null,"MCP","2203","N","S","3M",null,2203,"3857493",1,null,600,4000,1,11,10,null,null,"2025-11-06","相手幅",null,null,null,"211"]
[]
[null,null,null,null,null,null,null,null,null,"9041",9041,null,null,20,null,2000,null,null,53000,null,null,1,null,null,"MCP","2703","N","S","3M",null,2703,"3858155",1,null,980,8000,1,12,24,null,null,"2025-10-06","細川",null,null,null,"211"]
[null,null,null,null,null,null,null,null,null,null,null,null,null,null,null,null,null,null,null,null,null,null,null,null,"MCP","2703","N","S","3M",null,2703,"3857533",1,null,980,4000,1,2,2,null,null,"2025-10-06","４０００ｍ余剰分",null,null,null,"211"]
[]
[null,null,null,null,null,null,null,null,null,"9041",9041,null,null,20,null,2200,null,null,49000,null,null,1,null,null,"MCP","2703","N","S","3M",null,2703,"3857786",1,null,980,4000,1,12,12,null,null,"2025-11-06","真丸",null,null,null,"214"]
[null,null,null,null,null,null,null,null,null,null,null,null,null,null,null,null,null,null,null,null,null,null,null,null,"MCP","2703","N","S","3M",null,2703,"3858156",1,null,1180,4000,1,12,12,null,null,"2025-10-06","細川",null,null,null,"211"]
[]
[null,null,null,null,null,null,null,null,null,"9041",9041,null,null,20,null,2260,null,null,49000,null,null,1,null,null,"MCP","2703","N","S","3M",null,2703,"3857787",1,null,1020,4000,1,12,12,null,null,"2025-11-06","真丸　大和Ｇ２５万ｍ／月　※先行",null,null,null,"214"]
[null,null,null,null,null,null,null,null,null,null,null,null,null,null,null,null,null,null,null,null,null,null,null,null,"MCP","2703","N","S","3M",null,2703,"3858160",1,null,1200,4000,1,12,60,null,null,"2025-10-06",null,null,null,null,"211"]
[]
[null,null,null,null,null,null,null,null,null,"9041",9041,null,null,20,null,2080,null,null,53000,null,null,1,null,null,"MCP","2703","N","S","3M",null,2703,"3857930",1,null,840,8000,1,6,18,null,null,"2025-10-06","尾池",null,null,null,"215"]
[null,null,null,null,null,null,null,null,null,null,null,null,null,null,null,null,null,null,null,null,null,null,null,null,"MCP","2703","N","S","3M",null,2703,"3858158",1,null,1200,8000,1,6,18,null,null,"2025-10-06",null,null,null,null,"211"]
[null,null,null,null,null,null,null,null,null,null,null,null,null,null,null,null,null,null,null,null,null,null,null,null,"MCP","2703","N","S","3M",null,2703,"3857656",1,null,1200,4000,1,1,2,null,null,"2025-10-06","４０００ｍ余剰分",null,null,null,"211"]
[null,null,null,null,null,null,null,null,null,null,null,null,null,null,null,null,null,null,null,null,null,null,null,null,"MCP","2703","N","S","3M",null,2703,"3857755",1,null,840,4000,1,1,2,null,null,"2025-10-06","４０００ｍ余剰分",null,null,null,"215"]
[]
[null,null,null,null,null,null,null,null,null,"9041",9041,null,null,25,null,1840,null,null,41000,null,null,1,null,null,"MCP","2703","N","S","3D",null,2703,"3857823",1,null,920,8000,1,5,10,null,null,"2025-11-06","ＤＮＰ京都　３Ｄｏｒ３Ｄ６",null,null,null,"213"]
[null,null,null,null,null,null,null,null,null,null,null,null,null,null,null,null,null,null,null,null,null,null,null,null,"MCP","2703","N","S","3M",null,2703,"3857985",1,null,880,8000,1,5,5,null,null,"2025-11-06","ＤＦ４／６指定　細川",null,null,null,"211"]
[]
[null,null,null,null,null,null,null,null,null,"9041",9041,null,null,25,null,1920,null,null,41000,null,null,1,null,null,"MCP","2703","N","S","3D",null,2703,"3857824",1,null,920,8000,1,5,10,null,null,"2025-11-06","ＤＮＰ京都　３Ｄｏｒ３Ｄ６",null,null,null,"213"]
[null,null,null,null,null,null,null,null,null,null,null,null,null,null,null,null,null,null,null,null,null,null,null,null,"MCP","2703","N","S","3D",null,2703,"3857840",1,null,960,8000,1,5,20,null,null,"2025-11-06","ＤＮＰ京都　３Ｄｏｒ３Ｄ６",null,null,null,"213"]
[]
[null,null,null,null,null,null,null,null,null,"9041",9041,null,null,25,null,1960,null,null,45000,null,null,1,null,null,"MCP","2703","N","S","3D",null,2703,"3857841",1,null,960,8000,1,10,20,null,null,"2025-11-06","ＤＮＰ京都　３Ｄｏｒ３Ｄ６",null,null,null,"213"]
[null,null,null,null,null,null,null,null,null,null,null,null,null,null,null,null,null,null,null,null,null,null,null,null,"MCP","2703","N","S","3M",null,2703,"3857746",1,null,960,4000,1,2,3,null,null,"2025-11-06","４０００ｍ余剰分",null,null,null,"213"]
[]
[null,null,null,null,null,null,null,null,null,"9041",9041,null,null,25,null,1980,null,null,45000,null,null,1,null,null,"MCP","2703","N","S","3M",null,2703,"3857821",1,null,920,4000,1,11,30,null,null,"2025-11-06","ユーザーフリー",null,null,null,"213"]
[null,null,null,null,null,null,null,null,null,null,null,null,null,null,null,null,null,null,null,null,null,null,null,null,"MCP","2703","N","S","3M",null,2703,"3857864",1,null,1020,4000,1,11,30,null,null,"2025-11-06","ユーザーフリー",null,null,null,"213"]
[]
[null,null,null,null,null,null,null,null,null,"9041",9041,null,null,25,null,1980,null,null,45000,null,null,1,null,null,"MCP","2703","N","S","3M",null,2703,"3857991",1,null,920,4000,1,11,20,null,null,"2025-11-06","ＤＦ４／６指定　細川",null,null,null,"211"]
[null,null,null,null,null,null,null,null,null,null,null,null,null,null,null,null,null,null,null,null,null,null,null,null,"MCP","2703","N","S","3M",null,2703,"3857865",1,null,1020,4000,1,11,30,null,null,"2025-11-06","ユーザーフリー",null,null,null,"213"]
[]
[null,null,null,null,null,null,null,null,null,"9041",9041,null,null,25,null,2000,null,null,45000,null,null,1,null,null,"MCP","2703","N","S","3M",null,2703,"3857905",1,null,980,4000,1,11,40,null,null,"2025-11-06","尾池",null,null,null,"215"]
[null,null,null,null,null,null,null,null,null,null,null,null,null,null,null,null,null,null,null,null,null,null,null,null,"MCP","2703","N","S","3M",null,2703,"3857794",1,null,980,4000,1,11,20,null,null,"2025-11-06","真丸　Ａ３原反使用可",null,null,null,"217"]
[]
[null,null,null,null,null,null,null,null,null,"9041",9041,null,null,25,null,2000,null,null,45000,null,null,1,null,null,"MCP","2703","N","S","3D",null,2703,"3857830",1,null,940,8000,1,5,20,null,null,"2025-11-06","ＤＮＰ京都　３Ｄｏｒ３Ｄ６",null,null,null,"213"]
[null,null,null,null,null,null,null,null,null,null,null,null,null,null,null,null,null,null,null,null,null,null,null,null,"MCP","2703","N","S","3M",null,2703,"3857868",1,null,1020,8000,1,5,15,null,null,"2025-11-06","ユーザーフリー",null,null,null,"213"]
[null,null,null,null,null,null,null,null,null,null,null,null,null,null,null,null,null,null,null,null,null,null,null,null,"MCP","2703","N","S","3M",null,2703,"3857740",1,null,1020,4000,1,1,3,null,null,"2025-11-06","４０００ｍ余剰分",null,null,null,"213"]
[null,null,null,null,null,null,null,null,null,null,null,null,null,null,null,null,null,null,null,null,null,null,null,null,"MCP","2703","N","S","3M",null,2703,"3857742",1,null,940,4000,1,1,4,null,null,"2025-11-06","４０００ｍ余剰分",null,null,null,"213"]
[]
[null,null,null,null,null,null,null,null,null,"9041",9041,null,null,25,null,2020,null,null,45000,null,null,1,null,null,"MCP","2703","N","S","3D",null,2703,"3857831",1,null,940,8000,1,5,20,null,null,"2025-11-06","ＤＮＰ京都　３Ｄｏｒ３Ｄ６",null,null,null,"213"]
[null,null,null,null,null,null,null,null,null,null,null,null,null,null,null,null,null,null,null,null,null,null,null,null,"MCP","2703","N","S","3M",null,2703,"3857874",1,null,1040,8000,1,5,10,null,null,"2025-11-06","ユーザーフリー",null,null,null,"213"]
[null,null,null,null,null,null,null,null,null,null,null,null,null,null,null,null,null,null,null,null,null,null,null,null,"MCP","2703","N","S","3M",null,2703,"3857620",1,null,1040,4000,1,1,2,null,null,"2025-11-06","４０００ｍ余剰分",null,null,null,"213"]
[null,null,null,null,null,null,null,null,null,null,null,null,null,null,null,null,null,null,null,null,null,null,null,null,"MCP","2703","N","S","3M",null,2703,"3857743",1,null,940,4000,1,1,4,null,null,"2025-11-06","４０００ｍ余剰分",null,null,null,"213"]
[]
[null,null,null,null,null,null,null,null,null,"9041",9041,null,null,25,null,2020,null,null,45000,null,null,1,null,null,"MCP","2703","N","S","3M",null,2703,"3857906",1,null,980,4000,1,11,40,null,null,"2025-11-06","尾池",null,null,null,"215"]
[null,null,null,null,null,null,null,null,null,null,null,null,null,null,null,null,null,null,null,null,null,null,null,null,"MCP","2703","N","S","3M",null,2703,"3857861",1,null,1000,4000,1,11,30,null,null,"2025-11-06","ユーザーフリー",null,null,null,"213"]
[]
[null,null,null,null,null,null,null,null,null,"9041",9041,null,null,25,null,2040,null,null,45000,null,null,1,null,null,"MCP","2703","N","S","3M",null,2703,"3857894",1,null,920,4000,1,11,40,null,null,"2025-11-06","尾池",null,null,null,"215"]
[null,null,null,null,null,null,null,null,null,null,null,null,null,null,null,null,null,null,null,null,null,null,null,null,"MCP","2703","N","S","3M",null,2703,"3858111",1,null,1080,4000,1,11,10,null,null,"2025-11-06","細川",null,null,null,"211"]
[]
[null,null,null,null,null,null,null,null,null,"9041",9041,null,null,25,null,2040,null,null,45000,null,null,1,null,null,"MCP","2703","N","S","3M",null,2703,"3857838",1,null,960,4000,1,11,20,null,null,"2025-11-06","ユーザーフリー",null,null,null,"213"]
[null,null,null,null,null,null,null,null,null,null,null,null,null,null,null,null,null,null,null,null,null,null,null,null,"MCP","2703","N","S","3M",null,2703,"3857871",1,null,1040,4000,1,11,30,null,null,"2025-11-06","ユーザーフリー",null,null,null,"213"]
[]
[null,null,null,null,null,null,null,null,null,"9041",9041,null,null,25,null,2060,null,null,45000,null,null,1,null,null,"MCP","2703","N","S","3M",null,2703,"3857895",1,null,920,4000,1,11,40,null,null,"2025-11-06","尾池",null,null,null,"215"]
[null,null,null,null,null,null,null,null,null,null,null,null,null,null,null,null,null,null,null,null,null,null,null,null,"MCP","2703","N","S","3M",null,2703,"3857876",1,null,1100,4000,1,11,10,null,null,"2025-11-06","ユーザーフリー",null,null,null,"218"]
[]
[null,null,null,null,null,null,null,null,null,"9041",9041,null,null,25,null,2060,null,null,45000,null,null,1,null,null,"MCP","2703","N","S","3M",null,2703,"3857791",1,null,860,4000,1,11,10,null,null,"2025-11-06","真丸　先行手配、Ａ３原反使用可",null,null,null,"217"]
[null,null,null,null,null,null,null,null,null,null,null,null,null,null,null,null,null,null,null,null,null,null,null,null,"MCP","2703","N","S","3M",null,2703,"3858130",1,null,1160,4000,1,11,20,null,null,"2025-11-06","細川",null,null,null,"211"]
[]
[null,null,null,null,null,null,null,null,null,"9041",9041,null,null,25,null,2080,null,null,45000,null,null,1,null,null,"MCP","2703","N","S","3M",null,2703,"3857828",1,null,940,4000,1,11,20,null,null,"2025-11-06","ユーザーフリー",null,null,null,"213"]
[null,null,null,null,null,null,null,null,null,null,null,null,null,null,null,null,null,null,null,null,null,null,null,null,"MCP","2703","N","S","3M",null,2703,"3857875",1,null,1100,4000,1,11,10,null,null,"2025-11-06","ユーザーフリー",null,null,null,"213"]
[]
[null,null,null,null,null,null,null,null,null,"9041",9041,null,null,25,null,2080,null,null,45000,null,null,1,null,null,"MCP","2703","N","S","3M",null,2703,"3857971",1,null,860,4000,1,11,20,null,null,"2025-11-06",null,null,null,null,"211"]
[null,null,null,null,null,null,null,null,null,null,null,null,null,null,null,null,null,null,null,null,null,null,null,null,"MCP","2703","N","S","3M",null,2703,"3858145",1,null,1180,4000,1,11,10,null,null,"2025-11-06","細川",null,null,null,"211"]
[]
[null,null,null,null,null,null,null,null,null,"9041A3","9041A3",null,null,25,null,1960,null,null,45000,null,null,1,null,null,"MCP","2703","N","T","3E4B",null,2703,"3858015",1,null,960,8000,1,10,95,null,null,"2025-11-06","ＤＦ４／６指定　細川",null,null,null,"211"]
[null,null,null,null,null,null,null,null,null,null,null,null,null,null,null,null,null,null,null,null,null,null,null,null,"MCP","2703","N","T","3E4B",null,2703,"3857570",1,null,960,4000,1,2,40,null,null,"2025-11-06","４０００ｍ余剰分",null,null,null,"211"]
[]
[null,null,null,null,null,null,null,null,null,"9041A3","9041A3",null,null,25,null,1960,null,null,45000,null,null,1,null,null,"MCP","2703","N","T","3E4B",null,2703,"3858016",1,null,960,8000,1,10,95,null,null,"2025-11-06","ＤＦ４／６指定　細川",null,null,null,"211"]
[null,null,null,null,null,null,null,null,null,null,null,null,null,null,null,null,null,null,null,null,null,null,null,null,"MCP","2703","N","T","3E4B",null,2703,"3857571",1,null,960,4000,1,2,40,null,null,"2025-11-06","４０００ｍ余剰分",null,null,null,"211"]
[]
[null,null,null,null,null,null,null,null,null,"9041A3","9041A3",null,null,25,null,1960,null,null,45000,null,null,1,null,null,"MCP","2703","N","T","3E4B",null,2703,"3858017",1,null,960,8000,1,10,95,null,null,"2025-11-06","ＤＦ４／６指定　細川",null,null,null,"211"]
[null,null,null,null,null,null,null,null,null,null,null,null,null,null,null,null,null,null,null,null,null,null,null,null,"MCP","2703","N","T","3E4B",null,2703,"3857572",1,null,960,4000,1,2,40,null,null,"2025-11-06","４０００ｍ余剰分",null,null,null,"211"]
[]
[null,null,null,null,null,null,null,null,null,"9041A3","9041A3",null,null,25,null,2000,null,null,45000,null,null,1,null,null,"MCP","2703","N","T","3E4B",null,2703,"3857851",1,null,980,8000,1,10,80,null,null,"2025-11-06","ユーザーフリー",null,null,null,"213"]
[null,null,null,null,null,null,null,null,null,null,null,null,null,null,null,null,null,null,null,null,null,null,null,null,"MCP","2703","N","T","3E4B",null,2703,"3857629",1,null,980,4000,1,2,16,null,null,"2025-11-06","４０００ｍ余剰分",null,null,null,"213"]
[]
[null,null,null,null,null,null,null,null,null,"9041A3","9041A3",null,null,25,null,2000,null,null,45000,null,null,1,null,null,"MCP","2703","N","T","3E4B",null,2703,"3857852",1,null,980,8000,1,10,80,null,null,"2025-11-06","ユーザーフリー",null,null,null,"213"]
[null,null,null,null,null,null,null,null,null,null,null,null,null,null,null,null,null,null,null,null,null,null,null,null,"MCP","2703","N","T","3E4B",null,2703,"3857630",1,null,980,4000,1,2,16,null,null,"2025-11-06","４０００ｍ余剰分",null,null,null,"213"]
[]
[null,null,null,null,null,null,null,null,null,"9041A3","9041A3",null,null,25,null,2000,null,null,45000,null,null,1,null,null,"MCP","2703","N","T","3E4B",null,2703,"3857853",1,null,980,8000,1,10,80,null,null,"2025-11-06","ユーザーフリー",null,null,null,"213"]
[null,null,null,null,null,null,null,null,null,null,null,null,null,null,null,null,null,null,null,null,null,null,null,null,"MCP","2703","N","T","3E4B",null,2703,"3857631",1,null,980,4000,1,2,16,null,null,"2025-11-06","４０００ｍ余剰分",null,null,null,"213"]
[]
[null,null,null,null,null,null,null,null,null,"9041A3","9041A3",null,null,25,null,2000,null,null,45000,null,null,1,null,null,"MCP","2703","N","T","3E4B",null,2703,"3858061",1,null,980,8000,1,10,60,null,null,"2025-11-06","細川",null,null,null,"211"]
[null,null,null,null,null,null,null,null,null,null,null,null,null,null,null,null,null,null,null,null,null,null,null,null,"MCP","2703","N","T","3E4B",null,2703,"3857603",1,null,980,4000,1,2,22,null,null,"2025-11-06","４０００ｍ余剰分",null,null,null,"211"]
[]
[null,null,null,null,null,null,null,null,null,"9041A3","9041A3",null,null,25,null,2000,null,null,45000,null,null,1,null,null,"MCP","2703","N","T","3E4B",null,2703,"3858062",1,null,980,8000,1,10,60,null,null,"2025-11-06","細川",null,null,null,"211"]
[null,null,null,null,null,null,null,null,null,null,null,null,null,null,null,null,null,null,null,null,null,null,null,null,"MCP","2703","N","T","3E4B",null,2703,"3857604",1,null,980,4000,1,2,22,null,null,"2025-11-06","４０００ｍ余剰分",null,null,null,"211"]
[]
[null,null,null,null,null,null,null,null,null,"9041A3","9041A3",null,null,25,null,2020,null,null,45000,null,null,1,null,null,"MCP","2703","N","T","3E4B",null,2703,"3858009",1,null,940,8000,1,5,10,null,null,"2025-11-06","ＤＦ４／６指定　細川",null,null,null,"211"]
[null,null,null,null,null,null,null,null,null,null,null,null,null,null,null,null,null,null,null,null,null,null,null,null,"MCP","2703","N","T","3E4B",null,2703,"3857873",1,null,1040,8000,1,5,10,null,null,"2025-11-06","ユーザーフリー",null,null,null,"213"]
[null,null,null,null,null,null,null,null,null,null,null,null,null,null,null,null,null,null,null,null,null,null,null,null,"MCP","2703","N","T","3E4B",null,2703,"3857619",1,null,1040,4000,1,1,2,null,null,"2025-11-06","４０００ｍ余剰分",null,null,null,"213"]
[null,null,null,null,null,null,null,null,null,null,null,null,null,null,null,null,null,null,null,null,null,null,null,null,"MCP","2703","N","T","3E4B",null,2703,"3857567",1,null,940,4000,1,1,3,null,null,"2025-11-06","４０００ｍ余剰分",null,null,null,"211"]
[]
[null,null,null,null,null,null,null,null,null,"9041A3","9041A3",null,null,25,null,2020,null,null,45000,null,null,1,null,null,"MCP","2703","N","T","3E4B",null,2703,"3858011",1,null,940,8000,1,5,5,null,null,"2025-11-06","細川",null,null,null,"211"]
[null,null,null,null,null,null,null,null,null,null,null,null,null,null,null,null,null,null,null,null,null,null,null,null,"MCP","2703","N","T","3E4B",null,2703,"3858090",1,null,1040,8000,1,5,5,null,null,"2025-11-06","細川",null,null,null,"211"]
[null,null,null,null,null,null,null,null,null,null,null,null,null,null,null,null,null,null,null,null,null,null,null,null,"MCP","2703","N","T","3E4B",null,2703,"3857534",1,null,1040,4000,1,1,2,null,null,"2025-11-06","４０００ｍ余剰分",null,null,null,"211"]
[null,null,null,null,null,null,null,null,null,null,null,null,null,null,null,null,null,null,null,null,null,null,null,null,"MCP","2703","N","T","3E4B",null,2703,"3857568",1,null,940,4000,1,1,3,null,null,"2025-11-06","４０００ｍ余剰分",null,null,null,"211"]
[]
[null,null,null,null,null,null,null,null,null,"9041A3","9041A3",null,null,25,null,1960,null,null,45000,null,null,1,null,null,"MCP","2703","N","T","3E4B",null,2703,"3858018",1,null,960,8000,1,10,95,null,null,"2025-11-06","ＤＦ４／６指定　細川",null,null,null,"211"]
[null,null,null,null,null,null,null,null,null,null,null,null,null,null,null,null,null,null,null,null,null,null,null,null,"MCP","2703","N","T","3E4B",null,2703,"3857574",1,null,960,4000,1,2,40,null,null,"2025-11-06","４０００ｍ余剰分",null,null,null,"211"]
[]
[null,null,null,null,null,null,null,null,null,"9041A3","9041A3",null,null,25,null,1960,null,null,45000,null,null,1,null,null,"MCP","2703","N","T","3E4B",null,2703,"3857843",1,null,960,8000,1,10,35,null,null,"2025-11-06","ユーザーフリー",null,null,null,"213"]
[null,null,null,null,null,null,null,null,null,null,null,null,null,null,null,null,null,null,null,null,null,null,null,null,"MCP","2703","N","T","3E4B",null,2703,"3857624",1,null,960,4000,1,2,7,null,null,"2025-11-06","４０００ｍ余剰分",null,null,null,"213"]
[]
[null,null,null,null,null,null,null,null,null,"9041A3","9041A3",null,null,25,null,1980,null,null,45000,null,null,1,null,null,"MCP","2703","N","T","3E4B",null,2703,"3858031",1,null,960,8000,1,5,100,null,null,"2025-11-06","細川",null,null,null,"211"]
[null,null,null,null,null,null,null,null,null,null,null,null,null,null,null,null,null,null,null,null,null,null,null,null,"MCP","2703","N","T","3E4B",null,2703,"3858055",1,null,980,8000,1,5,50,null,null,"2025-11-06","ＤＦ４／６指定　細川",null,null,null,"211"]
[null,null,null,null,null,null,null,null,null,null,null,null,null,null,null,null,null,null,null,null,null,null,null,null,"MCP","2703","N","T","3E4B",null,2703,"3857607",1,null,980,4000,1,1,22,null,null,"2025-11-06","４０００ｍ余剰分",null,null,null,"211"]
[null,null,null,null,null,null,null,null,null,null,null,null,null,null,null,null,null,null,null,null,null,null,null,null,"MCP","2703","N","T","3E4B",null,2703,"3857577",1,null,960,4000,1,1,40,null,null,"2025-11-06","４０００ｍ余剰分",null,null,null,"211"]
[]
[null,null,null,null,null,null,null,null,null,"9041A3","9041A3",null,null,25,null,1980,null,null,45000,null,null,1,null,null,"MCP","2703","N","T","3E4B",null,2703,"3858032",1,null,960,8000,1,5,100,null,null,"2025-11-06","細川",null,null,null,"211"]
[null,null,null,null,null,null,null,null,null,null,null,null,null,null,null,null,null,null,null,null,null,null,null,null,"MCP","2703","N","T","3E4B",null,2703,"3857908",1,null,980,8000,1,5,35,null,null,"2025-11-06","尾池",null,null,null,"215"]
[null,null,null,null,null,null,null,null,null,null,null,null,null,null,null,null,null,null,null,null,null,null,null,null,"MCP","2703","N","T","3E4B",null,2703,"3857645",1,null,980,4000,1,1,7,null,null,"2025-11-06","４０００ｍ余剰分",null,null,null,"215"]
[null,null,null,null,null,null,null,null,null,null,null,null,null,null,null,null,null,null,null,null,null,null,null,null,"MCP","2703","N","T","3E4B",null,2703,"3857578",1,null,960,4000,1,1,40,null,null,"2025-11-06","４０００ｍ余剰分",null,null,null,"211"]
[]
[null,null,null,null,null,null,null,null,null,"9041A3","9041A3",null,null,25,null,1980,null,null,45000,null,null,1,null,null,"MCP","2703","N","T","3E4B",null,2703,"3858019",1,null,960,8000,1,5,95,null,null,"2025-11-06","ＤＦ４／６指定　細川",null,null,null,"211"]
[null,null,null,null,null,null,null,null,null,null,null,null,null,null,null,null,null,null,null,null,null,null,null,null,"MCP","2703","N","T","3E4B",null,2703,"3857909",1,null,980,8000,1,5,35,null,null,"2025-11-06","尾池",null,null,null,"215"]
[null,null,null,null,null,null,null,null,null,null,null,null,null,null,null,null,null,null,null,null,null,null,null,null,"MCP","2703","N","T","3E4B",null,2703,"3857646",1,null,980,4000,1,1,7,null,null,"2025-11-06","４０００ｍ余剰分",null,null,null,"215"]
[null,null,null,null,null,null,null,null,null,null,null,null,null,null,null,null,null,null,null,null,null,null,null,null,"MCP","2703","N","T","3E4B",null,2703,"3857579",1,null,960,4000,1,1,40,null,null,"2025-11-06","４０００ｍ余剰分",null,null,null,"211"]
[]
[null,null,null,null,null,null,null,null,null,"9041A3","9041A3",null,null,25,null,1980,null,null,45000,null,null,1,null,null,"MCP","2703","N","T","3E4B",null,2703,"3858020",1,null,960,8000,1,5,95,null,null,"2025-11-06","ＤＦ４／６指定　細川",null,null,null,"211"]
[null,null,null,null,null,null,null,null,null,null,null,null,null,null,null,null,null,null,null,null,null,null,null,null,"MCP","2703","N","T","3E4B",null,2703,"3857910",1,null,980,8000,1,5,35,null,null,"2025-11-06","尾池",null,null,null,"215"]
[null,null,null,null,null,null,null,null,null,null,null,null,null,null,null,null,null,null,null,null,null,null,null,null,"MCP","2703","N","T","3E4B",null,2703,"3857647",1,null,980,4000,1,1,7,null,null,"2025-11-06","４０００ｍ余剰分",null,null,null,"215"]
[null,null,null,null,null,null,null,null,null,null,null,null,null,null,null,null,null,null,null,null,null,null,null,null,"MCP","2703","N","T","3E4B",null,2703,"3857580",1,null,960,4000,1,1,40,null,null,"2025-11-06","４０００ｍ余剰分",null,null,null,"211"]
[]
[null,null,null,null,null,null,null,null,null,"9041A3","9041A3",null,null,25,null,2000,null,null,45000,null,null,1,null,null,"MCP","2703","N","T","3E4B",null,2703,"3858063",1,null,980,8000,1,10,60,null,null,"2025-11-06","細川",null,null,null,"211"]
[null,null,null,null,null,null,null,null,null,null,null,null,null,null,null,null,null,null,null,null,null,null,null,null,"MCP","2703","N","T","3E4B",null,2703,"3857608",1,null,980,4000,1,2,22,null,null,"2025-11-06","４０００ｍ余剰分",null,null,null,"211"]
[]
[null,null,null,null,null,null,null,null,null,"9041A3","9041A3",null,null,25,null,2000,null,null,45000,null,null,1,null,null,"MCP","2703","N","T","3E4B",null,2703,"3858056",1,null,980,8000,1,10,50,null,null,"2025-11-06","ＤＦ４／６指定　細川",null,null,null,"211"]
[null,null,null,null,null,null,null,null,null,null,null,null,null,null,null,null,null,null,null,null,null,null,null,null,"MCP","2703","N","T","3E4B",null,2703,"3857609",1,null,980,4000,1,2,22,null,null,"2025-11-06","４０００ｍ余剰分",null,null,null,"211"]
[]
[null,null,null,null,null,null,null,null,null,"9041A3","9041A3",null,null,25,null,2000,null,null,45000,null,null,1,null,null,"MCP","2703","N","T","3E4B",null,2703,"3857960",1,null,800,8000,1,5,10,null,null,"2025-11-06",null,null,null,null,"211"]
[null,null,null,null,null,null,null,null,null,null,null,null,null,null,null,null,null,null,null,null,null,null,null,null,"MCP","2703","N","T","3E4B",null,2703,"3858132",1,null,1160,8000,1,5,20,null,null,"2025-11-06","ＤＦ４／６指定　細川",null,null,null,"211"]
[null,null,null,null,null,null,null,null,null,null,null,null,null,null,null,null,null,null,null,null,null,null,null,null,"MCP","2703","N","T","3E4B",null,2703,"3857545",1,null,1160,4000,1,1,12,null,null,"2025-11-06","４０００ｍ余剰分",null,null,null,"211"]
[null,null,null,null,null,null,null,null,null,null,null,null,null,null,null,null,null,null,null,null,null,null,null,null,"MCP","2703","N","T","3E4B",null,2703,"3857558",1,null,800,4000,1,1,3,null,null,"2025-11-06","４０００ｍ余剰分",null,null,null,"211"]
[]
[null,null,null,null,null,null,null,null,null,"9041A3","9041A3",null,null,25,null,2020,null,null,45000,null,null,1,null,null,"MCP","2703","N","T","3E4B",null,2703,"3857834",1,null,940,8000,1,5,20,null,null,"2025-11-06","ユーザーフリー",null,null,null,"213"]
[null,null,null,null,null,null,null,null,null,null,null,null,null,null,null,null,null,null,null,null,null,null,null,null,"MCP","2703","N","T","3E4B",null,2703,"3857916",1,null,1040,8000,1,5,55,null,null,"2025-11-06","尾池",null,null,null,"215"]
[null,null,null,null,null,null,null,null,null,null,null,null,null,null,null,null,null,null,null,null,null,null,null,null,"MCP","2703","N","T","3E4B",null,2703,"3857757",1,null,1040,4000,1,1,11,null,null,"2025-11-06","４０００ｍ余剰分",null,null,null,"215"]
[null,null,null,null,null,null,null,null,null,null,null,null,null,null,null,null,null,null,null,null,null,null,null,null,"MCP","2703","N","T","3E4B",null,2703,"3857621",1,null,940,4000,1,1,4,null,null,"2025-11-06","４０００ｍ余剰分",null,null,null,"213"]
[]
[null,null,null,null,null,null,null,null,null,"9041A3","9041A3",null,null,25,null,2020,null,null,45000,null,null,1,null,null,"MCP","2703","N","T","3E4B",null,2703,"3857966",1,null,820,8000,1,5,15,null,null,"2025-11-06",null,null,null,null,"211"]
[null,null,null,null,null,null,null,null,null,null,null,null,null,null,null,null,null,null,null,null,null,null,null,null,"MCP","2703","N","T","3E4B",null,2703,"3858137",1,null,1160,8000,1,5,40,null,null,"2025-11-06","細川",null,null,null,"211"]
[null,null,null,null,null,null,null,null,null,null,null,null,null,null,null,null,null,null,null,null,null,null,null,null,"MCP","2703","N","T","3E4B",null,2703,"3857546",1,null,1160,4000,1,1,12,null,null,"2025-11-06","４０００ｍ余剰分",null,null,null,"211"]
[null,null,null,null,null,null,null,null,null,null,null,null,null,null,null,null,null,null,null,null,null,null,null,null,"MCP","2703","N","T","3E4B",null,2703,"3857561",1,null,820,4000,1,1,5,null,null,"2025-11-06","４０００ｍ余剰分",null,null,null,"211"]
[]
[null,null,null,null,null,null,null,null,null,"9041A3","9041A3",null,null,25,null,2020,null,null,45000,null,null,1,null,null,"MCP","2703","N","T","3E4B",null,2703,"3857964",1,null,820,8000,1,5,10,null,null,"2025-11-06","ＤＦ４／６指定",null,null,null,"211"]
[null,null,null,null,null,null,null,null,null,null,null,null,null,null,null,null,null,null,null,null,null,null,null,null,"MCP","2703","N","T","3E4B",null,2703,"3858133",1,null,1160,8000,1,5,20,null,null,"2025-11-06","ＤＦ４／６指定　細川",null,null,null,"211"]
[null,null,null,null,null,null,null,null,null,null,null,null,null,null,null,null,null,null,null,null,null,null,null,null,"MCP","2703","N","T","3E4B",null,2703,"3857547",1,null,1160,4000,1,1,12,null,null,"2025-11-06","４０００ｍ余剰分",null,null,null,"211"]
[null,null,null,null,null,null,null,null,null,null,null,null,null,null,null,null,null,null,null,null,null,null,null,null,"MCP","2703","N","T","3E4B",null,2703,"3857562",1,null,820,4000,1,1,5,null,null,"2025-11-06","４０００ｍ余剰分",null,null,null,"211"]
[]
[null,null,null,null,null,null,null,null,null,"9041A3","9041A3",null,null,25,null,2040,null,null,45000,null,null,1,null,null,"MCP","2703","N","T","3E4B",null,2703,"3858033",1,null,960,8000,1,5,100,null,null,"2025-11-06","細川",null,null,null,"211"]
[null,null,null,null,null,null,null,null,null,null,null,null,null,null,null,null,null,null,null,null,null,null,null,null,"MCP","2703","N","T","3E4B",null,2703,"3857917",1,null,1040,8000,1,5,55,null,null,"2025-11-06","尾池",null,null,null,"215"]
[null,null,null,null,null,null,null,null,null,null,null,null,null,null,null,null,null,null,null,null,null,null,null,null,"MCP","2703","N","T","3E4B",null,2703,"3857758",1,null,1040,4000,1,1,11,null,null,"2025-11-06","４０００ｍ余剰分",null,null,null,"215"]
[null,null,null,null,null,null,null,null,null,null,null,null,null,null,null,null,null,null,null,null,null,null,null,null,"MCP","2703","N","T","3E4B",null,2703,"3857581",1,null,960,4000,1,1,40,null,null,"2025-11-06","４０００ｍ余剰分",null,null,null,"211"]
[]
[null,null,null,null,null,null,null,null,null,"9041A3","9041A3",null,null,25,null,2040,null,null,45000,null,null,1,null,null,"MCP","2703","N","T","3E4B",null,2703,"3858034",1,null,960,8000,1,5,100,null,null,"2025-11-06","細川",null,null,null,"211"]
[null,null,null,null,null,null,null,null,null,null,null,null,null,null,null,null,null,null,null,null,null,null,null,null,"MCP","2703","N","T","3E4B",null,2703,"3857918",1,null,1040,8000,1,5,55,null,null,"2025-11-06","尾池",null,null,null,"215"]
[null,null,null,null,null,null,null,null,null,null,null,null,null,null,null,null,null,null,null,null,null,null,null,null,"MCP","2703","N","T","3E4B",null,2703,"3857759",1,null,1040,4000,1,1,11,null,null,"2025-11-06","４０００ｍ余剰分",null,null,null,"215"]
[null,null,null,null,null,null,null,null,null,null,null,null,null,null,null,null,null,null,null,null,null,null,null,null,"MCP","2703","N","T","3E4B",null,2703,"3857582",1,null,960,4000,1,1,40,null,null,"2025-11-06","４０００ｍ余剰分",null,null,null,"211"]
[]
[null,null,null,null,null,null,null,null,null,"9041A3","9041A3",null,null,25,null,1960,null,null,45000,null,null,1,null,null,"MCP","2703","N","T","3E4B",null,2703,"3857792",1,null,960,4000,1,11,10,null,null,"2025-11-06","真丸　Ａ３原反使用可",null,null,null,"217"]
[null,null,null,null,null,null,null,null,null,null,null,null,null,null,null,null,null,null,null,null,null,null,null,null,"MCP","2703","N","T","3E4B",null,2703,"3857839",1,null,960,4000,1,11,10,null,null,"2025-11-06","ユーザーフリー",null,null,null,"218"]
[]
[null,null,null,null,null,null,null,null,null,"9041A3","9041A3",null,null,25,null,1960,null,null,45000,null,null,1,null,null,"MCP","2703","N","T","3E4B",null,2703,"3857870",1,null,1040,4000,1,11,30,null,null,"2025-11-06","ユーザーフリー",null,null,null,"213"]
[null,null,null,null,null,null,null,null,null,null,null,null,null,null,null,null,null,null,null,null,null,null,null,null,"MCP","2703","N","T","3E4B",null,2703,"3857982",1,null,880,4000,1,11,10,null,null,"2025-11-06","ＤＦ４／６指定　細川",null,null,null,"211"]
[]
[null,null,null,null,null,null,null,null,null,"9041A3","9041A3",null,null,25,null,1960,null,null,45000,null,null,1,null,null,"MCP","2703","N","T","3E4B",null,2703,"3857793",1,null,980,4000,1,11,20,null,null,"2025-11-06","真丸　Ａ３原反使用可",null,null,null,"217"]
[null,null,null,null,null,null,null,null,null,null,null,null,null,null,null,null,null,null,null,null,null,null,null,null,"MCP","2703","N","T","3E4B",null,2703,"3858004",1,null,940,4000,1,11,50,null,null,"2025-11-06","細川",null,null,null,"211"]
[]
[null,null,null,null,null,null,null,null,null,"9041A3","9041A3",null,null,25,null,2000,null,null,45000,null,null,1,null,null,"MCP","2703","N","T","3E4B",null,2703,"3857993",1,null,920,4000,1,11,20,null,null,"2025-11-06","細川",null,null,null,"211"]
[null,null,null,null,null,null,null,null,null,null,null,null,null,null,null,null,null,null,null,null,null,null,null,null,"MCP","2703","N","T","3E4B",null,2703,"3858088",1,null,1040,4000,1,11,10,null,null,"2025-11-06","細川",null,null,null,"211"]
[]
[null,null,null,null,null,null,null,null,null,"9041A3","9041A3",null,null,25,null,2040,null,null,45000,null,null,1,null,null,"MCP","2703","N","T","3E4B",null,2703,"3858035",1,null,960,8000,1,5,100,null,null,"2025-11-06","細川",null,null,null,"211"]
[null,null,null,null,null,null,null,null,null,null,null,null,null,null,null,null,null,null,null,null,null,null,null,null,"MCP","2703","N","T","3E4B",null,2703,"3857919",1,null,1040,8000,1,5,55,null,null,"2025-11-06","尾池",null,null,null,"215"]
[null,null,null,null,null,null,null,null,null,null,null,null,null,null,null,null,null,null,null,null,null,null,null,null,"MCP","2703","N","T","3E4B",null,2703,"3857760",1,null,1040,4000,1,1,11,null,null,"2025-11-06","４０００ｍ余剰分",null,null,null,"215"]
[null,null,null,null,null,null,null,null,null,null,null,null,null,null,null,null,null,null,null,null,null,null,null,null,"MCP","2703","N","T","3E4B",null,2703,"3857583",1,null,960,4000,1,1,40,null,null,"2025-11-06","４０００ｍ余剰分",null,null,null,"211"]
[]
[null,null,null,null,null,null,null,null,null,"9041A3","9041A3",null,null,25,null,2040,null,null,45000,null,null,1,null,null,"MCP","2703","N","T","3E4B",null,2703,"3858036",1,null,960,8000,1,5,100,null,null,"2025-11-06","細川",null,null,null,"211"]
[null,null,null,null,null,null,null,null,null,null,null,null,null,null,null,null,null,null,null,null,null,null,null,null,"MCP","2703","N","T","3E4B",null,2703,"3857920",1,null,1040,8000,1,5,55,null,null,"2025-11-06","尾池",null,null,null,"215"]
[null,null,null,null,null,null,null,null,null,null,null,null,null,null,null,null,null,null,null,null,null,null,null,null,"MCP","2703","N","T","3E4B",null,2703,"3857761",1,null,1040,4000,1,1,11,null,null,"2025-11-06","４０００ｍ余剰分",null,null,null,"215"]
[null,null,null,null,null,null,null,null,null,null,null,null,null,null,null,null,null,null,null,null,null,null,null,null,"MCP","2703","N","T","3E4B",null,2703,"3857584",1,null,960,4000,1,1,40,null,null,"2025-11-06","４０００ｍ余剰分",null,null,null,"211"]
[]
[null,null,null,null,null,null,null,null,null,"9041A3","9041A3",null,null,25,null,2040,null,null,45000,null,null,1,null,null,"MCP","2703","N","T","3E4B",null,2703,"3857855",1,null,980,8000,1,5,80,null,null,"2025-11-06","ユーザーフリー",null,null,null,"213"]
[null,null,null,null,null,null,null,null,null,null,null,null,null,null,null,null,null,null,null,null,null,null,null,null,"MCP","2703","N","T","3E4B",null,2703,"3857867",1,null,1020,8000,1,5,15,null,null,"2025-11-06","ユーザーフリー",null,null,null,"213"]
[null,null,null,null,null,null,null,null,null,null,null,null,null,null,null,null,null,null,null,null,null,null,null,null,"MCP","2703","N","T","3E4B",null,2703,"3857739",1,null,1020,4000,1,1,3,null,null,"2025-11-06","４０００ｍ余剰分",null,null,null,"213"]
[null,null,null,null,null,null,null,null,null,null,null,null,null,null,null,null,null,null,null,null,null,null,null,null,"MCP","2703","N","T","3E4B",null,2703,"3857633",1,null,980,4000,1,1,16,null,null,"2025-11-06","４０００ｍ余剰分",null,null,null,"213"]
[]
[null,null,null,null,null,null,null,null,null,"9041A3","9041A3",null,null,25,null,2060,null,null,45000,null,null,1,null,null,"MCP","2703","N","T","3E4B",null,2703,"3857997",1,null,920,8000,1,5,20,null,null,"2025-11-06","細川",null,null,null,"211"]
[null,null,null,null,null,null,null,null,null,null,null,null,null,null,null,null,null,null,null,null,null,null,null,null,"MCP","2703","N","T","3E4B",null,2703,"3858117",1,null,1100,8000,1,5,25,null,null,"2025-11-06","細川",null,null,null,"211"]
[null,null,null,null,null,null,null,null,null,null,null,null,null,null,null,null,null,null,null,null,null,null,null,null,"MCP","2703","N","T","3E4B",null,2703,"3857688",1,null,1100,4000,1,1,8,null,null,"2025-11-06","４０００ｍ余剰分",null,null,null,"211"]
[null,null,null,null,null,null,null,null,null,null,null,null,null,null,null,null,null,null,null,null,null,null,null,null,"MCP","2703","N","T","3E4B",null,2703,"3857728",1,null,920,4000,1,1,6,null,null,"2025-11-06","４０００ｍ余剰分",null,null,null,"211"]
[]
[null,null,null,null,null,null,null,null,null,"9041A3","9041A3",null,null,25,null,2060,null,null,45000,null,null,1,null,null,"MCP","2703","N","T","3E4B",null,2703,"3857825",1,null,920,8000,1,5,15,null,null,"2025-11-06","ユーザーフリー",null,null,null,"218"]
[null,null,null,null,null,null,null,null,null,null,null,null,null,null,null,null,null,null,null,null,null,null,null,null,"MCP","2703","N","T","3E4B",null,2703,"3858118",1,null,1100,8000,1,5,25,null,null,"2025-11-06","細川",null,null,null,"211"]
[null,null,null,null,null,null,null,null,null,null,null,null,null,null,null,null,null,null,null,null,null,null,null,null,"MCP","2703","N","T","3E4B",null,2703,"3857689",1,null,1100,4000,1,1,8,null,null,"2025-11-06","４０００ｍ余剰分",null,null,null,"211"]
[null,null,null,null,null,null,null,null,null,null,null,null,null,null,null,null,null,null,null,null,null,null,null,null,"MCP","2703","N","T","3E4B",null,2703,"3857775",1,null,920,4000,1,1,3,null,null,"2025-11-06","４０００ｍ余剰分",null,null,null,"218"]
[]
[null,null,null,null,null,null,null,null,null,"9041A3","9041A3",null,null,25,null,2060,null,null,45000,null,null,1,null,null,"MCP","2703","N","T","3E4B",null,2703,"3857898",1,null,920,8000,1,5,10,null,null,"2025-11-06","尾池",null,null,null,"215"]
[null,null,null,null,null,null,null,null,null,null,null,null,null,null,null,null,null,null,null,null,null,null,null,null,"MCP","2703","N","T","3E4B",null,2703,"3858114",1,null,1100,8000,1,5,15,null,null,"2025-11-06","ＤＦ４／６指定　細川",null,null,null,"211"]
[null,null,null,null,null,null,null,null,null,null,null,null,null,null,null,null,null,null,null,null,null,null,null,null,"MCP","2703","N","T","3E4B",null,2703,"3857690",1,null,1100,4000,1,1,8,null,null,"2025-11-06","４０００ｍ余剰分",null,null,null,"211"]
[null,null,null,null,null,null,null,null,null,null,null,null,null,null,null,null,null,null,null,null,null,null,null,null,"MCP","2703","N","T","3E4B",null,2703,"3857773",1,null,920,4000,1,1,2,null,null,"2025-11-06","４０００ｍ余剰分",null,null,null,"215"]
[]
[null,null,null,null,null,null,null,null,null,"9041A3","9041A3",null,null,25,null,2060,null,null,45000,null,null,1,null,null,"MCP","2703","N","T","3E4B",null,2703,"3857973",1,null,860,8000,1,5,20,null,null,"2025-11-06","ＤＦ４／６指定",null,null,null,"211"]
[null,null,null,null,null,null,null,null,null,null,null,null,null,null,null,null,null,null,null,null,null,null,null,null,"MCP","2703","N","T","3E4B",null,2703,"3858138",1,null,1160,8000,1,5,40,null,null,"2025-11-06","細川",null,null,null,"211"]
[null,null,null,null,null,null,null,null,null,null,null,null,null,null,null,null,null,null,null,null,null,null,null,null,"MCP","2703","N","T","3E4B",null,2703,"3857548",1,null,1160,4000,1,1,12,null,null,"2025-11-06","４０００ｍ余剰分",null,null,null,"211"]
[null,null,null,null,null,null,null,null,null,null,null,null,null,null,null,null,null,null,null,null,null,null,null,null,"MCP","2703","N","T","3E4B",null,2703,"3857717",1,null,860,4000,1,1,9,null,null,"2025-11-06","４０００ｍ余剰分",null,null,null,"211"]
[]
[null,null,null,null,null,null,null,null,null,"9041A3","9041A3",null,null,25,null,2060,null,null,45000,null,null,1,null,null,"MCP","2703","N","T","3E4B",null,2703,"3857890",1,null,860,8000,1,5,15,null,null,"2025-11-06","尾池",null,null,null,"215"]
[null,null,null,null,null,null,null,null,null,null,null,null,null,null,null,null,null,null,null,null,null,null,null,null,"MCP","2703","N","T","3E4B",null,2703,"3858139",1,null,1160,8000,1,5,40,null,null,"2025-11-06","細川",null,null,null,"211"]
[null,null,null,null,null,null,null,null,null,null,null,null,null,null,null,null,null,null,null,null,null,null,null,null,"MCP","2703","N","T","3E4B",null,2703,"3857549",1,null,1160,4000,1,1,12,null,null,"2025-11-06","４０００ｍ余剰分",null,null,null,"211"]
[null,null,null,null,null,null,null,null,null,null,null,null,null,null,null,null,null,null,null,null,null,null,null,null,"MCP","2703","N","T","3E4B",null,2703,"3857770",1,null,860,4000,1,1,3,null,null,"2025-11-06","４０００ｍ余剰分",null,null,null,"215"]
[]
[null,null,null,null,null,null,null,null,null,"9041A3","9041A3",null,null,25,null,2080,null,null,45000,null,null,1,null,null,"MCP","2703","N","T","3E4B",null,2703,"3857856",1,null,980,8000,1,5,80,null,null,"2025-11-06","ユーザーフリー",null,null,null,"213"]
[null,null,null,null,null,null,null,null,null,null,null,null,null,null,null,null,null,null,null,null,null,null,null,null,"MCP","2703","N","T","3E4B",null,2703,"3858094",1,null,1060,8000,1,5,25,null,null,"2025-11-06","ＤＦ４／６指定　細川",null,null,null,"211"]
[null,null,null,null,null,null,null,null,null,null,null,null,null,null,null,null,null,null,null,null,null,null,null,null,"MCP","2703","N","T","3E4B",null,2703,"3857537",1,null,1060,4000,1,1,5,null,null,"2025-11-06","４０００ｍ余剰分",null,null,null,"211"]
[null,null,null,null,null,null,null,null,null,null,null,null,null,null,null,null,null,null,null,null,null,null,null,null,"MCP","2703","N","T","3E4B",null,2703,"3857634",1,null,980,4000,1,1,16,null,null,"2025-11-06","４０００ｍ余剰分",null,null,null,"213"]
[]
[null,null,null,null,null,null,null,null,null,"9041A3","9041A3",null,null,25,null,2080,null,null,45000,null,null,1,null,null,"MCP","2703","N","T","3E4B",null,2703,"3857977",1,null,860,8000,1,5,25,null,null,"2025-11-06",null,null,null,null,"211"]
[null,null,null,null,null,null,null,null,null,null,null,null,null,null,null,null,null,null,null,null,null,null,null,null,"MCP","2703","N","T","3E4B",null,2703,"3858146",1,null,1180,8000,1,5,20,null,null,"2025-11-06","ＤＦ４／６指定　細川",null,null,null,"211"]
[null,null,null,null,null,null,null,null,null,null,null,null,null,null,null,null,null,null,null,null,null,null,null,null,"MCP","2703","N","T","3E4B",null,2703,"3857701",1,null,1180,4000,1,1,10,null,null,"2025-11-06","４０００ｍ余剰分",null,null,null,"211"]
[null,null,null,null,null,null,null,null,null,null,null,null,null,null,null,null,null,null,null,null,null,null,null,null,"MCP","2703","N","T","3E4B",null,2703,"3857718",1,null,860,4000,1,1,9,null,null,"2025-11-06","４０００ｍ余剰分",null,null,null,"211"]
[]
[null,null,null,null,null,null,null,null,null,"9041A3","9041A3",null,null,25,null,2080,null,null,45000,null,null,1,null,null,"MCP","2703","N","T","3E4B",null,2703,"3857978",1,null,860,8000,1,5,25,null,null,"2025-11-06",null,null,null,null,"211"]
[null,null,null,null,null,null,null,null,null,null,null,null,null,null,null,null,null,null,null,null,null,null,null,null,"MCP","2703","N","T","3E4B",null,2703,"3858147",1,null,1180,8000,1,5,20,null,null,"2025-11-06","ＤＦ４／６指定　細川",null,null,null,"211"]
[null,null,null,null,null,null,null,null,null,null,null,null,null,null,null,null,null,null,null,null,null,null,null,null,"MCP","2703","N","T","3E4B",null,2703,"3857702",1,null,1180,4000,1,1,10,null,null,"2025-11-06","４０００ｍ余剰分",null,null,null,"211"]
[null,null,null,null,null,null,null,null,null,null,null,null,null,null,null,null,null,null,null,null,null,null,null,null,"MCP","2703","N","T","3E4B",null,2703,"3857719",1,null,860,4000,1,1,9,null,null,"2025-11-06","４０００ｍ余剰分",null,null,null,"211"]
[]
[null,null,null,null,null,null,null,null,null,"9041A3","9041A3",null,null,25,null,2080,null,null,45000,null,null,1,null,null,"MCP","2703","N","T","3E4B",null,2703,"3857974",1,null,860,8000,1,5,20,null,null,"2025-11-06","ＤＦ４／６指定",null,null,null,"211"]
[null,null,null,null,null,null,null,null,null,null,null,null,null,null,null,null,null,null,null,null,null,null,null,null,"MCP","2703","N","T","3E4B",null,2703,"3858150",1,null,1180,8000,1,5,20,null,null,"2025-11-06","細川",null,null,null,"211"]
[null,null,null,null,null,null,null,null,null,null,null,null,null,null,null,null,null,null,null,null,null,null,null,null,"MCP","2703","N","T","3E4B",null,2703,"3857703",1,null,1180,4000,1,1,10,null,null,"2025-11-06","４０００ｍ余剰分",null,null,null,"211"]
[null,null,null,null,null,null,null,null,null,null,null,null,null,null,null,null,null,null,null,null,null,null,null,null,"MCP","2703","N","T","3E4B",null,2703,"3857720",1,null,860,4000,1,1,9,null,null,"2025-11-06","４０００ｍ余剰分",null,null,null,"211"]
[]
[null,null,null,null,null,null,null,null,null,"9041A3","9041A3",null,null,25,null,2080,null,null,45000,null,null,1,null,null,"MCP","2703","N","T","3E4B",null,2703,"3857975",1,null,860,8000,1,5,20,null,null,"2025-11-06","ＤＦ４／６指定",null,null,null,"211"]
[null,null,null,null,null,null,null,null,null,null,null,null,null,null,null,null,null,null,null,null,null,null,null,null,"MCP","2703","N","T","3E4B",null,2703,"3858151",1,null,1180,8000,1,5,20,null,null,"2025-11-06","細川",null,null,null,"211"]
[null,null,null,null,null,null,null,null,null,null,null,null,null,null,null,null,null,null,null,null,null,null,null,null,"MCP","2703","N","T","3E4B",null,2703,"3857704",1,null,1180,4000,1,1,10,null,null,"2025-11-06","４０００ｍ余剰分",null,null,null,"211"]
[null,null,null,null,null,null,null,null,null,null,null,null,null,null,null,null,null,null,null,null,null,null,null,null,"MCP","2703","N","T","3E4B",null,2703,"3857721",1,null,860,4000,1,1,9,null,null,"2025-11-06","４０００ｍ余剰分",null,null,null,"211"]
[]
[null,null,null,null,null,null,null,null,null,"9041A3","9041A3",null,null,25,null,2080,null,null,45000,null,null,1,null,null,"MCP","2703","N","T","3E4B",null,2703,"3858085",1,null,1020,8000,1,10,20,null,null,"2025-11-06","細川",null,null,null,"211"]
[null,null,null,null,null,null,null,null,null,null,null,null,null,null,null,null,null,null,null,null,null,null,null,null,"MCP","2703","N","T","3E4B",null,2703,"3857672",1,null,1020,4000,1,2,6,null,null,"2025-11-06","４０００ｍ余剰分",null,null,null,"211"]
[]
[null,null,null,null,null,null,null,null,null,"9041A3","9041A3",null,null,25,null,2100,null,null,45000,null,null,1,null,null,"MCP","2703","N","T","3E4B",null,2703,"3858079",1,null,1000,8000,1,5,40,null,null,"2025-11-06","細川",null,null,null,"211"]
[null,null,null,null,null,null,null,null,null,null,null,null,null,null,null,null,null,null,null,null,null,null,null,null,"MCP","2703","N","T","3E4B",null,2703,"3858102",1,null,1060,8000,1,5,65,null,null,"2025-11-06","細川",null,null,null,"211"]
[null,null,null,null,null,null,null,null,null,null,null,null,null,null,null,null,null,null,null,null,null,null,null,null,"MCP","2703","N","T","3E4B",null,2703,"3857679",1,null,1060,4000,1,1,13,null,null,"2025-11-06","４０００ｍ余剰分",null,null,null,"211"]
[null,null,null,null,null,null,null,null,null,null,null,null,null,null,null,null,null,null,null,null,null,null,null,null,"MCP","2703","N","T","3E4B",null,2703,"3857662",1,null,1000,4000,1,1,14,null,null,"2025-11-06","４０００ｍ余剰分",null,null,null,"211"]
[]
[null,null,null,null,null,null,null,null,null,"9041A3","9041A3",null,null,25,null,2100,null,null,45000,null,null,1,null,null,"MCP","2703","N","T","3E4B",null,2703,"3858069",1,null,1000,8000,1,5,30,null,null,"2025-11-06","ＤＦ４／６指定　細川",null,null,null,"211"]
[null,null,null,null,null,null,null,null,null,null,null,null,null,null,null,null,null,null,null,null,null,null,null,null,"MCP","2703","N","T","3E4B",null,2703,"3858103",1,null,1060,8000,1,5,65,null,null,"2025-11-06","細川",null,null,null,"211"]
[null,null,null,null,null,null,null,null,null,null,null,null,null,null,null,null,null,null,null,null,null,null,null,null,"MCP","2703","N","T","3E4B",null,2703,"3857680",1,null,1060,4000,1,1,13,null,null,"2025-11-06","４０００ｍ余剰分",null,null,null,"211"]
[null,null,null,null,null,null,null,null,null,null,null,null,null,null,null,null,null,null,null,null,null,null,null,null,"MCP","2703","N","T","3E4B",null,2703,"3857663",1,null,1000,4000,1,1,14,null,null,"2025-11-06","４０００ｍ余剰分",null,null,null,"211"]
[]
[null,null,null,null,null,null,null,null,null,"9041A3","9041A3",null,null,25,null,2100,null,null,45000,null,null,1,null,null,"MCP","2703","N","T","3E4B",null,2703,"3858070",1,null,1000,8000,1,5,30,null,null,"2025-11-06","ＤＦ４／６指定　細川",null,null,null,"211"]
[null,null,null,null,null,null,null,null,null,null,null,null,null,null,null,null,null,null,null,null,null,null,null,null,"MCP","2703","N","T","3E4B",null,2703,"3858104",1,null,1060,8000,1,5,65,null,null,"2025-11-06","細川",null,null,null,"211"]
[null,null,null,null,null,null,null,null,null,null,null,null,null,null,null,null,null,null,null,null,null,null,null,null,"MCP","2703","N","T","3E4B",null,2703,"3857681",1,null,1060,4000,1,1,13,null,null,"2025-11-06","４０００ｍ余剰分",null,null,null,"211"]
[null,null,null,null,null,null,null,null,null,null,null,null,null,null,null,null,null,null,null,null,null,null,null,null,"MCP","2703","N","T","3E4B",null,2703,"3857664",1,null,1000,4000,1,1,14,null,null,"2025-11-06","４０００ｍ余剰分",null,null,null,"211"]
[]
[null,null,null,null,null,null,null,null,null,"9041A3","9041A3",null,null,25,null,2100,null,null,45000,null,null,1,null,null,"MCP","2703","N","T","3E4B",null,2703,"3858071",1,null,1000,8000,1,5,30,null,null,"2025-11-06","ＤＦ４／６指定　細川",null,null,null,"211"]
[null,null,null,null,null,null,null,null,null,null,null,null,null,null,null,null,null,null,null,null,null,null,null,null,"MCP","2703","N","T","3E4B",null,2703,"3858105",1,null,1060,8000,1,5,65,null,null,"2025-11-06","細川",null,null,null,"211"]
[null,null,null,null,null,null,null,null,null,null,null,null,null,null,null,null,null,null,null,null,null,null,null,null,"MCP","2703","N","T","3E4B",null,2703,"3857682",1,null,1060,4000,1,1,13,null,null,"2025-11-06","４０００ｍ余剰分",null,null,null,"211"]
[null,null,null,null,null,null,null,null,null,null,null,null,null,null,null,null,null,null,null,null,null,null,null,null,"MCP","2703","N","T","3E4B",null,2703,"3857665",1,null,1000,4000,1,1,14,null,null,"2025-11-06","４０００ｍ余剰分",null,null,null,"211"]
[]
[null,null,null,null,null,null,null,null,null,"9041A3","9041A3",null,null,25,null,2020,null,null,45000,null,null,1,null,null,"MCP","2703","N","T","3E4B",null,2703,"3857988",1,null,900,8000,1,5,5,null,null,"2025-11-06","ＤＦ４／６指定　細川",null,null,null,"211"]
[null,null,null,null,null,null,null,null,null,null,null,null,null,null,null,null,null,null,null,null,null,null,null,null,"MCP","2703","N","T","3E4B",null,2703,"3858112",1,null,1080,8000,1,5,5,null,null,"2025-11-06","細川",null,null,null,"211"]
[null,null,null,null,null,null,null,null,null,null,null,null,null,null,null,null,null,null,null,null,null,null,null,null,"MCP","2703","N","T","3E4B",null,2703,"3857541",1,null,1080,4000,1,1,1,null,null,"2025-11-06","４０００ｍ余剰分",null,null,null,"211"]
[null,null,null,null,null,null,null,null,null,null,null,null,null,null,null,null,null,null,null,null,null,null,null,null,"MCP","2703","N","T","3E4B",null,2703,"3857566",1,null,900,4000,1,1,1,null,null,"2025-11-06","４０００ｍ余剰分",null,null,null,"211"]
[]
[null,null,null,null,null,null,null,null,null,"9041A3","9041A3",null,null,25,null,2000,null,null,45000,null,null,1,null,null,"MCP","2703","N","T","3E4B",null,2703,"3858048",1,null,980,4000,1,11,20,null,null,"2025-11-06","ＤＦ４／６指定　細川",null,null,null,"211"]
[null,null,null,null,null,null,null,null,null,null,null,null,null,null,null,null,null,null,null,null,null,null,null,null,"MCP","2703","N","T","3E4B",null,2703,"3858050",1,null,980,4000,1,11,20,null,null,"2025-11-06","細川",null,null,null,"211"]
[]
[null,null,null,null,null,null,null,null,null,"9041A3","9041A3",null,null,25,null,1800,null,null,45000,null,null,1,null,null,"MCP","2703","N","T","3E4B",null,2703,"3857805",1,null,820,4000,1,11,20,null,null,"2025-11-06","ユーザーフリー",null,null,null,"213"]
[null,null,null,null,null,null,null,null,null,null,null,null,null,null,null,null,null,null,null,null,null,null,null,null,"MCP","2703","N","T","3E4B",null,2703,"3858005",1,null,940,4000,1,11,50,null,null,"2025-11-06","細川",null,null,null,"211"]
[]
[null,null,null,null,null,null,null,null,null,"9041A3","9041A3",null,null,25,null,1800,null,null,45000,null,null,1,null,null,"MCP","2703","N","T","3E4B",null,2703,"3858037",1,null,960,8000,1,5,100,null,null,"2025-11-06","細川",null,null,null,"211"]
[null,null,null,null,null,null,null,null,null,null,null,null,null,null,null,null,null,null,null,null,null,null,null,null,"MCP","2703","N","T","3E4B",null,2703,"3857959",1,null,800,8000,1,5,5,null,null,"2025-11-06","ＤＦ４／６指定",null,null,null,"211"]
[null,null,null,null,null,null,null,null,null,null,null,null,null,null,null,null,null,null,null,null,null,null,null,null,"MCP","2703","N","T","3E4B",null,2703,"3857585",1,null,960,4000,1,1,40,null,null,"2025-11-06","４０００ｍ余剰分",null,null,null,"211"]
[null,null,null,null,null,null,null,null,null,null,null,null,null,null,null,null,null,null,null,null,null,null,null,null,"MCP","2703","N","T","3E4B",null,2703,"3857559",1,null,800,4000,1,1,3,null,null,"2025-11-06","４０００ｍ余剰分",null,null,null,"211"]
[]
[null,null,null,null,null,null,null,null,null,"9041A3","9041A3",null,null,25,null,1820,null,null,45000,null,null,1,null,null,"MCP","2703","N","T","3E4B",null,2703,"3857808",1,null,840,4000,1,11,130,null,null,"2025-11-06","ユーザーフリー",null,null,null,"213"]
[null,null,null,null,null,null,null,null,null,null,null,null,null,null,null,null,null,null,null,null,null,null,null,null,"MCP","2703","N","T","3E4B",null,2703,"3858006",1,null,940,4000,1,11,50,null,null,"2025-11-06","細川",null,null,null,"211"]
[]
[null,null,null,null,null,null,null,null,null,"9041A3","9041A3",null,null,25,null,1820,null,null,45000,null,null,1,null,null,"MCP","2703","N","T","3E4B",null,2703,"3857809",1,null,840,4000,1,11,130,null,null,"2025-11-06","ユーザーフリー",null,null,null,"213"]
[null,null,null,null,null,null,null,null,null,null,null,null,null,null,null,null,null,null,null,null,null,null,null,null,"MCP","2703","N","T","3E4B",null,2703,"3858001",1,null,940,4000,1,11,30,null,null,"2025-11-06","ＤＦ４／６指定　細川",null,null,null,"211"]
[]
[null,null,null,null,null,null,null,null,null,"9041A3","9041A3",null,null,25,null,2100,null,null,45000,null,null,1,null,null,"MCP","2703","N","T","3E4B",null,2703,"3857826",1,null,920,8000,1,5,15,null,null,"2025-11-06","ユーザーフリー",null,null,null,"218"]
[null,null,null,null,null,null,null,null,null,null,null,null,null,null,null,null,null,null,null,null,null,null,null,null,"MCP","2703","N","T","3E4B",null,2703,"3857927",1,null,1140,8000,1,5,15,null,null,"2025-11-06","尾池",null,null,null,"215"]
[null,null,null,null,null,null,null,null,null,null,null,null,null,null,null,null,null,null,null,null,null,null,null,null,"MCP","2703","N","T","3E4B",null,2703,"3857639",1,null,1140,4000,1,1,3,null,null,"2025-11-06","４０００ｍ余剰分",null,null,null,"215"]
[null,null,null,null,null,null,null,null,null,null,null,null,null,null,null,null,null,null,null,null,null,null,null,null,"MCP","2703","N","T","3E4B",null,2703,"3857776",1,null,920,4000,1,1,3,null,null,"2025-11-06","４０００ｍ余剰分",null,null,null,"218"]
[]
[null,null,null,null,null,null,null,null,null,"9041A3","9041A3",null,null,25,null,2100,null,null,45000,null,null,1,null,null,"MCP","2703","N","T","3E4B",null,2703,"3857995",1,null,920,8000,1,5,10,null,null,"2025-11-06","ＤＦ４／６指定　細川",null,null,null,"211"]
[null,null,null,null,null,null,null,null,null,null,null,null,null,null,null,null,null,null,null,null,null,null,null,null,"MCP","2703","N","T","3E4B",null,2703,"3857928",1,null,1140,8000,1,5,15,null,null,"2025-11-06","尾池",null,null,null,"215"]
[null,null,null,null,null,null,null,null,null,null,null,null,null,null,null,null,null,null,null,null,null,null,null,null,"MCP","2703","N","T","3E4B",null,2703,"3857640",1,null,1140,4000,1,1,3,null,null,"2025-11-06","４０００ｍ余剰分",null,null,null,"215"]
[null,null,null,null,null,null,null,null,null,null,null,null,null,null,null,null,null,null,null,null,null,null,null,null,"MCP","2703","N","T","3E4B",null,2703,"3857729",1,null,920,4000,1,1,6,null,null,"2025-11-06","４０００ｍ余剰分",null,null,null,"211"]
[]
[null,null,null,null,null,null,null,null,null,"9041A3","9041A3",null,null,25,null,2020,null,null,45000,null,null,1,null,null,"MCP","2703","N","T","3E4B",null,2703,"3857807",1,null,840,4000,1,11,130,null,null,"2025-11-06","ユーザーフリー",null,null,null,"213"]
[null,null,null,null,null,null,null,null,null,null,null,null,null,null,null,null,null,null,null,null,null,null,null,null,"MCP","2703","N","T","3E4B",null,2703,"3858122",1,null,1140,4000,1,11,20,null,null,"2025-11-06","ＤＦ４／６指定　細川",null,null,null,"211"]
[]
[null,null,null,null,null,null,null,null,null,"9041A3","9041A3",null,null,25,null,2020,null,null,45000,null,null,1,null,null,"MCP","2703","N","T","3E4B",null,2703,"3857884",1,null,840,4000,1,11,50,null,null,"2025-11-06","尾池",null,null,null,"215"]
[null,null,null,null,null,null,null,null,null,null,null,null,null,null,null,null,null,null,null,null,null,null,null,null,"MCP","2703","N","T","3E4B",null,2703,"3858123",1,null,1140,4000,1,11,20,null,null,"2025-11-06","ＤＦ４／６指定　細川",null,null,null,"211"]
[]
[null,null,null,null,null,null,null,null,null,"9041A3","9041A3",null,null,25,null,1960,null,null,45000,null,null,1,null,null,"MCP","2703","N","T","3E4B",null,2703,"3857962",1,null,820,4000,1,11,10,null,null,"2025-11-06","ＤＦ４／６指定",null,null,null,"211"]
[null,null,null,null,null,null,null,null,null,null,null,null,null,null,null,null,null,null,null,null,null,null,null,null,"MCP","2703","N","T","3E4B",null,2703,"3857511",1,null,1100,4000,1,11,20,null,null,"2025-11-06","相手幅　細川",null,null,null,"211"]
[]
[null,null,null,null,null,null,null,null,null,"9041A3","9041A3",null,null,25,null,2000,null,null,45000,null,null,1,null,null,"MCP","2703","N","T","3E4B",null,2703,"3857885",1,null,840,4000,1,11,50,null,null,"2025-11-06","尾池",null,null,null,"215"]
[null,null,null,null,null,null,null,null,null,null,null,null,null,null,null,null,null,null,null,null,null,null,null,null,"MCP","2703","N","T","3E4B",null,2703,"3857513",1,null,1120,4000,1,11,20,null,null,"2025-11-06","相手幅　細川",null,null,null,"211"]
[]
[null,null,null,null,null,null,null,null,null,"9041A3","9041A3",null,null,25,null,2040,null,null,45000,null,null,1,null,null,"MCP","2703","N","T","3E4B",null,2703,"3857811",1,null,840,4000,1,11,130,null,null,"2025-11-06","ユーザーフリー",null,null,null,"213"]
[null,null,null,null,null,null,null,null,null,null,null,null,null,null,null,null,null,null,null,null,null,null,null,null,"MCP","2703","N","T","3E4B",null,2703,"3857517",1,null,1160,4000,1,11,20,null,null,"2025-11-06","相手幅　細川",null,null,null,"211"]
[]
[null,null,null,null,null,null,null,null,null,"9041A3","9041A3",null,null,25,null,2060,null,null,45000,null,null,1,null,null,"MCP","2703","N","T","3E4B",null,2703,"3857505",1,null,1000,4000,1,11,10,null,null,"2025-11-06","相手幅　細川",null,null,null,"211"]
[null,null,null,null,null,null,null,null,null,null,null,null,null,null,null,null,null,null,null,null,null,null,null,null,"MCP","2703","N","T","3E4B",null,2703,"3857496",1,null,1020,4000,1,11,10,null,null,"2025-11-06","相手幅　ユーザーフリー",null,null,null,"213"]
[]
[null,null,null,null,null,null,null,null,null,"9041A3","9041A3",null,null,25,null,2060,null,null,45000,null,null,1,null,null,"MCP","2703","N","T","3E4B",null,2703,"3857958",1,null,800,4000,1,11,10,null,null,"2025-11-06",null,null,null,null,"211"]
[null,null,null,null,null,null,null,null,null,null,null,null,null,null,null,null,null,null,null,null,null,null,null,null,"MCP","2703","N","T","3E4B",null,2703,"3857523",1,null,1220,4000,1,11,10,null,null,"2025-11-06","相手幅",null,null,null,"211"]
[]
[null,null,null,null,null,null,null,null,null,"9041A3","9041A3",null,null,25,null,2020,null,null,45000,null,null,1,null,null,"MCP","2703","N","T","3E4B",null,2703,"3857810",1,null,840,4000,1,11,130,null,null,"2025-11-06","ユーザーフリー",null,null,null,"213"]
[null,null,null,null,null,null,null,null,null,null,null,null,null,null,null,null,null,null,null,null,null,null,null,null,"MCP","2703","N","T","3E4B",null,2703,"3857515",1,null,1140,4000,1,11,20,null,null,"2025-11-06","相手幅　細川",null,null,null,"211"]
[]
[null,null,null,null,null,null,null,null,null,"9041A3","9041A3",null,null,25,null,2040,null,null,45000,null,null,1,null,null,"MCP","2703","N","T","3E4B",null,2703,"3857812",1,null,840,4000,1,11,130,null,null,"2025-11-06","ユーザーフリー",null,null,null,"213"]
[null,null,null,null,null,null,null,null,null,null,null,null,null,null,null,null,null,null,null,null,null,null,null,null,"MCP","2703","N","T","3E4B",null,2703,"3857503",1,null,1160,4000,1,11,10,null,null,"2025-11-06","相手幅　ユーザーフリー",null,null,null,"213"]
[]
[null,null,null,null,null,null,null,null,null,"9041A3","9041A3",null,null,25,null,2060,null,null,45000,null,null,1,null,null,"MCP","2703","N","T","3E4B",null,2703,"3857882",1,null,820,4000,1,11,20,null,null,"2025-11-06","尾池",null,null,null,"215"]
[null,null,null,null,null,null,null,null,null,null,null,null,null,null,null,null,null,null,null,null,null,null,null,null,"MCP","2703","N","T","3E4B",null,2703,"3857521",1,null,1200,4000,1,11,20,null,null,"2025-11-06","相手幅",null,null,null,"211"]
[]
[null,null,null,null,null,null,null,null,null,"9041A3","9041A3",null,null,25,null,1840,null,null,45000,null,null,1,null,null,"MCP","2703","N","T","3E4B",null,2703,"3857797",1,null,720,4000,1,11,10,null,null,"2025-11-06","ユーザーフリー",null,null,null,"213"]
[null,null,null,null,null,null,null,null,null,null,null,null,null,null,null,null,null,null,null,null,null,null,null,null,"MCP","2703","N","T","3E4B",null,2703,"3857509",1,null,1080,4000,1,11,20,null,null,"2025-11-06","相手幅　細川",null,null,null,"211"]
[]
[null,null,null,null,null,null,null,null,null,"9041A3","9041A3",null,null,25,null,1840,null,null,45000,null,null,1,null,null,"MCP","2703","N","T","3E4B",null,2703,"3857799",1,null,760,4000,1,11,40,null,null,"2025-11-06","ユーザーフリー",null,null,null,"213"]
[null,null,null,null,null,null,null,null,null,null,null,null,null,null,null,null,null,null,null,null,null,null,null,null,"MCP","2703","N","T","3E4B",null,2703,"3857497",1,null,1040,4000,1,11,10,null,null,"2025-11-06","相手幅　ユーザーフリー",null,null,null,"213"]
[]
[null,null,null,null,null,null,null,null,null,"9041A3","9041A3",null,null,25,null,1840,null,null,45000,null,null,1,null,null,"MCP","2703","N","T","3E4B",null,2703,"3857951",1,null,740,4000,1,11,10,null,null,"2025-11-06",null,null,null,null,"211"]
[null,null,null,null,null,null,null,null,null,null,null,null,null,null,null,null,null,null,null,null,null,null,null,null,"MCP","2703","N","T","3E4B",null,2703,"3857498",1,null,1060,4000,1,11,10,null,null,"2025-11-06","相手幅　ユーザーフリー",null,null,null,"213"]
[]
[null,null,null,null,null,null,null,null,null,"9041A3","9041A3",null,null,25,null,1900,null,null,45000,null,null,1,null,null,"MCP","2703","N","T","3E4B",null,2703,"3857880",1,null,740,4000,1,11,10,null,null,"2025-11-06","尾池",null,null,null,"215"]
[null,null,null,null,null,null,null,null,null,null,null,null,null,null,null,null,null,null,null,null,null,null,null,null,"MCP","2703","N","T","3E4B",null,2703,"3857501",1,null,1120,4000,1,11,10,null,null,"2025-11-06","相手幅　ユーザーフリー",null,null,null,"213"]
[]
[null,null,null,null,null,null,null,null,null,"9041A3","9041A3",null,null,25,null,1920,null,null,45000,null,null,1,null,null,"MCP","2703","N","T","3E4B",null,2703,"3857806",1,null,820,4000,1,11,20,null,null,"2025-11-06","ユーザーフリー",null,null,null,"213"]
[null,null,null,null,null,null,null,null,null,null,null,null,null,null,null,null,null,null,null,null,null,null,null,null,"MCP","2703","N","T","3E4B",null,2703,"3857507",1,null,1060,4000,1,11,20,null,null,"2025-11-06","相手幅　細川",null,null,null,"211"]
[]
[null,null,null,null,null,null,null,null,null,"9041A3","9041A3",null,null,25,null,1940,null,null,45000,null,null,1,null,null,"MCP","2703","N","T","3E4B",null,2703,"3857800",1,null,760,4000,1,11,40,null,null,"2025-11-06","ユーザーフリー",null,null,null,"213"]
[null,null,null,null,null,null,null,null,null,null,null,null,null,null,null,null,null,null,null,null,null,null,null,null,"MCP","2703","N","T","3E4B",null,2703,"3857502",1,null,1140,4000,1,11,10,null,null,"2025-11-06","相手幅　ユーザーフリー",null,null,null,"213"]
[]
[null,null,null,null,null,null,null,null,null,"9041A3","9041A3",null,null,25,null,1960,null,null,45000,null,null,1,null,null,"MCP","2703","N","T","3E4B",null,2703,"3857969",1,null,840,4000,1,11,10,null,null,"2025-11-06","ＤＦ４／６指定",null,null,null,"211"]
[null,null,null,null,null,null,null,null,null,null,null,null,null,null,null,null,null,null,null,null,null,null,null,null,"MCP","2703","N","T","3E4B",null,2703,"3857510",1,null,1080,4000,1,11,20,null,null,"2025-11-06","相手幅　細川",null,null,null,"211"]
[]
[null,null,null,null,null,null,null,null,null,"9041A3","9041A3",null,null,25,null,1960,null,null,45000,null,null,1,null,null,"MCP","2703","N","T","3E4B",null,2703,"3857844",1,null,960,8000,1,5,35,null,null,"2025-11-06","ユーザーフリー",null,null,null,"213"]
[null,null,null,null,null,null,null,null,null,null,null,null,null,null,null,null,null,null,null,null,null,null,null,null,"MCP","2703","N","T","3E4B",null,2703,"3857902",1,null,960,8000,1,5,10,null,null,"2025-11-06","尾池",null,null,null,"215"]
[null,null,null,null,null,null,null,null,null,null,null,null,null,null,null,null,null,null,null,null,null,null,null,null,"MCP","2703","N","T","3E4B",null,2703,"3857625",1,null,960,4000,1,1,7,null,null,"2025-11-06","４０００ｍ余剰分",null,null,null,"213"]
[null,null,null,null,null,null,null,null,null,null,null,null,null,null,null,null,null,null,null,null,null,null,null,null,"MCP","2703","N","T","3E4B",null,2703,"3857643",1,null,960,4000,1,1,2,null,null,"2025-11-06","４０００ｍ余剰分",null,null,null,"215"]
[]
[null,null,null,null,null,null,null,null,null,"9041A3","9041A3",null,null,25,null,1980,null,null,45000,null,null,1,null,null,"MCP","2703","N","T","3E4B",null,2703,"3857904",1,null,980,4000,1,11,40,null,null,"2025-11-06","尾池",null,null,null,"215"]
[null,null,null,null,null,null,null,null,null,null,null,null,null,null,null,null,null,null,null,null,null,null,null,null,"MCP","2703","N","T","3E4B",null,2703,"3858012",1,null,960,4000,1,11,40,null,null,"2025-11-06","細川",null,null,null,"211"]
[]
[null,null,null,null,null,null,null,null,null,"9041A3","9041A3",null,null,25,null,1920,null,null,45000,null,null,1,null,null,"MCP","2703","N","T","3E4B",null,2703,"3857953",1,null,740,8000,1,5,10,null,null,"2025-11-06",null,null,null,null,"211"]
[null,null,null,null,null,null,null,null,null,null,null,null,null,null,null,null,null,null,null,null,null,null,null,null,"MCP","2703","N","T","3E4B",null,2703,"3857526",1,null,1140,8000,1,5,10,null,null,"2025-11-06","相手幅　細川",null,null,null,"211"]
[null,null,null,null,null,null,null,null,null,null,null,null,null,null,null,null,null,null,null,null,null,null,null,null,"MCP","2703","N","T","3E4B",null,2703,"3857698",1,null,1140,4000,1,1,2,null,null,"2025-11-06","４０００ｍ余剰分",null,null,null,"211"]
[null,null,null,null,null,null,null,null,null,null,null,null,null,null,null,null,null,null,null,null,null,null,null,null,"MCP","2703","N","T","3E4B",null,2703,"3857713",1,null,740,4000,1,1,3,null,null,"2025-11-06","４０００ｍ余剰分",null,null,null,"211"]
[]
[null,null,null,null,null,null,null,null,null,"9041A3","9041A3",null,null,25,null,1920,null,null,45000,null,null,1,null,null,"MCP","2703","N","T","3E4B",null,2703,"3857952",1,null,740,8000,1,5,5,null,null,"2025-11-06","ＤＦ４／６指定",null,null,null,"211"]
[null,null,null,null,null,null,null,null,null,null,null,null,null,null,null,null,null,null,null,null,null,null,null,null,"MCP","2703","N","T","3E4B",null,2703,"3858127",1,null,1140,8000,1,5,10,null,null,"2025-11-06","細川",null,null,null,"211"]
[null,null,null,null,null,null,null,null,null,null,null,null,null,null,null,null,null,null,null,null,null,null,null,null,"MCP","2703","N","T","3E4B",null,2703,"3857542",1,null,1140,4000,1,1,2,null,null,"2025-11-06","４０００ｍ余剰分",null,null,null,"211"]
[null,null,null,null,null,null,null,null,null,null,null,null,null,null,null,null,null,null,null,null,null,null,null,null,"MCP","2703","N","T","3E4B",null,2703,"3857714",1,null,740,4000,1,1,3,null,null,"2025-11-06","４０００ｍ余剰分",null,null,null,"211"]
[]
[null,null,null,null,null,null,null,null,null,"9041A3","9041A3",null,null,25,null,1940,null,null,45000,null,null,1,null,null,"MCP","2703","N","T","3E4B",null,2703,"3857780",1,null,780,8000,1,5,20,null,null,"2025-11-06","凸版　ＤＦ４・６指定　優先希望！",null,null,null,"214"]
[null,null,null,null,null,null,null,null,null,null,null,null,null,null,null,null,null,null,null,null,null,null,null,null,"MCP","2703","N","T","3E4B",null,2703,"3857524",1,null,1120,8000,1,5,10,null,null,"2025-11-06","相手幅　細川",null,null,null,"211"]
[null,null,null,null,null,null,null,null,null,null,null,null,null,null,null,null,null,null,null,null,null,null,null,null,"MCP","2703","N","T","3E4B",null,2703,"3857696",1,null,1120,4000,1,1,2,null,null,"2025-11-06","４０００ｍ余剰分",null,null,null,"211"]
[null,null,null,null,null,null,null,null,null,null,null,null,null,null,null,null,null,null,null,null,null,null,null,null,"MCP","2703","N","T","3E4B",null,2703,"3857749",1,null,780,4000,1,1,4,null,null,"2025-11-06","４０００ｍ余剰分",null,null,null,"214"]
[]
[null,null,null,null,null,null,null,null,null,"9041A3","9041A3",null,null,25,null,1940,null,null,45000,null,null,1,null,null,"MCP","2703","N","T","3E4B",null,2703,"3857781",1,null,780,8000,1,5,20,null,null,"2025-11-06","凸版　ＤＦ４・６指定　優先希望！",null,null,null,"214"]
[null,null,null,null,null,null,null,null,null,null,null,null,null,null,null,null,null,null,null,null,null,null,null,null,"MCP","2703","N","T","3E4B",null,2703,"3857525",1,null,1120,8000,1,5,10,null,null,"2025-11-06","相手幅　細川",null,null,null,"211"]
[null,null,null,null,null,null,null,null,null,null,null,null,null,null,null,null,null,null,null,null,null,null,null,null,"MCP","2703","N","T","3E4B",null,2703,"3857697",1,null,1120,4000,1,1,2,null,null,"2025-11-06","４０００ｍ余剰分",null,null,null,"211"]
[null,null,null,null,null,null,null,null,null,null,null,null,null,null,null,null,null,null,null,null,null,null,null,null,"MCP","2703","N","T","3E4B",null,2703,"3857750",1,null,780,4000,1,1,4,null,null,"2025-11-06","４０００ｍ余剰分",null,null,null,"214"]
[]
[null,null,null,null,null,null,null,null,null,"9041A3","9041A3",null,null,25,null,1940,null,null,45000,null,null,1,null,null,"MCP","2703","N","T","3E4B",null,2703,"3857956",1,null,760,8000,1,5,5,null,null,"2025-11-06","ＤＦ４／６指定　細川",null,null,null,"211"]
[null,null,null,null,null,null,null,null,null,null,null,null,null,null,null,null,null,null,null,null,null,null,null,null,"MCP","2703","N","T","3E4B",null,2703,"3857527",1,null,1140,8000,1,5,10,null,null,"2025-11-06","相手幅　細川",null,null,null,"211"]
[null,null,null,null,null,null,null,null,null,null,null,null,null,null,null,null,null,null,null,null,null,null,null,null,"MCP","2703","N","T","3E4B",null,2703,"3857699",1,null,1140,4000,1,1,2,null,null,"2025-11-06","４０００ｍ余剰分",null,null,null,"211"]
[null,null,null,null,null,null,null,null,null,null,null,null,null,null,null,null,null,null,null,null,null,null,null,null,"MCP","2703","N","T","3E4B",null,2703,"3857716",1,null,760,4000,1,1,1,null,null,"2025-11-06","４０００ｍ余剰分",null,null,null,"211"]
[]
[null,null,null,null,null,null,null,null,null,"9041A3","9041A3",null,null,25,null,1960,null,null,45000,null,null,1,null,null,"MCP","2703","N","T","3E4B",null,2703,"3857954",1,null,740,8000,1,5,10,null,null,"2025-11-06",null,null,null,null,"211"]
[null,null,null,null,null,null,null,null,null,null,null,null,null,null,null,null,null,null,null,null,null,null,null,null,"MCP","2703","N","T","3E4B",null,2703,"3857529",1,null,1180,8000,1,5,10,null,null,"2025-11-06","相手幅　細川",null,null,null,"211"]
[null,null,null,null,null,null,null,null,null,null,null,null,null,null,null,null,null,null,null,null,null,null,null,null,"MCP","2703","N","T","3E4B",null,2703,"3857705",1,null,1180,4000,1,1,10,null,null,"2025-11-06","４０００ｍ余剰分",null,null,null,"211"]
[null,null,null,null,null,null,null,null,null,null,null,null,null,null,null,null,null,null,null,null,null,null,null,null,"MCP","2703","N","T","3E4B",null,2703,"3857715",1,null,740,4000,1,1,3,null,null,"2025-11-06","４０００ｍ余剰分",null,null,null,"211"]
[]
[null,null,null,null,null,null,null,null,null,"9041A3","9041A3",null,null,25,null,1960,null,null,45000,null,null,1,null,null,"MCP","2703","N","T","3E4B",null,2703,"3858021",1,null,960,8000,1,10,95,null,null,"2025-11-06","ＤＦ４／６指定　細川",null,null,null,"211"]
[null,null,null,null,null,null,null,null,null,null,null,null,null,null,null,null,null,null,null,null,null,null,null,null,"MCP","2703","N","T","3E4B",null,2703,"3857586",1,null,960,4000,1,2,40,null,null,"2025-11-06","４０００ｍ余剰分",null,null,null,"211"]
[]
[null,null,null,null,null,null,null,null,null,"9041A3","9041A3",null,null,25,null,1980,null,null,45000,null,null,1,null,null,"MCP","2703","N","T","3E4B",null,2703,"3857782",1,null,780,8000,1,5,20,null,null,"2025-11-06","凸版　ＤＦ４・６指定　優先希望！",null,null,null,"214"]
[null,null,null,null,null,null,null,null,null,null,null,null,null,null,null,null,null,null,null,null,null,null,null,null,"MCP","2703","N","T","3E4B",null,2703,"3857528",1,null,1160,8000,1,5,5,null,null,"2025-11-06","相手幅　細川",null,null,null,"211"]
[null,null,null,null,null,null,null,null,null,null,null,null,null,null,null,null,null,null,null,null,null,null,null,null,"MCP","2703","N","T","3E4B",null,2703,"3857700",1,null,1160,4000,1,1,1,null,null,"2025-11-06","４０００ｍ余剰分",null,null,null,"211"]
[null,null,null,null,null,null,null,null,null,null,null,null,null,null,null,null,null,null,null,null,null,null,null,null,"MCP","2703","N","T","3E4B",null,2703,"3857751",1,null,780,4000,1,1,4,null,null,"2025-11-06","４０００ｍ余剰分",null,null,null,"214"]
[]
[null,null,null,null,null,null,null,null,null,"9041A3","9041A3",null,null,25,null,2000,null,null,45000,null,null,1,null,null,"MCP","2703","N","T","3E4B",null,2703,"3857494",1,null,980,4000,1,11,10,null,null,"2025-11-06","相手幅　ユーザーフリー",null,null,null,"213"]
[null,null,null,null,null,null,null,null,null,null,null,null,null,null,null,null,null,null,null,null,null,null,null,null,"MCP","2703","N","T","3E4B",null,2703,"3857504",1,null,980,4000,1,11,10,null,null,"2025-11-06","相手幅　細川",null,null,null,"211"]
[]
[null,null,null,null,null,null,null,null,null,"9041A3","9041A3",null,null,25,null,2000,null,null,45000,null,null,1,null,null,"MCP","2703","N","T","3E4B",null,2703,"3857783",1,null,780,8000,1,5,20,null,null,"2025-11-06","凸版　ＤＦ４・６指定　優先希望！",null,null,null,"214"]
[null,null,null,null,null,null,null,null,null,null,null,null,null,null,null,null,null,null,null,null,null,null,null,null,"MCP","2703","N","T","3E4B",null,2703,"3857530",1,null,1180,8000,1,5,10,null,null,"2025-11-06","相手幅　細川",null,null,null,"211"]
[null,null,null,null,null,null,null,null,null,null,null,null,null,null,null,null,null,null,null,null,null,null,null,null,"MCP","2703","N","T","3E4B",null,2703,"3857706",1,null,1180,4000,1,1,10,null,null,"2025-11-06","４０００ｍ余剰分",null,null,null,"211"]
[null,null,null,null,null,null,null,null,null,null,null,null,null,null,null,null,null,null,null,null,null,null,null,null,"MCP","2703","N","T","3E4B",null,2703,"3857752",1,null,780,4000,1,1,4,null,null,"2025-11-06","４０００ｍ余剰分",null,null,null,"214"]
[]
[null,null,null,null,null,null,null,null,null,"9041A3","9041A3",null,null,25,null,1960,null,null,45000,null,null,1,null,null,"MCP","2703","N","T","3E4B",null,2703,"3858022",1,null,960,8000,1,5,95,null,null,"2025-11-06","ＤＦ４／６指定　細川",null,null,null,"211"]
[null,null,null,null,null,null,null,null,null,null,null,null,null,null,null,null,null,null,null,null,null,null,null,null,"MCP","2703","N","T","3E4B",null,2703,"3858038",1,null,960,8000,1,5,100,null,null,"2025-11-06","細川",null,null,null,"211"]
[null,null,null,null,null,null,null,null,null,null,null,null,null,null,null,null,null,null,null,null,null,null,null,null,"MCP","2703","N","T","3E4B",null,2703,"3857587",1,null,960,4000,1,2,40,null,null,"2025-11-06","４０００ｍ余剰分",null,null,null,"211"]

{"sheet":"枠図","index":39,"n_rows":40,"n_cols":3,"rows_kept":40,"cut":false,"hidden":false,"merged":[]}
[]
[]
[]
[]
[]
[]
[]
[]
[]
[]
[]
[]
[]
[]
[]
[]
[]
[]
[]
[]
[]
[]
[]
[]
[]
[]
[]
[]
[]
[]
[]
[]
[]
[]
[]
[]
[]
[]
[]
[null,null,"１５セット用"]

{"sheet":"Sheet3","index":40,"n_rows":0,"n_cols":0,"rows_kept":0,"cut":false,"hidden":false,"merged":[]}