Workbook

Sheet 登録一覧
B3: 条件登録NO | C3: 品番 | D3: ﾀｲﾌﾟ名称 | E3: 製品仕様 | F3: 幅 | G3: 長さ | H3: 原反品名 | I3: 原反幅 | J3: 原反長さ | K3: ﾕｰｻﾞｰ
B4: 1 | C4: 38 | D4: BKE(09) | E4: 直出し | F4: 1030・1050 | G4: 8400 | H4: XD500P | I4: 1037・1057 | J4: 8450～8500 | K4: ﾊﾟﾅｯｸ
B5: 2 | C5: 38 | D5: BKE(D) | E5: 直出し | F5: 1030・1050 | G5: 8400 | H5: T100 | I5: 1040・1060 | J5: 8500 | K5: ﾊﾟﾅｯｸ
B6: 3 | C6: 38 | D6: BKE(D) | E6: 直出し | F6: 1330 | G6: 6000 | H6: T100 | I6: 1340・1335 | J6: 12300 | K6: ﾊﾟﾅｯｸ
B7: 4 | C7: 75 | D7: BKR(U)K | E7: ｽﾘｯﾄ | F7: 1095 | G7: 2000 | H7: ｴﾝﾌﾞﾚｯﾄSD | I7: 1100 | J7: 2200 | K7: きもと
B8: 5 | C8: 25 | D8: BK(U) | E8: ｽﾘｯﾄ | F8: 890 | G8: 3800 | H8: ｴﾝﾌﾞﾚｯﾄS | I8: 900・970 | J8: 12500 | K8: 積水化学
B9: 6 | C9: 25 | D9: BK(U)K | E9: 半直 | F9: 1040 | G9: 6000 | H9: ｴﾝﾌﾞﾚｯﾄS | I9: 1045 | J9: 12400 | K9: きもと
B10: 7 | C10: 25 | D10: BK(U)K | E10: 半直 | F10: 1080 | G10: 6000 | H10: ｴﾝﾌﾞﾚｯﾄS | I10: 1085 | J10: 12400 | K10: きもと
B11: 8 | C11: 38 | D11: ＢＫ（Ｓ） | E11: ｽﾘｯﾄ | F11: 1590 | G11: 4000 | H11: S28 | I11: 1600 | J11: 8000 | K11: ﾘﾝﾃｯｸ
B12: 9 | C12: 25 | D12: BX8ARX | E12: ｽﾘｯﾄ | F12: 740 | G12: 2100 | H12: R75X | I12: 1520 | J12: 13000 | K12: 利昌工業
B13: 10 | C13: 75 | D13: BX8A(X) | E13: 直出し | F13: 1330 | G13: 4000 | H13: XD500P | I13: 1335 | J13: 4200 | K13: 巴川製紙所
B14: 11 | C14: 125 | D14: MDA(R) | E14: 直出し | F14: 1100 | G14: 3400 | H14: XD1NB1 | I14: 1105 | J14: 3450 | K14: 日東尾道
B15: 12 | C15: 31 | D15: MFA(CR) | E15: ｽﾘｯﾄ | F15: 440 | G15: 6500 | H15: R56 | I15: 1370 | J15: 13450 | K15: ﾊﾟﾅｿﾆｯｸAIS
B16: 13 | C16: 100 | D16: MFA(S) | E16: ｽﾘｯﾄ | F16: 330 | G16: 550 | H16: S28 | I16: 1020 | J16: 2400～3200 | K16: 東海電気/京ｾﾗ
B17: 14 | C17: 100 | D17: MFA(S) | E17: ｽﾘｯﾄ | F17: 450 | G17: 750 | H17: S28 | I17: 1020 | J17: 2400～3200 | K17: 東海電気
B18: 15 | C18: 125 | D18: MFA(S) | E18: ｽﾘｯﾄ | F18: 150 | G18: 200 | H18: S28 | I18: 1250 | J18: 2000 | K18: 東海電気
B19: 16 | C19: 188 | D19: MFA(S) | E19: 直出し | F19: 1130 | G19: 1620 | H19: S28M | I19: 1134 | J19: 1800 | K19: 東海電気
B20: 17 | C20: 188 | D20: MFA(S) | E20: ｽﾘｯﾄ | F20: 1220 | G20: 800 | H20: S28M | I20: 1230 | J20: 2000 | K20: ＮＧＫ
B21: 18 | C21: 75 | D21: MFA(S) | E21: ｽﾘｯﾄ | F21: 220 | G21: 1200 | H21: S28-PER | I21: 1310 | J21: 4000 | K21: 真田KOA/MARUWA
B22: 19 | C22: 25 | D22: SY08 | E22: ｽﾘｯﾄ | F22: 500 | G22: 4000 | H22: ｴﾝﾌﾞﾚｯﾄS | I22: 1045～1085 | J22: 12400～12600 | K22: ﾅｶﾞｾｹﾑﾃｯｸ
B23: 20 | C23: 38 | D23: TX011(01) | F23: 476.666 | G23: 1216.666 | I23: 1200 | J23: 8000
B24: 21 | C24: 25 | D24: WZ | E24: 直出し・ｽﾘｯﾄ | F24: 1030 | G24: 12000 | H24: R75X | I24: 1035or1040 | J24: 12300 | K24: ﾊﾟﾅｯｸ
B25: 22 | C25: 25 | D25: WZ | E25: 直出し | F25: 1,050/1,100 | G25: 6000・8000・12000・12600 | H25: R75X | I25: 1,060/1,105 | J25: 12200～16300 | K25: ﾊﾟﾅｯｸ
B26: 23 | C26: 25 | D26: WZ | E26: 直出し、半直、ｽﾘｯﾄ | F26: 1320 | G26: 6000・8000・12600 | H26: R75X | I26: 1330 | J26: 12200～16300 | K26: ﾊﾟﾅｯｸ
B27: 24 | C27: 25 | D27: WZ | E27: 直出し | F27: 1240 | G27: 11200 | H27: R75X | I27: 1245 | J27: 11600～12300 | K27: 東山ﾌｨﾙﾑ
B28: 25 | C28: 25・38 | D28: WZ(E) | E28: 半直出し | F28: 1040 | G28: 6000 | H28: E5001 | I28: 1045 | J28: 12400 | K28: 古河電工
B29: 26 | C29: 25・38 | D29: WZ(E) | E29: 半直出し | F29: 1240 | G29: 6000 | H29: E5001 | I29: 1245 | J29: 12400 | K29: 古河電工
B30: 27 | C30: 25・38 | D30: WZ(E) | E30: 直出し | F30: 1240 | G30: 6000 | H30: E5001 | I30: 1245 | J30: 6200 | K30: 古河電工
B31: 28 | C31: 25 | D31: WZ(RX) | E31: ｽﾘｯﾄ | F31: 540・640・780 | G31: 2000 | H31: R75X | I31: 13231337 | J31: 12,300、16,300 | K31: 三栄産業
B32: 29 | C32: 38 | D32: WZ(RX) | E32: 半直出し | F32: 1130 | G32: 6000 | H32: R75X | I32: 1135 | J32: 12200 | K32: 東洋包材
B33: 30 | C33: 38 | D33: WZ(RX) | E33: 半直出し | F33: 1430 | G33: 6000 | H33: R75X | I33: 1430 | J33: 6000 | K33: ﾘｹﾝﾃｸﾉｽ
B34: 31 | C34: 125 | D34: WZ(S) | E34: 直出し | F34: 1225 | G34: 1800 | H34: S28(M) | I34: 1230 | J34: 2000 | K34: 東洋機材
B35: 32 | C35: 38 | D35: WZ(S) | E35: 直出し | F35: 1000 | G35: 8000 | H35: S28 | I35: 1005 | J35: 8000 | K35: ﾘﾝﾃｯｸ
B36: 33 | C36: 38 | D36: WZ(S) | E36: 直出し | F36: 1410 | G36: 8000 | H36: S28 | I36: 1415 | J36: 8000 | K36: ﾘﾝﾃｯｸ
B37: 34 | C37: 25 | D37: WZ(U) | E37: ｽﾘｯﾄMK-1 | F37: 1150 | G37: 4200 | H37: ｴﾝﾌﾞﾚｯﾄS | I37: 1155 | J37: 12600 | K37: 日榮新化
B38: 35 | C38: 25 | D38: WZ(U) | E38: ｽﾘｯﾄMK-1 | F38: 1420 | G38: 12600 | H38: ｴﾝﾌﾞﾚｯﾄS | I38: 1425 | J38: 12600 | K38: 日榮新化
B39: 36 | C39: 25 | D39: WZ(U) | E39: 半直出し | F39: 1410 | G39: 6000 | H39: ｴﾝﾌﾞﾚｯﾄS | I39: 1415 | J39: 12300 | K39: 藤産業
B40: 37 | D40: WZ(U) | E40: 直出し | F40: 1320 | G40: 8000 | H40: ｴﾝﾌﾞﾚｯﾄS | I40: 1325 | J40: 8200 | K40: 新ﾀｯｸ化成
B41: 38 | C41: 25・38 | D41: WZ(T) | E41: 直出し | F41: 1320 | G41: 8000 | H41: T70A | I41: 1325 | J41: 8200 | K41: 東洋包材・ﾘｹﾝﾃｸﾉｽ
B42: 39 | C42: 25 | D42: BKE(RX) | E42: ｽﾘｯﾄ | F42: 1330 | G42: 6000 | H42: R75XK | I42: 1337 | J42: 12300 | K42: 巴川製紙所
...

Sheet ﾃﾞｰﾀ
B2: 条件登録NO | C2: 品番 | D2: ﾀｲﾌﾟ名称 | E2: 製品仕様 | F2: 幅 | G2: 長さ
B3: 1 | C3: 38 | D3: BKE(09) | E3: 直出し | F3: 1030・1050 | G3: 8400
B4: 2 | C4: 38 | D4: BKE(D) | E4: 直出し | F4: 1030・1050 | G4: 8400
B5: 3 | C5: 38 | D5: BKE(D) | E5: 直出し | F5: 1330 | G5: 6000
B6: 4 | C6: 75 | D6: BKR(U)K | E6: ｽﾘｯﾄ | F6: 1095 | G6: 2000
B7: 5 | C7: 25 | D7: BK(U) | E7: ｽﾘｯﾄ | F7: 890 | G7: 3800
B8: 6 | C8: 25 | D8: BK(U)K | E8: 半直 | F8: 1040 | G8: 6000
B9: 7 | C9: 25 | D9: BK(U)K | E9: 半直 | F9: 1080 | G9: 6000
B10: 8 | C10: 38 | D10: ＢＫ（Ｓ） | E10: ｽﾘｯﾄ | F10: 1590 | G10: 4000
B11: 9 | C11: 25 | D11: BX8ARX | E11: ｽﾘｯﾄ | F11: 740 | G11: 2100
B12: 10 | C12: 75 | D12: BX8A(X) | E12: 直出し | F12: 1330 | G12: 4000
B13: 11 | C13: 125 | D13: MDA(R) | E13: 直出し | F13: 1100 | G13: 3400
B14: 12 | C14: 31 | D14: MFA(CR) | E14: ｽﾘｯﾄ | F14: 440 | G14: 6500
B15: 13 | C15: 100 | D15: MFA(S) | E15: ｽﾘｯﾄ | F15: 330 | G15: 550
B16: 14 | C16: 100 | D16: MFA(S) | E16: ｽﾘｯﾄ | F16: 450 | G16: 750
... B20: 18 | C20: 75 | D20: MFA(S) | E20: ｽﾘｯﾄ | F20: 220 | G20: 1200
B21: 19 | C21: 25 | D21: SY08 | F21: 500 | G21: 4000
B22: 20 | C22: 38 | D22: TX011(01) | F22: 476.666 | G22: 1216.666
B23: 21 | C23: 25 | D23: WZ | E23: 直出し・ｽﾘｯﾄ | F23: 1030 | G23: 12000
B24: 22 | C24: 25 | D24: WZ | E24: 直出し | F24: 1,050/1,100 | G24: 6000・8000・12000・12600
B25: 23 | C25: 25 | D25: WZ | E25: 直出し | F25: 1320 | G25: 6000・8000・12600
B26: 24 | C26: 25 | D26: WZ | E26: 直出し | F26: 1240 | G26: 11200
B27: 25 | C27: 25・38 | D27: WZ(E) | E27: 半直出し | F27: 1040 | G27: 6000
B28: 26 | C28: 25・38 | D28: WZ(E) | E28: 半直出し | F28: 1240 | G28: 6000
B29: 27 | C29: 25・38 | D29: WZ(E) | E29: 直出し | F29: 1240 | G29: 6000
B30: 28 | C30: 25 | D30: WZ(RX) | E30: ｽﾘｯﾄ | F30: 540・640・780 | G30: 2000
B31: 29 | C31: 38 | D31: WZ(RX) | E31: 半直出し | F31: 1130 | G31: 6000
B32: 30 | C32: 38 | D32: WZ(RX) | E32: 半直出し | F32: 1430 | G32: 6000
B33: 31 | C33: 125 | D33: WZ(S) | E33: 直出し | F33: 1225 | G33: 1800
B34: 32 | C34: 38 | D34: WZ(S) | E34: 直出し | F34: 1000 | G34: 8000
B35: 33 | C35: 38 | D35: WZ(S) | E35: 直出し | F35: 1410 | G35: 8000
B36: 34 | C36: 25 | D36: WZ(U) | E36: ｽﾘｯﾄMK-1 | F36: 1150 | G36: 4200
B37: 35 | C37: 25 | D37: WZ(U) | E37: ｽﾘｯﾄMK-1 | F37: 1420 | G37: 12600
B38: 36 | C38: 25 | D38: WZ(U) | E38: 半直出し | F38: 1410 | G38: 6000
B39: 37 | D39: WZ(U) | E39: 直出し | F39: 1320 | G39: 8000
B40: 38 | C40: 38 | D40: WZ(T) | E40: 直出し | F40: 1320 | G40: 8000
B41: 39 | C41: 25 | D41: BKE(RX) | E41: ｽﾘｯﾄ | F41: 1330 | G41: 6000
B42: 40 | C42: 38 | D42: BKE(RX) | E42: ｽﾘｯﾄ | F42: 1330 | G42: 6000
B43: 41 | C43: 38 | D43: BKE(RX) | E43: 半直出し | F43: 1330 | G43: 6000
B44: 42 | C44: 38 | D44: BKE(RX) | E44: ｽﾘｯﾄ | F44: 1480 | G44: 6000
...

Sheet 条件規格
B1: 規格登録NO | C1: 1 | D1: 2 | E1: 3 | F1: 4 | G1: 5 | H1: 6 | I1: 7 | J1: 8 | K1: 9 | L1: 10 | M1: 11 | N1: 12 | O1: 13 | P1: 14 | Q1: 15 | R1: 16 | S1: 17 | T1: 18 | U1: 19 | V1: 20 | W1: 21 | X1: 22 | Y1: 23 | Z1: 24 | AA1: 25 | AB1: 26 | AC1: 27 | AD1: 28 | AE1: 29 | AF1: 30 | AG1: 31 | AH1: 32 | AI1: 33 | AJ1: 34 | AK1: 35 | AL1: 36 | AM1: 37 | AN1: 38 | AO1: 39 | AP1: 40 | AQ1: 41 | AR1: 42 | AS1: 43 | AT1: 44 | AU1: 45 | AV1: 46 | AW1: 47 | AX1: 48 | AY1: 49 | AZ1: 50 | BA1: 51 | BB1: 52 | BC1: 53 | BD1: 54 | BE1: 55 | BF1: 56 | BG1: 57 | BH1: 58 | BI1: 59 | BJ1: 60 | BK1: 61 | BL1: 62 | BM1: 63 | BN1: 64 | BO1: 65 | BP1: 66 | BQ1: 67 | BR1: 68 | BS1: 69 | BT1: 70 | BU1: 71 | BV1: 72 | BW1: 73 | BX1: 74 | BY1: 75 | BZ1: 76 | CA1: 77 | CB1: 78 | CC1: 79 | CD1: 80 | CE1: 81 | CF1: 82 | CG1: 83 | CH1: 84 | CI1: 85 | CJ1: 86 | CK1: 87 | CL1: 88 | CM1: 89 | CN1: 90 | CO1: 91 | CP1: 92 | CQ1: 93 | CR1: 94 | CS1: 95 | CT1: 96 | CU1: 97 | CV1: 98 | CW1: 99 | CX1: 100
A2: 項目1 | B2: 品番 | C2: 38 | D2: 38 | E2: 38 | F2: 75 | G2: 25 | H2: 25 | I2: 25 | J2: 38 | K2: 25 | L2: 75 | M2: 125 | N2: 31 | O2: 100 | P2: 100 | Q2: 125 | R2: 188 | S2: 188 | T2: 75 | U2: 25 | V2: 38 | W2: 25 | X2: 25 | Y2: 25 | Z2: 25 | AA2: 25・38 | AB2: 25・38 | AC2: 25・38 | AD2: 25 | AE2: 38 | AF2: 38 | AG2: 125 | AH2: 38 | AI2: 38 | AJ2: 25 | AK2: 25 | AL2: 25 | AN2: 38 | AO2: 25 | AP2: 38 | AQ2: 38 | AR2: 38 | AS2: 38 | AU2: 38 | AV2: 38 | AW2: 38 | AX2: 38 | AY2: 38 | AZ2: 38 | BA2: 125 | BB2: 38 | BC2: 38 | BD2: 38 | BE2: 38 | BF2: 38 | BG2: 38 | BH2: 38 | BI2: 38 | BJ2: 38 | BK2: 75 | BL2: 25 | BM2: 25 | BN2: 50 | BO2: 38 | BP2: 75 | BQ2: 75 | BS2: 188 | BT2: 75 | BU2: 50 | BV2: 188 | BW2: 38 | BX2: 38 | BY2: 38 | BZ2: 75 | CA2: 38 | CB2: 50 | CC2: 50 | CD2: 50 | CE2: 75 | CF2: 50 | CG2: 38 | CH2: 75 | CI2: 38 | CJ2: 38 | CK2: 25 | CL2: 25 | CM2: 25 | CN2: 25 | CO2: 75 | CP2: 75 | CQ2: 38
A3: 項目2 | B3: ﾀｲﾌﾟ名称 | C3: BKE(09) | D3: BKE(D) | E3: BKE(D) | F3: BKR(U)K | G3: BK(U) | H3: BK(U)K | I3: BK(U)K | J3: ＢＫ（Ｓ） | K3: BX8ARX | L3: BX8A(X) | M3: MDA(R) | N3: MFA(CR) | O3: MFA(S) | P3: MFA(S) | Q3: MFA(S) | R3: MFA(S) | S3: MFA(S) | T3: MFA(S) | U3: SY08 | V3: TX011(01) | W3: WZ | X3: WZ | Y3: WZ | Z3: WZ | AA3: WZ(E) | AB3: WZ(E) | AC3: WZ(E) | AD3: WZ(RX) | AE3: WZ(RX) | AF3: WZ(RX) | AG3: WZ(S) | AH3: WZ(S) | AI3: WZ(S) | AJ3: WZ(U) | AK3: WZ(U) | AL3: WZ(U) | AM3: WZ(U) | AN3: WZ(T) | AO3: BKE(RX) | AP3: BKE(RX) | AQ3: BKE(RX) | AR3: BKE(RX) | AS3: BKE(RX) | AT3: BKE(RX) | AU3: BX8ARX | AV3: BX8ARX | AW3: BX8(R) | AX3: MD(A)(R) | AY3: MD(A)(R) | AZ3: MD(A)(R) | BA3: MDA(R) | BB3: MDA(RX) | BC3: MDA(RX) | BD3: MDA(PRF) | BE3: KMDA(CPR) | BF3: MDA(PRF) | BG3: MDA(PRF)L | BH3: MDA(PRF)L/（CPRF)L | BI3: MDA(PRF)L/（CPRF)L | BJ3: MDA(PRF)・（CPRF) | BK3: BX8AD | BL3: WZ(RX) | BM3: WZ(RX) | BN3: MDA(S) | BO3: BX8ARX | BP3: BX8AS | BQ3: BX9AS | BS3: PJ10106 | BT3: HP2(U) | BU3: MDA(S) | BV3: MFA(S) | BW3: MFA(RX) | BX3: BX8ARX | BY3: BX8ARX | BZ3: BX8A(X) | CA3: BX9ARX | CB3: SY（19） | CC3: SY（18）BS | CD3: TK07 | CE3: BX8A(X) | CF3: SY(09） | CG3: BKE(09) | CH3: BX8A(X) | CI3: MD(A)(R) | CJ3: BX8ARX | CK3: WZ(U) | CL3: WZ(U) | CM3: WZ(RX) | CN3: WZ(RX) | CO3: BX8A(37) | CP3: BX8A(14) | CQ3: BKE(09)
A4: 項目3 | B4: 製品仕様 | C4: 直出し | D4: 直出し | E4: 直出し | F4: ｽﾘｯﾄ | G4: ｽﾘｯﾄ | J4: ｽﾘｯﾄ | W4: 直出し・ｽﾘｯﾄ | X4: 直出し | Y4: 直出し | Z4: 直出し | AA4: 半直出し | AB4: 半直出し | AC4: 直出し | AD4: ｽﾘｯﾄ | AE4: 半直出し | AF4: 半直出し | AG4: 直出し | AH4: 直出し | AI4: 直出し | AJ4: ｽﾘｯﾄMK-1 | AK4: ｽﾘｯﾄMK-1 | AL4: 半直出し | AM4: 直出し | AN4: 直出し | AO4: ｽﾘｯﾄ | AP4: ｽﾘｯﾄ | AQ4: 半直出し | AR4: ｽﾘｯﾄ | AS4: ｽﾘｯﾄ | AT4: 直出し | BH4: 直出し | BI4: 直出し | BJ4: 直出し | BU4: 直出し | BV4: ｽﾘｯﾄ行き | BW4: ｽﾘｯﾄ | BX4: ｽﾘｯﾄ | BY4: ｽﾘｯﾄ | BZ4: 直出し | CA4: ｽﾘｯﾄ | CB4: ｽﾘｯﾄ | CC4: ｽﾘｯﾄ | CD4: 直出し | CE4: ｽﾘｯﾄまたは直出し | CF4: ｽﾘｯﾄ | CG4: 直出し | CH4: 直出し | CI4: ｽﾘｯﾄ | CK4: 直出し | CL4: 半直出し | CM4: ｽﾘｯﾄ | CN4: ｽﾘｯﾄ | CO4: 直出し | CP4: 直出し | CQ4: 半直出し
A5: 項目4 | B5: 幅 | C5: 1030・1050 | D5: 1030・1050 | E5: 1330 | F5: 1095 | G5: 890 | H5: 1040 | I5: 1080 | J5: 1590 | K5: 740 | L5: 1330 | M5: 1100 | N5: 440 | O5: 330 | P5: 450 | Q5: 150 | R5: 1130 | S5: 1220 | T5: 220 | U5: 500 | V5: 476.666 | W5: 1030 | X5: 1,050/1,100 | Y5: 1320 | Z5: 1240 | AA5: 1040 | AB5: 1240 | AC5: 1240 | AD5: 540・640・780 | AE5: 1130 | AF5: 1430 | AG5: 1225 | AH5: 1000 | AI5: 1410 | AJ5: 1150 | AK5: 1420 | AL5: 1410 | AM5: 1320 | AN5: 1320 | AO5: 1330 | AP5: 1330 | AQ5: 1330 | AR5: 1480 | AS5: 1580 | AT5: 1030 | AU5: 1330 | AV5: 1330 | AW5: 1330 | AX5: 1020 | AY5: 1250 | AZ5: 1580 | BA5: 1585 | BB5: 315 | BC5: 415 | BD5: 1140 | BE5: 1320 | BF5: 1320 | BG5: 1485 | BH5: 1325 | BI5: 1485 | BJ5: 1480 | BK5: 1330 | BL5: 1180 | BM5: 1180 | BN5: 1300 | BO5: 500 | BP5: 1040 | BQ5: 1040 | BS5: 1580 | BT5: 360 | BU5: 1300 | BV5: 1600 | BX5: 1580 | BY5: 1480 | BZ5: 1330 | CA5: 1330 | CB5: 540または1100 | CC5: 540または1000 | CD5: 1100～1500 | CE5: 1100 | CF5: 1080 | CG5: 1360 | CH5: 1100 | CI5: 750 | CJ5: 1330 | CK5: 1150 | CL5: 1150 | CM5: 450 | CN5: 1040 | CO5: 1050 | CP5: 1300 | CQ5: 1330
A6: 項目5 | B6: 長さ | C6: 8400 | D6: 8400 | E6: 6000 | F6: 2000 | G6: 3800 | H6: 6000 | I6: 6000 | J6: 4000 | K6: 2100 | L6: 4000 | M6: 3400 | N6: 6500 | O6: 550 | P6: 750 | Q6: 200 | R6: 1620 | S6: 800 | T6: 1200 | U6: 4000 | V6: 1216.666 | W6: 12000 | X6: 6000・8000・12000・12600 | Y6: 6000・8000・12600 | Z6: 11200 | AA6: 6000 | AB6: 6000 | AC6: 6000 | AD6: 2000 | AE6: 6000 | AF6: 6000 | AG6: 1800 | AH6: 8000 | AI6: 8000 | AJ6: 4200 | AK6: 12400 | AL6: 6000 | AM6: 8000 | AN6: 8000 | AO6: 6000 | AP6: 6000 | AQ6: 6000 | AR6: 6000 | AS6: 6000 | AT6: 8400 | AU6: 6000 | AV6: 6000 | AW6: 12000 | AX6: 6000 | AY6: 6000 | AZ6: 4000 | BA6: 3400 | BB6: 1950 | BC6: 1950 | BD6: 12000 | BE6: 12000 | BF6: 12000 | BG6: 12000 | BH6: 12000 | BI6: 12000 | BJ6: 12000 | BK6: 5000 | BL6: 2000 | BM6: 2000 | BN6: 6200 | BO6: 4000 | BP6: 4000 | BQ6: 4000 | BS6: 1000 | BT6: 900 | BU6: 3900 | BV6: 800 | BX6: 6000 | BY6: 6000 | BZ6: 4000 | CA6: 6000 | CB6: 300または500 | CC6: 500または700 | CD6: 4000 | CE6: 2000or4000 | CF6: 4000 | CG6: 8400 | CH6: 4000 | CI6: 6000 | CJ6: 6000 | CK6: 12400 | CL6: 6000 | CM6: 4000 | CN6: 12300 | CO6: 5800 | CP6: 4300 | CQ6: 6000
A7: 項目6 | B7: 原反品名 | C7: XD500P | D7: T100 | E7: T100 | F7: ｴﾝﾌﾞﾚｯﾄSD | G7: ｴﾝﾌﾞﾚｯﾄS | J7: S28 | W7: R75X | X7: R75X | Y7: R75X | Z7: R75X | AA7: E5001 | AB7: E5001 | AC7: E5001 | AD7: R75X | AE7: R75X | AF7: R75X | AG7: S28(M) | AH7: S28 | AI7: S28 | AJ7: ｴﾝﾌﾞﾚｯﾄS | AK7: ｴﾝﾌﾞﾚｯﾄS | AL7: ｴﾝﾌﾞﾚｯﾄS | AM7: ｴﾝﾌﾞﾚｯﾄS | AN7: T70A | AO7: R75XK | AP7: R75XK | AQ7: R75X | AR7: R75XK | AS7: R75XK | AT7: R75X | AX7: R75X | AY7: R75X | AZ7: R75X | BA7: XD1NB1 | BB7: R75X | BC7: R75X | BD7: XF60R | BE7: XF60RC | BF7: XF60R | BG7: XF60R | BH7: XF60R | BI7: XF60R | BJ7: XF60R | BK7: T100 | BL7: R75X | BM7: R75X | BU7: S28M | BV7: S28M | BW7: R75X | BX7: R75XK | BY7: R75XK | BZ7: XD500P | CA7: R75X | CB7: X42G | CC7: E20 | CD7: XD500P | CE7: XD500P | CF7: XD500P | CG7: XD500P | CH7: XD500P | CI7: R75X | CK7: ｴﾝﾌﾞﾚｯﾄS | CL7: ｴﾝﾌﾞﾚｯﾄS | CM7: R75X | CN7: R75X | CO7: RM1Z又はRM10 | CP7: S28（S27) | CQ7: XD500P
A8: 項目7 | B8: 原反幅 | C8: 1037・1057 | D8: 1040・1050 | E8: 1340・1335 | F8: 1100 | G8: 900・970 | H8: 1045 | I8: 1085 | J8: 1600 | K8: 1520 | L8: 1335 | M8: 1105 | N8: 1370 | O8: 1020 | P8: 1020 | Q8: 1250 | R8: 1134 | S8: 1230 | T8: 1310 | U8: 1045 | V8: 1200 | W8: 1035 | X8: 1,060/1,105 | Y8: 1330 | Z8: 1245 | AA8: 1045 | AB8: 1245 | AC8: 1245 | AD8: 1323 | AE8: 1135 | AF8: 1430 | AG8: 1230 | AH8: 1005 | AI8: 1415 | AJ8: 1155 | AK8: 1245 | AL8: 1415 | AM8: 1325 | AN8: 1325 | AO8: 1337 | AP8: 1335 | AQ8: 1335 | AR8: 1485 | AS8: 1585 | AT8: 1035 | AU8: 1335 | AV8: 1335 | AW8: 1335 | AX8: 1025 | AY8: 1255 | AZ8: 1585 | BA8: 1590 | BB8: 1305 | BC8: 1305 | BD8: 1160 | BE8: 1336 | BF8: 1335 | BG8: 1496 | BH8: 1336 | BI8: 1496 | BJ8: 1496 | BK8: 1335 | BL8: 1323 | BM8: 1323 | BN8: 1310 | BO8: 1025 | BP8: 1045 | BQ8: 1045 | BS8: 1600 | BT8: 1230 | BU8: 1310 | BV8: 1610 | BW8: 1270 | BX8: 1585 | BY8: 1485 | BZ8: 1335 | CA8: 1335 | CB8: 1100 | CC8: 1000 | CD8: 1100～1500 | CE8: 1110 | CF8: 1110 | CG8: 1367 | CH8: 1110 | CI8: 1550 | CJ8: 1335 | CK8: 1155 | CL8: 1155 | CM8: 1040 | CN8: 1040 | CO8: 1060 | CP8: 1315 | CQ8: 1337
A9: 項目8 | B9: 原反長さ | C9: 8500 | D9: 8500 | E9: 12300 | F9: 2200 | G9: 12500 | H9: 12400 | I9: 12400 | J9: 8000 | K9: 13000 | L9: 4200 | M9: 3450 | N9: 13450 | O9: 2400 | P9: 2400 | Q9: 2000 | R9: 1800 | S9: 1800 | T9: 4000 | U9: 12400 | V9: 8000 | W9: 12300 | X9: 12200～16300 | Y9: 12200～16300 | Z9: 11600～12300 | AA9: 12400 | AB9: 12400 | AC9: 6200 | AD9: 16300 | AE9: 12200 | AF9: 6000 | AG9: 2000 | AH9: 8000 | AI9: 8000 | AJ9: 12600 | AK9: 12600 | AL9: 12300 | AM9: 8200 | AN9: 8200 | AO9: 12300 | AP9: 12200 | AQ9: 12200 | AR9: 12200 | AS9: 12200 | AT9: 8500 | AU9: 12200 | AV9: 12200 | AW9: 12200 | AX9: 12200 | AY9: 12400 | AZ9: 12200 | BA9: 3450 | BB9: 12200 | BC9: 12200 | BD9: 12050 | BE9: 12050 | BF9: 12050 | BG9: 12050 | BH9: 12050 | BI9: 12050 | BJ9: 12050 | BK9: 5200 | BL9: 16300 | BM9: 16300 | BN9: 6400 | BO9: 12200 | BP9: 4200 | BQ9: 4200 | BS9: 2000 | BT9: 2100 | BU9: 4000 | BV9: 2000 | BW9: 12400 | BX9: 12200 | BY9: 12200 | BZ9: 4200 | CA9: 12200 | CB9: 1300 | CC9: 2000 | CD9: 4200 | CE9: 4200or4300 | CF9: 4000～6500 | CG9: 8450～8500 | CH9: 4200 | CI9: 12200 | CJ9: 12200 | CK9: 12600 | CL9: 12600 | CM9: 12300 | CN9: 12300 | CO9: 6000 | CP9: 4500 | CQ9: 12200
A10: 項目9 | B10: ﾕｰｻﾞｰ | C10: ﾊﾟﾅｯｸ | D10: ﾊﾟﾅｯｸ | E10: ﾊﾟﾅｯｸ | F10: きもと | G10: 積水化学 | H10: きもと | I10: きもと | J10: ﾘﾝﾃｯｸ | K10: 利昌工業 | L10: 巴川 | M10: 日東尾道 | N10: ﾊﾟﾅｿﾆｯｸAIS | O10: 下田工業/京ｾﾗ | P10: 下田工業 | Q10: 下田工業 | R10: 下田工業 | S10: ＮＧＫ | T10: 真田KOA/MARUWA | W10: ﾊﾟﾅｯｸ | X10: ﾊﾟﾅｯｸ | Y10: ﾊﾟﾅｯｸ | Z10: 東山ﾌｨﾙﾑ | AA10: 古河電工 | AB10: 古河電工 | AC10: 古河電工 | AD10: 三栄産業 | AE10: 東洋包材 | AF10: ﾘｹﾝﾃｸﾉｽ | AG10: 東洋機材 | AH10: ﾘﾝﾃｯｸ | AI10: ﾘﾝﾃｯｸ | AJ10: 日栄化工 | AK10: 日栄化工 | AL10: 藤産業 | AM10: 新ﾀｯｸ化成 | AN10: 東洋包材・ﾘｹﾝﾃｸﾉｽ | AO10: 巴川製紙所 | AP10: 巴川製紙所 | AQ10: ﾊﾟﾅｯｸ | AR10: 巴川製紙所 | AS10: 巴川製紙所 | AT10: ﾊﾟﾅｯｸ | AU10: 巴川製紙所 | AV10: ﾊﾟﾅｯｸ | AW10: 日東豊橋 | AX10: 日東電工豊橋 | AY10: 日東電工豊橋 | AZ10: 日東電工豊橋 | BA10: 日東電工 | BB10: 住友ﾍﾞｰｸﾗｲﾄ | BC10: 住友ﾍﾞｰｸﾗｲﾄ | BD10: 日東電工 | BE10: 日東電工 | BF10: 日東電工 | BG10: 日東電工 | BH10: 日東電工 | BI10: 日東電工 | BJ10: 日東電工 | BK10: ﾊﾟﾅｯｸ | BL10: 日栄化工 | BM10: 三栄産業 | BN10: 日東豊橋 | BP10: 日栄加工 | BQ10: 日栄加工 | BU10: 京ｾﾗ | BV10: 下田工業 | BX10: 巴川製紙所 | BY10: 巴川製紙所 | BZ10: 巴川製紙所 | CA10: 巴川製紙所 | CB10: ﾆｯｶﾝ高萩 | CC10: 栗村化学（ﾕﾙﾁｮﾝ） | CD10: 日栄加工 | CE10: 新ﾀｯｸ化成 | CF10: 栗村化学 | CG10: ﾊﾟﾅｯｸ | CH10: 日栄化工 | CI10: 日東電工豊橋 | CJ10: 住友電工ﾌﾟﾘﾝﾄｻｰｷｯﾄ | CK10: フジコピアン | CL10: 藤産業 | CM10: 日東電工亀山 | CN10: 日東亀山 | CO10: 日東豊橋 | CP10: ﾄﾖｰｹﾑ | CQ10: ﾊﾟﾅｯｸ
A11: 項目10 | B11: 更新日 | C11: - | D11: - | E11: - | F11: - | G11: - | H11: - | I11: - | J11: - | K11: - | L11: - | M11: - | N11: - | O11: - | P11: - | Q11: - | R11: - | S11: - | T11: - | U11: - | V11: - | W11: - | X11: - | Y11: - | Z11: - | AA11: - | AB11: - | AC11: - | AD11: - | AE11: - | AF11: - | AG11: - | AH11: - | AI11: - | AJ11: - | AK11: - | AL11: - | AM11: - | AN11: - | AO11: - | AP11: - | AQ11: - | AR11: - | AS11: - | AT11: - | AU11: - | AV11: - | AW11: - | AX11: - | AY11: - | AZ11: - | BA11: - | BB11: - | BC11: - | BD11: - | BE11: - | BF11: - | BG11: - | BH11: - | BI11: - | BJ11: - | BK11: - | BL11: - | BM11: - | BN11: - | BO11: - | BP11: - | BQ11: - | BR11: - | BS11: - | BT11: - | BU11: - | BV11: - | BW11: - | BX11: - | BY11: - | BZ11: - | CA11: - | CB11: 20191106 | CC11: 20191106 | CD11: 20191107 | CE11: 20191106 | CF11: 20191119 | CG11: 20191203 | CH11: 20200115 | CI11: 20200128 | CJ11: 20200420 | CK11: 20201106 | CL11: 20210119 | CM11: 20210924 | CN11: NEW20220314 | CO11: 20220628 | CP11: 20221013 | CQ11: NEW20230210
A12: ﾊﾟﾗ1 | B12: 原反ｺｰﾄ面 | C12: - | D12: - | E12: - | F12: - | G12: - | H12: - | I12: - | J12: - | K12: - | L12: - | M12: - | N12: - | O12: - | P12: - | Q12: - | R12: - | S12: - | T12: - | U12: - | V12: - | W12: - | X12: - | Y12: - | Z12: - | AA12: - | AB12: - | AC12: - | AD12: - | AE12: - | AF12: - | AG12: - | AH12: - | AI12: - | AJ12: - | AK12: - | AL12: - | AM12: - | AN12: - | AO12: - | AP12: - | AQ12: - | AR12: - | AS12: - | AT12: - | AU12: - | AV12: - | AW12: - | AX12: - | AY12: - | AZ12: - | BA12: - | BB12: - | BC12: - | BD12: - | BE12: - | BF12: - | BG12: - | BH12: - | BI12: - | BJ12: - | BK12: - | BL12: - | BM12: - | BN12: - | BO12: - | BP12: - | BQ12: - | BR12: - | BS12: - | BT12: - | BU12: - | BV12: - | BW12: - | BX12: - | BY12: - | BZ12: - | CA12: - | CB12: - | CC12: - | CD12: - | CE12: - | CF12: - | CG12: - | CH12: - | CI12: - | CJ12: - | CK12: - | CL12: - | CM12: - | CN12: - | CO12: - | CP12: - | CQ12: -
A13: ﾊﾟﾗ2 | B13: 塗工速度(m/min) | C13: ±5 | D13: ±5 | E13: ±5 | F13: ±5 | G13: ±5 | H13: ±5 | I13: ±5 | J13: ±5 | K13: ±5 | L13: ±5 | M13: ±5 | N13: ±5 | O13: ±5 | P13: ±5 | Q13: ±5 | R13: ±5 | S13: ±5 | T13: ±5 | U13: ±5 | V13: ±5 | W13: ±5 | X13: ±5 | Y13: ±5 | Z13: ±5 | AA13: ±5 | AB13: ±5 | AC13: ±5 | AD13: ±5 | AE13: ±5 | AF13: ±5 | AG13: ±5 | AH13: ±5 | AI13: ±5 | AJ13: ±5 | AK13: ±5 | AL13: ±5 | AM13: ±5 | AN13: ±5 | AO13: ±5 | AP13: ±5 | AQ13: ±5 | AR13: ±5 | AS13: ±5 | AT13: ±5 | AU13: ±5 | AV13: ±5 | AW13: ±5 | AX13: ±5 | AY13: ±5 | AZ13: ±5 | BA13: ±5 | BB13: ±5 | BC13: ±5 | BD13: ±5 | BE13: ±5 | BF13: ±5 | BG13: ±5 | BH13: ±5 | BI13: ±5 | BJ13: ±5 | BK13: ±5 | BL13: ±5 | BM13: ±5 | BN13: ±5 | BO13: ±5 | BP13: ±5 | BQ13: ±5 | BR13: ±5 | BS13: ±5 | BT13: ±5 | BU13: ±5 | BV13: ±5 | BW13: ±5 | BX13: ±5 | BY13: ±5 | BZ13: ±5 | CA13: ±5 | CB13: ±5 | CC13: ±5 | CD13: ±5 | CE13: ±5 | CF13: ±5 | CG13: ±5 | CH13: ±5 | CI13: ±5 | CJ13: ±5 | CK13: ±5 | CL13: ±5 | CM13: ±5 | CN13: ±5 | CO13: ±5 | CP13: ±5 | CQ13: ±5
A14: ﾊﾟﾗ3 | B14: 繰出方向 | C14: - | D14: - | E14: - | F14: - | G14: - | H14: - | I14: - | J14: - | K14: - | L14: - | M14: - | N14: - | O14: - | P14: - | Q14: - | R14: - | S14: - | T14: - | U14: - | V14: - | W14: - | X14: - | Y14: - | Z14: - | AA14: - | AB14: - | AC14: - | AD14: - | AE14: - | AF14: - | AG14: - | AH14: - | AI14: - | AJ14: - | AK14: - | AL14: - | AM14: - | AN14: - | AO14: - | AP14: - | AQ14: - | AR14: - | AS14: - | AT14: - | AU14: - | AV14: - | AW14: - | AX14: - | AY14: - | AZ14: - | BA14: - | BB14: - | BC14: - | BD14: - | BE14: - | BF14: - | BG14: - | BH14: - | BI14: - | BJ14: - | BK14: - | BL14: - | BM14: - | BN14: - | BO14: - | BP14: - | BQ14: - | BR14: - | BS14: - | BT14: - | BU14: - | BV14: - | BW14: - | BX14: - | BY14: - | BZ14: - | CA14: - | CB14: - | CC14: - | CD14: - | CE14: - | CF14: - | CG14: - | CH14: - | CI14: - | CJ14: - | CK14: - | CL14: - | CM14: - | CN14: - | CO14: - | CP14: - | CQ14: -
A15: ﾊﾟﾗ4 | B15: 繰出ｽﾌﾟﾗｲｽﾓｰﾄﾞ | C15: - | D15: - | E15: - | F15: - | G15: - | H15: - | I15: - | J15: - | K15: - | L15: - | M15: - | N15: - | O15: - | P15: - | Q15: - | R15: - | S15: - | T15: - | U15: - | V15: - | W15: - | X15: - | Y15: - | Z15: - | AA15: - | AB15: - | AC15: - | AD15: - | AE15: - | AF15: - | AG15: - | AH15: - | AI15: - | AJ15: - | AK15: - | AL15: - | AM15: - | AN15: - | AO15: - | AP15: - | AQ15: - | AR15: - | AS15: - | AT15: - | AU15: - | AV15: - | AW15: - | AX15: - | AY15: - | AZ15: - | BA15: - | BB15: - | BC15: - | BD15: - | BE15: - | BF15: - | BG15: - | BH15: - | BI15: - | BJ15: - | BK15: - | BL15: - | BM15: - | BN15: - | BO15: - | BP15: - | BQ15: - | BR15: - | BS15: - | BT15: - | BU15: - | BV15: - | BW15: - | BX15: - | BY15: - | BZ15: - | CA15: - | CB15: - | CC15: - | CD15: - | CE15: - | CF15: - | CG15: - | CH15: - | CI15: - | CJ15: - | CK15: - | CL15: - | CM15: - | CN15: - | CO15: - | CP15: - | CQ15: -
A16: ﾊﾟﾗ5 | B16: 繰出ｳｪﾌﾞｸﾘｰﾅｰ | C16: - | D16: - | E16: - | F16: - | G16: - | H16: - | I16: - | J16: - | K16: - | L16: - | M16: - | N16: - | O16: - | P16: - | Q16: - | R16: - | S16: - | T16: - | U16: - | V16: - | W16: - | X16: - | Y16: - | Z16: - | AA16: - | AB16: - | AC16: - | AD16: - | AE16: - | AF16: - | AG16: - | AH16: - | AI16: - | AJ16: - | AK16: - | AL16: - | AM16: - | AN16: - | AO16: - | AP16: - | AQ16: - | AR16: - | AS16: - | AT16: - | AU16: - | AV16: - | AW16: - | AX16: - | AY16: - | AZ16: - | BA16: - | BB16: - | BC16: - | BD16: - | BE16: - | BF16: - | BG16: - | BH16: - | BI16: - | BJ16: - | BK16: - | BL16: - | BM16: - | BN16: - | BO16: - | BP16: - | BQ16: - | BR16: - | BS16: - | BT16: - | BU16: - | BV16: - | BW16: - | BX16: - | BY16: - | BZ16: - | CA16: - | CB16: - | CC16: - | CD16: - | CE16: - | CF16: - | CG16: - | CH16: - | CI16: - | CJ16: - | CK16: - | CL16: - | CM16: - | CN16: - | CO16: - | CP16: - | CQ16: -
A17: ﾊﾟﾗ6 | B17: 繰出粘着ﾛｰﾙ | C17: - | D17: - | E17: - | F17: - | G17: - | H17: - | I17: - | J17: - | K17: - | L17: - | M17: - | N17: - | O17: - | P17: - | Q17: - | R17: - | S17: - | T17: - | U17: - | V17: - | W17: - | X17: - | Y17: - | Z17: - | AA17: - | AB17: - | AC17: - | AD17: - | AE17: - | AF17: - | AG17: - | AH17: - | AI17: - | AJ17: - | AK17: - | AL17: - | AM17: - | AN17: - | AO17: - | AP17: - | AQ17: - | AR17: - | AS17: - | AT17: - | AU17: - | AV17: - | AW17: - | AX17: - | AY17: - | AZ17: - | BA17: - | BB17: - | BC17: - | BD17: - | BE17: - | BF17: - | BG17: - | BH17: - | BI17: - | BJ17: - | BK17: - | BL17: - | BM17: - | BN17: - | BO17: - | BP17: - | BQ17: - | BR17: - | BS17: - | BT17: - | BU17: - | BV17: - | BW17: - | BX17: - | BY17: - | BZ17: - | CA17: - | CB17: - | CC17: - | CD17: - | CE17: - | CF17: - | CG17: - | CH17: - | CI17: - | CJ17: - | CK17: - | CL17: - | CM17: - | CN17: - | CO17: - | CP17: - | CQ17: -
A18: ﾊﾟﾗ7 | B18: 高密度除電直流電極＋(KV)) | C18: ±1 | D18: ±1 | E18: ±1 | F18: ±1 | G18: ±1 | H18: ±1 | I18: ±1 | J18: ±1 | K18: ±1 | L18: ±1 | M18: ±1 | N18: ±1 | O18: ±1 | P18: ±1 | Q18: ±1 | R18: ±1 | S18: ±1 | T18: ±1 | U18: ±1 | V18: ±1 | W18: ±1 | X18: ±1 | Y18: ±1 | Z18: ±1 | AA18: ±1 | AB18: ±1 | AC18: ±1 | AD18: ±1 | AE18: ±1 | AF18: ±1 | AG18: ±1 | AH18: ±1 | AI18: ±1 | AJ18: ±1 | AK18: ±1 | AL18: ±1 | AM18: ±1 | AN18: ±1 | AO18: ±1 | AP18: ±1 | AQ18: ±1 | AR18: ±1 | AS18: ±1 | AT18: ±1 | AU18: ±1 | AV18: ±1 | AW18: ±1 | AX18: ±1 | AY18: ±1 | AZ18: ±1 | BA18: ±1 | BB18: ±1 | BC18: ±1 | BD18: ±1 | BE18: ±1 | BF18: ±1 | BG18: ±1 | BH18: ±1 | BI18: ±1 | BJ18: ±1 | BK18: ±1 | BL18: ±1 | BM18: ±1 | BN18: ±1 | BO18: ±1 | BP18: ±1 | BQ18: ±1 | BR18: ±1 | BS18: ±1 | BT18: ±1 | BU18: ±1 | BV18: ±1 | BW18: ±1 | BX18: ±1 | BY18: ±1 | BZ18: ±1 | CA18: ±1 | CB18: ±1 | CC18: ±1 | CD18: ±1 | CE18: ±1 | CF18: ±1 | CG18: ±1 | CH18: ±1 | CI18: ±1 | CJ18: ±1 | CK18: ±1 | CL18: ±1 | CM18: ±1 | CN18: ±1 | CO18: ±1 | CP18: ±1 | CQ18: ±1
A19: ﾊﾟﾗ8 | B19: 高密度除電直流電極－(KV)) | C19: ±1 | D19: ±1 | E19: ±1 | F19: ±1 | G19: ±1 | H19: ±1 | I19: ±1 | J19: ±1 | K19: ±1 | L19: ±1 | M19: ±1 | N19: ±1 | O19: ±1 | P19: ±1 | Q19: ±1 | R19: ±1 | S19: ±1 | T19: ±1 | U19: ±1 | V19: ±1 | W19: ±1 | X19: ±1 | Y19: ±1 | Z19: ±1 | AA19: ±1 | AB19: ±1 | AC19: ±1 | AD19: ±1 | AE19: ±1 | AF19: ±1 | AG19: ±1 | AH19: ±1 | AI19: ±1 | AJ19: ±1 | AK19: ±1 | AL19: ±1 | AM19: ±1 | AN19: ±1 | AO19: ±1 | AP19: ±1 | AQ19: ±1 | AR19: ±1 | AS19: ±1 | AT19: ±1 | AU19: ±1 | AV19: ±1 | AW19: ±1 | AX19: ±1 | AY19: ±1 | AZ19: ±1 | BA19: ±1 | BB19: ±1 | BC19: ±1 | BD19: ±1 | BE19: ±1 | BF19: ±1 | BG19: ±1 | BH19: ±1 | BI19: ±1 | BJ19: ±1 | BK19: ±1 | BL19: ±1 | BM19: ±1 | BN19: ±1 | BO19: ±1 | BP19: ±1 | BQ19: ±1 | BR19: ±1 | BS19: ±1 | BT19: ±1 | BU19: ±1 | BV19: ±1 | BW19: ±1 | BX19: ±1 | BY19: ±1 | BZ19: ±1 | CA19: ±1 | CB19: ±1 | CC19: ±1 | CD19: ±1 | CE19: ±1 | CF19: ±1 | CG19: ±1 | CH19: ±1 | CI19: ±1 | CJ19: ±1 | CK19: ±1 | CL19: ±1 | CM19: ±1 | CN19: ±1 | CO19: ±1 | CP19: ±1 | CQ19: ±1
A20: ﾊﾟﾗ9 | B20: 高密度除電交流電極(KV)) | C20: ±1 | D20: ±1 | E20: ±1 | F20: ±1 | G20: ±1 | H20: ±1 | I20: ±1 | J20: ±1 | K20: ±1 | L20: ±1 | M20: ±1 | N20: ±1 | O20: ±1 | P20: ±1 | Q20: ±1 | R20: ±1 | S20: ±1 | T20: ±1 | U20: ±1 | V20: ±1 | W20: ±1 | X20: ±1 | Y20: ±1 | Z20: ±1 | AA20: ±1 | AB20: ±1 | AC20: ±1 | AD20: ±1 | AE20: ±1 | AF20: ±1 | AG20: ±1 | AH20: ±1 | AI20: ±1 | AJ20: ±1 | AK20: ±1 | AL20: ±1 | AM20: ±1 | AN20: ±1 | AO20: ±1 | AP20: ±1 | AQ20: ±1 | AR20: ±1 | AS20: ±1 | AT20: ±1 | AU20: ±1 | AV20: ±1 | AW20: ±1 | AX20: ±1 | AY20: ±1 | AZ20: ±1 | BA20: ±1 | BB20: ±1 | BC20: ±1 | BD20: ±1 | BE20: ±1 | BF20: ±1 | BG20: ±1 | BH20: ±1 | BI20: ±1 | BJ20: ±1 | BK20: ±1 | BL20: ±1 | BM20: ±1 | BN20: ±1 | BO20: ±1 | BP20: ±1 | BQ20: ±1 | BR20: ±1 | BS20: ±1 | BT20: ±1 | BU20: ±1 | BV20: ±1 | BW20: ±1 | BX20: ±1 | BY20: ±1 | BZ20: ±1 | CA20: ±1 | CB20: ±1 | CC20: ±1 | CD20: ±1 | CE20: ±1 | CF20: ±1 | CG20: ±1 | CH20: ±1 | CI20: ±1 | CJ20: ±1 | CK20: ±1 | CL20: ±1 | CM20: ±1 | CN20: ±1 | CO20: ±1 | CP20: ±1 | CQ20: ±1
A21: ﾊﾟﾗ10 | B21: 高密度除電ｲｵﾝ吸引電極(KV)) | C21: ±1 | D21: ±1 | E21: ±1 | F21: ±1 | G21: ±1 | H21: ±1 | I21: ±1 | J21: ±1 | K21: ±1 | L21: ±1 | M21: ±1 | N21: ±1 | O21: ±1 | P21: ±1 | Q21: ±1 | R21: ±1 | S21: ±1 | T21: ±1 | U21: ±1 | V21: ±1 | W21: ±1 | X21: ±1 | Y21: ±1 | Z21: ±1 | AA21: ±1 | AB21: ±1 | AC21: ±1 | AD21: ±1 | AE21: ±1 | AF21: ±1 | AG21: ±1 | AH21: ±1 | AI21: ±1 | AJ21: ±1 | AK21: ±1 | AL21: ±1 | AM21: ±1 | AN21: ±1 | AO21: ±1 | AP21: ±1 | AQ21: ±1 | AR21: ±1 | AS21: ±1 | AT21: ±1 | AU21: ±1 | AV21: ±1 | AW21: ±1 | AX21: ±1 | AY21: ±1 | AZ21: ±1 | BA21: ±1 | BB21: ±1 | BC21: ±1 | BD21: ±1 | BE21: ±1 | BF21: ±1 | BG21: ±1 | BH21: ±1 | BI21: ±1 | BJ21: ±1 | BK21: ±1 | BL21: ±1 | BM21: ±1 | BN21: ±1 | BO21: ±1 | BP21: ±1 | BQ21: ±1 | BR21: ±1 | BS21: ±1 | BT21: ±1 | BU21: ±1 | BV21: ±1 | BW21: ±1 | BX21: ±1 | BY21: ±1 | BZ21: ±1 | CA21: ±1 | CB21: ±1 | CC21: ±1 | CD21: ±1 | CE21: ±1 | CF21: ±1 | CG21: ±1 | CH21: ±1 | CI21: ±1 | CJ21: ±1 | CK21: ±1 | CL21: ±1 | CM21: ±1 | CN21: ±1 | CO21: ±1 | CP21: ±1 | CQ21: ±1
A22: ﾊﾟﾗ11 | B22: No.1ｺｰﾀｰﾓｰﾄﾞ | C22: - | D22: - | E22: - | F22: - | G22: - | H22: - | I22: - | J22: - | K22: - | L22: - | M22: - | N22: - | O22: - | P22: - | Q22: - | R22: - | S22: - | T22: - | U22: - | V22: - | W22: - | X22: - | Y22: - | Z22: - | AA22: - | AB22: - | AC22: - | AD22: - | AE22: - | AF22: - | AG22: - | AH22: - | AI22: - | AJ22: - | AK22: - | AL22: - | AM22: - | AN22: - | AO22: - | AP22: - | AQ22: - | AR22: - | AS22: - | AT22: - | AU22: - | AV22: - | AW22: - | AX22: - | AY22: - | AZ22: - | BA22: - | BB22: - | BC22: - | BD22: - | BE22: - | BF22: - | BG22: - | BH22: - | BI22: - | BJ22: - | BK22: - | BL22: - | BM22: - | BN22: - | BO22: - | BP22: - | BQ22: - | BR22: - | BS22: - | BT22: - | BU22: - | BV22: - | BW22: - | BX22: - | BY22: - | BZ22: - | CA22: - | CB22: - | CC22: - | CD22: - | CE22: - | CF22: - | CG22: - | CH22: - | CI22: - | CJ22: - | CK22: - | CL22: - | CM22: - | CN22: - | CO22: - | CP22: - | CQ22: -
A23: ﾊﾟﾗ12 | B23: No.1ｺｰﾀｰ制御 | C23: - | D23: - | E23: - | F23: - | G23: - | H23: - | I23: - | J23: - | K23: - | L23: - | M23: - | N23: - | O23: - | P23: - | Q23: - | R23: - | S23: - | T23: - | U23: - | V23: - | W23: - | X23: - | Y23: - | Z23: - | AA23: - | AB23: - | AC23: - | AD23: - | AE23: - | AF23: - | AG23: - | AH23: - | AI23: - | AJ23: - | AK23: - | AL23: - | AM23: - | AN23: - | AO23: - | AP23: - | AQ23: - | AR23: - | AS23: - | AT23: - | AU23: - | AV23: - | AW23: - | AX23: - | AY23: - | AZ23: - | BA23: - | BB23: - | BC23: - | BD23: - | BE23: - | BF23: - | BG23: - | BH23: - | BI23: - | BJ23: - | BK23: - | BL23: - | BM23: - | BN23: - | BO23: - | BP23: - | BQ23: - | BR23: - | BS23: - | BT23: - | BU23: - | BV23: - | BW23: - | BX23: - | BY23: - | BZ23: - | CA23: - | CB23: - | CC23: - | CD23: - | CE23: - | CF23: - | CG23: - | CH23: - | CI23: - | CJ23: - | CK23: - | CL23: - | CM23: - | CN23: - | CO23: - | CP23: - | CQ23: -
... A33: ﾊﾟﾗ22 | B33: No.1循環ﾎﾟﾝﾌﾟ 設定 | C33: - | D33: - | E33: - | F33: - | G33: - | H33: - | I33: - | J33: - | K33: - | L33: - | M33: - | N33: - | O33: - | P33: - | Q33: - | R33: - | S33: - | T33: - | U33: - | V33: - | W33: - | X33: - | Y33: - | Z33: - | AA33: - | AB33: - | AC33: - | AD33: - | AE33: - | AF33: - | AG33: - | AH33: - | AI33: - | AJ33: - | AK33: - | AL33: - | AM33: - | AN33: - | AO33: - | AP33: - | AQ33: - | AR33: - | AS33: - | AT33: - | AU33: - | AV33: - | AW33: - | AX33: - | AY33: - | AZ33: - | BA33: - | BB33: - | BC33: - | BD33: - | BE33: - | BF33: - | BG33: - | BH33: - | BI33: - | BJ33: - | BK33: - | BL33: - | BM33: - | BN33: - | BO33: - | BP33: - | BQ33: - | BR33: - | BS33: - | BT33: - | BU33: - | BV33: - | BW33: - | BX33: - | BY33: - | BZ33: - | CA33: - | CB33: - | CC33: - | CD33: - | CE33: - | CF33: - | CG33: - | CH33: - | CI33: - | CJ33: - | CK33: - | CL33: - | CM33: - | CN33: - | CO33: - | CP33: - | CQ33: -
A34: ﾊﾟﾗ23 | B34: No.1循環ﾎﾟﾝﾌﾟ 回転数(rpm) | C34: ±100 | D34: ±100 | E34: ±100 | F34: - | G34: - | H34: - | I34: - | J34: - | K34: ±100 | L34: ±100 | M34: ±100 | N34: ±100 | O34: ±100 | P34: ±100 | Q34: ±100 | R34: ±100 | S34: ±100 | T34: ±100 | W34: - | X34: - | Y34: - | Z34: - | AA34: - | AB34: - | AC34: - | AD34: - | AE34: - | AF34: - | AG34: - | AH34: - | AI34: - | AJ34: - | AK34: - | AL34: - | AM34: - | AN34: - | BL34: - | BM34: - | BR34: ±100 | BU34: ±100 | BV34: ±100 | BW34: ±100 | BX34: ±100 | BY34: ±100 | BZ34: ±100 | CA34: ±100 | CB34: ±100 | CC34: ±100 | CE34: ±100 | CF34: ±100 | CG34: ±100 | CH34: ±100 | CK34: - | CL34: - | CM34: - | CN34: - | CO34: ±100 | CQ34: ±100
A35: ﾊﾟﾗ24 | B35: No.2ｺｰﾀｰﾓｰﾄﾞ | C35: - | D35: - | E35: - | F35: - | G35: - | H35: - | I35: - | J35: - | K35: - | L35: - | M35: - | N35: - | O35: - | P35: - | Q35: - | R35: - | S35: - | T35: - | U35: - | V35: - | W35: - | X35: - | Y35: - | Z35: - | AA35: - | AB35: - | AC35: - | AD35: - | AE35: - | AF35: - | AG35: - | AH35: - | AI35: - | AJ35: - | AK35: - | AL35: - | AM35: - | AN35: - | AO35: - | AP35: - | AQ35: - | AR35: - | AS35: - | AT35: - | AU35: - | AV35: - | AW35: - | AX35: - | AY35: - | AZ35: - | BA35: - | BB35: - | BC35: - | BD35: - | BE35: - | BF35: - | BG35: - | BH35: - | BI35: - | BJ35: - | BK35: - | BL35: - | BM35: - | BN35: - | BO35: - | BP35: - | BQ35: - | BR35: - | BS35: - | BT35: - | BU35: - | BV35: - | BW35: - | BX35: - | BY35: - | BZ35: - | CA35: - | CB35: - | CC35: - | CD35: - | CE35: - | CF35: - | CG35: - | CH35: - | CI35: - | CJ35: - | CK35: - | CL35: - | CM35: - | CN35: - | CO35: - | CP35: - | CQ35: -
A36: ﾊﾟﾗ25 | B36: No.2ｺｰﾀｰ制御 | C36: - | D36: - | E36: - | F36: - | G36: - | H36: - | I36: - | J36: - | K36: - | L36: - | M36: - | N36: - | O36: - | P36: - | Q36: - | R36: - | S36: - | T36: - | U36: - | V36: - | W36: - | X36: - | Y36: - | Z36: - | AA36: - | AB36: - | AC36: - | AD36: - | AE36: - | AF36: - | AG36: - | AH36: - | AI36: - | AJ36: - | AK36: - | AL36: - | AM36: - | AN36: - | AO36: - | AP36: - | AQ36: - | AR36: - | AS36: - | AT36: - | AU36: - | AV36: - | AW36: - | AX36: - | AY36: - | AZ36: - | BA36: - | BB36: - | BC36: - | BD36: - | BE36: - | BF36: - | BG36: - | BH36: - | BI36: - | BJ36: - | BK36: - | BL36: - | BM36: - | BN36: - | BO36: - | BP36: - | BQ36: - | BR36: - | BS36: - | BT36: - | BU36: - | BV36: - | BW36: - | BX36: - | BY36: - | BZ36: - | CA36: - | CB36: - | CC36: - | CD36: - | CE36: - | CF36: - | CG36: - | CH36: - | CI36: - | CJ36: - | CK36: - | CL36: - | CM36: - | CN36: - | CO36: - | CP36: - | CQ36: -
A37: ﾊﾟﾗ26 | B37: No.2ｸﾞﾗﾋﾞｱﾛｰﾙ 種類 | C37: - | D37: - | E37: - | F37: - | G37: - | H37: - | I37: - | J37: - | K37: - | L37: - | M37: - | N37: - | O37: - | P37: - | Q37: - | R37: - | S37: - | T37: - | U37: - | V37: - | W37: - | X37: - | Y37: - | Z37: - | AA37: - | AB37: - | AC37: - | AD37: - | AE37: - | AF37: - | AG37: - | AH37: - | AI37: - | AJ37: - | AK37: - | AL37: - | AM37: - | AN37: - | AO37: - | AP37: - | AQ37: - | AR37: - | AS37: - | AT37: - | AU37: - | AV37: - | AW37: - | AX37: - | AY37: - | AZ37: - | BA37: - | BB37: - | BC37: - | BD37: - | BE37: - | BF37: - | BG37: - | BH37: - | BI37: - | BJ37: - | BK37: - | BL37: - | BM37: - | BN37: - | BO37: - | BP37: - | BQ37: - | BR37: - | BS37: - | BT37: - | BU37: - | BV37: - | BW37: - | BX37: - | BY37: - | BZ37: - | CA37: - | CB37: - | CC37: - | CD37: - | CE37: - | CF37: - | CG37: - | CH37: - | CI37: - | CJ37: - | CK37: - | CL37: - | CM37: - | CN37: - | CO37: - | CP37: - | CQ37: -
A38: ﾊﾟﾗ27 | B38: No.2ｸﾞﾗﾋﾞｱﾛｰﾙ 速度(m/min) | C38: ±10 | D38: ±10 | E38: ±10 | F38: ±10 | G38: ±10 | H38: ±10 | I38: ±10 | J38: ±10 | K38: ±10 | L38: ±10 | M38: ±10 | N38: ±10 | O38: ±10 | P38: ±10 | Q38: ±10 | R38: ±10 | S38: ±10 | T38: ±10 | U38: ±10 | V38: ±10 | W38: ±10 | X38: ±10 | Y38: ±10 | Z38: ±10 | AA38: ±10 | AB38: ±10 | AC38: ±10 | AD38: ±10 | AE38: ±10 | AF38: ±10 | AG38: ±10 | AH38: ±10 | AI38: ±10 | AJ38: ±10 | AK38: ±10 | AL38: ±10 | AM38: ±10 | AN38: ±10 | AO38: ±10 | AP38: ±10 | AQ38: ±10 | AR38: ±10 | AS38: ±10 | AT38: ±10 | AU38: ±10 | AV38: ±10 | AW38: ±10 | AX38: ±10 | AY38: ±10 | AZ38: ±10 | BA38: ±10 | BB38: ±10 | BC38: ±10 | BD38: ±10 | BE38: ±10 | BF38: ±10 | BG38: ±10 | BH38: ±10 | BI38: ±10 | BJ38: ±10 | BK38: ±10 | BL38: ±10 | BM38: ±10 | BN38: ±10 | BO38: ±10 | BP38: ±10 | BQ38: ±10 | BR38: ±10 | BS38: ±10 | BT38: ±10 | BU38: ±10 | BV38: ±10 | BW38: ±10 | BX38: ±10 | BY38: ±10 | BZ38: ±10 | CA38: ±10 | CB38: ±10 | CC38: ±10 | CD38: ±10 | CE38: ±10 | CF38: ±10 | CG38: ±10 | CH38: ±10 | CI38: ±10 | CJ38: ±10 | CK38: ±10 | CL38: ±10 | CM38: ±10 | CN38: ±10 | CO38: ±10 | CP38: ±10 | CQ38: ±10
A39: ﾊﾟﾗ28 | B39: No.2ｲﾝﾌﾟﾚｯｼｮﾝﾛｰﾙ 種類 | C39: - | D39: - | E39: - | F39: - | G39: - | H39: - | I39: - | J39: - | K39: - | L39: - | M39: - | N39: - | O39: - | P39: - | Q39: - | R39: - | S39: - | T39: - | U39: - | V39: - | W39: - | X39: - | Y39: - | Z39: - | AA39: - | AB39: - | AC39: - | AD39: - | AE39: - | AF39: - | AG39: - | AH39: - | AI39: - | AJ39: - | AK39: - | AL39: - | AM39: - | AN39: - | AO39: - | AP39: - | AQ39: - | AR39: - | AS39: - | AT39: - | AU39: - | AV39: - | AW39: - | AX39: - | AY39: - | AZ39: - | BA39: - | BB39: - | BC39: - | BD39: - | BE39: - | BF39: - | BG39: - | BH39: - | BI39: - | BJ39: - | BK39: - | BL39: - | BM39: - | BN39: - | BO39: - | BP39: - | BQ39: - | BR39: - | BS39: - | BT39: - | BU39: - | BV39: - | BW39: - | BX39: - | BY39: - | BZ39: - | CA39: - | CB39: - | CC39: - | CD39: - | CE39: - | CF39: - | CG39: - | CH39: - | CI39: - | CJ39: - | CK39: - | CL39: - | CM39: - | CN39: - | CO39: - | CP39: - | CQ39: -
A40: ﾊﾟﾗ29 | B40: No.2ｲﾝﾌﾟﾚｯｼｮﾝﾛｰﾙ 圧力(Mpa) | C40: ±0.1 | D40: ±0.1 | E40: ±0.1 | F40: ±0.1 | G40: ±0.1 | H40: ±0.1 | I40: ±0.1 | J40: ±0.1 | K40: ±0.1 | L40: ±0.1 | M40: ±0.1 | N40: ±0.1 | O40: ±0.1 | P40: ±0.1 | Q40: ±0.1 | R40: ±0.1 | S40: ±0.1 | T40: ±0.1 | U40: ±0.1 | V40: ±0.1 | W40: ±0.1 | X40: ±0.1 | Y40: ±0.1 | Z40: ±0.1 | AA40: ±0.1 | AB40: ±0.1 | AC40: ±0.1 | AD40: ±0.1 | AE40: ±0.1 | AF40: ±0.1 | AG40: ±0.1 | AH40: ±0.1 | AI40: ±0.1 | AJ40: ±0.1 | AK40: ±0.1 | AL40: ±0.1 | AM40: ±0.1 | AN40: ±0.1 | AO40: ±0.1 | AP40: ±0.1 | AQ40: ±0.1 | AR40: ±0.1 | AS40: ±0.1 | AT40: ±0.1 | AU40: ±0.1 | AV40: ±0.1 | AW40: ±0.1 | AX40: ±0.1 | AY40: ±0.1 | AZ40: ±0.1 | BA40: ±0.1 | BB40: ±0.1 | BC40: ±0.1 | BD40: ±0.1 | BE40: ±0.1 | BF40: ±0.1 | BG40: ±0.1 | BH40: ±0.1 | BI40: ±0.1 | BJ40: ±0.1 | BK40: ±0.1 | BL40: ±0.1 | BM40: ±0.1 | BN40: ±0.1 | BO40: ±0.1 | BP40: ±0.1 | BQ40: ±0.1 | BR40: ±0.1 | BS40: ±0.1 | BT40: ±0.1 | BU40: ±0.1 | BV40: ±0.1 | BW40: ±0.1 | BX40: ±0.1 | BY40: ±0.1 | BZ40: ±0.1 | CA40: ±0.1 | CB40: ±0.1 | CC40: ±0.1 | CD40: ±0.1 | CE40: ±0.1 | CF40: ±0.1 | CG40: ±0.1 | CH40: ±0.1 | CI40: ±0.1 | CJ40: ±0.1 | CK40: ±0.1 | CL40: ±0.1 | CM40: ±0.1 | CN40: ±0.1 | CO40: ±0.1 | CP40: ±0.1 | CQ40: ±0.1
A41: ﾊﾟﾗ30 | B41: No.2ﾀﾞｳﾝﾛｰﾙ高さ(mm) | C41: - | D41: - | E41: - | F41: - | G41: - | H41: - | I41: - | J41: - | K41: - | L41: - | M41: - | N41: - | O41: - | P41: - | Q41: - | R41: - | S41: - | T41: - | U41: - | V41: - | W41: - | X41: - | Y41: - | Z41: - | AA41: - | AB41: - | AC41: - | AD41: - | AE41: - | AF41: - | AG41: - | AH41: - | AI41: - | AJ41: - | AK41: - | AL41: - | AM41: - | AN41: - | AO41: - | AP41: - | AQ41: - | AR41: - | AS41: - | AT41: - | AU41: - | AV41: - | AW41: - | AX41: - | AY41: - | AZ41: - | BA41: - | BB41: - | BC41: - | BD41: - | BE41: - | BF41: - | BG41: - | BH41: - | BI41: - | BJ41: - | BK41: - | BL41: - | BM41: - | BN41: - | BO41: - | BP41: - | BQ41: - | BR41: - | BS41: - | BT41: - | BU41: - | BV41: - | BW41: - | BX41: - | BY41: - | BZ41: - | CA41: - | CB41: - | CC41: - | CD41: - | CE41: - | CF41: - | CG41: - | CH41: - | CI41: - | CJ41: - | CK41: - | CL41: - | CM41: - | CN41: - | CO41: - | CP41: - | CQ41: -
A42: ﾊﾟﾗ31 | B42: No.2ﾊﾞｯｸｱｯﾌﾟﾛｰﾙ圧 | C42: - | D42: - | E42: - | F42: - | G42: - | H42: - | I42: - | J42: - | K42: - | L42: - | M42: - | N42: - | O42: - | P42: - | Q42: - | R42: - | S42: - | T42: - | U42: - | V42: - | W42: - | X42: - | Y42: - | Z42: - | AA42: - | AB42: - | AC42: - | AD42: - | AE42: - | AF42: - | AG42: - | AH42: - | AI42: - | AJ42: - | AK42: - | AL42: - | AM42: - | AN42: - | AO42: - | AP42: - | AQ42: - | AR42: - | AS42: - | AT42: - | AU42: - | AV42: - | AW42: - | AX42: - | AY42: - | AZ42: - | BA42: - | BB42: - | BC42: - | BD42: - | BE42: - | BF42: - | BG42: - | BH42: - | BI42: - | BJ42: - | BK42: - | BL42: - | BM42: - | BN42: - | BO42: - | BP42: - | BQ42: - | BR42: - | BS42: - | BT42: - | BU42: - | BV42: - | BW42: - | BX42: - | BY42: - | BZ42: - | CA42: - | CB42: - | CC42: - | CD42: - | CE42: - | CF42: - | CG42: - | CH42: - | CI42: - | CJ42: - | CK42: - | CL42: - | CM42: - | CN42: - | CO42: - | CP42: - | CQ42: -
A43: ﾊﾟﾗ32 | B43: No.2ﾄﾞｸﾀｰ 種類 | C43: - | D43: - | E43: - | F43: - | G43: - | H43: - | I43: - | J43: - | K43: - | L43: - | M43: - | N43: - | O43: - | P43: - | Q43: - | R43: - | S43: - | T43: - | U43: - | V43: - | W43: - | X43: - | Y43: - | Z43: - | AA43: - | AB43: - | AC43: - | AD43: - | AE43: - | AF43: - | AG43: - | AH43: - | AI43: - | AJ43: - | AK43: - | AL43: - | AM43: - | AN43: - | AO43: - | AP43: - | AQ43: - | AR43: - | AS43: - | AT43: - | AU43: - | AV43: - | AW43: - | AX43: - | AY43: - | AZ43: - | BA43: - | BB43: - | BC43: - | BD43: - | BE43: - | BF43: - | BG43: - | BH43: - | BI43: - | BJ43: - | BK43: - | BL43: - | BM43: - | BN43: - | BO43: - | BP43: - | BQ43: - | BR43: - | BS43: - | BT43: - | BU43: - | BV43: - | BW43: - | BX43: - | BY43: - | BZ43: - | CA43: - | CB43: - | CC43: - | CD43: - | CE43: - | CF43: - | CG43: - | CH43: - | CI43: - | CJ43: - | CK43: - | CL43: - | CM43: - | CN43: - | CO43: - | CP43: - | CQ43: -
A44: ﾊﾟﾗ33 | B44: No.2ﾄﾞｸﾀｰ ﾄﾞｸﾀｰ 材質/角度 | C44: - | D44: - | E44: - | F44: - | G44: - | H44: - | I44: - | J44: - | K44: - | L44: - | M44: - | N44: - | O44: - | P44: - | Q44: - | R44: - | S44: - | T44: - | U44: - | V44: - | W44: - | X44: - | Y44: - | Z44: - | AA44: - | AB44: - | AC44: - | AD44: - | AE44: - | AF44: - | AG44: - | AH44: - | AI44: - | AJ44: - | AK44: - | AL44: - | AM44: - | AN44: - | AO44: - | AP44: - | AQ44: - | AR44: - | AS44: - | AT44: - | AU44: - | AV44: - | AW44: - | AX44: - | AY44: - | AZ44: - | BA44: - | BB44: - | BC44: - | BD44: - | BE44: - | BF44: - | BG44: - | BH44: - | BI44: - | BJ44: - | BK44: - | BL44: - | BM44: - | BN44: - | BO44: - | BP44: - | BQ44: - | BR44: - | BS44: - | BT44: - | BU44: - | BV44: - | BW44: - | BX44: - | BY44: - | BZ44: - | CA44: - | CB44: - | CC44: - | CD44: - | CE44: - | CF44: - | CG44: - | CH44: - | CI44: - | CJ44: - | CK44: - | CL44: - | CM44: - | CN44: - | CO44: - | CP44: - | CQ44: -
A45: ﾊﾟﾗ34 | B45: No.2ﾄﾞｸﾀｰ ﾁｬﾝﾊﾞｰｻｸｼｮﾝ圧 | C45: - | D45: - | E45: - | F45: - | G45: - | H45: - | I45: - | J45: - | K45: - | L45: - | M45: - | N45: - | O45: - | P45: - | Q45: - | R45: - | S45: - | T45: - | U45: - | V45: - | W45: - | X45: - | Y45: - | Z45: - | AA45: - | AB45: - | AC45: - | AD45: - | AE45: - | AF45: - | AG45: - | AH45: - | AI45: - | AJ45: - | AK45: - | AL45: - | AM45: - | AN45: - | AO45: - | AP45: - | AQ45: - | AR45: - | AS45: - | AT45: - | AU45: - | AV45: - | AW45: - | AX45: - | AY45: - | AZ45: - | BA45: - | BB45: - | BC45: - | BD45: - | BE45: - | BF45: - | BG45: - | BH45: - | BI45: - | BJ45: - | BK45: - | BL45: - | BM45: - | BN45: - | BO45: - | BP45: - | BQ45: - | BR45: - | BS45: - | BT45: - | BU45: - | BV45: - | BW45: - | BX45: - | BY45: - | BZ45: - | CA45: - | CB45: - | CC45: - | CD45: - | CE45: - | CF45: - | CG45: - | CH45: - | CI45: - | CJ45: - | CK45: - | CL45: - | CM45: - | CN45: - | CO45: - | CP45: - | CQ45: -
A46: ﾊﾟﾗ35 | B46: No.2循環ﾎﾟﾝﾌﾟ 設定 | C46: - | D46: - | E46: - | F46: - | G46: - | H46: - | I46: - | J46: - | K46: - | L46: - | M46: - | N46: - | O46: - | P46: - | Q46: - | R46: - | S46: - | T46: - | U46: - | V46: - | W46: - | X46: - | Y46: - | Z46: - | AA46: - | AB46: - | AC46: - | AD46: - | AE46: - | AF46: - | AG46: - | AH46: - | AI46: - | AJ46: - | AK46: - | AL46: - | AM46: - | AN46: - | AO46: - | AP46: - | AQ46: - | AR46: - | AS46: - | AT46: - | AU46: - | AV46: - | AW46: - | AX46: - | AY46: - | AZ46: - | BA46: - | BB46: - | BC46: - | BD46: - | BE46: - | BF46: - | BG46: - | BH46: - | BI46: - | BJ46: - | BK46: - | BL46: - | BM46: - | BN46: - | BO46: - | BP46: - | BQ46: - | BR46: - | BS46: - | BT46: - | BU46: - | BV46: - | BW46: - | BX46: - | BY46: - | BZ46: - | CA46: - | CB46: - | CC46: - | CD46: - | CE46: - | CF46: - | CG46: - | CH46: - | CI46: - | CJ46: - | CK46: - | CL46: - | CM46: - | CN46: - | CO46: - | CP46: - | CQ46: -
A47: ﾊﾟﾗ36 | B47: No.2循環ﾎﾟﾝﾌﾟ 回転数(rpm) | C47: ±100 | D47: ±100 | E47: ±100 | F47: ±100 | G47: ±100 | H47: ±100 | I47: ±100 | J47: ±100 | K47: ±100 | L47: ±100 | M47: ±100 | N47: ±100 | O47: ±100 | P47: ±100 | Q47: ±100 | R47: ±100 | S47: ±100 | T47: ±100 | U47: ±100 | V47: ±100 | W47: ±100 | X47: ±100 | Y47: ±100 | Z47: ±100 | AA47: ±100 | AB47: ±100 | AC47: ±100 | AD47: ±100 | AE47: ±100 | AF47: ±100 | AG47: ±100 | AH47: ±100 | AI47: ±100 | AJ47: ±100 | AK47: ±100 | AL47: ±100 | AM47: ±100 | AN47: ±100 | AO47: ±100 | AP47: ±100 | AQ47: ±100 | AR47: ±100 | AS47: ±100 | AT47: ±100 | AU47: ±100 | AV47: ±100 | AW47: ±100 | AX47: ±100 | AY47: ±100 | AZ47: ±100 | BA47: ±100 | BB47: ±100 | BC47: ±100 | BD47: ±100 | BE47: ±100 | BF47: ±100 | BG47: ±100 | BH47: ±100 | BI47: ±100 | BJ47: ±100 | BK47: ±100 | BL47: ±100 | BM47: ±100 | BN47: ±100 | BO47: ±100 | BP47: ±100 | BQ47: ±100 | BR47: ±100 | BS47: ±100 | BT47: ±100 | BU47: ±100 | BV47: ±100 | BW47: ±100 | BX47: ±100 | BY47: ±100 | BZ47: ±100 | CA47: ±100 | CB47: ±100 | CC47: ±100 | CD47: ±100 | CE47: ±100 | CF47: ±100 | CG47: ±100 | CH47: ±100 | CI47: ±100 | CJ47: ±100 | CL47: ±100 | CM47: ±100 | CN47: ±100 | CO47: ±100 | CP47: ±100 | CQ47: ±100
A48: ﾊﾟﾗ37 | B48: No.2ｽﾑｰｼﾞﾝｸﾞ比率 | C48: - | D48: - | E48: - | F48: - | G48: - | H48: - | I48: - | J48: - | K48: - | L48: - | M48: - | N48: - | O48: - | P48: - | Q48: - | R48: - | S48: - | T48: - | U48: - | V48: - | W48: - | X48: - | Y48: - | Z48: - | AA48: - | AB48: - | AC48: - | AD48: - | AE48: - | AF48: - | AG48: - | AH48: - | AI48: - | AJ48: - | AK48: - | AL48: - | AM48: - | AN48: - | AO48: - | AP48: - | AQ48: - | AR48: - | AS48: - | AT48: - | AU48: - | AV48: - | AW48: - | AX48: - | AY48: - | AZ48: - | BA48: - | BB48: - | BC48: - | BD48: - | BE48: - | BF48: - | BG48: - | BH48: - | BI48: - | BJ48: - | BK48: - | BL48: - | BM48: - | BN48: - | BO48: - | BP48: - | BQ48: - | BR48: - | BS48: - | BT48: - | BU48: - | BV48: - | BW48: - | BX48: - | BY48: - | BZ48: - | CA48: - | CB48: - | CC48: - | CD48: - | CE48: - | CF48: - | CG48: - | CH48: - | CI48: - | CJ48: - | CK48: - | CL48: - | CM48: - | CN48: - | CO48: - | CP48: - | CQ48: -
A49: ﾊﾟﾗ38 | B49: No.2ﾌｧﾆｯｼｬｰ比率 | C49: - | D49: - | E49: - | F49: - | G49: - | H49: - | I49: - | J49: - | K49: - | L49: - | M49: - | N49: - | O49: - | P49: - | Q49: - | R49: - | S49: - | T49: - | U49: - | V49: - | W49: - | X49: - | Y49: - | Z49: - | AA49: - | AB49: - | AC49: - | AD49: - | AE49: - | AF49: - | AG49: - | AH49: - | AI49: - | AJ49: - | AK49: - | AL49: - | AM49: - | AN49: - | AO49: - | AP49: - | AQ49: - | AR49: - | AS49: - | AT49: - | AU49: - | AV49: - | AW49: - | AX49: - | AY49: - | AZ49: - | BA49: - | BB49: - | BC49: - | BD49: - | BE49: - | BF49: - | BG49: - | BH49: - | BI49: - | BJ49: - | BK49: - | BL49: - | BM49: - | BN49: - | BO49: - | BP49: - | BQ49: - | BR49: - | BS49: - | BT49: - | BU49: - | BV49: - | BW49: - | BX49: - | BY49: - | BZ49: - | CA49: - | CB49: - | CC49: - | CD49: - | CE49: - | CF49: - | CG49: - | CH49: - | CI49: - | CJ49: - | CK49: - | CL49: - | CM49: - | CN49: - | CO49: - | CP49: - | CQ49: -
...

Sheet 品種条件
L1: 条件登録NO | M1: 1 | N1: 2 | O1: 3 | P1: 4 | Q1: 5 | R1: 6 | S1: 7 | T1: 8 | U1: 9 | V1: 10 | W1: 11 | X1: 12 | Y1: 13 | Z1: 14 | AA1: 15 | AB1: 16 | AC1: 17 | AD1: 18 | AE1: 19 | AF1: 20 | AG1: 21 | AH1: 22 | AI1: 23 | AJ1: 24 | AK1: 25 | AL1: 26 | AM1: 27 | AN1: 28 | AO1: 29 | AP1: 30 | AQ1: 31 | AR1: 32 | AS1: 33 | AT1: 34 | AU1: 35 | AV1: 36 | AW1: 37 | AX1: 38 | AY1: 39 | AZ1: 40 | BA1: 41 | BB1: 42 | BC1: 43 | BD1: 44 | BE1: 45 | BF1: 46 | BG1: 47 | BH1: 48 | BI1: 49 | BJ1: 50 | BK1: 51 | BL1: 52 | BM1: 53 | BN1: 54 | BO1: 55 | BP1: 56 | BQ1: 57 | BR1: 58 | BS1: 59 | BT1: 60 | BU1: 61 | BV1: 62 | BW1: 63 | BX1: 64 | BY1: 65 | BZ1: 66 | CA1: 67 | CB1: 68 | CC1: 69 | CD1: 70 | CE1: 71 | CF1: 72 | CG1: 73 | CH1: 74 | CI1: 75 | CJ1: 76 | CK1: 77 | CL1: 78 | CM1: 79 | CN1: 80 | CO1: 81 | CP1: 82 | CQ1: 83 | CR1: 84 | CS1: 85 | CT1: 86 | CU1: 87 | CV1: 88 | CW1: 89 | CX1: 90 | CY1: 91 | CZ1: 92 | DA1: 93 | DB1: 94 | DC1: 95 | DD1: 96 | DE1: 97 | DF1: 98 | DG1: 99 | DH1: 100
K2: 項目1 | L2: 品番 | M2: 38 | N2: 38 | O2: 38 | P2: 75 | Q2: 25 | R2: 25 | S2: 25 | T2: 38 | U2: 25 | V2: 75 | W2: 125 | X2: 31 | Y2: 100 | Z2: 100 | AA2: 125 | AB2: 188 | AC2: 188 | AD2: 75 | AE2: 25 | AF2: 38 | AG2: 25 | AH2: 25 | AI2: 25 | AJ2: 25 | AK2: 25・38 | AL2: 25・38 | AM2: 25・38 | AN2: 25 | AO2: 38 | AP2: 38 | AQ2: 125 | AR2: 38 | AS2: 38 | AT2: 25 | AU2: 25 | AV2: 25 | AX2: 25・38 | AY2: 25 | AZ2: 38 | BA2: 38 | BB2: 38 | BC2: 38 | BE2: 38 | BF2: 38 | BG2: 38 | BH2: 38 | BI2: 38 | BJ2: 38 | BK2: 125 | BL2: 38 | BM2: 38 | BN2: 38 | BO2: 38 | BP2: 38 | BQ2: 38 | BR2: 38 | BS2: 38 | BT2: 38 | BU2: 75 | BV2: 75 | BW2: 25 | BX2: 50 | BY2: 38 | BZ2: 75 | CA2: 75 | CB2: 188 | CC2: 188 | CD2: 75 | CE2: 50 | CF2: 188 | CG2: 38 | CH2: 38 | CI2: 38 | CJ2: 75 | CK2: 38 | CL2: 50 | CM2: 50 | CN2: 50 | CO2: 75 | CP2: 50 | CQ2: 38 | CR2: 75 | CS2: 38 | CT2: 38 | CU2: 25 | CV2: 25 | CW2: 25 | CX2: 25 | CY2: 75 | CZ2: 75 | DA2: 38
K3: 項目2 | L3: ﾀｲﾌﾟ名称 | M3: BKE(09) | N3: BKE(D) | O3: BKE(D) | P3: BKR(U)K | Q3: BK(U) | R3: BK(U)K | S3: BK(U)K | T3: ＢＫ（Ｓ） | U3: BX8ARX | V3: BX8A(X) | W3: MDA(R) | X3: MFA(CR) | Y3: MFA(S) | Z3: MFA(S) | AA3: MFA(S) | AB3: MFA(S) | AC3: MFA(S) | AD3: MFA(S) | AE3: SY08 | AF3: TX011(01) | AG3: WZ | AH3: WZ | AI3: WZ | AJ3: WZ | AK3: WZ(E) | AL3: WZ(E) | AM3: WZ(E) | AN3: WZ(RX) | AO3: WZ(RX) | AP3: WZ(RX) | AQ3: WZ(S) | AR3: WZ(S) | AS3: WZ(S) | AT3: WZ(U) | AU3: WZ(U) | AV3: WZ(U) | AW3: WZ(U) | AX3: WZ(T) | AY3: BKE(RX) | AZ3: BKE(RX) | BA3: BKE(RX) | BB3: BKE(RX) | BC3: BKE(RX) | BD3: BKE(RX) | BE3: BX8ARX | BF3: BX8ARX | BG3: BX8(R) | BH3: MD(A)(R) | BI3: MD(A)(R) | BJ3: MD(A)(R) | BK3: MDA(R) | BL3: MDA(RX) | BM3: MDA(RX) | BN3: MDA(PRF) | BO3: MDA(PRF)L/（CPRF)L | BP3: MDA(CPRF) | BQ3: MDA(PRF) | BR3: MDA(PRF)L/（CPRF)L | BS3: MDA(PRF)L/（CPRF)L | BT3: MDA(PRF)・（CPRF) | BU3: BX8AD | BV3: MFA(S) | BW3: WZ(RX) | BX3: MDA(S) | BY3: BX8ARX | BZ3: BX8AS | CA3: BX9AS | CB3: MFA(S) | CC3: PJ10106 | CD3: HP2(U) | CE3: MDA(S) | CF3: MFA(S) | CG3: MFA(RX) | CH3: BX8ARX | CI3: BX8ARX | CJ3: BX8A(X) | CK3: BX9ARX | CL3: SY（19） | CM3: SY（18）BS | CN3: TK07 | CO3: BX8A(X) | CP3: SY(09） | CQ3: BKE(09) | CR3: BX8A(X) | CS3: MD(A)(R) | CT3: BX8ARX | CU3: WZ(U) | CV3: WZ(U) | CW3: WZ(RX) | CX3: WZ(RX) | CY3: BX8A(37) | CZ3: BX8A(14) | DA3: BKE(09)
K4: 項目3 | L4: 製品仕様 | M4: 直出し | N4: 直出し | O4: 直出し | P4: ｽﾘｯﾄ | Q4: ｽﾘｯﾄ | R4: 半直 | S4: 半直 | T4: ｽﾘｯﾄ | U4: ｽﾘｯﾄ | V4: 直出し | W4: 直出し | X4: ｽﾘｯﾄ | Y4: ｽﾘｯﾄ | Z4: ｽﾘｯﾄ | AA4: ｽﾘｯﾄ | AB4: 直出し | AC4: ｽﾘｯﾄ | AD4: ｽﾘｯﾄ | AE4: ｽﾘｯﾄ | AG4: 直出し・ｽﾘｯﾄ | AH4: 直出し | AI4: 直出し、半直、ｽﾘｯﾄ | AJ4: 直出し | AK4: 半直出し | AL4: 半直出し | AM4: 直出し | AN4: ｽﾘｯﾄ | AO4: 半直出し | AP4: 半直出し | AQ4: 直出し | AR4: 直出し | AS4: 直出し | AT4: ｽﾘｯﾄMK-1 | AU4: ｽﾘｯﾄMK-1 | AV4: 半直出し | AW4: 直出し | AX4: 直出し | AY4: ｽﾘｯﾄ | AZ4: ｽﾘｯﾄ | BA4: 半直出し | BB4: ｽﾘｯﾄ | BC4: ｽﾘｯﾄ | BD4: 直出し | BE4: ｽﾘｯﾄ | BF4: 半直出し | BG4: 直出し | BH4: 半直出し | BI4: 半直出し | BJ4: ｽﾘｯﾄ行き | BK4: 直出し | BL4: ｽﾘｯﾄ行き | BM4: ｽﾘｯﾄ行き | BN4: 直出し | BO4: 直出し | BP4: 直出し | BQ4: 直出し | BR4: 直出し | BS4: 直出し | BT4: 直出し | BU4: 直出し | BV4: 直出し | BW4: 巻き返し | BX4: 直出し | BY4: スリット | BZ4: 直出し | CA4: 直出し | CB4: ｽﾘｯﾄ | CC4: 巻き返し | CD4: ｽﾘｯﾄ行き | CE4: 直出し | CF4: ｽﾘｯﾄ行き | CG4: ｽﾘｯﾄ | CH4: ｽﾘｯﾄ | CI4: ｽﾘｯﾄ | CJ4: 直出し | CK4: ｽﾘｯﾄ | CL4: ｽﾘｯﾄ | CM4: ｽﾘｯﾄ | CN4: 直出し | CO4: ｽﾘｯﾄまたは直出し | CP4: 直出し | CQ4: 半直出し | CR4: 直出し | CS4: ｽﾘｯﾄ | CT4: ｽﾘｯﾄ | CU4: 直出し | CV4: 半直出し | CW4: ｽﾘｯﾄ | CX4: ｽﾘｯﾄ | CY4: 直出し | CZ4: 直出し | DA4: 半直出し
K5: 項目4 | L5: 幅 | M5: 1030・1050 | N5: 1030・1050 | O5: 1330 | P5: 1095 | Q5: 890 | R5: 1040 | S5: 1080 | T5: 1590 | U5: 740 | V5: 1330 | W5: 1100 | X5: 440 | Y5: 330 | Z5: 450 | AA5: 150 | AB5: 1130 | AC5: 1220 | AD5: 220 | AE5: 500 | AF5: 476.666 | AG5: 1030 | AH5: 1,050/1,100 | AI5: 1320 | AJ5: 1240 | AK5: 1040 | AL5: 1240 | AM5: 1240 | AN5: 540・640・780 | AO5: 1130 | AP5: 1430 | AQ5: 1225 | AR5: 1000 | AS5: 1410 | AT5: 1150 | AU5: 1420 | AV5: 1410 | AW5: 1320 | AX5: 1320 | AY5: 1330 | AZ5: 1330 | BA5: 1330 | BB5: 1480 | BC5: 1580 | BD5: 1030 | BE5: 1330 | BF5: 1330 | BG5: 1330 | BH5: 1020 | BI5: 1250 | BJ5: 1580 | BK5: 1585 | BL5: 315 | BM5: 415 | BN5: 1140 | BO5: 1145 | BP5: 1320 | BQ5: 1320 | BR5: 1325 | BS5: 1485 | BT5: 1480 | BU5: 1330 | BV5: 1040 | BW5: 1180 | BX5: 1300 | BY5: 500 | BZ5: 1040～1110 | CA5: 1040 | CB5: 500 | CC5: 1580 | CD5: 360 | CE5: 1300 | CF5: 1600 | CG5: 1265 | CH5: 1580 | CI5: 1480 | CJ5: 1330 | CK5: 1330 | CL5: 540または1100 | CM5: 540または1000 | CN5: 1100～1500 | CO5: 1050or1100 | CP5: 1040 | CQ5: 1360 | CR5: 1100 | CS5: 750 | CT5: 535・1330 | CU5: 1150 | CV5: 1150 | CW5: 450 | CX5: 1040 | CY5: 1050 | CZ5: 1300 | DA5: 1330
K6: 項目5 | L6: 長さ | M6: 8400 | N6: 8400 | O6: 6000 | P6: 2000 | Q6: 3800 | R6: 6000 | S6: 6000 | T6: 4000 | U6: 2100 | V6: 4000 | W6: 3400 | X6: 6500 | Y6: 550 | Z6: 750 | AA6: 200 | AB6: 1620 | AC6: 800 | AD6: 1200 | AE6: 4000 | AF6: 1216.666 | AG6: 12000 | AH6: 6000・8000・12000・12600 | AI6: 6000・8000・12600 | AJ6: 11200 | AK6: 6000 | AL6: 6000 | AM6: 6000 | AN6: 2000 | AO6: 6000 | AP6: 6000 | AQ6: 1800 | AR6: 8000 | AS6: 8000 | AT6: 4200 | AU6: 12600 | AV6: 6000 | AW6: 8000 | AX6: 8000 | AY6: 6000 | AZ6: 6000 | BA6: 6000 | BB6: 6000 | BC6: 6000 | BD6: 8400 | BE6: 6000 | BF6: 6000 | BG6: 12000 | BH6: 6000 | BI6: 6000 | BJ6: 4000 | BK6: 3400 | BL6: 1950 | BM6: 1950 | BN6: 12000 | BO6: 12000 | BP6: 12000 | BQ6: 12000 | BR6: 12000 | BS6: 12000 | BT6: 12000 | BU6: 5000 | BV6: 4000 | BW6: 2000 | BX6: 6200 | BY6: 4000 | BZ6: 4000 | CA6: 4000 | CB6: 200 | CC6: 1000 | CD6: 900 | CE6: 3900 | CF6: 800 | CG6: 4000 | CH6: 6000 | CI6: 6000 | CJ6: 4100 | CK6: 6000 | CL6: 300または500 | CM6: 500または700 | CN6: 4000 | CO6: 2000or4000 | CP6: 4000 | CQ6: 8400 | CR6: 4000 | CS6: 6000 | CT6: 2000・6000 | CU6: 12400 | CV6: 6000 | CW6: 4000 | CX6: 12300 | CY6: 5800 | CZ6: 4300 | DA6: 6000
K7: 項目6 | L7: 原反品名 | M7: XD500P | N7: T100 | O7: T100 | P7: ｴﾝﾌﾞﾚｯﾄSD | Q7: ｴﾝﾌﾞﾚｯﾄS | R7: ｴﾝﾌﾞﾚｯﾄS | S7: ｴﾝﾌﾞﾚｯﾄS | T7: S28 | U7: R75X | V7: XD500P | W7: XD1NB1 | X7: R56 | Y7: S28 | Z7: S28 | AA7: S28 | AB7: S28M | AC7: S28M | AD7: S28-PER | AE7: ｴﾝﾌﾞﾚｯﾄS | AG7: R75X | AH7: R75X | AI7: R75X | AJ7: R75X | AK7: E5001 | AL7: E5001 | AM7: E5001 | AN7: R75X | AO7: R75X | AP7: R75X | AQ7: S28(M) | AR7: S28 | AS7: S28 | AT7: ｴﾝﾌﾞﾚｯﾄS | AU7: ｴﾝﾌﾞﾚｯﾄS | AV7: ｴﾝﾌﾞﾚｯﾄS | AW7: ｴﾝﾌﾞﾚｯﾄS | AX7: T70A | AY7: R75XK | AZ7: R75XK | BA7: R75X | BB7: R75XK | BC7: R75XK | BD7: R75X | BE7: R75XK | BF7: R75X | BG7: R75X | BH7: R75X | BI7: R75X | BJ7: R75X | BK7: XD1NB1 | BL7: R75X | BM7: R75X | BN7: XF60R | BO7: XF60R | BP7: XF60RC | BQ7: XF60R | BR7: XF60R | BS7: XF60R | BT7: XF60R | BU7: T100、T102 | BV7: S28-PER | BW7: R75X | BX7: S28M | BZ7: S28（S27) | CA7: S28（S27) | CB7: S28M | CE7: S28M | CF7: S28M | CG7: R75X | CH7: R75XK | CI7: R75XK | CJ7: XD500P | CK7: R75X | CL7: X42G | CM7: E20 | CN7: XD500P | CO7: XD500P | CP7: XD500P | CQ7: XD500P | CR7: XD500P | CS7: R75X | CT7: R75XK | CU7: ｴﾝﾌﾞﾚｯﾄS | CV7: ｴﾝﾌﾞﾚｯﾄS | CW7: R75X | CX7: R75X | CY7: RM1Z又はRM10 | CZ7: S28（S27) | DA7: XD500P
K8: 項目7 | L8: 原反幅 | M8: 1037・1057 | N8: 1040・1060 | O8: 1340・1335 | P8: 1100 | Q8: 900・970 | R8: 1045 | S8: 1085 | T8: 1600 | U8: 1520 | V8: 1335 | W8: 1105 | X8: 1370 | Y8: 1020 | Z8: 1020 | AA8: 1250 | AB8: 1134 | AC8: 1230 | AD8: 1310 | AE8: 1045～1085 | AF8: 1200 | AG8: 1035or1040 | AH8: 1,060/1,105 | AI8: 1330 | AJ8: 1245 | AK8: 1045 | AL8: 1245 | AM8: 1245 | AN8: 13231337 | AO8: 1135 | AP8: 1430 | AQ8: 1230 | AR8: 1005 | AS8: 1415 | AT8: 1155 | AU8: 1425 | AV8: 1415 | AW8: 1325 | AX8: 1325 | AY8: 1337 | AZ8: 1335 | BA8: 1335 | BB8: 1485 | BC8: 1585 | BD8: 1035 | BE8: 1335 | BF8: 1335 | BG8: 1335 | BH8: 1025 | BI8: 1255 | BJ8: 1585 | BK8: 1590 | BL8: 1305(他幅でも適用可） | BM8: 1305(他幅でも適用可） | BN8: 1160 | BO8: 1160 | BP8: 1336 | BQ8: 1336 | BR8: 1336 | BS8: 1496 | BT8: 1496 | BU8: 1335 | BV8: 1045 | BW8: 1323 | BX8: 1310 | BY8: 1025 | BZ8: 1045～1120 | CA8: 1045～1120 | CB8: 1134 | CC8: 1600 | CD8: 1230 | CE8: 1310 | CF8: 1610 | CG8: 1270 | CH8: 1585 | CI8: 1485 | CJ8: 1335 | CK8: 1335 | CL8: 1100 | CM8: 1000 | CN8: 1100～1500 | CO8: 1060or1110 | CP8: 1050 | CQ8: 1367 | CR8: 1110 | CS8: 1550 | CT8: 1135・1335 | CU8: 1155 | CV8: 1155 | CW8: 1040 | CX8: 1040 | CY8: 1060 | CZ8: 1315 | DA8: 1337
K9: 項目8 | L9: 原反長さ | M9: 8450～8500 | N9: 8500 | O9: 12300 | P9: 2200 | Q9: 12500 | R9: 12400 | S9: 12400 | T9: 8000 | U9: 13000 | V9: 4200 | W9: 3450 | X9: 13450 | Y9: 2400～3200 | Z9: 2400～3200 | AA9: 2000 | AB9: 1800 | AC9: 2000 | AD9: 4000 | AE9: 12400～12600 | AF9: 8000 | AG9: 12300 | AH9: 12200～16300 | AI9: 12200～16300 | AJ9: 11600～12300 | AK9: 12400 | AL9: 12300～12400 | AM9: 6100～6200 | AN9: 12,300、16,300 | AO9: 12200 | AP9: 6000 | AQ9: 2000 | AR9: 8000 | AS9: 8000 | AT9: 12600 | AU9: 12600 | AV9: 12300 | AW9: 8200 | AX9: 8200 | AY9: 12300 | AZ9: 12200 | BA9: 12200 | BB9: 12200 | BC9: 12200 | BD9: 8500 | BE9: 12200 | BF9: 12200 | BG9: 12200 | BH9: 12200 | BI9: 12200～12400 | BJ9: 12200 | BK9: 3450 | BL9: 12200 | BM9: 12200 | BN9: 12050 | BO9: 12050 | BP9: 12050 | BQ9: 12050 | BR9: 12050 | BS9: 12050 | BT9: 12050 | BU9: 5200 | BV9: 4200 | BW9: 16300 | BX9: 6400 | BY9: 12200 | BZ9: 4200～4300 | CA9: 4200 | CB9: 1800 | CC9: 2000 | CD9: 2100 | CE9: 4000 | CF9: 2000 | CG9: 12400 | CH9: 12200 | CI9: 12200 | CJ9: 4200or4300 | CK9: 12200 | CL9: 1300 | CM9: 2000 | CN9: 4200 | CO9: 4200or4300 | CP9: 4000～6500 | CQ9: 6000 | CR9: 4200 | CS9: 12200 | CT9: 12200 | CU9: 12600 | CV9: 12600 | CW9: 12300 | CX9: 12300 | CY9: 6000 | CZ9: 4500 | DA9: 12200
K10: 項目9 | L10: ﾕｰｻﾞｰ | M10: ﾊﾟﾅｯｸ | N10: ﾊﾟﾅｯｸ | O10: ﾊﾟﾅｯｸ | P10: きもと | Q10: 積水化学 | R10: きもと | S10: きもと | T10: ﾘﾝﾃｯｸ | U10: 利昌工業 | V10: 巴川 | W10: 日東尾道 | X10: ﾊﾟﾅｿﾆｯｸAIS | Y10: 下田工業 | Z10: 京ｾﾗ | AA10: 下田工業 | AB10: 下田工業 | AC10: ＮＧＫ | AD10: 真田KOA/MARUWA | AE10: ﾅｶﾞｾｹﾑﾃｯｸ | AG10: ﾊﾟﾅｯｸ | AH10: ﾊﾟﾅｯｸ | AI10: ﾊﾟﾅｯｸ | AJ10: 東山ﾌｨﾙﾑ | AK10: 古河電工 | AL10: 古河電工 | AM10: 古河電工 | AN10: 三栄産業 | AO10: 東洋包材 | AP10: ﾘｹﾝﾃｸﾉｽ | AQ10: 東洋機材 | AR10: ﾘﾝﾃｯｸ | AS10: ﾘﾝﾃｯｸ | AT10: 日榮新化 | AU10: 日榮新化 | AV10: 藤産業 | AW10: 新ﾀｯｸ化成 | AX10: 東洋包材・ﾘｹﾝﾃｸﾉｽ | AY10: 巴川製紙所 | AZ10: 巴川製紙所 | BA10: ﾊﾟﾅｯｸ | BB10: 巴川製紙所 | BC10: 巴川製紙所 | BD10: ﾊﾟﾅｯｸ | BE10: 巴川製紙所 | BF10: ﾊﾟﾅｯｸ | BG10: 日東豊橋 | BH10: 日東電工豊橋 | BI10: 日東電工豊橋 | BJ10: 日東電工豊橋 | BK10: 日東尾道 | BL10: 住友ﾍﾞｰｸﾗｲﾄ | BM10: 住友ﾍﾞｰｸﾗｲﾄ | BN10: 日東電工 | BO10: 日東電工 | BP10: 日東電工 | BQ10: 日東電工 | BR10: 日東電工 | BS10: 日東電工 | BT10: 日東電工 | BU10: ﾊﾟﾅｯｸ | BV10: 日榮新化 | BW10: 三栄産業 | BX10: 日東豊橋 | BZ10: 日榮新化 | CA10: 日榮新化 | CB10: KERAFOL | CE10: 京ｾﾗ | CF10: 下田工業 | CG10: 3M | CH10: 巴川製紙所 | CI10: 巴川製紙所 | CJ10: 巴川製紙所 | CK10: 巴川製紙所 | CL10: ﾆｯｶﾝ高萩 | CM10: 栗村化学（ﾕﾙﾁｮﾝ） | CN10: 日榮新化 | CO10: 新ﾀｯｸ化成 | CP10: 栗村化学 | CQ10: ﾊﾟﾅｯｸ | CR10: 日榮新化 | CS10: 日東電工豊橋 | CT10: 住友電工ﾌﾟﾘﾝﾄｻｰｷｯﾄ | CU10: フジコピアン | CV10: 藤産業 | CW10: 日東電工亀山 | CX10: 日東亀山 | CY10: 日東豊橋 | CZ10: ﾄﾖｰｹﾑ | DA10: ﾊﾟﾅｯｸ
