Workbook

Sheet 登録一覧
B3: 条件登録NO | C3: 品番 | D3: ﾀｲﾌﾟ名称 | E3: 製品仕様 | F3: 幅 | G3: 長さ | H3: 原反品名 | I3: 原反幅 | J3: 原反長さ | K3: ﾕｰｻﾞｰ
B4: 1 | C4: 38 | D4: BKE(09) | E4: 直出し | F4: 1030・1050 | G4: 8400 | H4: XD500P | I4: 1037・1057 | J4: 8450～8500 | K4: ﾊﾟﾅｯｸ
B5: 2 | C5: 38 | D5: BKE(D) | E5: 直出し | F5: 1030・1050 | G5: 8400 | H5: T100 | I5: 1040・1060 | J5: 8500 | K5: ﾊﾟﾅｯｸ
B6: 3 | C6: 38 | D6: BKE(D) | E6: 直出し | F6: 1330 | G6: 6000 | H6: T100 | I6: 1340・1335 | J6: 12300 | K6: ﾊﾟﾅｯｸ
B7: 4 | C7: 75 | D7: BKR(U)K | E7: ｽﾘｯﾄ | F7: 1095 | G7: 2000 | H7: ｴﾝﾌﾞﾚｯﾄSD | I7: 1100 | J7: 2200 | K7: きもと
B8: 5 | C8: 25 | D8: BK(U) | E8: ｽﾘｯﾄ | F8: 890 | G8: 3800 | H8: ｴﾝﾌﾞﾚｯﾄS | I8: 900・970 | J8: 12500 | K8: 積水化学
B9: 6 | C9: 25 | D9: BK(U)K | E9: 半直 | F9: 1040 | G9: 6000 | H9: ｴﾝﾌﾞﾚｯﾄS | I9: 1045 | J9: 12400 | K9: きもと
B10: 7 | C10: 25 | D10: BK(U)K | E10: 半直 | F10: 1080 | G10: 6000 | H10: ｴﾝﾌﾞﾚｯﾄS | I10: 1085 | J10: 12400 | K10: きもと
B11: 8 | C11: 38 | D11: ＢＫ（Ｓ） | E11: ｽﾘｯﾄ | F11: 1590 | G11: 4000 | H11: S28 | I11: 1600 | J11: 8000 | K11: ﾘﾝﾃｯｸ
B12: 9 | C12: 25 | D12: BX8ARX | E12: ｽﾘｯﾄ | F12: 740 | G12: 2100 | H12: R75X | I12: 1520 | J12: 13000 | K12: 利昌工業
B13: 10 | C13: 75 | D13: BX8A(X) | E13: 直出し | F13: 1330 | G13: 4000 | H13: XD500P | I13: 1335 | J13: 4200 | K13: 巴川製紙所
B14: 11 | C14: 125 | D14: MDA(R) | E14: 直出し | F14: 1100 | G14: 3400 | H14: XD1NB1 | I14: 1105 | J14: 3450 | K14: 日東尾道
B15: 12 | C15: 31 | D15: MFA(CR) | E15: ｽﾘｯﾄ | F15: 440 | G15: 6500 | H15: R56 | I15: 1370 | J15: 13450 | K15: ﾊﾟﾅｿﾆｯｸAIS
B16: 13 | C16: 100 | D16: MFA(S) | E16: ｽﾘｯﾄ | F16: 330 | G16: 550 | H16: S28 | I16: 1020 | J16: 2400～3200 | K16: 東海電気/京ｾﾗ
B17: 14 | C17: 100 | D17: MFA(S) | E17: ｽﾘｯﾄ | F17: 450 | G17: 750 | H17: S28 | I17: 1020 | J17: 2400～3200 | K17: 東海電気
B18: 15 | C18: 125 | D18: MFA(S) | E18: ｽﾘｯﾄ | F18: 150 | G18: 200 | H18: S28 | I18: 1250 | J18: 2000 | K18: 東海電気
B19: 16 | C19: 188 | D19: MFA(S) | E19: 直出し | F19: 1130 | G19: 1620 | H19: S28M | I19: 1134 | J19: 1800 | K19: 東海電気
B20: 17 | C20: 188 | D20: MFA(S) | E20: ｽﾘｯﾄ | F20: 1220 | G20: 800 | H20: S28M | I20: 1230 | J20: 2000 | K20: ＮＧＫ
B21: 18 | C21: 75 | D21: MFA(S) | E21: ｽﾘｯﾄ | F21: 220 | G21: 1200 | H21: S28-PER | I21: 1310 | J21: 4000 | K21: 真田KOA/MARUWA
B22: 19 | C22: 25 | D22: SY08 | E22: ｽﾘｯﾄ | F22: 500 | G22: 4000 | H22: ｴﾝﾌﾞﾚｯﾄS | I22: 1045～1085 | J22: 12400～12600 | K22: ﾅｶﾞｾｹﾑﾃｯｸ
B23: 20 | C23: 38 | D23: TX011(01) | F23: 476.666 | G23: 1216.666 | I23: 1200 | J23: 8000
B24: 21 | C24: 25 | D24: WZ | E24: 直出し・ｽﾘｯﾄ | F24: 1030 | G24: 12000 | H24: R75X | I24: 1035or1040 | J24: 12300 | K24: ﾊﾟﾅｯｸ
B25: 22 | C25: 25 | D25: WZ | E25: 直出し | F25: 1,050/1,100 | G25: 6000・8000・12000・12600 | H25: R75X | I25: 1,060/1,105 | J25: 12200～16300 | K25: ﾊﾟﾅｯｸ
B26: 23 | C26: 25 | D26: WZ | E26: 直出し、半直、ｽﾘｯﾄ | F26: 1320 | G26: 6000・8000・12600 | H26: R75X | I26: 1330 | J26: 12200～16300 | K26: ﾊﾟﾅｯｸ
B27: 24 | C27: 25 | D27: WZ | E27: 直出し | F27: 1240 | G27: 11200 | H27: R75X | I27: 1245 | J27: 11600～12300 | K27: 東山ﾌｨﾙﾑ
B28: 25 | C28: 25・38 | D28: WZ(E) | E28: 半直出し | F28: 1040 | G28: 6000 | H28: E5001 | I28: 1045 | J28: 12400 | K28: 古河電工
B29: 26 | C29: 25・38 | D29: WZ(E) | E29: 半直出し | F29: 1240 | G29: 6000 | H29: E5001 | I29: 1245 | J29: 12400 | K29: 古河電工
B30: 27 | C30: 25・38 | D30: WZ(E) | E30: 直出し | F30: 1240 | G30: 6000 | H30: E5001 | I30: 1245 | J30: 6200 | K30: 古河電工
B31: 28 | C31: 25 | D31: WZ(RX) | E31: ｽﾘｯﾄ | F31: 540・640・780 | G31: 2000 | H31: R75X | I31: 13231337 | J31: 12,300、16,300 | K31: 三栄産業
B32: 29 | C32: 38 | D32: WZ(RX) | E32: 半直出し | F32: 1130 | G32: 6000 | H32: R75X | I32: 1135 | J32: 12200 | K32: 東洋包材
B33: 30 | C33: 38 | D33: WZ(RX) | E33: 半直出し | F33: 1430 | G33: 6000 | H33: R75X | I33: 1430 | J33: 6000 | K33: ﾘｹﾝﾃｸﾉｽ
B34: 31 | C34: 125 | D34: WZ(S) | E34: 直出し | F34: 1225 | G34: 1800 | H34: S28(M) | I34: 1230 | J34: 2000 | K34: 東洋機材
B35: 32 | C35: 38 | D35: WZ(S) | E35: 直出し | F35: 1000 | G35: 8000 | H35: S28 | I35: 1005 | J35: 8000 | K35: ﾘﾝﾃｯｸ
B36: 33 | C36: 38 | D36: WZ(S) | E36: 直出し | F36: 1410 | G36: 8000 | H36: S28 | I36: 1415 | J36: 8000 | K36: ﾘﾝﾃｯｸ
B37: 34 | C37: 25 | D37: WZ(U) | E37: ｽﾘｯﾄMK-1 | F37: 1150 | G37: 4200 | H37: ｴﾝﾌﾞﾚｯﾄS | I37: 1155 | J37: 12600 | K37: 日榮新化
B38: 35 | C38: 25 | D38: WZ(U) | E38: ｽﾘｯﾄMK-1 | F38: 1420 | G38: 12600 | H38: ｴﾝﾌﾞﾚｯﾄS | I38: 1425 | J38: 12600 | K38: 日榮新化
B39: 36 | C39: 25 | D39: WZ(U) | E39: 半直出し | F39: 1410 | G39: 6000 | H39: ｴﾝﾌﾞﾚｯﾄS | I39: 1415 | J39: 12300 | K39: 藤産業
B40: 37 | D40: WZ(U) | E40: 直出し | F40: 1320 | G40: 8000 | H40: ｴﾝﾌﾞﾚｯﾄS | I40: 1325 | J40: 8200 | K40: 新ﾀｯｸ化成
B41: 38 | C41: 25・38 | D41: WZ(T) | E41: 直出し | F41: 1320 | G41: 8000 | H41: T70A | I41: 1325 | J41: 8200 | K41: 東洋包材・ﾘｹﾝﾃｸﾉｽ
B42: 39 | C42: 25 | D42: BKE(RX) | E42: ｽﾘｯﾄ | F42: 1330 | G42: 6000 | H42: R75XK | I42: 1337 | J42: 12300 | K42: 巴川製紙所
B43: 40 | C43: 38 | D43: BKE(RX) | E43: ｽﾘｯﾄ | F43: 1330 | G43: 6000 | H43: R75XK | I43: 1335 | J43: 12200 | K43: 巴川製紙所
B44: 41 | C44: 38 | D44: BKE(RX) | E44: 半直出し | F44: 1330 | G44: 6000 | H44: R75X | I44: 1335 | J44: 12200 | K44: ﾊﾟﾅｯｸ
B45: 42 | C45: 38 | D45: BKE(RX) | E45: ｽﾘｯﾄ | F45: 1480 | G45: 6000 | H45: R75XK | I45: 1485 | J45: 12200 | K45: 巴川製紙所
B46: 43 | C46: 38 | D46: BKE(RX) | E46: ｽﾘｯﾄ | F46: 1580 | G46: 6000 | H46: R75XK | I46: 1585 | J46: 12200 | K46: 巴川製紙所
B47: 44 | D47: BKE(RX) | E47: 直出し | F47: 1030 | G47: 8400 | H47: R75X | I47: 1035 | J47: 8500 | K47: ﾊﾟﾅｯｸ
B48: 45 | C48: 38 | D48: BX8ARX | E48: ｽﾘｯﾄ | F48: 1330 | G48: 6000 | H48: R75XK | I48: 1335 | J48: 12200 | K48: 巴川製紙所
B49: 46 | C49: 38 | D49: BX8ARX | E49: 半直出し | F49: 1330 | G49: 6000 | H49: R75X | I49: 1335 | J49: 12200 | K49: ﾊﾟﾅｯｸ
B50: 47 | C50: 38 | D50: BX8(R) | E50: 直出し | F50: 1330 | G50: 12000 | H50: R75X | I50: 1335 | J50: 12200 | K50: 日東豊橋
B51: 48 | C51: 38 | D51: MD(A)(R) | E51: 半直出し | F51: 1020 | G51: 6000 | H51: R75X | I51: 1025 | J51: 12200 | K51: 日東電工豊橋
B52: 49 | C52: 38 | D52: MD(A)(R) | E52: 半直出し | F52: 1250 | G52: 6000 | H52: R75X | I52: 1255 | J52: 12400 | K52: 日東電工豊橋
B53: 50 | C53: 38 | D53: MD(A)(R) | E53: ｽﾘｯﾄ行き | F53: 1580 | G53: 4000 | H53: R75X | I53: 1585 | J53: 12200 | K53: 日東電工豊橋
B54: 51 | C54: 125 | D54: MDA(R) | E54: 直出し | F54: 1585 | G54: 3400 | H54: XD1NB1 | I54: 1590 | J54: 3450 | K54: 日東尾道
B55: 52 | C55: 38 | D55: MDA(RX) | E55: ｽﾘｯﾄ行き | F55: 315 | G55: 1950 | H55: R75X | I55: 1305(他幅でも適用可） | J55: 12200 | K55: 住友ﾍﾞｰｸﾗｲﾄ
B56: 53 | C56: 38 | D56: MDA(RX) | E56: ｽﾘｯﾄ行き | F56: 415 | G56: 1950 | H56: R75X | I56: 1305(他幅でも適用可） | J56: 12200 | K56: 住友ﾍﾞｰｸﾗｲﾄ
B57: 54 | C57: 38 | D57: MDA(PRF) | E57: 直出し | F57: 1140 | G57: 12000 | H57: XF60R | I57: 1160 | J57: 12050 | K57: 日東電工
B58: 55 | C58: 38 | D58: MDA(PRF)L/（CPRF)L | E58: 直出し | F58: 1145 | G58: 12000 | H58: XF60R | I58: 1160 | J58: 12050 | K58: 日東電工
B59: 56 | C59: 38 | D59: MDA(CPRF) | E59: 直出し | F59: 1320 | G59: 12000 | H59: XF60RC | I59: 1336 | J59: 12050 | K59: 日東電工
B60: 57 | C60: 38 | D60: MDA(PRF) | E60: 直出し | F60: 1320 | G60: 12000 | H60: XF60R | I60: 1336 | J60: 12050 | K60: 日東電工
B61: 58 | C61: 38 | D61: MDA(PRF)L/（CPRF)L | E61: 直出し | F61: 1325 | G61: 12000 | H61: XF60R | I61: 1336 | J61: 12050 | K61: 日東電工
B62: 59 | C62: 38 | D62: MDA(PRF)L/（CPRF)L | E62: 直出し | F62: 1485 | G62: 12000 | H62: XF60R | I62: 1496 | J62: 12050 | K62: 日東電工
B63: 60 | C63: 38 | D63: MDA(PRF)・（CPRF) | E63: 直出し | F63: 1480 | G63: 12000 | H63: XF60R | I63: 1496 | J63: 12050 | K63: 日東電工
B64: 61 | C64: 75 | D64: BX8AD | E64: 直出し | F64: 1330 | G64: 5000 | H64: T100、T102 | I64: 1335 | J64: 5200 | K64: ﾊﾟﾅｯｸ
B65: 62 | C65: 75 | D65: MFA(S) | E65: 直出し | F65: 1040 | G65: 4000 | H65: S28-PER | I65: 1045 | J65: 4200 | K65: 日榮新化
B66: 63 | C66: 25 | D66: WZ(RX) | E66: 巻き返し | F66: 1180 | G66: 2000 | H66: R75X | I66: 1323 | J66: 16300 | K66: 三栄産業
B67: 64 | C67: 50 | D67: MDA(S) | E67: 直出し | F67: 1300 | G67: 6200 | H67: S28M | I67: 1310 | J67: 6400 | K67: 日東豊橋
B68: 65 | C68: 38 | D68: BX8ARX | E68: スリット | F68: 500 | G68: 4000 | I68: 1025 | J68: 12200
B69: 66 | C69: 75 | D69: BX8AS | E69: 直出し | F69: 1040 | G69: 4000 | H69: S28 | I69: 1045 | J69: 4200 | K69: 日榮新化
B70: 67 | C70: 75 | D70: BX9AS | E70: 直出し | F70: 1040 | G70: 4000 | H70: S28 | I70: 1045 | J70: 4200 | K70: 日榮新化
B71: 68 | C71: 188 | D71: MFA(S) | E71: ｽﾘｯﾄ | F71: 500 | G71: 200 | H71: S28M | I71: 1134 | J71: 1800 | K71: KERAFOL
B72: 69 | C72: 188 | D72: PJ10106 | E72: 巻き返し | F72: 1580 | G72: 1000 | I72: 1600 | J72: 2000
B73: 70 | C73: 75 | D73: HP2(U) | E73: ｽﾘｯﾄ行き | F73: 360 | G73: 900 | I73: 1230 | J73: 2100
B74: 71 | C74: 50 | D74: MDA(S) | E74: 直出し | F74: 1300 | G74: 3900 | H74: S28M | I74: 1310 | J74: 4000 | K74: 京ｾﾗ
B75: 72 | C75: 188 | D75: MFA(S) | E75: ｽﾘｯﾄ行き | F75: 1600 | G75: 800 | H75: S28M | I75: 1610 | J75: 2000 | K75: 東海電気
B76: 73 | C76: 38 | D76: MFA(RX) | E76: ｽﾘｯﾄ | F76: 1265 | G76: 4000 | H76: R75X | I76: 1270 | J76: 12400 | K76: 3M
B77: 74 | C77: 38 | D77: BX8ARX | E77: ｽﾘｯﾄ | F77: 1580 | G77: 6000 | H77: R75XK | I77: 1585 | J77: 12200 | K77: 巴川製紙所
B78: 75 | C78: 38 | D78: BX8ARX | E78: ｽﾘｯﾄ | F78: 1480 | G78: 6000 | H78: R75XK | I78: 1485 | J78: 12200 | K78: 巴川製紙所
B79: 76 | C79: 75 | D79: BX8A(X) | E79: 直出し | F79: 1330 | G79: 4100 | H79: XD500P | I79: 1335 | J79: 4200or4300 | K79: 巴川製紙所
B80: 77 | C80: 38 | D80: BX9ARX | E80: ｽﾘｯﾄ | F80: 1330 | G80: 6000 | H80: R75X | I80: 1335 | J80: 12200 | K80: 巴川製紙所
B81: 78 | C81: 50 | D81: SY（19） | E81: ｽﾘｯﾄ | F81: 540または1100 | G81: 300または500 | H81: X42G | I81: 1100 | J81: 1300 | K81: ﾆｯｶﾝ高萩
B82: 79 | C82: 50 | D82: SY（18）BS | E82: ｽﾘｯﾄ | F82: 540または1000 | G82: 500または700 | H82: E20 | I82: 1000 | J82: 2000 | K82: 栗村化学（ﾕﾙﾁｮﾝ）
B83: 80 | C83: 50 | D83: TK07 | E83: 直出し | F83: 1100～1500 | G83: 4000 | H83: XD500P | I83: 1100～1500 | J83: 4200 | K83: 日榮新化
B84: 81 | C84: 75 | D84: BX8A(X) | E84: ｽﾘｯﾄまたは直出し | F84: 1100 | G84: 2000or4000 | H84: XD500P | I84: 1110 | J84: 4200or4300 | K84: 新ﾀｯｸ化成
B85: 82 | C85: 50 | D85: SY(09） | E85: ｽﾘｯﾄ | F85: 1080 | G85: 4000 | H85: XD500P | I85: 1110 | J85: 4000～6500 | K85: 栗村化学
B86: 83 | C86: 38 | D86: BKE(09) | E86: 直出し | F86: 1360 | G86: 8400 | H86: XD500P | I86: 1367 | J86: 8450～8500 | K86: ﾊﾟﾅｯｸ
B87: 84 | C87: 75 | D87: BX8A(X) | E87: 直出し | F87: 1100 | G87: 4000 | H87: XD500P | I87: 1110 | J87: 4200 | K87: 日榮新化
B88: 85 | C88: 38 | D88: MD(A)(R) | E88: ｽﾘｯﾄ | F88: 750 | G88: 6000 | H88: R75X | I88: 1550 | J88: 12200 | K88: 日東電工豊橋
B89: 86 | C89: 38 | D89: BX8ARX | E89: ｽﾘｯﾄ | F89: 1330 | G89: 6000 | H89: R75XK | I89: 1335 | J89: 12200 | K89: 住友電工ﾌﾟﾘﾝﾄｻｰｷｯﾄ
B90: 87 | C90: 25 | D90: WZ(U) | E90: 直出し | F90: 1150 | G90: 12400 | H90: ｴﾝﾌﾞﾚｯﾄS | I90: 1155 | J90: 12600 | K90: フジコピアン
B91: 88 | C91: 25 | D91: WZ(U) | E91: 半直出し | F91: 1150 | G91: 6000 | H91: ｴﾝﾌﾞﾚｯﾄS | I91: 1155 | J91: 12600 | K91: 藤産業
B92: 89 | C92: 25 | D92: WZ(RX) | E92: ｽﾘｯﾄ | F92: 450 | G92: 4000 | H92: R75X | I92: 1040 | J92: 12300 | K92: 日東電工亀山
B93: 90 | C93: 25 | D93: WZ(RX) | E93: ｽﾘｯﾄ | F93: 1040 | G93: 12300 | H93: R75X | I93: 1040 | J93: 12300 | K93: 日東亀山
B94: 91 | C94: 75 | D94: BX8A(37) | E94: 直出し | F94: 1050 | G94: 5800 | H94: RM1Z又はRM10 | I94: 1060 | J94: 6000 | K94: 日東豊橋
B95: 92 | C95: 75 | D95: BX8A(14) | E95: 直出し | F95: 1300 | G95: 4300 | H95: S28（S27) | I95: 1315 | J95: 4500 | K95: ﾄﾖｰｹﾑ
B96: 93
B97: 94
B98: 95
B99: 96
B100: 97
B101: 98
B102: 99
...

Sheet ﾃﾞｰﾀ
B2: 条件登録NO | C2: 品番 | D2: ﾀｲﾌﾟ名称 | E2: 製品仕様 | F2: 幅 | G2: 長さ
B3: 1 | C3: 38 | D3: BKE(09) | E3: 直出し | F3: 1030・1050 | G3: 8400
B4: 2 | C4: 38 | D4: BKE(D) | E4: 直出し | F4: 1030・1050 | G4: 8400
B5: 3 | C5: 38 | D5: BKE(D) | E5: 直出し | F5: 1330 | G5: 6000
B6: 4 | C6: 75 | D6: BKR(U)K | E6: ｽﾘｯﾄ | F6: 1095 | G6: 2000
B7: 5 | C7: 25 | D7: BK(U) | E7: ｽﾘｯﾄ | F7: 890 | G7: 3800
B8: 6 | C8: 25 | D8: BK(U)K | E8: 半直 | F8: 1040 | G8: 6000
B9: 7 | C9: 25 | D9: BK(U)K | E9: 半直 | F9: 1080 | G9: 6000
B10: 8 | C10: 38 | D10: ＢＫ（Ｓ） | E10: ｽﾘｯﾄ | F10: 1590 | G10: 4000
B11: 9 | C11: 25 | D11: BX8ARX | E11: ｽﾘｯﾄ | F11: 740 | G11: 2100
B12: 10 | C12: 75 | D12: BX8A(X) | E12: 直出し | F12: 1330 | G12: 4000
B13: 11 | C13: 125 | D13: MDA(R) | E13: 直出し | F13: 1100 | G13: 3400
B14: 12 | C14: 31 | D14: MFA(CR) | E14: ｽﾘｯﾄ | F14: 440 | G14: 6500
B15: 13 | C15: 100 | D15: MFA(S) | E15: ｽﾘｯﾄ | F15: 330 | G15: 550
B16: 14 | C16: 100 | D16: MFA(S) | E16: ｽﾘｯﾄ | F16: 450 | G16: 750
... B20: 18 | C20: 75 | D20: MFA(S) | E20: ｽﾘｯﾄ | F20: 220 | G20: 1200
B21: 19 | C21: 25 | D21: SY08 | F21: 500 | G21: 4000
B22: 20 | C22: 38 | D22: TX011(01) | F22: 476.666 | G22: 1216.666
B23: 21 | C23: 25 | D23: WZ | E23: 直出し・ｽﾘｯﾄ | F23: 1030 | G23: 12000
B24: 22 | C24: 25 | D24: WZ | E24: 直出し | F24: 1,050/1,100 | G24: 6000・8000・12000・12600
B25: 23 | C25: 25 | D25: WZ | E25: 直出し | F25: 1320 | G25: 6000・8000・12600
B26: 24 | C26: 25 | D26: WZ | E26: 直出し | F26: 1240 | G26: 11200
B27: 25 | C27: 25・38 | D27: WZ(E) | E27: 半直出し | F27: 1040 | G27: 6000
B28: 26 | C28: 25・38 | D28: WZ(E) | E28: 半直出し | F28: 1240 | G28: 6000
B29: 27 | C29: 25・38 | D29: WZ(E) | E29: 直出し | F29: 1240 | G29: 6000
B30: 28 | C30: 25 | D30: WZ(RX) | E30: ｽﾘｯﾄ | F30: 540・640・780 | G30: 2000
B31: 29 | C31: 38 | D31: WZ(RX) | E31: 半直出し | F31: 1130 | G31: 6000
B32: 30 | C32: 38 | D32: WZ(RX) | E32: 半直出し | F32: 1430 | G32: 6000
B33: 31 | C33: 125 | D33: WZ(S) | E33: 直出し | F33: 1225 | G33: 1800
B34: 32 | C34: 38 | D34: WZ(S) | E34: 直出し | F34: 1000 | G34: 8000
B35: 33 | C35: 38 | D35: WZ(S) | E35: 直出し | F35: 1410 | G35: 8000
B36: 34 | C36: 25 | D36: WZ(U) | E36: ｽﾘｯﾄMK-1 | F36: 1150 | G36: 4200
B37: 35 | C37: 25 | D37: WZ(U) | E37: ｽﾘｯﾄMK-1 | F37: 1420 | G37: 12600
B38: 36 | C38: 25 | D38: WZ(U) | E38: 半直出し | F38: 1410 | G38: 6000
B39: 37 | D39: WZ(U) | E39: 直出し | F39: 1320 | G39: 8000
B40: 38 | C40: 38 | D40: WZ(T) | E40: 直出し | F40: 1320 | G40: 8000
B41: 39 | C41: 25 | D41: BKE(RX) | E41: ｽﾘｯﾄ | F41: 1330 | G41: 6000
B42: 40 | C42: 38 | D42: BKE(RX) | E42: ｽﾘｯﾄ | F42: 1330 | G42: 6000
B43: 41 | C43: 38 | D43: BKE(RX) | E43: 半直出し | F43: 1330 | G43: 6000
B44: 42 | C44: 38 | D44: BKE(RX) | E44: ｽﾘｯﾄ | F44: 1480 | G44: 6000
B45: 43 | C45: 38 | D45: BKE(RX) | E45: ｽﾘｯﾄ | F45: 1580 | G45: 6000
B46: 44 | D46: BKE(RX) | E46: 直出し | F46: 1030 | G46: 8400
B47: 45 | C47: 38 | D47: BX8ARX | E47: ｽﾘｯﾄ | F47: 1330 | G47: 6000
B48: 46 | C48: 38 | D48: BX8ARX | E48: 直出し | F48: 1330 | G48: 6000
B49: 47 | C49: 38 | D49: BX8(R) | E49: 直出し | F49: 1330 | G49: 12000
B50: 48 | C50: 38 | D50: MD(A)(R) | E50: 半直出し | F50: 1020 | G50: 6000
B51: 49 | C51: 38 | D51: MD(A)(R) | E51: 半直出し | F51: 1250 | G51: 6000
B52: 50 | C52: 38 | D52: MD(A)(R) | E52: ｽﾘｯﾄ行き | F52: 1580 | G52: 4000
B53: 51 | C53: 125 | D53: MDA(R) | E53: 直出し | F53: 1585 | G53: 3400
B54: 52 | C54: 38 | D54: MDA(RX) | E54: ｽﾘｯﾄ行き | F54: 315 | G54: 1950
B55: 53 | C55: 38 | D55: MDA(RX) | E55: ｽﾘｯﾄ行き | F55: 415 | G55: 1950
B56: 54 | C56: 38 | D56: MDA(PRF) | E56: 直出し | F56: 1140 | G56: 12000
B57: 55 | C57: 38 | D57: MDA(PRF)L/（CPRF)L | E57: 直出し | F57: 1145 | G57: 12000
B58: 56 | C58: 38 | D58: KMDA(CPRF) | E58: 直出し | F58: 1320 | G58: 12000
... B63: 61 | C63: 75 | D63: BX8AD | E63: 直出し | F63: 1330 | G63: 5000
B64: 62
B65: 63 | C65: 25 | D65: WZ(RX) | F65: 1180 | G65: 2000
B66: 64 | C66: 50 | D66: MDA(S) | E66: 直出し | F66: 1300 | G66: 6200
B67: 65 | C67: 38 | D67: BX8ARX | F67: 500 | G67: 4000
B68: 66 | C68: 75 | D68: BX8AS | E68: 直出し | F68: 1040 | G68: 4000
B69: 67 | C69: 75 | D69: BX9AS | E69: 直出し | F69: 1040 | G69: 4000
B70: 68 | C70: 75 | D70: MFA(S) | F70: 1040 | G70: 4000
B71: 69 | C71: 188 | D71: PJ10106 | F71: 1580 | G71: 1000
B72: 70 | C72: 75 | D72: HP2(U) | F72: 360 | G72: 900
B73: 71 | C73: 50 | D73: MDA(S) | E73: 直出し | F73: 1300 | G73: 3900
B74: 72 | C74: 188 | D74: MFA(S) | E74: ｽﾘｯﾄ行き | F74: 1600 | G74: 800
B75: 73 | C75: 38 | D75: MFA(RX) | E75: ｽﾘｯﾄ
B76: 74 | C76: 38 | D76: BX8ARX | E76: ｽﾘｯﾄ | F76: 1580 | G76: 6000
A77: a | B77: 75 | C77: 38 | D77: BX8ARX | E77: ｽﾘｯﾄ | F77: 1480 | G77: 6000
B78: 76 | C78: 75 | D78: BX8A(X) | E78: 直出し | F78: 1330 | G78: 4000
B79: 77 | C79: 38 | D79: BX9ARX | E79: ｽﾘｯﾄ | F79: 1330 | G79: 6000
B80: 78 | C80: 50 | D80: SY（19） | E80: ｽﾘｯﾄ | F80: 540または1100 | G80: 300または500
B81: 79 | C81: 50 | D81: SY（18）BS | E81: ｽﾘｯﾄ | F81: 540または1000 | G81: 500または700
B82: 80 | C82: 50 | D82: TK07 | E82: 直出し | F82: 1100～1500 | G82: 4000
B83: 81 | C83: 75 | D83: BX8A(X) | E83: ｽﾘｯﾄまたは直出し | F83: 1100 | G83: 2000or4000
B84: 82 | C84: 50 | D84: SY(09） | E84: ｽﾘｯﾄ | F84: 1080 | G84: 4000
B85: 83 | C85: 38 | D85: BKE(09) | E85: 直出し | F85: 1360 | G85: 8400
B86: 84 | C86: 75 | D86: BX8A(X) | E86: 直出し | F86: 1100 | G86: 4000
B87: 85 | C87: 38 | D87: MD(A)(R) | E87: ｽﾘｯﾄ | F87: 750 | G87: 6000
B88: 86 | C88: 38 | D88: BX8ARX | E88: ｽﾘｯﾄ | F88: 1330 | G88: 6000
B89: 87 | C89: 25 | D89: WZ(U) | E89: 直出し | F89: 1150 | G89: 12400
B90: 88 | C90: 25 | D90: WZ(U) | E90: 半直出し | F90: 1150 | G90: 6000
B91: 89 | C91: 25 | D91: WZ(RX) | E91: ｽﾘｯﾄ | F91: 450 | G91: 4000
B92: 90 | C92: 25 | D92: WZ(RX) | E92: ｽﾘｯﾄ | F92: 1040 | G92: 12300
B93: 91 | C93: 75 | D93: BX8A(37) | E93: 直出し | F93: 1050 | G93: 5800
B94: 92 | C94: 75 | D94: BX8A(14) | E94: 直出し | F94: 1300 | G94: 4300
B95: 93
B96: 94
B97: 95
B98: 96
B99: 97
B100: 98
B101: 99
B102: 100

Sheet 条件規格
B1: 規格登録NO | C1: 1 | D1: 2 | E1: 3 | F1: 4 | G1: 5 | H1: 6 | I1: 7 | J1: 8 | K1: 9 | L1: 10 | M1: 11 | N1: 12 | O1: 13 | P1: 14 | Q1: 15 | R1: 16 | S1: 17 | T1: 18 | U1: 19 | V1: 20 | W1: 21 | X1: 22 | Y1: 23 | Z1: 24 | AA1: 25 | AB1: 26 | AC1: 27 | AD1: 28 | AE1: 29 | AF1: 30 | AG1: 31 | AH1: 32 | AI1: 33 | AJ1: 34 | AK1: 35 | AL1: 36 | AM1: 37 | AN1: 38 | AO1: 39 | AP1: 40 | AQ1: 41 | AR1: 42 | AS1: 43 | AT1: 44 | AU1: 45 | AV1: 46 | AW1: 47 | AX1: 48 | AY1: 49 | AZ1: 50 | BA1: 51 | BB1: 52 | BC1: 53 | BD1: 54 | BE1: 55 | BF1: 56 | BG1: 57 | BH1: 58 | BI1: 59 | BJ1: 60 | BK1: 61 | BL1: 62 | BM1: 63 | BN1: 64 | BO1: 65 | BP1: 66 | BQ1: 67 | BR1: 68 | BS1: 69 | BT1: 70 | BU1: 71 | BV1: 72 | BW1: 73 | BX1: 74 | BY1: 75 | BZ1: 76 | CA1: 77 | CB1: 78 | CC1: 79 | CD1: 80 | CE1: 81 | CF1: 82 | CG1: 83 | CH1: 84 | CI1: 85 | CJ1: 86 | CK1: 87 | CL1: 88 | CM1: 89 | CN1: 90 | CO1: 91 | CP1: 92 | CQ1: 93 | CR1: 94 | CS1: 95 | CT1: 96 | CU1: 97 | CV1: 98 | CW1: 99 | CX1: 100
A2: 項目1 | B2: 品番 | C2: 38 | D2: 38 | E2: 38 | F2: 75 | G2: 25 | H2: 25 | I2: 25 | J2: 38 | K2: 25 | L2: 75 | M2: 125 | N2: 31 | O2: 100 | P2: 100 | Q2: 125 | R2: 188 | S2: 188 | T2: 75 | U2: 25 | V2: 38 | W2: 25 | X2: 25 | Y2: 25 | Z2: 25 | AA2: 25・38 | AB2: 25・38 | AC2: 25・38 | AD2: 25 | AE2: 38 | AF2: 38 | AG2: 125 | AH2: 38 | AI2: 38 | AJ2: 25 | AK2: 25 | AL2: 25 | AN2: 38 | AO2: 25 | AP2: 38 | AQ2: 38 | AR2: 38 | AS2: 38 | AU2: 38 | AV2: 38 | AW2: 38 | AX2: 38 | AY2: 38 | AZ2: 38 | BA2: 125 | BB2: 38 | BC2: 38 | BD2: 38 | BE2: 38 | BF2: 38 | BG2: 38 | BH2: 38 | BI2: 38 | BJ2: 38 | BK2: 75 | BL2: 25 | BM2: 25 | BN2: 50 | BO2: 38 | BP2: 75 | BQ2: 75 | BS2: 188 | BT2: 75 | BU2: 50 | BV2: 188 | BW2: 38 | BX2: 38 | BY2: 38 | BZ2: 75 | CA2: 38 | CB2: 50 | CC2: 50 | CD2: 50 | CE2: 75 | CF2: 50 | CG2: 38 | CH2: 75 | CI2: 38 | CJ2: 38 | CK2: 25 | CL2: 25 | CM2: 25 | CN2: 25 | CO2: 75 | CP2: 75 | CQ2: 38
A3: 項目2 | B3: ﾀｲﾌﾟ名称 | C3: BKE(09) | D3: BKE(D) | E3: BKE(D) | F3: BKR(U)K | G3: BK(U) | H3: BK(U)K | I3: BK(U)K | J3: ＢＫ（Ｓ） | K3: BX8ARX | L3: BX8A(X) | M3: MDA(R) | N3: MFA(CR) | O3: MFA(S) | P3: MFA(S) | Q3: MFA(S) | R3: MFA(S) | S3: MFA(S) | T3: MFA(S) | U3: SY08 | V3: TX011(01) | W3: WZ | X3: WZ | Y3: WZ | Z3: WZ | AA3: WZ(E) | AB3: WZ(E) | AC3: WZ(E) | AD3: WZ(RX) | AE3: WZ(RX) | AF3: WZ(RX) | AG3: WZ(S) | AH3: WZ(S) | AI3: WZ(S) | AJ3: WZ(U) | AK3: WZ(U) | AL3: WZ(U) | AM3: WZ(U) | AN3: WZ(T) | AO3: BKE(RX) | AP3: BKE(RX) | AQ3: BKE(RX) | AR3: BKE(RX) | AS3: BKE(RX) | AT3: BKE(RX) | AU3: BX8ARX | AV3: BX8ARX | AW3: BX8(R) | AX3: MD(A)(R) | AY3: MD(A)(R) | AZ3: MD(A)(R) | BA3: MDA(R) | BB3: MDA(RX) | BC3: MDA(RX) | BD3: MDA(PRF) | BE3: KMDA(CPR) | BF3: MDA(PRF) | BG3: MDA(PRF)L | BH3: MDA(PRF)L/（CPRF)L | BI3: MDA(PRF)L/（CPRF)L | BJ3: MDA(PRF)・（CPRF) | BK3: BX8AD | BL3: WZ(RX) | BM3: WZ(RX) | BN3: MDA(S) | BO3: BX8ARX | BP3: BX8AS | BQ3: BX9AS | BS3: PJ10106 | BT3: HP2(U) | BU3: MDA(S) | BV3: MFA(S) | BW3: MFA(RX) | BX3: BX8ARX | BY3: BX8ARX | BZ3: BX8A(X) | CA3: BX9ARX | CB3: SY（19） | CC3: SY（18）BS | CD3: TK07 | CE3: BX8A(X) | CF3: SY(09） | CG3: BKE(09) | CH3: BX8A(X) | CI3: MD(A)(R) | CJ3: BX8ARX | CK3: WZ(U) | CL3: WZ(U) | CM3: WZ(RX) | CN3: WZ(RX) | CO3: BX8A(37) | CP3: BX8A(14) | CQ3: BKE(09)
A4: 項目3 | B4: 製品仕様 | C4: 直出し | D4: 直出し | E4: 直出し | F4: ｽﾘｯﾄ | G4: ｽﾘｯﾄ | J4: ｽﾘｯﾄ | W4: 直出し・ｽﾘｯﾄ | X4: 直出し | Y4: 直出し | Z4: 直出し | AA4: 半直出し | AB4: 半直出し | AC4: 直出し | AD4: ｽﾘｯﾄ | AE4: 半直出し | AF4: 半直出し | AG4: 直出し | AH4: 直出し | AI4: 直出し | AJ4: ｽﾘｯﾄMK-1 | AK4: ｽﾘｯﾄMK-1 | AL4: 半直出し | AM4: 直出し | AN4: 直出し | AO4: ｽﾘｯﾄ | AP4: ｽﾘｯﾄ | AQ4: 半直出し | AR4: ｽﾘｯﾄ | AS4: ｽﾘｯﾄ | AT4: 直出し | BH4: 直出し | BI4: 直出し | BJ4: 直出し | BU4: 直出し | BV4: ｽﾘｯﾄ行き | BW4: ｽﾘｯﾄ | BX4: ｽﾘｯﾄ | BY4: ｽﾘｯﾄ | BZ4: 直出し | CA4: ｽﾘｯﾄ | CB4: ｽﾘｯﾄ | CC4: ｽﾘｯﾄ | CD4: 直出し | CE4: ｽﾘｯﾄまたは直出し | CF4: ｽﾘｯﾄ | CG4: 直出し | CH4: 直出し | CI4: ｽﾘｯﾄ | CK4: 直出し | CL4: 半直出し | CM4: ｽﾘｯﾄ | CN4: ｽﾘｯﾄ | CO4: 直出し | CP4: 直出し | CQ4: 半直出し
A5: 項目4 | B5: 幅 | C5: 1030・1050 | D5: 1030・1050 | E5: 1330 | F5: 1095 | G5: 890 | H5: 1040 | I5: 1080 | J5: 1590 | K5: 740 | L5: 1330 | M5: 1100 | N5: 440 | O5: 330 | P5: 450 | Q5: 150 | R5: 1130 | S5: 1220 | T5: 220 | U5: 500 | V5: 476.666 | W5: 1030 | X5: 1,050/1,100 | Y5: 1320 | Z5: 1240 | AA5: 1040 | AB5: 1240 | AC5: 1240 | AD5: 540・640・780 | AE5: 1130 | AF5: 1430 | AG5: 1225 | AH5: 1000 | AI5: 1410 | AJ5: 1150 | AK5: 1420 | AL5: 1410 | AM5: 1320 | AN5: 1320 | AO5: 1330 | AP5: 1330 | AQ5: 1330 | AR5: 1480 | AS5: 1580 | AT5: 1030 | AU5: 1330 | AV5: 1330 | AW5: 1330 | AX5: 1020 | AY5: 1250 | AZ5: 1580 | BA5: 1585 | BB5: 315 | BC5: 415 | BD5: 1140 | BE5: 1320 | BF5: 1320 | BG5: 1485 | BH5: 1325 | BI5: 1485 | BJ5: 1480 | BK5: 1330 | BL5: 1180 | BM5: 1180 | BN5: 1300 | BO5: 500 | BP5: 1040 | BQ5: 1040 | BS5: 1580 | BT5: 360 | BU5: 1300 | BV5: 1600 | BX5: 1580 | BY5: 1480 | BZ5: 1330 | CA5: 1330 | CB5: 540または1100 | CC5: 540または1000 | CD5: 1100～1500 | CE5: 1100 | CF5: 1080 | CG5: 1360 | CH5: 1100 | CI5: 750 | CJ5: 1330 | CK5: 1150 | CL5: 1150 | CM5: 450 | CN5: 1040 | CO5: 1050 | CP5: 1300 | CQ5: 1330
A6: 項目5 | B6: 長さ | C6: 8400 | D6: 8400 | E6: 6000 | F6: 2000 | G6: 3800 | H6: 6000 | I6: 6000 | J6: 4000 | K6: 2100 | L6: 4000 | M6: 3400 | N6: 6500 | O6: 550 | P6: 750 | Q6: 200 | R6: 1620 | S6: 800 | T6: 1200 | U6: 4000 | V6: 1216.666 | W6: 12000 | X6: 6000・8000・12000・12600 | Y6: 6000・8000・12600 | Z6: 11200 | AA6: 6000 | AB6: 6000 | AC6: 6000 | AD6: 2000 | AE6: 6000 | AF6: 6000 | AG6: 1800 | AH6: 8000 | AI6: 8000 | AJ6: 4200 | AK6: 12400 | AL6: 6000 | AM6: 8000 | AN6: 8000 | AO6: 6000 | AP6: 6000 | AQ6: 6000 | AR6: 6000 | AS6: 6000 | AT6: 8400 | AU6: 6000 | AV6: 6000 | AW6: 12000 | AX6: 6000 | AY6: 6000 | AZ6: 4000 | BA6: 3400 | BB6: 1950 | BC6: 1950 | BD6: 12000 | BE6: 12000 | BF6: 12000 | BG6: 12000 | BH6: 12000 | BI6: 12000 | BJ6: 12000 | BK6: 5000 | BL6: 2000 | BM6: 2000 | BN6: 6200 | BO6: 4000 | BP6: 4000 | BQ6: 4000 | BS6: 1000 | BT6: 900 | BU6: 3900 | BV6: 800 | BX6: 6000 | BY6: 6000 | BZ6: 4000 | CA6: 6000 | CB6: 300または500 | CC6: 500または700 | CD6: 4000 | CE6: 2000or4000 | CF6: 4000 | CG6: 8400 | CH6: 4000 | CI6: 6000 | CJ6: 6000 | CK6: 12400 | CL6: 6000 | CM6: 4000 | CN6: 12300 | CO6: 5800 | CP6: 4300 | CQ6: 6000
A7: 項目6 | B7: 原反品名 | C7: XD500P | D7: T100 | E7: T100 | F7: ｴﾝﾌﾞﾚｯﾄSD | G7: ｴﾝﾌﾞﾚｯﾄS | J7: S28 | W7: R75X | X7: R75X | Y7: R75X | Z7: R75X | AA7: E5001 | AB7: E5001 | AC7: E5001 | AD7: R75X | AE7: R75X | AF7: R75X | AG7: S28(M) | AH7: S28 | AI7: S28 | AJ7: ｴﾝﾌﾞﾚｯﾄS | AK7: ｴﾝﾌﾞﾚｯﾄS | AL7: ｴﾝﾌﾞﾚｯﾄS | AM7: ｴﾝﾌﾞﾚｯﾄS | AN7: T70A | AO7: R75XK | AP7: R75XK | AQ7: R75X | AR7: R75XK | AS7: R75XK | AT7: R75X | AX7: R75X | AY7: R75X | AZ7: R75X | BA7: XD1NB1 | BB7: R75X | BC7: R75X | BD7: XF60R | BE7: XF60RC | BF7: XF60R | BG7: XF60R | BH7: XF60R | BI7: XF60R | BJ7: XF60R | BK7: T100 | BL7: R75X | BM7: R75X | BU7: S28M | BV7: S28M | BW7: R75X | BX7: R75XK | BY7: R75XK | BZ7: XD500P | CA7: R75X | CB7: X42G | CC7: E20 | CD7: XD500P | CE7: XD500P | CF7: XD500P | CG7: XD500P | CH7: XD500P | CI7: R75X | CK7: ｴﾝﾌﾞﾚｯﾄS | CL7: ｴﾝﾌﾞﾚｯﾄS | CM7: R75X | CN7: R75X | CO7: RM1Z又はRM10 | CP7: S28（S27) | CQ7: XD500P
A8: 項目7 | B8: 原反幅 | C8: 1037・1057 | D8: 1040・1050 | E8: 1340・1335 | F8: 1100 | G8: 900・970 | H8: 1045 | I8: 1085 | J8: 1600 | K8: 1520 | L8: 1335 | M8: 1105 | N8: 1370 | O8: 1020 | P8: 1020 | Q8: 1250 | R8: 1134 | S8: 1230 | T8: 1310 | U8: 1045 | V8: 1200 | W8: 1035 | X8: 1,060/1,105 | Y8: 1330 | Z8: 1245 | AA8: 1045 | AB8: 1245 | AC8: 1245 | AD8: 1323 | AE8: 1135 | AF8: 1430 | AG8: 1230 | AH8: 1005 | AI8: 1415 | AJ8: 1155 | AK8: 1245 | AL8: 1415 | AM8: 1325 | AN8: 1325 | AO8: 1337 | AP8: 1335 | AQ8: 1335 | AR8: 1485 | AS8: 1585 | AT8: 1035 | AU8: 1335 | AV8: 1335 | AW8: 1335 | AX8: 1025 | AY8: 1255 | AZ8: 1585 | BA8: 1590 | BB8: 1305 | BC8: 1305 | BD8: 1160 | BE8: 1336 | BF8: 1335 | BG8: 1496 | BH8: 1336 | BI8: 1496 | BJ8: 1496 | BK8: 1335 | BL8: 1323 | BM8: 1323 | BN8: 1310 | BO8: 1025 | BP8: 1045 | BQ8: 1045 | BS8: 1600 | BT8: 1230 | BU8: 1310 | BV8: 1610 | BW8: 1270 | BX8: 1585 | BY8: 1485 | BZ8: 1335 | CA8: 1335 | CB8: 1100 | CC8: 1000 | CD8: 1100～1500 | CE8: 1110 | CF8: 1110 | CG8: 1367 | CH8: 1110 | CI8: 1550 | CJ8: 1335 | CK8: 1155 | CL8: 1155 | CM8: 1040 | CN8: 1040 | CO8: 1060 | CP8: 1315 | CQ8: 1337
A9: 項目8 | B9: 原反長さ | C9: 8500 | D9: 8500 | E9: 12300 | F9: 2200 | G9: 12500 | H9: 12400 | I9: 12400 | J9: 8000 | K9: 13000 | L9: 4200 | M9: 3450 | N9: 13450 | O9: 2400 | P9: 2400 | Q9: 2000 | R9: 1800 | S9: 1800 | T9: 4000 | U9: 12400 | V9: 8000 | W9: 12300 | X9: 12200～16300 | Y9: 12200～16300 | Z9: 11600～12300 | AA9: 12400 | AB9: 12400 | AC9: 6200 | AD9: 16300 | AE9: 12200 | AF9: 6000 | AG9: 2000 | AH9: 8000 | AI9: 8000 | AJ9: 12600 | AK9: 12600 | AL9: 12300 | AM9: 8200 | AN9: 8200 | AO9: 12300 | AP9: 12200 | AQ9: 12200 | AR9: 12200 | AS9: 12200 | AT9: 8500 | AU9: 12200 | AV9: 12200 | AW9: 12200 | AX9: 12200 | AY9: 12400 | AZ9: 12200 | BA9: 3450 | BB9: 12200 | BC9: 12200 | BD9: 12050 | BE9: 12050 | BF9: 12050 | BG9: 12050 | BH9: 12050 | BI9: 12050 | BJ9: 12050 | BK9: 5200 | BL9: 16300 | BM9: 16300 | BN9: 6400 | BO9: 12200 | BP9: 4200 | BQ9: 4200 | BS9: 2000 | BT9: 2100 | BU9: 4000 | BV9: 2000 | BW9: 12400 | BX9: 12200 | BY9: 12200 | BZ9: 4200 | CA9: 12200 | CB9: 1300 | CC9: 2000 | CD9: 4200 | CE9: 4200or4300 | CF9: 4000～6500 | CG9: 8450～8500 | CH9: 4200 | CI9: 12200 | CJ9: 12200 | CK9: 12600 | CL9: 12600 | CM9: 12300 | CN9: 12300 | CO9: 6000 | CP9: 4500 | CQ9: 12200
A10: 項目9 | B10: ﾕｰｻﾞｰ | C10: ﾊﾟﾅｯｸ | D10: ﾊﾟﾅｯｸ | E10: ﾊﾟﾅｯｸ | F10: きもと | G10: 積水化学 | H10: きもと | I10: きもと | J10: ﾘﾝﾃｯｸ | K10: 利昌工業 | L10: 巴川 | M10: 日東尾道 | N10: ﾊﾟﾅｿﾆｯｸAIS | O10: 下田工業/京ｾﾗ | P10: 下田工業 | Q10: 下田工業 | R10: 下田工業 | S10: ＮＧＫ | T10: 真田KOA/MARUWA | W10: ﾊﾟﾅｯｸ | X10: ﾊﾟﾅｯｸ | Y10: ﾊﾟﾅｯｸ | Z10: 東山ﾌｨﾙﾑ | AA10: 古河電工 | AB10: 古河電工 | AC10: 古河電工 | AD10: 三栄産業 | AE10: 東洋包材 | AF10: ﾘｹﾝﾃｸﾉｽ | AG10: 東洋機材 | AH10: ﾘﾝﾃｯｸ | AI10: ﾘﾝﾃｯｸ | AJ10: 日栄化工 | AK10: 日栄化工 | AL10: 藤産業 | AM10: 新ﾀｯｸ化成 | AN10: 東洋包材・ﾘｹﾝﾃｸﾉｽ | AO10: 巴川製紙所 | AP10: 巴川製紙所 | AQ10: ﾊﾟﾅｯｸ | AR10: 巴川製紙所 | AS10: 巴川製紙所 | AT10: ﾊﾟﾅｯｸ | AU10: 巴川製紙所 | AV10: ﾊﾟﾅｯｸ | AW10: 日東豊橋 | AX10: 日東電工豊橋 | AY10: 日東電工豊橋 | AZ10: 日東電工豊橋 | BA10: 日東電工 | BB10: 住友ﾍﾞｰｸﾗｲﾄ | BC10: 住友ﾍﾞｰｸﾗｲﾄ | BD10: 日東電工 | BE10: 日東電工 | BF10: 日東電工 | BG10: 日東電工 | BH10: 日東電工 | BI10: 日東電工 | BJ10: 日東電工 | BK10: ﾊﾟﾅｯｸ | BL10: 日栄化工 | BM10: 三栄産業 | BN10: 日東豊橋 | BP10: 日栄加工 | BQ10: 日栄加工 | BU10: 京ｾﾗ | BV10: 下田工業 | BX10: 巴川製紙所 | BY10: 巴川製紙所 | BZ10: 巴川製紙所 | CA10: 巴川製紙所 | CB10: ﾆｯｶﾝ高萩 | CC10: 栗村化学（ﾕﾙﾁｮﾝ） | CD10: 日栄加工 | CE10: 新ﾀｯｸ化成 | CF10: 栗村化学 | CG10: ﾊﾟﾅｯｸ | CH10: 日栄化工 | CI10: 日東電工豊橋 | CJ10: 住友電工ﾌﾟﾘﾝﾄｻｰｷｯﾄ | CK10: フジコピアン | CL10: 藤産業 | CM10: 日東電工亀山 | CN10: 日東亀山 | CO10: 日東豊橋 | CP10: ﾄﾖｰｹﾑ | CQ10: ﾊﾟﾅｯｸ
A11: 項目10 | B11: 更新日 | C11: - | D11: - | E11: - | F11: - | G11: - | H11: - | I11: - | J11: - | K11: - | L11: - | M11: - | N11: - | O11: - | P11: - | Q11: - | R11: - | S11: - | T11: - | U11: - | V11: - | W11: - | X11: - | Y11: - | Z11: - | AA11: - | AB11: - | AC11: - | AD11: - | AE11: - | AF11: - | AG11: - | AH11: - | AI11: - | AJ11: - | AK11: - | AL11: - | AM11: - | AN11: - | AO11: - | AP11: - | AQ11: - | AR11: - | AS11: - | AT11: - | AU11: - | AV11: - | AW11: - | AX11: - | AY11: - | AZ11: - | BA11: - | BB11: - | BC11: - | BD11: - | BE11: - | BF11: - | BG11: - | BH11: - | BI11: - | BJ11: - | BK11: - | BL11: - | BM11: - | BN11: - | BO11: - | BP11: - | BQ11: - | BR11: - | BS11: - | BT11: - | BU11: - | BV11: - | BW11: - | BX11: - | BY11: - | BZ11: - | CA11: - | CB11: 20191106 | CC11: 20191106 | CD11: 20191107 | CE11: 20191106 | CF11: 20191119 | CG11: 20191203 | CH11: 20200115 | CI11: 20200128 | CJ11: 20200420 | CK11: 20201106 | CL11: 20210119 | CM11: 20210924 | CN11: NEW20220314 | CO11: 20220628 | CP11: 20221013 | CQ11: NEW20230210
A12: ﾊﾟﾗ1 | B12: 原反ｺｰﾄ面 | C12: - | D12: - | E12: - | F12: - | G12: - | H12: - | I12: - | J12: - | K12: - | L12: - | M12: - | N12: - | O12: - | P12: - | Q12: - | R12: - | S12: - | T12: - | U12: - | V12: - | W12: - | X12: - | Y12: - | Z12: - | AA12: - | AB12: - | AC12: - | AD12: - | AE12: - | AF12: - | AG12: - | AH12: - | AI12: - | AJ12: - | AK12: - | AL12: - | AM12: - | AN12: - | AO12: - | AP12: - | AQ12: - | AR12: - | AS12: - | AT12: - | AU12: - | AV12: - | AW12: - | AX12: - | AY12: - | AZ12: - | BA12: - | BB12: - | BC12: - | BD12: - | BE12: - | BF12: - | BG12: - | BH12: - | BI12: - | BJ12: - | BK12: - | BL12: - | BM12: - | BN12: - | BO12: - | BP12: - | BQ12: - | BR12: - | BS12: - | BT12: - | BU12: - | BV12: - | BW12: - | BX12: - | BY12: - | BZ12: - | CA12: - | CB12: - | CC12: - | CD12: - | CE12: - | CF12: - | CG12: - | CH12: - | CI12: - | CJ12: - | CK12: - | CL12: - | CM12: - | CN12: - | CO12: - | CP12: - | CQ12: -
A13: ﾊﾟﾗ2 | B13: 塗工速度(m/min) | C13: ±5 | D13: ±5 | E13: ±5 | F13: ±5 | G13: ±5 | H13: ±5 | I13: ±5 | J13: ±5 | K13: ±5 | L13: ±5 | M13: ±5 | N13: ±5 | O13: ±5 | P13: ±5 | Q13: ±5 | R13: ±5 | S13: ±5 | T13: ±5 | U13: ±5 | V13: ±5 | W13: ±5 | X13: ±5 | Y13: ±5 | Z13: ±5 | AA13: ±5 | AB13: ±5 | AC13: ±5 | AD13: ±5 | AE13: ±5 | AF13: ±5 | AG13: ±5 | AH13: ±5 | AI13: ±5 | AJ13: ±5 | AK13: ±5 | AL13: ±5 | AM13: ±5 | AN13: ±5 | AO13: ±5 | AP13: ±5 | AQ13: ±5 | AR13: ±5 | AS13: ±5 | AT13: ±5 | AU13: ±5 | AV13: ±5 | AW13: ±5 | AX13: ±5 | AY13: ±5 | AZ13: ±5 | BA13: ±5 | BB13: ±5 | BC13: ±5 | BD13: ±5 | BE13: ±5 | BF13: ±5 | BG13: ±5 | BH13: ±5 | BI13: ±5 | BJ13: ±5 | BK13: ±5 | BL13: ±5 | BM13: ±5 | BN13: ±5 | BO13: ±5 | BP13: ±5 | BQ13: ±5 | BR13: ±5 | BS13: ±5 | BT13: ±5 | BU13: ±5 | BV13: ±5 | BW13: ±5 | BX13: ±5 | BY13: ±5 | BZ13: ±5 | CA13: ±5 | CB13: ±5 | CC13: ±5 | CD13: ±5 | CE13: ±5 | CF13: ±5 | CG13: ±5 | CH13: ±5 | CI13: ±5 | CJ13: ±5 | CK13: ±5 | CL13: ±5 | CM13: ±5 | CN13: ±5 | CO13: ±5 | CP13: ±5 | CQ13: ±5
A14: ﾊﾟﾗ3 | B14: 繰出方向 | C14: - | D14: - | E14: - | F14: - | G14: - | H14: - | I14: - | J14: - | K14: - | L14: - | M14: - | N14: - | O14: - | P14: - | Q14: - | R14: - | S14: - | T14: - | U14: - | V14: - | W14: - | X14: - | Y14: - | Z14: - | AA14: - | AB14: - | AC14: - | AD14: - | AE14: - | AF14: - | AG14: - | AH14: - | AI14: - | AJ14: - | AK14: - | AL14: - | AM14: - | AN14: - | AO14: - | AP14: - | AQ14: - | AR14: - | AS14: - | AT14: - | AU14: - | AV14: - | AW14: - | AX14: - | AY14: - | AZ14: - | BA14: - | BB14: - | BC14: - | BD14: - | BE14: - | BF14: - | BG14: - | BH14: - | BI14: - | BJ14: - | BK14: - | BL14: - | BM14: - | BN14: - | BO14: - | BP14: - | BQ14: - | BR14: - | BS14: - | BT14: - | BU14: - | BV14: - | BW14: - | BX14: - | BY14: - | BZ14: - | CA14: - | CB14: - | CC14: - | CD14: - | CE14: - | CF14: - | CG14: - | CH14: - | CI14: - | CJ14: - | CK14: - | CL14: - | CM14: - | CN14: - | CO14: - | CP14: - | CQ14: -
A15: ﾊﾟﾗ4 | B15: 繰出ｽﾌﾟﾗｲｽﾓｰﾄﾞ | C15: - | D15: - | E15: - | F15: - | G15: - | H15: - | I15: - | J15: - | K15: - | L15: - | M15: - | N15: - | O15: - | P15: - | Q15: - | R15: - | S15: - | T15: - | U15: - | V15: - | W15: - | X15: - | Y15: - | Z15: - | AA15: - | AB15: - | AC15: - | AD15: - | AE15: - | AF15: - | AG15: - | AH15: - | AI15: - | AJ15: - | AK15: - | AL15: - | AM15: - | AN15: - | AO15: - | AP15: - | AQ15: - | AR15: - | AS15: - | AT15: - | AU15: - | AV15: - | AW15: - | AX15: - | AY15: - | AZ15: - | BA15: - | BB15: - | BC15: - | BD15: - | BE15: - | BF15: - | BG15: - | BH15: - | BI15: - | BJ15: - | BK15: - | BL15: - | BM15: - | BN15: - | BO15: - | BP15: - | BQ15: - | BR15: - | BS15: - | BT15: - | BU15: - | BV15: - | BW15: - | BX15: - | BY15: - | BZ15: - | CA15: - | CB15: - | CC15: - | CD15: - | CE15: - | CF15: - | CG15: - | CH15: - | CI15: - | CJ15: - | CK15: - | CL15: - | CM15: - | CN15: - | CO15: - | CP15: - | CQ15: -
A16: ﾊﾟﾗ5 | B16: 繰出ｳｪﾌﾞｸﾘｰﾅｰ | C16: - | D16: - | E16: - | F16: - | G16: - | H16: - | I16: - | J16: - | K16: - | L16: - | M16: - | N16: - | O16: - | P16: - | Q16: - | R16: - | S16: - | T16: - | U16: - | V16: - | W16: - | X16: - | Y16: - | Z16: - | AA16: - | AB16: - | AC16: - | AD16: - | AE16: - | AF16: - | AG16: - | AH16: - | AI16: - | AJ16: - | AK16: - | AL16: - | AM16: - | AN16: - | AO16: - | AP16: - | AQ16: - | AR16: - | AS16: - | AT16: - | AU16: - | AV16: - | AW16: - | AX16: - | AY16: - | AZ16: - | BA16: - | BB16: - | BC16: - | BD16: - | BE16: - | BF16: - | BG16: - | BH16: - | BI16: - | BJ16: - | BK16: - | BL16: - | BM16: - | BN16: - | BO16: - | BP16: - | BQ16: - | BR16: - | BS16: - | BT16: - | BU16: - | BV16: - | BW16: - | BX16: - | BY16: - | BZ16: - | CA16: - | CB16: - | CC16: - | CD16: - | CE16: - | CF16: - | CG16: - | CH16: - | CI16: - | CJ16: - | CK16: - | CL16: - | CM16: - | CN16: - | CO16: - | CP16: - | CQ16: -
A17: ﾊﾟﾗ6 | B17: 繰出粘着ﾛｰﾙ | C17: - | D17: - | E17: - | F17: - | G17: - | H17: - | I17: - | J17: - | K17: - | L17: - | M17: - | N17: - | O17: - | P17: - | Q17: - | R17: - | S17: - | T17: - | U17: - | V17: - | W17: - | X17: - | Y17: - | Z17: - | AA17: - | AB17: - | AC17: - | AD17: - | AE17: - | AF17: - | AG17: - | AH17: - | AI17: - | AJ17: - | AK17: - | AL17: - | AM17: - | AN17: - | AO17: - | AP17: - | AQ17: - | AR17: - | AS17: - | AT17: - | AU17: - | AV17: - | AW17: - | AX17: - | AY17: - | AZ17: - | BA17: - | BB17: - | BC17: - | BD17: - | BE17: - | BF17: - | BG17: - | BH17: - | BI17: - | BJ17: - | BK17: - | BL17: - | BM17: - | BN17: - | BO17: - | BP17: - | BQ17: - | BR17: - | BS17: - | BT17: - | BU17: - | BV17: - | BW17: - | BX17: - | BY17: - | BZ17: - | CA17: - | CB17: - | CC17: - | CD17: - | CE17: - | CF17: - | CG17: - | CH17: - | CI17: - | CJ17: - | CK17: - | CL17: - | CM17: - | CN17: - | CO17: - | CP17: - | CQ17: -
A18: ﾊﾟﾗ7 | B18: 高密度除電直流電極＋(KV)) | C18: ±1 | D18: ±1 | E18: ±1 | F18: ±1 | G18: ±1 | H18: ±1 | I18: ±1 | J18: ±1 | K18: ±1 | L18: ±1 | M18: ±1 | N18: ±1 | O18: ±1 | P18: ±1 | Q18: ±1 | R18: ±1 | S18: ±1 | T18: ±1 | U18: ±1 | V18: ±1 | W18: ±1 | X18: ±1 | Y18: ±1 | Z18: ±1 | AA18: ±1 | AB18: ±1 | AC18: ±1 | AD18: ±1 | AE18: ±1 | AF18: ±1 | AG18: ±1 | AH18: ±1 | AI18: ±1 | AJ18: ±1 | AK18: ±1 | AL18: ±1 | AM18: ±1 | AN18: ±1 | AO18: ±1 | AP18: ±1 | AQ18: ±1 | AR18: ±1 | AS18: ±1 | AT18: ±1 | AU18: ±1 | AV18: ±1 | AW18: ±1 | AX18: ±1 | AY18: ±1 | AZ18: ±1 | BA18: ±1 | BB18: ±1 | BC18: ±1 | BD18: ±1 | BE18: ±1 | BF18: ±1 | BG18: ±1 | BH18: ±1 | BI18: ±1 | BJ18: ±1 | BK18: ±1 | BL18: ±1 | BM18: ±1 | BN18: ±1 | BO18: ±1 | BP18: ±1 | BQ18: ±1 | BR18: ±1 | BS18: ±1 | BT18: ±1 | BU18: ±1 | BV18: ±1 | BW18: ±1 | BX18: ±1 | BY18: ±1 | BZ18: ±1 | CA18: ±1 | CB18: ±1 | CC18: ±1 | CD18: ±1 | CE18: ±1 | CF18: ±1 | CG18: ±1 | CH18: ±1 | CI18: ±1 | CJ18: ±1 | CK18: ±1 | CL18: ±1 | CM18: ±1 | CN18: ±1 | CO18: ±1 | CP18: ±1 | CQ18: ±1
A19: ﾊﾟﾗ8 | B19: 高密度除電直流電極－(KV)) | C19: ±1 | D19: ±1 | E19: ±1 | F19: ±1 | G19: ±1 | H19: ±1 | I19: ±1 | J19: ±1 | K19: ±1 | L19: ±1 | M19: ±1 | N19: ±1 | O19: ±1 | P19: ±1 | Q19: ±1 | R19: ±1 | S19: ±1 | T19: ±1 | U19: ±1 | V19: ±1 | W19: ±1 | X19: ±1 | Y19: ±1 | Z19: ±1 | AA19: ±1 | AB19: ±1 | AC19: ±1 | AD19: ±1 | AE19: ±1 | AF19: ±1 | AG19: ±1 | AH19: ±1 | AI19: ±1 | AJ19: ±1 | AK19: ±1 | AL19: ±1 | AM19: ±1 | AN19: ±1 | AO19: ±1 | AP19: ±1 | AQ19: ±1 | AR19: ±1 | AS19: ±1 | AT19: ±1 | AU19: ±1 | AV19: ±1 | AW19: ±1 | AX19: ±1 | AY19: ±1 | AZ19: ±1 | BA19: ±1 | BB19: ±1 | BC19: ±1 | BD19: ±1 | BE19: ±1 | BF19: ±1 | BG19: ±1 | BH19: ±1 | BI19: ±1 | BJ19: ±1 | BK19: ±1 | BL19: ±1 | BM19: ±1 | BN19: ±1 | BO19: ±1 | BP19: ±1 | BQ19: ±1 | BR19: ±1 | BS19: ±1 | BT19: ±1 | BU19: ±1 | BV19: ±1 | BW19: ±1 | BX19: ±1 | BY19: ±1 | BZ19: ±1 | CA19: ±1 | CB19: ±1 | CC19: ±1 | CD19: ±1 | CE19: ±1 | CF19: ±1 | CG19: ±1 | CH19: ±1 | CI19: ±1 | CJ19: ±1 | CK19: ±1 | CL19: ±1 | CM19: ±1 | CN19: ±1 | CO19: ±1 | CP19: ±1 | CQ19: ±1
A20: ﾊﾟﾗ9 | B20: 高密度除電交流電極(KV)) | C20: ±1 | D20: ±1 | E20: ±1 | F20: ±1 | G20: ±1 | H20: ±1 | I20: ±1 | J20: ±1 | K20: ±1 | L20: ±1 | M20: ±1 | N20: ±1 | O20: ±1 | P20: ±1 | Q20: ±1 | R20: ±1 | S20: ±1 | T20: ±1 | U20: ±1 | V20: ±1 | W20: ±1 | X20: ±1 | Y20: ±1 | Z20: ±1 | AA20: ±1 | AB20: ±1 | AC20: ±1 | AD20: ±1 | AE20: ±1 | AF20: ±1 | AG20: ±1 | AH20: ±1 | AI20: ±1 | AJ20: ±1 | AK20: ±1 | AL20: ±1 | AM20: ±1 | AN20: ±1 | AO20: ±1 | AP20: ±1 | AQ20: ±1 | AR20: ±1 | AS20: ±1 | AT20: ±1 | AU20: ±1 | AV20: ±1 | AW20: ±1 | AX20: ±1 | AY20: ±1 | AZ20: ±1 | BA20: ±1 | BB20: ±1 | BC20: ±1 | BD20: ±1 | BE20: ±1 | BF20: ±1 | BG20: ±1 | BH20: ±1 | BI20: ±1 | BJ20: ±1 | BK20: ±1 | BL20: ±1 | BM20: ±1 | BN20: ±1 | BO20: ±1 | BP20: ±1 | BQ20: ±1 | BR20: ±1 | BS20: ±1 | BT20: ±1 | BU20: ±1 | BV20: ±1 | BW20: ±1 | BX20: ±1 | BY20: ±1 | BZ20: ±1 | CA20: ±1 | CB20: ±1 | CC20: ±1 | CD20: ±1 | CE20: ±1 | CF20: ±1 | CG20: ±1 | CH20: ±1 | CI20: ±1 | CJ20: ±1 | CK20: ±1 | CL20: ±1 | CM20: ±1 | CN20: ±1 | CO20: ±1 | CP20: ±1 | CQ20: ±1
A21: ﾊﾟﾗ10 | B21: 高密度除電ｲｵﾝ吸引電極(KV)) | C21: ±1 | D21: ±1 | E21: ±1 | F21: ±1 | G21: ±1 | H21: ±1 | I21: ±1 | J21: ±1 | K21: ±1 | L21: ±1 | M21: ±1 | N21: ±1 | O21: ±1 | P21: ±1 | Q21: ±1 | R21: ±1 | S21: ±1 | T21: ±1 | U21: ±1 | V21: ±1 | W21: ±1 | X21: ±1 | Y21: ±1 | Z21: ±1 | AA21: ±1 | AB21: ±1 | AC21: ±1 | AD21: ±1 | AE21: ±1 | AF21: ±1 | AG21: ±1 | AH21: ±1 | AI21: ±1 | AJ21: ±1 | AK21: ±1 | AL21: ±1 | AM21: ±1 | AN21: ±1 | AO21: ±1 | AP21: ±1 | AQ21: ±1 | AR21: ±1 | AS21: ±1 | AT21: ±1 | AU21: ±1 | AV21: ±1 | AW21: ±1 | AX21: ±1 | AY21: ±1 | AZ21: ±1 | BA21: ±1 | BB21: ±1 | BC21: ±1 | BD21: ±1 | BE21: ±1 | BF21: ±1 | BG21: ±1 | BH21: ±1 | BI21: ±1 | BJ21: ±1 | BK21: ±1 | BL21: ±1 | BM21: ±1 | BN21: ±1 | BO21: ±1 | BP21: ±1 | BQ21: ±1 | BR21: ±1 | BS21: ±1 | BT21: ±1 | BU21: ±1 | BV21: ±1 | BW21: ±1 | BX21: ±1 | BY21: ±1 | BZ21: ±1 | CA21: ±1 | CB21: ±1 | CC21: ±1 | CD21: ±1 | CE21: ±1 | CF21: ±1 | CG21: ±1 | CH21: ±1 | CI21: ±1 | CJ21: ±1 | CK21: ±1 | CL21: ±1 | CM21: ±1 | CN21: ±1 | CO21: ±1 | CP21: ±1 | CQ21: ±1
A22: ﾊﾟﾗ11 | B22: No.1ｺｰﾀｰﾓｰﾄﾞ | C22: - | D22: - | E22: - | F22: - | G22: - | H22: - | I22: - | J22: - | K22: - | L22: - | M22: - | N22: - | O22: - | P22: - | Q22: - | R22: - | S22: - | T22: - | U22: - | V22: - | W22: - | X22: - | Y22: - | Z22: - | AA22: - | AB22: - | AC22: - | AD22: - | AE22: - | AF22: - | AG22: - | AH22: - | AI22: - | AJ22: - | AK22: - | AL22: - | AM22: - | AN22: - | AO22: - | AP22: - | AQ22: - | AR22: - | AS22: - | AT22: - | AU22: - | AV22: - | AW22: - | AX22: - | AY22: - | AZ22: - | BA22: - | BB22: - | BC22: - | BD22: - | BE22: - | BF22: - | BG22: - | BH22: - | BI22: - | BJ22: - | BK22: - | BL22: - | BM22: - | BN22: - | BO22: - | BP22: - | BQ22: - | BR22: - | BS22: - | BT22: - | BU22: - | BV22: - | BW22: - | BX22: - | BY22: - | BZ22: - | CA22: - | CB22: - | CC22: - | CD22: - | CE22: - | CF22: - | CG22: - | CH22: - | CI22: - | CJ22: - | CK22: - | CL22: - | CM22: - | CN22: - | CO22: - | CP22: - | CQ22: -
A23: ﾊﾟﾗ12 | B23: No.1ｺｰﾀｰ制御 | C23: - | D23: - | E23: - | F23: - | G23: - | H23: - | I23: - | J23: - | K23: - | L23: - | M23: - | N23: - | O23: - | P23: - | Q23: - | R23: - | S23: - | T23: - | U23: - | V23: - | W23: - | X23: - | Y23: - | Z23: - | AA23: - | AB23: - | AC23: - | AD23: - | AE23: - | AF23: - | AG23: - | AH23: - | AI23: - | AJ23: - | AK23: - | AL23: - | AM23: - | AN23: - | AO23: - | AP23: - | AQ23: - | AR23: - | AS23: - | AT23: - | AU23: - | AV23: - | AW23: - | AX23: - | AY23: - | AZ23: - | BA23: - | BB23: - | BC23: - | BD23: - | BE23: - | BF23: - | BG23: - | BH23: - | BI23: - | BJ23: - | BK23: - | BL23: - | BM23: - | BN23: - | BO23: - | BP23: - | BQ23: - | BR23: - | BS23: - | BT23: - | BU23: - | BV23: - | BW23: - | BX23: - | BY23: - | BZ23: - | CA23: - | CB23: - | CC23: - | CD23: - | CE23: - | CF23: - | CG23: - | CH23: - | CI23: - | CJ23: - | CK23: - | CL23: - | CM23: - | CN23: - | CO23: - | CP23: - | CQ23: -
... A33: ﾊﾟﾗ22 | B33: No.1循環ﾎﾟﾝﾌﾟ 設定 | C33: - | D33: - | E33: - | F33: - | G33: - | H33: - | I33: - | J33: - | K33: - | L33: - | M33: - | N33: - | O33: - | P33: - | Q33: - | R33: - | S33: - | T33: - | U33: - | V33: - | W33: - | X33: - | Y33: - | Z33: - | AA33: - | AB33: - | AC33: - | AD33: - | AE33: - | AF33: - | AG33: - | AH33: - | AI33: - | AJ33: - | AK33: - | AL33: - | AM33: - | AN33: - | AO33: - | AP33: - | AQ33: - | AR33: - | AS33: - | AT33: - | AU33: - | AV33: - | AW33: - | AX33: - | AY33: - | AZ33: - | BA33: - | BB33: - | BC33: - | BD33: - | BE33: - | BF33: - | BG33: - | BH33: - | BI33: - | BJ33: - | BK33: - | BL33: - | BM33: - | BN33: - | BO33: - | BP33: - | BQ33: - | BR33: - | BS33: - | BT33: - | BU33: - | BV33: - | BW33: - | BX33: - | BY33: - | BZ33: - | CA33: - | CB33: - | CC33: - | CD33: - | CE33: - | CF33: - | CG33: - | CH33: - | CI33: - | CJ33: - | CK33: - | CL33: - | CM33: - | CN33: - | CO33: - | CP33: - | CQ33: -
A34: ﾊﾟﾗ23 | B34: No.1循環ﾎﾟﾝﾌﾟ 回転数(rpm) | C34: ±100 | D34: ±100 | E34: ±100 | F34: - | G34: - | H34: - | I34: - | J34: - | K34: ±100 | L34: ±100 | M34: ±100 | N34: ±100 | O34: ±100 | P34: ±100 | Q34: ±100 | R34: ±100 | S34: ±100 | T34: ±100 | W34: - | X34: - | Y34: - | Z34: - | AA34: - | AB34: - | AC34: - | AD34: - | AE34: - | AF34: - | AG34: - | AH34: - | AI34: - | AJ34: - | AK34: - | AL34: - | AM34: - | AN34: - | BL34: - | BM34: - | BR34: ±100 | BU34: ±100 | BV34: ±100 | BW34: ±100 | BX34: ±100 | BY34: ±100 | BZ34: ±100 | CA34: ±100 | CB34: ±100 | CC34: ±100 | CE34: ±100 | CF34: ±100 | CG34: ±100 | CH34: ±100 | CK34: - | CL34: - | CM34: - | CN34: - | CO34: ±100 | CQ34: ±100
A35: ﾊﾟﾗ24 | B35: No.2ｺｰﾀｰﾓｰﾄﾞ | C35: - | D35: - | E35: - | F35: - | G35: - | H35: - | I35: - | J35: - | K35: - | L35: - | M35: - | N35: - | O35: - | P35: - | Q35: - | R35: - | S35: - | T35: - | U35: - | V35: - | W35: - | X35: - | Y35: - | Z35: - | AA35: - | AB35: - | AC35: - | AD35: - | AE35: - | AF35: - | AG35: - | AH35: - | AI35: - | AJ35: - | AK35: - | AL35: - | AM35: - | AN35: - | AO35: - | AP35: - | AQ35: - | AR35: - | AS35: - | AT35: - | AU35: - | AV35: - | AW35: - | AX35: - | AY35: - | AZ35: - | BA35: - | BB35: - | BC35: - | BD35: - | BE35: - | BF35: - | BG35: - | BH35: - | BI35: - | BJ35: - | BK35: - | BL35: - | BM35: - | BN35: - | BO35: - | BP35: - | BQ35: - | BR35: - | BS35: - | BT35: - | BU35: - | BV35: - | BW35: - | BX35: - | BY35: - | BZ35: - | CA35: - | CB35: - | CC35: - | CD35: - | CE35: - | CF35: - | CG35: - | CH35: - | CI35: - | CJ35: - | CK35: - | CL35: - | CM35: - | CN35: - | CO35: - | CP35: - | CQ35: -
A36: ﾊﾟﾗ25 | B36: No.2ｺｰﾀｰ制御 | C36: - | D36: - | E36: - | F36: - | G36: - | H36: - | I36: - | J36: - | K36: - | L36: - | M36: - | N36: - | O36: - | P36: - | Q36: - | R36: - | S36: - | T36: - | U36: - | V36: - | W36: - | X36: - | Y36: - | Z36: - | AA36: - | AB36: - | AC36: - | AD36: - | AE36: - | AF36: - | AG36: - | AH36: - | AI36: - | AJ36: - | AK36: - | AL36: - | AM36: - | AN36: - | AO36: - | AP36: - | AQ36: - | AR36: - | AS36: - | AT36: - | AU36: - | AV36: - | AW36: - | AX36: - | AY36: - | AZ36: - | BA36: - | BB36: - | BC36: - | BD36: - | BE36: - | BF36: - | BG36: - | BH36: - | BI36: - | BJ36: - | BK36: - | BL36: - | BM36: - | BN36: - | BO36: - | BP36: - | BQ36: - | BR36: - | BS36: - | BT36: - | BU36: - | BV36: - | BW36: - | BX36: - | BY36: - | BZ36: - | CA36: - | CB36: - | CC36: - | CD36: - | CE36: - | CF36: - | CG36: - | CH36: - | CI36: - | CJ36: - | CK36: - | CL36: - | CM36: - | CN36: - | CO36: - | CP36: - | CQ36: -
A37: ﾊﾟﾗ26 | B37: No.2ｸﾞﾗﾋﾞｱﾛｰﾙ 種類 | C37: - | D37: - | E37: - | F37: - | G37: - | H37: - | I37: - | J37: - | K37: - | L37: - | M37: - | N37: - | O37: - | P37: - | Q37: - | R37: - | S37: - | T37: - | U37: - | V37: - | W37: - | X37: - | Y37: - | Z37: - | AA37: - | AB37: - | AC37: - | AD37: - | AE37: - | AF37: - | AG37: - | AH37: - | AI37: - | AJ37: - | AK37: - | AL37: - | AM37: - | AN37: - | AO37: - | AP37: - | AQ37: - | AR37: - | AS37: - | AT37: - | AU37: - | AV37: - | AW37: - | AX37: - | AY37: - | AZ37: - | BA37: - | BB37: - | BC37: - | BD37: - | BE37: - | BF37: - | BG37: - | BH37: - | BI37: - | BJ37: - | BK37: - | BL37: - | BM37: - | BN37: - | BO37: - | BP37: - | BQ37: - | BR37: - | BS37: - | BT37: - | BU37: - | BV37: - | BW37: - | BX37: - | BY37: - | BZ37: - | CA37: - | CB37: - | CC37: - | CD37: - | CE37: - | CF37: - | CG37: - | CH37: - | CI37: - | CJ37: - | CK37: - | CL37: - | CM37: - | CN37: - | CO37: - | CP37: - | CQ37: -
A38: ﾊﾟﾗ27 | B38: No.2ｸﾞﾗﾋﾞｱﾛｰﾙ 速度(m/min) | C38: ±10 | D38: ±10 | E38: ±10 | F38: ±10 | G38: ±10 | H38: ±10 | I38: ±10 | J38: ±10 | K38: ±10 | L38: ±10 | M38: ±10 | N38: ±10 | O38: ±10 | P38: ±10 | Q38: ±10 | R38: ±10 | S38: ±10 | T38: ±10 | U38: ±10 | V38: ±10 | W38: ±10 | X38: ±10 | Y38: ±10 | Z38: ±10 | AA38: ±10 | AB38: ±10 | AC38: ±10 | AD38: ±10 | AE38: ±10 | AF38: ±10 | AG38: ±10 | AH38: ±10 | AI38: ±10 | AJ38: ±10 | AK38: ±10 | AL38: ±10 | AM38: ±10 | AN38: ±10 | AO38: ±10 | AP38: ±10 | AQ38: ±10 | AR38: ±10 | AS38: ±10 | AT38: ±10 | AU38: ±10 | AV38: ±10 | AW38: ±10 | AX38: ±10 | AY38: ±10 | AZ38: ±10 | BA38: ±10 | BB38: ±10 | BC38: ±10 | BD38: ±10 | BE38: ±10 | BF38: ±10 | BG38: ±10 | BH38: ±10 | BI38: ±10 | BJ38: ±10 | BK38: ±10 | BL38: ±10 | BM38: ±10 | BN38: ±10 | BO38: ±10 | BP38: ±10 | BQ38: ±10 | BR38: ±10 | BS38: ±10 | BT38: ±10 | BU38: ±10 | BV38: ±10 | BW38: ±10 | BX38: ±10 | BY38: ±10 | BZ38: ±10 | CA38: ±10 | CB38: ±10 | CC38: ±10 | CD38: ±10 | CE38: ±10 | CF38: ±10 | CG38: ±10 | CH38: ±10 | CI38: ±10 | CJ38: ±10 | CK38: ±10 | CL38: ±10 | CM38: ±10 | CN38: ±10 | CO38: ±10 | CP38: ±10 | CQ38: ±10
A39: ﾊﾟﾗ28 | B39: No.2ｲﾝﾌﾟﾚｯｼｮﾝﾛｰﾙ 種類 | C39: - | D39: - | E39: - | F39: - | G39: - | H39: - | I39: - | J39: - | K39: - | L39: - | M39: - | N39: - | O39: - | P39: - | Q39: - | R39: - | S39: - | T39: - | U39: - | V39: - | W39: - | X39: - | Y39: - | Z39: - | AA39: - | AB39: - | AC39: - | AD39: - | AE39: - | AF39: - | AG39: - | AH39: - | AI39: - | AJ39: - | AK39: - | AL39: - | AM39: - | AN39: - | AO39: - | AP39: - | AQ39: - | AR39: - | AS39: - | AT39: - | AU39: - | AV39: - | AW39: - | AX39: - | AY39: - | AZ39: - | BA39: - | BB39: - | BC39: - | BD39: - | BE39: - | BF39: - | BG39: - | BH39: - | BI39: - | BJ39: - | BK39: - | BL39: - | BM39: - | BN39: - | BO39: - | BP39: - | BQ39: - | BR39: - | BS39: - | BT39: - | BU39: - | BV39: - | BW39: - | BX39: - | BY39: - | BZ39: - | CA39: - | CB39: - | CC39: - | CD39: - | CE39: - | CF39: - | CG39: - | CH39: - | CI39: - | CJ39: - | CK39: - | CL39: - | CM39: - | CN39: - | CO39: - | CP39: - | CQ39: -
A40: ﾊﾟﾗ29 | B40: No.2ｲﾝﾌﾟﾚｯｼｮﾝﾛｰﾙ 圧力(Mpa) | C40: ±0.1 | D40: ±0.1 | E40: ±0.1 | F40: ±0.1 | G40: ±0.1 | H40: ±0.1 | I40: ±0.1 | J40: ±0.1 | K40: ±0.1 | L40: ±0.1 | M40: ±0.1 | N40: ±0.1 | O40: ±0.1 | P40: ±0.1 | Q40: ±0.1 | R40: ±0.1 | S40: ±0.1 | T40: ±0.1 | U40: ±0.1 | V40: ±0.1 | W40: ±0.1 | X40: ±0.1 | Y40: ±0.1 | Z40: ±0.1 | AA40: ±0.1 | AB40: ±0.1 | AC40: ±0.1 | AD40: ±0.1 | AE40: ±0.1 | AF40: ±0.1 | AG40: ±0.1 | AH40: ±0.1 | AI40: ±0.1 | AJ40: ±0.1 | AK40: ±0.1 | AL40: ±0.1 | AM40: ±0.1 | AN40: ±0.1 | AO40: ±0.1 | AP40: ±0.1 | AQ40: ±0.1 | AR40: ±0.1 | AS40: ±0.1 | AT40: ±0.1 | AU40: ±0.1 | AV40: ±0.1 | AW40: ±0.1 | AX40: ±0.1 | AY40: ±0.1 | AZ40: ±0.1 | BA40: ±0.1 | BB40: ±0.1 | BC40: ±0.1 | BD40: ±0.1 | BE40: ±0.1 | BF40: ±0.1 | BG40: ±0.1 | BH40: ±0.1 | BI40: ±0.1 | BJ40: ±0.1 | BK40: ±0.1 | BL40: ±0.1 | BM40: ±0.1 | BN40: ±0.1 | BO40: ±0.1 | BP40: ±0.1 | BQ40: ±0.1 | BR40: ±0.1 | BS40: ±0.1 | BT40: ±0.1 | BU40: ±0.1 | BV40: ±0.1 | BW40: ±0.1 | BX40: ±0.1 | BY40: ±0.1 | BZ40: ±0.1 | CA40: ±0.1 | CB40: ±0.1 | CC40: ±0.1 | CD40: ±0.1 | CE40: ±0.1 | CF40: ±0.1 | CG40: ±0.1 | CH40: ±0.1 | CI40: ±0.1 | CJ40: ±0.1 | CK40: ±0.1 | CL40: ±0.1 | CM40: ±0.1 | CN40: ±0.1 | CO40: ±0.1 | CP40: ±0.1 | CQ40: ±0.1
A41: ﾊﾟﾗ30 | B41: No.2ﾀﾞｳﾝﾛｰﾙ高さ(mm) | C41: - | D41: - | E41: - | F41: - | G41: - | H41: - | I41: - | J41: - | K41: - | L41: - | M41: - | N41: - | O41: - | P41: - | Q41: - | R41: - | S41: - | T41: - | U41: - | V41: - | W41: - | X41: - | Y41: - | Z41: - | AA41: - | AB41: - | AC41: - | AD41: - | AE41: - | AF41: - | AG41: - | AH41: - | AI41: - | AJ41: - | AK41: - | AL41: - | AM41: - | AN41: - | AO41: - | AP41: - | AQ41: - | AR41: - | AS41: - | AT41: - | AU41: - | AV41: - | AW41: - | AX41: - | AY41: - | AZ41: - | BA41: - | BB41: - | BC41: - | BD41: - | BE41: - | BF41: - | BG41: - | BH41: - | BI41: - | BJ41: - | BK41: - | BL41: - | BM41: - | BN41: - | BO41: - | BP41: - | BQ41: - | BR41: - | BS41: - | BT41: - | BU41: - | BV41: - | BW41: - | BX41: - | BY41: - | BZ41: - | CA41: - | CB41: - | CC41: - | CD41: - | CE41: - | CF41: - | CG41: - | CH41: - | CI41: - | CJ41: - | CK41: - | CL41: - | CM41: - | CN41: - | CO41: - | CP41: - | CQ41: -
A42: ﾊﾟﾗ31 | B42: No.2ﾊﾞｯｸｱｯﾌﾟﾛｰﾙ圧 | C42: - | D42: - | E42: - | F42: - | G42: - | H42: - | I42: - | J42: - | K42: - | L42: - | M42: - | N42: - | O42: - | P42: - | Q42: - | R42: - | S42: - | T42: - | U42: - | V42: - | W42: - | X42: - | Y42: - | Z42: - | AA42: - | AB42: - | AC42: - | AD42: - | AE42: - | AF42: - | AG42: - | AH42: - | AI42: - | AJ42: - | AK42: - | AL42: - | AM42: - | AN42: - | AO42: - | AP42: - | AQ42: - | AR42: - | AS42: - | AT42: - | AU42: - | AV42: - | AW42: - | AX42: - | AY42: - | AZ42: - | BA42: - | BB42: - | BC42: - | BD42: - | BE42: - | BF42: - | BG42: - | BH42: - | BI42: - | BJ42: - | BK42: - | BL42: - | BM42: - | BN42: - | BO42: - | BP42: - | BQ42: - | BR42: - | BS42: - | BT42: - | BU42: - | BV42: - | BW42: - | BX42: - | BY42: - | BZ42: - | CA42: - | CB42: - | CC42: - | CD42: - | CE42: - | CF42: - | CG42: - | CH42: - | CI42: - | CJ42: - | CK42: - | CL42: - | CM42: - | CN42: - | CO42: - | CP42: - | CQ42: -
A43: ﾊﾟﾗ32 | B43: No.2ﾄﾞｸﾀｰ 種類 | C43: - | D43: - | E43: - | F43: - | G43: - | H43: - | I43: - | J43: - | K43: - | L43: - | M43: - | N43: - | O43: - | P43: - | Q43: - | R43: - | S43: - | T43: - | U43: - | V43: - | W43: - | X43: - | Y43: - | Z43: - | AA43: - | AB43: - | AC43: - | AD43: - | AE43: - | AF43: - | AG43: - | AH43: - | AI43: - | AJ43: - | AK43: - | AL43: - | AM43: - | AN43: - | AO43: - | AP43: - | AQ43: - | AR43: - | AS43: - | AT43: - | AU43: - | AV43: - | AW43: - | AX43: - | AY43: - | AZ43: - | BA43: - | BB43: - | BC43: - | BD43: - | BE43: - | BF43: - | BG43: - | BH43: - | BI43: - | BJ43: - | BK43: - | BL43: - | BM43: - | BN43: - | BO43: - | BP43: - | BQ43: - | BR43: - | BS43: - | BT43: - | BU43: - | BV43: - | BW43: - | BX43: - | BY43: - | BZ43: - | CA43: - | CB43: - | CC43: - | CD43: - | CE43: - | CF43: - | CG43: - | CH43: - | CI43: - | CJ43: - | CK43: - | CL43: - | CM43: - | CN43: - | CO43: - | CP43: - | CQ43: -
A44: ﾊﾟﾗ33 | B44: No.2ﾄﾞｸﾀｰ ﾄﾞｸﾀｰ 材質/角度 | C44: - | D44: - | E44: - | F44: - | G44: - | H44: - | I44: - | J44: - | K44: - | L44: - | M44: - | N44: - | O44: - | P44: - | Q44: - | R44: - | S44: - | T44: - | U44: - | V44: - | W44: - | X44: - | Y44: - | Z44: - | AA44: - | AB44: - | AC44: - | AD44: - | AE44: - | AF44: - | AG44: - | AH44: - | AI44: - | AJ44: - | AK44: - | AL44: - | AM44: - | AN44: - | AO44: - | AP44: - | AQ44: - | AR44: - | AS44: - | AT44: - | AU44: - | AV44: - | AW44: - | AX44: - | AY44: - | AZ44: - | BA44: - | BB44: - | BC44: - | BD44: - | BE44: - | BF44: - | BG44: - | BH44: - | BI44: - | BJ44: - | BK44: - | BL44: - | BM44: - | BN44: - | BO44: - | BP44: - | BQ44: - | BR44: - | BS44: - | BT44: - | BU44: - | BV44: - | BW44: - | BX44: - | BY44: - | BZ44: - | CA44: - | CB44: - | CC44: - | CD44: - | CE44: - | CF44: - | CG44: - | CH44: - | CI44: - | CJ44: - | CK44: - | CL44: - | CM44: - | CN44: - | CO44: - | CP44: - | CQ44: -
A45: ﾊﾟﾗ34 | B45: No.2ﾄﾞｸﾀｰ ﾁｬﾝﾊﾞｰｻｸｼｮﾝ圧 | C45: - | D45: - | E45: - | F45: - | G45: - | H45: - | I45: - | J45: - | K45: - | L45: - | M45: - | N45: - | O45: - | P45: - | Q45: - | R45: - | S45: - | T45: - | U45: - | V45: - | W45: - | X45: - | Y45: - | Z45: - | AA45: - | AB45: - | AC45: - | AD45: - | AE45: - | AF45: - | AG45: - | AH45: - | AI45: - | AJ45: - | AK45: - | AL45: - | AM45: - | AN45: - | AO45: - | AP45: - | AQ45: - | AR45: - | AS45: - | AT45: - | AU45: - | AV45: - | AW45: - | AX45: - | AY45: - | AZ45: - | BA45: - | BB45: - | BC45: - | BD45: - | BE45: - | BF45: - | BG45: - | BH45: - | BI45: - | BJ45: - | BK45: - | BL45: - | BM45: - | BN45: - | BO45: - | BP45: - | BQ45: - | BR45: - | BS45: - | BT45: - | BU45: - | BV45: - | BW45: - | BX45: - | BY45: - | BZ45: - | CA45: - | CB45: - | CC45: - | CD45: - | CE45: - | CF45: - | CG45: - | CH45: - | CI45: - | CJ45: - | CK45: - | CL45: - | CM45: - | CN45: - | CO45: - | CP45: - | CQ45: -
A46: ﾊﾟﾗ35 | B46: No.2循環ﾎﾟﾝﾌﾟ 設定 | C46: - | D46: - | E46: - | F46: - | G46: - | H46: - | I46: - | J46: - | K46: - | L46: - | M46: - | N46: - | O46: - | P46: - | Q46: - | R46: - | S46: - | T46: - | U46: - | V46: - | W46: - | X46: - | Y46: - | Z46: - | AA46: - | AB46: - | AC46: - | AD46: - | AE46: - | AF46: - | AG46: - | AH46: - | AI46: - | AJ46: - | AK46: - | AL46: - | AM46: - | AN46: - | AO46: - | AP46: - | AQ46: - | AR46: - | AS46: - | AT46: - | AU46: - | AV46: - | AW46: - | AX46: - | AY46: - | AZ46: - | BA46: - | BB46: - | BC46: - | BD46: - | BE46: - | BF46: - | BG46: - | BH46: - | BI46: - | BJ46: - | BK46: - | BL46: - | BM46: - | BN46: - | BO46: - | BP46: - | BQ46: - | BR46: - | BS46: - | BT46: - | BU46: - | BV46: - | BW46: - | BX46: - | BY46: - | BZ46: - | CA46: - | CB46: - | CC46: - | CD46: - | CE46: - | CF46: - | CG46: - | CH46: - | CI46: - | CJ46: - | CK46: - | CL46: - | CM46: - | CN46: - | CO46: - | CP46: - | CQ46: -
A47: ﾊﾟﾗ36 | B47: No.2循環ﾎﾟﾝﾌﾟ 回転数(rpm) | C47: ±100 | D47: ±100 | E47: ±100 | F47: ±100 | G47: ±100 | H47: ±100 | I47: ±100 | J47: ±100 | K47: ±100 | L47: ±100 | M47: ±100 | N47: ±100 | O47: ±100 | P47: ±100 | Q47: ±100 | R47: ±100 | S47: ±100 | T47: ±100 | U47: ±100 | V47: ±100 | W47: ±100 | X47: ±100 | Y47: ±100 | Z47: ±100 | AA47: ±100 | AB47: ±100 | AC47: ±100 | AD47: ±100 | AE47: ±100 | AF47: ±100 | AG47: ±100 | AH47: ±100 | AI47: ±100 | AJ47: ±100 | AK47: ±100 | AL47: ±100 | AM47: ±100 | AN47: ±100 | AO47: ±100 | AP47: ±100 | AQ47: ±100 | AR47: ±100 | AS47: ±100 | AT47: ±100 | AU47: ±100 | AV47: ±100 | AW47: ±100 | AX47: ±100 | AY47: ±100 | AZ47: ±100 | BA47: ±100 | BB47: ±100 | BC47: ±100 | BD47: ±100 | BE47: ±100 | BF47: ±100 | BG47: ±100 | BH47: ±100 | BI47: ±100 | BJ47: ±100 | BK47: ±100 | BL47: ±100 | BM47: ±100 | BN47: ±100 | BO47: ±100 | BP47: ±100 | BQ47: ±100 | BR47: ±100 | BS47: ±100 | BT47: ±100 | BU47: ±100 | BV47: ±100 | BW47: ±100 | BX47: ±100 | BY47: ±100 | BZ47: ±100 | CA47: ±100 | CB47: ±100 | CC47: ±100 | CD47: ±100 | CE47: ±100 | CF47: ±100 | CG47: ±100 | CH47: ±100 | CI47: ±100 | CJ47: ±100 | CL47: ±100 | CM47: ±100 | CN47: ±100 | CO47: ±100 | CP47: ±100 | CQ47: ±100
A48: ﾊﾟﾗ37 | B48: No.2ｽﾑｰｼﾞﾝｸﾞ比率 | C48: - | D48: - | E48: - | F48: - | G48: - | H48: - | I48: - | J48: - | K48: - | L48: - | M48: - | N48: - | O48: - | P48: - | Q48: - | R48: - | S48: - | T48: - | U48: - | V48: - | W48: - | X48: - | Y48: - | Z48: - | AA48: - | AB48: - | AC48: - | AD48: - | AE48: - | AF48: - | AG48: - | AH48: - | AI48: - | AJ48: - | AK48: - | AL48: - | AM48: - | AN48: - | AO48: - | AP48: - | AQ48: - | AR48: - | AS48: - | AT48: - | AU48: - | AV48: - | AW48: - | AX48: - | AY48: - | AZ48: - | BA48: - | BB48: - | BC48: - | BD48: - | BE48: - | BF48: - | BG48: - | BH48: - | BI48: - | BJ48: - | BK48: - | BL48: - | BM48: - | BN48: - | BO48: - | BP48: - | BQ48: - | BR48: - | BS48: - | BT48: - | BU48: - | BV48: - | BW48: - | BX48: - | BY48: - | BZ48: - | CA48: - | CB48: - | CC48: - | CD48: - | CE48: - | CF48: - | CG48: - | CH48: - | CI48: - | CJ48: - | CK48: - | CL48: - | CM48: - | CN48: - | CO48: - | CP48: - | CQ48: -
A49: ﾊﾟﾗ38 | B49: No.2ﾌｧﾆｯｼｬｰ比率 | C49: - | D49: - | E49: - | F49: - | G49: - | H49: - | I49: - | J49: - | K49: - | L49: - | M49: - | N49: - | O49: - | P49: - | Q49: - | R49: - | S49: - | T49: - | U49: - | V49: - | W49: - | X49: - | Y49: - | Z49: - | AA49: - | AB49: - | AC49: - | AD49: - | AE49: - | AF49: - | AG49: - | AH49: - | AI49: - | AJ49: - | AK49: - | AL49: - | AM49: - | AN49: - | AO49: - | AP49: - | AQ49: - | AR49: - | AS49: - | AT49: - | AU49: - | AV49: - | AW49: - | AX49: - | AY49: - | AZ49: - | BA49: - | BB49: - | BC49: - | BD49: - | BE49: - | BF49: - | BG49: - | BH49: - | BI49: - | BJ49: - | BK49: - | BL49: - | BM49: - | BN49: - | BO49: - | BP49: - | BQ49: - | BR49: - | BS49: - | BT49: - | BU49: - | BV49: - | BW49: - | BX49: - | BY49: - | BZ49: - | CA49: - | CB49: - | CC49: - | CD49: - | CE49: - | CF49: - | CG49: - | CH49: - | CI49: - | CJ49: - | CK49: - | CL49: - | CM49: - | CN49: - | CO49: - | CP49: - | CQ49: -
A50: ﾊﾟﾗ39 | B50: ｱｳﾄﾌｨｰﾄﾞ粘着ﾛｰﾙ | C50: - | D50: - | E50: - | F50: - | G50: - | H50: - | I50: - | J50: - | K50: - | L50: - | M50: - | N50: - | O50: - | P50: - | Q50: - | R50: - | S50: - | T50: - | U50: - | V50: - | W50: - | X50: - | Y50: - | Z50: - | AA50: - | AB50: - | AC50: - | AD50: - | AE50: - | AF50: - | AG50: - | AH50: - | AI50: - | AJ50: - | AK50: - | AL50: - | AM50: - | AN50: - | AO50: - | AP50: - | AQ50: - | AR50: - | AS50: - | AT50: - | AU50: - | AV50: - | AW50: - | AX50: - | AY50: - | AZ50: - | BA50: - | BB50: - | BC50: - | BD50: - | BE50: - | BF50: - | BG50: - | BH50: - | BI50: - | BJ50: - | BK50: - | BL50: - | BM50: - | BN50: - | BO50: - | BP50: - | BQ50: - | BR50: - | BS50: - | BT50: - | BU50: - | BV50: - | BW50: - | BX50: - | BY50: - | BZ50: - | CA50: - | CB50: - | CC50: - | CD50: - | CE50: - | CF50: - | CG50: - | CH50: - | CI50: - | CJ50: - | CK50: - | CL50: - | CM50: - | CN50: - | CO50: - | CP50: - | CQ50: -
A51: ﾊﾟﾗ40 | B51: ｱｳﾄﾌｨｰﾄﾞｽﾘｯﾄ刃 | C51: - | D51: - | E51: - | F51: - | G51: - | H51: - | I51: - | J51: - | K51: - | L51: - | M51: - | N51: - | O51: - | P51: - | Q51: - | R51: - | S51: - | T51: - | U51: - | V51: - | W51: - | X51: - | Y51: - | Z51: - | AA51: - | AB51: - | AC51: - | AD51: - | AE51: - | AF51: - | AG51: - | AH51: - | AI51: - | AJ51: - | AK51: - | AL51: - | AM51: - | AN51: - | AO51: - | AP51: - | AQ51: - | AR51: - | AS51: - | AT51: - | AU51: - | AV51: - | AW51: - | AX51: - | AY51: - | AZ51: - | BA51: - | BB51: - | BC51: - | BD51: - | BE51: - | BF51: - | BG51: - | BH51: - | BI51: - | BJ51: - | BK51: - | BL51: - | BM51: - | BN51: - | BO51: - | BP51: - | BQ51: - | BR51: - | BS51: - | BT51: - | BU51: - | BV51: - | BW51: - | BX51: - | BY51: - | BZ51: - | CA51: - | CB51: - | CC51: - | CD51: - | CE51: - | CF51: - | CG51: - | CH51: - | CI51: - | CJ51: - | CK51: - | CL51: - | CM51: - | CN51: - | CO51: - | CP51: - | CQ51: -
A52: ﾊﾟﾗ41 | B52: 巻取方向（巻方向/ｺｰﾄ面） | C52: - | D52: - | E52: - | F52: - | G52: - | H52: - | I52: - | J52: - | K52: - | L52: - | M52: - | N52: - | O52: - | P52: - | Q52: - | R52: - | S52: - | T52: - | U52: - | V52: - | W52: - | X52: - | Y52: - | Z52: - | AA52: - | AB52: - | AC52: - | AD52: - | AE52: - | AF52: - | AG52: - | AH52: - | AI52: - | AJ52: - | AK52: - | AL52: - | AM52: - | AN52: - | AO52: - | AP52: - | AQ52: - | AR52: - | AS52: - | AT52: - | AU52: - | AV52: - | AW52: - | AX52: - | AY52: - | AZ52: - | BA52: - | BB52: - | BC52: - | BD52: - | BE52: - | BF52: - | BG52: - | BH52: - | BI52: - | BJ52: - | BK52: - | BL52: - | BM52: - | BN52: - | BO52: - | BP52: - | BQ52: - | BR52: - | BS52: - | BT52: - | BU52: - | BV52: - | BW52: - | BX52: - | BY52: - | BZ52: - | CA52: - | CB52: - | CC52: - | CD52: - | CE52: - | CF52: - | CG52: - | CH52: - | CI52: - | CJ52: - | CK52: - | CL52: - | CM52: - | CN52: - | CO52: - | CP52: - | CQ52: -
A53: ﾊﾟﾗ42 | B53: 巻取ｽﾌﾟﾗｲｽﾓｰﾄﾞ | C53: - | D53: - | E53: - | F53: - | G53: - | H53: - | I53: - | J53: - | K53: - | L53: - | M53: - | N53: - | O53: - | P53: - | Q53: - | R53: - | S53: - | T53: - | U53: - | V53: - | W53: - | X53: - | Y53: - | Z53: - | AA53: - | AB53: - | AC53: - | AD53: - | AE53: - | AF53: - | AG53: - | AH53: - | AI53: - | AJ53: - | AK53: - | AL53: - | AM53: - | AN53: - | AO53: - | AP53: - | AQ53: - | AR53: - | AS53: - | AT53: - | AU53: - | AV53: - | AW53: - | AX53: - | AY53: - | AZ53: - | BA53: - | BB53: - | BC53: - | BD53: - | BE53: - | BF53: - | BG53: - | BH53: - | BI53: - | BJ53: - | BK53: - | BL53: - | BM53: - | BN53: - | BO53: - | BP53: - | BQ53: - | BR53: - | BS53: - | BT53: - | BU53: - | BV53: - | BW53: - | BX53: - | BY53: - | BZ53: - | CA53: - | CB53: - | CC53: - | CD53: - | CE53: - | CF53: - | CG53: - | CH53: - | CI53: - | CJ53: - | CK53: - | CL53: - | CM53: - | CN53: - | CO53: - | CP53: - | CQ53: -
A54: ﾊﾟﾗ43 | B54: 巻取ｺｱ 径(ｲﾝﾁ)/材質 | C54: - | D54: - | E54: - | F54: - | G54: - | H54: - | I54: - | J54: - | K54: - | L54: - | M54: - | N54: - | O54: - | P54: - | Q54: - | R54: - | S54: - | T54: - | U54: - | V54: - | W54: - | X54: - | Y54: - | Z54: - | AA54: - | AB54: - | AC54: - | AD54: - | AE54: - | AF54: - | AG54: - | AH54: - | AI54: - | AJ54: - | AK54: - | AL54: - | AM54: - | AN54: - | AO54: - | AP54: - | AQ54: - | AR54: - | AS54: - | AT54: - | AU54: - | AV54: - | AW54: - | AX54: - | AY54: - | AZ54: - | BA54: - | BB54: - | BC54: - | BD54: - | BE54: - | BF54: - | BG54: - | BH54: - | BI54: - | BJ54: - | BK54: - | BL54: - | BM54: - | BN54: - | BO54: - | BP54: - | BQ54: - | BR54: - | BS54: - | BT54: - | BU54: - | BV54: - | BW54: - | BX54: - | BY54: - | BZ54: - | CA54: - | CB54: - | CC54: - | CD54: - | CE54: - | CF54: - | CG54: - | CH54: - | CI54: - | CJ54: - | CK54: - | CL54: - | CM54: - | CN54: - | CO54: - | CP54: - | CQ54: -
A55: ﾊﾟﾗ44 | B55: 繰出張力(×10N) | C55: ±2 | D55: ±2 | E55: ±2 | F55: ±2 | G55: ±2 | H55: ±2 | I55: ±2 | J55: ±2 | K55: ±2 | L55: ±2 | M55: ±2 | N55: ±2 | O55: ±2 | P55: ±2 | Q55: ±2 | R55: ±2 | S55: ±2 | T55: ±2 | U55: ±2 | V55: ±2 | W55: ±2 | X55: ±2 | Y55: ±2 | Z55: ±2 | AA55: ±2 | AB55: ±2 | AC55: ±2 | AD55: ±2 | AE55: ±2 | AF55: ±2 | AG55: ±2 | AH55: ±2 | AI55: ±2 | AJ55: ±2 | AK55: ±2 | AL55: ±2 | AM55: ±2 | AN55: ±2 | AO55: ±2 | AP55: ±2 | AQ55: ±2 | AR55: ±2 | AS55: ±2 | AT55: ±2 | AU55: ±2 | AV55: ±2 | AW55: ±2 | AX55: ±2 | AY55: ±2 | AZ55: ±2 | BA55: ±2 | BB55: ±2 | BC55: ±2 | BD55: ±2 | BE55: ±2 | BF55: ±2 | BG55: ±2 | BH55: ±2 | BI55: ±2 | BJ55: ±2 | BK55: ±2 | BL55: ±2 | BM55: ±2 | BN55: ±2 | BO55: ±2 | BP55: ±2 | BQ55: ±2 | BR55: ±2 | BS55: ±2 | BT55: ±2 | BU55: ±2 | BV55: ±2 | BW55: ±2 | BX55: ±2 | BY55: ±2 | BZ55: ±2 | CA55: ±2 | CB55: ±2 | CC55: ±2 | CD55: ±2 | CE55: ±2 | CF55: ±2 | CG55: ±2 | CH55: ±2 | CI55: ±2 | CJ55: ±2 | CK55: ±2 | CL55: ±2 | CM55: ±2 | CN55: ±2 | CO55: ±2 | CP55: ±2 | CQ55: ±2
A56: ﾊﾟﾗ45 | B56: No.1ｲﾝﾌｨｰﾄﾞ張力(×10N) | C56: ±2 | D56: ±2 | E56: ±2 | F56: ±2 | G56: ±2 | H56: ±2 | I56: ±2 | J56: ±2 | K56: ±2 | L56: ±2 | M56: ±2 | N56: ±2 | O56: ±2 | P56: ±2 | Q56: ±2 | R56: ±2 | S56: ±2 | T56: ±2 | U56: ±2 | V56: ±2 | W56: ±2 | X56: ±2 | Y56: ±2 | Z56: ±2 | AA56: ±2 | AB56: ±2 | AC56: ±2 | AD56: ±2 | AE56: ±2 | AF56: ±2 | AG56: ±2 | AH56: ±2 | AI56: ±2 | AJ56: ±2 | AK56: ±2 | AL56: ±2 | AM56: ±2 | AN56: ±2 | AO56: ±2 | AP56: ±2 | AQ56: ±2 | AR56: ±2 | AS56: ±2 | AT56: ±2 | AU56: ±2 | AV56: ±2 | AW56: ±2 | AX56: ±2 | AY56: ±2 | AZ56: ±2 | BA56: ±2 | BB56: ±2 | BC56: ±2 | BD56: ±2 | BE56: ±2 | BF56: ±2 | BG56: ±2 | BH56: ±2 | BI56: ±2 | BJ56: ±2 | BK56: ±2 | BL56: ±2 | BM56: ±2 | BN56: ±2 | BO56: ±2 | BP56: ±2 | BQ56: ±2 | BR56: ±2 | BS56: ±2 | BT56: ±2 | BU56: ±2 | BV56: ±2 | BW56: ±2 | BX56: ±2 | BY56: ±2 | BZ56: ±2 | CA56: ±2 | CB56: ±2 | CC56: ±2 | CD56: ±2 | CE56: ±2 | CF56: ±2 | CG56: ±2 | CH56: ±2 | CI56: ±2 | CJ56: ±2 | CK56: ±2 | CL56: ±2 | CM56: ±2 | CN56: ±2 | CO56: ±2 | CP56: ±2 | CQ56: ±2
A57: ﾊﾟﾗ46 | B57: No.1ｺｰﾀｰ張力(×10N) | C57: - | D57: - | E57: - | F57: - | G57: - | H57: - | I57: - | J57: - | K57: - | L57: - | M57: - | N57: - | O57: - | P57: - | Q57: - | R57: - | S57: - | T57: - | U57: - | V57: - | W57: - | X57: - | Y57: - | Z57: - | AA57: - | AB57: - | AC57: - | AD57: - | AE57: - | AF57: - | AG57: - | AH57: - | AI57: - | AJ57: - | AK57: - | AL57: - | AM57: - | AN57: - | AO57: - | AP57: - | AQ57: - | AR57: - | AS57: - | AT57: - | AU57: - | AV57: - | AW57: - | AX57: - | AY57: - | AZ57: - | BA57: - | BB57: - | BC57: - | BD57: - | BE57: - | BF57: - | BG57: - | BH57: - | BI57: - | BJ57: - | BK57: - | BL57: - | BM57: - | BN57: - | BO57: - | BP57: - | BQ57: - | BR57: - | BS57: - | BT57: - | BU57: - | BV57: - | BW57: - | BX57: - | BY57: - | BZ57: - | CA57: - | CB57: - | CC57: - | CD57: - | CE57: - | CF57: - | CG57: - | CH57: - | CI57: - | CJ57: - | CK57: - | CL57: - | CM57: - | CN57: - | CO57: - | CP57: - | CQ57: -
A58: ﾊﾟﾗ47 | B58: No.1乾燥機内張力(×10N) | C58: ±2 | D58: ±2 | E58: ±2 | F58: ±2 | G58: ±2 | H58: ±2 | I58: ±2 | J58: ±2 | K58: ±2 | L58: ±2 | M58: ±2 | N58: ±2 | O58: ±2 | P58: ±2 | Q58: ±2 | R58: ±2 | S58: ±2 | T58: ±2 | U58: ±2 | V58: ±2 | W58: ±2 | X58: ±2 | Y58: ±2 | Z58: ±2 | AA58: ±2 | AB58: ±2 | AC58: ±2 | AD58: ±2 | AE58: ±2 | AF58: ±2 | AG58: ±2 | AH58: ±2 | AI58: ±2 | AJ58: ±2 | AK58: ±2 | AL58: ±2 | AM58: ±2 | AN58: ±2 | AO58: ±2 | AP58: ±2 | AQ58: ±2 | AR58: ±2 | AS58: ±2 | AT58: ±2 | AU58: ±2 | AV58: ±2 | AW58: ±2 | AX58: ±2 | AY58: ±2 | AZ58: ±2 | BA58: ±2 | BB58: ±2 | BC58: ±2 | BD58: ±2 | BE58: ±2 | BF58: ±2 | BG58: ±2 | BH58: ±2 | BI58: ±2 | BJ58: ±2 | BK58: ±2 | BL58: ±2 | BM58: ±2 | BN58: ±2 | BO58: ±2 | BP58: ±2 | BQ58: ±2 | BR58: ±2 | BS58: ±2 | BT58: ±2 | BU58: ±2 | BV58: ±2 | BW58: ±2 | BX58: ±2 | BY58: ±2 | BZ58: ±2 | CA58: ±2 | CB58: ±2 | CC58: ±2 | CD58: ±2 | CE58: ±2 | CF58: ±2 | CG58: ±2 | CH58: ±2 | CI58: ±2 | CJ58: ±2 | CK58: ±2 | CL58: ±2 | CM58: ±2 | CN58: ±2 | CO58: ±2 | CP58: ±2 | CQ58: ±2
A59: ﾊﾟﾗ48 | B59: No.1冷却張力(×10N) | C59: ±2 | D59: ±2 | E59: ±2 | F59: ±2 | G59: ±2 | H59: ±2 | I59: ±2 | J59: ±2 | K59: ±2 | L59: ±2 | M59: ±2 | N59: ±2 | O59: ±2 | P59: ±2 | Q59: ±2 | R59: ±2 | S59: ±2 | T59: ±2 | U59: ±2 | V59: ±2 | W59: ±2 | X59: ±2 | Y59: ±2 | Z59: ±2 | AA59: ±2 | AB59: ±2 | AC59: ±2 | AD59: ±2 | AE59: ±2 | AF59: ±2 | AG59: ±2 | AH59: ±2 | AI59: ±2 | AJ59: ±2 | AK59: ±2 | AL59: ±2 | AM59: ±2 | AN59: ±2 | AO59: ±2 | AP59: ±2 | AQ59: ±2 | AR59: ±2 | AS59: ±2 | AT59: ±2 | AU59: ±2 | AV59: ±2 | AW59: ±2 | AX59: ±2 | AY59: ±2 | AZ59: ±2 | BA59: ±2 | BB59: ±2 | BC59: ±2 | BD59: ±2 | BE59: ±2 | BF59: ±2 | BG59: ±2 | BH59: ±2 | BI59: ±2 | BJ59: ±2 | BK59: ±2 | BL59: ±2 | BM59: ±2 | BN59: ±2 | BO59: ±2 | BP59: ±2 | BQ59: ±2 | BR59: ±2 | BS59: ±2 | BT59: ±2 | BU59: ±2 | BV59: ±2 | BW59: ±2 | BX59: ±2 | BY59: ±2 | BZ59: ±2 | CA59: ±2 | CB59: ±2 | CC59: ±2 | CD59: ±2 | CE59: ±2 | CF59: ±2 | CG59: ±2 | CH59: ±2 | CI59: ±2 | CJ59: ±2 | CK59: ±2 | CL59: ±2 | CM59: ±2 | CN59: ±2 | CO59: ±2 | CP59: ±2 | CQ59: ±2
A60: ﾊﾟﾗ49 | B60: No.2ｲﾝﾌｨｰﾄﾞ張力(×10N) | C60: ±2 | D60: ±2 | E60: ±2 | F60: ±2 | G60: ±2 | H60: ±2 | I60: ±2 | J60: ±2 | K60: ±2 | L60: ±2 | M60: ±2 | N60: ±2 | O60: ±2 | P60: ±2 | Q60: ±2 | R60: ±2 | S60: ±2 | T60: ±2 | U60: ±2 | V60: ±2 | W60: ±2 | X60: ±2 | Y60: ±2 | Z60: ±2 | AA60: ±2 | AB60: ±2 | AC60: ±2 | AD60: ±2 | AE60: ±2 | AF60: ±2 | AG60: ±2 | AH60: ±2 | AI60: ±2 | AJ60: ±2 | AK60: ±2 | AL60: ±2 | AM60: ±2 | AN60: ±2 | AO60: ±2 | AP60: ±2 | AQ60: ±2 | AR60: ±2 | AS60: ±2 | AT60: ±2 | AU60: ±2 | AV60: ±2 | AW60: ±2 | AX60: ±2 | AY60: ±2 | AZ60: ±2 | BA60: ±2 | BB60: ±2 | BC60: ±2 | BD60: ±2 | BE60: ±2 | BF60: ±2 | BG60: ±2 | BH60: ±2 | BI60: ±2 | BJ60: ±2 | BK60: ±2 | BL60: ±2 | BM60: ±2 | BN60: ±2 | BO60: ±2 | BP60: ±2 | BQ60: ±2 | BR60: ±2 | BS60: ±2 | BT60: ±2 | BU60: ±2 | BV60: ±2 | BW60: ±2 | BX60: ±2 | BY60: ±2 | BZ60: ±2 | CA60: ±2 | CB60: ±2 | CC60: ±2 | CD60: ±2 | CE60: ±2 | CF60: ±2 | CG60: ±2 | CH60: ±2 | CI60: ±2 | CJ60: ±2 | CK60: ±2 | CL60: ±2 | CM60: ±2 | CN60: ±2 | CO60: ±2 | CP60: ±2 | CQ60: ±2
A61: ﾊﾟﾗ50 | B61: No.2ｺｰﾀｰ張力(×10N) | C61: - | D61: - | E61: - | F61: - | G61: - | H61: - | I61: - | K61: - | L61: - | M61: - | N61: - | O61: - | P61: - | Q61: - | R61: - | S61: - | T61: - | U61: - | V61: - | W61: - | AA61: - | AB61: - | AC61: - | AD61: - | AE61: - | AF61: - | AG61: - | AH61: - | AI61: - | AJ61: - | AL61: - | AO61: - | AP61: - | AR61: - | AU61: - | AV61: - | AW61: - | AX61: - | AY61: - | AZ61: - | BA61: - | BB61: - | BC61: - | BD61: - | BE61: - | BF61: - | BG61: - | BH61: - | BI61: - | BJ61: - | BK61: - | BL61: - | BM61: - | BN61: - | BO61: - | BP61: - | BQ61: - | BR61: - | BS61: - | BT61: - | BU61: - | BV61: - | BW61: - | BX61: - | BY61: - | BZ61: - | CA61: - | CB61: - | CC61: - | CD61: - | CE61: - | CF61: - | CG61: - | CH61: - | CI61: - | CJ61: - | CK61: - | CL61: - | CM61: - | CN61: - | CO61: - | CP61: - | CQ61: -
A62: ﾊﾟﾗ51 | B62: No.2乾燥機内張力(×10N) | C62: ±2 | D62: ±2 | E62: ±2 | F62: ±2 | G62: ±2 | H62: ±2 | I62: ±2 | J62: ±2 | K62: ±2 | L62: ±2 | M62: ±2 | N62: ±2 | O62: ±2 | P62: ±2 | Q62: ±2 | R62: ±2 | S62: ±2 | T62: ±2 | U62: ±2 | V62: ±2 | W62: ±2 | X62: ±2 | Y62: ±2 | Z62: ±2 | AA62: ±2 | AB62: ±2 | AC62: ±2 | AD62: ±2 | AE62: ±2 | AF62: ±2 | AG62: ±2 | AH62: ±2 | AI62: ±2 | AJ62: ±2 | AK62: ±2 | AL62: ±2 | AM62: ±2 | AN62: ±2 | AO62: ±2 | AP62: ±2 | AQ62: ±2 | AR62: ±2 | AS62: ±2 | AT62: ±2 | AU62: ±2 | AV62: ±2 | AW62: ±2 | AX62: ±2 | AY62: ±2 | AZ62: ±2 | BA62: ±2 | BB62: ±2 | BC62: ±2 | BD62: ±2 | BE62: ±2 | BF62: ±2 | BG62: ±2 | BH62: ±2 | BI62: ±2 | BJ62: ±2 | BK62: ±2 | BL62: ±2 | BM62: ±2 | BN62: ±2 | BO62: ±2 | BP62: ±2 | BQ62: ±2 | BR62: ±2 | BS62: ±2 | BT62: ±2 | BU62: ±2 | BV62: ±2 | BW62: ±2 | BX62: ±2 | BY62: ±2 | BZ62: ±2 | CA62: ±2 | CB62: ±2 | CC62: ±2 | CD62: ±2 | CE62: ±2 | CF62: ±2 | CG62: ±2 | CH62: ±2 | CI62: ±2 | CJ62: ±2 | CK62: ±2 | CL62: ±2 | CM62: ±2 | CN62: ±2 | CO62: ±2 | CP62: ±2 | CQ62: ±2
A63: ﾊﾟﾗ52 | B63: No.2冷却部張力(×10N) | C63: - | D63: - | E63: - | F63: - | G63: - | H63: - | I63: - | K63: - | L63: - | M63: - | N63: - | O63: - | P63: - | Q63: - | R63: - | S63: - | T63: - | U63: - | V63: - | W63: - | AA63: - | AB63: - | AC63: - | AD63: - | AE63: - | AF63: - | AG63: - | AH63: - | AI63: - | AJ63: - | AL63: - | AO63: - | AP63: - | AR63: - | AU63: - | AV63: - | AW63: - | AX63: - | AY63: - | AZ63: - | BA63: - | BB63: - | BC63: - | BD63: - | BE63: - | BF63: - | BG63: - | BH63: - | BI63: - | BJ63: - | BK63: - | BL63: - | BM63: - | BN63: - | BO63: - | BP63: - | BQ63: - | BR63: - | BS63: - | BT63: - | BU63: - | BV63: - | BW63: - | BX63: - | BY63: - | BZ63: - | CA63: - | CB63: - | CC63: - | CD63: - | CE63: - | CF63: - | CG63: - | CH63: - | CI63: - | CJ63: - | CK63: - | CL63: - | CM63: - | CN63: - | CO63: - | CP63: - | CQ63: -
A64: ﾊﾟﾗ53 | B64: ｱｳﾄﾌｨｰﾄﾞ張力(×10N) | C64: ±2 | D64: ±2 | E64: ±2 | F64: ±2 | G64: ±2 | H64: ±2 | I64: ±2 | J64: ±2 | K64: ±2 | L64: ±2 | M64: ±2 | N64: ±2 | O64: ±2 | P64: ±2 | Q64: ±2 | R64: ±2 | S64: ±2 | T64: ±2 | U64: ±2 | V64: ±2 | W64: ±2 | X64: ±2 | Y64: ±2 | Z64: ±2 | AA64: ±2 | AB64: ±2 | AC64: ±2 | AD64: ±2 | AE64: ±2 | AF64: ±2 | AG64: ±2 | AH64: ±2 | AI64: ±2 | AJ64: ±2 | AK64: ±2 | AL64: ±2 | AM64: ±2 | AN64: ±2 | AO64: ±2 | AP64: ±2 | AQ64: ±2 | AR64: ±2 | AS64: ±2 | AT64: ±2 | AU64: ±2 | AV64: ±2 | AW64: ±2 | AX64: ±2 | AY64: ±2 | AZ64: ±2 | BA64: ±2 | BB64: ±2 | BC64: ±2 | BD64: ±2 | BE64: ±2 | BF64: ±2 | BG64: ±2 | BH64: ±2 | BI64: ±2 | BJ64: ±2 | BK64: ±2 | BL64: ±2 | BM64: ±2 | BN64: ±2 | BO64: ±2 | BP64: ±2 | BQ64: ±2 | BR64: ±2 | BS64: ±2 | BT64: ±2 | BU64: ±2 | BV64: ±2 | BW64: ±2 | BX64: ±2 | BY64: ±2 | BZ64: ±2 | CA64: ±2 | CB64: ±2 | CC64: ±2 | CD64: ±2 | CE64: ±2 | CF64: ±2 | CG64: ±2 | CH64: ±2 | CI64: ±2 | CJ64: ±2 | CK64: ±2 | CL64: ±2 | CM64: ±2 | CN64: ±2 | CO64: ±2 | CP64: ±2 | CQ64: ±2
A65: ﾊﾟﾗ54 | B65: 巻取張力(×10N) | C65: ±2 | D65: ±2 | E65: ±2 | F65: ±2 | G65: ±2 | H65: ±2 | I65: ±2 | J65: ±2 | K65: ±2 | L65: ±2 | M65: ±2 | N65: ±2 | O65: ±2 | P65: ±2 | Q65: ±2 | R65: ±2 | S65: ±2 | T65: ±2 | U65: ±2 | V65: ±2 | W65: ±2 | X65: ±2 | Y65: ±2 | Z65: ±2 | AA65: ±2 | AB65: ±2 | AC65: ±2 | AD65: ±2 | AE65: ±2 | AF65: ±2 | AG65: ±2 | AH65: ±2 | AI65: ±2 | AJ65: ±2 | AK65: ±2 | AL65: ±2 | AM65: ±2 | AN65: ±2 | AO65: ±2 | AP65: ±2 | AQ65: ±2 | AR65: ±2 | AS65: ±2 | AT65: ±2 | AU65: ±2 | AV65: ±2 | AW65: ±2 | AX65: ±2 | AY65: ±2 | AZ65: ±2 | BA65: ±2 | BB65: ±2 | BC65: ±2 | BD65: ±2 | BE65: ±2 | BF65: ±2 | BG65: ±2 | BH65: ±2 | BI65: ±2 | BJ65: ±2 | BK65: ±2 | BL65: ±2 | BM65: ±2 | BN65: ±2 | BO65: ±2 | BP65: ±2 | BQ65: ±2 | BR65: ±2 | BS65: ±2 | BT65: ±2 | BU65: ±2 | BV65: ±2 | BW65: ±2 | BX65: ±2 | BY65: ±2 | BZ65: ±2 | CA65: ±2 | CB65: ±2 | CC65: ±2 | CD65: ±2 | CE65: ±2 | CF65: ±2 | CG65: ±2 | CH65: ±2 | CI65: ±2 | CJ65: ±2 | CK65: ±2 | CL65: ±2 | CM65: ±2 | CN65: ±2 | CO65: ±2 | CP65: ±2 | CQ65: ±2
A66: ﾊﾟﾗ55 | B66: 巻取ﾃｰﾊﾟｰ(%) | C66: - | D66: - | E66: - | F66: - | G66: - | H66: - | I66: - | J66: - | K66: - | L66: - | M66: - | N66: - | O66: - | P66: - | Q66: - | R66: - | S66: - | T66: - | U66: - | V66: - | W66: - | X66: - | Y66: - | Z66: - | AA66: - | AB66: - | AC66: - | AD66: - | AE66: - | AF66: - | AG66: - | AH66: - | AI66: - | AJ66: - | AK66: - | AL66: - | AM66: - | AN66: - | AO66: - | AP66: - | AQ66: - | AR66: - | AS66: - | AT66: - | AU66: - | AV66: - | AW66: - | AX66: - | AY66: - | AZ66: - | BA66: - | BB66: - | BC66: - | BD66: - | BE66: - | BF66: - | BG66: - | BH66: - | BI66: - | BJ66: - | BK66: - | BL66: - | BM66: - | BN66: - | BO66: - | BP66: - | BQ66: - | BR66: - | BS66: - | BT66: - | BU66: - | BV66: - | BW66: - | BX66: - | BY66: - | BZ66: - | CA66: - | CB66: - | CC66: - | CD66: - | CE66: - | CF66: - | CG66: - | CH66: - | CI66: - | CJ66: - | CK66: - | CL66: - | CM66: - | CN66: - | CO66: - | CP66: - | CQ66: -
A67: ﾊﾟﾗ56 | B67: ﾀｯﾁﾛｰﾙ圧(Mpa) | C67: ±0.05 | D67: ±0.05 | E67: ±0.05 | F67: ±0.05 | G67: ±0.05 | H67: ±0.05 | I67: ±0.05 | J67: ±0.05 | K67: ±0.05 | L67: ±0.05 | M67: ±0.05 | N67: ±0.05 | O67: ±0.05 | P67: ±0.05 | Q67: ±0.05 | R67: ±0.05 | S67: ±0.05 | T67: ±0.05 | U67: ±0.05 | V67: ±0.05 | W67: ±0.05 | X67: ±0.05 | Y67: ±0.05 | Z67: ±0.05 | AA67: ±0.05 | AB67: ±0.05 | AC67: ±0.05 | AD67: ±0.05 | AE67: ±0.05 | AF67: ±0.05 | AG67: ±0.05 | AH67: ±0.05 | AI67: ±0.05 | AJ67: ±0.05 | AK67: ±0.05 | AL67: ±0.05 | AM67: ±0.05 | AN67: ±0.05 | AO67: ±0.05 | AP67: ±0.05 | AQ67: ±0.05 | AR67: ±0.05 | AS67: ±0.05 | AT67: ±0.05 | AU67: ±0.05 | AV67: ±0.05 | AW67: ±0.05 | AX67: ±0.05 | AY67: ±0.05 | AZ67: ±0.05 | BA67: ±0.05 | BB67: ±0.05 | BC67: ±0.05 | BD67: ±0.05 | BE67: ±0.05 | BF67: ±0.05 | BG67: ±0.05 | BH67: ±0.05 | BI67: ±0.05 | BJ67: ±0.05 | BK67: ±0.05 | BL67: ±0.05 | BM67: ±0.05 | BN67: ±0.05 | BO67: ±0.05 | BP67: ±0.05 | BQ67: ±0.05 | BR67: ±0.05 | BS67: ±0.05 | BT67: ±0.05 | BU67: ±0.05 | BV67: ±0.05 | BW67: ±0.05 | BX67: ±0.05 | BY67: ±0.05 | BZ67: ±0.05 | CA67: ±0.05 | CB67: ±0.05 | CC67: ±0.05 | CD67: ±0.05 | CE67: ±0.05 | CF67: ±0.05 | CG67: ±0.05 | CH67: ±0.05 | CI67: ±0.05 | CJ67: ±0.05 | CK67: ±0.05 | CL67: ±0.05 | CM67: ±0.05 | CN67: ±0.05 | CO67: ±0.05 | CP67: ±0.05 | CQ67: ±0.05
A68: ﾊﾟﾗ57 | B68: ﾆｱｰﾛｰﾙ制御 | C68: - | D68: - | E68: - | F68: - | G68: - | H68: - | I68: - | J68: - | K68: - | L68: - | M68: - | N68: - | O68: - | P68: - | Q68: - | R68: - | S68: - | T68: - | U68: - | V68: - | W68: - | X68: - | Y68: - | Z68: - | AA68: - | AB68: - | AC68: - | AD68: - | AE68: - | AF68: - | AG68: - | AH68: - | AI68: - | AJ68: - | AK68: - | AL68: - | AM68: - | AN68: - | AO68: - | AP68: - | AQ68: - | AR68: - | AS68: - | AT68: - | AU68: - | AV68: - | AW68: - | AX68: - | AY68: - | AZ68: - | BA68: - | BB68: - | BC68: - | BD68: - | BE68: - | BF68: - | BG68: - | BH68: - | BI68: - | BJ68: - | BK68: - | BL68: - | BM68: - | BN68: - | BO68: - | BP68: - | BQ68: - | BR68: - | BS68: - | BT68: - | BU68: - | BV68: - | BW68: - | BX68: - | BY68: - | BZ68: - | CA68: - | CB68: - | CC68: - | CD68: - | CE68: - | CF68: - | CG68: - | CH68: - | CI68: - | CJ68: - | CK68: - | CL68: - | CM68: - | CN68: - | CO68: - | CP68: - | CQ68: -
A69: ﾊﾟﾗ58 | B69: ﾆｱｰﾛｰﾙ圧(N) (紙継６００Ｎタッチ) | C69: ±5 | D69: ±5 | E69: ±5 | F69: ±5 | G69: ±5 | H69: ±5 | I69: ±5 | J69: ±5 | K69: ±5 | L69: ±5 | M69: ±5 | N69: ±5 | O69: ±5 | P69: ±5 | Q69: ±5 | R69: ±5 | S69: ±5 | T69: ±5 | U69: ±5 | V69: ±5 | W69: ±5 | X69: ±5 | Y69: ±5 | Z69: ±5 | AA69: ±5 | AB69: ±5 | AC69: ±5 | AD69: ±5 | AE69: ±5 | AF69: ±5 | AG69: ±5 | AH69: ±5 | AI69: ±5 | AJ69: ±5 | AK69: ±5 | AL69: ±5 | AM69: ±5 | AN69: ±5 | AO69: ±5 | AP69: ±5 | AQ69: ±5 | AR69: ±5 | AS69: ±5 | AT69: ±5 | AU69: ±5 | AV69: ±5 | AW69: ±5 | AX69: ±5 | AY69: ±5 | AZ69: ±5 | BA69: ±5 | BB69: ±5 | BC69: ±5 | BD69: ±5 | BE69: ±5 | BF69: ±5 | BG69: ±5 | BH69: ±5 | BI69: ±5 | BJ69: ±5 | BK69: ±5 | BL69: ±5 | BM69: ±5 | BN69: ±5 | BO69: ±5 | BP69: ±5 | BQ69: ±5 | BR69: ±5 | BS69: ±5 | BT69: ±5 | BU69: ±5 | BV69: ±5 | BW69: ±5 | BX69: ±5 | BY69: ±5 | BZ69: ±5 | CA69: ±5 | CB69: ±5 | CC69: ±5 | CD69: ±5 | CE69: ±5 | CF69: ±5 | CG69: ±5 | CH69: ±5 | CI69: ±5 | CJ69: ±5 | CK69: ±5 | CL69: ±5 | CM69: ±5 | CN69: ±5 | CO69: ±5 | CP69: ±5 | CQ69: ±5
A70: ﾊﾟﾗ59 | B70: ﾆｱｰﾃｰﾊﾟｰ(%) | C70: - | D70: - | E70: - | F70: - | G70: - | H70: - | I70: - | J70: - | K70: - | L70: - | M70: - | N70: - | O70: - | P70: - | Q70: - | R70: - | S70: - | T70: - | U70: - | V70: - | W70: - | X70: - | Y70: - | Z70: - | AA70: - | AB70: - | AC70: - | AD70: - | AE70: - | AF70: - | AG70: - | AH70: - | AI70: - | AJ70: - | AK70: - | AL70: - | AM70: - | AN70: - | AO70: - | AP70: - | AQ70: - | AR70: - | AS70: - | AT70: - | AU70: - | AV70: - | AW70: - | AX70: - | AY70: - | AZ70: - | BA70: - | BB70: - | BC70: - | BD70: - | BE70: - | BF70: - | BG70: - | BH70: - | BI70: - | BJ70: - | BK70: - | BL70: - | BM70: - | BN70: - | BO70: - | BP70: - | BQ70: - | BR70: - | BS70: - | BT70: - | BU70: - | BV70: - | BW70: - | BX70: - | BY70: - | BZ70: - | CA70: - | CB70: - | CC70: - | CD70: - | CE70: - | CF70: - | CG70: - | CH70: - | CI70: - | CJ70: - | CK70: - | CL70: - | CM70: - | CN70: - | CO70: - | CP70: - | CQ70: -
A71: ﾊﾟﾗ60 | B71: ﾎﾞｲﾗｰ設定温度(℃) | C71: ±10 | D71: ±10 | E71: ±10 | F71: ±10 | G71: ±10 | H71: ±10 | I71: ±10 | J71: ±10 | K71: ±10 | L71: ±10 | M71: ±10 | N71: ±10 | O71: ±10 | P71: ±10 | Q71: ±10 | R71: ±10 | S71: ±10 | T71: ±10 | U71: ±10 | V71: ±10 | W71: ±10 | X71: ±10 | Y71: ±10 | Z71: ±10 | AA71: ±10 | AB71: ±10 | AC71: ±10 | AD71: ±10 | AE71: ±10 | AF71: ±10 | AG71: ±10 | AH71: ±10 | AI71: ±10 | AJ71: ±10 | AK71: ±10 | AL71: ±10 | AM71: ±10 | AN71: ±10 | AO71: ±10 | AP71: ±10 | AQ71: ±10 | AR71: ±10 | AS71: ±10 | AT71: ±10 | AU71: ±10 | AV71: ±10 | AW71: ±10 | AX71: ±10 | AY71: ±10 | AZ71: ±10 | BA71: ±10 | BB71: ±10 | BC71: ±10 | BD71: ±10 | BE71: ±10 | BF71: ±10 | BG71: ±10 | BH71: ±10 | BI71: ±10 | BJ71: ±10 | BK71: ±10 | BL71: ±10 | BM71: ±10 | BN71: ±10 | BO71: ±10 | BP71: ±10 | BQ71: ±10 | BR71: ±10 | BS71: ±10 | BT71: ±10 | BU71: ±10 | BV71: ±10 | BW71: ±10 | BX71: ±10 | BY71: ±10 | BZ71: ±10 | CA71: ±10 | CB71: ±10 | CC71: ±10 | CD71: ±10 | CE71: ±10 | CF71: ±10 | CG71: ±10 | CH71: ±10 | CI71: ±10 | CJ71: ±10 | CK71: ±10 | CL71: ±10 | CM71: ±10 | CN71: ±10 | CO71: ±10 | CP71: ±10 | CQ71: ±10
A72: ﾊﾟﾗ61 | B72: 溶剤排気ﾌｧﾝ(㎐) | C72: ±2 | D72: ±2 | E72: ±2 | F72: ±2 | G72: ±2 | H72: ±2 | I72: ±2 | J72: ±2 | K72: ±2 | L72: ±2 | M72: ±2 | N72: ±2 | O72: ±2 | P72: ±2 | Q72: ±2 | R72: ±2 | S72: ±2 | T72: ±2 | U72: ±2 | V72: ±2 | W72: ±2 | X72: ±2 | Y72: ±2 | Z72: ±2 | AA72: ±2 | AB72: ±2 | AC72: ±2 | AD72: ±2 | AE72: ±2 | AF72: ±2 | AG72: ±2 | AH72: ±2 | AI72: ±2 | AJ72: ±2 | AK72: ±2 | AL72: ±2 | AM72: ±2 | AN72: ±2 | AO72: ±2 | AP72: ±2 | AQ72: ±2 | AR72: ±2 | AS72: ±2 | AT72: ±2 | AU72: ±2 | AV72: ±2 | AW72: ±2 | AX72: ±2 | AY72: ±2 | AZ72: ±2 | BA72: ±2 | BB72: ±2 | BC72: ±2 | BD72: ±2 | BE72: ±2 | BF72: ±2 | BG72: ±2 | BH72: ±2 | BI72: ±2 | BJ72: ±2 | BK72: ±2 | BL72: ±2 | BM72: ±2 | BN72: ±2 | BO72: ±2 | BP72: ±2 | BQ72: ±2 | BR72: ±2 | BS72: ±2 | BT72: ±2 | BU72: ±2 | BV72: ±2 | BW72: ±2 | BX72: ±2 | BY72: ±2 | BZ72: ±2 | CA72: ±2 | CB72: ±2 | CC72: ±2 | CD72: ±2 | CE72: ±2 | CF72: ±2 | CG72: ±2 | CH72: ±2 | CI72: ±2 | CJ72: ±2 | CK72: ±2 | CL72: ±2 | CM72: ±2 | CN72: ±2 | CO72: ±2 | CP72: ±2 | CQ72: ±2
A73: ﾊﾟﾗ62 | B73: 一般排気ﾌｧﾝ(㎐) | C73: ±2 | D73: ±2 | E73: ±2 | F73: ±2 | G73: ±2 | H73: ±2 | I73: ±2 | J73: ±2 | K73: ±2 | L73: ±2 | M73: ±2 | N73: ±2 | O73: ±2 | P73: ±2 | Q73: ±2 | R73: ±2 | S73: ±2 | T73: ±2 | U73: ±2 | V73: ±2 | W73: ±2 | X73: ±2 | Y73: ±2 | Z73: ±2 | AA73: ±2 | AB73: ±2 | AC73: ±2 | AD73: ±2 | AE73: ±2 | AF73: ±2 | AG73: ±2 | AH73: ±2 | AI73: ±2 | AJ73: ±2 | AK73: ±2 | AL73: ±2 | AM73: ±2 | AN73: ±2 | AO73: ±2 | AP73: ±2 | AQ73: ±2 | AR73: ±2 | AS73: ±2 | AT73: ±2 | AU73: ±2 | AV73: ±2 | AW73: ±2 | AX73: ±2 | AY73: ±2 | AZ73: ±2 | BA73: ±2 | BB73: ±2 | BC73: ±2 | BD73: ±2 | BE73: ±2 | BF73: ±2 | BG73: ±2 | BH73: ±2 | BI73: ±2 | BJ73: ±2 | BK73: ±2 | BL73: ±2 | BM73: ±2 | BN73: ±2 | BO73: ±2 | BP73: ±2 | BQ73: ±2 | BR73: ±2 | BS73: ±2 | BT73: ±2 | BU73: ±2 | BV73: ±2 | BW73: ±2 | BX73: ±2 | BY73: ±2 | BZ73: ±2 | CA73: ±2 | CB73: ±2 | CC73: ±2 | CD73: ±2 | CE73: ±2 | CF73: ±2 | CG73: ±2 | CH73: ±2 | CI73: ±2 | CJ73: ±2 | CK73: ±2 | CL73: ±2 | CM73: ±2 | CN73: ±2 | CO73: ±2 | CP73: ±2 | CQ73: ±2
A74: ﾊﾟﾗ63 | B74: ﾌﾞｰｽ循環ﾌｧﾝ(㎐) | C74: ±2 | D74: ±2 | E74: ±2 | F74: ±2 | G74: ±2 | H74: ±2 | I74: ±2 | J74: ±2 | K74: ±2 | L74: ±2 | M74: ±2 | N74: ±2 | O74: ±2 | P74: ±2 | Q74: ±2 | R74: ±2 | S74: ±2 | T74: ±2 | U74: ±2 | V74: ±2 | W74: ±2 | X74: ±2 | Y74: ±2 | Z74: ±2 | AA74: ±2 | AB74: ±2 | AC74: ±2 | AD74: ±2 | AE74: ±2 | AF74: ±2 | AG74: ±2 | AH74: ±2 | AI74: ±2 | AJ74: ±2 | AK74: ±2 | AL74: ±2 | AM74: ±2 | AN74: ±2 | AO74: ±2 | AP74: ±2 | AQ74: ±2 | AR74: ±2 | AS74: ±2 | AT74: ±2 | AU74: ±2 | AV74: ±2 | AW74: ±2 | AX74: ±2 | AY74: ±2 | AZ74: ±2 | BA74: ±2 | BB74: ±2 | BC74: ±2 | BD74: ±2 | BE74: ±2 | BF74: ±2 | BG74: ±2 | BH74: ±2 | BI74: ±2 | BJ74: ±2 | BK74: ±2 | BL74: ±2 | BM74: ±2 | BN74: ±2 | BO74: ±2 | BP74: ±2 | BQ74: ±2 | BR74: ±2 | BS74: ±2 | BT74: ±2 | BU74: ±2 | BV74: ±2 | BW74: ±2 | BX74: ±2 | BY74: ±2 | BZ74: ±2 | CA74: ±2 | CB74: ±2 | CC74: ±2 | CD74: ±2 | CE74: ±2 | CF74: ±2 | CG74: ±2 | CH74: ±2 | CI74: ±2 | CJ74: ±2 | CK74: ±2 | CL74: ±2 | CM74: ±2 | CN74: ±2 | CO74: ±2 | CP74: ±2 | CQ74: ±2
A75: ﾊﾟﾗ64 | B75: NO1-1ｵｰﾌﾞﾝ温度(℃) | C75: ±5 | D75: ±5 | E75: ±5 | F75: ±5 | G75: ±5 | H75: ±5 | I75: ±5 | J75: ±5 | K75: ±5 | L75: ±5 | M75: ±5 | N75: ±5 | O75: ±5 | P75: ±5 | Q75: ±5 | R75: ±5 | S75: ±5 | T75: ±5 | W75: ±5 | X75: ±5 | Y75: ±5 | Z75: ±5 | AA75: ±5 | AB75: ±5 | AC75: ±5 | AD75: ±5 | AE75: ±5 | AF75: ±5 | AG75: ±5 | AH75: ±5 | AI75: ±5 | AJ75: ±5 | AK75: ±5 | AL75: ±5 | AM75: ±5 | AN75: ±5 | AO75: ±5 | AP75: ±5 | AQ75: ±5 | AR75: ±5 | AS75: ±5 | AT75: ±5 | AU75: ±5 | AV75: ±5 | AW75: - | AX75: ±5 | AY75: ±5 | AZ75: ±5 | BA75: ±5 | BB75: ±5 | BC75: ±5 | BD75: ±5 | BE75: ±5 | BF75: ±5 | BG75: ±5 | BH75: ±5 | BI75: ±5 | BJ75: ±5 | BK75: ±5 | BL75: - | BM75: - | BN75: ±5 | BO75: ±5 | BP75: ±5 | BQ75: ±5 | BR75: ±5 | BS75: ±5 | BT75: ±5 | BU75: ±5 | BV75: ±5 | BW75: ±5 | BX75: ±5 | BY75: ±5 | BZ75: ±5 | CA75: ±5 | CB75: ±5 | CC75: ±5 | CD75: ±5 | CE75: ±5 | CF75: ±5 | CG75: ±5 | CH75: ±5 | CI75: ±5 | CJ75: ±5 | CK75: ±5 | CL75: ±5 | CM75: ±5 | CN75: ±5 | CO75: ±5 | CP75: ±5 | CQ75: ±5
A76: ﾊﾟﾗ65 | B76: NO1-2ｵｰﾌﾞﾝ温度(℃) | C76: ±5 | D76: ±5 | E76: ±5 | F76: ±5 | G76: ±5 | H76: ±5 | I76: ±5 | J76: ±5 | K76: ±5 | L76: ±5 | M76: ±5 | N76: ±5 | O76: ±5 | P76: ±5 | Q76: ±5 | R76: ±5 | S76: ±5 | T76: ±5 | W76: ±5 | X76: ±5 | Y76: ±5 | Z76: ±5 | AA76: ±5 | AB76: ±5 | AC76: ±5 | AD76: ±5 | AE76: ±5 | AF76: ±5 | AG76: ±5 | AH76: ±5 | AI76: ±5 | AJ76: ±5 | AK76: ±5 | AL76: ±5 | AM76: ±5 | AN76: ±5 | AO76: ±5 | AP76: ±5 | AQ76: ±5 | AR76: ±5 | AS76: ±5 | AT76: ±5 | AU76: ±5 | AV76: ±5 | AW76: - | AX76: ±5 | AY76: ±5 | AZ76: ±5 | BA76: ±5 | BB76: ±5 | BC76: ±5 | BD76: ±5 | BE76: ±5 | BF76: ±5 | BG76: ±5 | BH76: ±5 | BI76: ±5 | BJ76: ±5 | BK76: ±5 | BL76: - | BM76: - | BN76: ±5 | BO76: ±5 | BP76: ±5 | BQ76: ±5 | BR76: ±5 | BS76: ±5 | BT76: ±5 | BU76: ±5 | BV76: ±5 | BW76: ±5 | BX76: ±5 | BY76: ±5 | BZ76: ±5 | CA76: ±5 | CB76: ±5 | CC76: ±5 | CD76: ±5 | CE76: ±5 | CF76: ±5 | CG76: ±5 | CH76: ±5 | CI76: ±5 | CJ76: ±5 | CK76: ±5 | CL76: ±5 | CM76: ±5 | CN76: ±5 | CO76: ±5 | CP76: ±5 | CQ76: ±5
A77: ﾊﾟﾗ66 | B77: NO1-3ｵｰﾌﾞﾝ温度(℃) | C77: ±5 | D77: ±5 | E77: ±5 | F77: ±5 | G77: ±5 | H77: ±5 | I77: ±5 | J77: ±5 | K77: ±5 | L77: ±5 | M77: ±5 | N77: ±5 | O77: ±5 | P77: ±5 | Q77: ±5 | R77: ±5 | S77: ±5 | T77: ±5 | W77: ±5 | X77: ±5 | Y77: ±5 | Z77: ±5 | AA77: ±5 | AB77: ±5 | AC77: ±5 | AD77: ±5 | AE77: ±5 | AF77: ±5 | AG77: ±5 | AH77: ±5 | AI77: ±5 | AJ77: ±5 | AK77: ±5 | AL77: ±5 | AM77: ±5 | AN77: ±5 | AO77: ±5 | AP77: ±5 | AQ77: ±5 | AR77: ±5 | AS77: ±5 | AT77: ±5 | AU77: ±5 | AV77: ±5 | AW77: - | AX77: ±5 | AY77: ±5 | AZ77: ±5 | BA77: ±5 | BB77: ±5 | BC77: ±5 | BD77: ±5 | BE77: ±5 | BF77: ±5 | BG77: ±5 | BH77: ±5 | BI77: ±5 | BJ77: ±5 | BK77: ±5 | BL77: - | BM77: - | BN77: ±5 | BO77: ±5 | BP77: ±5 | BQ77: ±5 | BR77: ±5 | BS77: ±5 | BT77: ±5 | BU77: ±5 | BV77: ±5 | BW77: ±5 | BX77: ±5 | BY77: ±5 | BZ77: ±5 | CA77: ±5 | CB77: ±5 | CC77: ±5 | CD77: ±5 | CE77: ±5 | CF77: ±5 | CG77: ±5 | CH77: ±5 | CI77: ±5 | CJ77: ±5 | CK77: ±5 | CL77: ±5 | CM77: ±5 | CN77: ±5 | CO77: ±5 | CP77: ±5 | CQ77: ±5
A78: ﾊﾟﾗ67 | B78: NO1-1ｵｰﾌﾞﾝ風量(㎐) | C78: ±2 | D78: ±2 | E78: ±2 | F78: ±2 | G78: ±2 | H78: ±2 | I78: ±2 | J78: ±2 | K78: ±2 | L78: ±2 | M78: ±2 | N78: ±2 | O78: ±2 | P78: ±2 | Q78: ±2 | R78: ±2 | S78: ±2 | T78: ±2 | U78: ±2 | V78: ±2 | W78: ±2 | X78: ±2 | Y78: ±2 | Z78: ±2 | AA78: ±2 | AB78: ±2 | AC78: ±2 | AD78: ±2 | AE78: ±2 | AF78: ±2 | AG78: ±2 | AH78: ±2 | AI78: ±2 | AJ78: ±2 | AK78: ±2 | AL78: ±2 | AM78: ±2 | AN78: ±2 | AO78: ±2 | AP78: ±2 | AQ78: ±2 | AR78: ±2 | AS78: ±2 | AT78: ±2 | AU78: ±2 | AV78: ±2 | AW78: - | AX78: ±2 | AY78: ±2 | AZ78: ±2 | BA78: ±2 | BB78: ±2 | BC78: ±2 | BD78: ±2 | BE78: ±2 | BF78: ±2 | BG78: ±2 | BH78: ±2 | BI78: ±2 | BJ78: ±2 | BK78: ±2 | BL78: ±2 | BM78: ±2 | BN78: ±2 | BO78: ±2 | BP78: ±2 | BQ78: ±2 | BR78: ±2 | BS78: ±2 | BT78: ±2 | BU78: ±2 | BV78: ±2 | BW78: ±2 | BX78: ±2 | BY78: ±2 | BZ78: ±2 | CA78: ±2 | CB78: ±2 | CC78: ±2 | CD78: ±2 | CE78: ±2 | CF78: ±2 | CG78: ±2 | CH78: ±2 | CI78: ±2 | CJ78: ±2 | CK78: ±2 | CL78: ±2 | CM78: ±2 | CN78: ±2 | CO78: ±2 | CP78: ±2 | CQ78: ±2
A79: ﾊﾟﾗ68 | B79: NO1-2ｵｰﾌﾞﾝ風量(㎐) | C79: ±2 | D79: ±2 | E79: ±2 | F79: ±2 | G79: ±2 | H79: ±2 | I79: ±2 | J79: ±2 | K79: ±2 | L79: ±2 | M79: ±2 | N79: ±2 | O79: ±2 | P79: ±2 | Q79: ±2 | R79: ±2 | S79: ±2 | T79: ±2 | U79: ±2 | V79: ±2 | W79: ±2 | X79: ±2 | Y79: ±2 | Z79: ±2 | AA79: ±2 | AB79: ±2 | AC79: ±2 | AD79: ±2 | AE79: ±2 | AF79: ±2 | AG79: ±2 | AH79: ±2 | AI79: ±2 | AJ79: ±2 | AK79: ±2 | AL79: ±2 | AM79: ±2 | AN79: ±2 | AO79: ±2 | AP79: ±2 | AQ79: ±2 | AR79: ±2 | AS79: ±2 | AT79: ±2 | AU79: ±2 | AV79: ±2 | AW79: - | AX79: ±2 | AY79: ±2 | AZ79: ±2 | BA79: ±2 | BB79: ±2 | BC79: ±2 | BD79: ±2 | BE79: ±2 | BF79: ±2 | BG79: ±2 | BH79: ±2 | BI79: ±2 | BJ79: ±2 | BK79: ±2 | BL79: ±2 | BM79: ±2 | BN79: ±2 | BO79: ±2 | BP79: ±2 | BQ79: ±2 | BR79: ±2 | BS79: ±2 | BT79: ±2 | BU79: ±2 | BV79: ±2 | BW79: ±2 | BX79: ±2 | BY79: ±2 | BZ79: ±2 | CA79: ±2 | CB79: ±2 | CC79: ±2 | CD79: ±2 | CE79: ±2 | CF79: ±2 | CG79: ±2 | CH79: ±2 | CI79: ±2 | CJ79: ±2 | CK79: ±2 | CL79: ±2 | CM79: ±2 | CN79: ±2 | CO79: ±2 | CP79: ±2 | CQ79: ±2
A80: ﾊﾟﾗ69 | B80: NO1-3ｵｰﾌﾞﾝ風量(㎐) | C80: ±2 | D80: ±2 | E80: ±2 | F80: ±2 | G80: ±2 | H80: ±2 | I80: ±2 | J80: ±2 | K80: ±2 | L80: ±2 | M80: ±2 | N80: ±2 | O80: ±2 | P80: ±2 | Q80: ±2 | R80: ±2 | S80: ±2 | T80: ±2 | U80: ±2 | V80: ±2 | W80: ±2 | X80: ±2 | Y80: ±2 | Z80: ±2 | AA80: ±2 | AB80: ±2 | AC80: ±2 | AD80: ±2 | AE80: ±2 | AF80: ±2 | AG80: ±2 | AH80: ±2 | AI80: ±2 | AJ80: ±2 | AK80: ±2 | AL80: ±2 | AM80: ±2 | AN80: ±2 | AO80: ±2 | AP80: ±2 | AQ80: ±2 | AR80: ±2 | AS80: ±2 | AT80: ±2 | AU80: ±2 | AV80: ±2 | AW80: - | AX80: ±2 | AY80: ±2 | AZ80: ±2 | BA80: ±2 | BB80: ±2 | BC80: ±2 | BD80: ±2 | BE80: ±2 | BF80: ±2 | BG80: ±2 | BH80: ±2 | BI80: ±2 | BJ80: ±2 | BK80: ±2 | BL80: ±2 | BM80: ±2 | BN80: ±2 | BO80: ±2 | BP80: ±2 | BQ80: ±2 | BR80: ±2 | BS80: ±2 | BT80: ±2 | BU80: ±2 | BV80: ±2 | BW80: ±2 | BX80: ±2 | BY80: ±2 | BZ80: ±2 | CA80: ±2 | CB80: ±2 | CC80: ±2 | CD80: ±2 | CE80: ±2 | CF80: ±2 | CG80: ±2 | CH80: ±2 | CI80: ±2 | CJ80: ±2 | CK80: ±2 | CL80: ±2 | CM80: ±2 | CN80: ±2 | CO80: ±2 | CP80: ±2 | CQ80: ±2
A81: ﾊﾟﾗ70 | B81: NO2ｵｰﾌﾞﾝﾌﾟﾚ温度(℃) | C81: ±5 | D81: ±5 | E81: ±5 | F81: ±5 | G81: ±5 | H81: ±5 | I81: ±5 | J81: ±5 | K81: ±5 | L81: ±5 | M81: ±5 | N81: ±5 | O81: ±5 | P81: ±5 | Q81: ±5 | R81: ±5 | S81: ±5 | T81: ±5 | U81: ±5 | V81: ±5 | W81: ±5 | X81: ±5 | Y81: ±5 | Z81: ±5 | AA81: ±5 | AB81: ±5 | AC81: ±5 | AD81: ±5 | AE81: ±5 | AF81: ±5 | AG81: ±5 | AH81: ±5 | AI81: ±5 | AJ81: ±5 | AK81: ±5 | AL81: ±5 | AM81: ±5 | AN81: ±5 | AO81: ±5 | AP81: ±5 | AQ81: ±5 | AR81: ±5 | AS81: ±5 | AT81: ±5 | AU81: ±5 | AV81: ±5 | AW81: ±5 | AX81: ±5 | AY81: ±5 | AZ81: ±5 | BA81: ±5 | BB81: ±5 | BC81: ±5 | BD81: ±5 | BE81: ±5 | BF81: ±5 | BG81: ±5 | BH81: ±5 | BI81: ±5 | BJ81: ±5 | BK81: ±5 | BL81: ±5 | BM81: ±5 | BN81: ±5 | BO81: ±5 | BP81: ±5 | BQ81: ±5 | BR81: ±5 | BS81: ±5 | BT81: ±5 | BU81: ±5 | BV81: ±5 | BW81: ±5 | BX81: ±5 | BY81: ±5 | BZ81: ±5 | CA81: ±5 | CB81: ±5 | CC81: ±5 | CD81: ±5 | CE81: ±5 | CF81: ±5 | CG81: ±5 | CH81: ±5 | CI81: ±5 | CJ81: ±5 | CK81: ±5 | CL81: ±5 | CM81: ±5 | CN81: ±5 | CO81: ±5 | CP81: ±5 | CQ81: ±5
A82: ﾊﾟﾗ71 | B82: NO2-1ｵｰﾌﾞﾝ温度(℃) | C82: ±5 | D82: ±5 | E82: ±5 | F82: ±5 | G82: ±5 | H82: ±5 | I82: ±5 | J82: ±5 | K82: ±5 | L82: ±5 | M82: ±5 | N82: ±5 | O82: ±5 | P82: ±5 | Q82: ±5 | R82: ±5 | S82: ±5 | T82: ±5 | U82: ±5 | V82: ±5 | W82: ±5 | X82: ±5 | Y82: ±5 | Z82: ±5 | AA82: ±5 | AB82: ±5 | AC82: ±5 | AD82: ±5 | AE82: ±5 | AF82: ±5 | AG82: ±5 | AH82: ±5 | AI82: ±5 | AJ82: ±5 | AK82: ±5 | AL82: ±5 | AM82: ±5 | AN82: ±5 | AO82: ±5 | AP82: ±5 | AQ82: ±5 | AR82: ±5 | AS82: ±5 | AT82: ±5 | AU82: ±5 | AV82: ±5 | AW82: ±5 | AX82: ±5 | AY82: ±5 | AZ82: ±5 | BA82: ±5 | BB82: ±5 | BC82: ±5 | BD82: ±5 | BE82: ±5 | BF82: ±5 | BG82: ±5 | BH82: ±5 | BI82: ±5 | BJ82: ±5 | BK82: ±5 | BL82: ±5 | BM82: ±5 | BN82: ±5 | BO82: ±5 | BP82: ±5 | BQ82: ±5 | BR82: ±5 | BS82: ±5 | BT82: ±5 | BU82: ±5 | BV82: ±5 | BW82: ±5 | BX82: ±5 | BY82: ±5 | BZ82: ±5 | CA82: ±5 | CB82: ±5 | CC82: ±5 | CD82: ±5 | CE82: ±5 | CF82: ±5 | CG82: ±5 | CH82: ±5 | CI82: ±5 | CJ82: ±5 | CK82: ±5 | CL82: ±5 | CM82: ±5 | CN82: ±5 | CO82: ±5 | CP82: ±5 | CQ82: ±5
A83: ﾊﾟﾗ72 | B83: NO2-2ｵｰﾌﾞﾝ温度(℃) | C83: ±5 | D83: ±5 | E83: ±5 | F83: ±5 | G83: ±5 | H83: ±5 | I83: ±5 | J83: ±5 | K83: ±5 | L83: ±5 | M83: ±5 | N83: ±5 | O83: ±5 | P83: ±5 | Q83: ±5 | R83: ±5 | S83: ±5 | T83: ±5 | U83: ±5 | V83: ±5 | W83: ±5 | X83: ±5 | Y83: ±5 | Z83: ±5 | AA83: ±5 | AB83: ±5 | AC83: ±5 | AD83: ±5 | AE83: ±5 | AF83: ±5 | AG83: ±5 | AH83: ±5 | AI83: ±5 | AJ83: ±5 | AK83: ±5 | AL83: ±5 | AM83: ±5 | AN83: ±5 | AO83: ±5 | AP83: ±5 | AQ83: ±5 | AR83: ±5 | AS83: ±5 | AT83: ±5 | AU83: ±5 | AV83: ±5 | AW83: ±5 | AX83: ±5 | AY83: ±5 | AZ83: ±5 | BA83: ±5 | BB83: ±5 | BC83: ±5 | BD83: ±5 | BE83: ±5 | BF83: ±5 | BG83: ±5 | BH83: ±5 | BI83: ±5 | BJ83: ±5 | BK83: ±5 | BL83: ±5 | BM83: ±5 | BN83: ±5 | BO83: ±5 | BP83: ±5 | BQ83: ±5 | BR83: ±5 | BS83: ±5 | BT83: ±5 | BU83: ±5 | BV83: ±5 | BW83: ±5 | BX83: ±5 | BY83: ±5 | BZ83: ±5 | CA83: ±5 | CB83: ±5 | CC83: ±5 | CD83: ±5 | CE83: ±5 | CF83: ±5 | CG83: ±5 | CH83: ±5 | CI83: ±5 | CJ83: ±5 | CK83: ±5 | CL83: ±5 | CM83: ±5 | CN83: ±5 | CO83: ±5 | CP83: ±5 | CQ83: ±5
A84: ﾊﾟﾗ73 | B84: NO2-3ｵｰﾌﾞﾝ温度(℃) | C84: ±5 | D84: ±5 | E84: ±5 | F84: ±5 | G84: ±5 | H84: ±5 | I84: ±5 | J84: ±5 | K84: ±5 | L84: ±5 | M84: ±5 | N84: ±5 | O84: ±5 | P84: ±5 | Q84: ±5 | R84: ±5 | S84: ±5 | T84: ±5 | U84: ±5 | V84: ±5 | W84: ±5 | X84: ±5 | Y84: ±5 | Z84: ±5 | AA84: ±5 | AB84: ±5 | AC84: ±5 | AD84: ±5 | AE84: ±5 | AF84: ±5 | AG84: ±5 | AH84: ±5 | AI84: ±5 | AJ84: ±5 | AK84: ±5 | AL84: ±5 | AM84: ±5 | AN84: ±5 | AO84: ±5 | AP84: ±5 | AQ84: ±5 | AR84: ±5 | AS84: ±5 | AT84: ±5 | AU84: ±5 | AV84: ±5 | AW84: ±5 | AX84: ±5 | AY84: ±5 | AZ84: ±5 | BA84: ±5 | BB84: ±5 | BC84: ±5 | BD84: ±5 | BE84: ±5 | BF84: ±5 | BG84: ±5 | BH84: ±5 | BI84: ±5 | BJ84: ±5 | BK84: ±5 | BL84: ±5 | BM84: ±5 | BN84: ±5 | BO84: ±5 | BP84: ±5 | BQ84: ±5 | BR84: ±5 | BS84: ±5 | BT84: ±5 | BU84: ±5 | BV84: ±5 | BW84: ±5 | BX84: ±5 | BY84: ±5 | BZ84: ±5 | CA84: ±5 | CB84: ±5 | CC84: ±5 | CD84: ±5 | CE84: ±5 | CF84: ±5 | CG84: ±5 | CH84: ±5 | CI84: ±5 | CJ84: ±5 | CK84: ±5 | CL84: ±5 | CM84: ±5 | CN84: ±5 | CO84: ±5 | CP84: ±5 | CQ84: ±5
A85: ﾊﾟﾗ74 | B85: NO2-4ｵｰﾌﾞﾝ温度(℃) | C85: ±5 | D85: ±5 | E85: ±5 | F85: ±5 | G85: ±5 | H85: ±5 | I85: ±5 | J85: ±5 | K85: ±5 | L85: ±5 | M85: ±5 | N85: ±5 | O85: ±5 | P85: ±5 | Q85: ±5 | R85: ±5 | S85: ±5 | T85: ±5 | U85: ±5 | V85: ±5 | W85: ±5 | X85: ±5 | Y85: ±5 | Z85: ±5 | AA85: ±5 | AB85: ±5 | AC85: ±5 | AD85: ±5 | AE85: ±5 | AF85: ±5 | AG85: ±5 | AH85: ±5 | AI85: ±5 | AJ85: ±5 | AK85: ±5 | AL85: ±5 | AM85: ±5 | AN85: ±5 | AO85: ±5 | AP85: ±5 | AQ85: ±5 | AR85: ±5 | AS85: ±5 | AT85: ±5 | AU85: ±5 | AV85: ±5 | AW85: ±5 | AX85: ±5 | AY85: ±5 | AZ85: ±5 | BA85: ±5 | BB85: ±5 | BC85: ±5 | BD85: ±5 | BE85: ±5 | BF85: ±5 | BG85: ±5 | BH85: ±5 | BI85: ±5 | BJ85: ±5 | BK85: ±5 | BL85: ±5 | BM85: ±5 | BN85: ±5 | BO85: ±5 | BP85: ±5 | BQ85: ±5 | BR85: ±5 | BS85: ±5 | BT85: ±5 | BU85: ±5 | BV85: ±5 | BW85: ±5 | BX85: ±5 | BY85: ±5 | BZ85: ±5 | CA85: ±5 | CB85: ±5 | CC85: ±5 | CD85: ±5 | CE85: ±5 | CF85: ±5 | CG85: ±5 | CH85: ±5 | CI85: ±5 | CJ85: ±5 | CK85: ±5 | CL85: ±5 | CM85: ±5 | CN85: ±5 | CO85: ±5 | CP85: ±5 | CQ85: ±5
A86: ﾊﾟﾗ75 | B86: NO2-5ｵｰﾌﾞﾝ温度(℃) | C86: ±5 | D86: ±5 | E86: ±5 | F86: ±5 | G86: ±5 | H86: ±5 | I86: ±5 | J86: ±5 | K86: ±5 | L86: ±5 | M86: ±5 | N86: ±5 | O86: ±5 | P86: ±5 | Q86: ±5 | R86: ±5 | S86: ±5 | T86: ±5 | U86: ±5 | V86: ±5 | W86: ±5 | X86: ±5 | Y86: ±5 | Z86: ±5 | AA86: ±5 | AB86: ±5 | AC86: ±5 | AD86: ±5 | AE86: ±5 | AF86: ±5 | AG86: ±5 | AH86: ±5 | AI86: ±5 | AJ86: ±5 | AK86: ±5 | AL86: ±5 | AM86: ±5 | AN86: ±5 | AO86: ±5 | AP86: ±5 | AQ86: ±5 | AR86: ±5 | AS86: ±5 | AT86: ±5 | AU86: ±5 | AV86: ±5 | AW86: ±5 | AX86: ±5 | AY86: ±5 | AZ86: ±5 | BA86: ±5 | BB86: ±5 | BC86: ±5 | BD86: ±5 | BE86: ±5 | BF86: ±5 | BG86: ±5 | BH86: ±5 | BI86: ±5 | BJ86: ±5 | BK86: ±5 | BL86: ±5 | BM86: ±5 | BN86: ±5 | BO86: ±5 | BP86: ±5 | BQ86: ±5 | BR86: ±5 | BS86: ±5 | BT86: ±5 | BU86: ±5 | BV86: ±5 | BW86: ±5 | BX86: ±5 | BY86: ±5 | BZ86: ±5 | CA86: ±5 | CB86: ±5 | CC86: ±5 | CD86: ±5 | CE86: ±5 | CF86: ±5 | CG86: ±5 | CH86: ±5 | CI86: ±5 | CJ86: ±5 | CK86: ±5 | CL86: ±5 | CM86: ±5 | CN86: ±5 | CO86: ±5 | CP86: ±5 | CQ86: ±5
A87: ﾊﾟﾗ76 | B87: NO2-6ｵｰﾌﾞﾝ温度(℃) | C87: ±5 | D87: ±5 | E87: ±5 | F87: ±5 | G87: ±5 | H87: ±5 | I87: ±5 | J87: ±5 | K87: ±5 | L87: ±5 | M87: ±5 | N87: ±5 | O87: ±5 | P87: ±5 | Q87: ±5 | R87: ±5 | S87: ±5 | T87: ±5 | U87: ±5 | V87: ±5 | W87: ±5 | X87: ±5 | Y87: ±5 | Z87: ±5 | AA87: ±5 | AB87: ±5 | AC87: ±5 | AD87: ±5 | AE87: ±5 | AF87: ±5 | AG87: ±5 | AH87: ±5 | AI87: ±5 | AJ87: ±5 | AK87: ±5 | AL87: ±5 | AM87: ±5 | AN87: ±5 | AO87: ±5 | AP87: ±5 | AQ87: ±5 | AR87: ±5 | AS87: ±5 | AT87: ±5 | AU87: ±5 | AV87: ±5 | AW87: ±5 | AX87: ±5 | AY87: ±5 | AZ87: ±5 | BA87: ±5 | BB87: ±5 | BC87: ±5 | BD87: ±5 | BE87: ±5 | BF87: ±5 | BG87: ±5 | BH87: ±5 | BI87: ±5 | BJ87: ±5 | BK87: ±5 | BL87: ±5 | BM87: ±5 | BN87: ±5 | BO87: ±5 | BP87: ±5 | BQ87: ±5 | BR87: ±5 | BS87: ±5 | BT87: ±5 | BU87: ±5 | BV87: ±5 | BW87: ±5 | BX87: ±5 | BY87: ±5 | BZ87: ±5 | CA87: ±5 | CB87: ±5 | CC87: ±5 | CD87: ±5 | CE87: ±5 | CF87: ±5 | CG87: ±5 | CH87: ±5 | CI87: ±5 | CJ87: ±5 | CK87: ±5 | CL87: ±5 | CM87: ±5 | CN87: ±5 | CO87: ±5 | CP87: ±5 | CQ87: ±5
A88: ﾊﾟﾗ77 | B88: NO2-7冷風 温度 | C88: - | D88: - | E88: - | F88: - | G88: - | H88: - | I88: - | J88: - | K88: - | L88: - | M88: - | N88: - | O88: - | P88: - | Q88: - | R88: - | S88: - | T88: - | U88: - | V88: - | W88: - | X88: - | Y88: - | Z88: - | AA88: - | AB88: - | AC88: - | AD88: - | AE88: - | AF88: - | AG88: - | AH88: - | AI88: - | AJ88: - | AK88: - | AL88: - | AM88: - | AN88: - | AO88: - | AP88: - | AQ88: - | AR88: - | AS88: - | AT88: - | AU88: - | AV88: - | AW88: - | AX88: - | AY88: - | AZ88: - | BA88: - | BB88: - | BC88: - | BD88: - | BE88: - | BF88: - | BG88: - | BH88: - | BI88: - | BJ88: - | BK88: - | BL88: - | BM88: - | BN88: - | BO88: - | BP88: - | BQ88: - | BR88: - | BS88: - | BT88: - | BU88: - | BV88: - | BW88: - | BX88: - | BY88: - | BZ88: - | CA88: - | CB88: - | CC88: - | CD88: - | CE88: - | CF88: - | CG88: - | CH88: - | CI88: - | CJ88: - | CK88: - | CL88: - | CM88: - | CN88: - | CO88: - | CP88: - | CQ88: -
A89: ﾊﾟﾗ78 | B89: NO2ｵｰﾌﾞﾝﾌﾟﾚ風量(㎐) | C89: ±2 | D89: ±2 | E89: ±2 | F89: ±2 | G89: ±2 | H89: ±2 | I89: ±2 | J89: ±2 | K89: ±2 | L89: ±2 | M89: ±2 | N89: ±2 | O89: ±2 | P89: ±2 | Q89: ±2 | R89: ±2 | S89: ±2 | T89: ±2 | U89: ±2 | V89: ±2 | W89: ±2 | X89: ±2 | Y89: ±2 | Z89: ±2 | AA89: ±2 | AB89: ±2 | AC89: ±2 | AD89: ±2 | AE89: ±2 | AF89: ±2 | AG89: ±2 | AH89: ±2 | AI89: ±2 | AJ89: ±2 | AK89: ±2 | AL89: ±2 | AM89: ±2 | AN89: ±2 | AO89: ±2 | AP89: ±2 | AQ89: ±2 | AR89: ±2 | AS89: ±2 | AT89: ±2 | AU89: ±2 | AV89: ±2 | AW89: ±2 | AX89: ±2 | AY89: ±2 | AZ89: ±2 | BA89: ±2 | BB89: ±2 | BC89: ±2 | BD89: ±2 | BE89: ±2 | BF89: ±2 | BG89: ±2 | BH89: ±2 | BI89: ±2 | BJ89: ±2 | BK89: ±2 | BL89: ±2 | BM89: ±2 | BN89: ±2 | BO89: ±2 | BP89: ±2 | BQ89: ±2 | BR89: ±2 | BS89: ±2 | BT89: ±2 | BU89: ±2 | BV89: ±2 | BW89: ±2 | BX89: ±2 | BY89: ±2 | BZ89: ±2 | CA89: ±2 | CB89: ±2 | CC89: ±2 | CD89: ±2 | CE89: ±2 | CF89: ±2 | CG89: ±2 | CH89: ±2 | CI89: ±2 | CJ89: ±2 | CK89: ±2 | CL89: ±2 | CM89: ±2 | CN89: ±2 | CO89: ±2 | CP89: ±2 | CQ89: ±2
... A106: ﾊﾟﾗ95 | B106: ｱﾝｶｰ調合種6 | C106: - | D106: - | E106: - | F106: - | G106: - | H106: - | I106: - | J106: - | K106: - | L106: - | M106: - | N106: - | O106: - | P106: - | Q106: - | R106: - | S106: - | T106: - | U106: - | V106: - | W106: - | X106: - | Y106: - | Z106: - | AA106: - | AB106: - | AC106: - | AD106: - | AE106: - | AF106: - | AG106: - | AH106: - | AI106: - | AJ106: - | AK106: - | AL106: - | AM106: - | AN106: - | AO106: - | AP106: - | AQ106: - | AR106: - | AS106: - | AT106: - | AU106: - | AV106: - | AW106: - | AX106: - | AY106: - | AZ106: - | BA106: - | BB106: - | BC106: - | BD106: - | BE106: - | BF106: - | BG106: - | BH106: - | BI106: - | BJ106: - | BK106: - | BL106: - | BM106: - | BN106: - | BO106: - | BP106: - | BQ106: - | BR106: - | BS106: - | BT106: - | BU106: - | BV106: - | BW106: - | BX106: - | BY106: - | BZ106: - | CA106: - | CB106: - | CC106: - | CD106: - | CE106: - | CF106: - | CG106: - | CH106: - | CI106: - | CJ106: - | CK106: - | CL106: - | CM106: - | CN106: - | CO106: - | CP106: - | CQ106: -
A107: ﾊﾟﾗ96 | B107: ｱﾝｶｰ調合量1(kg) | C107: ±5% | D107: ±5% | E107: ±5% | F107: - | G107: - | H107: - | I107: - | J107: - | K107: ±5% | L107: ±5% | M107: ±5% | N107: ±5% | O107: ±5% | P107: ±5% | Q107: ±5% | R107: ±5% | S107: ±5% | T107: ±5% | W107: - | X107: - | Y107: - | Z107: - | AA107: - | AB107: - | AC107: - | AD107: - | AE107: - | AF107: - | AG107: - | AH107: - | AI107: - | AJ107: - | AK107: - | AL107: - | AM107: - | AN107: - | AO107: ±5% | AP107: ±5% | AQ107: ±5% | AR107: ±5% | AS107: ±5% | AT107: ±5% | AU107: ±5% | AV107: ±5% | AW107: - | AX107: ±5% | AY107: ±5% | AZ107: ±5% | BA107: ±5% | BB107: ±5% | BC107: ±5% | BD107: ±5% | BE107: ±5% | BF107: ±5% | BG107: ±5% | BH107: ±5% | BI107: ±5% | BJ107: ±5% | BK107: ±5% | BL107: - | BM107: - | BN107: ±5% | BO107: ±5% | BP107: ±5% | BQ107: ±5% | BR107: ±5% | BU107: ±5% | BV107: ±5% | BW107: ±5% | BX107: ±5% | BY107: ±5% | BZ107: ±5% | CA107: ±5% | CB107: ±5% | CC107: ±5% | CD107: ±5% | CE107: ±5% | CF107: ±5% | CG107: ±5% | CH107: ±5% | CI107: ±5% | CJ107: ±5% | CK107: - | CL107: - | CM107: - | CN107: - | CO107: ±5% | CP107: ±5% | CQ107: ±5%
A108: ﾊﾟﾗ97 | B108: ｱﾝｶｰ調合量2(kg) | C108: ±5% | D108: ±5% | E108: ±5% | F108: - | G108: - | H108: - | I108: - | J108: - | K108: ±5% | L108: ±5% | M108: ±5% | N108: ±5% | O108: ±5% | P108: ±5% | Q108: ±5% | R108: ±5% | S108: ±5% | T108: ±5% | W108: - | X108: - | Y108: - | Z108: - | AA108: - | AB108: - | AC108: - | AD108: - | AE108: - | AF108: - | AG108: - | AH108: - | AI108: - | AJ108: - | AK108: - | AL108: - | AM108: - | AN108: - | AO108: ±5% | AP108: ±5% | AQ108: ±5% | AR108: ±5% | AS108: ±5% | AT108: ±5% | AU108: ±5% | AV108: ±5% | AW108: - | AX108: ±5% | AY108: ±5% | AZ108: ±5% | BA108: ±5% | BB108: ±5% | BC108: ±5% | BD108: ±5% | BE108: ±5% | BF108: ±5% | BG108: ±5% | BH108: ±5% | BI108: ±5% | BJ108: ±5% | BK108: ±5% | BL108: - | BM108: - | BN108: ±5% | BO108: ±5% | BP108: ±5% | BQ108: ±5% | BR108: ±5% | BU108: ±5% | BV108: ±5% | BW108: ±5% | BX108: ±5% | BY108: ±5% | BZ108: ±5% | CA108: ±5% | CB108: ±5% | CC108: ±5% | CD108: ±5% | CE108: ±5% | CF108: ±5% | CG108: ±5% | CH108: ±5% | CI108: ±5% | CJ108: ±5% | CK108: - | CL108: - | CM108: - | CN108: - | CO108: ±5% | CP108: ±5% | CQ108: ±5%
A109: ﾊﾟﾗ98 | B109: ｱﾝｶｰ調合量3(kg) | C109: ±5% | D109: ±5% | E109: ±5% | F109: - | G109: - | H109: - | I109: - | J109: - | K109: ±5% | L109: ±5% | M109: ±5% | N109: ±5% | O109: ±5% | P109: ±5% | Q109: ±5% | R109: ±5% | S109: ±5% | T109: ±5% | W109: - | X109: - | Y109: - | Z109: - | AA109: - | AB109: - | AC109: - | AD109: - | AE109: - | AF109: - | AG109: - | AH109: - | AI109: - | AJ109: - | AK109: - | AL109: - | AM109: - | AN109: - | AO109: ±5% | AP109: ±5% | AQ109: ±5% | AR109: ±5% | AS109: ±5% | AT109: ±5% | AU109: ±5% | AV109: ±5% | AW109: - | AX109: ±5% | AY109: ±5% | AZ109: ±5% | BA109: ±5% | BB109: ±5% | BC109: ±5% | BD109: ±5% | BE109: ±5% | BF109: ±5% | BG109: ±5% | BH109: ±5% | BI109: ±5% | BJ109: ±5% | BK109: ±5% | BL109: - | BM109: - | BN109: ±5% | BO109: ±5% | BP109: ±5% | BQ109: ±5% | BR109: ±5% | BU109: ±5% | BV109: ±5% | BW109: ±5% | BX109: ±5% | BY109: ±5% | BZ109: ±5% | CA109: ±5% | CB109: ±5% | CC109: ±5% | CD109: ±5% | CE109: ±5% | CF109: ±5% | CG109: ±5% | CH109: ±5% | CI109: ±5% | CJ109: ±5% | CK109: - | CL109: - | CM109: - | CN109: - | CO109: ±5% | CP109: ±5% | CQ109: ±5%
A110: ﾊﾟﾗ99 | B110: ｱﾝｶｰ調合量4(kg) | C110: ±5% | D110: ±5% | E110: ±5% | F110: - | G110: - | H110: - | I110: - | J110: - | K110: ±5% | L110: ±5% | M110: ±5% | N110: ±5% | O110: ±5% | P110: ±5% | Q110: ±5% | R110: ±5% | S110: ±5% | T110: ±5% | W110: - | X110: - | Y110: - | Z110: - | AA110: - | AB110: - | AC110: - | AD110: - | AE110: - | AF110: - | AG110: - | AH110: - | AI110: - | AJ110: - | AK110: - | AL110: - | AM110: - | AN110: - | AO110: ±5% | AP110: ±5% | AQ110: ±5% | AR110: ±5% | AS110: ±5% | AT110: ±5% | AU110: ±5% | AV110: ±5% | AW110: - | AX110: ±5% | AY110: ±5% | AZ110: ±5% | BA110: ±5% | BB110: ±5% | BC110: ±5% | BD110: ±5% | BE110: ±5% | BF110: ±5% | BG110: ±5% | BH110: ±5% | BI110: ±5% | BJ110: ±5% | BK110: ±5% | BL110: - | BM110: - | BN110: ±5% | BO110: ±5% | BP110: ±5% | BQ110: ±5% | BR110: ±5% | BU110: ±5% | BV110: ±5% | BW110: ±5% | BX110: ±5% | BY110: ±5% | BZ110: ±5% | CA110: ±5% | CB110: ±5% | CC110: ±5% | CD110: ±5% | CE110: ±5% | CF110: ±5% | CG110: ±5% | CH110: ±5% | CI110: ±5% | CJ110: ±5% | CK110: - | CL110: - | CM110: - | CN110: - | CO110: ±5% | CP110: ±5% | CQ110: ±5%
A111: ﾊﾟﾗ100 | B111: ｱﾝｶｰ調合量5(kg) | C111: ±5% | D111: ±5% | E111: ±5% | F111: - | G111: - | H111: - | I111: - | J111: - | K111: ±5% | L111: ±5% | M111: ±5% | N111: ±5% | O111: ±5% | P111: ±5% | Q111: ±5% | R111: ±5% | S111: ±5% | T111: ±5% | W111: - | X111: - | Y111: - | Z111: - | AA111: - | AB111: - | AC111: - | AD111: - | AE111: - | AF111: - | AG111: - | AH111: - | AI111: - | AJ111: - | AK111: - | AL111: - | AM111: - | AN111: - | AO111: ±5% | AP111: ±5% | AQ111: ±5% | AR111: ±5% | AS111: ±5% | AT111: ±5% | AU111: ±5% | AV111: ±5% | AW111: - | AX111: ±5% | AY111: ±5% | AZ111: ±5% | BA111: ±5% | BB111: ±5% | BC111: ±5% | BD111: ±5% | BE111: ±5% | BF111: ±5% | BG111: ±5% | BH111: ±5% | BI111: ±5% | BJ111: ±5% | BK111: ±5% | BL111: - | BM111: - | BN111: ±5% | BO111: ±5% | BP111: ±5% | BQ111: ±5% | BR111: ±5% | BU111: ±5% | BV111: ±5% | BW111: ±5% | BX111: ±5% | BY111: ±5% | BZ111: ±5% | CA111: ±5% | CB111: ±5% | CC111: ±5% | CD111: ±5% | CE111: ±5% | CF111: ±5% | CG111: ±5% | CH111: ±5% | CI111: ±5% | CJ111: ±5% | CK111: - | CL111: - | CM111: - | CN111: - | CO111: ±5% | CP111: ±5% | CQ111: ±5%
A112: ﾊﾟﾗ101 | B112: ｱﾝｶｰ調合量6(kg) | C112: ±5% | D112: ±5% | E112: ±5% | F112: - | G112: - | H112: - | I112: - | J112: - | K112: ±5% | L112: ±5% | M112: ±5% | N112: ±5% | O112: ±5% | P112: ±5% | Q112: ±5% | R112: ±5% | S112: ±5% | T112: ±5% | W112: - | X112: - | Y112: - | Z112: - | AA112: - | AB112: - | AC112: - | AD112: - | AE112: - | AF112: - | AG112: - | AH112: - | AI112: - | AJ112: - | AK112: - | AL112: - | AM112: - | AN112: - | AO112: ±5% | AP112: ±5% | AQ112: ±5% | AR112: ±5% | AS112: ±5% | AT112: ±5% | AU112: ±5% | AV112: ±5% | AW112: - | AX112: ±5% | AY112: ±5% | AZ112: ±5% | BA112: ±5% | BB112: ±5% | BC112: ±5% | BD112: ±5% | BE112: ±5% | BF112: ±5% | BG112: ±5% | BH112: ±5% | BI112: ±5% | BJ112: ±5% | BK112: ±5% | BL112: - | BM112: - | BN112: ±5% | BO112: ±5% | BP112: ±5% | BQ112: ±5% | BR112: ±5% | BU112: ±5% | BV112: ±5% | BW112: ±5% | BX112: ±5% | BY112: ±5% | BZ112: ±5% | CA112: ±5% | CB112: ±5% | CC112: ±5% | CD112: ±5% | CE112: ±5% | CF112: ±5% | CG112: ±5% | CH112: ±5% | CI112: ±5% | CJ112: ±5% | CK112: - | CL112: - | CM112: - | CN112: - | CO112: ±5% | CP112: ±5% | CQ112: ±5%
A113: ﾊﾟﾗ102 | B113: ｱﾝｶｰ調合量total(kg) | C113: ±5% | D113: ±5% | E113: ±5% | F113: - | G113: - | H113: - | I113: - | J113: - | K113: ±5% | L113: ±5% | M113: ±5% | N113: ±5% | O113: ±5% | P113: ±5% | Q113: ±5% | R113: ±5% | S113: ±5% | T113: ±5% | W113: - | X113: - | Y113: - | Z113: - | AA113: - | AB113: - | AC113: - | AD113: - | AE113: - | AF113: - | AG113: - | AH113: - | AI113: - | AJ113: - | AK113: - | AL113: - | AM113: - | AN113: - | AO113: ±5% | AP113: ±5% | AQ113: ±5% | AR113: ±5% | AS113: ±5% | AT113: ±5% | AU113: ±5% | AV113: ±5% | AW113: - | AX113: ±5% | AY113: ±5% | AZ113: ±5% | BA113: ±5% | BB113: ±5% | BC113: ±5% | BD113: ±5% | BE113: ±5% | BF113: ±5% | BG113: ±5% | BH113: ±5% | BI113: ±5% | BJ113: ±5% | BK113: ±5% | BL113: - | BM113: - | BN113: ±5% | BO113: ±5% | BP113: ±5% | BQ113: ±5% | BR113: ±5% | BU113: ±5% | BV113: ±5% | BW113: ±5% | BX113: ±5% | BY113: ±5% | BZ113: ±5% | CA113: ±5% | CB113: ±5% | CC113: ±5% | CD113: ±5% | CE113: ±5% | CF113: ±5% | CG113: ±5% | CH113: ±5% | CI113: ±5% | CJ113: ±5% | CK113: - | CL113: - | CM113: - | CN113: - | CO113: ±5% | CP113: ±5% | CQ113: ±5%
A114: ﾊﾟﾗ103 | B114: ｱﾝｶｰ桶 ﾒｯｼｭ # | C114: - | D114: - | E114: - | F114: - | G114: - | H114: - | I114: - | J114: - | K114: - | L114: - | M114: - | N114: - | O114: - | P114: - | Q114: - | R114: - | S114: - | T114: - | U114: - | V114: - | W114: - | X114: - | Y114: - | Z114: - | AA114: - | AB114: - | AC114: - | AD114: - | AE114: - | AF114: - | AG114: - | AH114: - | AI114: - | AJ114: - | AK114: - | AL114: - | AM114: - | AN114: - | AO114: - | AP114: - | AQ114: - | AR114: - | AS114: - | AT114: - | AU114: - | AV114: - | AW114: - | AX114: - | AY114: - | AZ114: - | BA114: - | BB114: - | BC114: - | BD114: - | BE114: - | BF114: - | BG114: - | BH114: - | BI114: - | BJ114: - | BK114: - | BL114: - | BM114: - | BN114: - | BO114: - | BP114: - | BQ114: - | BR114: - | BS114: - | BT114: - | BU114: - | BV114: - | BW114: - | BX114: - | BY114: - | BZ114: - | CA114: - | CB114: - | CC114: - | CD114: - | CE114: - | CF114: - | CG114: - | CH114: - | CI114: - | CJ114: - | CK114: - | CL114: - | CM114: - | CN114: - | CO114: - | CP114: - | CQ114: -
A115: ﾊﾟﾗ104 | B115: ｱﾝｶｰ循環ﾎﾟﾝﾌﾟﾌｨﾙﾀｰ(µm) | C115: - | D115: - | E115: - | F115: - | G115: - | H115: - | I115: - | J115: - | K115: - | L115: - | M115: - | N115: - | O115: - | P115: - | Q115: - | R115: - | S115: - | T115: - | U115: - | V115: - | W115: - | X115: - | Y115: - | Z115: - | AA115: - | AB115: - | AC115: - | AD115: - | AE115: - | AF115: - | AG115: - | AH115: - | AI115: - | AJ115: - | AK115: - | AL115: - | AM115: - | AN115: - | AO115: - | AP115: - | AQ115: - | AR115: - | AS115: - | AT115: - | AU115: - | AV115: - | AW115: - | AX115: - | AY115: - | AZ115: - | BA115: - | BB115: - | BC115: - | BD115: - | BE115: - | BF115: - | BG115: - | BH115: - | BI115: - | BJ115: - | BK115: - | BL115: - | BM115: - | BN115: - | BO115: - | BP115: - | BQ115: - | BR115: - | BS115: - | BT115: - | BU115: - | BV115: - | BW115: - | BX115: - | BY115: - | BZ115: - | CA115: - | CB115: - | CC115: - | CD115: - | CE115: - | CF115: - | CG115: - | CH115: - | CI115: - | CJ115: - | CK115: - | CL115: - | CM115: - | CN115: - | CO115: - | CP115: - | CQ115: -
A116: ﾊﾟﾗ105 | B116: ｱﾝｶｰﾘﾀｰﾝ ﾒｯｼｭ # | C116: - | D116: - | E116: - | F116: - | G116: - | H116: - | I116: - | J116: - | K116: - | L116: - | M116: - | N116: - | O116: - | P116: - | Q116: - | R116: - | S116: - | T116: - | U116: - | V116: - | W116: - | X116: - | Y116: - | Z116: - | AA116: - | AB116: - | AC116: - | AD116: - | AE116: - | AF116: - | AG116: - | AH116: - | AI116: - | AJ116: - | AK116: - | AL116: - | AM116: - | AN116: - | AO116: - | AP116: - | AQ116: - | AR116: - | AS116: - | AT116: - | AU116: - | AV116: - | AW116: - | AX116: - | AY116: - | AZ116: - | BA116: - | BB116: - | BC116: - | BD116: - | BE116: - | BF116: - | BG116: - | BH116: - | BI116: - | BJ116: - | BK116: - | BL116: - | BM116: - | BN116: - | BO116: - | BP116: - | BQ116: - | BR116: - | BS116: - | BT116: - | BU116: - | BV116: - | BW116: - | BX116: - | BY116: - | BZ116: - | CA116: - | CB116: - | CC116: - | CD116: - | CE116: - | CF116: - | CG116: - | CH116: - | CI116: - | CJ116: - | CK116: - | CL116: - | CM116: - | CN116: - | CO116: - | CP116: - | CQ116: -
A117: ﾊﾟﾗ106 | B117: ｱﾝｶｰ調合特記事項 | C117: - | D117: - | E117: - | F117: - | G117: - | H117: - | I117: - | J117: - | K117: - | L117: - | M117: - | N117: - | O117: - | P117: - | Q117: - | R117: - | S117: - | T117: - | U117: - | V117: - | W117: - | X117: - | Y117: - | Z117: - | AA117: - | AB117: - | AC117: - | AD117: - | AE117: - | AF117: - | AG117: - | AH117: - | AI117: - | AJ117: - | AK117: - | AL117: - | AM117: - | AN117: - | AO117: - | AP117: - | AQ117: - | AR117: - | AS117: - | AT117: - | AU117: - | AV117: - | AW117: - | AX117: - | AY117: - | AZ117: - | BA117: - | BB117: - | BC117: - | BD117: - | BE117: - | BF117: - | BG117: - | BH117: - | BI117: - | BJ117: - | BK117: - | BL117: - | BM117: - | BN117: - | BO117: - | BP117: - | BQ117: - | BR117: - | BS117: - | BT117: - | BU117: - | BV117: - | BW117: - | BX117: - | BY117: - | BZ117: - | CA117: - | CB117: - | CC117: - | CD117: - | CE117: - | CF117: - | CG117: - | CH117: - | CI117: - | CJ117: - | CK117: - | CL117: - | CM117: - | CN117: - | CO117: - | CP117: - | CQ117: -
A118: ﾊﾟﾗ107 | B118: ｼﾘｺﾝ調合種1 | C118: - | D118: - | E118: - | F118: - | G118: - | H118: - | I118: - | J118: - | K118: - | L118: - | M118: - | N118: - | O118: - | P118: - | Q118: - | R118: - | S118: - | T118: - | U118: - | V118: - | W118: - | X118: - | Y118: - | Z118: - | AA118: - | AB118: - | AC118: - | AD118: - | AE118: - | AF118: - | AG118: - | AH118: - | AI118: - | AJ118: - | AK118: - | AL118: - | AM118: - | AN118: - | AO118: - | AP118: - | AQ118: - | AR118: - | AS118: - | AT118: - | AU118: - | AV118: - | AW118: - | AX118: - | AY118: - | AZ118: - | BA118: - | BB118: - | BC118: - | BD118: - | BE118: - | BF118: - | BG118: - | BH118: - | BI118: - | BJ118: - | BK118: - | BL118: - | BM118: - | BN118: - | BO118: - | BP118: - | BQ118: - | BR118: - | BS118: - | BT118: - | BU118: - | BV118: - | BW118: - | BX118: - | BY118: - | BZ118: - | CA118: - | CB118: - | CC118: - | CD118: - | CE118: - | CF118: - | CG118: - | CH118: - | CI118: - | CJ118: - | CK118: - | CL118: - | CM118: - | CN118: - | CO118: - | CP118: - | CQ118: -
A119: ﾊﾟﾗ108 | B119: ｼﾘｺﾝ調合種2 | C119: - | D119: - | E119: - | F119: - | G119: - | H119: - | I119: - | J119: - | K119: - | L119: - | M119: - | N119: - | O119: - | P119: - | Q119: - | R119: - | S119: - | T119: - | U119: - | V119: - | W119: - | X119: - | Y119: - | Z119: - | AA119: - | AB119: - | AC119: - | AD119: - | AE119: - | AF119: - | AG119: - | AH119: - | AI119: - | AJ119: - | AK119: - | AL119: - | AM119: - | AN119: - | AO119: - | AP119: - | AQ119: - | AR119: - | AS119: - | AT119: - | AU119: - | AV119: - | AW119: - | AX119: - | AY119: - | AZ119: - | BA119: - | BB119: - | BC119: - | BD119: - | BE119: - | BF119: - | BG119: - | BH119: - | BI119: - | BJ119: - | BK119: - | BL119: - | BM119: - | BN119: - | BO119: - | BP119: - | BQ119: - | BR119: - | BS119: - | BT119: - | BU119: - | BV119: - | BW119: - | BX119: - | BY119: - | BZ119: - | CA119: - | CB119: - | CC119: - | CD119: - | CE119: - | CF119: - | CG119: - | CH119: - | CI119: - | CJ119: - | CK119: - | CL119: - | CM119: - | CN119: - | CO119: - | CP119: - | CQ119: -
A120: ﾊﾟﾗ109 | B120: ｼﾘｺﾝ調合種3 | C120: - | D120: - | E120: - | F120: - | G120: - | H120: - | I120: - | J120: - | K120: - | L120: - | M120: - | N120: - | O120: - | P120: - | Q120: - | R120: - | S120: - | T120: - | U120: - | V120: - | W120: - | X120: - | Y120: - | Z120: - | AA120: - | AB120: - | AC120: - | AD120: - | AE120: - | AF120: - | AG120: - | AH120: - | AI120: - | AJ120: - | AK120: - | AL120: - | AM120: - | AN120: - | AO120: - | AP120: - | AQ120: - | AR120: - | AS120: - | AT120: - | AU120: - | AV120: - | AW120: - | AX120: - | AY120: - | AZ120: - | BA120: - | BB120: - | BC120: - | BD120: - | BE120: - | BF120: - | BG120: - | BH120: - | BI120: - | BJ120: - | BK120: - | BL120: - | BM120: - | BN120: - | BO120: - | BP120: - | BQ120: - | BR120: - | BS120: - | BT120: - | BU120: - | BV120: - | BW120: - | BX120: - | BY120: - | BZ120: - | CA120: - | CB120: - | CC120: - | CD120: - | CE120: - | CF120: - | CG120: - | CH120: - | CI120: - | CJ120: - | CK120: - | CL120: - | CM120: - | CN120: - | CO120: - | CP120: - | CQ120: -
A121: ﾊﾟﾗ110 | B121: ｼﾘｺﾝ調合種4 | C121: - | D121: - | E121: - | F121: - | G121: - | H121: - | I121: - | J121: - | K121: - | L121: - | M121: - | N121: - | O121: - | P121: - | Q121: - | R121: - | S121: - | T121: - | U121: - | V121: - | W121: - | X121: - | Y121: - | Z121: - | AA121: - | AB121: - | AC121: - | AD121: - | AE121: - | AF121: - | AG121: - | AH121: - | AI121: - | AJ121: - | AK121: - | AL121: - | AM121: - | AN121: - | AO121: - | AP121: - | AQ121: - | AR121: - | AS121: - | AT121: - | AU121: - | AV121: - | AW121: - | AX121: - | AY121: - | AZ121: - | BA121: - | BB121: - | BC121: - | BD121: - | BE121: - | BF121: - | BG121: - | BH121: - | BI121: - | BJ121: - | BK121: - | BL121: - | BM121: - | BN121: - | BO121: - | BP121: - | BQ121: - | BR121: - | BS121: - | BT121: - | BU121: - | BV121: - | BW121: - | BX121: - | BY121: - | BZ121: - | CA121: - | CB121: - | CC121: - | CD121: - | CE121: - | CF121: - | CG121: - | CH121: - | CI121: - | CJ121: - | CK121: - | CL121: - | CM121: - | CN121: - | CO121: - | CP121: - | CQ121: -
A122: ﾊﾟﾗ111 | B122: ｼﾘｺﾝ調合種5 | C122: - | D122: - | E122: - | F122: - | G122: - | H122: - | I122: - | J122: - | K122: - | L122: - | M122: - | N122: - | O122: - | P122: - | Q122: - | R122: - | S122: - | T122: - | U122: - | V122: - | W122: - | X122: - | Y122: - | Z122: - | AA122: - | AB122: - | AC122: - | AD122: - | AE122: - | AF122: - | AG122: - | AH122: - | AI122: - | AJ122: - | AK122: - | AL122: - | AM122: - | AN122: - | AO122: - | AP122: - | AQ122: - | AR122: - | AS122: - | AT122: - | AU122: - | AV122: - | AW122: - | AX122: - | AY122: - | AZ122: - | BA122: - | BB122: - | BC122: - | BD122: - | BE122: - | BF122: - | BG122: - | BH122: - | BI122: - | BJ122: - | BK122: - | BL122: - | BM122: - | BN122: - | BO122: - | BP122: - | BQ122: - | BR122: - | BS122: - | BT122: - | BU122: - | BV122: - | BW122: - | BX122: - | BY122: - | BZ122: - | CA122: - | CB122: - | CC122: - | CD122: - | CE122: - | CF122: - | CG122: - | CH122: - | CI122: - | CJ122: - | CK122: - | CL122: - | CM122: - | CN122: - | CO122: - | CP122: - | CQ122: -
A123: ﾊﾟﾗ112 | B123: ｼﾘｺﾝ調合種6 | C123: - | D123: - | E123: - | F123: - | G123: - | H123: - | I123: - | J123: - | K123: - | L123: - | M123: - | N123: - | O123: - | P123: - | Q123: - | R123: - | S123: - | T123: - | U123: - | V123: - | W123: - | X123: - | Y123: - | Z123: - | AA123: - | AB123: - | AC123: - | AD123: - | AE123: - | AF123: - | AG123: - | AH123: - | AI123: - | AJ123: - | AK123: - | AL123: - | AM123: - | AN123: - | AO123: - | AP123: - | AQ123: - | AR123: - | AS123: - | AT123: - | AU123: - | AV123: - | AW123: - | AX123: - | AY123: - | AZ123: - | BA123: - | BB123: - | BC123: - | BD123: - | BE123: - | BF123: - | BG123: - | BH123: - | BI123: - | BJ123: - | BK123: - | BL123: - | BM123: - | BN123: - | BO123: - | BP123: - | BQ123: - | BR123: - | BS123: - | BT123: - | BU123: - | BV123: - | BW123: - | BX123: - | BY123: - | BZ123: - | CA123: - | CB123: - | CC123: - | CD123: - | CE123: - | CF123: - | CG123: - | CH123: - | CI123: - | CJ123: - | CK123: - | CL123: - | CM123: - | CN123: - | CO123: - | CP123: - | CQ123: -
A124: ﾊﾟﾗ113 | B124: ｼﾘｺﾝ調合種7 | C124: - | D124: - | E124: - | F124: - | G124: - | H124: - | I124: - | J124: - | K124: - | L124: - | M124: - | N124: - | O124: - | P124: - | Q124: - | R124: - | S124: - | T124: - | U124: - | V124: - | W124: - | X124: - | Y124: - | Z124: - | AA124: - | AB124: - | AC124: - | AD124: - | AE124: - | AF124: - | AG124: - | AH124: - | AI124: - | AJ124: - | AK124: - | AL124: - | AM124: - | AN124: - | AO124: - | AP124: - | AQ124: - | AR124: - | AS124: - | AT124: - | AU124: - | AV124: - | AW124: - | AX124: - | AY124: - | AZ124: - | BA124: - | BB124: - | BC124: - | BD124: - | BE124: - | BF124: - | BG124: - | BH124: - | BI124: - | BJ124: - | BK124: - | BL124: - | BM124: - | BN124: - | BO124: - | BP124: - | BQ124: - | BR124: - | BS124: - | BT124: - | BU124: - | BV124: - | BW124: - | BX124: - | BY124: - | BZ124: - | CA124: - | CB124: - | CC124: - | CD124: - | CE124: - | CF124: - | CG124: - | CH124: - | CI124: - | CJ124: - | CK124: - | CL124: - | CM124: - | CN124: - | CO124: - | CP124: - | CQ124: -
A125: ﾊﾟﾗ114 | B125: ｼﾘｺﾝ調合量1(kg) | C125: ±5% | D125: ±5% | E125: ±5% | F125: ±5% | G125: ±5% | H125: ±5% | I125: ±5% | J125: ±5% | K125: ±5% | L125: ±5% | M125: ±5% | N125: ±5% | O125: ±5% | P125: ±5% | Q125: ±5% | R125: ±5% | S125: ±5% | T125: ±5% | U125: ±5% | V125: ±5% | W125: ±5% | X125: ±5% | Y125: ±5% | Z125: ±5% | AA125: ±5% | AB125: ±5% | AC125: ±5% | AD125: ±5% | AE125: ±5% | AF125: ±5% | AG125: ±5% | AH125: ±5% | AI125: ±5% | AJ125: ±5% | AK125: ±5% | AL125: ±5% | AM125: ±5% | AN125: ±5% | AO125: ±5% | AP125: ±5% | AQ125: ±5% | AR125: ±5% | AS125: ±5% | AT125: ±5% | AU125: ±5% | AV125: ±5% | AW125: ±5% | AX125: ±5% | AY125: ±5% | AZ125: ±5% | BA125: ±5% | BB125: ±5% | BC125: ±5% | BD125: ±5% | BE125: ±5% | BF125: ±5% | BG125: ±5% | BH125: ±5% | BI125: ±5% | BJ125: ±5% | BK125: ±5% | BL125: ±5% | BM125: ±5% | BN125: ±5% | BO125: ±5% | BP125: ±5% | BQ125: ±5% | BR125: ±5% | BU125: ±5% | BV125: ±5% | BW125: ±5% | BX125: ±5% | BY125: ±5% | BZ125: ±5% | CA125: ±5% | CB125: ±5% | CC125: ±5% | CD125: ±5% | CE125: ±5% | CF125: ±5% | CG125: ±5% | CH125: ±5% | CI125: ±5% | CJ125: ±5% | CK125: ±5% | CL125: ±5% | CM125: ±5% | CN125: ±5% | CO125: ±5% | CP125: ±5% | CQ125: ±5%
...

Sheet 品種条件
L1: 条件登録NO | M1: 1 | N1: 2 | O1: 3 | P1: 4 | Q1: 5 | R1: 6 | S1: 7 | T1: 8 | U1: 9 | V1: 10 | W1: 11 | X1: 12 | Y1: 13 | Z1: 14 | AA1: 15 | AB1: 16 | AC1: 17 | AD1: 18 | AE1: 19 | AF1: 20 | AG1: 21 | AH1: 22 | AI1: 23 | AJ1: 24 | AK1: 25 | AL1: 26 | AM1: 27 | AN1: 28 | AO1: 29 | AP1: 30 | AQ1: 31 | AR1: 32 | AS1: 33 | AT1: 34 | AU1: 35 | AV1: 36 | AW1: 37 | AX1: 38 | AY1: 39 | AZ1: 40 | BA1: 41 | BB1: 42 | BC1: 43 | BD1: 44 | BE1: 45 | BF1: 46 | BG1: 47 | BH1: 48 | BI1: 49 | BJ1: 50 | BK1: 51 | BL1: 52 | BM1: 53 | BN1: 54 | BO1: 55 | BP1: 56 | BQ1: 57 | BR1: 58 | BS1: 59 | BT1: 60 | BU1: 61 | BV1: 62 | BW1: 63 | BX1: 64 | BY1: 65 | BZ1: 66 | CA1: 67 | CB1: 68 | CC1: 69 | CD1: 70 | CE1: 71 | CF1: 72 | CG1: 73 | CH1: 74 | CI1: 75 | CJ1: 76 | CK1: 77 | CL1: 78 | CM1: 79 | CN1: 80 | CO1: 81 | CP1: 82 | CQ1: 83 | CR1: 84 | CS1: 85 | CT1: 86 | CU1: 87 | CV1: 88 | CW1: 89 | CX1: 90 | CY1: 91 | CZ1: 92 | DA1: 93 | DB1: 94 | DC1: 95 | DD1: 96 | DE1: 97 | DF1: 98 | DG1: 99 | DH1: 100
K2: 項目1 | L2: 品番 | M2: 38 | N2: 38 | O2: 38 | P2: 75 | Q2: 25 | R2: 25 | S2: 25 | T2: 38 | U2: 25 | V2: 75 | W2: 125 | X2: 31 | Y2: 100 | Z2: 100 | AA2: 125 | AB2: 188 | AC2: 188 | AD2: 75 | AE2: 25 | AF2: 38 | AG2: 25 | AH2: 25 | AI2: 25 | AJ2: 25 | AK2: 25・38 | AL2: 25・38 | AM2: 25・38 | AN2: 25 | AO2: 38 | AP2: 38 | AQ2: 125 | AR2: 38 | AS2: 38 | AT2: 25 | AU2: 25 | AV2: 25 | AX2: 25・38 | AY2: 25 | AZ2: 38 | BA2: 38 | BB2: 38 | BC2: 38 | BE2: 38 | BF2: 38 | BG2: 38 | BH2: 38 | BI2: 38 | BJ2: 38 | BK2: 125 | BL2: 38 | BM2: 38 | BN2: 38 | BO2: 38 | BP2: 38 | BQ2: 38 | BR2: 38 | BS2: 38 | BT2: 38 | BU2: 75 | BV2: 75 | BW2: 25 | BX2: 50 | BY2: 38 | BZ2: 75 | CA2: 75 | CB2: 188 | CC2: 188 | CD2: 75 | CE2: 50 | CF2: 188 | CG2: 38 | CH2: 38 | CI2: 38 | CJ2: 75 | CK2: 38 | CL2: 50 | CM2: 50 | CN2: 50 | CO2: 75 | CP2: 50 | CQ2: 38 | CR2: 75 | CS2: 38 | CT2: 38 | CU2: 25 | CV2: 25 | CW2: 25 | CX2: 25 | CY2: 75 | CZ2: 75 | DA2: 38
K3: 項目2 | L3: ﾀｲﾌﾟ名称 | M3: BKE(09) | N3: BKE(D) | O3: BKE(D) | P3: BKR(U)K | Q3: BK(U) | R3: BK(U)K | S3: BK(U)K | T3: ＢＫ（Ｓ） | U3: BX8ARX | V3: BX8A(X) | W3: MDA(R) | X3: MFA(CR) | Y3: MFA(S) | Z3: MFA(S) | AA3: MFA(S) | AB3: MFA(S) | AC3: MFA(S) | AD3: MFA(S) | AE3: SY08 | AF3: TX011(01) | AG3: WZ | AH3: WZ | AI3: WZ | AJ3: WZ | AK3: WZ(E) | AL3: WZ(E) | AM3: WZ(E) | AN3: WZ(RX) | AO3: WZ(RX) | AP3: WZ(RX) | AQ3: WZ(S) | AR3: WZ(S) | AS3: WZ(S) | AT3: WZ(U) | AU3: WZ(U) | AV3: WZ(U) | AW3: WZ(U) | AX3: WZ(T) | AY3: BKE(RX) | AZ3: BKE(RX) | BA3: BKE(RX) | BB3: BKE(RX) | BC3: BKE(RX) | BD3: BKE(RX) | BE3: BX8ARX | BF3: BX8ARX | BG3: BX8(R) | BH3: MD(A)(R) | BI3: MD(A)(R) | BJ3: MD(A)(R) | BK3: MDA(R) | BL3: MDA(RX) | BM3: MDA(RX) | BN3: MDA(PRF) | BO3: MDA(PRF)L/（CPRF)L | BP3: MDA(CPRF) | BQ3: MDA(PRF) | BR3: MDA(PRF)L/（CPRF)L | BS3: MDA(PRF)L/（CPRF)L | BT3: MDA(PRF)・（CPRF) | BU3: BX8AD | BV3: MFA(S) | BW3: WZ(RX) | BX3: MDA(S) | BY3: BX8ARX | BZ3: BX8AS | CA3: BX9AS | CB3: MFA(S) | CC3: PJ10106 | CD3: HP2(U) | CE3: MDA(S) | CF3: MFA(S) | CG3: MFA(RX) | CH3: BX8ARX | CI3: BX8ARX | CJ3: BX8A(X) | CK3: BX9ARX | CL3: SY（19） | CM3: SY（18）BS | CN3: TK07 | CO3: BX8A(X) | CP3: SY(09） | CQ3: BKE(09) | CR3: BX8A(X) | CS3: MD(A)(R) | CT3: BX8ARX | CU3: WZ(U) | CV3: WZ(U) | CW3: WZ(RX) | CX3: WZ(RX) | CY3: BX8A(37) | CZ3: BX8A(14) | DA3: BKE(09)
K4: 項目3 | L4: 製品仕様 | M4: 直出し | N4: 直出し | O4: 直出し | P4: ｽﾘｯﾄ | Q4: ｽﾘｯﾄ | R4: 半直 | S4: 半直 | T4: ｽﾘｯﾄ | U4: ｽﾘｯﾄ | V4: 直出し | W4: 直出し | X4: ｽﾘｯﾄ | Y4: ｽﾘｯﾄ | Z4: ｽﾘｯﾄ | AA4: ｽﾘｯﾄ | AB4: 直出し | AC4: ｽﾘｯﾄ | AD4: ｽﾘｯﾄ | AE4: ｽﾘｯﾄ | AG4: 直出し・ｽﾘｯﾄ | AH4: 直出し | AI4: 直出し、半直、ｽﾘｯﾄ | AJ4: 直出し | AK4: 半直出し | AL4: 半直出し | AM4: 直出し | AN4: ｽﾘｯﾄ | AO4: 半直出し | AP4: 半直出し | AQ4: 直出し | AR4: 直出し | AS4: 直出し | AT4: ｽﾘｯﾄMK-1 | AU4: ｽﾘｯﾄMK-1 | AV4: 半直出し | AW4: 直出し | AX4: 直出し | AY4: ｽﾘｯﾄ | AZ4: ｽﾘｯﾄ | BA4: 半直出し | BB4: ｽﾘｯﾄ | BC4: ｽﾘｯﾄ | BD4: 直出し | BE4: ｽﾘｯﾄ | BF4: 半直出し | BG4: 直出し | BH4: 半直出し | BI4: 半直出し | BJ4: ｽﾘｯﾄ行き | BK4: 直出し | BL4: ｽﾘｯﾄ行き | BM4: ｽﾘｯﾄ行き | BN4: 直出し | BO4: 直出し | BP4: 直出し | BQ4: 直出し | BR4: 直出し | BS4: 直出し | BT4: 直出し | BU4: 直出し | BV4: 直出し | BW4: 巻き返し | BX4: 直出し | BY4: スリット | BZ4: 直出し | CA4: 直出し | CB4: ｽﾘｯﾄ | CC4: 巻き返し | CD4: ｽﾘｯﾄ行き | CE4: 直出し | CF4: ｽﾘｯﾄ行き | CG4: ｽﾘｯﾄ | CH4: ｽﾘｯﾄ | CI4: ｽﾘｯﾄ | CJ4: 直出し | CK4: ｽﾘｯﾄ | CL4: ｽﾘｯﾄ | CM4: ｽﾘｯﾄ | CN4: 直出し | CO4: ｽﾘｯﾄまたは直出し | CP4: 直出し | CQ4: 半直出し | CR4: 直出し | CS4: ｽﾘｯﾄ | CT4: ｽﾘｯﾄ | CU4: 直出し | CV4: 半直出し | CW4: ｽﾘｯﾄ | CX4: ｽﾘｯﾄ | CY4: 直出し | CZ4: 直出し | DA4: 半直出し
K5: 項目4 | L5: 幅 | M5: 1030・1050 | N5: 1030・1050 | O5: 1330 | P5: 1095 | Q5: 890 | R5: 1040 | S5: 1080 | T5: 1590 | U5: 740 | V5: 1330 | W5: 1100 | X5: 440 | Y5: 330 | Z5: 450 | AA5: 150 | AB5: 1130 | AC5: 1220 | AD5: 220 | AE5: 500 | AF5: 476.666 | AG5: 1030 | AH5: 1,050/1,100 | AI5: 1320 | AJ5: 1240 | AK5: 1040 | AL5: 1240 | AM5: 1240 | AN5: 540・640・780 | AO5: 1130 | AP5: 1430 | AQ5: 1225 | AR5: 1000 | AS5: 1410 | AT5: 1150 | AU5: 1420 | AV5: 1410 | AW5: 1320 | AX5: 1320 | AY5: 1330 | AZ5: 1330 | BA5: 1330 | BB5: 1480 | BC5: 1580 | BD5: 1030 | BE5: 1330 | BF5: 1330 | BG5: 1330 | BH5: 1020 | BI5: 1250 | BJ5: 1580 | BK5: 1585 | BL5: 315 | BM5: 415 | BN5: 1140 | BO5: 1145 | BP5: 1320 | BQ5: 1320 | BR5: 1325 | BS5: 1485 | BT5: 1480 | BU5: 1330 | BV5: 1040 | BW5: 1180 | BX5: 1300 | BY5: 500 | BZ5: 1040～1110 | CA5: 1040 | CB5: 500 | CC5: 1580 | CD5: 360 | CE5: 1300 | CF5: 1600 | CG5: 1265 | CH5: 1580 | CI5: 1480 | CJ5: 1330 | CK5: 1330 | CL5: 540または1100 | CM5: 540または1000 | CN5: 1100～1500 | CO5: 1050or1100 | CP5: 1040 | CQ5: 1360 | CR5: 1100 | CS5: 750 | CT5: 535・1330 | CU5: 1150 | CV5: 1150 | CW5: 450 | CX5: 1040 | CY5: 1050 | CZ5: 1300 | DA5: 1330
K6: 項目5 | L6: 長さ | M6: 8400 | N6: 8400 | O6: 6000 | P6: 2000 | Q6: 3800 | R6: 6000 | S6: 6000 | T6: 4000 | U6: 2100 | V6: 4000 | W6: 3400 | X6: 6500 | Y6: 550 | Z6: 750 | AA6: 200 | AB6: 1620 | AC6: 800 | AD6: 1200 | AE6: 4000 | AF6: 1216.666 | AG6: 12000 | AH6: 6000・8000・12000・12600 | AI6: 6000・8000・12600 | AJ6: 11200 | AK6: 6000 | AL6: 6000 | AM6: 6000 | AN6: 2000 | AO6: 6000 | AP6: 6000 | AQ6: 1800 | AR6: 8000 | AS6: 8000 | AT6: 4200 | AU6: 12600 | AV6: 6000 | AW6: 8000 | AX6: 8000 | AY6: 6000 | AZ6: 6000 | BA6: 6000 | BB6: 6000 | BC6: 6000 | BD6: 8400 | BE6: 6000 | BF6: 6000 | BG6: 12000 | BH6: 6000 | BI6: 6000 | BJ6: 4000 | BK6: 3400 | BL6: 1950 | BM6: 1950 | BN6: 12000 | BO6: 12000 | BP6: 12000 | BQ6: 12000 | BR6: 12000 | BS6: 12000 | BT6: 12000 | BU6: 5000 | BV6: 4000 | BW6: 2000 | BX6: 6200 | BY6: 4000 | BZ6: 4000 | CA6: 4000 | CB6: 200 | CC6: 1000 | CD6: 900 | CE6: 3900 | CF6: 800 | CG6: 4000 | CH6: 6000 | CI6: 6000 | CJ6: 4100 | CK6: 6000 | CL6: 300または500 | CM6: 500または700 | CN6: 4000 | CO6: 2000or4000 | CP6: 4000 | CQ6: 8400 | CR6: 4000 | CS6: 6000 | CT6: 2000・6000 | CU6: 12400 | CV6: 6000 | CW6: 4000 | CX6: 12300 | CY6: 5800 | CZ6: 4300 | DA6: 6000
K7: 項目6 | L7: 原反品名 | M7: XD500P | N7: T100 | O7: T100 | P7: ｴﾝﾌﾞﾚｯﾄSD | Q7: ｴﾝﾌﾞﾚｯﾄS | R7: ｴﾝﾌﾞﾚｯﾄS | S7: ｴﾝﾌﾞﾚｯﾄS | T7: S28 | U7: R75X | V7: XD500P | W7: XD1NB1 | X7: R56 | Y7: S28 | Z7: S28 | AA7: S28 | AB7: S28M | AC7: S28M | AD7: S28-PER | AE7: ｴﾝﾌﾞﾚｯﾄS | AG7: R75X | AH7: R75X | AI7: R75X | AJ7: R75X | AK7: E5001 | AL7: E5001 | AM7: E5001 | AN7: R75X | AO7: R75X | AP7: R75X | AQ7: S28(M) | AR7: S28 | AS7: S28 | AT7: ｴﾝﾌﾞﾚｯﾄS | AU7: ｴﾝﾌﾞﾚｯﾄS | AV7: ｴﾝﾌﾞﾚｯﾄS | AW7: ｴﾝﾌﾞﾚｯﾄS | AX7: T70A | AY7: R75XK | AZ7: R75XK | BA7: R75X | BB7: R75XK | BC7: R75XK | BD7: R75X | BE7: R75XK | BF7: R75X | BG7: R75X | BH7: R75X | BI7: R75X | BJ7: R75X | BK7: XD1NB1 | BL7: R75X | BM7: R75X | BN7: XF60R | BO7: XF60R | BP7: XF60RC | BQ7: XF60R | BR7: XF60R | BS7: XF60R | BT7: XF60R | BU7: T100、T102 | BV7: S28-PER | BW7: R75X | BX7: S28M | BZ7: S28（S27) | CA7: S28（S27) | CB7: S28M | CE7: S28M | CF7: S28M | CG7: R75X | CH7: R75XK | CI7: R75XK | CJ7: XD500P | CK7: R75X | CL7: X42G | CM7: E20 | CN7: XD500P | CO7: XD500P | CP7: XD500P | CQ7: XD500P | CR7: XD500P | CS7: R75X | CT7: R75XK | CU7: ｴﾝﾌﾞﾚｯﾄS | CV7: ｴﾝﾌﾞﾚｯﾄS | CW7: R75X | CX7: R75X | CY7: RM1Z又はRM10 | CZ7: S28（S27) | DA7: XD500P
K8: 項目7 | L8: 原反幅 | M8: 1037・1057 | N8: 1040・1060 | O8: 1340・1335 | P8: 1100 | Q8: 900・970 | R8: 1045 | S8: 1085 | T8: 1600 | U8: 1520 | V8: 1335 | W8: 1105 | X8: 1370 | Y8: 1020 | Z8: 1020 | AA8: 1250 | AB8: 1134 | AC8: 1230 | AD8: 1310 | AE8: 1045～1085 | AF8: 1200 | AG8: 1035or1040 | AH8: 1,060/1,105 | AI8: 1330 | AJ8: 1245 | AK8: 1045 | AL8: 1245 | AM8: 1245 | AN8: 13231337 | AO8: 1135 | AP8: 1430 | AQ8: 1230 | AR8: 1005 | AS8: 1415 | AT8: 1155 | AU8: 1425 | AV8: 1415 | AW8: 1325 | AX8: 1325 | AY8: 1337 | AZ8: 1335 | BA8: 1335 | BB8: 1485 | BC8: 1585 | BD8: 1035 | BE8: 1335 | BF8: 1335 | BG8: 1335 | BH8: 1025 | BI8: 1255 | BJ8: 1585 | BK8: 1590 | BL8: 1305(他幅でも適用可） | BM8: 1305(他幅でも適用可） | BN8: 1160 | BO8: 1160 | BP8: 1336 | BQ8: 1336 | BR8: 1336 | BS8: 1496 | BT8: 1496 | BU8: 1335 | BV8: 1045 | BW8: 1323 | BX8: 1310 | BY8: 1025 | BZ8: 1045～1120 | CA8: 1045～1120 | CB8: 1134 | CC8: 1600 | CD8: 1230 | CE8: 1310 | CF8: 1610 | CG8: 1270 | CH8: 1585 | CI8: 1485 | CJ8: 1335 | CK8: 1335 | CL8: 1100 | CM8: 1000 | CN8: 1100～1500 | CO8: 1060or1110 | CP8: 1050 | CQ8: 1367 | CR8: 1110 | CS8: 1550 | CT8: 1135・1335 | CU8: 1155 | CV8: 1155 | CW8: 1040 | CX8: 1040 | CY8: 1060 | CZ8: 1315 | DA8: 1337
K9: 項目8 | L9: 原反長さ | M9: 8450～8500 | N9: 8500 | O9: 12300 | P9: 2200 | Q9: 12500 | R9: 12400 | S9: 12400 | T9: 8000 | U9: 13000 | V9: 4200 | W9: 3450 | X9: 13450 | Y9: 2400～3200 | Z9: 2400～3200 | AA9: 2000 | AB9: 1800 | AC9: 2000 | AD9: 4000 | AE9: 12400～12600 | AF9: 8000 | AG9: 12300 | AH9: 12200～16300 | AI9: 12200～16300 | AJ9: 11600～12300 | AK9: 12400 | AL9: 12300～12400 | AM9: 6100～6200 | AN9: 12,300、16,300 | AO9: 12200 | AP9: 6000 | AQ9: 2000 | AR9: 8000 | AS9: 8000 | AT9: 12600 | AU9: 12600 | AV9: 12300 | AW9: 8200 | AX9: 8200 | AY9: 12300 | AZ9: 12200 | BA9: 12200 | BB9: 12200 | BC9: 12200 | BD9: 8500 | BE9: 12200 | BF9: 12200 | BG9: 12200 | BH9: 12200 | BI9: 12200～12400 | BJ9: 12200 | BK9: 3450 | BL9: 12200 | BM9: 12200 | BN9: 12050 | BO9: 12050 | BP9: 12050 | BQ9: 12050 | BR9: 12050 | BS9: 12050 | BT9: 12050 | BU9: 5200 | BV9: 4200 | BW9: 16300 | BX9: 6400 | BY9: 12200 | BZ9: 4200～4300 | CA9: 4200 | CB9: 1800 | CC9: 2000 | CD9: 2100 | CE9: 4000 | CF9: 2000 | CG9: 12400 | CH9: 12200 | CI9: 12200 | CJ9: 4200or4300 | CK9: 12200 | CL9: 1300 | CM9: 2000 | CN9: 4200 | CO9: 4200or4300 | CP9: 4000～6500 | CQ9: 6000 | CR9: 4200 | CS9: 12200 | CT9: 12200 | CU9: 12600 | CV9: 12600 | CW9: 12300 | CX9: 12300 | CY9: 6000 | CZ9: 4500 | DA9: 12200
K10: 項目9 | L10: ﾕｰｻﾞｰ | M10: ﾊﾟﾅｯｸ | N10: ﾊﾟﾅｯｸ | O10: ﾊﾟﾅｯｸ | P10: きもと | Q10: 積水化学 | R10: きもと | S10: きもと | T10: ﾘﾝﾃｯｸ | U10: 利昌工業 | V10: 巴川 | W10: 日東尾道 | X10: ﾊﾟﾅｿﾆｯｸAIS | Y10: 下田工業 | Z10: 京ｾﾗ | AA10: 下田工業 | AB10: 下田工業 | AC10: ＮＧＫ | AD10: 真田KOA/MARUWA | AE10: ﾅｶﾞｾｹﾑﾃｯｸ | AG10: ﾊﾟﾅｯｸ | AH10: ﾊﾟﾅｯｸ | AI10: ﾊﾟﾅｯｸ | AJ10: 東山ﾌｨﾙﾑ | AK10: 古河電工 | AL10: 古河電工 | AM10: 古河電工 | AN10: 三栄産業 | AO10: 東洋包材 | AP10: ﾘｹﾝﾃｸﾉｽ | AQ10: 東洋機材 | AR10: ﾘﾝﾃｯｸ | AS10: ﾘﾝﾃｯｸ | AT10: 日榮新化 | AU10: 日榮新化 | AV10: 藤産業 | AW10: 新ﾀｯｸ化成 | AX10: 東洋包材・ﾘｹﾝﾃｸﾉｽ | AY10: 巴川製紙所 | AZ10: 巴川製紙所 | BA10: ﾊﾟﾅｯｸ | BB10: 巴川製紙所 | BC10: 巴川製紙所 | BD10: ﾊﾟﾅｯｸ | BE10: 巴川製紙所 | BF10: ﾊﾟﾅｯｸ | BG10: 日東豊橋 | BH10: 日東電工豊橋 | BI10: 日東電工豊橋 | BJ10: 日東電工豊橋 | BK10: 日東尾道 | BL10: 住友ﾍﾞｰｸﾗｲﾄ | BM10: 住友ﾍﾞｰｸﾗｲﾄ | BN10: 日東電工 | BO10: 日東電工 | BP10: 日東電工 | BQ10: 日東電工 | BR10: 日東電工 | BS10: 日東電工 | BT10: 日東電工 | BU10: ﾊﾟﾅｯｸ | BV10: 日榮新化 | BW10: 三栄産業 | BX10: 日東豊橋 | BZ10: 日榮新化 | CA10: 日榮新化 | CB10: KERAFOL | CE10: 京ｾﾗ | CF10: 下田工業 | CG10: 3M | CH10: 巴川製紙所 | CI10: 巴川製紙所 | CJ10: 巴川製紙所 | CK10: 巴川製紙所 | CL10: ﾆｯｶﾝ高萩 | CM10: 栗村化学（ﾕﾙﾁｮﾝ） | CN10: 日榮新化 | CO10: 新ﾀｯｸ化成 | CP10: 栗村化学 | CQ10: ﾊﾟﾅｯｸ | CR10: 日榮新化 | CS10: 日東電工豊橋 | CT10: 住友電工ﾌﾟﾘﾝﾄｻｰｷｯﾄ | CU10: フジコピアン | CV10: 藤産業 | CW10: 日東電工亀山 | CX10: 日東亀山 | CY10: 日東豊橋 | CZ10: ﾄﾖｰｹﾑ | DA10: ﾊﾟﾅｯｸ
K11: 項目10 | L11: 更新日 | M11: 20210802 | N11: 20200213 | O11: 20200213 | P11: 20191106 | Q11: 20210709 | R11: 20210709 | S11: 20210802 | T11: 20191106 | U11: 20220511 | V11: 20220120 | W11: 20200826 | X11: 20211129 | Y11: 20210817 | Z11: 20210817 | AA11: 20210817 | AB11: 20211013 | AC11: 20211013 | AD11: 20220914 | AE11: 20220511 | AF11: 20190717 | AG11: 20220314 | AH11: 20220914 | AI11: 20210709 | AJ11: 20220314 | AK11: 20220406 | AL11: 20220914 | AM11: 20220406 | AN11: 20210830 | AO11: 20210802 | AP11: 20210830 | AQ11: 20210830 | AR11: 20210709 | AS11: 20210709 | AT11: 20210709 | AU11: 20210709 | AV11: 20210709 | AW11: 20210709 | AX11: 20210709 | AY11: 20220120 | AZ11: 20220120 | BA11: 20230210 | BB11: 20220120 | BC11: 20230210 | BD11: 20230210 | BE11: 20230210 | BF11: 20230210 | BG11: 20210317 | BH11: 20220513 | BI11: 20210709 | BJ11: 20210709 | BK11: 20191106 | BL11: 20210709 | BM11: 20210906 | BN11: 20191106 | BO11: 20210709 | BP11: 20191106 | BQ11: 20191106 | BR11: 20220228 | BS11: 20220228 | BT11: 20191106 | BU11: 20220511 | BV11: 20200121 | BW11: 20191106 | BX11: 20210817 | BY11: 20210317 | BZ11: 20210924 | CA11: 20210709 | CB11: 20211013 | CC11: 20190717 | CD11: 20190717 | CE11: 20191106 | CF11: 20211013 | CG11: 20211129 | CH11: 20220120 | CI11: 20220120 | CJ11: 20220914 | CK11: 20220120 | CL11: 20191106 | CM11: 20191106 | CN11: 20210906 | CO11: 20200420 | CP11: 20220511 | CQ11: 20211013 | CR11: 20210709 | CS11: 20220406 | CT11: 20210709 | CU11: 20210802 | CV11: NEW20210119 | CW11: NEW20210924 | CX11: NEW20220314 | CY11: NEW20220628 | CZ11: 20221013 | DA11: NEW20230210
D12: ｻｲｽﾞ | E12: １４９６×１２０５０m | K12: ﾊﾟﾗ1 | L12: 原反ｺｰﾄ面 | M12: 外 | N12: 外 | O12: 外 | P12: 外 | Q12: 外 | R12: 外 | S12: 外 | T12: 外 | U12: 外 | V12: 外 | W12: 外 | X12: 外 | Y12: 外 | Z12: 外 | AA12: 外 | AB12: 外 | AC12: 外 | AD12: 外 | AE12: 外 | AF12: 外 | AG12: 外 | AH12: 外 | AI12: 外 | AJ12: 外 | AK12: 外 | AL12: 外 | AM12: 外 | AN12: 外 | AO12: 外 | AP12: 外 | AQ12: 外 | AR12: 外 | AS12: 外 | AT12: 外 | AU12: 外 | AV12: 外 | AW12: 外 | AX12: 外 | AY12: 内 | AZ12: 内 | BA12: 外 | BB12: 内 | BC12: 内 | BD12: 外 | BE12: 外 | BF12: 外 | BG12: 外 | BH12: 外 | BI12: 外 | BJ12: 外 | BK12: 内 | BL12: 外 | BM12: 外 | BN12: 外 | BO12: 外 | BP12: 外 | BQ12: 外 | BR12: 外 | BS12: 外 | BT12: 外 | BU12: 外 | BV12: 外 | BW12: 外 | BX12: 外 | BY12: 外 | BZ12: 外 | CA12: 外 | CB12: 外 | CC12: 外 | CD12: 外 | CE12: 外 | CF12: 外 | CG12: 外 | CH12: 外 | CI12: 外 | CJ12: 外 | CK12: 外 | CL12: 外 | CM12: 外 | CN12: 外 | CO12: 外 | CP12: 外 | CQ12: 外 | CR12: 外 | CS12: 外 | CT12: 外 | CU12: 外 | CV12: 外 | CW12: 外 | CX12: 外 | CY12: 外 | CZ12: 外 | DA12: 外
D13: ｺｰﾄ面 | E13: 外 面 | K13: ﾊﾟﾗ2 | L13: 塗工速度(m/min) | M13: 250 | N13: 250 | O13: 230 | P13: 150 | Q13: 250 | R13: 230 | S13: 230 | T13: 230 | U13: 200 | V13: 150 | W13: 100 | X13: 180 | Y13: 100 | Z13: 100 | AA13: 100 | AB13: 80 | AC13: 80 | AD13: 150 | AE13: 160 | AG13: 250 | AH13: 250 | AI13: 250※特記参照 | AJ13: 250 | AK13: 230 | AL13: 230 | AM13: 230 | AN13: 250 | AO13: 230 | AP13: 230 | AQ13: 80 | AR13: 250 | AS13: 250 | AT13: 250 | AU13: 250 | AV13: 230 | AW13: 250 | AX13: 250 | AY13: 230 | AZ13: 230 | BA13: 230 | BB13: 220 | BC13: 220 | BD13: 250 | BE13: 200 | BF13: 200 | BG13: 200 | BH13: 200 | BI13: 200 | BJ13: 200 | BK13: 100 | BL13: 205 | BM13: 205 | BN13: 235 | BO13: 240 | BP13: 235 | BQ13: 235 | BR13: 240 | BS13: 240 | BT13: 235 | BU13: 150 | BV13: 150 | BW13: 250 | BX13: 150 | BZ13: 150 | CA13: 150 | CB13: 80 | CE13: 150 | CF13: 80 | CG13: 190 | CH13: 200 | CI13: 200 | CJ13: 150 | CK13: 200 | CL13: 160 | CM13: 160 | CN13: 150 | CO13: 150 | CP13: 160 | CQ13: 230 | CR13: 150 | CS13: 200 | CT13: 200 | CU13: 250 | CV13: 230 | CW13: 250 | CX13: 250 | CY13: 150 | CZ13: 150 | DA13: 230
C14: 設 定 | D14: 塗工速度 | H14: ２３５±５m/min | K14: ﾊﾟﾗ3 | L14: 繰出方向 | M14: 下出し | N14: 下出し | O14: 下出し | P14: 下出し | Q14: 下出し | R14: 下出し | S14: 下出し | T14: 下出し | U14: 下出し | V14: 下出し | W14: 上出し | X14: 下出し | Y14: 下出し | Z14: 下出し | AA14: 下出し | AB14: 下出し | AC14: 下出し | AD14: 下出し | AE14: 下出し | AF14: 下出し | AG14: 下出し | AH14: 下出し | AI14: 下出し | AJ14: 下出し | AK14: 下出し | AL14: 下出し | AM14: 下出し | AN14: 下出し | AO14: 下出し | AP14: 下出し | AQ14: 下出し | AR14: 下出し | AS14: 下出し | AT14: 下出し | AU14: 下出し | AV14: 下出し | AW14: 下出し | AX14: 下出し | AY14: 上出し | AZ14: 上出し | BA14: 下出し | BB14: 上出し | BC14: 上出し | BD14: 下出し | BE14: 下出し | BF14: 下出し | BG14: 下出し | BH14: 下出し | BI14: 下出し | BJ14: 下出し | BK14: 上出し | BL14: 下出し | BM14: 下出し | BN14: 下出し | BO14: 下出し | BP14: 下出し | BQ14: 下出し | BR14: 下出し | BS14: 下出し | BT14: 下出し | BU14: 下出し | BV14: 下出し | BW14: 下出し | BX14: 下出し | BY14: 下出し | BZ14: 下出し | CA14: 下出し | CB14: 下出し | CC14: 下出し | CD14: 下出し | CE14: 下出し | CF14: 下出し | CG14: 下出し | CH14: 下出し | CI14: 下出し | CJ14: 下出し | CK14: 下出し | CL14: 下出し | CM14: 下出し | CN14: 下出し | CO14: 下出し | CP14: 下出し | CQ14: 下出し | CR14: 下出し | CS14: 下出し | CT14: 下出し | CU14: 下出し | CV14: 下出し | CW14: 下出し | CX14: 下出し | CY14: 下出し | CZ14: 下出し | DA14: 下出し
E15: 方 向 | H15: 下出し | K15: ﾊﾟﾗ4 | L15: 繰出ｽﾌﾟﾗｲｽﾓｰﾄﾞ | M15: 準備 | N15: 準備 | O15: 準備 | P15: 準備 | Q15: 準備 | R15: 準備 | S15: 準備 | T15: 準備 | U15: 準備 | V15: 準備 | W15: 準備 | X15: 準備 | Y15: 準備 | Z15: 準備 | AA15: 準備 | AB15: 準備 | AC15: 準備 | AD15: 準備 | AE15: 準備 | AF15: 準備 | AG15: 準備 | AH15: 準備 | AI15: 準備 | AJ15: 準備 | AK15: 準備 | AL15: 準備 | AM15: 準備 | AN15: 準備 | AO15: 準備 | AP15: 準備 | AQ15: 準備 | AR15: 準備 | AS15: 準備 | AT15: 準備 | AU15: 準備 | AV15: 準備 | AW15: 準備 | AX15: 準備 | AY15: 準備 | AZ15: 準備 | BA15: 準備 | BB15: 準備 | BC15: 準備 | BD15: 準備 | BE15: 準備 | BF15: 準備 | BG15: 準備 | BH15: 準備 | BI15: 準備 | BJ15: 準備 | BK15: 準備 | BL15: 準備 | BM15: 準備 | BN15: 準備 | BO15: 準備 | BP15: 準備 | BQ15: 準備 | BR15: 準備 | BS15: 準備 | BT15: 準備 | BU15: 準備 | BV15: 準備 | BW15: 準備 | BX15: 準備 | BY15: 準備 | BZ15: 準備 | CA15: 準備 | CB15: 準備 | CC15: 準備 | CD15: 準備 | CE15: 準備 | CF15: 準備 | CG15: 準備 | CH15: 準備 | CI15: 準備 | CJ15: 準備 | CK15: 準備 | CL15: 準備 | CM15: 準備 | CN15: 準備 | CO15: 準備 | CP15: 準備 | CQ15: 準備 | CR15: 準備 | CS15: 準備 | CT15: 準備 | CU15: 準備 | CV15: 準備 | CW15: 準備 | CX15: 準備 | CY15: 準備 | CZ15: 準備 | DA15: 準備
E16: スプライスモード | H16: 準 備 | K16: ﾊﾟﾗ5 | L16: 繰出ｳｪﾌﾞｸﾘｰﾅｰ | M16: 連動 | N16: 連動 | O16: 連動 | P16: 連動 | Q16: 連動 | R16: 連動 | S16: 連動 | T16: 連動 | U16: 連動 | V16: 連動 | W16: 連動 | X16: 連動 | Y16: 連動 | Z16: 連動 | AA16: 連動 | AB16: 連動 | AC16: 連動 | AD16: 連動 | AE16: 連動 | AF16: 連動 | AG16: 連動 | AH16: 連動 | AI16: 連動 | AJ16: 連動 | AK16: 連動 | AL16: 連動 | AM16: 連動 | AN16: 連動 | AO16: 連動 | AP16: 連動 | AQ16: 連動 | AR16: 連動 | AS16: 連動 | AT16: 連動 | AU16: 連動 | AV16: 連動 | AW16: 連動 | AX16: 連動 | AY16: 連動 | AZ16: 連動 | BA16: 連動 | BB16: 連動 | BC16: 連動 | BD16: 連動 | BE16: 連動 | BF16: 連動 | BG16: 連動 | BH16: 連動 | BI16: 連動 | BJ16: 連動 | BK16: 連動 | BL16: 連動 | BM16: 連動 | BN16: 連動 | BO16: 連動 | BP16: 連動 | BQ16: 連動 | BR16: 連動 | BS16: 連動 | BT16: 連動 | BU16: 連動 | BV16: 連動 | BW16: 連動 | BX16: 連動 | BY16: 連動 | BZ16: 連動 | CA16: 連動 | CB16: 連動 | CC16: 連動 | CD16: 連動 | CE16: 連動 | CF16: 連動 | CG16: 連動 | CH16: 連動 | CI16: 連動 | CJ16: 連動 | CK16: 連動 | CL16: 連動 | CM16: 連動 | CN16: 連動 | CO16: 連動 | CP16: 連動 | CQ16: 連動 | CR16: 連動 | CS16: 連動 | CT16: 連動 | CU16: 連動 | CV16: 連動 | CW16: 連動 | CX16: 連動 | CY16: 連動 | CZ16: 連動 | DA16: 連動
E17: ウェブクリーナー | H17: 連 動 | K17: ﾊﾟﾗ6 | L17: 繰出粘着ﾛｰﾙ | M17: 切 | N17: 切 | O17: 切 | P17: 切 | Q17: 切 | R17: 切 | S17: 切 | T17: 切 | U17: 切 | V17: 切 | W17: 切 | X17: 切 | Y17: 切 | Z17: 切 | AA17: 切 | AB17: 切 | AC17: 切 | AD17: 切 | AE17: 切 | AF17: 切 | AG17: 切 | AH17: 切 | AI17: 切 | AJ17: 切 | AK17: 切 | AL17: 切 | AM17: 切 | AN17: 切 | AO17: 切 | AP17: 切 | AQ17: 切 | AR17: 切 | AS17: 切 | AT17: 切 | AU17: 切 | AV17: 切 | AW17: 切 | AX17: 切 | AY17: 切 | AZ17: 切 | BA17: 切 | BB17: 切 | BC17: 切 | BD17: 切 | BE17: 切 | BF17: 切 | BG17: 切 | BH17: 切 | BI17: 切 | BJ17: 切 | BK17: 切 | BL17: 切 | BM17: 切 | BN17: 切 | BO17: 切 | BP17: 切 | BQ17: 切 | BR17: 切 | BS17: 切 | BT17: 切 | BU17: 切 | BV17: 切 | BW17: 切 | BX17: 切 | BY17: 切 | BZ17: 切 | CA17: 切 | CB17: 切 | CC17: 切 | CD17: 切 | CE17: 切 | CF17: 切 | CG17: 切 | CH17: 切 | CI17: 切 | CJ17: 切 | CK17: 切 | CL17: 切 | CM17: 切 | CN17: 切 | CO17: 切 | CP17: 切 | CQ17: 切 | CR17: 切 | CS17: 切 | CT17: 切 | CU17: 切 | CV17: 切 | CW17: 切 | CX17: 切 | CY17: 切 | CZ17: 切 | DA17: 切
D18: 繰出 | E18: 粘着ロール | H18: 切 | K18: ﾊﾟﾗ7 | L18: 高密度除電直流電極＋(KV)) | M18: 9 | N18: 9 | O18: 9 | P18: 9 | Q18: 9 | R18: 9 | S18: 9 | T18: 9 | U18: 9 | V18: 9 | W18: 9 | X18: 9 | Y18: 9 | Z18: 9 | AA18: 9 | AB18: 9 | AC18: 9 | AD18: 9 | AE18: 9 | AF18: 9 | AG18: 9 | AH18: 9 | AI18: 9 | AJ18: 9 | AK18: 9 | AL18: 9 | AM18: 9 | AN18: 9 | AO18: 9 | AP18: 9 | AQ18: 9 | AR18: 9 | AS18: 9 | AT18: 9 | AU18: 9 | AV18: 9 | AW18: 9 | AX18: 9 | AY18: 9 | AZ18: 9 | BA18: 9 | BB18: 9 | BC18: 9 | BD18: 9 | BE18: 9 | BF18: 9 | BG18: 9 | BH18: 9 | BI18: 9 | BJ18: 9 | BK18: 9 | BL18: 9 | BM18: 9 | BN18: 9 | BO18: 9 | BP18: 9 | BQ18: 9 | BR18: 9 | BS18: 9 | BT18: 9 | BU18: 9 | BV18: 9 | BW18: 9 | BX18: 9 | BY18: 9 | BZ18: 9 | CA18: 9 | CB18: 9 | CC18: 9 | CD18: 9 | CE18: 9 | CF18: 9 | CG18: 9 | CH18: 9 | CI18: 9 | CJ18: 9 | CK18: 9 | CL18: 9 | CM18: 9 | CN18: 9 | CO18: 9 | CP18: 9 | CQ18: 9 | CR18: 9 | CS18: 9 | CT18: 9 | CU18: 9 | CV18: 9 | CW18: 9 | CX18: 9 | CY18: 9 | CZ18: 9 | DA18: 9
E19: 高密度除電器 | G19: 直流電極＋ | H19: ９±１kv | K19: ﾊﾟﾗ8 | L19: 高密度除電直流電極－(KV)) | M19: 9 | N19: 9 | O19: 9 | P19: 9 | Q19: 9 | R19: 9 | S19: 9 | T19: 9 | U19: 9 | V19: 9 | W19: 9 | X19: 9 | Y19: 9 | Z19: 9 | AA19: 9 | AB19: 9 | AC19: 9 | AD19: 9 | AE19: 9 | AF19: 9 | AG19: 9 | AH19: 9 | AI19: 9 | AJ19: 9 | AK19: 9 | AL19: 9 | AM19: 9 | AN19: 9 | AO19: 9 | AP19: 9 | AQ19: 9 | AR19: 9 | AS19: 9 | AT19: 9 | AU19: 9 | AV19: 9 | AW19: 9 | AX19: 9 | AY19: 9 | AZ19: 9 | BA19: 9 | BB19: 9 | BC19: 9 | BD19: 9 | BE19: 9 | BF19: 9 | BG19: 9 | BH19: 9 | BI19: 9 | BJ19: 9 | BK19: 9 | BL19: 9 | BM19: 9 | BN19: 9 | BO19: 9 | BP19: 9 | BQ19: 9 | BR19: 9 | BS19: 9 | BT19: 9 | BU19: 9 | BV19: 9 | BW19: 9 | BX19: 9 | BY19: 9 | BZ19: 9 | CA19: 9 | CB19: 9 | CC19: 9 | CD19: 9 | CE19: 9 | CF19: 9 | CG19: 9 | CH19: 9 | CI19: 9 | CJ19: 9 | CK19: 9 | CL19: 9 | CM19: 9 | CN19: 9 | CO19: 9 | CP19: 9 | CQ19: 9 | CR19: 9 | CS19: 9 | CT19: 9 | CU19: 9 | CV19: 9 | CW19: 9 | CX19: 9 | CY19: 9 | CZ19: 9 | DA19: 9
G20: 直流電極－ | H20: ９±１kv | K20: ﾊﾟﾗ9 | L20: 高密度除電交流電極(KV)) | M20: 7 | N20: 7 | O20: 7 | P20: 7 | Q20: 7 | R20: 7 | S20: 7 | T20: 7 | U20: 7 | V20: 7 | W20: 7 | X20: 7 | Y20: 7 | Z20: 7 | AA20: 7 | AB20: 7 | AC20: 7 | AD20: 7 | AE20: 7 | AF20: 7 | AG20: 7 | AH20: 7 | AI20: 7 | AJ20: 7 | AK20: 7 | AL20: 7 | AM20: 7 | AN20: 7 | AO20: 7 | AP20: 7 | AQ20: 7 | AR20: 7 | AS20: 7 | AT20: 7 | AU20: 7 | AV20: 7 | AW20: 7 | AX20: 7 | AY20: 7 | AZ20: 7 | BA20: 7 | BB20: 7 | BC20: 7 | BD20: 7 | BE20: 7 | BF20: 7 | BG20: 7 | BH20: 7 | BI20: 7 | BJ20: 7 | BK20: 7 | BL20: 7 | BM20: 7 | BN20: 7 | BO20: 7 | BP20: 7 | BQ20: 7 | BR20: 7 | BS20: 7 | BT20: 7 | BU20: 7 | BV20: 7 | BW20: 7 | BX20: 7 | BY20: 7 | BZ20: 7 | CA20: 7 | CB20: 7 | CC20: 7 | CD20: 7 | CE20: 7 | CF20: 7 | CG20: 7 | CH20: 7 | CI20: 7 | CJ20: 7 | CK20: 7 | CL20: 7 | CM20: 7 | CN20: 7 | CO20: 7 | CP20: 7 | CQ20: 7 | CR20: 7 | CS20: 7 | CT20: 7 | CU20: 7 | CV20: 7 | CW20: 7 | CX20: 7 | CY20: 7 | CZ20: 7 | DA20: 7
G21: 交流電極 | H21: ７±１kv | K21: ﾊﾟﾗ10 | L21: 高密度除電ｲｵﾝ吸引電極(KV)) | M21: 4 | N21: 4 | O21: 4 | P21: 4 | Q21: 4 | R21: 4 | S21: 4 | T21: 4 | U21: 4 | V21: 4 | W21: 4 | X21: 4 | Y21: 4 | Z21: 4 | AA21: 4 | AB21: 4 | AC21: 4 | AD21: 4 | AE21: 4 | AF21: 4 | AG21: 4 | AH21: 4 | AI21: 4 | AJ21: 4 | AK21: 4 | AL21: 4 | AM21: 4 | AN21: 4 | AO21: 4 | AP21: 4 | AQ21: 4 | AR21: 4 | AS21: 4 | AT21: 4 | AU21: 4 | AV21: 4 | AW21: 4 | AX21: 4 | AY21: 4 | AZ21: 4 | BA21: 4 | BB21: 4 | BC21: 4 | BD21: 4 | BE21: 4 | BF21: 4 | BG21: 4 | BH21: 4 | BI21: 4 | BJ21: 4 | BK21: 4 | BL21: 4 | BM21: 4 | BN21: 4 | BO21: 4 | BP21: 4 | BQ21: 4 | BR21: 4 | BS21: 4 | BT21: 4 | BU21: 4 | BV21: 4 | BW21: 4 | BX21: 4 | BY21: 4 | BZ21: 4 | CA21: 4 | CB21: 4 | CC21: 4 | CD21: 4 | CE21: 4 | CF21: 4 | CG21: 4 | CH21: 4 | CI21: 4 | CJ21: 4 | CK21: 4 | CL21: 4 | CM21: 4 | CN21: 4 | CO21: 4 | CP21: 4 | CQ21: 4 | CR21: 4 | CS21: 4 | CT21: 4 | CU21: 4 | CV21: 4 | CW21: 4 | CX21: 4 | CY21: 4 | CZ21: 4 | DA21: 4
G22: ｲｵﾝ吸引電極 | H22: ４±１kv | K22: ﾊﾟﾗ11 | L22: No.1ｺｰﾀｰﾓｰﾄﾞ | M22: ﾘﾊﾞｰｽｷｽｺｰﾄB | N22: ﾘﾊﾞｰｽｷｽｺｰﾄB | O22: ﾘﾊﾞｰｽｷｽｺｰﾄB | P22: ﾘﾊﾞｰｽｷｽｺｰﾄB | Q22: ﾘﾊﾞｰｽｷｽｺｰﾄB | R22: ﾘﾊﾞｰｽｷｽｺｰﾄB | S22: ﾘﾊﾞｰｽｷｽｺｰﾄB | T22: ﾘﾊﾞｰｽｷｽｺｰﾄB | U22: ﾘﾊﾞｰｽｷｽｺｰﾄB | V22: ﾘﾊﾞｰｽｷｽｺｰﾄB | W22: ﾘﾊﾞｰｽｷｽｺｰﾄB | X22: ﾘﾊﾞｰｽｷｽｺｰﾄB | Y22: ﾘﾊﾞｰｽｷｽｺｰﾄB | Z22: ﾘﾊﾞｰｽｷｽｺｰﾄB | AA22: ﾘﾊﾞｰｽｷｽｺｰﾄB | AB22: ﾘﾊﾞｰｽｷｽｺｰﾄB | AC22: ﾘﾊﾞｰｽｷｽｺｰﾄB | AD22: ﾘﾊﾞｰｽｷｽｺｰﾄB | AE22: ﾘﾊﾞｰｽｷｽｺｰﾄB | AF22: ﾘﾊﾞｰｽｷｽｺｰﾄB | AG22: ﾘﾊﾞｰｽｷｽｺｰﾄB | AH22: ﾘﾊﾞｰｽｷｽｺｰﾄB | AI22: ﾘﾊﾞｰｽｷｽｺｰﾄB | AJ22: ﾘﾊﾞｰｽｷｽｺｰﾄB | AK22: ﾘﾊﾞｰｽｷｽｺｰﾄB | AL22: ﾘﾊﾞｰｽｷｽｺｰﾄB | AM22: ﾘﾊﾞｰｽｷｽｺｰﾄB | AN22: ﾘﾊﾞｰｽｷｽｺｰﾄB | AO22: ﾘﾊﾞｰｽｷｽｺｰﾄB | AP22: ﾘﾊﾞｰｽｷｽｺｰﾄB | AQ22: ﾘﾊﾞｰｽｷｽｺｰﾄB | AR22: ﾘﾊﾞｰｽｷｽｺｰﾄB | AS22: ﾘﾊﾞｰｽｷｽｺｰﾄB | AT22: ﾘﾊﾞｰｽｷｽｺｰﾄB | AU22: ﾘﾊﾞｰｽｷｽｺｰﾄB | AV22: ﾘﾊﾞｰｽｷｽｺｰﾄB | AW22: ﾘﾊﾞｰｽｷｽｺｰﾄB | AX22: ﾘﾊﾞｰｽｷｽｺｰﾄB | AY22: ﾘﾊﾞｰｽｷｽｺｰﾄB | AZ22: ﾘﾊﾞｰｽｷｽｺｰﾄB | BA22: ﾘﾊﾞｰｽｷｽｺｰﾄB | BB22: ﾘﾊﾞｰｽｷｽｺｰﾄB | BC22: ﾘﾊﾞｰｽｷｽｺｰﾄB | BD22: ﾘﾊﾞｰｽｷｽｺｰﾄB | BE22: ﾘﾊﾞｰｽｷｽｺｰﾄB | BF22: ﾘﾊﾞｰｽｷｽｺｰﾄB | BG22: ﾘﾊﾞｰｽｷｽｺｰﾄB | BH22: ﾘﾊﾞｰｽｷｽｺｰﾄB | BI22: ﾘﾊﾞｰｽｷｽｺｰﾄB | BJ22: ﾘﾊﾞｰｽｷｽｺｰﾄB | BK22: ﾘﾊﾞｰｽｷｽｺｰﾄB | BL22: ﾘﾊﾞｰｽｷｽｺｰﾄB | BM22: ﾘﾊﾞｰｽｷｽｺｰﾄB | BN22: ﾘﾊﾞｰｽｷｽｺｰﾄB | BO22: ﾘﾊﾞｰｽｷｽｺｰﾄB | BP22: ﾘﾊﾞｰｽｷｽｺｰﾄB | BQ22: ﾘﾊﾞｰｽｷｽｺｰﾄB | BR22: ﾘﾊﾞｰｽｷｽｺｰﾄB | BS22: ﾘﾊﾞｰｽｷｽｺｰﾄB | BT22: ﾘﾊﾞｰｽｷｽｺｰﾄB | BU22: ﾘﾊﾞｰｽｷｽｺｰﾄB | BV22: ﾘﾊﾞｰｽｷｽｺｰﾄB | BW22: ﾘﾊﾞｰｽｷｽｺｰﾄB | BX22: ﾘﾊﾞｰｽｷｽｺｰﾄB | BY22: ﾘﾊﾞｰｽｷｽｺｰﾄB | BZ22: ﾘﾊﾞｰｽｷｽｺｰﾄB | CA22: ﾘﾊﾞｰｽｷｽｺｰﾄB | CB22: ﾘﾊﾞｰｽｷｽｺｰﾄB | CC22: ﾘﾊﾞｰｽｷｽｺｰﾄB | CD22: ﾘﾊﾞｰｽｷｽｺｰﾄB | CE22: ﾘﾊﾞｰｽｷｽｺｰﾄB | CF22: ﾘﾊﾞｰｽｷｽｺｰﾄB | CG22: ﾘﾊﾞｰｽｷｽｺｰﾄB | CH22: ﾘﾊﾞｰｽｷｽｺｰﾄB | CI22: ﾘﾊﾞｰｽｷｽｺｰﾄB | CJ22: ﾘﾊﾞｰｽｷｽｺｰﾄB | CK22: ﾘﾊﾞｰｽｷｽｺｰﾄB | CL22: ﾘﾊﾞｰｽｷｽｺｰﾄB | CM22: ﾘﾊﾞｰｽｷｽｺｰﾄB | CN22: ﾘﾊﾞｰｽｷｽｺｰﾄB | CO22: ﾘﾊﾞｰｽｷｽｺｰﾄB | CP22: ﾘﾊﾞｰｽｷｽｺｰﾄB | CQ22: ﾘﾊﾞｰｽｷｽｺｰﾄB | CR22: ﾘﾊﾞｰｽｷｽｺｰﾄB | CS22: ﾘﾊﾞｰｽｷｽｺｰﾄB | CT22: ﾘﾊﾞｰｽｷｽｺｰﾄB | CU22: ﾘﾊﾞｰｽｷｽｺｰﾄB | CV22: ﾘﾊﾞｰｽｷｽｺｰﾄB | CW22: ﾘﾊﾞｰｽｷｽｺｰﾄB | CX22: ﾘﾊﾞｰｽｷｽｺｰﾄB | CY22: ﾘﾊﾞｰｽｷｽｺｰﾄB | CZ22: ﾘﾊﾞｰｽｷｽｺｰﾄB | DA22: ﾘﾊﾞｰｽｷｽｺｰﾄB
E23: コーターモード | H23: リバースキスコートＢ | K23: ﾊﾟﾗ12 | L23: No.1ｺｰﾀｰ制御 | M23: ﾄﾞﾛｰ | N23: ﾄﾞﾛｰ | O23: ﾄﾞﾛｰ | P23: ﾄﾞﾛｰ | Q23: ﾄﾞﾛｰ | R23: ﾄﾞﾛｰ | S23: ﾄﾞﾛｰ | T23: ﾄﾞﾛｰ | U23: ﾄﾞﾛｰ | V23: ﾄﾞﾛｰ | W23: ﾄﾞﾛｰ | X23: ﾄﾞﾛｰ | Y23: ﾄﾞﾛｰ | Z23: ﾄﾞﾛｰ | AA23: ﾄﾞﾛｰ | AB23: ﾄﾞﾛｰ | AC23: ﾄﾞﾛｰ | AD23: ﾄﾞﾛｰ | AE23: ﾄﾞﾛｰ | AF23: ﾄﾞﾛｰ | AG23: ﾄﾞﾛｰ | AH23: ﾄﾞﾛｰ | AI23: ﾄﾞﾛｰ | AJ23: ﾄﾞﾛｰ | AK23: ﾄﾞﾛｰ | AL23: ﾄﾞﾛｰ | AM23: ﾄﾞﾛｰ | AN23: ﾄﾞﾛｰ | AO23: ﾄﾞﾛｰ | AP23: ﾄﾞﾛｰ | AQ23: ﾄﾞﾛｰ | AR23: ﾄﾞﾛｰ | AS23: ﾄﾞﾛｰ | AT23: ﾄﾞﾛｰ | AU23: ﾄﾞﾛｰ | AV23: ﾄﾞﾛｰ | AW23: ﾄﾞﾛｰ | AX23: ﾄﾞﾛｰ | AY23: ﾄﾞﾛｰ | AZ23: ﾄﾞﾛｰ | BA23: ﾄﾞﾛｰ | BB23: ﾄﾞﾛｰ | BC23: ﾄﾞﾛｰ | BD23: ﾄﾞﾛｰ | BE23: ﾄﾞﾛｰ | BF23: ﾄﾞﾛｰ | BG23: ﾄﾞﾛｰ | BH23: ﾄﾞﾛｰ | BI23: ﾄﾞﾛｰ | BJ23: ﾄﾞﾛｰ | BK23: ﾄﾞﾛｰ | BL23: ﾄﾞﾛｰ | BM23: ﾄﾞﾛｰ | BN23: ﾄﾞﾛｰ | BO23: ﾄﾞﾛｰ | BP23: ﾄﾞﾛｰ | BQ23: ﾄﾞﾛｰ | BR23: ﾄﾞﾛｰ | BS23: ﾄﾞﾛｰ | BT23: ﾄﾞﾛｰ | BU23: ﾄﾞﾛｰ | BV23: ﾄﾞﾛｰ | BW23: ﾄﾞﾛｰ | BX23: ﾄﾞﾛｰ | BY23: ﾄﾞﾛｰ | BZ23: ﾄﾞﾛｰ | CA23: ﾄﾞﾛｰ | CB23: ﾄﾞﾛｰ | CC23: ﾄﾞﾛｰ | CD23: ﾄﾞﾛｰ | CE23: ﾄﾞﾛｰ | CF23: ﾄﾞﾛｰ | CG23: ﾄﾞﾛｰ | CH23: ﾄﾞﾛｰ | CI23: ﾄﾞﾛｰ | CJ23: ﾄﾞﾛｰ | CK23: ﾄﾞﾛｰ | CL23: ﾄﾞﾛｰ | CM23: ﾄﾞﾛｰ | CN23: ﾄﾞﾛｰ | CO23: ﾄﾞﾛｰ | CP23: ﾄﾞﾛｰ | CQ23: ﾄﾞﾛｰ | CR23: ﾄﾞﾛｰ | CS23: ﾄﾞﾛｰ | CT23: ﾄﾞﾛｰ | CU23: ﾄﾞﾛｰ | CV23: ﾄﾞﾛｰ | CW23: ﾄﾞﾛｰ | CX23: ﾄﾞﾛｰ | CY23: ﾄﾞﾛｰ | CZ23: ﾄﾞﾛｰ | DA23: ﾄﾞﾛｰ
E24: コーター制御 | H24: ドロー | K24: ﾊﾟﾗ13 | L24: No.1ｸﾞﾗﾋﾞｱﾛｰﾙ 種類 | M24: 230UR | N24: 230UR | O24: 230UR | P24: - | Q24: - | R24: - | S24: - | T24: - | U24: 230UR | V24: 230UR | W24: 230UR | X24: 230UR | Y24: 230UR | Z24: 230UR | AA24: 230UR | AB24: 230UR | AC24: 230UR | AD24: 230UR | AE24: 230UR | AF24: 230UR | AG24: - | AH24: - | AI24: - | AJ24: - | AK24: - | AL24: - | AM24: - | AN24: - | AO24: - | AP24: - | AQ24: - | AR24: - | AS24: - | AT24: - | AU24: - | AV24: - | AW24: - | AX24: - | AY24: 230UR | AZ24: 230UR | BA24: 230UR | BB24: 230UR | BC24: 230UR | BD24: 230UR | BE24: 230UR | BF24: 230UR | BG24: - | BH24: 230UR | BI24: 230UR | BJ24: 230UR | BK24: 230UR | BL24: 230UR | BM24: 230UR | BN24: 230UR | BO24: 230UR | BP24: 230UR | BQ24: 230UR | BR24: 230UR | BS24: 230UR | BT24: 230UR | BU24: 230UR | BV24: 230UR | BW24: - | BX24: 230UR | BZ24: 230UR | CA24: 230UR | CB24: 230UR | CE24: 230UR | CF24: 230UR | CG24: 230UR | CH24: 230UR | CI24: 230UR | CJ24: 230UR | CK24: 230UR | CL24: 230UR | CM24: 230UR | CN24: - | CO24: 230UR | CP24: 230UR | CQ24: 230UR | CR24: 230UR | CS24: 230UR | CT24: 230UR | CU24: - | CV24: - | CW24: - | CX24: - | CY24: 230UR | CZ24: 230UR | DA24: 230UR
E25: グラビアロール | G25: 種 類 | H25: ２３０ＵＲ | K25: ﾊﾟﾗ14 | L25: No.1ｸﾞﾗﾋﾞｱﾛｰﾙ 速度(m/min) | M25: 320 | N25: 340 | O25: 270 | P25: - | Q25: - | R25: - | S25: - | T25: - | U25: 250 | V25: 200 | W25: 135 | X25: 200 | Y25: 135 | Z25: 135 | AA25: 165 | AB25: 130 | AC25: 130 | AD25: 200 | AE25: 210 | AG25: - | AH25: - | AI25: - | AJ25: - | AK25: - | AL25: - | AM25: - | AN25: - | AO25: - | AP25: - | AQ25: - | AR25: - | AS25: - | AT25: - | AU25: - | AV25: - | AW25: - | AX25: - | AY25: 275 | AZ25: 275 | BA25: 275 | BB25: 275 | BC25: 275 | BD25: 320 | BE25: 260 | BF25: 260 | BG25: - | BH25: 260 | BI25: 260 | BJ25: 260 | BK25: 135 | BL25: 260 | BM25: 260 | BN25: 285 | BO25: 315 | BP25: 285 | BQ25: 285 | BR25: 315 | BS25: 315 | BT25: 285 | BU25: 180 | BV25: 200 | BW25: - | BX25: 200 | BZ25: 180 | CA25: 180 | CB25: 130 | CE25: 200 | CF25: 130 | CG25: 200 | CH25: 260 | CI25: 260 | CJ25: 180 | CK25: 260 | CL25: 210 | CM25: 210 | CN25: - | CO25: 180 | CP25: 210 | CQ25: 320 | CR25: 200 | CS25: 260 | CT25: 260 | CU25: - | CV25: - | CW25: - | CX25: - | CY25: 200 | CZ25: 180 | DA25: 320
G26: 速 度（目 標） | H26: ２８５±１０ | K26: ﾊﾟﾗ15 | L26: No.1ｲﾝﾌﾟﾚｯｼｮﾝﾛｰﾙ 種類 | M26: - | N26: - | O26: - | P26: - | Q26: - | R26: - | S26: - | T26: - | U26: - | V26: - | W26: - | X26: - | Y26: - | Z26: - | AA26: - | AB26: - | AC26: - | AD26: - | AE26: - | AF26: - | AG26: - | AH26: - | AI26: - | AJ26: - | AK26: - | AL26: - | AM26: - | AN26: - | AO26: - | AP26: - | AQ26: - | AR26: - | AS26: - | AT26: - | AU26: - | AV26: - | AW26: - | AX26: - | AY26: - | AZ26: - | BA26: - | BB26: - | BC26: - | BD26: - | BE26: - | BF26: - | BG26: - | BH26: - | BI26: - | BJ26: - | BK26: - | BL26: - | BM26: - | BN26: - | BO26: - | BP26: - | BQ26: - | BR26: - | BS26: - | BT26: - | BU26: - | BV26: - | BW26: - | BX26: - | BZ26: - | CA26: - | CB26: - | CE26: - | CF26: - | CG26: - | CH26: - | CI26: - | CJ26: - | CK26: - | CL26: - | CM26: - | CN26: - | CO26: - | CP26: - | CQ26: - | CR26: - | CS26: - | CT26: - | CU26: - | CV26: - | CW26: - | CX26: - | CY26: - | CZ26: - | DA26: -
E27: ｲﾝﾌﾟﾚｯｼｮﾝﾛｰﾙ | G27: 種 類 | H27: － | K27: ﾊﾟﾗ16 | L27: No.1ｲﾝﾌﾟﾚｯｼｮﾝﾛｰﾙ 圧力(Mpa) | M27: 0.2 | N27: 0.2 | O27: 0.2 | P27: 0.2 | Q27: 0.2 | R27: 0.2 | S27: 0.2 | T27: 0.2 | U27: 0.2 | V27: 0.2 | W27: 0.2 | X27: 0.2 | Y27: 0.2 | Z27: 0.2 | AA27: 0.2 | AB27: 0.2 | AC27: 0.2 | AD27: 0.2 | AE27: 0.2 | AF27: 0.2 | AG27: - | AH27: - | AI27: - | AJ27: - | AK27: - | AL27: - | AM27: - | AN27: - | AO27: - | AP27: - | AQ27: - | AR27: - | AS27: - | AT27: - | AU27: - | AV27: - | AW27: - | AX27: - | AY27: 0.2 | AZ27: 0.2 | BA27: 0.2 | BB27: 0.2 | BC27: 0.2 | BD27: 0.2 | BE27: 0.2 | BF27: 0.2 | BG27: - | BH27: 0.2 | BI27: 0.2 | BJ27: 0.2 | BK27: 0.2 | BL27: 0.2 | BM27: 0.2 | BN27: 0.2 | BO27: 0.2 | BP27: 0.2 | BQ27: 0.2 | BR27: 0.2 | BS27: 0.2 | BT27: 0.2 | BU27: 0.2 | BV27: 0.2 | BW27: 0.2 | BX27: 0.2 | BZ27: 0.2 | CA27: 0.2 | CB27: 0.2 | CE27: 0.2 | CF27: 0.2 | CG27: 0.2 | CH27: 0.2 | CI27: 0.2 | CJ27: 0.2 | CK27: 0.2 | CL27: 0.2 | CM27: 0.2 | CN27: 0.2 | CO27: 0.2 | CP27: 0.2 | CQ27: 0.2 | CR27: 0.2 | CS27: 0.2 | CT27: 0.2 | CU27: - | CV27: - | CW27: - | CX27: - | CY27: 0.2 | CZ27: 0.2 | DA27: 0.2
D28: No.1 | G28: 圧 力 | H28: ０.３±０.１MPa | K28: ﾊﾟﾗ17 | L28: No.1ﾀﾞｳﾝﾛｰﾙ高さ(mm) | M28: 45 | N28: 45 | O28: 45 | P28: - | Q28: - | R28: - | S28: - | T28: - | U28: 45 | V28: 45 | W28: 48 | X28: 45 | Y28: 48 | Z28: 48 | AA28: 48 | AB28: 48 | AC28: 48 | AD28: 45 | AE28: 45 | AF28: 45 | AG28: - | AH28: - | AI28: - | AJ28: - | AK28: - | AL28: - | AM28: - | AN28: - | AO28: - | AP28: - | AQ28: - | AR28: - | AS28: - | AT28: - | AU28: - | AV28: - | AW28: - | AX28: - | AY28: 45 | AZ28: 45 | BA28: 45 | BB28: 45 | BC28: 45 | BD28: 45 | BE28: 45 | BF28: 45 | BG28: - | BH28: 45 | BI28: 45 | BJ28: 45 | BK28: 48 | BL28: 45 | BM28: 45 | BN28: 45 | BO28: 45 | BP28: 45 | BQ28: 45 | BR28: 45 | BS28: 45 | BT28: 45 | BU28: 45 | BV28: 45 | BW28: - | BX28: 45 | BZ28: 45 | CA28: 45 | CB28: 48 | CE28: 45 | CF28: 48 | CG28: 45 | CH28: 45 | CI28: 45 | CJ28: 45 | CK28: 45 | CL28: 45 | CM28: 45 | CN28: - | CO28: 45 | CP28: 45 | CQ28: 45 | CR28: 45 | CS28: 45 | CT28: 45 | CU28: - | CV28: - | CW28: - | CX28: - | CY28: 45 | CZ28: 45 | DA28: 45
D29: ｺｰﾀｰ | E29: バックアップロール圧 | H29: － | K29: ﾊﾟﾗ18 | L29: No.1ﾊﾞｯｸｱｯﾌﾟﾛｰﾙ圧 | M29: - | N29: - | O29: - | P29: - | Q29: - | R29: - | S29: - | T29: - | U29: - | V29: - | W29: - | X29: - | Y29: - | Z29: - | AA29: - | AB29: - | AC29: - | AD29: - | AE29: - | AF29: - | AG29: - | AH29: - | AI29: - | AJ29: - | AK29: - | AL29: - | AM29: - | AN29: - | AO29: - | AP29: - | AQ29: - | AR29: - | AS29: - | AT29: - | AU29: - | AV29: - | AW29: - | AX29: - | AY29: - | AZ29: - | BA29: - | BB29: - | BC29: - | BD29: - | BE29: - | BF29: - | BG29: - | BH29: - | BI29: - | BJ29: - | BK29: - | BL29: - | BM29: - | BN29: - | BO29: - | BP29: - | BQ29: - | BR29: - | BS29: - | BT29: - | BU29: - | BV29: - | BW29: - | BX29: - | BZ29: - | CA29: - | CB29: - | CE29: - | CF29: - | CG29: - | CH29: - | CI29: - | CJ29: - | CK29: - | CL29: - | CM29: - | CN29: - | CO29: - | CP29: - | CQ29: - | CR29: - | CS29: - | CT29: - | CU29: - | CV29: - | CW29: - | CX29: - | CY29: - | CZ29: - | DA29: -
E30: ドクター | G30: 種 類 | H30: チャンバー | K30: ﾊﾟﾗ19 | L30: No.1ﾄﾞｸﾀｰ 種類 | M30: ﾁｬﾝﾊﾞｰ | N30: ﾁｬﾝﾊﾞｰ | O30: ﾁｬﾝﾊﾞｰ | P30: ﾁｬﾝﾊﾞｰ | Q30: ﾁｬﾝﾊﾞｰ | R30: ﾁｬﾝﾊﾞｰ | S30: ﾁｬﾝﾊﾞｰ | T30: ﾁｬﾝﾊﾞｰ | U30: ﾁｬﾝﾊﾞｰ | V30: ﾁｬﾝﾊﾞｰ | W30: ﾁｬﾝﾊﾞｰ | X30: ﾁｬﾝﾊﾞｰ | Y30: ﾁｬﾝﾊﾞｰ | Z30: ﾁｬﾝﾊﾞｰ | AA30: ﾁｬﾝﾊﾞｰ | AB30: ﾁｬﾝﾊﾞｰ | AC30: ﾁｬﾝﾊﾞｰ | AD30: ﾁｬﾝﾊﾞｰ | AE30: ﾁｬﾝﾊﾞｰ | AF30: ﾁｬﾝﾊﾞｰ | AG30: ﾁｬﾝﾊﾞｰ | AH30: ﾁｬﾝﾊﾞｰ | AI30: ﾁｬﾝﾊﾞｰ | AJ30: ﾁｬﾝﾊﾞｰ | AK30: ﾁｬﾝﾊﾞｰ | AL30: ﾁｬﾝﾊﾞｰ | AM30: ﾁｬﾝﾊﾞｰ | AN30: ﾁｬﾝﾊﾞｰ | AO30: ﾁｬﾝﾊﾞｰ | AP30: ﾁｬﾝﾊﾞｰ | AQ30: ﾁｬﾝﾊﾞｰ | AR30: ﾁｬﾝﾊﾞｰ | AS30: ﾁｬﾝﾊﾞｰ | AT30: ﾁｬﾝﾊﾞｰ | AU30: ﾁｬﾝﾊﾞｰ | AV30: ﾁｬﾝﾊﾞｰ | AW30: ﾁｬﾝﾊﾞｰ | AX30: ﾁｬﾝﾊﾞｰ | AY30: ﾁｬﾝﾊﾞｰ | AZ30: ﾁｬﾝﾊﾞｰ | BA30: ﾁｬﾝﾊﾞｰ | BB30: ﾁｬﾝﾊﾞｰ | BC30: ﾁｬﾝﾊﾞｰ | BD30: ﾁｬﾝﾊﾞｰ | BE30: ﾁｬﾝﾊﾞｰ | BF30: ﾁｬﾝﾊﾞｰ | BG30: ﾁｬﾝﾊﾞｰ | BH30: ﾁｬﾝﾊﾞｰ | BI30: ﾁｬﾝﾊﾞｰ | BJ30: ﾁｬﾝﾊﾞｰ | BK30: ﾁｬﾝﾊﾞｰ | BL30: ﾁｬﾝﾊﾞｰ | BM30: ﾁｬﾝﾊﾞｰ | BN30: ﾁｬﾝﾊﾞｰ | BO30: ﾁｬﾝﾊﾞｰ | BP30: ﾁｬﾝﾊﾞｰ | BQ30: ﾁｬﾝﾊﾞｰ | BR30: ﾁｬﾝﾊﾞｰ | BS30: ﾁｬﾝﾊﾞｰ | BT30: ﾁｬﾝﾊﾞｰ | BU30: ﾁｬﾝﾊﾞｰ | BV30: ﾁｬﾝﾊﾞｰ | BW30: ﾁｬﾝﾊﾞｰ | BX30: ﾁｬﾝﾊﾞｰ | BY30: ﾁｬﾝﾊﾞｰ | BZ30: ﾁｬﾝﾊﾞｰ | CA30: ﾁｬﾝﾊﾞｰ | CB30: ﾁｬﾝﾊﾞｰ | CC30: ﾁｬﾝﾊﾞｰ | CD30: ﾁｬﾝﾊﾞｰ | CE30: ﾁｬﾝﾊﾞｰ | CF30: ﾁｬﾝﾊﾞｰ | CG30: ﾁｬﾝﾊﾞｰ | CH30: ﾁｬﾝﾊﾞｰ | CI30: ﾁｬﾝﾊﾞｰ | CJ30: ﾁｬﾝﾊﾞｰ | CK30: ﾁｬﾝﾊﾞｰ | CL30: ﾁｬﾝﾊﾞｰ | CM30: ﾁｬﾝﾊﾞｰ | CN30: ﾁｬﾝﾊﾞｰ | CO30: ﾁｬﾝﾊﾞｰ | CP30: ﾁｬﾝﾊﾞｰ | CQ30: ﾁｬﾝﾊﾞｰ | CR30: ﾁｬﾝﾊﾞｰ | CS30: ﾁｬﾝﾊﾞｰ | CT30: ﾁｬﾝﾊﾞｰ | CU30: ﾁｬﾝﾊﾞｰ | CV30: ﾁｬﾝﾊﾞｰ | CW30: ﾁｬﾝﾊﾞｰ | CX30: ﾁｬﾝﾊﾞｰ | CY30: ﾁｬﾝﾊﾞｰ | CZ30: ﾁｬﾝﾊﾞｰ | DA30: ﾁｬﾝﾊﾞｰ
G31: ドクター | H31: ベルボ 角度４０° | K31: ﾊﾟﾗ20 | L31: No.1ﾄﾞｸﾀｰ ﾄﾞｸﾀｰ 材質/角度 | M31: ﾍﾞﾙﾎﾞ/40° | N31: ﾍﾞﾙﾎﾞ/40° | O31: ﾍﾞﾙﾎﾞ/40° | P31: ﾍﾞﾙﾎﾞ/40° | Q31: ﾍﾞﾙﾎﾞ/40° | R31: ﾍﾞﾙﾎﾞ/40° | S31: ﾍﾞﾙﾎﾞ/40° | T31: ﾍﾞﾙﾎﾞ/40° | U31: ﾍﾞﾙﾎﾞ/40° | V31: ﾍﾞﾙﾎﾞ/40° | W31: ﾍﾞﾙﾎﾞ/40° | X31: ﾍﾞﾙﾎﾞ/40° | Y31: ﾍﾞﾙﾎﾞ/40° | Z31: ﾍﾞﾙﾎﾞ/40° | AA31: ﾍﾞﾙﾎﾞ/40° | AB31: ﾍﾞﾙﾎﾞ/40° | AC31: ﾍﾞﾙﾎﾞ/40° | AD31: ﾍﾞﾙﾎﾞ/40° | AE31: ﾍﾞﾙﾎﾞ/40° | AF31: ﾍﾞﾙﾎﾞ/40° | AG31: ﾍﾞﾙﾎﾞ/40° | AH31: ﾍﾞﾙﾎﾞ/40° | AI31: ﾍﾞﾙﾎﾞ/40° | AJ31: ﾍﾞﾙﾎﾞ/40° | AK31: ﾍﾞﾙﾎﾞ/40° | AL31: ﾍﾞﾙﾎﾞ/40° | AM31: ﾍﾞﾙﾎﾞ/40° | AN31: ﾍﾞﾙﾎﾞ/40° | AO31: ﾍﾞﾙﾎﾞ/40° | AP31: ﾍﾞﾙﾎﾞ/40° | AQ31: ﾍﾞﾙﾎﾞ/40° | AR31: ﾍﾞﾙﾎﾞ/40° | AS31: ﾍﾞﾙﾎﾞ/40° | AT31: ﾍﾞﾙﾎﾞ/40° | AU31: ﾍﾞﾙﾎﾞ/40° | AV31: ﾍﾞﾙﾎﾞ/40° | AW31: ﾍﾞﾙﾎﾞ/40° | AX31: ﾍﾞﾙﾎﾞ/40° | AY31: ﾍﾞﾙﾎﾞ/40° | AZ31: ﾍﾞﾙﾎﾞ/40° | BA31: ﾍﾞﾙﾎﾞ/40° | BB31: ﾍﾞﾙﾎﾞ/40° | BC31: ﾍﾞﾙﾎﾞ/40° | BD31: ﾍﾞﾙﾎﾞ/40° | BE31: ﾍﾞﾙﾎﾞ/40° | BF31: ﾍﾞﾙﾎﾞ/40° | BG31: ﾍﾞﾙﾎﾞ/40° | BH31: ﾍﾞﾙﾎﾞ/40° | BI31: ﾍﾞﾙﾎﾞ/40° | BJ31: ﾍﾞﾙﾎﾞ/40° | BK31: ﾍﾞﾙﾎﾞ/40° | BL31: ﾍﾞﾙﾎﾞ/40° | BM31: ﾍﾞﾙﾎﾞ/40° | BN31: ﾍﾞﾙﾎﾞ/40° | BO31: ﾍﾞﾙﾎﾞ/40° | BP31: ﾍﾞﾙﾎﾞ/40° | BQ31: ﾍﾞﾙﾎﾞ/40° | BR31: ﾍﾞﾙﾎﾞ/40° | BS31: ﾍﾞﾙﾎﾞ/40° | BT31: ﾍﾞﾙﾎﾞ/40° | BU31: ﾍﾞﾙﾎﾞ/40° | BV31: ﾍﾞﾙﾎﾞ/40° | BW31: ﾍﾞﾙﾎﾞ/40° | BX31: ﾍﾞﾙﾎﾞ/40° | BY31: ﾍﾞﾙﾎﾞ/40° | BZ31: ﾍﾞﾙﾎﾞ/40° | CA31: ﾍﾞﾙﾎﾞ/40° | CB31: ﾍﾞﾙﾎﾞ/40° | CC31: ﾍﾞﾙﾎﾞ/40° | CD31: ﾍﾞﾙﾎﾞ/40° | CE31: ﾍﾞﾙﾎﾞ/40° | CF31: ﾍﾞﾙﾎﾞ/40° | CG31: ﾍﾞﾙﾎﾞ/40° | CH31: ﾍﾞﾙﾎﾞ/40° | CI31: ﾍﾞﾙﾎﾞ/40° | CJ31: ﾍﾞﾙﾎﾞ/40° | CK31: ﾍﾞﾙﾎﾞ/40° | CL31: ﾍﾞﾙﾎﾞ/40° | CM31: ﾍﾞﾙﾎﾞ/40° | CN31: ﾍﾞﾙﾎﾞ/40° | CO31: ﾍﾞﾙﾎﾞ/40° | CP31: ﾍﾞﾙﾎﾞ/40° | CQ31: ﾍﾞﾙﾎﾞ/40° | CR31: ﾍﾞﾙﾎﾞ/40° | CS31: ﾍﾞﾙﾎﾞ/40° | CT31: ﾍﾞﾙﾎﾞ/40° | CU31: ﾍﾞﾙﾎﾞ/40° | CV31: ﾍﾞﾙﾎﾞ/40° | CW31: ﾍﾞﾙﾎﾞ/40° | CX31: ﾍﾞﾙﾎﾞ/40° | CY31: ﾍﾞﾙﾎﾞ/40° | CZ31: ﾍﾞﾙﾎﾞ/40° | DA31: ﾍﾞﾙﾎﾞ/40°
G32: ﾁｬﾝﾊﾞｰｻｸｼｮﾝ圧 | H32: － | K32: ﾊﾟﾗ21 | L32: No.1ﾄﾞｸﾀｰ ﾁｬﾝﾊﾞｰｻｸｼｮﾝ圧 | M32: - | N32: - | O32: - | P32: - | Q32: - | R32: - | S32: - | T32: - | U32: - | V32: - | W32: - | X32: - | Y32: - | Z32: - | AA32: - | AB32: - | AC32: - | AD32: - | AE32: - | AF32: - | AG32: - | AH32: - | AI32: - | AJ32: - | AK32: - | AL32: - | AM32: - | AN32: - | AO32: - | AP32: - | AQ32: - | AR32: - | AS32: - | AT32: - | AU32: - | AV32: - | AW32: - | AX32: - | AY32: - | AZ32: - | BA32: - | BB32: - | BC32: - | BD32: - | BE32: - | BF32: - | BG32: - | BH32: - | BI32: - | BJ32: - | BK32: - | BL32: - | BM32: - | BN32: - | BO32: - | BP32: - | BQ32: - | BR32: - | BS32: - | BT32: - | BU32: - | BV32: - | BW32: - | BX32: - | BY32: - | BZ32: - | CA32: - | CB32: - | CC32: - | CD32: - | CE32: - | CF32: - | CG32: - | CH32: - | CI32: - | CJ32: - | CK32: - | CL32: - | CM32: - | CN32: - | CO32: - | CP32: - | CQ32: - | CR32: - | CS32: - | CT32: - | CU32: - | CV32: - | CW32: - | CX32: - | CY32: - | CZ32: - | DA32: -
E33: 循環ポンプ | G33: 設 定 | H33: 単独 | K33: ﾊﾟﾗ22 | L33: No.1循環ﾎﾟﾝﾌﾟ 設定 | M33: 単独 | N33: 単独 | O33: 単独 | P33: 単独 | Q33: 単独 | R33: 単独 | S33: 単独 | T33: 単独 | U33: 単独 | V33: 単独 | W33: 単独 | X33: 単独 | Y33: 単独 | Z33: 単独 | AA33: 単独 | AB33: 単独 | AC33: 単独 | AD33: 単独 | AE33: 単独 | AF33: 単独 | AG33: 単独 | AH33: 単独 | AI33: 単独 | AJ33: 単独 | AK33: 単独 | AL33: 単独 | AM33: 単独 | AN33: 単独 | AO33: 単独 | AP33: 単独 | AQ33: 単独 | AR33: 単独 | AS33: 単独 | AT33: 単独 | AU33: 単独 | AV33: 単独 | AW33: 単独 | AX33: 単独 | AY33: 単独 | AZ33: 単独 | BA33: 単独 | BB33: 単独 | BC33: 単独 | BD33: 単独 | BE33: 単独 | BF33: 単独 | BG33: 単独 | BH33: 単独 | BI33: 単独 | BJ33: 単独 | BK33: 単独 | BL33: 単独 | BM33: 単独 | BN33: 単独 | BO33: 単独 | BP33: 単独 | BQ33: 単独 | BR33: 単独 | BS33: 単独 | BT33: 単独 | BU33: 単独 | BV33: 単独 | BW33: 単独 | BX33: 単独 | BY33: 単独 | BZ33: 単独 | CA33: 単独 | CB33: 単独 | CC33: 単独 | CD33: 単独 | CE33: 単独 | CF33: 単独 | CG33: 単独 | CH33: 単独 | CI33: 単独 | CJ33: 単独 | CK33: 単独 | CL33: 単独 | CM33: 単独 | CN33: 単独 | CO33: 単独 | CP33: 単独 | CQ33: 単独 | CR33: 単独 | CS33: 単独 | CT33: 単独 | CU33: 単独 | CV33: 単独 | CW33: 単独 | CX33: 単独 | CY33: 単独 | CZ33: 単独 | DA33: 単独
G34: 回転数 | H34: １８５±２０ｒｐｍ | K34: ﾊﾟﾗ23 | L34: No.1循環ﾎﾟﾝﾌﾟ 回転数(rpm) | M34: 185 | N34: 185 | O34: 185 | P34: - | Q34: - | R34: - | S34: - | T34: - | U34: - | V34: - | W34: - | X34: - | Y34: - | Z34: - | AA34: - | AB34: - | AC34: - | AD34: - | AE34: - | AF34: - | AG34: - | AH34: - | AI34: - | AJ34: - | AK34: - | AL34: - | AM34: - | AN34: - | AO34: - | AP34: - | AQ34: - | AR34: - | AS34: - | AT34: - | AU34: - | AV34: - | AW34: - | AX34: - | AY34: 330 | AZ34: 330 | BA34: 330 | BB34: 330 | BC34: 330 | BD34: 185 | BH34: 185 | BI34: 185 | BJ34: 185 | BK34: 330 | BL34: 185 | BM34: 185 | BN34: 280 | BO34: 280 | BP34: 280 | BQ34: 280 | BR34: 280 | BS34: 280 | BT34: 280 | BU34: 330 | BV34: - | BW34: - | BX34: 330 | BZ34: 330 | CA34: 330 | CB34: - | CE34: 330 | CF34: - | CG34: - | CL34: - | CM34: - | CN34: - | CP34: - | CQ34: 185 | CR34: - | CS34: 185 | CU34: - | CV34: - | CW34: - | CX34: - | CY34: - | CZ34: 330 | DA34: 185
E35: コーターモード | H35: リバースキスコートＢ | K35: ﾊﾟﾗ24 | L35: No.2ｺｰﾀｰﾓｰﾄﾞ | M35: ﾘﾊﾞｰｽｷｽｺｰﾄB | N35: ﾘﾊﾞｰｽｷｽｺｰﾄB | O35: ﾘﾊﾞｰｽｷｽｺｰﾄB | P35: ﾘﾊﾞｰｽｷｽｺｰﾄB | Q35: ﾘﾊﾞｰｽｷｽｺｰﾄB | R35: ﾘﾊﾞｰｽｷｽｺｰﾄB | S35: ﾘﾊﾞｰｽｷｽｺｰﾄB | T35: ﾘﾊﾞｰｽｷｽｺｰﾄB | U35: ﾘﾊﾞｰｽｷｽｺｰﾄB | V35: ﾘﾊﾞｰｽｷｽｺｰﾄB | W35: ﾘﾊﾞｰｽｷｽｺｰﾄB | X35: ﾘﾊﾞｰｽｷｽｺｰﾄB | Y35: ﾘﾊﾞｰｽｷｽｺｰﾄB | Z35: ﾘﾊﾞｰｽｷｽｺｰﾄB | AA35: ﾘﾊﾞｰｽｷｽｺｰﾄB | AB35: ﾘﾊﾞｰｽｷｽｺｰﾄB | AC35: ﾘﾊﾞｰｽｷｽｺｰﾄB | AD35: ﾘﾊﾞｰｽｷｽｺｰﾄB | AE35: ﾘﾊﾞｰｽｷｽｺｰﾄB | AF35: ﾘﾊﾞｰｽｷｽｺｰﾄB | AG35: ﾘﾊﾞｰｽｷｽｺｰﾄB | AH35: ﾘﾊﾞｰｽｷｽｺｰﾄB | AI35: ﾘﾊﾞｰｽｷｽｺｰﾄB | AJ35: ﾘﾊﾞｰｽｷｽｺｰﾄB | AK35: ﾘﾊﾞｰｽｷｽｺｰﾄB | AL35: ﾘﾊﾞｰｽｷｽｺｰﾄB | AM35: ﾘﾊﾞｰｽｷｽｺｰﾄB | AN35: ﾘﾊﾞｰｽｷｽｺｰﾄB | AO35: ﾘﾊﾞｰｽｷｽｺｰﾄB | AP35: ﾘﾊﾞｰｽｷｽｺｰﾄB | AQ35: ﾘﾊﾞｰｽｷｽｺｰﾄB | AR35: ﾘﾊﾞｰｽｷｽｺｰﾄB | AS35: ﾘﾊﾞｰｽｷｽｺｰﾄB | AT35: ﾘﾊﾞｰｽｷｽｺｰﾄB | AU35: ﾘﾊﾞｰｽｷｽｺｰﾄB | AV35: ﾘﾊﾞｰｽｷｽｺｰﾄB | AW35: ﾘﾊﾞｰｽｷｽｺｰﾄB | AX35: ﾘﾊﾞｰｽｷｽｺｰﾄB | AY35: ﾘﾊﾞｰｽｷｽｺｰﾄB | AZ35: ﾘﾊﾞｰｽｷｽｺｰﾄB | BA35: ﾘﾊﾞｰｽｷｽｺｰﾄB | BB35: ﾘﾊﾞｰｽｷｽｺｰﾄB | BC35: ﾘﾊﾞｰｽｷｽｺｰﾄB | BD35: ﾘﾊﾞｰｽｷｽｺｰﾄB | BE35: ﾘﾊﾞｰｽｷｽｺｰﾄB | BF35: ﾘﾊﾞｰｽｷｽｺｰﾄB | BG35: ﾘﾊﾞｰｽｷｽｺｰﾄB | BH35: ﾘﾊﾞｰｽｷｽｺｰﾄB | BI35: ﾘﾊﾞｰｽｷｽｺｰﾄB | BJ35: ﾘﾊﾞｰｽｷｽｺｰﾄB | BK35: ﾘﾊﾞｰｽｷｽｺｰﾄB | BL35: ﾘﾊﾞｰｽｷｽｺｰﾄB | BM35: ﾘﾊﾞｰｽｷｽｺｰﾄB | BN35: ﾘﾊﾞｰｽｷｽｺｰﾄB | BO35: ﾘﾊﾞｰｽｷｽｺｰﾄB | BP35: ﾘﾊﾞｰｽｷｽｺｰﾄB | BQ35: ﾘﾊﾞｰｽｷｽｺｰﾄB | BR35: ﾘﾊﾞｰｽｷｽｺｰﾄB | BS35: ﾘﾊﾞｰｽｷｽｺｰﾄB | BT35: ﾘﾊﾞｰｽｷｽｺｰﾄB | BU35: ﾘﾊﾞｰｽｷｽｺｰﾄB | BV35: ﾘﾊﾞｰｽｷｽｺｰﾄB | BW35: ﾘﾊﾞｰｽｷｽｺｰﾄB | BX35: ﾘﾊﾞｰｽｷｽｺｰﾄB | BY35: ﾘﾊﾞｰｽｷｽｺｰﾄB | BZ35: ﾘﾊﾞｰｽｷｽｺｰﾄB | CA35: ﾘﾊﾞｰｽｷｽｺｰﾄB | CB35: ﾘﾊﾞｰｽｷｽｺｰﾄB | CC35: ﾘﾊﾞｰｽｷｽｺｰﾄB | CD35: ﾘﾊﾞｰｽｷｽｺｰﾄB | CE35: ﾘﾊﾞｰｽｷｽｺｰﾄB | CF35: ﾘﾊﾞｰｽｷｽｺｰﾄB | CG35: ﾘﾊﾞｰｽｷｽｺｰﾄB | CH35: ﾘﾊﾞｰｽｷｽｺｰﾄB | CI35: ﾘﾊﾞｰｽｷｽｺｰﾄB | CJ35: ﾘﾊﾞｰｽｷｽｺｰﾄB | CK35: ﾘﾊﾞｰｽｷｽｺｰﾄB | CL35: ﾘﾊﾞｰｽｷｽｺｰﾄB | CM35: ﾘﾊﾞｰｽｷｽｺｰﾄB | CN35: ﾘﾊﾞｰｽｷｽｺｰﾄB | CO35: ﾘﾊﾞｰｽｷｽｺｰﾄB | CP35: ﾘﾊﾞｰｽｷｽｺｰﾄB | CQ35: ﾘﾊﾞｰｽｷｽｺｰﾄB | CR35: ﾘﾊﾞｰｽｷｽｺｰﾄB | CS35: ﾘﾊﾞｰｽｷｽｺｰﾄB | CT35: ﾘﾊﾞｰｽｷｽｺｰﾄB | CU35: ﾘﾊﾞｰｽｷｽｺｰﾄB | CV35: ﾘﾊﾞｰｽｷｽｺｰﾄB | CW35: ﾘﾊﾞｰｽｷｽｺｰﾄB | CX35: ﾘﾊﾞｰｽｷｽｺｰﾄB | CY35: ﾘﾊﾞｰｽｷｽｺｰﾄB | CZ35: ﾘﾊﾞｰｽｷｽｺｰﾄB | DA35: ﾘﾊﾞｰｽｷｽｺｰﾄB
E36: コーター制御 | H36: ドロー | K36: ﾊﾟﾗ25 | L36: No.2ｺｰﾀｰ制御 | M36: ﾄﾞﾛｰ | N36: ﾄﾞﾛｰ | O36: ﾄﾞﾛｰ | P36: ﾄﾞﾛｰ | Q36: ﾄﾞﾛｰ | R36: ﾄﾞﾛｰ | S36: ﾄﾞﾛｰ | T36: ﾄﾞﾛｰ | U36: ﾄﾞﾛｰ | V36: ﾄﾞﾛｰ | W36: ﾄﾞﾛｰ | X36: ﾄﾞﾛｰ | Y36: ﾄﾞﾛｰ | Z36: ﾄﾞﾛｰ | AA36: ﾄﾞﾛｰ | AB36: ﾄﾞﾛｰ | AC36: ﾄﾞﾛｰ | AD36: ﾄﾞﾛｰ | AE36: ﾄﾞﾛｰ | AF36: ﾄﾞﾛｰ | AG36: ﾄﾞﾛｰ | AH36: ﾄﾞﾛｰ | AI36: ﾄﾞﾛｰ | AJ36: ﾄﾞﾛｰ | AK36: ﾄﾞﾛｰ | AL36: ﾄﾞﾛｰ | AM36: ﾄﾞﾛｰ | AN36: ﾄﾞﾛｰ | AO36: ﾄﾞﾛｰ | AP36: ﾄﾞﾛｰ | AQ36: ﾄﾞﾛｰ | AR36: ﾄﾞﾛｰ | AS36: ﾄﾞﾛｰ | AT36: ﾄﾞﾛｰ | AU36: ﾄﾞﾛｰ | AV36: ﾄﾞﾛｰ | AW36: ﾄﾞﾛｰ | AX36: ﾄﾞﾛｰ | AY36: ﾄﾞﾛｰ | AZ36: ﾄﾞﾛｰ | BA36: ﾄﾞﾛｰ | BB36: ﾄﾞﾛｰ | BC36: ﾄﾞﾛｰ | BD36: ﾄﾞﾛｰ | BE36: ﾄﾞﾛｰ | BF36: ﾄﾞﾛｰ | BG36: ﾄﾞﾛｰ | BH36: ﾄﾞﾛｰ | BI36: ﾄﾞﾛｰ | BJ36: ﾄﾞﾛｰ | BK36: ﾄﾞﾛｰ | BL36: ﾄﾞﾛｰ | BM36: ﾄﾞﾛｰ | BN36: ﾄﾞﾛｰ | BO36: ﾄﾞﾛｰ | BP36: ﾄﾞﾛｰ | BQ36: ﾄﾞﾛｰ | BR36: ﾄﾞﾛｰ | BS36: ﾄﾞﾛｰ | BT36: ﾄﾞﾛｰ | BU36: ﾄﾞﾛｰ | BV36: ﾄﾞﾛｰ | BW36: ﾄﾞﾛｰ | BX36: ﾄﾞﾛｰ | BY36: ﾄﾞﾛｰ | BZ36: ﾄﾞﾛｰ | CA36: ﾄﾞﾛｰ | CB36: ﾄﾞﾛｰ | CC36: ﾄﾞﾛｰ | CD36: ﾄﾞﾛｰ | CE36: ﾄﾞﾛｰ | CF36: ﾄﾞﾛｰ | CG36: ﾄﾞﾛｰ | CH36: ﾄﾞﾛｰ | CI36: ﾄﾞﾛｰ | CJ36: ﾄﾞﾛｰ | CK36: ﾄﾞﾛｰ | CL36: ﾄﾞﾛｰ | CM36: ﾄﾞﾛｰ | CN36: ﾄﾞﾛｰ | CO36: ﾄﾞﾛｰ | CP36: ﾄﾞﾛｰ | CQ36: ﾄﾞﾛｰ | CR36: ﾄﾞﾛｰ | CS36: ﾄﾞﾛｰ | CT36: ﾄﾞﾛｰ | CU36: ﾄﾞﾛｰ | CV36: ﾄﾞﾛｰ | CW36: ﾄﾞﾛｰ | CX36: ﾄﾞﾛｰ | CY36: ﾄﾞﾛｰ | CZ36: ﾄﾞﾛｰ | DA36: ﾄﾞﾛｰ
E37: グラビアロール | G37: 種 類 | H37: １１０ＵＲ | K37: ﾊﾟﾗ26 | L37: No.2ｸﾞﾗﾋﾞｱﾛｰﾙ 種類 | M37: 110UR | N37: 110UR | O37: 110UR | P37: 110UR | Q37: 110UR | R37: 110UR | S37: 110UR | T37: 110UR | U37: 110UR | V37: 110UR | W37: 110UR | X37: 110UR | Y37: 110UR | Z37: 110UR | AA37: 110UR | AB37: 110UR | AC37: 110UR | AD37: 110UR | AE37: 110UR | AF37: 110UR | AG37: 110UR | AH37: 110UR | AI37: 110UR | AJ37: 110UR | AK37: 110UR | AL37: 110UR | AM37: 110UR | AN37: 110UR | AO37: 110UR | AP37: 110UR | AQ37: 110UR | AR37: 110UR | AS37: 110UR | AT37: 110UR | AU37: 110UR | AV37: 110UR | AW37: 110UR | AX37: 110UR | AY37: 110UR | AZ37: 110UR | BA37: 110UR | BB37: 110UR | BC37: 110UR | BD37: 110UR | BE37: 110UR | BF37: 110UR | BG37: 110UR | BH37: 110UR | BI37: 110UR | BJ37: 110UR | BK37: 110UR | BL37: 110UR | BM37: 110UR | BN37: 110UR | BO37: 110UR | BP37: 110UR | BQ37: 110UR | BR37: 110UR | BS37: 110UR | BT37: 110UR | BU37: 110UR | BV37: 110UR | BW37: 110UR | BX37: 110UR | BZ37: 110UR | CA37: 110UR | CB37: 110UR | CE37: 110UR | CF37: 110UR | CG37: 110UR | CH37: 110UR | CI37: 110UR | CJ37: 110UR | CK37: 110UR | CL37: 110UR | CM37: 110UR | CN37: 110UR | CO37: 110UR | CP37: 110UR | CQ37: 110UR | CR37: 110UR | CS37: 110UR | CT37: 110UR | CU37: 110UR | CV37: 110UR | CW37: 110UR | CX37: 110UR | CY37: 110UR | CZ37: 110UR | DA37: 110UR
G38: 速 度（目 標） | H38: ２７０±１０m/min | K38: ﾊﾟﾗ27 | L38: No.2ｸﾞﾗﾋﾞｱﾛｰﾙ 速度(m/min) | M38: 285 | N38: 260 | O38: 245 | P38: 180 | Q38: 300 | R38: 290 | S38: 300 | T38: 275 | U38: 220 | V38: 180 | W38: 135 | X38: 180 | Y38: 135 | Z38: 165 | AA38: 130 | AB38: 120 | AC38: 120 | AD38: 165 | AE38: 200 | AG38: 300 | AH38: 300 | AI38: 300 | AJ38: 275 | AK38: 270 | AL38: 270 | AM38: 270 | AN38: 300 | AO38: 275 | AP38: 275 | AQ38: 80 | AR38: 275 | AS38: 275 | AT38: 275 | AU38: 275 | AV38: 275 | AW38: 275 | AX38: 260 | AY38: 250 | AZ38: 250 | BA38: 250 | BB38: 250 | BC38: 250 | BD38: 285 | BE38: 220 | BF38: 220 | BG38: 220 | BH38: 230 | BI38: 230 | BJ38: 230 | BK38: 135 | BL38: 230 | BM38: 230 | BN38: 270 | BO38: 275 | BP38: 270 | BQ38: 270 | BR38: 275 | BS38: 275 | BT38: 270 | BU38: 165 | BV38: 165 | BW38: 300 | BX38: 165 | BZ38: 165 | CA38: 165 | CB38: 120 | CE38: 165 | CF38: 120 | CG38: 180 | CH38: 220 | CI38: 220 | CJ38: 165 | CK38: 220 | CL38: 200 | CM38: 200 | CN38: 165 | CO38: 165 | CP38: 200 | CQ38: 285 | CR38: 180 | CS38: 230 | CT38: 220 | CU38: 275 | CV38: 275 | CW38: 300 | CX38: 300 | CY38: 180 | CZ38: 165 | DA38: 285
E39: ｲﾝﾌﾟﾚｯｼｮﾝﾛｰﾙ | G39: 種 類 | H39: － | K39: ﾊﾟﾗ28 | L39: No.2ｲﾝﾌﾟﾚｯｼｮﾝﾛｰﾙ 種類 | M39: - | N39: - | O39: - | P39: - | Q39: - | R39: - | S39: - | T39: - | U39: - | V39: - | W39: - | X39: - | Y39: - | Z39: - | AA39: - | AB39: - | AC39: - | AD39: - | AE39: - | AF39: - | AG39: - | AH39: - | AI39: - | AJ39: - | AK39: - | AL39: - | AM39: - | AN39: - | AO39: - | AP39: - | AQ39: - | AR39: - | AS39: - | AT39: - | AU39: - | AV39: - | AW39: - | AX39: - | AY39: - | AZ39: - | BA39: - | BB39: - | BC39: - | BD39: - | BE39: - | BF39: - | BG39: - | BH39: - | BI39: - | BJ39: - | BK39: - | BL39: - | BM39: - | BN39: - | BO39: - | BP39: - | BQ39: - | BR39: - | BS39: - | BT39: - | BU39: - | BV39: - | BW39: - | BX39: - | BZ39: - | CA39: - | CB39: - | CE39: - | CF39: - | CG39: - | CH39: - | CI39: - | CJ39: - | CK39: - | CL39: - | CM39: - | CN39: - | CO39: - | CP39: - | CQ39: - | CR39: - | CS39: - | CT39: - | CU39: - | CV39: - | CW39: - | CX39: - | CY39: - | CZ39: - | DA39: -
G40: 圧 力 | H40: ０.３±０.１MPa | K40: ﾊﾟﾗ29 | L40: No.2ｲﾝﾌﾟﾚｯｼｮﾝﾛｰﾙ 圧力(Mpa) | M40: 0.2 | N40: 0.2 | O40: 0.2 | P40: 0.2 | Q40: 0.2 | R40: 0.2 | S40: 0.2 | T40: 0.2 | U40: 0.2 | V40: 0.2 | W40: 0.2 | X40: 0.2 | Y40: 0.2 | Z40: 0.2 | AA40: 0.2 | AB40: 0.2 | AC40: 0.2 | AD40: 0.2 | AE40: 0.2 | AF40: 0.2 | AG40: 0.2 | AH40: 0.2 | AI40: 0.2 | AJ40: 0.2 | AK40: 0.2 | AL40: 0.2 | AM40: 0.2 | AN40: 0.2 | AO40: 0.2 | AP40: 0.2 | AQ40: 0.2 | AR40: 0.2 | AS40: 0.2 | AT40: 0.2 | AU40: 0.2 | AV40: 0.2 | AW40: 0.2 | AX40: 0.2 | AY40: 0.2 | AZ40: 0.2 | BA40: 0.2 | BB40: 0.2 | BC40: 0.2 | BD40: 0.2 | BE40: 0.2 | BF40: 0.2 | BG40: 0.2 | BH40: 0.2 | BI40: 0.2 | BJ40: 0.2 | BK40: 0.2 | BL40: 0.2 | BM40: 0.2 | BN40: 0.2 | BO40: 0.2 | BP40: 0.2 | BQ40: 0.2 | BR40: 0.2 | BS40: 0.2 | BT40: 0.2 | BU40: 0.2 | BV40: 0.2 | BW40: 0.2 | BX40: 0.2 | BZ40: 0.2 | CA40: 0.2 | CB40: 0.2 | CE40: 0.2 | CF40: 0.2 | CG40: 0.2 | CH40: 0.2 | CI40: 0.2 | CJ40: 0.2 | CK40: 0.2 | CL40: 0.2 | CM40: 0.2 | CN40: 0.2 | CO40: 0.2 | CP40: 0.2 | CQ40: 0.2 | CR40: 0.2 | CS40: 0.2 | CT40: 0.2 | CU40: 0.2 | CV40: 0.2 | CW40: 0.2 | CX40: 0.2 | CY40: 0.2 | CZ40: 0.2 | DA40: 0.2
K41: ﾊﾟﾗ30 | L41: No.2ﾀﾞｳﾝﾛｰﾙ高さ(mm) | M41: -5 | N41: -5 | O41: -5 | P41: -5 | Q41: -5 | R41: -5 | S41: -5 | T41: -5 | U41: -5 | V41: -5 | W41: -2 | X41: -5 | Y41: -2 | Z41: -2 | AA41: -2 | AB41: -2 | AC41: -2 | AD41: -5 | AE41: -5 | AF41: -5 | AG41: -5 | AH41: -5 | AI41: -5 | AJ41: -5 | AK41: -5 | AL41: -5 | AM41: -5 | AN41: -5 | AO41: -5 | AP41: -5 | AQ41: -2 | AR41: -5 | AS41: -5 | AT41: -5 | AU41: -5 | AV41: -5 | AW41: -5 | AX41: -5 | AY41: -5 | AZ41: -5 | BA41: -5 | BB41: -5 | BC41: -5 | BD41: -5 | BE41: -5 | BF41: -5 | BG41: -5 | BH41: -5 | BI41: -5 | BJ41: -5 | BK41: -2 | BL41: -5 | BM41: -5 | BN41: -5 | BO41: -5 | BP41: -5 | BQ41: -5 | BR41: -5 | BS41: -5 | BT41: -5 | BU41: -5 | BV41: -5 | BW41: -5 | BX41: -5 | BZ41: -5 | CA41: -5 | CB41: -2 | CE41: -5 | CF41: -2 | CG41: -5 | CH41: -5 | CI41: -5 | CJ41: -5 | CK41: -5 | CL41: -5 | CM41: -5 | CN41: -5 | CO41: -5 | CP41: -5 | CQ41: -5 | CR41: -5 | CS41: -5 | CT41: -5 | CU41: -5 | CV41: -5 | CW41: -5 | CX41: -5 | CY41: -5 | CZ41: -5 | DA41: -5
D42: No.2 | E42: ダウンロール高さ | H42: －５ｍｍ | K42: ﾊﾟﾗ31 | L42: No.2ﾊﾞｯｸｱｯﾌﾟﾛｰﾙ圧 | M42: - | N42: - | O42: - | P42: - | Q42: - | R42: - | S42: - | T42: - | U42: - | V42: - | W42: - | X42: - | Y42: - | Z42: - | AA42: - | AB42: - | AC42: - | AD42: - | AE42: - | AF42: - | AG42: - | AH42: - | AI42: - | AJ42: - | AK42: - | AL42: - | AM42: - | AN42: - | AO42: - | AP42: - | AQ42: - | AR42: - | AS42: - | AT42: - | AU42: - | AV42: - | AW42: - | AX42: - | AY42: - | AZ42: - | BA42: - | BB42: - | BC42: - | BD42: - | BE42: - | BF42: - | BG42: - | BH42: - | BI42: - | BJ42: - | BK42: - | BL42: - | BM42: - | BN42: - | BO42: - | BP42: - | BQ42: - | BR42: - | BS42: - | BT42: - | BU42: - | BV42: - | BW42: - | BX42: - | BZ42: - | CA42: - | CB42: - | CE42: - | CF42: - | CG42: - | CH42: - | CI42: - | CJ42: - | CK42: - | CL42: - | CM42: - | CN42: - | CO42: - | CP42: - | CQ42: - | CR42: - | CS42: - | CT42: - | CU42: - | CV42: - | CW42: - | CX42: - | CY42: - | CZ42: - | DA42: -
D43: ｺｰﾀｰ | E43: ドクター | G43: 種 類 | H43: チャンバー | K43: ﾊﾟﾗ32 | L43: No.2ﾄﾞｸﾀｰ 種類 | M43: ﾁｬﾝﾊﾞｰ | N43: ﾁｬﾝﾊﾞｰ | O43: ﾁｬﾝﾊﾞｰ | P43: ﾁｬﾝﾊﾞｰ | Q43: ﾁｬﾝﾊﾞｰ | R43: ﾁｬﾝﾊﾞｰ | S43: ﾁｬﾝﾊﾞｰ | T43: ﾁｬﾝﾊﾞｰ | U43: ﾁｬﾝﾊﾞｰ | V43: ﾁｬﾝﾊﾞｰ | W43: ﾁｬﾝﾊﾞｰ | X43: ﾁｬﾝﾊﾞｰ | Y43: ﾁｬﾝﾊﾞｰ | Z43: ﾁｬﾝﾊﾞｰ | AA43: ﾁｬﾝﾊﾞｰ | AB43: ﾁｬﾝﾊﾞｰ | AC43: ﾁｬﾝﾊﾞｰ | AD43: ﾁｬﾝﾊﾞｰ | AE43: ﾁｬﾝﾊﾞｰ | AF43: ﾁｬﾝﾊﾞｰ | AG43: ﾁｬﾝﾊﾞｰ | AH43: ﾁｬﾝﾊﾞｰ | AI43: ﾁｬﾝﾊﾞｰ | AJ43: ﾁｬﾝﾊﾞｰ | AK43: ﾁｬﾝﾊﾞｰ | AL43: ﾁｬﾝﾊﾞｰ | AM43: ﾁｬﾝﾊﾞｰ | AN43: ﾁｬﾝﾊﾞｰ | AO43: ﾁｬﾝﾊﾞｰ | AP43: ﾁｬﾝﾊﾞｰ | AQ43: ﾁｬﾝﾊﾞｰ | AR43: ﾁｬﾝﾊﾞｰ | AS43: ﾁｬﾝﾊﾞｰ | AT43: ﾁｬﾝﾊﾞｰ | AU43: ﾁｬﾝﾊﾞｰ | AV43: ﾁｬﾝﾊﾞｰ | AW43: ﾁｬﾝﾊﾞｰ | AX43: ﾁｬﾝﾊﾞｰ | AY43: ﾁｬﾝﾊﾞｰ | AZ43: ﾁｬﾝﾊﾞｰ | BA43: ﾁｬﾝﾊﾞｰ | BB43: ﾁｬﾝﾊﾞｰ | BC43: ﾁｬﾝﾊﾞｰ | BD43: ﾁｬﾝﾊﾞｰ | BE43: ﾁｬﾝﾊﾞｰ | BF43: ﾁｬﾝﾊﾞｰ | BG43: ﾁｬﾝﾊﾞｰ | BH43: ﾁｬﾝﾊﾞｰ | BI43: ﾁｬﾝﾊﾞｰ | BJ43: ﾁｬﾝﾊﾞｰ | BK43: ﾁｬﾝﾊﾞｰ | BL43: ﾁｬﾝﾊﾞｰ | BM43: ﾁｬﾝﾊﾞｰ | BN43: ﾁｬﾝﾊﾞｰ | BO43: ﾁｬﾝﾊﾞｰ | BP43: ﾁｬﾝﾊﾞｰ | BQ43: ﾁｬﾝﾊﾞｰ | BR43: ﾁｬﾝﾊﾞｰ | BS43: ﾁｬﾝﾊﾞｰ | BT43: ﾁｬﾝﾊﾞｰ | BU43: ﾁｬﾝﾊﾞｰ | BV43: ﾁｬﾝﾊﾞｰ | BW43: ﾁｬﾝﾊﾞｰ | BX43: ﾁｬﾝﾊﾞｰ | BY43: ﾁｬﾝﾊﾞｰ | BZ43: ﾁｬﾝﾊﾞｰ | CA43: ﾁｬﾝﾊﾞｰ | CB43: ﾁｬﾝﾊﾞｰ | CC43: ﾁｬﾝﾊﾞｰ | CD43: ﾁｬﾝﾊﾞｰ | CE43: ﾁｬﾝﾊﾞｰ | CF43: ﾁｬﾝﾊﾞｰ | CG43: ﾁｬﾝﾊﾞｰ | CH43: ﾁｬﾝﾊﾞｰ | CI43: ﾁｬﾝﾊﾞｰ | CJ43: ﾁｬﾝﾊﾞｰ | CK43: ﾁｬﾝﾊﾞｰ | CL43: ﾁｬﾝﾊﾞｰ | CM43: ﾁｬﾝﾊﾞｰ | CN43: ﾁｬﾝﾊﾞｰ | CO43: ﾁｬﾝﾊﾞｰ | CP43: ﾁｬﾝﾊﾞｰ | CQ43: ﾁｬﾝﾊﾞｰ | CR43: ﾁｬﾝﾊﾞｰ | CS43: ﾁｬﾝﾊﾞｰ | CT43: ﾁｬﾝﾊﾞｰ | CU43: ﾁｬﾝﾊﾞｰ | CV43: ﾁｬﾝﾊﾞｰ | CW43: ﾁｬﾝﾊﾞｰ | CX43: ﾁｬﾝﾊﾞｰ | CY43: ﾁｬﾝﾊﾞｰ | CZ43: ﾁｬﾝﾊﾞｰ | DA43: ﾁｬﾝﾊﾞｰ
G44: ドクター | H44: ベルボ 角度４０° | K44: ﾊﾟﾗ33 | L44: No.2ﾄﾞｸﾀｰ ﾄﾞｸﾀｰ 材質/角度 | M44: ﾍﾞﾙﾎﾞ/40° | N44: ﾍﾞﾙﾎﾞ/40° | O44: ﾍﾞﾙﾎﾞ/40° | P44: ﾍﾞﾙﾎﾞ/40° | Q44: ﾍﾞﾙﾎﾞ/40° | R44: ﾍﾞﾙﾎﾞ/40° | S44: ﾍﾞﾙﾎﾞ/40° | T44: ﾍﾞﾙﾎﾞ/40° | U44: ﾍﾞﾙﾎﾞ/40° | V44: ﾍﾞﾙﾎﾞ/40° | W44: ﾍﾞﾙﾎﾞ/40° | X44: ﾍﾞﾙﾎﾞ/40° | Y44: ﾍﾞﾙﾎﾞ/40° | Z44: ﾍﾞﾙﾎﾞ/40° | AA44: ﾍﾞﾙﾎﾞ/40° | AB44: ﾍﾞﾙﾎﾞ/40° | AC44: ﾍﾞﾙﾎﾞ/40° | AD44: ﾍﾞﾙﾎﾞ/40° | AE44: ﾍﾞﾙﾎﾞ/40° | AF44: ﾍﾞﾙﾎﾞ/40° | AG44: ﾍﾞﾙﾎﾞ/40° | AH44: ﾍﾞﾙﾎﾞ/40° | AI44: ﾍﾞﾙﾎﾞ/40° | AJ44: ﾍﾞﾙﾎﾞ/40° | AK44: ﾍﾞﾙﾎﾞ/40° | AL44: ﾍﾞﾙﾎﾞ/40° | AM44: ﾍﾞﾙﾎﾞ/40° | AN44: ﾍﾞﾙﾎﾞ/40° | AO44: ﾍﾞﾙﾎﾞ/40° | AP44: ﾍﾞﾙﾎﾞ/40° | AQ44: ﾍﾞﾙﾎﾞ/40° | AR44: ﾍﾞﾙﾎﾞ/40° | AS44: ﾍﾞﾙﾎﾞ/40° | AT44: ﾍﾞﾙﾎﾞ/40° | AU44: ﾍﾞﾙﾎﾞ/40° | AV44: ﾍﾞﾙﾎﾞ/40° | AW44: ﾍﾞﾙﾎﾞ/40° | AX44: ﾍﾞﾙﾎﾞ/40° | AY44: ﾍﾞﾙﾎﾞ/40° | AZ44: ﾍﾞﾙﾎﾞ/40° | BA44: ﾍﾞﾙﾎﾞ/40° | BB44: ﾍﾞﾙﾎﾞ/40° | BC44: ﾍﾞﾙﾎﾞ/40° | BD44: ﾍﾞﾙﾎﾞ/40° | BE44: ﾍﾞﾙﾎﾞ/40° | BF44: ﾍﾞﾙﾎﾞ/40° | BG44: ﾍﾞﾙﾎﾞ/40° | BH44: ﾍﾞﾙﾎﾞ/40° | BI44: ﾍﾞﾙﾎﾞ/40° | BJ44: ﾍﾞﾙﾎﾞ/40° | BK44: ﾍﾞﾙﾎﾞ/40° | BL44: ﾍﾞﾙﾎﾞ/40° | BM44: ﾍﾞﾙﾎﾞ/40° | BN44: ﾍﾞﾙﾎﾞ/40° | BO44: ﾍﾞﾙﾎﾞ/40° | BP44: ﾍﾞﾙﾎﾞ/40° | BQ44: ﾍﾞﾙﾎﾞ/40° | BR44: ﾍﾞﾙﾎﾞ/40° | BS44: ﾍﾞﾙﾎﾞ/40° | BT44: ﾍﾞﾙﾎﾞ/40° | BU44: ﾍﾞﾙﾎﾞ/40° | BV44: ﾍﾞﾙﾎﾞ/40° | BW44: ﾍﾞﾙﾎﾞ/40° | BX44: ﾍﾞﾙﾎﾞ/40° | BY44: ﾍﾞﾙﾎﾞ/40° | BZ44: ﾍﾞﾙﾎﾞ/40° | CA44: ﾍﾞﾙﾎﾞ/40° | CB44: ﾍﾞﾙﾎﾞ/40° | CC44: ﾍﾞﾙﾎﾞ/40° | CD44: ﾍﾞﾙﾎﾞ/40° | CE44: ﾍﾞﾙﾎﾞ/40° | CF44: ﾍﾞﾙﾎﾞ/40° | CG44: ﾍﾞﾙﾎﾞ/40° | CH44: ﾍﾞﾙﾎﾞ/40° | CI44: ﾍﾞﾙﾎﾞ/40° | CJ44: ﾍﾞﾙﾎﾞ/40° | CK44: ﾍﾞﾙﾎﾞ/40° | CL44: ﾍﾞﾙﾎﾞ/40° | CM44: ﾍﾞﾙﾎﾞ/40° | CN44: ﾍﾞﾙﾎﾞ/40° | CO44: ﾍﾞﾙﾎﾞ/40° | CP44: ﾍﾞﾙﾎﾞ/40° | CQ44: ﾍﾞﾙﾎﾞ/40° | CR44: ﾍﾞﾙﾎﾞ/40° | CS44: ﾍﾞﾙﾎﾞ/40° | CT44: ﾍﾞﾙﾎﾞ/40° | CU44: ﾍﾞﾙﾎﾞ/40° | CV44: ﾍﾞﾙﾎﾞ/40° | CW44: ﾍﾞﾙﾎﾞ/40° | CX44: ﾍﾞﾙﾎﾞ/40° | CY44: ﾍﾞﾙﾎﾞ/40° | CZ44: ﾍﾞﾙﾎﾞ/40° | DA44: ﾍﾞﾙﾎﾞ/40°
G45: ﾁｬﾝﾊﾞｰｻｸｼｮﾝ圧 | H45: － | K45: ﾊﾟﾗ34 | L45: No.2ﾄﾞｸﾀｰ ﾁｬﾝﾊﾞｰｻｸｼｮﾝ圧 | M45: - | N45: - | O45: - | P45: - | Q45: - | R45: - | S45: - | T45: - | U45: - | V45: - | W45: - | X45: - | Y45: - | Z45: - | AA45: - | AB45: - | AC45: - | AD45: - | AE45: - | AF45: - | AG45: - | AH45: - | AI45: - | AJ45: - | AK45: - | AL45: - | AM45: - | AN45: - | AO45: - | AP45: - | AQ45: - | AR45: - | AS45: - | AT45: - | AU45: - | AV45: - | AW45: - | AX45: - | AY45: - | AZ45: - | BA45: - | BB45: - | BC45: - | BD45: - | BE45: - | BF45: - | BG45: - | BH45: - | BI45: - | BJ45: - | BK45: - | BL45: - | BM45: - | BN45: - | BO45: - | BP45: - | BQ45: - | BR45: - | BS45: - | BT45: - | BU45: - | BV45: - | BW45: - | BX45: - | BY45: - | BZ45: - | CA45: - | CB45: - | CC45: - | CD45: - | CE45: - | CF45: - | CG45: - | CH45: - | CI45: - | CJ45: - | CK45: - | CL45: - | CM45: - | CN45: - | CO45: - | CP45: - | CQ45: - | CR45: - | CS45: - | CT45: - | CU45: - | CV45: - | CW45: - | CX45: - | CY45: - | CZ45: - | DA45: -
E46: 循環ポンプ | G46: 設 定 | H46: 単 独 | K46: ﾊﾟﾗ35 | L46: No.2循環ﾎﾟﾝﾌﾟ 設定 | M46: 単独 | N46: 単独 | O46: 単独 | P46: 単独 | Q46: 単独 | R46: 単独 | S46: 単独 | T46: 単独 | U46: 単独 | V46: 単独 | W46: 単独 | X46: 単独 | Y46: 単独 | Z46: 単独 | AA46: 単独 | AB46: 単独 | AC46: 単独 | AD46: 単独 | AE46: 単独 | AF46: 単独 | AG46: 単独 | AH46: 単独 | AI46: 単独 | AJ46: 単独 | AK46: 単独 | AL46: 単独 | AM46: 単独 | AN46: 単独 | AO46: 単独 | AP46: 単独 | AQ46: 単独 | AR46: 単独 | AS46: 単独 | AT46: 単独 | AU46: 単独 | AV46: 単独 | AW46: 単独 | AX46: 単独 | AY46: 単独 | AZ46: 単独 | BA46: 単独 | BB46: 単独 | BC46: 単独 | BD46: 単独 | BE46: 単独 | BF46: 単独 | BG46: 単独 | BH46: 単独 | BI46: 単独 | BJ46: 単独 | BK46: 単独 | BL46: 単独 | BM46: 単独 | BN46: 単独 | BO46: 単独 | BP46: 単独 | BQ46: 単独 | BR46: 単独 | BS46: 単独 | BT46: 単独 | BU46: 単独 | BV46: 単独 | BW46: 単独 | BX46: 単独 | BY46: 単独 | BZ46: 単独 | CA46: 単独 | CB46: 単独 | CC46: 単独 | CD46: 単独 | CE46: 単独 | CF46: 単独 | CG46: 単独 | CH46: 単独 | CI46: 単独 | CJ46: 単独 | CK46: 単独 | CL46: 単独 | CM46: 単独 | CN46: 単独 | CO46: 単独 | CP46: 単独 | CQ46: 単独 | CR46: 単独 | CS46: 単独 | CT46: 単独 | CU46: 単独 | CV46: 単独 | CW46: 単独 | CX46: 単独 | CY46: 単独 | CZ46: 単独 | DA46: 単独
G47: 回転数 | H47: １８５±１００rpm | K47: ﾊﾟﾗ36 | L47: No.2循環ﾎﾟﾝﾌﾟ 回転数(rpm) | M47: 185±10rpm | N47: 185±10rpm | O47: 185±10rpm | P47: 185±10rpm | Q47: 185±10rpm | R47: 185±10rpm | S47: 185±10rpm | T47: 185rpm | U47: 185±10rpm | V47: 185±10rpm | W47: 185±10rpm | X47: 185±10rpm | Y47: 185±10rpm | Z47: 185±10rpm | AA47: 185±10rpm | AB47: 185±10rpm | AC47: 185±10rpm | AD47: 185±10rpm | AE47: 185±10rpm | AF47: 185±10rpm | AG47: 185±10rpm | AH47: 185±10rpm | AI47: 185±10rpm | AJ47: 185±10rpm | AK47: 185±10rpm | AL47: 185±10rpm | AM47: 185±10rpm | AN47: 185±10rpm | AO47: 185±10rpm | AP47: 185±10rpm | AQ47: 185±10rpm | AR47: 185±10rpm | AS47: 185±10rpm | AT47: 185±10rpm | AU47: 185±10rpm | AV47: 185±10rpm | AW47: 185±10rpm | AX47: 185±10rpm | AY47: 400 | AZ47: 400 | BA47: 400 | BB47: 400 | BC47: 400 | BD47: 185 | BE47: 185 | BF47: 185 | BG47: 185 | BH47: 185 | BI47: 185 | BJ47: 185 | BK47: 400 | BL47: 185 | BM47: 185 | BN47: 280 | BO47: 280 | BP47: 280 | BQ47: 280 | BR47: 280 | BS47: 280 | BT47: 280 | BU47: 400 | BV47: 185±10rpm | BW47: 400 | BX47: 400 | BZ47: 400 | CA47: 400 | CB47: 185±10rpm | CE47: 400 | CF47: 185±10rpm | CG47: 185±10rpm | CH47: 185 | CI47: 185 | CJ47: 185 | CK47: 185 | CL47: 185±10rpm | CM47: 185±10rpm | CN47: 185 | CO47: 185 | CP47: 185±10rpm | CQ47: 185±10rpm | CR47: 185±10rpm | CS47: 185 | CT47: 185 | CU47: 185±10rpm | CV47: 185±10rpm | CW47: 185±10rpm | CX47: 185±10rpm | CY47: 185±10rpm | CZ47: 400 | DA47: 185±10rpm
E48: スムージング比率 | H48: － | K48: ﾊﾟﾗ37 | L48: No.2ｽﾑｰｼﾞﾝｸﾞ比率 | M48: - | N48: - | O48: - | P48: - | Q48: - | R48: - | S48: - | T48: - | U48: - | V48: - | W48: - | X48: - | Y48: - | Z48: - | AA48: - | AB48: - | AC48: - | AD48: - | AE48: - | AF48: - | AG48: - | AH48: - | AI48: - | AJ48: - | AK48: - | AL48: - | AM48: - | AN48: - | AO48: - | AP48: - | AQ48: - | AR48: - | AS48: - | AT48: - | AU48: - | AV48: - | AW48: - | AX48: - | AY48: - | AZ48: - | BA48: - | BB48: - | BC48: - | BD48: - | BE48: - | BF48: - | BG48: - | BH48: - | BI48: - | BJ48: - | BK48: - | BL48: - | BM48: - | BN48: - | BO48: - | BP48: - | BQ48: - | BR48: - | BS48: - | BT48: - | BU48: - | BV48: - | BW48: - | BX48: - | BY48: - | BZ48: - | CA48: - | CB48: - | CC48: - | CD48: - | CE48: - | CF48: - | CG48: - | CH48: - | CI48: - | CJ48: - | CK48: - | CL48: - | CM48: - | CN48: - | CO48: - | CP48: - | CQ48: - | CR48: - | CS48: - | CT48: - | CU48: - | CV48: - | CW48: - | CX48: - | CY48: - | CZ48: - | DA48: -
E49: ファニッシャー比率 | H49: － | K49: ﾊﾟﾗ38 | L49: No.2ﾌｧﾆｯｼｬｰ比率 | M49: - | N49: - | O49: - | P49: - | Q49: - | R49: - | S49: - | T49: - | U49: - | V49: - | W49: - | X49: - | Y49: - | Z49: - | AA49: - | AB49: - | AC49: - | AD49: - | AE49: - | AF49: - | AG49: - | AH49: - | AI49: - | AJ49: - | AK49: - | AL49: - | AM49: - | AN49: - | AO49: - | AP49: - | AQ49: - | AR49: - | AS49: - | AT49: - | AU49: - | AV49: - | AW49: - | AX49: - | AY49: - | AZ49: - | BA49: - | BB49: - | BC49: - | BD49: - | BE49: - | BF49: - | BG49: - | BH49: - | BI49: - | BJ49: - | BK49: - | BL49: - | BM49: - | BN49: - | BO49: - | BP49: - | BQ49: - | BR49: - | BS49: - | BT49: - | BU49: - | BV49: - | BW49: - | BX49: - | BY49: - | BZ49: - | CA49: - | CB49: - | CC49: - | CD49: - | CE49: - | CF49: - | CG49: - | CH49: - | CI49: - | CJ49: - | CK49: - | CL49: - | CM49: - | CN49: - | CO49: - | CP49: - | CQ49: - | CR49: - | CS49: - | CT49: - | CU49: - | CV49: - | CW49: - | CX49: - | CY49: - | CZ49: - | DA49: -
D50: ｱｳﾄ | E50: 粘着ロール | H50: 切 | K50: ﾊﾟﾗ39 | L50: ｱｳﾄﾌｨｰﾄﾞ粘着ﾛｰﾙ | M50: 切 | N50: 切 | O50: 切 | P50: 切 | Q50: 切 | R50: 切 | S50: 切 | T50: 切 | U50: 切 | V50: 切 | W50: 切 | X50: 切 | Y50: 切 | Z50: 切 | AA50: 切 | AB50: 切 | AC50: 切 | AD50: 切 | AE50: 切 | AF50: 切 | AG50: 切 | AH50: 切 | AI50: 切 | AJ50: 切 | AK50: 切 | AL50: 切 | AM50: 切 | AN50: 切 | AO50: 切 | AP50: 切 | AQ50: 切 | AR50: 切 | AS50: 切 | AT50: 切 | AU50: 切 | AV50: 切 | AW50: 切 | AX50: 切 | AY50: 切 | AZ50: 切 | BA50: 切 | BB50: 切 | BC50: 切 | BD50: 切 | BE50: 切 | BF50: 切 | BG50: 切 | BH50: 切 | BI50: 切 | BJ50: 切 | BK50: 切 | BL50: 切 | BM50: 切 | BN50: 切 | BO50: 切 | BP50: 切 | BQ50: 切 | BR50: 切 | BS50: 切 | BT50: 切 | BU50: 切 | BV50: 切 | BW50: 切 | BX50: 切 | BY50: 切 | BZ50: 切 | CA50: 切 | CB50: 切 | CC50: 切 | CD50: 切 | CE50: 切 | CF50: 切 | CG50: 切 | CH50: 切 | CI50: 切 | CJ50: 切 | CK50: 切 | CL50: 切 | CM50: 切 | CN50: 切 | CO50: 切 | CP50: 切 | CQ50: 切 | CR50: 切 | CS50: 切 | CT50: 切 | CU50: 切 | CV50: 切 | CW50: 切 | CX50: 切 | CY50: 切 | CZ50: 切 | DA50: 切
D51: ﾌｨｰﾄﾞ | E51: スリット刃 | H51: － | K51: ﾊﾟﾗ40 | L51: ｱｳﾄﾌｨｰﾄﾞｽﾘｯﾄ刃 | M51: - | N51: - | O51: - | P51: - | Q51: - | R51: - | S51: - | T51: - | U51: - | V51: - | W51: - | X51: - | Y51: - | Z51: - | AA51: - | AB51: - | AC51: - | AD51: - | AE51: - | AF51: - | AG51: - | AH51: - | AI51: - | AJ51: - | AK51: - | AL51: - | AM51: - | AN51: - | AO51: - | AP51: - | AQ51: - | AR51: - | AS51: - | AT51: - | AU51: - | AV51: - | AW51: - | AX51: - | AY51: - | AZ51: - | BA51: - | BB51: - | BC51: - | BD51: - | BE51: - | BF51: - | BG51: - | BH51: - | BI51: - | BJ51: - | BK51: - | BL51: - | BM51: - | BN51: - | BO51: - | BP51: - | BQ51: - | BR51: - | BS51: - | BT51: - | BU51: - | BV51: - | BW51: - | BX51: - | BY51: - | BZ51: - | CA51: - | CB51: - | CC51: - | CD51: - | CE51: - | CF51: - | CG51: - | CH51: - | CI51: - | CJ51: - | CK51: - | CL51: - | CM51: - | CN51: - | CO51: - | CP51: - | CQ51: - | CR51: - | CS51: - | CT51: - | CU51: - | CV51: - | CW51: - | CX51: - | CY51: - | CZ51: - | DA51: -
E52: 方 向 | H52: 上巻取(コート内巻) | K52: ﾊﾟﾗ41 | L52: 巻取方向（巻方向/ｺｰﾄ面） | M52: 上巻/ｺｰﾄ内 | N52: 上巻/ｺｰﾄ内 | O52: 上巻/ｺｰﾄ内 | P52: 上巻/ｺｰﾄ内 | Q52: 上巻/ｺｰﾄ内 | R52: 上巻/ｺｰﾄ内 | S52: 上巻/ｺｰﾄ内 | T52: 上巻/ｺｰﾄ内 | U52: 上巻/ｺｰﾄ内 | V52: 上巻/ｺｰﾄ内 | W52: 上巻/ｺｰﾄ内 | X52: 上巻/ｺｰﾄ内 | Y52: 上巻/ｺｰﾄ内 | Z52: 上巻/ｺｰﾄ内 | AA52: 上巻/ｺｰﾄ内 | AB52: 上巻/ｺｰﾄ内 | AC52: 上巻/ｺｰﾄ内 | AD52: 上巻/ｺｰﾄ内 | AE52: 上巻/ｺｰﾄ内 | AF52: 上巻/ｺｰﾄ内 | AG52: 上巻/ｺｰﾄ内 | AH52: 上巻/ｺｰﾄ内 | AI52: 上巻/ｺｰﾄ内 | AJ52: 上巻/ｺｰﾄ内 | AK52: 上巻/ｺｰﾄ内 | AL52: 上巻/ｺｰﾄ内 | AM52: 上巻/ｺｰﾄ内 | AN52: 上巻/ｺｰﾄ内 | AO52: 上巻/ｺｰﾄ内 | AP52: 上巻/ｺｰﾄ内 | AQ52: 上巻/ｺｰﾄ内 | AR52: 上巻/ｺｰﾄ内 | AS52: 上巻/ｺｰﾄ内 | AT52: 上巻/ｺｰﾄ内 | AU52: 上巻/ｺｰﾄ内 | AV52: 上巻/ｺｰﾄ内 | AW52: 上巻/ｺｰﾄ内 | AX52: 上巻/ｺｰﾄ内 | AY52: 上巻/ｺｰﾄ内 | AZ52: 上巻/ｺｰﾄ内 | BA52: 上巻/ｺｰﾄ内 | BB52: 上巻/ｺｰﾄ内 | BC52: 上巻/ｺｰﾄ内 | BD52: 上巻/ｺｰﾄ内 | BE52: 上巻/ｺｰﾄ内 | BF52: 上巻/ｺｰﾄ内 | BG52: 上巻/ｺｰﾄ内 | BH52: 上巻/ｺｰﾄ内 | BI52: 上巻/ｺｰﾄ内 | BJ52: 上巻/ｺｰﾄ内 | BK52: 上巻/ｺｰﾄ内 | BL52: 上巻/ｺｰﾄ内 | BM52: 上巻/ｺｰﾄ内 | BN52: 上巻/ｺｰﾄ内 | BO52: 上巻/ｺｰﾄ内 | BP52: 上巻/ｺｰﾄ内 | BQ52: 上巻/ｺｰﾄ内 | BR52: 上巻/ｺｰﾄ内 | BS52: 上巻/ｺｰﾄ内 | BT52: 上巻/ｺｰﾄ内 | BU52: 上巻/ｺｰﾄ内 | BV52: 上巻/ｺｰﾄ内 | BW52: 上巻/ｺｰﾄ内 | BZ52: 上巻/ｺｰﾄ内 | CA52: 上巻/ｺｰﾄ内 | CB52: 上巻/ｺｰﾄ内 | CF52: 上巻/ｺｰﾄ内 | CG52: 上巻/ｺｰﾄ内 | CH52: 上巻/ｺｰﾄ内 | CI52: 上巻/ｺｰﾄ内 | CJ52: 上巻/ｺｰﾄ内 | CK52: 上巻/ｺｰﾄ内 | CL52: 上巻/ｺｰﾄ内 | CM52: 上巻/ｺｰﾄ内 | CN52: 上巻/ｺｰﾄ内 | CO52: 上巻/ｺｰﾄ内 | CP52: 上巻/ｺｰﾄ内 | CQ52: 上巻/ｺｰﾄ内 | CR52: 上巻/ｺｰﾄ内 | CS52: 上巻/ｺｰﾄ内 | CT52: 上巻/ｺｰﾄ内 | CU52: 上巻/ｺｰﾄ内 | CV52: 上巻/ｺｰﾄ内 | CW52: 上巻/ｺｰﾄ内 | CX52: 上巻/ｺｰﾄ内 | CY52: 上巻/ｺｰﾄ内 | CZ52: 上巻/ｺｰﾄ内 | DA52: 上巻/ｺｰﾄ内
D53: 巻取 | E53: スプライスモード | H53: 切 | K53: ﾊﾟﾗ42 | L53: 巻取ｽﾌﾟﾗｲｽﾓｰﾄﾞ | M53: 切 | N53: 切 | O53: 切 | P53: 切 | Q53: 切 | R53: 切 | S53: 切 | T53: 切 | U53: 切 | V53: 切 | W53: 切 | X53: 切 | Y53: 切 | Z53: 切 | AA53: 切 | AB53: 切 | AC53: 切 | AD53: 切 | AE53: 切 | AF53: 切 | AG53: 切 | AH53: 切 | AI53: 切 | AJ53: 切 | AK53: 切 | AL53: 切 | AM53: 切 | AN53: 切 | AO53: 切 | AP53: 切 | AQ53: 切 | AR53: 切 | AS53: 切 | AT53: 切 | AU53: 切 | AV53: 切 | AW53: 切 | AX53: 切 | AY53: 切 | AZ53: 切 | BA53: 切 | BB53: 切 | BC53: 切 | BD53: 切 | BE53: 切 | BF53: 切 | BG53: 切 | BH53: 切 | BI53: 切 | BJ53: 切 | BK53: 切 | BL53: 切 | BM53: 切 | BN53: 切 | BO53: 切 | BP53: 切 | BQ53: 切 | BR53: 切 | BS53: 切 | BT53: 切 | BU53: 切 | BV53: 切 | BW53: 切 | BX53: 切 | BY53: 切 | BZ53: 切 | CA53: 切 | CB53: 切 | CC53: 切 | CD53: 切 | CE53: 切 | CF53: 切 | CG53: 切 | CH53: 切 | CI53: 切 | CJ53: 切 | CK53: 切 | CL53: 切 | CM53: 切 | CN53: 切 | CO53: 切 | CP53: 切 | CQ53: 切 | CR53: 切 | CS53: 切 | CT53: 切 | CU53: 切 | CV53: 切 | CW53: 切 | CX53: 切 | CY53: 切 | CZ53: 切 | DA53: 切
E54: 巻取コア | H54: ６インチＦＷＰ | K54: ﾊﾟﾗ43 | L54: 巻取ｺｱ 径(ｲﾝﾁ)/材質 | M54: 6/FWP | N54: 6/FWP | O54: 6/FWP | P54: 6/FWP | Q54: 6/FWP | R54: 6/FWP | S54: 6/FWP | T54: 6/FWP | U54: 6/FWP | V54: 6/FWP | W54: 6/FWP | X54: 6/FWP | Y54: 6/FWP | Z54: 6/FWP | AA54: 6/FWP | AB54: 6/FWP | AC54: 6/FWP | AD54: 6/FWP | AE54: 6/FWP | AF54: 6/FWP | AG54: 国内：6/FWP 輸出：6/ABS | AH54: 国内：6/FWP 輸出：6/ABS | AI54: 6/FWP | AJ54: 6/FWP | AK54: 6/FWP | AL54: 6/FWP | AM54: 6/FWP | AN54: 6/FWP | AO54: 6/FWP | AP54: 6/FWP | AQ54: 6/FWP | AR54: 6/FWP | AS54: 6/FWP | AT54: 6/FWP | AU54: 6/FWP | AV54: 6/FWP | AW54: 6/FWP | AX54: 6/FWP | AY54: 6/FWP | AZ54: 6/FWP | BA54: 6/FWP | BB54: 6/FWP | BC54: 6/FWP | BD54: 6/FWP | BE54: 6/FWP | BF54: 6/FWP | BG54: 6/FWP | BH54: 6/FWP | BI54: 6/FWP | BJ54: 6/FWP | BK54: 6/FWP | BL54: 6/FWP | BM54: 6/FWP | BN54: 6/FWP | BO54: 6/FWP | BP54: 6/FWP | BQ54: 6/FWP | BR54: 6/FWP | BS54: 6/FWP | BT54: 6/FWP | BU54: 6/FWP | BV54: 6/FWP | BW54: 6/FWP | BX54: 6/FWP | BY54: 6/FWP | BZ54: 6/FWP | CA54: 6/FWP | CB54: 6/FWP | CC54: 6/FWP | CD54: 6/FWP | CE54: 6/FWP | CF54: 6/FWP | CG54: 6/FWP | CH54: 6/FWP | CI54: 6/FWP | CJ54: 6/FWP | CK54: 6/FWP | CL54: 6/FWP | CM54: 6/FWP | CN54: 6/FWP | CO54: 6/FWP | CP54: 6/FWP | CQ54: 6/FWP | CR54: 6/FWP | CS54: 6/FWP | CT54: 6/FWP | CU54: 6/FWP | CV54: 6/FWP | CW54: 6/FWP | CX54: 国内：6/FWP 輸出：6/ABS | CY54: 6/FWP(Kコア) | CZ54: 6/FWP | DA54: 6/FWP
C55: 張力設定 | D55: 繰 出 | H55: ２２.０±２×１０N | K55: ﾊﾟﾗ44 | L55: 繰出張力(×10N) | M55: 23 | N55: 23 | O55: 23 | P55: 23 | Q55: 23 | R55: 23 | S55: 23 | T55: 23 | U55: 23 | V55: 23 | W55: 20 | X55: 23 | Y55: 23 | Z55: 23 | AA55: 23 | AB55: 23 | AC55: 23 | AD55: 23 | AE55: 23 | AG55: 23 | AH55: 23 | AI55: 23 | AJ55: 23 | AK55: 23 | AL55: 23 | AM55: 23 | AN55: 23 | AO55: 23 | AP55: 23 | AQ55: 23 | AR55: 23 | AS55: 23 | AT55: 23 | AU55: 23 | AV55: 23 | AW55: 23 | AX55: 23 | AY55: 23 | AZ55: 23 | BA55: 23 | BB55: 23 | BC55: 23 | BD55: 23 | BE55: 23 | BF55: 23 | BG55: 23 | BH55: 23 | BI55: 23 | BJ55: 23 | BK55: 20 | BL55: 23 | BM55: 23 | BN55: 23 | BO55: 23 | BP55: 23 | BQ55: 23 | BR55: 23 | BS55: 23 | BT55: 23 | BU55: 23 | BV55: 23 | BW55: 22 | BX55: 23 | BZ55: 23 | CA55: 23 | CB55: 23 | CE55: 23 | CF55: 23 | CG55: 23 | CH55: 23 | CI55: 23 | CJ55: 23 | CK55: 23 | CL55: 23 | CM55: 23 | CN55: 23 | CO55: 23 | CP55: 23 | CQ55: 23 | CR55: 23 | CS55: 23 | CT55: 23 | CU55: 23 | CV55: 23 | CW55: 23 | CX55: 23 | CY55: 23 | CZ55: 23 | DA55: 23
D56: No.1 | E56: インフィード | H56: １６.０±２×１０N | K56: ﾊﾟﾗ45 | L56: No.1ｲﾝﾌｨｰﾄﾞ張力(×10N) | M56: 14 | N56: 16 | O56: 16 | P56: 16 | Q56: 14 | R56: 14 | S56: 14 | T56: 16 | U56: 14 | V56: 16 | W56: 13 | X56: 14 | Y56: 18 | Z56: 18 | AA56: 18 | AB56: 18 | AC56: 18 | AD56: 14 | AE56: 14 | AG56: 14 | AH56: 14 | AI56: 14 | AJ56: 14 | AK56: 14 | AL56: 14 | AM56: 14 | AN56: 14 | AO56: 14 | AP56: 14 | AQ56: 14 | AR56: 14 | AS56: 14 | AT56: 14 | AU56: 14 | AV56: 14 | AW56: 14 | AX56: 14 | AY56: 14 | AZ56: 14 | BA56: 14 | BB56: 14 | BC56: 14 | BD56: 14 | BE56: 14 | BF56: 14 | BG56: 16 | BH56: 14 | BI56: 14 | BJ56: 14 | BK56: 13 | BL56: 14 | BM56: 14 | BN56: 16 | BO56: 14 | BP56: 16 | BQ56: 16 | BR56: 14 | BS56: 14 | BT56: 16 | BU56: 14 | BV56: 16 | BW56: 16 | BX56: 14 | BZ56: 14 | CA56: 14 | CB56: 18 | CE56: 16 | CF56: 18 | CG56: 14 | CH56: 14 | CI56: 16 | CJ56: 14 | CK56: 16 | CL56: 16 | CM56: 16 | CN56: 14 | CO56: 16 | CP56: 14 | CQ56: 14 | CR56: 14 | CS56: 14 | CT56: 14 | CU56: 14 | CV56: 16 | CW56: 14 | CX56: 14 | CY56: 14 | CZ56: 14 | DA56: 14
E57: コーター | H57: － | K57: ﾊﾟﾗ46 | L57: No.1ｺｰﾀｰ張力(×10N) | M57: - | N57: - | O57: - | P57: - | Q57: - | R57: - | S57: - | T57: - | U57: - | V57: - | W57: - | X57: - | Y57: - | Z57: - | AA57: - | AB57: - | AC57: - | AD57: - | AE57: - | AF57: - | AG57: - | AH57: - | AI57: - | AJ57: - | AK57: - | AL57: - | AM57: - | AN57: - | AO57: - | AP57: - | AQ57: - | AR57: - | AS57: - | AT57: - | AU57: - | AV57: - | AW57: - | AX57: - | AY57: - | AZ57: - | BA57: - | BB57: - | BC57: - | BD57: - | BE57: - | BF57: - | BG57: - | BH57: - | BI57: - | BJ57: - | BK57: - | BL57: - | BM57: - | BN57: - | BO57: - | BP57: - | BQ57: - | BR57: - | BS57: - | BT57: - | BU57: - | BV57: - | BW57: - | BX57: - | BZ57: - | CA57: - | CB57: - | CE57: - | CF57: - | CG57: - | CH57: - | CI57: - | CJ57: - | CK57: - | CL57: - | CM57: - | CN57: - | CO57: - | CP57: - | CQ57: - | CR57: - | CS57: - | CT57: - | CU57: - | CV57: - | CW57: - | CX57: - | CY57: - | CZ57: - | DA57: -
E58: 乾燥機内 | H58: １０.０±２×１０N | K58: ﾊﾟﾗ47 | L58: No.1乾燥機内張力(×10N) | M58: 10 | N58: 10 | O58: 10 | P58: 10 | Q58: 10 | R58: 10 | S58: 10 | T58: 10 | U58: 10 | V58: 10 | W58: 9 | X58: 10 | Y58: 13 | Z58: 13 | AA58: 13 | AB58: 13 | AC58: 13 | AD58: 10 | AE58: 10 | AG58: 10 | AH58: 10 | AI58: 10 | AJ58: 10 | AK58: 10 | AL58: 10 | AM58: 10 | AN58: 10 | AO58: 10 | AP58: 10 | AQ58: 12 | AR58: 10 | AS58: 10 | AT58: 10 | AU58: 10 | AV58: 10 | AW58: 10 | AX58: 10 | AY58: 10 | AZ58: 10 | BA58: 10 | BB58: 10 | BC58: 10 | BD58: 10 | BE58: 10 | BF58: 10 | BG58: 10 | BH58: 10 | BI58: 10 | BJ58: 10 | BK58: 10 | BL58: 10 | BM58: 10 | BN58: 10 | BO58: 10 | BP58: 10 | BQ58: 10 | BR58: 10 | BS58: 10 | BT58: 10 | BU58: 10 | BV58: 10 | BW58: 10 | BX58: 10 | BZ58: 10 | CA58: 10 | CB58: 13 | CE58: 10 | CF58: 13 | CG58: 10 | CH58: 10 | CI58: 10 | CJ58: 10 | CK58: 10 | CL58: 10 | CM58: 10 | CN58: 10 | CO58: 10 | CP58: 10 | CQ58: 10 | CR58: 10 | CS58: 10 | CT58: 10 | CU58: 10 | CV58: 10 | CW58: 10 | CX58: 10 | CY58: 10 | CZ58: 10 | DA58: 10
E59: 冷 却 | H59: １１.０±２×１０N | K59: ﾊﾟﾗ48 | L59: No.1冷却張力(×10N) | M59: 11 | N59: 11 | O59: 11 | P59: 11 | Q59: 11 | R59: 11 | S59: 11 | T59: 11 | U59: 11 | V59: 11 | W59: 9 | X59: 11 | Y59: 15 | Z59: 15 | AA59: 15 | AB59: 15 | AC59: 15 | AD59: 11 | AE59: 11 | AG59: 11 | AH59: 11 | AI59: 11 | AJ59: 11 | AK59: 11 | AL59: 11 | AM59: 11 | AN59: 11 | AO59: 11 | AP59: 11 | AQ59: 15 | AR59: 11 | AS59: 11 | AT59: 11 | AU59: 11 | AV59: 11 | AW59: 11 | AX59: 11 | AY59: 11 | AZ59: 11 | BA59: 11 | BB59: 11 | BC59: 11 | BD59: 11 | BE59: 11 | BF59: 11 | BG59: 11 | BH59: 11 | BI59: 11 | BJ59: 11 | BK59: 10 | BL59: 11 | BM59: 11 | BN59: 11 | BO59: 11 | BP59: 11 | BQ59: 11 | BR59: 11 | BS59: 11 | BT59: 11 | BU59: 11 | BV59: 11 | BW59: 10 | BX59: 11 | BZ59: 11 | CA59: 11 | CB59: 15 | CE59: 11 | CF59: 15 | CG59: 11 | CH59: 11 | CI59: 11 | CJ59: 11 | CK59: 11 | CL59: 11 | CM59: 11 | CN59: 11 | CO59: 11 | CP59: 11 | CQ59: 11 | CR59: 11 | CS59: 11 | CT59: 11 | CU59: 11 | CV59: 11 | CW59: 11 | CX59: 11 | CY59: 11 | CZ59: 11 | DA59: 11
D60: No.2 | E60: インフィード | H60: １３.０±２×１０N | K60: ﾊﾟﾗ49 | L60: No.2ｲﾝﾌｨｰﾄﾞ張力(×10N) | M60: 12 | N60: 13 | O60: 13 | P60: 13 | Q60: 12 | R60: 12 | S60: 12 | T60: 13 | U60: 12 | V60: 13 | W60: 13 | X60: 12 | Y60: 20 | Z60: 20 | AA60: 20 | AB60: 20 | AC60: 20 | AD60: 12 | AE60: 12 | AG60: 12 | AH60: 12 | AI60: 12 | AJ60: 12 | AK60: 12 | AL60: 12 | AM60: 12 | AN60: 12 | AO60: 12 | AP60: 12 | AQ60: 16 | AR60: 12 | AS60: 12 | AT60: 12 | AU60: 12 | AV60: 12 | AW60: 12 | AX60: 12 | AY60: 12 | AZ60: 12 | BA60: 12 | BB60: 12 | BC60: 12 | BD60: 12 | BE60: 12 | BF60: 12 | BG60: 13 | BH60: 12 | BI60: 12 | BJ60: 12 | BK60: 13 | BL60: 12 | BM60: 12 | BN60: 13 | BO60: 12 | BP60: 13 | BQ60: 13 | BR60: 12 | BS60: 12 | BT60: 13 | BU60: 12 | BV60: 13 | BW60: 13 | BX60: 12 | BZ60: 12 | CA60: 12 | CB60: 20 | CE60: 13 | CF60: 20 | CG60: 12 | CH60: 12 | CI60: 13 | CJ60: 12 | CK60: 13 | CL60: 13 | CM60: 13 | CN60: 12 | CO60: 13 | CP60: 12 | CQ60: 12 | CR60: 12 | CS60: 12 | CT60: 12 | CU60: 12 | CV60: 13 | CW60: 12 | CX60: 12 | CY60: 12 | CZ60: 12 | DA60: 12
E61: コーター | H61: － | K61: ﾊﾟﾗ50 | L61: No.2ｺｰﾀｰ張力(×10N) | M61: - | N61: - | O61: - | P61: - | Q61: - | R61: - | S61: - | T61: - | U61: - | V61: - | W61: - | X61: - | Y61: - | Z61: - | AA61: - | AB61: - | AC61: - | AD61: - | AE61: - | AF61: - | AG61: - | AH61: - | AI61: - | AJ61: - | AK61: - | AL61: - | AM61: - | AN61: - | AO61: - | AP61: - | AQ61: - | AR61: - | AS61: - | AT61: - | AU61: - | AV61: - | AW61: - | AX61: - | AY61: - | AZ61: - | BA61: - | BB61: - | BC61: - | BD61: - | BE61: - | BF61: - | BG61: - | BH61: - | BI61: - | BJ61: - | BK61: - | BL61: - | BM61: - | BN61: - | BO61: - | BP61: - | BQ61: - | BR61: - | BS61: - | BT61: - | BU61: - | BV61: - | BW61: - | BX61: - | BZ61: - | CA61: - | CB61: - | CE61: - | CF61: - | CG61: - | CH61: - | CI61: - | CJ61: - | CK61: - | CL61: - | CM61: - | CN61: - | CO61: - | CP61: - | CQ61: - | CR61: - | CS61: - | CT61: - | CU61: - | CV61: - | CW61: - | CX61: - | CY61: - | CZ61: - | DA61: -
E62: 乾燥機内 | H62: ６．０±２×１０N | K62: ﾊﾟﾗ51 | L62: No.2乾燥機内張力(×10N) | M62: 16 | N62: 11 | O62: 10 | P62: 10 | Q62: 15 | R62: 15 | S62: 15 | T62: 11 | U62: 15 | V62: 10 | W62: 9 | X62: 16 | Y62: 13 | Z62: 13 | AA62: 13 | AB62: 21 | AC62: 21 | AD62: 16 | AE62: 16 | AG62: 11 | AH62: 11 | AI62: 11 | AJ62: 11 | AK62: 11 | AL62: 11 | AM62: 11 | AN62: 11 | AO62: 11 | AP62: 11 | AQ62: 20 | AR62: 11 | AS62: 11 | AT62: 15 | AU62: 15 | AV62: 15 | AW62: 15 | AX62: 11 | AY62: 18 | AZ62: 18 | BA62: 18 | BB62: 18 | BC62: 18 | BD62: 18 | BE62: 18 | BF62: 18 | BG62: 10 | BH62: 16 | BI62: 16 | BJ62: 16 | BK62: 16 | BL62: 16 | BM62: 16 | BN62: 6.5 | BO62: 10 | BP62: 7 | BQ62: 7 | BR62: 12 | BS62: 12 | BT62: 7 | BU62: 15 | BV62: 10 | BW62: 7 | BX62: 16 | BZ62: 16 | CA62: 16 | CB62: 21 | CE62: 10 | CF62: 21 | CG62: 16 | CH62: 16 | CI62: 10 | CJ62: 16 | CK62: 10 | CL62: 7 | CM62: 7 | CN62: 16 | CO62: 10 | CP62: 12 | CQ62: 16 | CR62: 16 | CS62: 16 | CT62: 16 | CU62: 16 | CV62: 7 | CW62: 11 | CX62: 11 | CY62: 16 | CZ62: 16 | DA62: 18
E63: 冷却部 | H63: － | K63: ﾊﾟﾗ52 | L63: No.2冷却部張力(×10N) | M63: - | N63: - | O63: - | P63: - | Q63: - | R63: - | S63: - | T63: - | U63: - | V63: - | W63: - | X63: - | Y63: - | Z63: - | AA63: - | AB63: - | AC63: - | AD63: - | AE63: - | AF63: - | AG63: - | AH63: - | AI63: - | AJ63: - | AK63: - | AL63: - | AM63: - | AN63: - | AO63: - | AP63: - | AQ63: - | AR63: - | AT63: - | AU63: - | AV63: - | AW63: - | AX63: - | AY63: - | AZ63: - | BA63: - | BB63: - | BC63: - | BD63: - | BE63: - | BF63: - | BG63: - | BH63: - | BI63: - | BJ63: - | BK63: - | BL63: - | BM63: - | BN63: - | BO63: - | BP63: - | BQ63: - | BR63: - | BS63: - | BT63: - | BU63: - | BV63: - | BW63: - | BX63: - | BZ63: - | CA63: - | CB63: - | CE63: - | CF63: - | CG63: - | CH63: - | CI63: - | CJ63: - | CK63: - | CL63: - | CM63: - | CN63: - | CO63: - | CP63: - | CQ63: - | CR63: - | CS63: - | CT63: - | CU63: - | CV63: - | CW63: - | CX63: - | CY63: - | CZ63: - | DA63: -
D64: アウトフィード | H64: ２３.０±２×１０N | K64: ﾊﾟﾗ53 | L64: ｱｳﾄﾌｨｰﾄﾞ張力(×10N) | M64: 24 | N64: 24 | O64: 24 | P64: 24 | Q64: 24 | R64: 24 | S64: 24 | T64: 24 | U64: 18 | V64: 24 | W64: 24 | X64: 24 | Y64: 24 | Z64: 24 | AA64: 24 | AB64: 24 | AC64: 24 | AD64: 24 | AE64: 24 | AG64: 24 | AH64: 24 | AI64: 24 | AJ64: 24 | AK64: 18 | AL64: 18 | AM64: 18 | AN64: 24 | AO64: 24 | AP64: 24 | AQ64: 24 | AR64: 24 | AS64: 24 | AT64: 18 | AU64: 24 | AV64: 24 | AW64: 24 | AX64: 24 | AY64: 24 | AZ64: 24 | BA64: 24 | BB64: 24 | BC64: 24 | BD64: 24 | BE64: 24 | BF64: 24 | BG64: 24 | BH64: 24 | BI64: 24 | BJ64: 24 | BK64: 24 | BL64: 24 | BM64: 24 | BN64: 24 | BO64: 24 | BP64: 24 | BQ64: 24 | BR64: 24 | BS64: 24 | BT64: 24 | BU64: 24 | BV64: 24 | BW64: 24 | BX64: 24 | BZ64: 24 | CA64: 24 | CB64: 24 | CE64: 24 | CF64: 24 | CG64: 24 | CH64: 24 | CI64: 24 | CJ64: 24 | CK64: 24 | CL64: 24 | CM64: 24 | CN64: 24 | CO64: 24 | CP64: 24 | CQ64: 24 | CR64: 24 | CS64: 24 | CT64: 24 | CU64: 18 | CV64: 24 | CW64: 24 | CX64: 24 | CY64: 24 | CZ64: 24 | DA64: 24
D65: 巻 取 | H65: ２６.０±２×１０N | K65: ﾊﾟﾗ54 | L65: 巻取張力(×10N) | M65: 23 | N65: 23 | O65: 23 | P65: 23 | Q65: 23 | R65: 23 | S65: 23 | T65: 23 | U65: 15 | V65: 23 | W65: 24 | X65: 23 | Y65: 26 | Z65: 26 | AA65: 26 | AB65: 27 | AC65: 27 | AD65: 23 | AE65: 23 | AG65: 23 | AH65: 23 | AI65: 23 | AJ65: 23 | AK65: 15 | AL65: 15 | AM65: 15 | AN65: 23 | AO65: 23 | AP65: 23 | AQ65: 26 | AR65: 23 | AS65: 23 | AT65: 15 | AU65: 23 | AV65: 23 | AW65: 23 | AX65: 23 | AY65: 23 | AZ65: 23 | BA65: 23 | BB65: 23 | BC65: 23 | BD65: 23 | BE65: 23 | BF65: 23 | BG65: 23 | BH65: 23 | BI65: 23 | BJ65: 23 | BK65: 24 | BL65: 23 | BM65: 23 | BN65: 23 | BO65: 23 | BP65: 23 | BQ65: 23 | BR65: 24 | BS65: 26 | BT65: 26 | BU65: 24 | BV65: 23 | BW65: 24 | BX65: 23 | BZ65: 23 | CA65: 23 | CB65: 27 | CE65: 23 | CF65: 27 | CG65: 23 | CH65: 23 | CI65: 23 | CJ65: 23 | CK65: 23 | CL65: 23 | CM65: 23 | CN65: 23 | CO65: 23 | CP65: 23 | CQ65: 23 | CR65: 23 | CS65: 23 | CT65: 23 | CU65: 15 | CV65: 23 | CW65: 23 | CX65: 23 | CY65: 23 | CZ65: 23 | DA65: 23
C66: 巻取設定 | D66: 巻取テーパー | H66: ２０％ | K66: ﾊﾟﾗ55 | L66: 巻取ﾃｰﾊﾟｰ(%) | M66: 20 | N66: 20 | O66: 20 | P66: 20 | Q66: 20 | R66: 20 | S66: 20 | T66: 20 | U66: 20 | V66: 20 | W66: 20 | X66: 20 | Y66: 20 | Z66: 20 | AA66: 20 | AB66: 20 | AC66: 20 | AD66: 20 | AE66: 20 | AF66: 20 | AG66: 20 | AH66: 20 | AI66: 20 | AJ66: 20 | AK66: 20 | AL66: 20 | AM66: 20 | AN66: 20 | AO66: 20 | AP66: 20 | AQ66: 20 | AR66: 20 | AS66: 20 | AT66: 20 | AU66: 20 | AV66: 20 | AW66: 20 | AX66: 20 | AY66: 20 | AZ66: 20 | BA66: 20 | BB66: 20 | BC66: 20 | BD66: 20 | BE66: 20 | BF66: 20 | BG66: 20 | BH66: 20 | BI66: 20 | BJ66: 20 | BK66: 20 | BL66: 20 | BM66: 20 | BN66: 20 | BO66: 20 | BP66: 20 | BQ66: 20 | BR66: 20 | BS66: 20 | BT66: 20 | BU66: 20 | BV66: 20 | BW66: 20 | BX66: 20 | BY66: 20 | BZ66: 20 | CA66: 20 | CB66: 20 | CC66: 20 | CD66: 20 | CE66: 20 | CF66: 20 | CG66: 20 | CH66: 20 | CI66: 20 | CJ66: 20 | CK66: 20 | CL66: 20 | CM66: 20 | CN66: 20 | CO66: 20 | CP66: 20 | CQ66: 20 | CR66: 20 | CS66: 20 | CT66: 20 | CU66: 20 | CV66: 20 | CW66: 20 | CX66: 20 | CY66: 20 | CZ66: 20 | DA66: 20
D67: タッチロール圧 | H67: ０.３８±０.０５MPa | K67: ﾊﾟﾗ56 | L67: ﾀｯﾁﾛｰﾙ圧(Mpa) | M67: 0.38 | N67: 0.38 | O67: 0.38 | P67: 0.38 | Q67: 0.38 | R67: 0.38 | S67: 0.38 | T67: 0.38 | U67: 0.3 | V67: 0.38 | W67: 0.38 | X67: 0.38 | Y67: 0.38 | Z67: 0.38 | AA67: 0.38 | AB67: 0.45 | AC67: 0.45 | AD67: 0.38 | AE67: 0.38 | AF67: 0.38 | AG67: 0.35 | AH67: 0.38 | AI67: 0.35 | AJ67: 0.35 | AK67: 0.3 | AL67: 0.3 | AM67: 0.3 | AN67: 0.38 | AO67: 0.38 | AP67: 0.38 | AQ67: 0.38 | AR67: 0.38 | AS67: 0.38 | AT67: 0.3 | AU67: 0.38 | AV67: 0.38 | AW67: 0.38 | AX67: 0.38 | AY67: 0.38 | AZ67: 0.38 | BA67: 0.38 | BB67: 0.38 | BC67: 0.38 | BD67: 0.38 | BE67: 0.38 | BF67: 0.38 | BG67: 0.38 | BH67: 0.38 | BI67: 0.38 | BJ67: 0.38 | BK67: 0.38 | BL67: 0.38 | BM67: 0.38 | BN67: 0.38 | BO67: 0.38 | BP67: 0.38 | BQ67: 0.38 | BR67: 0.38 | BS67: 0.38 | BT67: 0.38 | BU67: 0.38 | BV67: 0.38 | BW67: 0.38 | BX67: 0.38 | BY67: 0.38 | BZ67: 0.38 | CA67: 0.38 | CB67: 0.45 | CC67: 0.38 | CD67: 0.38 | CE67: 0.38 | CF67: 0.45 | CG67: 0.38 | CH67: 0.38 | CI67: 0.38 | CJ67: 0.38 | CK67: 0.38 | CL67: 0.38 | CM67: 0.38 | CN67: 0.38 | CO67: 0.38 | CP67: 0.38 | CQ67: 0.38 | CR67: 0.38 | CS67: 0.38 | CT67: 0.38 | CU67: 0.3 | CV67: 0.38 | CW67: 0.38 | CX67: 0.35 | CY67: 0.38 | CZ67: 0.38 | DA67: 0.38
D68: ニアーロール制御 | H68: タッチ | K68: ﾊﾟﾗ57 | L68: ﾆｱｰﾛｰﾙ制御 | M68: ﾀｯﾁ | N68: ﾀｯﾁ | O68: ﾀｯﾁ | P68: ﾀｯﾁ | Q68: ﾀｯﾁ | R68: ﾀｯﾁ | S68: ﾀｯﾁ | T68: ﾀｯﾁ | U68: ﾀｯﾁ | V68: ﾀｯﾁ | W68: ﾀｯﾁ | X68: ﾀｯﾁ | Y68: ﾀｯﾁ | Z68: ﾀｯﾁ | AA68: ﾀｯﾁ | AB68: ﾀｯﾁ | AC68: ﾀｯﾁ | AD68: ﾀｯﾁ | AE68: ﾀｯﾁ | AF68: ﾀｯﾁ | AG68: ﾀｯﾁ | AH68: ﾀｯﾁ | AI68: ﾀｯﾁ | AJ68: ﾀｯﾁ | AK68: ﾀｯﾁ | AL68: ﾀｯﾁ | AM68: ﾀｯﾁ | AN68: ﾀｯﾁ | AO68: ﾀｯﾁ | AP68: ﾀｯﾁ | AQ68: ﾀｯﾁ | AR68: ﾀｯﾁ | AS68: ﾀｯﾁ | AT68: ﾀｯﾁ | AU68: ﾀｯﾁ | AV68: ﾀｯﾁ | AW68: ﾀｯﾁ | AX68: ﾀｯﾁ | AY68: ﾀｯﾁ | AZ68: ﾀｯﾁ | BA68: ﾀｯﾁ | BB68: ﾀｯﾁ | BC68: ﾀｯﾁ | BD68: ﾀｯﾁ | BE68: ﾀｯﾁ | BF68: ﾀｯﾁ | BG68: ﾀｯﾁ | BH68: ﾀｯﾁ | BI68: ﾀｯﾁ | BJ68: ﾀｯﾁ | BK68: ﾀｯﾁ | BL68: ﾀｯﾁ | BM68: ﾀｯﾁ | BN68: ﾀｯﾁ | BO68: ﾀｯﾁ | BP68: ﾀｯﾁ | BQ68: ﾀｯﾁ | BR68: ﾀｯﾁ | BS68: ﾀｯﾁ | BT68: ﾀｯﾁ | BU68: ﾀｯﾁ | BV68: ﾀｯﾁ | BW68: ﾀｯﾁ | BX68: ﾀｯﾁ | BZ68: ﾀｯﾁ | CA68: ﾀｯﾁ | CB68: ﾀｯﾁ | CE68: ﾀｯﾁ | CF68: ﾀｯﾁ | CG68: ﾀｯﾁ | CH68: ﾀｯﾁ | CI68: ﾀｯﾁ | CJ68: ﾀｯﾁ | CK68: ﾀｯﾁ | CL68: ﾀｯﾁ | CM68: ﾀｯﾁ | CN68: ﾀｯﾁ | CO68: ﾀｯﾁ | CP68: ﾀｯﾁ | CQ68: ﾀｯﾁ | CR68: ﾀｯﾁ | CS68: ﾀｯﾁ | CT68: ﾀｯﾁ | CU68: ﾀｯﾁ | CV68: ﾀｯﾁ | CW68: ﾀｯﾁ | CX68: ﾀｯﾁ | CY68: ﾀｯﾁ | CZ68: ﾀｯﾁ | DA68: ﾀｯﾁ
D69: ニアーロール圧 (紙継６００Ｎタッチ) | H69: １２０±５Ｎ | K69: ﾊﾟﾗ58 | L69: ﾆｱｰﾛｰﾙ圧(N) (紙継６００Ｎタッチ) | M69: 120 | N69: 120 | O69: 120 | P69: 120 | Q69: 120 | R69: 120 | S69: 120 | T69: 120 | U69: 120 | V69: 120 | W69: 120 | X69: 120 | Y69: 120 | Z69: 120 | AA69: 120 | AB69: 120 | AC69: 120 | AD69: 120 | AE69: 120 | AF69: 120 | AG69: 120 | AH69: 120 | AI69: 120 | AJ69: 120 | AK69: 120 | AL69: 120 | AM69: 120 | AN69: 120 | AO69: 120 | AP69: 120 | AQ69: 120 | AR69: 120 | AS69: 120 | AT69: 120 | AU69: 120 | AV69: 120 | AW69: 120 | AX69: 120 | AY69: 120 | AZ69: 120 | BA69: 120 | BB69: 120 | BC69: 120 | BD69: 120 | BE69: 120 | BF69: 120 | BG69: 120 | BH69: 120 | BI69: 120 | BJ69: 120 | BK69: 120 | BL69: 120 | BM69: 120 | BN69: 120 | BO69: 120 | BP69: 120 | BQ69: 120 | BR69: 120 | BS69: 120 | BT69: 120 | BU69: 120 | BV69: 120 | BW69: 120 | BX69: 120 | BY69: 120 | BZ69: 120 | CA69: 120 | CB69: 120 | CC69: 120 | CD69: 120 | CE69: 120 | CF69: 120 | CG69: 120 | CH69: 120 | CI69: 120 | CJ69: 120 | CK69: 120 | CL69: 120 | CM69: 120 | CN69: 120 | CO69: 120 | CP69: 120 | CQ69: 120 | CR69: 120 | CS69: 120 | CT69: 120 | CU69: 120 | CV69: 120 | CW69: 120 | CX69: 120 | CY69: 120 | CZ69: 120 | DA69: 120
D70: ニアーテーパー | H70: １０％ | K70: ﾊﾟﾗ59 | L70: ﾆｱｰﾃｰﾊﾟｰ(%) | M70: 10 | N70: 10 | O70: 10 | P70: 10 | Q70: 10 | R70: 10 | S70: 10 | T70: 10 | U70: 10 | V70: 10 | W70: 10 | X70: 10 | Y70: 10 | Z70: 10 | AA70: 10 | AB70: 10 | AC70: 10 | AD70: 10 | AE70: 10 | AF70: 10 | AG70: 10 | AH70: 10 | AI70: 10 | AJ70: 10 | AK70: 10 | AL70: 10 | AM70: 10 | AN70: 10 | AO70: 10 | AP70: 10 | AQ70: 10 | AR70: 10 | AS70: 10 | AT70: 10 | AU70: 10 | AV70: 10 | AW70: 10 | AX70: 10 | AY70: 10 | AZ70: 10 | BA70: 10 | BB70: 10 | BC70: 10 | BD70: 10 | BE70: 10 | BF70: 10 | BG70: 10 | BH70: 10 | BI70: 10 | BJ70: 10 | BK70: 10 | BL70: 10 | BM70: 10 | BN70: 10 | BO70: 10 | BP70: 10 | BQ70: 10 | BR70: 10 | BS70: 10 | BT70: 10 | BU70: 10 | BV70: 10 | BW70: 10 | BX70: 10 | BY70: 10 | BZ70: 10 | CA70: 10 | CB70: 10 | CE70: 10 | CF70: 10 | CG70: 10 | CH70: 10 | CI70: 10 | CJ70: 10 | CK70: 10 | CL70: 10 | CM70: 10 | CN70: 10 | CO70: 10 | CP70: 10 | CQ70: 10 | CR70: 10 | CS70: 10 | CT70: 10 | CU70: 10 | CV70: 10 | CW70: 10 | CX70: 10 | CY70: 10 | CZ70: 10 | DA70: 10
C71: 乾 燥 条 件 | D71: ボイラー設定 | G71: １９０±１０℃ | K71: ﾊﾟﾗ60 | L71: ﾎﾞｲﾗｰ設定温度(℃) | M71: 190 | N71: 190 | O71: 190 | P71: 190 | Q71: 190 | R71: 190 | S71: 190 | T71: 190 | U71: 190 | V71: 190 | W71: 190 | X71: 190 | Y71: 190 | Z71: 190 | AA71: 190 | AB71: 190 | AC71: 190 | AD71: 190 | AE71: 190 | AF71: 190 | AG71: 190 | AH71: 190 | AI71: 190 | AJ71: 190 | AK71: 190 | AL71: 190 | AM71: 190 | AN71: 190 | AO71: 190 | AP71: 190 | AQ71: 190 | AR71: 190 | AS71: 190 | AT71: 190 | AU71: 190 | AV71: 190 | AW71: 190 | AX71: 190 | AY71: 190 | AZ71: 190 | BA71: 190 | BB71: 190 | BC71: 190 | BD71: 190 | BE71: 190 | BF71: 190 | BG71: 190 | BH71: 190 | BI71: 190 | BJ71: 190 | BK71: 190 | BL71: 190 | BM71: 190 | BN71: 190 | BO71: 190 | BP71: 190 | BQ71: 190 | BR71: 190 | BS71: 190 | BT71: 190 | BU71: 190 | BV71: 190 | BW71: 190 | BX71: 190 | BY71: 190 | BZ71: 190 | CA71: 190 | CB71: 190 | CC71: 190 | CD71: 190 | CE71: 190 | CF71: 190 | CG71: 190 | CH71: 190 | CI71: 190 | CJ71: 190 | CK71: 190 | CL71: 190 | CM71: 190 | CN71: 190 | CO71: 190 | CP71: 190 | CQ71: 190 | CR71: 190 | CS71: 190 | CT71: 190 | CU71: 190 | CV71: 190 | CW71: 190 | CX71: 190 | CY71: 190 | CZ71: 190 | DA71: 190
