Workbook

Sheet １，２年
A1: 成績管理表 | H1: 年 | I1: ふりがな | O1: 入塾の学年と月
F2: 中学校 | I2: 氏名 | O2: 年 月
C4: 国 | D4: 英 | E4: 数 | F4: 社 | G4: 理 | H4: ５教科合計 | I4: ５教科順位 | J4: 音 | K4: 美 | L4: 体 | M4: 技・家 | N4: 合計 | O4: 順位 | P4: 保護者印
A5: 一学年 | B5: １次考査 | O5: / | Q5: /
B6: ２次考査 | O6: / | Q6: /
B7: ３次考査 | O7: / | Q7: /
B8: ４次考査 | O8: / | Q8: /
B9: ５次考査 | O9: / | Q9: /
B10: 夏休み明けテスト | O10: / | Q10: /
B11: 冬休み明けテスト | O11: / | Q11: /
B12: 実力テスト（ 月実施） | O12: / | Q12: /
B13: 実力テスト（ 月実施） | O13: / | Q13: /
B14: 実力テスト（ 月実施） | O14: / | Q14: /
O15: / | Q15: /
O16: / | Q16: /
O17: / | Q17: /
O18: / | Q18: /
B19: 内申点 | O19: / | Q19: /
A20: 二学年 | B20: １次考査 | O20: / | Q20: /
B21: ２次考査 | O21: / | Q21: /
B22: ３次考査 | O22: / | Q22: /
B23: ４次考査 | O23: / | Q23: /
B24: ５次考査 | O24: / | Q24: /
B25: 夏休み明けテスト | O25: / | Q25: /
B26: 冬休み明けテスト | O26: / | Q26: /
B27: 実力テスト（ 月実施） | O27: / | Q27: /
B28: 実力テスト（ 月実施） | O28: / | Q28: /
B29: 実力テスト（ 月実施） | O29: / | Q29: /
O30: / | Q30: /
O31: / | Q31: /
O32: / | Q32: /
O33: / | Q33: /
B34: 内申点 | O34: / | Q34: /

Sheet ３年
A1: 成績管理表 | H1: 年 | I1: ふりがな | O1: 入塾の学年と月
F2: 中学校 | I2: 氏名 | O2: 年 月
C4: 国 | D4: 英 | E4: 数 | F4: 社 | G4: 理 | H4: ５教科合計 | I4: ５教科順位 | J4: 音 | K4: 美 | L4: 体 | M4: 技・家 | N4: 合計 | O4: 順位 | P4: 保護者印
A5: 三学年 | B5: １次考査 | O5: / | Q5: /
B6: ２次考査 | O6: / | Q6: /
B7: ３次考査 | O7: / | Q7: /
B8: ４次考査 | O8: / | Q8: /
B9: ５次考査 | O9: / | Q9: /
B10: 夏休み明けテスト | O10: / | Q10: /
B11: 冬休み明けテスト | O11: / | Q11: /
B12: 実力テスト（ 月実施） | O12: / | Q12: /
B13: 実力テスト（ 月実施） | O13: / | Q13: /
B14: 実力テスト（ 月実施） | O14: / | Q14: /
B15: 実力テスト（ 月実施） | O15: / | Q15: /
B16: 実力テスト（ 月実施） | O16: / | Q16: /
B17: 実力テスト（ 月実施） | O17: / | Q17: /
B18: 実力テスト（ 月実施） | O18: / | Q18: /
O19: / | Q19: /
O20: / | Q20: /
O21: / | Q21: /
B22: 全県テスト１回目 | O22: / | Q22: /
B23: 全県テスト２回目 | O23: / | Q23: /
B24: 全県テスト３回目 | O24: / | Q24: /
B25: 全県テスト４回目 | O25: / | Q25: /
O26: / | Q26: /
O27: / | Q27: /
O28: / | Q28: /
O29: / | Q29: /
O30: / | Q30: /
O31: / | Q31: /
O32: / | Q32: /
O33: / | Q33: /
O34: / | Q34: /

Sheet グラフ
A1: 定 期 テ ス ト 成 績 推 移 グ ラ フ | T1: 中学
B21: 国語 | C21: １次 | D21: ２次 | E21: ３次 | F21: ４次 | G21: ５次 | J21: 英語 | K21: １次 | L21: ２次 | M21: ３次 | N21: ４次 | O21: ５次 | R21: 数学 | S21: １次 | T21: ２次 | U21: ３次 | V21: ４次 | W21: ５次
B22: １年 | C22: ='１，２年'!C5 -> 0 | D22: ='１，２年'!C6 -> 0 | E22: ='１，２年'!C7 -> 0 | F22: ='１，２年'!C8 -> 0 | G22: ='１，２年'!C9 -> 0 | J22: １年 | K22: ='１，２年'!D5 -> 0 | L22: ='１，２年'!D6 -> 0 | M22: ='１，２年'!D7 -> 0 | N22: ='１，２年'!D8 -> 0 | O22: ='１，２年'!D9 -> 0 | R22: １年 | S22: ='１，２年'!E5 -> 0 | T22: ='１，２年'!E6 -> 0 | U22: ='１，２年'!E7 -> 0 | V22: ='１，２年'!E8 -> 0 | W22: ='１，２年'!E9 -> 0
B23: ２年 | C23: ='１，２年'!C20 -> 0 | D23: ='１，２年'!C21 -> 0 | E23: ='１，２年'!C22 -> 0 | F23: ='１，２年'!C23 -> 0 | G23: ='１，２年'!C24 -> 0 | J23: ２年 | K23: ='１，２年'!D20 -> 0 | L23: ='１，２年'!D21 -> 0 | M23: ='１，２年'!D22 -> 0 | N23: ='１，２年'!D23 -> 0 | O23: ='１，２年'!D24 -> 0 | R23: ２年 | S23: ='１，２年'!E20 -> 0 | T23: ='１，２年'!E21 -> 0 | U23: ='１，２年'!E22 -> 0 | V23: ='１，２年'!E23 -> 0 | W23: ='１，２年'!E24 -> 0
B24: ３年 | C24: ='３年'!C5 -> 0 | D24: ='３年'!C6 -> 0 | E24: ='３年'!C7 -> 0 | F24: ='３年'!C8 -> 0 | G24: ='３年'!C9 -> 0 | J24: ３年 | K24: ='３年'!D5 -> 0 | L24: ='３年'!D6 -> 0 | M24: ='３年'!D7 -> 0 | N24: ='３年'!D8 -> 0 | O24: ='３年'!D9 -> 0 | R24: ３年 | S24: ='３年'!E5 -> 0 | T24: ='３年'!E6 -> 0 | U24: ='３年'!E7 -> 0 | V24: ='３年'!E8 -> 0 | W24: ='３年'!E9 -> 0
B43: 社会 | C43: １次 | D43: ２次 | E43: ３次 | F43: ４次 | G43: ５次 | J43: 理科 | K43: １次 | L43: ２次 | M43: ３次 | N43: ４次 | O43: ５次 | R43: 順位 | S43: １次 | T43: ２次 | U43: ３次 | V43: ４次 | W43: ５次
B44: １年 | C44: ='１，２年'!F5 -> 0 | D44: ='１，２年'!F6 -> 0 | E44: ='１，２年'!F7 -> 0 | F44: ='１，２年'!F8 -> 0 | G44: ='１，２年'!F9 -> 0 | J44: １年 | K44: ='１，２年'!G5 -> 0 | L44: ='１，２年'!G6 -> 0 | M44: ='１，２年'!G7 -> 0 | N44: ='１，２年'!G8 -> 0 | O44: ='１，２年'!G9 -> 0 | R44: １年 | S44: ='１，２年'!I5 -> 0 | T44: ='１，２年'!I6 -> 0 | U44: ='１，２年'!I7 -> 0 | V44: ='１，２年'!I8 -> 0 | W44: ='１，２年'!I9 -> 0
B45: ２年 | C45: ='１，２年'!F20 -> 0 | D45: ='１，２年'!F21 -> 0 | E45: ='１，２年'!F22 -> 0 | F45: ='１，２年'!F23 -> 0 | G45: ='１，２年'!F24 -> 0 | J45: ２年 | K45: ='１，２年'!G20 -> 0 | L45: ='１，２年'!G21 -> 0 | M45: ='１，２年'!G22 -> 0 | N45: ='１，２年'!G23 -> 0 | O45: ='１，２年'!G24 -> 0 | R45: ２年 | S45: ='１，２年'!I20 -> 0 | T45: ='１，２年'!I21 -> 0 | U45: ='１，２年'!I22 -> 0 | V45: ='１，２年'!I23 -> 0 | W45: ='１，２年'!I24 -> 0
B46: ３年 | C46: ='３年'!F5 -> 0 | D46: ='３年'!F6 -> 0 | E46: ='３年'!F7 -> 0 | F46: ='３年'!F8 -> 0 | G46: ='３年'!F9 -> 0 | J46: ３年 | K46: ='３年'!J27 -> 0 | L46: ='３年'!J28 -> 0 | M46: ='３年'!J29 -> 0 | N46: ='３年'!J30 -> 0 | O46: ='３年'!J31 -> 0 | R46: ３年 | S46: ='３年'!I5 -> 0 | T46: ='３年'!I6 -> 0 | U46: ='３年'!I7 -> 0 | V46: ='３年'!I8 -> 0 | W46: ='３年'!I9 -> 0
