Workbook

Sheet 原本 
A2: 2023 | B2: 年 | C2: 5 | D2: 月 | E2: =名簿!A -> #NAME? | G2: 様 | P2: =DATE($A$2,$C$2,1) -> 45047 | Q2: =WEEKDAY($P$2) -> 2
A3: 日 | B3: 月 | C3: 火 | D3: 水 | E3: 木 | F3: 金 | G3: 土 | P3: =DAY(B4) -> 1 | Q3: =DAY(B14) -> 5
A4: =$P$2-($Q$2-1) -> 45046 | B4: =A4+1 -> 45047 | C4: =B4+1 -> 45048 | D4: =C4+1 -> 45049 | E4: =D4+1 -> 45050 | F4: =E4+1 -> 45051 | G4: =F4+1 -> 45052 | P4: =DAY(C4) -> 2 | Q4: =DAY(C12) -> 30
B5: =IF(AND(COUNTIF(名簿!B3:G3, B3)>0, $P$3<=2), "●", "") -> ● | C5: =IF(AND(COUNTIF(名簿!B3:G3, C3)>0, $P$4<=3), "●", "") | D5: =IF(AND(COUNTIF(名簿!B3:G3, D3)>0, $P$5<=4), "●", "") | E5: =IF(AND(COUNTIF(名簿!B3:G3, E3)>0, $P$6<=5), "●", "") -> ● | F5: =IF(AND(COUNTIF(名簿!B3:G3, F3)>0, $P$7<=6), "●", "") | G5: =IF(COUNTIF(名簿!B3:G3, G3) > 0, "●", "") | P5: =DAY(D4) -> 3 | Q5: =DAY(D12) -> 31
A6: =G4+1 -> 45053 | B6: =A6+1 -> 45054 | C6: =B6+1 -> 45055 | D6: =C6+1 -> 45056 | E6: =D6+1 -> 45057 | F6: =E6+1 -> 45058 | G6: =F6+1 -> 45059 | P6: =DAY(E4) -> 4 | Q6: =DAY(E12) -> 1
B7: =IF(COUNTIF(名簿!B3:G3, B3) > 0, "●", "") -> ● | C7: =IF(COUNTIF(名簿!B3:G3, C3) > 0, "●", "") | D7: =IF(COUNTIF(名簿!B3:G3, D3) > 0, "●", "") | E7: =IF(COUNTIF(名簿!B3:G3, E3) > 0, "●", "") -> ● | F7: =IF(COUNTIF(名簿!B3:G3, F3) > 0, "●", "") | G7: =IF(COUNTIF(名簿!B3:G3, G3) > 0, "●", "") | P7: =DAY(F4) -> 5 | Q7: =DAY(F12) -> 2
A8: =G6+1 -> 45060 | B8: =A8+1 -> 45061 | C8: =B8+1 -> 45062 | D8: =C8+1 -> 45063 | E8: =D8+1 -> 45064 | F8: =E8+1 -> 45065 | G8: =F8+1 -> 45066 | P8: =DAY(G4) -> 6 | Q8: =DAY(G12) -> 3
B9: =IF(COUNTIF(名簿!B3:G3, B3) > 0, "●", "") -> ● | C9: =IF(COUNTIF(名簿!B3:G3, C3) > 0, "●", "") | D9: =IF(COUNTIF(名簿!B3:G3, D3) > 0, "●", "") | E9: =IF(COUNTIF(名簿!B3:G3, E3) > 0, "●", "") -> ● | F9: =IF(COUNTIF(名簿!B3:G3, F3) > 0, "●", "") | G9: =IF(COUNTIF(名簿!B3:G3, G3) > 0, "●", "")
A10: =G8+1 -> 45067 | B10: =A10+1 -> 45068 | C10: =B10+1 -> 45069 | D10: =C10+1 -> 45070 | E10: =D10+1 -> 45071 | F10: =E10+1 -> 45072 | G10: =F10+1 -> 45073
B11: =IF(COUNTIF(名簿!B3:G3, B3) > 0, "●", "") -> ● | C11: =IF(COUNTIF(名簿!B3:G3, C3) > 0, "●", "") | D11: =IF(COUNTIF(名簿!B3:G3, D3) > 0, "●", "") | E11: =IF(COUNTIF(名簿!B3:G3, E3) > 0, "●", "") -> ● | F11: =IF(COUNTIF(名簿!B3:G3, F3) > 0, "●", "") | G11: =IF(COUNTIF(名簿!B3:G3, G3) > 0, "●", "")
A12: =G10+1 -> 45074 | B12: =A12+1 -> 45075 | C12: =B12+1 -> 45076 | D12: =C12+1 -> 45077 | E12: =D12+1 -> 45078 | F12: =E12+1 -> 45079 | G12: =F12+1 -> 45080
B13: =IF(COUNTIF(名簿!B3:G3, B3) > 0, "●", "") -> ● | C13: =IF(AND(COUNTIF(名簿!B3:G3, C3)>0, $Q$4>=25), "●", "") | D13: =IF(AND(COUNTIF(名簿!B3:G3, D3)>0, $Q$5>=26), "●", "") | E13: =IF(AND(COUNTIF(名簿!B3:G3, E3)>0, $Q$6>=27), "●", "") | F13: =IF(AND(COUNTIF(名簿!B3:G3, F3)>0, $Q$7>=28), "●", "") | G13: =IF(AND(COUNTIF(名簿!B3:G3, G3)>0, $Q$8>=29), "●", "")
A14: =G12+1 -> 45081 | B14: =A14+1 -> 45082 | C14: =B14+1 -> 45083 | D14: =C14+1 -> 45084 | E14: =D14+1 -> 45085 | F14: =E14+1 -> 45086 | G14: =F14+1 -> 45087
B15: =IF(AND(COUNTIF(名簿!B3:G3, B3)>0, $Q$3>=30), "●", "")

Sheet 祝日
D1: https://www8.cao.go.jp/chosei/shukujitsu/gaiyou.html
A2: 名称 | B2: 日付
A3: 元日 | B3: 44927 | C3: 44927
A4: 休日 | B4: 44928 | C4: 44928
A5: 成人の日 | B5: 44935 | C5: 44935
A6: 建国記念の日 | B6: 44968 | C6: 44968
A7: 天皇誕生日 | B7: 44980 | C7: 44980
A8: 春分の日 | B8: 45006 | C8: 45006
A9: 昭和の日 | B9: 45045 | C9: 45045
A10: 憲法記念日 | B10: 45049 | C10: 45049
A11: みどりの日 | B11: 45050 | C11: 45050
A12: こどもの日 | B12: 45051 | C12: 45051
A13: 海の日 | B13: 45124 | C13: 45124
A14: 山の日 | B14: 45149 | C14: 45149
... A19: 勤労感謝の日 | B19: 45253 | C19: 45253

Sheet 名簿
A2: 利用者名 | B2: ご利用日
A3: 1 | B3: 月 | C3: 木
A4: 2 | B4: 火
A5: 3 | B5: 水 | C5: 土
A6: 4 | B6: 火 | C6: 木
A7: 5 | B7: 水 | C7: 金
A8: 6 | B8: 火 | C8: 金
A9: 7 | B9: 月 | C9: 木
A10: 8 | B10: 金
A11: 9 | B11: 火 | C11: 木 | D11: 土
A12: 10 | B12: 火 | C12: 木
A13: 11 | B13: 月 | C13: 水
A14: 12 | B14: 火 | C14: 木
A15: 13 | B15: 金
A16: 14 | B16: 月 | C16: 木
A17: 15 | B17: 火 | C17: 金
A18: 16 | B18: 金
A19: 17 | B19: 水
A20: 18 | B20: 火 | C20: 金
A21: 19 | B21: 火
A22: 20 | B22: 火 | C22: 土
A23: 21 | B23: 水 | C23: 土
A24: 22 | B24: 水
A25: 23 | B25: 土
A26: 24 | B26: 火 | C26: 金
A27: 25 | B27: 月 | C27: 木 | D27: 土
A28: 26 | B28: 金 | C28: 金
A29: 27 | B29: 月 | C29: 火 | D29: 金
A30: 28 | B30: 金
A31: 29 | B31: 金
A32: 30 | B32: 土
A33: 31 | B33: 水 | C33: 土
A34: 32 | B34: 月 | C34: 水 | D34: 金 | E34: 土
A35: 33 | B35: 月
A36: 34 | B36: 水
A37: 35 | B37: 水 | C37: 金
A38: 36 | B38: 火
A39: 37 | B39: 月 | C39: 木
A40: 38 | B40: 月
A41: 39 | B41: 火 | C41: 金
...

Sheet 1
A2: 2023 | B2: 年 | C2: 8 | D2: 月 | E2: =名簿!A3 -> 1 | G2: 様 | P2: =DATE($A$2,$C$2,1) -> 45139 | Q2: =WEEKDAY($P$2) -> 3
A3: 日 | B3: 月 | C3: 火 | D3: 水 | E3: 木 | F3: 金 | G3: 土 | P3: =DAY(B4) -> 31 | Q3: =DAY(B14) -> 4
A4: =$P$2-($Q$2-1) -> 45137 | B4: =A4+1 -> 45138 | C4: =B4+1 -> 45139 | D4: =C4+1 -> 45140 | E4: =D4+1 -> 45141 | F4: =E4+1 -> 45142 | G4: =F4+1 -> 45143 | P4: =DAY(C4) -> 1 | Q4: =DAY(C12) -> 29
B5: =IF(AND(COUNTIF(名簿!B3:G3, B3)>0, $P$3<=2), "●", "") | C5: =IF(AND(COUNTIF(名簿!B3:G3, C3)>0, $P$4<=3), "●", "") | D5: =IF(AND(COUNTIF(名簿!B3:G3, D3)>0, $P$5<=4), "●", "") | E5: =IF(AND(COUNTIF(名簿!B3:G3, E3)>0, $P$6<=5), "●", "") -> ● | F5: =IF(AND(COUNTIF(名簿!B3:G3, F3)>0, $P$7<=6), "●", "") | G5: =IF(COUNTIF(名簿!B3:G3, G3) > 0, "●", "") | P5: =DAY(D4) -> 2 | Q5: =DAY(D12) -> 30
A6: =G4+1 -> 45144 | B6: =A6+1 -> 45145 | C6: =B6+1 -> 45146 | D6: =C6+1 -> 45147 | E6: =D6+1 -> 45148 | F6: =E6+1 -> 45149 | G6: =F6+1 -> 45150 | P6: =DAY(E4) -> 3 | Q6: =DAY(E12) -> 31
B7: =IF(COUNTIF(名簿!B3:G3, B3) > 0, "●", "") -> ● | C7: =IF(COUNTIF(名簿!B3:G3, C3) > 0, "●", "") | D7: =IF(COUNTIF(名簿!B3:G3, D3) > 0, "●", "") | E7: =IF(COUNTIF(名簿!B3:G3, E3) > 0, "●", "") -> ● | F7: =IF(COUNTIF(名簿!B3:G3, F3) > 0, "●", "") | G7: =IF(COUNTIF(名簿!B3:G3, G3) > 0, "●", "") | P7: =DAY(F4) -> 4 | Q7: =DAY(F12) -> 1
A8: =G6+1 -> 45151 | B8: =A8+1 -> 45152 | C8: =B8+1 -> 45153 | D8: =C8+1 -> 45154 | E8: =D8+1 -> 45155 | F8: =E8+1 -> 45156 | G8: =F8+1 -> 45157 | P8: =DAY(G4) -> 5 | Q8: =DAY(G12) -> 2
B9: =IF(COUNTIF(名簿!B3:G3, B3) > 0, "●", "") -> ● | C9: =IF(COUNTIF(名簿!B3:G3, C3) > 0, "●", "") | D9: =IF(COUNTIF(名簿!B3:G3, D3) > 0, "●", "") | E9: =IF(COUNTIF(名簿!B3:G3, E3) > 0, "●", "") -> ● | F9: =IF(COUNTIF(名簿!B3:G3, F3) > 0, "●", "") | G9: =IF(COUNTIF(名簿!B3:G3, G3) > 0, "●", "")
A10: =G8+1 -> 45158 | B10: =A10+1 -> 45159 | C10: =B10+1 -> 45160 | D10: =C10+1 -> 45161 | E10: =D10+1 -> 45162 | F10: =E10+1 -> 45163 | G10: =F10+1 -> 45164
B11: =IF(COUNTIF(名簿!B3:G3, B3) > 0, "●", "") -> ● | C11: =IF(COUNTIF(名簿!B3:G3, C3) > 0, "●", "") | D11: =IF(COUNTIF(名簿!B3:G3, D3) > 0, "●", "") | E11: =IF(COUNTIF(名簿!B3:G3, E3) > 0, "●", "") -> ● | F11: =IF(COUNTIF(名簿!B3:G3, F3) > 0, "●", "") | G11: =IF(COUNTIF(名簿!B3:G3, G3) > 0, "●", "")
A12: =G10+1 -> 45165 | B12: =A12+1 -> 45166 | C12: =B12+1 -> 45167 | D12: =C12+1 -> 45168 | E12: =D12+1 -> 45169 | F12: =E12+1 -> 45170 | G12: =F12+1 -> 45171
B13: =IF(COUNTIF(名簿!B3:G3, B3) > 0, "●", "") -> ● | C13: =IF(AND(COUNTIF(名簿!B3:G3, C3)>0, $Q$4>=25), "●", "") | D13: =IF(AND(COUNTIF(名簿!B3:G3, D3)>0, $Q$5>=26), "●", "") | E13: =IF(AND(COUNTIF(名簿!B3:G3, E3)>0, $Q$6>=27), "●", "") -> ● | F13: =IF(AND(COUNTIF(名簿!B3:G3, F3)>0, $Q$7>=28), "●", "") | G13: =IF(AND(COUNTIF(名簿!B3:G3, G3)>0, $Q$8>=29), "●", "")
A14: =G12+1 -> 45172 | B14: =A14+1 -> 45173 | C14: =B14+1 -> 45174 | D14: =C14+1 -> 45175 | E14: =D14+1 -> 45176 | F14: =E14+1 -> 45177 | G14: =F14+1 -> 45178
B15: =IF(AND(COUNTIF(名簿!B3:G3, B3)>0, $Q$3>=30), "●", "")

Sheet 2
A2: 2023 | B2: 年 | C2: 5 | D2: 月 | E2: =名簿!A4 -> 2 | G2: 様 | P2: =DATE($A$2,$C$2,1) -> 45047 | Q2: =WEEKDAY($P$2) -> 2
A3: 日 | B3: 月 | C3: 火 | D3: 水 | E3: 木 | F3: 金 | G3: 土 | P3: =DAY(B4) -> 1 | Q3: =DAY(B14) -> 5
A4: =$P$2-($Q$2-1) -> 45046 | B4: =A4+1 -> 45047 | C4: =B4+1 -> 45048 | D4: =C4+1 -> 45049 | E4: =D4+1 -> 45050 | F4: =E4+1 -> 45051 | G4: =F4+1 -> 45052 | P4: =DAY(C4) -> 2 | Q4: =DAY(C12) -> 30
B5: =IF(AND(COUNTIF(名簿!B4:G4, B3)>0, $P$3<=2), "●", "") | C5: =IF(AND(COUNTIF(名簿!B4:G4, C3)>0, $P$4<=3), "●", "") -> ● | D5: =IF(AND(COUNTIF(名簿!B4:G4, D3)>0, $P$5<=4), "●", "") | E5: =IF(AND(COUNTIF(名簿!B4:G4, E3)>0, $P$6<=5), "●", "") | F5: =IF(AND(COUNTIF(名簿!B4:G4, F3)>0, $P$7<=6), "●", "") | G5: =IF(COUNTIF(名簿!B4:G4, G3) > 0, "●", "") | P5: =DAY(D4) -> 3 | Q5: =DAY(D12) -> 31
A6: =G4+1 -> 45053 | B6: =A6+1 -> 45054 | C6: =B6+1 -> 45055 | D6: =C6+1 -> 45056 | E6: =D6+1 -> 45057 | F6: =E6+1 -> 45058 | G6: =F6+1 -> 45059 | P6: =DAY(E4) -> 4 | Q6: =DAY(E12) -> 1
B7: =IF(COUNTIF(名簿!B4:G4, B3) > 0, "●", "") | C7: =IF(COUNTIF(名簿!B4:G4, C3) > 0, "●", "") -> ● | D7: =IF(COUNTIF(名簿!B4:G4, D3) > 0, "●", "") | E7: =IF(COUNTIF(名簿!B4:G4, E3) > 0, "●", "") | F7: =IF(COUNTIF(名簿!B4:G4, F3) > 0, "●", "") | G7: =IF(COUNTIF(名簿!B4:G4, G3) > 0, "●", "") | P7: =DAY(F4) -> 5 | Q7: =DAY(F12) -> 2
A8: =G6+1 -> 45060 | B8: =A8+1 -> 45061 | C8: =B8+1 -> 45062 | D8: =C8+1 -> 45063 | E8: =D8+1 -> 45064 | F8: =E8+1 -> 45065 | G8: =F8+1 -> 45066 | P8: =DAY(G4) -> 6 | Q8: =DAY(G12) -> 3
B9: =IF(COUNTIF(名簿!B4:G4, B3) > 0, "●", "") | C9: =IF(COUNTIF(名簿!B4:G4, C3) > 0, "●", "") -> ● | D9: =IF(COUNTIF(名簿!B4:G4, D3) > 0, "●", "") | E9: =IF(COUNTIF(名簿!B4:G4, E3) > 0, "●", "") | F9: =IF(COUNTIF(名簿!B4:G4, F3) > 0, "●", "") | G9: =IF(COUNTIF(名簿!B4:G4, G3) > 0, "●", "")
A10: =G8+1 -> 45067 | B10: =A10+1 -> 45068 | C10: =B10+1 -> 45069 | D10: =C10+1 -> 45070 | E10: =D10+1 -> 45071 | F10: =E10+1 -> 45072 | G10: =F10+1 -> 45073
B11: =IF(COUNTIF(名簿!B4:G4, B3) > 0, "●", "") | C11: =IF(COUNTIF(名簿!B4:G4, C3) > 0, "●", "") -> ● | D11: =IF(COUNTIF(名簿!B4:G4, D3) > 0, "●", "") | E11: =IF(COUNTIF(名簿!B4:G4, E3) > 0, "●", "") | F11: =IF(COUNTIF(名簿!B4:G4, F3) > 0, "●", "") | G11: =IF(COUNTIF(名簿!B4:G4, G3) > 0, "●", "")
A12: =G10+1 -> 45074 | B12: =A12+1 -> 45075 | C12: =B12+1 -> 45076 | D12: =C12+1 -> 45077 | E12: =D12+1 -> 45078 | F12: =E12+1 -> 45079 | G12: =F12+1 -> 45080
B13: =IF(COUNTIF(名簿!B4:G4, B3) > 0, "●", "") | C13: =IF(AND(COUNTIF(名簿!B4:G4, C3)>0, $Q$4>=25), "●", "") -> ● | D13: =IF(AND(COUNTIF(名簿!B4:G4, D3)>0, $Q$5>=26), "●", "") | E13: =IF(AND(COUNTIF(名簿!B4:G4, E3)>0, $Q$6>=27), "●", "") | F13: =IF(AND(COUNTIF(名簿!B4:G4, F3)>0, $Q$7>=28), "●", "") | G13: =IF(AND(COUNTIF(名簿!B4:G4, G3)>0, $Q$8>=29), "●", "")
A14: =G12+1 -> 45081 | B14: =A14+1 -> 45082 | C14: =B14+1 -> 45083 | D14: =C14+1 -> 45084 | E14: =D14+1 -> 45085 | F14: =E14+1 -> 45086 | G14: =F14+1 -> 45087
B15: =IF(AND(COUNTIF(名簿!B4:G4, B3)>0, $Q$3>=30), "●", "")

Sheet 3
A2: 2023 | B2: 年 | C2: 5 | D2: 月 | E2: =名簿!A5 -> 3 | G2: 様 | P2: =DATE($A$2,$C$2,1) -> 45047 | Q2: =WEEKDAY($P$2) -> 2
A3: 日 | B3: 月 | C3: 火 | D3: 水 | E3: 木 | F3: 金 | G3: 土 | P3: =DAY(B4) -> 1 | Q3: =DAY(B14) -> 5
A4: =$P$2-($Q$2-1) -> 45046 | B4: =A4+1 -> 45047 | C4: =B4+1 -> 45048 | D4: =C4+1 -> 45049 | E4: =D4+1 -> 45050 | F4: =E4+1 -> 45051 | G4: =F4+1 -> 45052 | P4: =DAY(C4) -> 2 | Q4: =DAY(C12) -> 30
B5: =IF(AND(COUNTIF(名簿!B5:G5, B3)>0, $P$3<=2), "●", "") | C5: =IF(AND(COUNTIF(名簿!B5:G5, C3)>0, $P$4<=3), "●", "") | D5: =IF(AND(COUNTIF(名簿!B5:G5, D3)>0, $P$5<=4), "●", "") -> ● | E5: =IF(AND(COUNTIF(名簿!B5:G5, E3)>0, $P$6<=5), "●", "") | F5: =IF(AND(COUNTIF(名簿!B5:G5, F3)>0, $P$7<=6), "●", "") | G5: =IF(COUNTIF(名簿!B5:G5, G3) > 0, "●", "") -> ● | P5: =DAY(D4) -> 3 | Q5: =DAY(D12) -> 31
A6: =G4+1 -> 45053 | B6: =A6+1 -> 45054 | C6: =B6+1 -> 45055 | D6: =C6+1 -> 45056 | E6: =D6+1 -> 45057 | F6: =E6+1 -> 45058 | G6: =F6+1 -> 45059 | P6: =DAY(E4) -> 4 | Q6: =DAY(E12) -> 1
B7: =IF(COUNTIF(名簿!B5:G5, B3) > 0, "●", "") | C7: =IF(COUNTIF(名簿!B5:G5, C3) > 0, "●", "") | D7: =IF(COUNTIF(名簿!B5:G5, D3) > 0, "●", "") -> ● | E7: =IF(COUNTIF(名簿!B5:G5, E3) > 0, "●", "") | F7: =IF(COUNTIF(名簿!B5:G5, F3) > 0, "●", "") | G7: =IF(COUNTIF(名簿!B5:G5, G3) > 0, "●", "") -> ● | P7: =DAY(F4) -> 5 | Q7: =DAY(F12) -> 2
A8: =G6+1 -> 45060 | B8: =A8+1 -> 45061 | C8: =B8+1 -> 45062 | D8: =C8+1 -> 45063 | E8: =D8+1 -> 45064 | F8: =E8+1 -> 45065 | G8: =F8+1 -> 45066 | P8: =DAY(G4) -> 6 | Q8: =DAY(G12) -> 3
B9: =IF(COUNTIF(名簿!B5:G5, B3) > 0, "●", "") | C9: =IF(COUNTIF(名簿!B5:G5, C3) > 0, "●", "") | D9: =IF(COUNTIF(名簿!B5:G5, D3) > 0, "●", "") -> ● | E9: =IF(COUNTIF(名簿!B5:G5, E3) > 0, "●", "") | F9: =IF(COUNTIF(名簿!B5:G5, F3) > 0, "●", "") | G9: =IF(COUNTIF(名簿!B5:G5, G3) > 0, "●", "") -> ●
A10: =G8+1 -> 45067 | B10: =A10+1 -> 45068 | C10: =B10+1 -> 45069 | D10: =C10+1 -> 45070 | E10: =D10+1 -> 45071 | F10: =E10+1 -> 45072 | G10: =F10+1 -> 45073
B11: =IF(COUNTIF(名簿!B5:G5, B3) > 0, "●", "") | C11: =IF(COUNTIF(名簿!B5:G5, C3) > 0, "●", "") | D11: =IF(COUNTIF(名簿!B5:G5, D3) > 0, "●", "") -> ● | E11: =IF(COUNTIF(名簿!B5:G5, E3) > 0, "●", "") | F11: =IF(COUNTIF(名簿!B5:G5, F3) > 0, "●", "") | G11: =IF(COUNTIF(名簿!B5:G5, G3) > 0, "●", "") -> ●
A12: =G10+1 -> 45074 | B12: =A12+1 -> 45075 | C12: =B12+1 -> 45076 | D12: =C12+1 -> 45077 | E12: =D12+1 -> 45078 | F12: =E12+1 -> 45079 | G12: =F12+1 -> 45080
B13: =IF(COUNTIF(名簿!B5:G5, B3) > 0, "●", "") | C13: =IF(AND(COUNTIF(名簿!B5:G5, C3)>0, $Q$4>=25), "●", "") | D13: =IF(AND(COUNTIF(名簿!B5:G5, D3)>0, $Q$5>=26), "●", "") -> ● | E13: =IF(AND(COUNTIF(名簿!B5:G5, E3)>0, $Q$6>=27), "●", "") | F13: =IF(AND(COUNTIF(名簿!B5:G5, F3)>0, $Q$7>=28), "●", "") | G13: =IF(AND(COUNTIF(名簿!B5:G5, G3)>0, $Q$8>=29), "●", "")
A14: =G12+1 -> 45081 | B14: =A14+1 -> 45082 | C14: =B14+1 -> 45083 | D14: =C14+1 -> 45084 | E14: =D14+1 -> 45085 | F14: =E14+1 -> 45086 | G14: =F14+1 -> 45087
B15: =IF(AND(COUNTIF(名簿!B5:G5, B3)>0, $Q$3>=30), "●", "")

Sheet 4
A2: 2023 | B2: 年 | C2: 5 | D2: 月 | E2: =名簿!A6 -> 4 | G2: 様 | P2: =DATE($A$2,$C$2,1) -> 45047 | Q2: =WEEKDAY($P$2) -> 2
A3: 日 | B3: 月 | C3: 火 | D3: 水 | E3: 木 | F3: 金 | G3: 土 | P3: =DAY(B4) -> 1 | Q3: =DAY(B14) -> 5
A4: =$P$2-($Q$2-1) -> 45046 | B4: =A4+1 -> 45047 | C4: =B4+1 -> 45048 | D4: =C4+1 -> 45049 | E4: =D4+1 -> 45050 | F4: =E4+1 -> 45051 | G4: =F4+1 -> 45052 | P4: =DAY(C4) -> 2 | Q4: =DAY(C12) -> 30
B5: =IF(AND(COUNTIF(名簿!B6:G6, B3)>0, $P$3<=2), "●", "") | C5: =IF(AND(COUNTIF(名簿!B6:G6, C3)>0, $P$4<=3), "●", "") -> ● | D5: =IF(AND(COUNTIF(名簿!B6:G6, D3)>0, $P$5<=4), "●", "") | E5: =IF(AND(COUNTIF(名簿!B6:G6, E3)>0, $P$6<=5), "●", "") -> ● | F5: =IF(AND(COUNTIF(名簿!B6:G6, F3)>0, $P$7<=6), "●", "") | G5: =IF(COUNTIF(名簿!B6:G6, G3) > 0, "●", "") | P5: =DAY(D4) -> 3 | Q5: =DAY(D12) -> 31
A6: =G4+1 -> 45053 | B6: =A6+1 -> 45054 | C6: =B6+1 -> 45055 | D6: =C6+1 -> 45056 | E6: =D6+1 -> 45057 | F6: =E6+1 -> 45058 | G6: =F6+1 -> 45059 | P6: =DAY(E4) -> 4 | Q6: =DAY(E12) -> 1
B7: =IF(COUNTIF(名簿!B6:G6, B3) > 0, "●", "") | C7: =IF(COUNTIF(名簿!B6:G6, C3) > 0, "●", "") -> ● | D7: =IF(COUNTIF(名簿!B6:G6, D3) > 0, "●", "") | E7: =IF(COUNTIF(名簿!B6:G6, E3) > 0, "●", "") -> ● | F7: =IF(COUNTIF(名簿!B6:G6, F3) > 0, "●", "") | G7: =IF(COUNTIF(名簿!B6:G6, G3) > 0, "●", "") | P7: =DAY(F4) -> 5 | Q7: =DAY(F12) -> 2
A8: =G6+1 -> 45060 | B8: =A8+1 -> 45061 | C8: =B8+1 -> 45062 | D8: =C8+1 -> 45063 | E8: =D8+1 -> 45064 | F8: =E8+1 -> 45065 | G8: =F8+1 -> 45066 | P8: =DAY(G4) -> 6 | Q8: =DAY(G12) -> 3
B9: =IF(COUNTIF(名簿!B6:G6, B3) > 0, "●", "") | C9: =IF(COUNTIF(名簿!B6:G6, C3) > 0, "●", "") -> ● | D9: =IF(COUNTIF(名簿!B6:G6, D3) > 0, "●", "") | E9: =IF(COUNTIF(名簿!B6:G6, E3) > 0, "●", "") -> ● | F9: =IF(COUNTIF(名簿!B6:G6, F3) > 0, "●", "") | G9: =IF(COUNTIF(名簿!B6:G6, G3) > 0, "●", "")
A10: =G8+1 -> 45067 | B10: =A10+1 -> 45068 | C10: =B10+1 -> 45069 | D10: =C10+1 -> 45070 | E10: =D10+1 -> 45071 | F10: =E10+1 -> 45072 | G10: =F10+1 -> 45073
B11: =IF(COUNTIF(名簿!B6:G6, B3) > 0, "●", "") | C11: =IF(COUNTIF(名簿!B6:G6, C3) > 0, "●", "") -> ● | D11: =IF(COUNTIF(名簿!B6:G6, D3) > 0, "●", "") | E11: =IF(COUNTIF(名簿!B6:G6, E3) > 0, "●", "") -> ● | F11: =IF(COUNTIF(名簿!B6:G6, F3) > 0, "●", "") | G11: =IF(COUNTIF(名簿!B6:G6, G3) > 0, "●", "")
A12: =G10+1 -> 45074 | B12: =A12+1 -> 45075 | C12: =B12+1 -> 45076 | D12: =C12+1 -> 45077 | E12: =D12+1 -> 45078 | F12: =E12+1 -> 45079 | G12: =F12+1 -> 45080
B13: =IF(COUNTIF(名簿!B6:G6, B3) > 0, "●", "") | C13: =IF(AND(COUNTIF(名簿!B6:G6, C3)>0, $Q$4>=25), "●", "") -> ● | D13: =IF(AND(COUNTIF(名簿!B6:G6, D3)>0, $Q$5>=26), "●", "") | E13: =IF(AND(COUNTIF(名簿!B6:G6, E3)>0, $Q$6>=27), "●", "") | F13: =IF(AND(COUNTIF(名簿!B6:G6, F3)>0, $Q$7>=28), "●", "") | G13: =IF(AND(COUNTIF(名簿!B6:G6, G3)>0, $Q$8>=29), "●", "")
A14: =G12+1 -> 45081 | B14: =A14+1 -> 45082 | C14: =B14+1 -> 45083 | D14: =C14+1 -> 45084 | E14: =D14+1 -> 45085 | F14: =E14+1 -> 45086 | G14: =F14+1 -> 45087
B15: =IF(AND(COUNTIF(名簿!B6:G6, B3)>0, $Q$3>=30), "●", "")

Sheet 原本  (5)
A2: 2023 | B2: 年 | C2: 7 | D2: 月 | E2: =名簿!A3 -> 1 | G2: 様 | P2: =DATE($A$2,$C$2,1) -> 45108 | Q2: =WEEKDAY($P$2) -> 7
A3: 日 | B3: 月 | C3: 火 | D3: 水 | E3: 木 | F3: 金 | G3: 土 | P3: =DAY(B4) -> 26 | Q3: =DAY(B14) -> 31
A4: =$P$2-($Q$2-1) -> 45102 | B4: =A4+1 -> 45103 | C4: =B4+1 -> 45104 | D4: =C4+1 -> 45105 | E4: =D4+1 -> 45106 | F4: =E4+1 -> 45107 | G4: =F4+1 -> 45108 | P4: =DAY(C4) -> 27 | Q4: =DAY(C12) -> 25
B5: =IF(AND(COUNTIF(名簿!B3:G3, B3)>0, $P$3<=2), "●", "") | C5: =IF(AND(COUNTIF(名簿!B3:G3, C3)>0, $P$4<=3), "●", "") | D5: =IF(AND(COUNTIF(名簿!B3:G3, D3)>0, $P$5<=4), "●", "") | E5: =IF(AND(COUNTIF(名簿!B3:G3, E3)>0, $P$6<=5), "●", "") | F5: =IF(AND(COUNTIF(名簿!B3:G3, F3)>0, $P$7<=6), "●", "") | G5: =IF(COUNTIF(名簿!B3:G3, G3) > 0, "●", "") | P5: =DAY(D4) -> 28 | Q5: =DAY(D12) -> 26
A6: =G4+1 -> 45109 | B6: =A6+1 -> 45110 | C6: =B6+1 -> 45111 | D6: =C6+1 -> 45112 | E6: =D6+1 -> 45113 | F6: =E6+1 -> 45114 | G6: =F6+1 -> 45115 | P6: =DAY(E4) -> 29 | Q6: =DAY(E12) -> 27
B7: =IF(COUNTIF(名簿!B3:G3, B3) > 0, "●", "") -> ● | C7: =IF(COUNTIF(名簿!B3:G3, C3) > 0, "●", "") | D7: =IF(COUNTIF(名簿!B3:G3, D3) > 0, "●", "") | E7: =IF(COUNTIF(名簿!B3:G3, E3) > 0, "●", "") -> ● | F7: =IF(COUNTIF(名簿!B3:G3, F3) > 0, "●", "") | G7: =IF(COUNTIF(名簿!B3:G3, G3) > 0, "●", "") | P7: =DAY(F4) -> 30 | Q7: =DAY(F12) -> 28
A8: =G6+1 -> 45116 | B8: =A8+1 -> 45117 | C8: =B8+1 -> 45118 | D8: =C8+1 -> 45119 | E8: =D8+1 -> 45120 | F8: =E8+1 -> 45121 | G8: =F8+1 -> 45122 | P8: =DAY(G4) -> 1 | Q8: =DAY(G12) -> 29
B9: =IF(COUNTIF(名簿!B3:G3, B3) > 0, "●", "") -> ● | C9: =IF(COUNTIF(名簿!B3:G3, C3) > 0, "●", "") | D9: =IF(COUNTIF(名簿!B3:G3, D3) > 0, "●", "") | E9: =IF(COUNTIF(名簿!B3:G3, E3) > 0, "●", "") -> ● | F9: =IF(COUNTIF(名簿!B3:G3, F3) > 0, "●", "") | G9: =IF(COUNTIF(名簿!B3:G3, G3) > 0, "●", "")
A10: =G8+1 -> 45123 | B10: =A10+1 -> 45124 | C10: =B10+1 -> 45125 | D10: =C10+1 -> 45126 | E10: =D10+1 -> 45127 | F10: =E10+1 -> 45128 | G10: =F10+1 -> 45129
B11: =IF(COUNTIF(名簿!B3:G3, B3) > 0, "●", "") -> ● | C11: =IF(COUNTIF(名簿!B3:G3, C3) > 0, "●", "") | D11: =IF(COUNTIF(名簿!B3:G3, D3) > 0, "●", "") | E11: =IF(COUNTIF(名簿!B3:G3, E3) > 0, "●", "") -> ● | F11: =IF(COUNTIF(名簿!B3:G3, F3) > 0, "●", "") | G11: =IF(COUNTIF(名簿!B3:G3, G3) > 0, "●", "")
A12: =G10+1 -> 45130 | B12: =A12+1 -> 45131 | C12: =B12+1 -> 45132 | D12: =C12+1 -> 45133 | E12: =D12+1 -> 45134 | F12: =E12+1 -> 45135 | G12: =F12+1 -> 45136
B13: =IF(COUNTIF(名簿!B3:G3, B3) > 0, "●", "") -> ● | C13: =IF(AND(COUNTIF(名簿!B3:G3, C3)>0, $Q$4>=25), "●", "") | D13: =IF(AND(COUNTIF(名簿!B3:G3, D3)>0, $Q$5>=26), "●", "") | E13: =IF(AND(COUNTIF(名簿!B3:G3, E3)>0, $Q$6>=27), "●", "") -> ● | F13: =IF(AND(COUNTIF(名簿!B3:G3, F3)>0, $Q$7>=28), "●", "") | G13: =IF(AND(COUNTIF(名簿!B3:G3, G3)>0, $Q$8>=29), "●", "")
A14: =G12+1 -> 45137 | B14: =A14+1 -> 45138 | C14: =B14+1 -> 45139 | D14: =C14+1 -> 45140 | E14: =D14+1 -> 45141 | F14: =E14+1 -> 45142 | G14: =F14+1 -> 45143
B15: =IF(AND(COUNTIF(名簿!B3:G3, B3)>0, $Q$3>=30), "●", "") -> ●

Sheet 原本  (6)
A2: 2023 | B2: 年 | C2: 5 | D2: 月 | E2: =名簿!A3 -> 1 | G2: 様 | P2: =DATE($A$2,$C$2,1) -> 45047 | Q2: =WEEKDAY($P$2) -> 2
A3: 日 | B3: 月 | C3: 火 | D3: 水 | E3: 木 | F3: 金 | G3: 土 | P3: =DAY(B4) -> 1 | Q3: =DAY(B14) -> 5
A4: =$P$2-($Q$2-1) -> 45046 | B4: =A4+1 -> 45047 | C4: =B4+1 -> 45048 | D4: =C4+1 -> 45049 | E4: =D4+1 -> 45050 | F4: =E4+1 -> 45051 | G4: =F4+1 -> 45052 | P4: =DAY(C4) -> 2 | Q4: =DAY(C12) -> 30
B5: =IF(AND(COUNTIF(名簿!B3:G3, B3)>0, $P$3<=2), "●", "") -> ● | C5: =IF(AND(COUNTIF(名簿!B3:G3, C3)>0, $P$4<=3), "●", "") | D5: =IF(AND(COUNTIF(名簿!B3:G3, D3)>0, $P$5<=4), "●", "") | E5: =IF(AND(COUNTIF(名簿!B3:G3, E3)>0, $P$6<=5), "●", "") -> ● | F5: =IF(AND(COUNTIF(名簿!B3:G3, F3)>0, $P$7<=6), "●", "") | G5: =IF(COUNTIF(名簿!B3:G3, G3) > 0, "●", "") | P5: =DAY(D4) -> 3 | Q5: =DAY(D12) -> 31
A6: =G4+1 -> 45053 | B6: =A6+1 -> 45054 | C6: =B6+1 -> 45055 | D6: =C6+1 -> 45056 | E6: =D6+1 -> 45057 | F6: =E6+1 -> 45058 | G6: =F6+1 -> 45059 | P6: =DAY(E4) -> 4 | Q6: =DAY(E12) -> 1
B7: =IF(COUNTIF(名簿!B3:G3, B3) > 0, "●", "") -> ● | C7: =IF(COUNTIF(名簿!B3:G3, C3) > 0, "●", "") | D7: =IF(COUNTIF(名簿!B3:G3, D3) > 0, "●", "") | E7: =IF(COUNTIF(名簿!B3:G3, E3) > 0, "●", "") -> ● | F7: =IF(COUNTIF(名簿!B3:G3, F3) > 0, "●", "") | G7: =IF(COUNTIF(名簿!B3:G3, G3) > 0, "●", "") | P7: =DAY(F4) -> 5 | Q7: =DAY(F12) -> 2
A8: =G6+1 -> 45060 | B8: =A8+1 -> 45061 | C8: =B8+1 -> 45062 | D8: =C8+1 -> 45063 | E8: =D8+1 -> 45064 | F8: =E8+1 -> 45065 | G8: =F8+1 -> 45066 | P8: =DAY(G4) -> 6 | Q8: =DAY(G12) -> 3
B9: =IF(COUNTIF(名簿!B3:G3, B3) > 0, "●", "") -> ● | C9: =IF(COUNTIF(名簿!B3:G3, C3) > 0, "●", "") | D9: =IF(COUNTIF(名簿!B3:G3, D3) > 0, "●", "") | E9: =IF(COUNTIF(名簿!B3:G3, E3) > 0, "●", "") -> ● | F9: =IF(COUNTIF(名簿!B3:G3, F3) > 0, "●", "") | G9: =IF(COUNTIF(名簿!B3:G3, G3) > 0, "●", "")
A10: =G8+1 -> 45067 | B10: =A10+1 -> 45068 | C10: =B10+1 -> 45069 | D10: =C10+1 -> 45070 | E10: =D10+1 -> 45071 | F10: =E10+1 -> 45072 | G10: =F10+1 -> 45073
B11: =IF(COUNTIF(名簿!B3:G3, B3) > 0, "●", "") -> ● | C11: =IF(COUNTIF(名簿!B3:G3, C3) > 0, "●", "") | D11: =IF(COUNTIF(名簿!B3:G3, D3) > 0, "●", "") | E11: =IF(COUNTIF(名簿!B3:G3, E3) > 0, "●", "") -> ● | F11: =IF(COUNTIF(名簿!B3:G3, F3) > 0, "●", "") | G11: =IF(COUNTIF(名簿!B3:G3, G3) > 0, "●", "")
A12: =G10+1 -> 45074 | B12: =A12+1 -> 45075 | C12: =B12+1 -> 45076 | D12: =C12+1 -> 45077 | E12: =D12+1 -> 45078 | F12: =E12+1 -> 45079 | G12: =F12+1 -> 45080
B13: =IF(COUNTIF(名簿!B3:G3, B3) > 0, "●", "") -> ● | C13: =IF(AND(COUNTIF(名簿!B3:G3, C3)>0, $Q$4>=25), "●", "") | D13: =IF(AND(COUNTIF(名簿!B3:G3, D3)>0, $Q$5>=26), "●", "") | E13: =IF(AND(COUNTIF(名簿!B3:G3, E3)>0, $Q$6>=27), "●", "") | F13: =IF(AND(COUNTIF(名簿!B3:G3, F3)>0, $Q$7>=28), "●", "") | G13: =IF(AND(COUNTIF(名簿!B3:G3, G3)>0, $Q$8>=29), "●", "")
A14: =G12+1 -> 45081 | B14: =A14+1 -> 45082 | C14: =B14+1 -> 45083 | D14: =C14+1 -> 45084 | E14: =D14+1 -> 45085 | F14: =E14+1 -> 45086 | G14: =F14+1 -> 45087
B15: =IF(AND(COUNTIF(名簿!B3:G3, B3)>0, $Q$3>=30), "●", "")

Sheet 原本  (7)
A2: 2023 | B2: 年 | C2: 5 | D2: 月 | E2: =名簿!A3 -> 1 | G2: 様 | P2: =DATE($A$2,$C$2,1) -> 45047 | Q2: =WEEKDAY($P$2) -> 2
A3: 日 | B3: 月 | C3: 火 | D3: 水 | E3: 木 | F3: 金 | G3: 土 | P3: =DAY(B4) -> 1 | Q3: =DAY(B14) -> 5
A4: =$P$2-($Q$2-1) -> 45046 | B4: =A4+1 -> 45047 | C4: =B4+1 -> 45048 | D4: =C4+1 -> 45049 | E4: =D4+1 -> 45050 | F4: =E4+1 -> 45051 | G4: =F4+1 -> 45052 | P4: =DAY(C4) -> 2 | Q4: =DAY(C12) -> 30
B5: =IF(AND(COUNTIF(名簿!B3:G3, B3)>0, $P$3<=2), "●", "") -> ● | C5: =IF(AND(COUNTIF(名簿!B3:G3, C3)>0, $P$4<=3), "●", "") | D5: =IF(AND(COUNTIF(名簿!B3:G3, D3)>0, $P$5<=4), "●", "") | E5: =IF(AND(COUNTIF(名簿!B3:G3, E3)>0, $P$6<=5), "●", "") -> ● | F5: =IF(AND(COUNTIF(名簿!B3:G3, F3)>0, $P$7<=6), "●", "") | G5: =IF(COUNTIF(名簿!B3:G3, G3) > 0, "●", "") | P5: =DAY(D4) -> 3 | Q5: =DAY(D12) -> 31
A6: =G4+1 -> 45053 | B6: =A6+1 -> 45054 | C6: =B6+1 -> 45055 | D6: =C6+1 -> 45056 | E6: =D6+1 -> 45057 | F6: =E6+1 -> 45058 | G6: =F6+1 -> 45059 | P6: =DAY(E4) -> 4 | Q6: =DAY(E12) -> 1
B7: =IF(COUNTIF(名簿!B3:G3, B3) > 0, "●", "") -> ● | C7: =IF(COUNTIF(名簿!B3:G3, C3) > 0, "●", "") | D7: =IF(COUNTIF(名簿!B3:G3, D3) > 0, "●", "") | E7: =IF(COUNTIF(名簿!B3:G3, E3) > 0, "●", "") -> ● | F7: =IF(COUNTIF(名簿!B3:G3, F3) > 0, "●", "") | G7: =IF(COUNTIF(名簿!B3:G3, G3) > 0, "●", "") | P7: =DAY(F4) -> 5 | Q7: =DAY(F12) -> 2
A8: =G6+1 -> 45060 | B8: =A8+1 -> 45061 | C8: =B8+1 -> 45062 | D8: =C8+1 -> 45063 | E8: =D8+1 -> 45064 | F8: =E8+1 -> 45065 | G8: =F8+1 -> 45066 | P8: =DAY(G4) -> 6 | Q8: =DAY(G12) -> 3
B9: =IF(COUNTIF(名簿!B3:G3, B3) > 0, "●", "") -> ● | C9: =IF(COUNTIF(名簿!B3:G3, C3) > 0, "●", "") | D9: =IF(COUNTIF(名簿!B3:G3, D3) > 0, "●", "") | E9: =IF(COUNTIF(名簿!B3:G3, E3) > 0, "●", "") -> ● | F9: =IF(COUNTIF(名簿!B3:G3, F3) > 0, "●", "") | G9: =IF(COUNTIF(名簿!B3:G3, G3) > 0, "●", "")
A10: =G8+1 -> 45067 | B10: =A10+1 -> 45068 | C10: =B10+1 -> 45069 | D10: =C10+1 -> 45070 | E10: =D10+1 -> 45071 | F10: =E10+1 -> 45072 | G10: =F10+1 -> 45073
B11: =IF(COUNTIF(名簿!B3:G3, B3) > 0, "●", "") -> ● | C11: =IF(COUNTIF(名簿!B3:G3, C3) > 0, "●", "") | D11: =IF(COUNTIF(名簿!B3:G3, D3) > 0, "●", "") | E11: =IF(COUNTIF(名簿!B3:G3, E3) > 0, "●", "") -> ● | F11: =IF(COUNTIF(名簿!B3:G3, F3) > 0, "●", "") | G11: =IF(COUNTIF(名簿!B3:G3, G3) > 0, "●", "")
A12: =G10+1 -> 45074 | B12: =A12+1 -> 45075 | C12: =B12+1 -> 45076 | D12: =C12+1 -> 45077 | E12: =D12+1 -> 45078 | F12: =E12+1 -> 45079 | G12: =F12+1 -> 45080
B13: =IF(COUNTIF(名簿!B3:G3, B3) > 0, "●", "") -> ● | C13: =IF(AND(COUNTIF(名簿!B3:G3, C3)>0, $Q$4>=25), "●", "") | D13: =IF(AND(COUNTIF(名簿!B3:G3, D3)>0, $Q$5>=26), "●", "") | E13: =IF(AND(COUNTIF(名簿!B3:G3, E3)>0, $Q$6>=27), "●", "") | F13: =IF(AND(COUNTIF(名簿!B3:G3, F3)>0, $Q$7>=28), "●", "") | G13: =IF(AND(COUNTIF(名簿!B3:G3, G3)>0, $Q$8>=29), "●", "")
A14: =G12+1 -> 45081 | B14: =A14+1 -> 45082 | C14: =B14+1 -> 45083 | D14: =C14+1 -> 45084 | E14: =D14+1 -> 45085 | F14: =E14+1 -> 45086 | G14: =F14+1 -> 45087
B15: =IF(AND(COUNTIF(名簿!B3:G3, B3)>0, $Q$3>=30), "●", "")

Sheet 原本  (8)
A2: 2023 | B2: 年 | C2: 5 | D2: 月 | E2: =名簿!A3 -> 1 | G2: 様 | P2: =DATE($A$2,$C$2,1) -> 45047 | Q2: =WEEKDAY($P$2) -> 2
A3: 日 | B3: 月 | C3: 火 | D3: 水 | E3: 木 | F3: 金 | G3: 土 | P3: =DAY(B4) -> 1 | Q3: =DAY(B14) -> 5
A4: =$P$2-($Q$2-1) -> 45046 | B4: =A4+1 -> 45047 | C4: =B4+1 -> 45048 | D4: =C4+1 -> 45049 | E4: =D4+1 -> 45050 | F4: =E4+1 -> 45051 | G4: =F4+1 -> 45052 | P4: =DAY(C4) -> 2 | Q4: =DAY(C12) -> 30
B5: =IF(AND(COUNTIF(名簿!B3:G3, B3)>0, $P$3<=2), "●", "") -> ● | C5: =IF(AND(COUNTIF(名簿!B3:G3, C3)>0, $P$4<=3), "●", "") | D5: =IF(AND(COUNTIF(名簿!B3:G3, D3)>0, $P$5<=4), "●", "") | E5: =IF(AND(COUNTIF(名簿!B3:G3, E3)>0, $P$6<=5), "●", "") -> ● | F5: =IF(AND(COUNTIF(名簿!B3:G3, F3)>0, $P$7<=6), "●", "") | G5: =IF(COUNTIF(名簿!B3:G3, G3) > 0, "●", "") | P5: =DAY(D4) -> 3 | Q5: =DAY(D12) -> 31
A6: =G4+1 -> 45053 | B6: =A6+1 -> 45054 | C6: =B6+1 -> 45055 | D6: =C6+1 -> 45056 | E6: =D6+1 -> 45057 | F6: =E6+1 -> 45058 | G6: =F6+1 -> 45059 | P6: =DAY(E4) -> 4 | Q6: =DAY(E12) -> 1
B7: =IF(COUNTIF(名簿!B3:G3, B3) > 0, "●", "") -> ● | C7: =IF(COUNTIF(名簿!B3:G3, C3) > 0, "●", "") | D7: =IF(COUNTIF(名簿!B3:G3, D3) > 0, "●", "") | E7: =IF(COUNTIF(名簿!B3:G3, E3) > 0, "●", "") -> ● | F7: =IF(COUNTIF(名簿!B3:G3, F3) > 0, "●", "") | G7: =IF(COUNTIF(名簿!B3:G3, G3) > 0, "●", "") | P7: =DAY(F4) -> 5 | Q7: =DAY(F12) -> 2
A8: =G6+1 -> 45060 | B8: =A8+1 -> 45061 | C8: =B8+1 -> 45062 | D8: =C8+1 -> 45063 | E8: =D8+1 -> 45064 | F8: =E8+1 -> 45065 | G8: =F8+1 -> 45066 | P8: =DAY(G4) -> 6 | Q8: =DAY(G12) -> 3
B9: =IF(COUNTIF(名簿!B3:G3, B3) > 0, "●", "") -> ● | C9: =IF(COUNTIF(名簿!B3:G3, C3) > 0, "●", "") | D9: =IF(COUNTIF(名簿!B3:G3, D3) > 0, "●", "") | E9: =IF(COUNTIF(名簿!B3:G3, E3) > 0, "●", "") -> ● | F9: =IF(COUNTIF(名簿!B3:G3, F3) > 0, "●", "") | G9: =IF(COUNTIF(名簿!B3:G3, G3) > 0, "●", "")
A10: =G8+1 -> 45067 | B10: =A10+1 -> 45068 | C10: =B10+1 -> 45069 | D10: =C10+1 -> 45070 | E10: =D10+1 -> 45071 | F10: =E10+1 -> 45072 | G10: =F10+1 -> 45073
B11: =IF(COUNTIF(名簿!B3:G3, B3) > 0, "●", "") -> ● | C11: =IF(COUNTIF(名簿!B3:G3, C3) > 0, "●", "") | D11: =IF(COUNTIF(名簿!B3:G3, D3) > 0, "●", "") | E11: =IF(COUNTIF(名簿!B3:G3, E3) > 0, "●", "") -> ● | F11: =IF(COUNTIF(名簿!B3:G3, F3) > 0, "●", "") | G11: =IF(COUNTIF(名簿!B3:G3, G3) > 0, "●", "")
A12: =G10+1 -> 45074 | B12: =A12+1 -> 45075 | C12: =B12+1 -> 45076 | D12: =C12+1 -> 45077 | E12: =D12+1 -> 45078 | F12: =E12+1 -> 45079 | G12: =F12+1 -> 45080
B13: =IF(COUNTIF(名簿!B3:G3, B3) > 0, "●", "") -> ● | C13: =IF(AND(COUNTIF(名簿!B3:G3, C3)>0, $Q$4>=25), "●", "") | D13: =IF(AND(COUNTIF(名簿!B3:G3, D3)>0, $Q$5>=26), "●", "") | E13: =IF(AND(COUNTIF(名簿!B3:G3, E3)>0, $Q$6>=27), "●", "") | F13: =IF(AND(COUNTIF(名簿!B3:G3, F3)>0, $Q$7>=28), "●", "") | G13: =IF(AND(COUNTIF(名簿!B3:G3, G3)>0, $Q$8>=29), "●", "")
A14: =G12+1 -> 45081 | B14: =A14+1 -> 45082 | C14: =B14+1 -> 45083 | D14: =C14+1 -> 45084 | E14: =D14+1 -> 45085 | F14: =E14+1 -> 45086 | G14: =F14+1 -> 45087
B15: =IF(AND(COUNTIF(名簿!B3:G3, B3)>0, $Q$3>=30), "●", "")

Sheet 原本  (9)
A2: 2023 | B2: 年 | C2: 5 | D2: 月 | E2: =名簿!A3 -> 1 | G2: 様 | P2: =DATE($A$2,$C$2,1) -> 45047 | Q2: =WEEKDAY($P$2) -> 2
A3: 日 | B3: 月 | C3: 火 | D3: 水 | E3: 木 | F3: 金 | G3: 土 | P3: =DAY(B4) -> 1 | Q3: =DAY(B14) -> 5
A4: =$P$2-($Q$2-1) -> 45046 | B4: =A4+1 -> 45047 | C4: =B4+1 -> 45048 | D4: =C4+1 -> 45049 | E4: =D4+1 -> 45050 | F4: =E4+1 -> 45051 | G4: =F4+1 -> 45052 | P4: =DAY(C4) -> 2 | Q4: =DAY(C12) -> 30
B5: =IF(AND(COUNTIF(名簿!B3:G3, B3)>0, $P$3<=2), "●", "") -> ● | C5: =IF(AND(COUNTIF(名簿!B3:G3, C3)>0, $P$4<=3), "●", "") | D5: =IF(AND(COUNTIF(名簿!B3:G3, D3)>0, $P$5<=4), "●", "") | E5: =IF(AND(COUNTIF(名簿!B3:G3, E3)>0, $P$6<=5), "●", "") -> ● | F5: =IF(AND(COUNTIF(名簿!B3:G3, F3)>0, $P$7<=6), "●", "") | G5: =IF(COUNTIF(名簿!B3:G3, G3) > 0, "●", "") | P5: =DAY(D4) -> 3 | Q5: =DAY(D12) -> 31
A6: =G4+1 -> 45053 | B6: =A6+1 -> 45054 | C6: =B6+1 -> 45055 | D6: =C6+1 -> 45056 | E6: =D6+1 -> 45057 | F6: =E6+1 -> 45058 | G6: =F6+1 -> 45059 | P6: =DAY(E4) -> 4 | Q6: =DAY(E12) -> 1
B7: =IF(COUNTIF(名簿!B3:G3, B3) > 0, "●", "") -> ● | C7: =IF(COUNTIF(名簿!B3:G3, C3) > 0, "●", "") | D7: =IF(COUNTIF(名簿!B3:G3, D3) > 0, "●", "") | E7: =IF(COUNTIF(名簿!B3:G3, E3) > 0, "●", "") -> ● | F7: =IF(COUNTIF(名簿!B3:G3, F3) > 0, "●", "") | G7: =IF(COUNTIF(名簿!B3:G3, G3) > 0, "●", "") | P7: =DAY(F4) -> 5 | Q7: =DAY(F12) -> 2
A8: =G6+1 -> 45060 | B8: =A8+1 -> 45061 | C8: =B8+1 -> 45062 | D8: =C8+1 -> 45063 | E8: =D8+1 -> 45064 | F8: =E8+1 -> 45065 | G8: =F8+1 -> 45066 | P8: =DAY(G4) -> 6 | Q8: =DAY(G12) -> 3
B9: =IF(COUNTIF(名簿!B3:G3, B3) > 0, "●", "") -> ● | C9: =IF(COUNTIF(名簿!B3:G3, C3) > 0, "●", "") | D9: =IF(COUNTIF(名簿!B3:G3, D3) > 0, "●", "") | E9: =IF(COUNTIF(名簿!B3:G3, E3) > 0, "●", "") -> ● | F9: =IF(COUNTIF(名簿!B3:G3, F3) > 0, "●", "") | G9: =IF(COUNTIF(名簿!B3:G3, G3) > 0, "●", "")
A10: =G8+1 -> 45067 | B10: =A10+1 -> 45068 | C10: =B10+1 -> 45069 | D10: =C10+1 -> 45070 | E10: =D10+1 -> 45071 | F10: =E10+1 -> 45072 | G10: =F10+1 -> 45073
B11: =IF(COUNTIF(名簿!B3:G3, B3) > 0, "●", "") -> ● | C11: =IF(COUNTIF(名簿!B3:G3, C3) > 0, "●", "") | D11: =IF(COUNTIF(名簿!B3:G3, D3) > 0, "●", "") | E11: =IF(COUNTIF(名簿!B3:G3, E3) > 0, "●", "") -> ● | F11: =IF(COUNTIF(名簿!B3:G3, F3) > 0, "●", "") | G11: =IF(COUNTIF(名簿!B3:G3, G3) > 0, "●", "")
A12: =G10+1 -> 45074 | B12: =A12+1 -> 45075 | C12: =B12+1 -> 45076 | D12: =C12+1 -> 45077 | E12: =D12+1 -> 45078 | F12: =E12+1 -> 45079 | G12: =F12+1 -> 45080
B13: =IF(COUNTIF(名簿!B3:G3, B3) > 0, "●", "") -> ● | C13: =IF(AND(COUNTIF(名簿!B3:G3, C3)>0, $Q$4>=25), "●", "") | D13: =IF(AND(COUNTIF(名簿!B3:G3, D3)>0, $Q$5>=26), "●", "") | E13: =IF(AND(COUNTIF(名簿!B3:G3, E3)>0, $Q$6>=27), "●", "") | F13: =IF(AND(COUNTIF(名簿!B3:G3, F3)>0, $Q$7>=28), "●", "") | G13: =IF(AND(COUNTIF(名簿!B3:G3, G3)>0, $Q$8>=29), "●", "")
A14: =G12+1 -> 45081 | B14: =A14+1 -> 45082 | C14: =B14+1 -> 45083 | D14: =C14+1 -> 45084 | E14: =D14+1 -> 45085 | F14: =E14+1 -> 45086 | G14: =F14+1 -> 45087
B15: =IF(AND(COUNTIF(名簿!B3:G3, B3)>0, $Q$3>=30), "●", "")

Sheet 原本  (10)
A2: 2023 | B2: 年 | C2: 5 | D2: 月 | E2: =名簿!A3 -> 1 | G2: 様 | P2: =DATE($A$2,$C$2,1) -> 45047 | Q2: =WEEKDAY($P$2) -> 2
A3: 日 | B3: 月 | C3: 火 | D3: 水 | E3: 木 | F3: 金 | G3: 土 | P3: =DAY(B4) -> 1 | Q3: =DAY(B14) -> 5
A4: =$P$2-($Q$2-1) -> 45046 | B4: =A4+1 -> 45047 | C4: =B4+1 -> 45048 | D4: =C4+1 -> 45049 | E4: =D4+1 -> 45050 | F4: =E4+1 -> 45051 | G4: =F4+1 -> 45052 | P4: =DAY(C4) -> 2 | Q4: =DAY(C12) -> 30
B5: =IF(AND(COUNTIF(名簿!B3:G3, B3)>0, $P$3<=2), "●", "") -> ● | C5: =IF(AND(COUNTIF(名簿!B3:G3, C3)>0, $P$4<=3), "●", "") | D5: =IF(AND(COUNTIF(名簿!B3:G3, D3)>0, $P$5<=4), "●", "") | E5: =IF(AND(COUNTIF(名簿!B3:G3, E3)>0, $P$6<=5), "●", "") -> ● | F5: =IF(AND(COUNTIF(名簿!B3:G3, F3)>0, $P$7<=6), "●", "") | G5: =IF(COUNTIF(名簿!B3:G3, G3) > 0, "●", "") | P5: =DAY(D4) -> 3 | Q5: =DAY(D12) -> 31
A6: =G4+1 -> 45053 | B6: =A6+1 -> 45054 | C6: =B6+1 -> 45055 | D6: =C6+1 -> 45056 | E6: =D6+1 -> 45057 | F6: =E6+1 -> 45058 | G6: =F6+1 -> 45059 | P6: =DAY(E4) -> 4 | Q6: =DAY(E12) -> 1
B7: =IF(COUNTIF(名簿!B3:G3, B3) > 0, "●", "") -> ● | C7: =IF(COUNTIF(名簿!B3:G3, C3) > 0, "●", "") | D7: =IF(COUNTIF(名簿!B3:G3, D3) > 0, "●", "") | E7: =IF(COUNTIF(名簿!B3:G3, E3) > 0, "●", "") -> ● | F7: =IF(COUNTIF(名簿!B3:G3, F3) > 0, "●", "") | G7: =IF(COUNTIF(名簿!B3:G3, G3) > 0, "●", "") | P7: =DAY(F4) -> 5 | Q7: =DAY(F12) -> 2
A8: =G6+1 -> 45060 | B8: =A8+1 -> 45061 | C8: =B8+1 -> 45062 | D8: =C8+1 -> 45063 | E8: =D8+1 -> 45064 | F8: =E8+1 -> 45065 | G8: =F8+1 -> 45066 | P8: =DAY(G4) -> 6 | Q8: =DAY(G12) -> 3
B9: =IF(COUNTIF(名簿!B3:G3, B3) > 0, "●", "") -> ● | C9: =IF(COUNTIF(名簿!B3:G3, C3) > 0, "●", "") | D9: =IF(COUNTIF(名簿!B3:G3, D3) > 0, "●", "") | E9: =IF(COUNTIF(名簿!B3:G3, E3) > 0, "●", "") -> ● | F9: =IF(COUNTIF(名簿!B3:G3, F3) > 0, "●", "") | G9: =IF(COUNTIF(名簿!B3:G3, G3) > 0, "●", "")
A10: =G8+1 -> 45067 | B10: =A10+1 -> 45068 | C10: =B10+1 -> 45069 | D10: =C10+1 -> 45070 | E10: =D10+1 -> 45071 | F10: =E10+1 -> 45072 | G10: =F10+1 -> 45073
B11: =IF(COUNTIF(名簿!B3:G3, B3) > 0, "●", "") -> ● | C11: =IF(COUNTIF(名簿!B3:G3, C3) > 0, "●", "") | D11: =IF(COUNTIF(名簿!B3:G3, D3) > 0, "●", "") | E11: =IF(COUNTIF(名簿!B3:G3, E3) > 0, "●", "") -> ● | F11: =IF(COUNTIF(名簿!B3:G3, F3) > 0, "●", "") | G11: =IF(COUNTIF(名簿!B3:G3, G3) > 0, "●", "")
A12: =G10+1 -> 45074 | B12: =A12+1 -> 45075 | C12: =B12+1 -> 45076 | D12: =C12+1 -> 45077 | E12: =D12+1 -> 45078 | F12: =E12+1 -> 45079 | G12: =F12+1 -> 45080
B13: =IF(COUNTIF(名簿!B3:G3, B3) > 0, "●", "") -> ● | C13: =IF(AND(COUNTIF(名簿!B3:G3, C3)>0, $Q$4>=25), "●", "") | D13: =IF(AND(COUNTIF(名簿!B3:G3, D3)>0, $Q$5>=26), "●", "") | E13: =IF(AND(COUNTIF(名簿!B3:G3, E3)>0, $Q$6>=27), "●", "") | F13: =IF(AND(COUNTIF(名簿!B3:G3, F3)>0, $Q$7>=28), "●", "") | G13: =IF(AND(COUNTIF(名簿!B3:G3, G3)>0, $Q$8>=29), "●", "")
A14: =G12+1 -> 45081 | B14: =A14+1 -> 45082 | C14: =B14+1 -> 45083 | D14: =C14+1 -> 45084 | E14: =D14+1 -> 45085 | F14: =E14+1 -> 45086 | G14: =F14+1 -> 45087
B15: =IF(AND(COUNTIF(名簿!B3:G3, B3)>0, $Q$3>=30), "●", "")

Sheet 原本  (11)
A2: 2023 | B2: 年 | C2: 5 | D2: 月 | E2: =名簿!A3 -> 1 | G2: 様 | P2: =DATE($A$2,$C$2,1) -> 45047 | Q2: =WEEKDAY($P$2) -> 2
A3: 日 | B3: 月 | C3: 火 | D3: 水 | E3: 木 | F3: 金 | G3: 土 | P3: =DAY(B4) -> 1 | Q3: =DAY(B14) -> 5
A4: =$P$2-($Q$2-1) -> 45046 | B4: =A4+1 -> 45047 | C4: =B4+1 -> 45048 | D4: =C4+1 -> 45049 | E4: =D4+1 -> 45050 | F4: =E4+1 -> 45051 | G4: =F4+1 -> 45052 | P4: =DAY(C4) -> 2 | Q4: =DAY(C12) -> 30
B5: =IF(AND(COUNTIF(名簿!B3:G3, B3)>0, $P$3<=2), "●", "") -> ● | C5: =IF(AND(COUNTIF(名簿!B3:G3, C3)>0, $P$4<=3), "●", "") | D5: =IF(AND(COUNTIF(名簿!B3:G3, D3)>0, $P$5<=4), "●", "") | E5: =IF(AND(COUNTIF(名簿!B3:G3, E3)>0, $P$6<=5), "●", "") -> ● | F5: =IF(AND(COUNTIF(名簿!B3:G3, F3)>0, $P$7<=6), "●", "") | G5: =IF(COUNTIF(名簿!B3:G3, G3) > 0, "●", "") | P5: =DAY(D4) -> 3 | Q5: =DAY(D12) -> 31
A6: =G4+1 -> 45053 | B6: =A6+1 -> 45054 | C6: =B6+1 -> 45055 | D6: =C6+1 -> 45056 | E6: =D6+1 -> 45057 | F6: =E6+1 -> 45058 | G6: =F6+1 -> 45059 | P6: =DAY(E4) -> 4 | Q6: =DAY(E12) -> 1
B7: =IF(COUNTIF(名簿!B3:G3, B3) > 0, "●", "") -> ● | C7: =IF(COUNTIF(名簿!B3:G3, C3) > 0, "●", "") | D7: =IF(COUNTIF(名簿!B3:G3, D3) > 0, "●", "") | E7: =IF(COUNTIF(名簿!B3:G3, E3) > 0, "●", "") -> ● | F7: =IF(COUNTIF(名簿!B3:G3, F3) > 0, "●", "") | G7: =IF(COUNTIF(名簿!B3:G3, G3) > 0, "●", "") | P7: =DAY(F4) -> 5 | Q7: =DAY(F12) -> 2
A8: =G6+1 -> 45060 | B8: =A8+1 -> 45061 | C8: =B8+1 -> 45062 | D8: =C8+1 -> 45063 | E8: =D8+1 -> 45064 | F8: =E8+1 -> 45065 | G8: =F8+1 -> 45066 | P8: =DAY(G4) -> 6 | Q8: =DAY(G12) -> 3
B9: =IF(COUNTIF(名簿!B3:G3, B3) > 0, "●", "") -> ● | C9: =IF(COUNTIF(名簿!B3:G3, C3) > 0, "●", "") | D9: =IF(COUNTIF(名簿!B3:G3, D3) > 0, "●", "") | E9: =IF(COUNTIF(名簿!B3:G3, E3) > 0, "●", "") -> ● | F9: =IF(COUNTIF(名簿!B3:G3, F3) > 0, "●", "") | G9: =IF(COUNTIF(名簿!B3:G3, G3) > 0, "●", "")
A10: =G8+1 -> 45067 | B10: =A10+1 -> 45068 | C10: =B10+1 -> 45069 | D10: =C10+1 -> 45070 | E10: =D10+1 -> 45071 | F10: =E10+1 -> 45072 | G10: =F10+1 -> 45073
B11: =IF(COUNTIF(名簿!B3:G3, B3) > 0, "●", "") -> ● | C11: =IF(COUNTIF(名簿!B3:G3, C3) > 0, "●", "") | D11: =IF(COUNTIF(名簿!B3:G3, D3) > 0, "●", "") | E11: =IF(COUNTIF(名簿!B3:G3, E3) > 0, "●", "") -> ● | F11: =IF(COUNTIF(名簿!B3:G3, F3) > 0, "●", "") | G11: =IF(COUNTIF(名簿!B3:G3, G3) > 0, "●", "")
A12: =G10+1 -> 45074 | B12: =A12+1 -> 45075 | C12: =B12+1 -> 45076 | D12: =C12+1 -> 45077 | E12: =D12+1 -> 45078 | F12: =E12+1 -> 45079 | G12: =F12+1 -> 45080
B13: =IF(COUNTIF(名簿!B3:G3, B3) > 0, "●", "") -> ● | C13: =IF(AND(COUNTIF(名簿!B3:G3, C3)>0, $Q$4>=25), "●", "") | D13: =IF(AND(COUNTIF(名簿!B3:G3, D3)>0, $Q$5>=26), "●", "") | E13: =IF(AND(COUNTIF(名簿!B3:G3, E3)>0, $Q$6>=27), "●", "") | F13: =IF(AND(COUNTIF(名簿!B3:G3, F3)>0, $Q$7>=28), "●", "") | G13: =IF(AND(COUNTIF(名簿!B3:G3, G3)>0, $Q$8>=29), "●", "")
A14: =G12+1 -> 45081 | B14: =A14+1 -> 45082 | C14: =B14+1 -> 45083 | D14: =C14+1 -> 45084 | E14: =D14+1 -> 45085 | F14: =E14+1 -> 45086 | G14: =F14+1 -> 45087
B15: =IF(AND(COUNTIF(名簿!B3:G3, B3)>0, $Q$3>=30), "●", "")

Sheet 原本  (12)
A2: 2023 | B2: 年 | C2: 5 | D2: 月 | E2: =名簿!A3 -> 1 | G2: 様 | P2: =DATE($A$2,$C$2,1) -> 45047 | Q2: =WEEKDAY($P$2) -> 2
A3: 日 | B3: 月 | C3: 火 | D3: 水 | E3: 木 | F3: 金 | G3: 土 | P3: =DAY(B4) -> 1 | Q3: =DAY(B14) -> 5
A4: =$P$2-($Q$2-1) -> 45046 | B4: =A4+1 -> 45047 | C4: =B4+1 -> 45048 | D4: =C4+1 -> 45049 | E4: =D4+1 -> 45050 | F4: =E4+1 -> 45051 | G4: =F4+1 -> 45052 | P4: =DAY(C4) -> 2 | Q4: =DAY(C12) -> 30
B5: =IF(AND(COUNTIF(名簿!B3:G3, B3)>0, $P$3<=2), "●", "") -> ● | C5: =IF(AND(COUNTIF(名簿!B3:G3, C3)>0, $P$4<=3), "●", "") | D5: =IF(AND(COUNTIF(名簿!B3:G3, D3)>0, $P$5<=4), "●", "") | E5: =IF(AND(COUNTIF(名簿!B3:G3, E3)>0, $P$6<=5), "●", "") -> ● | F5: =IF(AND(COUNTIF(名簿!B3:G3, F3)>0, $P$7<=6), "●", "") | G5: =IF(COUNTIF(名簿!B3:G3, G3) > 0, "●", "") | P5: =DAY(D4) -> 3 | Q5: =DAY(D12) -> 31
A6: =G4+1 -> 45053 | B6: =A6+1 -> 45054 | C6: =B6+1 -> 45055 | D6: =C6+1 -> 45056 | E6: =D6+1 -> 45057 | F6: =E6+1 -> 45058 | G6: =F6+1 -> 45059 | P6: =DAY(E4) -> 4 | Q6: =DAY(E12) -> 1
B7: =IF(COUNTIF(名簿!B3:G3, B3) > 0, "●", "") -> ● | C7: =IF(COUNTIF(名簿!B3:G3, C3) > 0, "●", "") | D7: =IF(COUNTIF(名簿!B3:G3, D3) > 0, "●", "") | E7: =IF(COUNTIF(名簿!B3:G3, E3) > 0, "●", "") -> ● | F7: =IF(COUNTIF(名簿!B3:G3, F3) > 0, "●", "") | G7: =IF(COUNTIF(名簿!B3:G3, G3) > 0, "●", "") | P7: =DAY(F4) -> 5 | Q7: =DAY(F12) -> 2
A8: =G6+1 -> 45060 | B8: =A8+1 -> 45061 | C8: =B8+1 -> 45062 | D8: =C8+1 -> 45063 | E8: =D8+1 -> 45064 | F8: =E8+1 -> 45065 | G8: =F8+1 -> 45066 | P8: =DAY(G4) -> 6 | Q8: =DAY(G12) -> 3
B9: =IF(COUNTIF(名簿!B3:G3, B3) > 0, "●", "") -> ● | C9: =IF(COUNTIF(名簿!B3:G3, C3) > 0, "●", "") | D9: =IF(COUNTIF(名簿!B3:G3, D3) > 0, "●", "") | E9: =IF(COUNTIF(名簿!B3:G3, E3) > 0, "●", "") -> ● | F9: =IF(COUNTIF(名簿!B3:G3, F3) > 0, "●", "") | G9: =IF(COUNTIF(名簿!B3:G3, G3) > 0, "●", "")
A10: =G8+1 -> 45067 | B10: =A10+1 -> 45068 | C10: =B10+1 -> 45069 | D10: =C10+1 -> 45070 | E10: =D10+1 -> 45071 | F10: =E10+1 -> 45072 | G10: =F10+1 -> 45073
B11: =IF(COUNTIF(名簿!B3:G3, B3) > 0, "●", "") -> ● | C11: =IF(COUNTIF(名簿!B3:G3, C3) > 0, "●", "") | D11: =IF(COUNTIF(名簿!B3:G3, D3) > 0, "●", "") | E11: =IF(COUNTIF(名簿!B3:G3, E3) > 0, "●", "") -> ● | F11: =IF(COUNTIF(名簿!B3:G3, F3) > 0, "●", "") | G11: =IF(COUNTIF(名簿!B3:G3, G3) > 0, "●", "")
A12: =G10+1 -> 45074 | B12: =A12+1 -> 45075 | C12: =B12+1 -> 45076 | D12: =C12+1 -> 45077 | E12: =D12+1 -> 45078 | F12: =E12+1 -> 45079 | G12: =F12+1 -> 45080
B13: =IF(COUNTIF(名簿!B3:G3, B3) > 0, "●", "") -> ● | C13: =IF(AND(COUNTIF(名簿!B3:G3, C3)>0, $Q$4>=25), "●", "") | D13: =IF(AND(COUNTIF(名簿!B3:G3, D3)>0, $Q$5>=26), "●", "") | E13: =IF(AND(COUNTIF(名簿!B3:G3, E3)>0, $Q$6>=27), "●", "") | F13: =IF(AND(COUNTIF(名簿!B3:G3, F3)>0, $Q$7>=28), "●", "") | G13: =IF(AND(COUNTIF(名簿!B3:G3, G3)>0, $Q$8>=29), "●", "")
A14: =G12+1 -> 45081 | B14: =A14+1 -> 45082 | C14: =B14+1 -> 45083 | D14: =C14+1 -> 45084 | E14: =D14+1 -> 45085 | F14: =E14+1 -> 45086 | G14: =F14+1 -> 45087
B15: =IF(AND(COUNTIF(名簿!B3:G3, B3)>0, $Q$3>=30), "●", "")

Sheet 原本  (13)
A2: 2023 | B2: 年 | C2: 5 | D2: 月 | E2: =名簿!A3 -> 1 | G2: 様 | P2: =DATE($A$2,$C$2,1) -> 45047 | Q2: =WEEKDAY($P$2) -> 2
A3: 日 | B3: 月 | C3: 火 | D3: 水 | E3: 木 | F3: 金 | G3: 土 | P3: =DAY(B4) -> 1 | Q3: =DAY(B14) -> 5
A4: =$P$2-($Q$2-1) -> 45046 | B4: =A4+1 -> 45047 | C4: =B4+1 -> 45048 | D4: =C4+1 -> 45049 | E4: =D4+1 -> 45050 | F4: =E4+1 -> 45051 | G4: =F4+1 -> 45052 | P4: =DAY(C4) -> 2 | Q4: =DAY(C12) -> 30
B5: =IF(AND(COUNTIF(名簿!B3:G3, B3)>0, $P$3<=2), "●", "") -> ● | C5: =IF(AND(COUNTIF(名簿!B3:G3, C3)>0, $P$4<=3), "●", "") | D5: =IF(AND(COUNTIF(名簿!B3:G3, D3)>0, $P$5<=4), "●", "") | E5: =IF(AND(COUNTIF(名簿!B3:G3, E3)>0, $P$6<=5), "●", "") -> ● | F5: =IF(AND(COUNTIF(名簿!B3:G3, F3)>0, $P$7<=6), "●", "") | G5: =IF(COUNTIF(名簿!B3:G3, G3) > 0, "●", "") | P5: =DAY(D4) -> 3 | Q5: =DAY(D12) -> 31
A6: =G4+1 -> 45053 | B6: =A6+1 -> 45054 | C6: =B6+1 -> 45055 | D6: =C6+1 -> 45056 | E6: =D6+1 -> 45057 | F6: =E6+1 -> 45058 | G6: =F6+1 -> 45059 | P6: =DAY(E4) -> 4 | Q6: =DAY(E12) -> 1
B7: =IF(COUNTIF(名簿!B3:G3, B3) > 0, "●", "") -> ● | C7: =IF(COUNTIF(名簿!B3:G3, C3) > 0, "●", "") | D7: =IF(COUNTIF(名簿!B3:G3, D3) > 0, "●", "") | E7: =IF(COUNTIF(名簿!B3:G3, E3) > 0, "●", "") -> ● | F7: =IF(COUNTIF(名簿!B3:G3, F3) > 0, "●", "") | G7: =IF(COUNTIF(名簿!B3:G3, G3) > 0, "●", "") | P7: =DAY(F4) -> 5 | Q7: =DAY(F12) -> 2
A8: =G6+1 -> 45060 | B8: =A8+1 -> 45061 | C8: =B8+1 -> 45062 | D8: =C8+1 -> 45063 | E8: =D8+1 -> 45064 | F8: =E8+1 -> 45065 | G8: =F8+1 -> 45066 | P8: =DAY(G4) -> 6 | Q8: =DAY(G12) -> 3
B9: =IF(COUNTIF(名簿!B3:G3, B3) > 0, "●", "") -> ● | C9: =IF(COUNTIF(名簿!B3:G3, C3) > 0, "●", "") | D9: =IF(COUNTIF(名簿!B3:G3, D3) > 0, "●", "") | E9: =IF(COUNTIF(名簿!B3:G3, E3) > 0, "●", "") -> ● | F9: =IF(COUNTIF(名簿!B3:G3, F3) > 0, "●", "") | G9: =IF(COUNTIF(名簿!B3:G3, G3) > 0, "●", "")
A10: =G8+1 -> 45067 | B10: =A10+1 -> 45068 | C10: =B10+1 -> 45069 | D10: =C10+1 -> 45070 | E10: =D10+1 -> 45071 | F10: =E10+1 -> 45072 | G10: =F10+1 -> 45073
B11: =IF(COUNTIF(名簿!B3:G3, B3) > 0, "●", "") -> ● | C11: =IF(COUNTIF(名簿!B3:G3, C3) > 0, "●", "") | D11: =IF(COUNTIF(名簿!B3:G3, D3) > 0, "●", "") | E11: =IF(COUNTIF(名簿!B3:G3, E3) > 0, "●", "") -> ● | F11: =IF(COUNTIF(名簿!B3:G3, F3) > 0, "●", "") | G11: =IF(COUNTIF(名簿!B3:G3, G3) > 0, "●", "")
A12: =G10+1 -> 45074 | B12: =A12+1 -> 45075 | C12: =B12+1 -> 45076 | D12: =C12+1 -> 45077 | E12: =D12+1 -> 45078 | F12: =E12+1 -> 45079 | G12: =F12+1 -> 45080
B13: =IF(COUNTIF(名簿!B3:G3, B3) > 0, "●", "") -> ● | C13: =IF(AND(COUNTIF(名簿!B3:G3, C3)>0, $Q$4>=25), "●", "") | D13: =IF(AND(COUNTIF(名簿!B3:G3, D3)>0, $Q$5>=26), "●", "") | E13: =IF(AND(COUNTIF(名簿!B3:G3, E3)>0, $Q$6>=27), "●", "") | F13: =IF(AND(COUNTIF(名簿!B3:G3, F3)>0, $Q$7>=28), "●", "") | G13: =IF(AND(COUNTIF(名簿!B3:G3, G3)>0, $Q$8>=29), "●", "")
A14: =G12+1 -> 45081 | B14: =A14+1 -> 45082 | C14: =B14+1 -> 45083 | D14: =C14+1 -> 45084 | E14: =D14+1 -> 45085 | F14: =E14+1 -> 45086 | G14: =F14+1 -> 45087
B15: =IF(AND(COUNTIF(名簿!B3:G3, B3)>0, $Q$3>=30), "●", "")

Sheet 原本  (14)
A2: 2023 | B2: 年 | C2: 5 | D2: 月 | E2: =名簿!A3 -> 1 | G2: 様 | P2: =DATE($A$2,$C$2,1) -> 45047 | Q2: =WEEKDAY($P$2) -> 2
A3: 日 | B3: 月 | C3: 火 | D3: 水 | E3: 木 | F3: 金 | G3: 土 | P3: =DAY(B4) -> 1 | Q3: =DAY(B14) -> 5
A4: =$P$2-($Q$2-1) -> 45046 | B4: =A4+1 -> 45047 | C4: =B4+1 -> 45048 | D4: =C4+1 -> 45049 | E4: =D4+1 -> 45050 | F4: =E4+1 -> 45051 | G4: =F4+1 -> 45052 | P4: =DAY(C4) -> 2 | Q4: =DAY(C12) -> 30
B5: =IF(AND(COUNTIF(名簿!B3:G3, B3)>0, $P$3<=2), "●", "") -> ● | C5: =IF(AND(COUNTIF(名簿!B3:G3, C3)>0, $P$4<=3), "●", "") | D5: =IF(AND(COUNTIF(名簿!B3:G3, D3)>0, $P$5<=4), "●", "") | E5: =IF(AND(COUNTIF(名簿!B3:G3, E3)>0, $P$6<=5), "●", "") -> ● | F5: =IF(AND(COUNTIF(名簿!B3:G3, F3)>0, $P$7<=6), "●", "") | G5: =IF(COUNTIF(名簿!B3:G3, G3) > 0, "●", "") | P5: =DAY(D4) -> 3 | Q5: =DAY(D12) -> 31
A6: =G4+1 -> 45053 | B6: =A6+1 -> 45054 | C6: =B6+1 -> 45055 | D6: =C6+1 -> 45056 | E6: =D6+1 -> 45057 | F6: =E6+1 -> 45058 | G6: =F6+1 -> 45059 | P6: =DAY(E4) -> 4 | Q6: =DAY(E12) -> 1
B7: =IF(COUNTIF(名簿!B3:G3, B3) > 0, "●", "") -> ● | C7: =IF(COUNTIF(名簿!B3:G3, C3) > 0, "●", "") | D7: =IF(COUNTIF(名簿!B3:G3, D3) > 0, "●", "") | E7: =IF(COUNTIF(名簿!B3:G3, E3) > 0, "●", "") -> ● | F7: =IF(COUNTIF(名簿!B3:G3, F3) > 0, "●", "") | G7: =IF(COUNTIF(名簿!B3:G3, G3) > 0, "●", "") | P7: =DAY(F4) -> 5 | Q7: =DAY(F12) -> 2
A8: =G6+1 -> 45060 | B8: =A8+1 -> 45061 | C8: =B8+1 -> 45062 | D8: =C8+1 -> 45063 | E8: =D8+1 -> 45064 | F8: =E8+1 -> 45065 | G8: =F8+1 -> 45066 | P8: =DAY(G4) -> 6 | Q8: =DAY(G12) -> 3
B9: =IF(COUNTIF(名簿!B3:G3, B3) > 0, "●", "") -> ● | C9: =IF(COUNTIF(名簿!B3:G3, C3) > 0, "●", "") | D9: =IF(COUNTIF(名簿!B3:G3, D3) > 0, "●", "") | E9: =IF(COUNTIF(名簿!B3:G3, E3) > 0, "●", "") -> ● | F9: =IF(COUNTIF(名簿!B3:G3, F3) > 0, "●", "") | G9: =IF(COUNTIF(名簿!B3:G3, G3) > 0, "●", "")
A10: =G8+1 -> 45067 | B10: =A10+1 -> 45068 | C10: =B10+1 -> 45069 | D10: =C10+1 -> 45070 | E10: =D10+1 -> 45071 | F10: =E10+1 -> 45072 | G10: =F10+1 -> 45073
B11: =IF(COUNTIF(名簿!B3:G3, B3) > 0, "●", "") -> ● | C11: =IF(COUNTIF(名簿!B3:G3, C3) > 0, "●", "") | D11: =IF(COUNTIF(名簿!B3:G3, D3) > 0, "●", "") | E11: =IF(COUNTIF(名簿!B3:G3, E3) > 0, "●", "") -> ● | F11: =IF(COUNTIF(名簿!B3:G3, F3) > 0, "●", "") | G11: =IF(COUNTIF(名簿!B3:G3, G3) > 0, "●", "")
A12: =G10+1 -> 45074 | B12: =A12+1 -> 45075 | C12: =B12+1 -> 45076 | D12: =C12+1 -> 45077 | E12: =D12+1 -> 45078 | F12: =E12+1 -> 45079 | G12: =F12+1 -> 45080
B13: =IF(COUNTIF(名簿!B3:G3, B3) > 0, "●", "") -> ● | C13: =IF(AND(COUNTIF(名簿!B3:G3, C3)>0, $Q$4>=25), "●", "") | D13: =IF(AND(COUNTIF(名簿!B3:G3, D3)>0, $Q$5>=26), "●", "") | E13: =IF(AND(COUNTIF(名簿!B3:G3, E3)>0, $Q$6>=27), "●", "") | F13: =IF(AND(COUNTIF(名簿!B3:G3, F3)>0, $Q$7>=28), "●", "") | G13: =IF(AND(COUNTIF(名簿!B3:G3, G3)>0, $Q$8>=29), "●", "")
A14: =G12+1 -> 45081 | B14: =A14+1 -> 45082 | C14: =B14+1 -> 45083 | D14: =C14+1 -> 45084 | E14: =D14+1 -> 45085 | F14: =E14+1 -> 45086 | G14: =F14+1 -> 45087
B15: =IF(AND(COUNTIF(名簿!B3:G3, B3)>0, $Q$3>=30), "●", "")

Sheet 原本  (15)
A2: 2023 | B2: 年 | C2: 5 | D2: 月 | E2: =名簿!A3 -> 1 | G2: 様 | P2: =DATE($A$2,$C$2,1) -> 45047 | Q2: =WEEKDAY($P$2) -> 2
A3: 日 | B3: 月 | C3: 火 | D3: 水 | E3: 木 | F3: 金 | G3: 土 | P3: =DAY(B4) -> 1 | Q3: =DAY(B14) -> 5
A4: =$P$2-($Q$2-1) -> 45046 | B4: =A4+1 -> 45047 | C4: =B4+1 -> 45048 | D4: =C4+1 -> 45049 | E4: =D4+1 -> 45050 | F4: =E4+1 -> 45051 | G4: =F4+1 -> 45052 | P4: =DAY(C4) -> 2 | Q4: =DAY(C12) -> 30
B5: =IF(AND(COUNTIF(名簿!B3:G3, B3)>0, $P$3<=2), "●", "") -> ● | C5: =IF(AND(COUNTIF(名簿!B3:G3, C3)>0, $P$4<=3), "●", "") | D5: =IF(AND(COUNTIF(名簿!B3:G3, D3)>0, $P$5<=4), "●", "") | E5: =IF(AND(COUNTIF(名簿!B3:G3, E3)>0, $P$6<=5), "●", "") -> ● | F5: =IF(AND(COUNTIF(名簿!B3:G3, F3)>0, $P$7<=6), "●", "") | G5: =IF(COUNTIF(名簿!B3:G3, G3) > 0, "●", "") | P5: =DAY(D4) -> 3 | Q5: =DAY(D12) -> 31
A6: =G4+1 -> 45053 | B6: =A6+1 -> 45054 | C6: =B6+1 -> 45055 | D6: =C6+1 -> 45056 | E6: =D6+1 -> 45057 | F6: =E6+1 -> 45058 | G6: =F6+1 -> 45059 | P6: =DAY(E4) -> 4 | Q6: =DAY(E12) -> 1
B7: =IF(COUNTIF(名簿!B3:G3, B3) > 0, "●", "") -> ● | C7: =IF(COUNTIF(名簿!B3:G3, C3) > 0, "●", "") | D7: =IF(COUNTIF(名簿!B3:G3, D3) > 0, "●", "") | E7: =IF(COUNTIF(名簿!B3:G3, E3) > 0, "●", "") -> ● | F7: =IF(COUNTIF(名簿!B3:G3, F3) > 0, "●", "") | G7: =IF(COUNTIF(名簿!B3:G3, G3) > 0, "●", "") | P7: =DAY(F4) -> 5 | Q7: =DAY(F12) -> 2
A8: =G6+1 -> 45060 | B8: =A8+1 -> 45061 | C8: =B8+1 -> 45062 | D8: =C8+1 -> 45063 | E8: =D8+1 -> 45064 | F8: =E8+1 -> 45065 | G8: =F8+1 -> 45066 | P8: =DAY(G4) -> 6 | Q8: =DAY(G12) -> 3
B9: =IF(COUNTIF(名簿!B3:G3, B3) > 0, "●", "") -> ● | C9: =IF(COUNTIF(名簿!B3:G3, C3) > 0, "●", "") | D9: =IF(COUNTIF(名簿!B3:G3, D3) > 0, "●", "") | E9: =IF(COUNTIF(名簿!B3:G3, E3) > 0, "●", "") -> ● | F9: =IF(COUNTIF(名簿!B3:G3, F3) > 0, "●", "") | G9: =IF(COUNTIF(名簿!B3:G3, G3) > 0, "●", "")
A10: =G8+1 -> 45067 | B10: =A10+1 -> 45068 | C10: =B10+1 -> 45069 | D10: =C10+1 -> 45070 | E10: =D10+1 -> 45071 | F10: =E10+1 -> 45072 | G10: =F10+1 -> 45073
B11: =IF(COUNTIF(名簿!B3:G3, B3) > 0, "●", "") -> ● | C11: =IF(COUNTIF(名簿!B3:G3, C3) > 0, "●", "") | D11: =IF(COUNTIF(名簿!B3:G3, D3) > 0, "●", "") | E11: =IF(COUNTIF(名簿!B3:G3, E3) > 0, "●", "") -> ● | F11: =IF(COUNTIF(名簿!B3:G3, F3) > 0, "●", "") | G11: =IF(COUNTIF(名簿!B3:G3, G3) > 0, "●", "")
A12: =G10+1 -> 45074 | B12: =A12+1 -> 45075 | C12: =B12+1 -> 45076 | D12: =C12+1 -> 45077 | E12: =D12+1 -> 45078 | F12: =E12+1 -> 45079 | G12: =F12+1 -> 45080
B13: =IF(COUNTIF(名簿!B3:G3, B3) > 0, "●", "") -> ● | C13: =IF(AND(COUNTIF(名簿!B3:G3, C3)>0, $Q$4>=25), "●", "") | D13: =IF(AND(COUNTIF(名簿!B3:G3, D3)>0, $Q$5>=26), "●", "") | E13: =IF(AND(COUNTIF(名簿!B3:G3, E3)>0, $Q$6>=27), "●", "") | F13: =IF(AND(COUNTIF(名簿!B3:G3, F3)>0, $Q$7>=28), "●", "") | G13: =IF(AND(COUNTIF(名簿!B3:G3, G3)>0, $Q$8>=29), "●", "")
A14: =G12+1 -> 45081 | B14: =A14+1 -> 45082 | C14: =B14+1 -> 45083 | D14: =C14+1 -> 45084 | E14: =D14+1 -> 45085 | F14: =E14+1 -> 45086 | G14: =F14+1 -> 45087
B15: =IF(AND(COUNTIF(名簿!B3:G3, B3)>0, $Q$3>=30), "●", "")

Sheet 原本  (16)
A2: 2023 | B2: 年 | C2: 5 | D2: 月 | E2: =名簿!A3 -> 1 | G2: 様 | P2: =DATE($A$2,$C$2,1) -> 45047 | Q2: =WEEKDAY($P$2) -> 2
A3: 日 | B3: 月 | C3: 火 | D3: 水 | E3: 木 | F3: 金 | G3: 土 | P3: =DAY(B4) -> 1 | Q3: =DAY(B14) -> 5
A4: =$P$2-($Q$2-1) -> 45046 | B4: =A4+1 -> 45047 | C4: =B4+1 -> 45048 | D4: =C4+1 -> 45049 | E4: =D4+1 -> 45050 | F4: =E4+1 -> 45051 | G4: =F4+1 -> 45052 | P4: =DAY(C4) -> 2 | Q4: =DAY(C12) -> 30
B5: =IF(AND(COUNTIF(名簿!B3:G3, B3)>0, $P$3<=2), "●", "") -> ● | C5: =IF(AND(COUNTIF(名簿!B3:G3, C3)>0, $P$4<=3), "●", "") | D5: =IF(AND(COUNTIF(名簿!B3:G3, D3)>0, $P$5<=4), "●", "") | E5: =IF(AND(COUNTIF(名簿!B3:G3, E3)>0, $P$6<=5), "●", "") -> ● | F5: =IF(AND(COUNTIF(名簿!B3:G3, F3)>0, $P$7<=6), "●", "") | G5: =IF(COUNTIF(名簿!B3:G3, G3) > 0, "●", "") | P5: =DAY(D4) -> 3 | Q5: =DAY(D12) -> 31
A6: =G4+1 -> 45053 | B6: =A6+1 -> 45054 | C6: =B6+1 -> 45055 | D6: =C6+1 -> 45056 | E6: =D6+1 -> 45057 | F6: =E6+1 -> 45058 | G6: =F6+1 -> 45059 | P6: =DAY(E4) -> 4 | Q6: =DAY(E12) -> 1
B7: =IF(COUNTIF(名簿!B3:G3, B3) > 0, "●", "") -> ● | C7: =IF(COUNTIF(名簿!B3:G3, C3) > 0, "●", "") | D7: =IF(COUNTIF(名簿!B3:G3, D3) > 0, "●", "") | E7: =IF(COUNTIF(名簿!B3:G3, E3) > 0, "●", "") -> ● | F7: =IF(COUNTIF(名簿!B3:G3, F3) > 0, "●", "") | G7: =IF(COUNTIF(名簿!B3:G3, G3) > 0, "●", "") | P7: =DAY(F4) -> 5 | Q7: =DAY(F12) -> 2
A8: =G6+1 -> 45060 | B8: =A8+1 -> 45061 | C8: =B8+1 -> 45062 | D8: =C8+1 -> 45063 | E8: =D8+1 -> 45064 | F8: =E8+1 -> 45065 | G8: =F8+1 -> 45066 | P8: =DAY(G4) -> 6 | Q8: =DAY(G12) -> 3
B9: =IF(COUNTIF(名簿!B3:G3, B3) > 0, "●", "") -> ● | C9: =IF(COUNTIF(名簿!B3:G3, C3) > 0, "●", "") | D9: =IF(COUNTIF(名簿!B3:G3, D3) > 0, "●", "") | E9: =IF(COUNTIF(名簿!B3:G3, E3) > 0, "●", "") -> ● | F9: =IF(COUNTIF(名簿!B3:G3, F3) > 0, "●", "") | G9: =IF(COUNTIF(名簿!B3:G3, G3) > 0, "●", "")
A10: =G8+1 -> 45067 | B10: =A10+1 -> 45068 | C10: =B10+1 -> 45069 | D10: =C10+1 -> 45070 | E10: =D10+1 -> 45071 | F10: =E10+1 -> 45072 | G10: =F10+1 -> 45073
B11: =IF(COUNTIF(名簿!B3:G3, B3) > 0, "●", "") -> ● | C11: =IF(COUNTIF(名簿!B3:G3, C3) > 0, "●", "") | D11: =IF(COUNTIF(名簿!B3:G3, D3) > 0, "●", "") | E11: =IF(COUNTIF(名簿!B3:G3, E3) > 0, "●", "") -> ● | F11: =IF(COUNTIF(名簿!B3:G3, F3) > 0, "●", "") | G11: =IF(COUNTIF(名簿!B3:G3, G3) > 0, "●", "")
A12: =G10+1 -> 45074 | B12: =A12+1 -> 45075 | C12: =B12+1 -> 45076 | D12: =C12+1 -> 45077 | E12: =D12+1 -> 45078 | F12: =E12+1 -> 45079 | G12: =F12+1 -> 45080
B13: =IF(COUNTIF(名簿!B3:G3, B3) > 0, "●", "") -> ● | C13: =IF(AND(COUNTIF(名簿!B3:G3, C3)>0, $Q$4>=25), "●", "") | D13: =IF(AND(COUNTIF(名簿!B3:G3, D3)>0, $Q$5>=26), "●", "") | E13: =IF(AND(COUNTIF(名簿!B3:G3, E3)>0, $Q$6>=27), "●", "") | F13: =IF(AND(COUNTIF(名簿!B3:G3, F3)>0, $Q$7>=28), "●", "") | G13: =IF(AND(COUNTIF(名簿!B3:G3, G3)>0, $Q$8>=29), "●", "")
A14: =G12+1 -> 45081 | B14: =A14+1 -> 45082 | C14: =B14+1 -> 45083 | D14: =C14+1 -> 45084 | E14: =D14+1 -> 45085 | F14: =E14+1 -> 45086 | G14: =F14+1 -> 45087
B15: =IF(AND(COUNTIF(名簿!B3:G3, B3)>0, $Q$3>=30), "●", "")

Sheet 原本  (17)
A2: 2023 | B2: 年 | C2: 5 | D2: 月 | E2: =名簿!A3 -> 1 | G2: 様 | P2: =DATE($A$2,$C$2,1) -> 45047 | Q2: =WEEKDAY($P$2) -> 2
A3: 日 | B3: 月 | C3: 火 | D3: 水 | E3: 木 | F3: 金 | G3: 土 | P3: =DAY(B4) -> 1 | Q3: =DAY(B14) -> 5
A4: =$P$2-($Q$2-1) -> 45046 | B4: =A4+1 -> 45047 | C4: =B4+1 -> 45048 | D4: =C4+1 -> 45049 | E4: =D4+1 -> 45050 | F4: =E4+1 -> 45051 | G4: =F4+1 -> 45052 | P4: =DAY(C4) -> 2 | Q4: =DAY(C12) -> 30
B5: =IF(AND(COUNTIF(名簿!B3:G3, B3)>0, $P$3<=2), "●", "") -> ● | C5: =IF(AND(COUNTIF(名簿!B3:G3, C3)>0, $P$4<=3), "●", "") | D5: =IF(AND(COUNTIF(名簿!B3:G3, D3)>0, $P$5<=4), "●", "") | E5: =IF(AND(COUNTIF(名簿!B3:G3, E3)>0, $P$6<=5), "●", "") -> ● | F5: =IF(AND(COUNTIF(名簿!B3:G3, F3)>0, $P$7<=6), "●", "") | G5: =IF(COUNTIF(名簿!B3:G3, G3) > 0, "●", "") | P5: =DAY(D4) -> 3 | Q5: =DAY(D12) -> 31
A6: =G4+1 -> 45053 | B6: =A6+1 -> 45054 | C6: =B6+1 -> 45055 | D6: =C6+1 -> 45056 | E6: =D6+1 -> 45057 | F6: =E6+1 -> 45058 | G6: =F6+1 -> 45059 | P6: =DAY(E4) -> 4 | Q6: =DAY(E12) -> 1
B7: =IF(COUNTIF(名簿!B3:G3, B3) > 0, "●", "") -> ● | C7: =IF(COUNTIF(名簿!B3:G3, C3) > 0, "●", "") | D7: =IF(COUNTIF(名簿!B3:G3, D3) > 0, "●", "") | E7: =IF(COUNTIF(名簿!B3:G3, E3) > 0, "●", "") -> ● | F7: =IF(COUNTIF(名簿!B3:G3, F3) > 0, "●", "") | G7: =IF(COUNTIF(名簿!B3:G3, G3) > 0, "●", "") | P7: =DAY(F4) -> 5 | Q7: =DAY(F12) -> 2
A8: =G6+1 -> 45060 | B8: =A8+1 -> 45061 | C8: =B8+1 -> 45062 | D8: =C8+1 -> 45063 | E8: =D8+1 -> 45064 | F8: =E8+1 -> 45065 | G8: =F8+1 -> 45066 | P8: =DAY(G4) -> 6 | Q8: =DAY(G12) -> 3
B9: =IF(COUNTIF(名簿!B3:G3, B3) > 0, "●", "") -> ● | C9: =IF(COUNTIF(名簿!B3:G3, C3) > 0, "●", "") | D9: =IF(COUNTIF(名簿!B3:G3, D3) > 0, "●", "") | E9: =IF(COUNTIF(名簿!B3:G3, E3) > 0, "●", "") -> ● | F9: =IF(COUNTIF(名簿!B3:G3, F3) > 0, "●", "") | G9: =IF(COUNTIF(名簿!B3:G3, G3) > 0, "●", "")
A10: =G8+1 -> 45067 | B10: =A10+1 -> 45068 | C10: =B10+1 -> 45069 | D10: =C10+1 -> 45070 | E10: =D10+1 -> 45071 | F10: =E10+1 -> 45072 | G10: =F10+1 -> 45073
B11: =IF(COUNTIF(名簿!B3:G3, B3) > 0, "●", "") -> ● | C11: =IF(COUNTIF(名簿!B3:G3, C3) > 0, "●", "") | D11: =IF(COUNTIF(名簿!B3:G3, D3) > 0, "●", "") | E11: =IF(COUNTIF(名簿!B3:G3, E3) > 0, "●", "") -> ● | F11: =IF(COUNTIF(名簿!B3:G3, F3) > 0, "●", "") | G11: =IF(COUNTIF(名簿!B3:G3, G3) > 0, "●", "")
A12: =G10+1 -> 45074 | B12: =A12+1 -> 45075 | C12: =B12+1 -> 45076 | D12: =C12+1 -> 45077 | E12: =D12+1 -> 45078 | F12: =E12+1 -> 45079 | G12: =F12+1 -> 45080
B13: =IF(COUNTIF(名簿!B3:G3, B3) > 0, "●", "") -> ● | C13: =IF(AND(COUNTIF(名簿!B3:G3, C3)>0, $Q$4>=25), "●", "") | D13: =IF(AND(COUNTIF(名簿!B3:G3, D3)>0, $Q$5>=26), "●", "") | E13: =IF(AND(COUNTIF(名簿!B3:G3, E3)>0, $Q$6>=27), "●", "") | F13: =IF(AND(COUNTIF(名簿!B3:G3, F3)>0, $Q$7>=28), "●", "") | G13: =IF(AND(COUNTIF(名簿!B3:G3, G3)>0, $Q$8>=29), "●", "")
A14: =G12+1 -> 45081 | B14: =A14+1 -> 45082 | C14: =B14+1 -> 45083 | D14: =C14+1 -> 45084 | E14: =D14+1 -> 45085 | F14: =E14+1 -> 45086 | G14: =F14+1 -> 45087
B15: =IF(AND(COUNTIF(名簿!B3:G3, B3)>0, $Q$3>=30), "●", "")

Sheet 原本  (18)
A2: 2023 | B2: 年 | C2: 5 | D2: 月 | E2: =名簿!A3 -> 1 | G2: 様 | P2: =DATE($A$2,$C$2,1) -> 45047 | Q2: =WEEKDAY($P$2) -> 2
A3: 日 | B3: 月 | C3: 火 | D3: 水 | E3: 木 | F3: 金 | G3: 土 | P3: =DAY(B4) -> 1 | Q3: =DAY(B14) -> 5
A4: =$P$2-($Q$2-1) -> 45046 | B4: =A4+1 -> 45047 | C4: =B4+1 -> 45048 | D4: =C4+1 -> 45049 | E4: =D4+1 -> 45050 | F4: =E4+1 -> 45051 | G4: =F4+1 -> 45052 | P4: =DAY(C4) -> 2 | Q4: =DAY(C12) -> 30
B5: =IF(AND(COUNTIF(名簿!B3:G3, B3)>0, $P$3<=2), "●", "") -> ● | C5: =IF(AND(COUNTIF(名簿!B3:G3, C3)>0, $P$4<=3), "●", "") | D5: =IF(AND(COUNTIF(名簿!B3:G3, D3)>0, $P$5<=4), "●", "") | E5: =IF(AND(COUNTIF(名簿!B3:G3, E3)>0, $P$6<=5), "●", "") -> ● | F5: =IF(AND(COUNTIF(名簿!B3:G3, F3)>0, $P$7<=6), "●", "") | G5: =IF(COUNTIF(名簿!B3:G3, G3) > 0, "●", "") | P5: =DAY(D4) -> 3 | Q5: =DAY(D12) -> 31
A6: =G4+1 -> 45053 | B6: =A6+1 -> 45054 | C6: =B6+1 -> 45055 | D6: =C6+1 -> 45056 | E6: =D6+1 -> 45057 | F6: =E6+1 -> 45058 | G6: =F6+1 -> 45059 | P6: =DAY(E4) -> 4 | Q6: =DAY(E12) -> 1
B7: =IF(COUNTIF(名簿!B3:G3, B3) > 0, "●", "") -> ● | C7: =IF(COUNTIF(名簿!B3:G3, C3) > 0, "●", "") | D7: =IF(COUNTIF(名簿!B3:G3, D3) > 0, "●", "") | E7: =IF(COUNTIF(名簿!B3:G3, E3) > 0, "●", "") -> ● | F7: =IF(COUNTIF(名簿!B3:G3, F3) > 0, "●", "") | G7: =IF(COUNTIF(名簿!B3:G3, G3) > 0, "●", "") | P7: =DAY(F4) -> 5 | Q7: =DAY(F12) -> 2
A8: =G6+1 -> 45060 | B8: =A8+1 -> 45061 | C8: =B8+1 -> 45062 | D8: =C8+1 -> 45063 | E8: =D8+1 -> 45064 | F8: =E8+1 -> 45065 | G8: =F8+1 -> 45066 | P8: =DAY(G4) -> 6 | Q8: =DAY(G12) -> 3
B9: =IF(COUNTIF(名簿!B3:G3, B3) > 0, "●", "") -> ● | C9: =IF(COUNTIF(名簿!B3:G3, C3) > 0, "●", "") | D9: =IF(COUNTIF(名簿!B3:G3, D3) > 0, "●", "") | E9: =IF(COUNTIF(名簿!B3:G3, E3) > 0, "●", "") -> ● | F9: =IF(COUNTIF(名簿!B3:G3, F3) > 0, "●", "") | G9: =IF(COUNTIF(名簿!B3:G3, G3) > 0, "●", "")
A10: =G8+1 -> 45067 | B10: =A10+1 -> 45068 | C10: =B10+1 -> 45069 | D10: =C10+1 -> 45070 | E10: =D10+1 -> 45071 | F10: =E10+1 -> 45072 | G10: =F10+1 -> 45073
B11: =IF(COUNTIF(名簿!B3:G3, B3) > 0, "●", "") -> ● | C11: =IF(COUNTIF(名簿!B3:G3, C3) > 0, "●", "") | D11: =IF(COUNTIF(名簿!B3:G3, D3) > 0, "●", "") | E11: =IF(COUNTIF(名簿!B3:G3, E3) > 0, "●", "") -> ● | F11: =IF(COUNTIF(名簿!B3:G3, F3) > 0, "●", "") | G11: =IF(COUNTIF(名簿!B3:G3, G3) > 0, "●", "")
A12: =G10+1 -> 45074 | B12: =A12+1 -> 45075 | C12: =B12+1 -> 45076 | D12: =C12+1 -> 45077 | E12: =D12+1 -> 45078 | F12: =E12+1 -> 45079 | G12: =F12+1 -> 45080
B13: =IF(COUNTIF(名簿!B3:G3, B3) > 0, "●", "") -> ● | C13: =IF(AND(COUNTIF(名簿!B3:G3, C3)>0, $Q$4>=25), "●", "") | D13: =IF(AND(COUNTIF(名簿!B3:G3, D3)>0, $Q$5>=26), "●", "") | E13: =IF(AND(COUNTIF(名簿!B3:G3, E3)>0, $Q$6>=27), "●", "") | F13: =IF(AND(COUNTIF(名簿!B3:G3, F3)>0, $Q$7>=28), "●", "") | G13: =IF(AND(COUNTIF(名簿!B3:G3, G3)>0, $Q$8>=29), "●", "")
A14: =G12+1 -> 45081 | B14: =A14+1 -> 45082 | C14: =B14+1 -> 45083 | D14: =C14+1 -> 45084 | E14: =D14+1 -> 45085 | F14: =E14+1 -> 45086 | G14: =F14+1 -> 45087
B15: =IF(AND(COUNTIF(名簿!B3:G3, B3)>0, $Q$3>=30), "●", "")

Sheet 原本  (19)
A2: 2023 | B2: 年 | C2: 5 | D2: 月 | E2: =名簿!A3 -> 1 | G2: 様 | P2: =DATE($A$2,$C$2,1) -> 45047 | Q2: =WEEKDAY($P$2) -> 2
A3: 日 | B3: 月 | C3: 火 | D3: 水 | E3: 木 | F3: 金 | G3: 土 | P3: =DAY(B4) -> 1 | Q3: =DAY(B14) -> 5
A4: =$P$2-($Q$2-1) -> 45046 | B4: =A4+1 -> 45047 | C4: =B4+1 -> 45048 | D4: =C4+1 -> 45049 | E4: =D4+1 -> 45050 | F4: =E4+1 -> 45051 | G4: =F4+1 -> 45052 | P4: =DAY(C4) -> 2 | Q4: =DAY(C12) -> 30
B5: =IF(AND(COUNTIF(名簿!B3:G3, B3)>0, $P$3<=2), "●", "") -> ● | C5: =IF(AND(COUNTIF(名簿!B3:G3, C3)>0, $P$4<=3), "●", "") | D5: =IF(AND(COUNTIF(名簿!B3:G3, D3)>0, $P$5<=4), "●", "") | E5: =IF(AND(COUNTIF(名簿!B3:G3, E3)>0, $P$6<=5), "●", "") -> ● | F5: =IF(AND(COUNTIF(名簿!B3:G3, F3)>0, $P$7<=6), "●", "") | G5: =IF(COUNTIF(名簿!B3:G3, G3) > 0, "●", "") | P5: =DAY(D4) -> 3 | Q5: =DAY(D12) -> 31
A6: =G4+1 -> 45053 | B6: =A6+1 -> 45054 | C6: =B6+1 -> 45055 | D6: =C6+1 -> 45056 | E6: =D6+1 -> 45057 | F6: =E6+1 -> 45058 | G6: =F6+1 -> 45059 | P6: =DAY(E4) -> 4 | Q6: =DAY(E12) -> 1
B7: =IF(COUNTIF(名簿!B3:G3, B3) > 0, "●", "") -> ● | C7: =IF(COUNTIF(名簿!B3:G3, C3) > 0, "●", "") | D7: =IF(COUNTIF(名簿!B3:G3, D3) > 0, "●", "") | E7: =IF(COUNTIF(名簿!B3:G3, E3) > 0, "●", "") -> ● | F7: =IF(COUNTIF(名簿!B3:G3, F3) > 0, "●", "") | G7: =IF(COUNTIF(名簿!B3:G3, G3) > 0, "●", "") | P7: =DAY(F4) -> 5 | Q7: =DAY(F12) -> 2
A8: =G6+1 -> 45060 | B8: =A8+1 -> 45061 | C8: =B8+1 -> 45062 | D8: =C8+1 -> 45063 | E8: =D8+1 -> 45064 | F8: =E8+1 -> 45065 | G8: =F8+1 -> 45066 | P8: =DAY(G4) -> 6 | Q8: =DAY(G12) -> 3
B9: =IF(COUNTIF(名簿!B3:G3, B3) > 0, "●", "") -> ● | C9: =IF(COUNTIF(名簿!B3:G3, C3) > 0, "●", "") | D9: =IF(COUNTIF(名簿!B3:G3, D3) > 0, "●", "") | E9: =IF(COUNTIF(名簿!B3:G3, E3) > 0, "●", "") -> ● | F9: =IF(COUNTIF(名簿!B3:G3, F3) > 0, "●", "") | G9: =IF(COUNTIF(名簿!B3:G3, G3) > 0, "●", "")
A10: =G8+1 -> 45067 | B10: =A10+1 -> 45068 | C10: =B10+1 -> 45069 | D10: =C10+1 -> 45070 | E10: =D10+1 -> 45071 | F10: =E10+1 -> 45072 | G10: =F10+1 -> 45073
