Workbook

Sheet 自動生成
A1: =TEXT($A$4,"YYYY年M月")&" 各拠点朝礼オンライン参加日程【役員全員】" -> 2023年4月 各拠点朝礼オンライン参加日程【役員全員】
H2: 作成日： | I2: =TODAY() -> 45041
A3: 日付 | B3: 曜日 | C3: 曜日No | D3: 月初スタート | E3: テーブル取得 | F3: 社長 | G3: 筧取締役 | H3: 中川取締役 | I3: 長谷川取締役 | J3: リーダー スピーチ
A4: 45017 | B4: =VLOOKUP($C4,TBL!$B$2:$C$8,2,FALSE) -> 土 | C4: =WEEKDAY(A4) -> 7 | D4: 3 | E4: =D4 -> 3 | F4: =IF($C4=7,"",IF($C4=1,"",IF($C4=2,"全社朝礼",VLOOKUP($E4,TBL!$E$2:$F$120,2,FALSE)))) | G4: =IF($C4=7,"",IF($C4=1,"",IF($C4=2,"全社朝礼",VLOOKUP($E4+2,TBL!$E$2:$F$120,2,FALSE)))) | H4: =IF($C4=7,"",IF($C4=1,"",IF($C4=2,"全社朝礼",VLOOKUP($E4+3,TBL!$E$2:$F$120,2,FALSE)))) | I4: =IF($C4=7,"",IF($C4=1,"",IF($C4=2,"全社朝礼",VLOOKUP($E4+4,TBL!$E$2:$F$120,2,FALSE))))
A5: =A4+1 -> 45018 | B5: =VLOOKUP($C5,TBL!$B$2:$C$8,2,FALSE) -> 日 | C5: =WEEKDAY(A5) -> 1 | D5: =5-IF(C5=1,5,IF(C5=7,5,IF(C5=2,5,0))) -> 0 | E5: =E4+D5 -> 3 | F5: =IF($C5=7,"",IF($C5=1,"",IF($C5=2,"全社朝礼",VLOOKUP($E5,TBL!$E$2:$F$120,2,FALSE)))) | G5: =IF($C5=7,"",IF($C5=1,"",IF($C5=2,"全社朝礼",VLOOKUP($E5+2,TBL!$E$2:$F$120,2,FALSE)))) | H5: =IF($C5=7,"",IF($C5=1,"",IF($C5=2,"全社朝礼",VLOOKUP($E5+3,TBL!$E$2:$F$120,2,FALSE)))) | I5: =IF($C5=7,"",IF($C5=1,"",IF($C5=2,"全社朝礼",VLOOKUP($E5+4,TBL!$E$2:$F$120,2,FALSE))))
A6: =A5+1 -> 45019 | B6: =VLOOKUP($C6,TBL!$B$2:$C$8,2,FALSE) -> 月 | C6: =WEEKDAY(A6) -> 2 | D6: =5-IF(C6=1,5,IF(C6=7,5,IF(C6=2,5,0))) -> 0 | E6: =E5+D6 -> 3 | F6: =IF($C6=7,"",IF($C6=1,"",IF($C6=2,"全社朝礼",VLOOKUP($E6,TBL!$E$2:$F$120,2,FALSE)))) -> 全社朝礼 | G6: =IF($C6=7,"",IF($C6=1,"",IF($C6=2,"全社朝礼",VLOOKUP($E6+2,TBL!$E$2:$F$120,2,FALSE)))) -> 全社朝礼 | H6: =IF($C6=7,"",IF($C6=1,"",IF($C6=2,"全社朝礼",VLOOKUP($E6+3,TBL!$E$2:$F$120,2,FALSE)))) -> 全社朝礼 | I6: =IF($C6=7,"",IF($C6=1,"",IF($C6=2,"全社朝礼",VLOOKUP($E6+4,TBL!$E$2:$F$120,2,FALSE)))) -> 全社朝礼 | J6: 石川満
A7: =A6+1 -> 45020 | B7: =VLOOKUP($C7,TBL!$B$2:$C$8,2,FALSE) -> 火 | C7: =WEEKDAY(A7) -> 3 | D7: =5-IF(C7=1,5,IF(C7=7,5,IF(C7=2,5,0))) -> 5 | E7: =E6+D7 -> 8 | F7: =IF($C7=7,"",IF($C7=1,"",IF($C7=2,"全社朝礼",VLOOKUP($E7,TBL!$E$2:$F$120,2,FALSE)))) -> りんくう常滑 生産管理G2 | G7: =IF($C7=7,"",IF($C7=1,"",IF($C7=2,"全社朝礼",VLOOKUP($E7+2,TBL!$E$2:$F$120,2,FALSE)))) -> 刈谷 生産管理G | H7: =IF($C7=7,"",IF($C7=1,"",IF($C7=2,"全社朝礼",VLOOKUP($E7+3,TBL!$E$2:$F$120,2,FALSE)))) -> 刈谷 製造&品管 | I7: =IF($C7=7,"",IF($C7=1,"",IF($C7=2,"全社朝礼",VLOOKUP($E7+4,TBL!$E$2:$F$120,2,FALSE)))) -> 知立 管理G | N7: <頻度確認＞
A8: =A7+1 -> 45021 | B8: =VLOOKUP($C8,TBL!$B$2:$C$8,2,FALSE) -> 水 | C8: =WEEKDAY(A8) -> 4 | D8: =5-IF(C8=1,5,IF(C8=7,5,IF(C8=2,5,0))) -> 5 | E8: =E7+D8 -> 13 | F8: =IF($C8=7,"",IF($C8=1,"",IF($C8=2,"全社朝礼",VLOOKUP($E8,TBL!$E$2:$F$120,2,FALSE)))) -> 知立 生産管理G | G8: =IF($C8=7,"",IF($C8=1,"",IF($C8=2,"全社朝礼",VLOOKUP($E8+2,TBL!$E$2:$F$120,2,FALSE)))) -> りんくう常滑 製造&品管 | H8: =IF($C8=7,"",IF($C8=1,"",IF($C8=2,"全社朝礼",VLOOKUP($E8+3,TBL!$E$2:$F$120,2,FALSE)))) -> りんくう常滑 生産管理G1 | I8: =IF($C8=7,"",IF($C8=1,"",IF($C8=2,"全社朝礼",VLOOKUP($E8+4,TBL!$E$2:$F$120,2,FALSE)))) -> りんくう常滑 生産管理G2 | M8: 拠点No | N8: 拠点 | O8: 社長 | P8: 筧取締役 | Q8: 中川取締役 | R8: 長谷川取締役
A9: =A8+1 -> 45022 | B9: =VLOOKUP($C9,TBL!$B$2:$C$8,2,FALSE) -> 木 | C9: =WEEKDAY(A9) -> 5 | D9: =5-IF(C9=1,5,IF(C9=7,5,IF(C9=2,5,0))) -> 5 | E9: =E8+D9 -> 18 | F9: =IF($C9=7,"",IF($C9=1,"",IF($C9=2,"全社朝礼",VLOOKUP($E9,TBL!$E$2:$F$120,2,FALSE)))) -> 営業戦略T | G9: =IF($C9=7,"",IF($C9=1,"",IF($C9=2,"全社朝礼",VLOOKUP($E9+2,TBL!$E$2:$F$120,2,FALSE)))) -> 刈谷 製造&品管 | H9: =IF($C9=7,"",IF($C9=1,"",IF($C9=2,"全社朝礼",VLOOKUP($E9+3,TBL!$E$2:$F$120,2,FALSE)))) -> 知立 管理G | I9: =IF($C9=7,"",IF($C9=1,"",IF($C9=2,"全社朝礼",VLOOKUP($E9+4,TBL!$E$2:$F$120,2,FALSE)))) -> 知立 生産管理G | M9: 1 | N9: 刈谷 生産管理G | O9: =COUNTIF($F$4:$F$34,$N9) -> 2 | P9: =COUNTIF($G$4:$G$34,$N9) -> 2 | Q9: =COUNTIF($H$4:$H$34,$N9) -> 1 | R9: =COUNTIF($I$4:$I$34,$N9) -> 2 | S9: =SUM(O9:R9) -> 7
A10: =A9+1 -> 45023 | B10: =VLOOKUP($C10,TBL!$B$2:$C$8,2,FALSE) -> 金 | C10: =WEEKDAY(A10) -> 6 | D10: =5-IF(C10=1,5,IF(C10=7,5,IF(C10=2,5,0))) -> 5 | E10: =E9+D10 -> 23 | F10: =IF($C10=7,"",IF($C10=1,"",IF($C10=2,"全社朝礼",VLOOKUP($E10,TBL!$E$2:$F$120,2,FALSE)))) -> 島根 生産管理G | G10: =IF($C10=7,"",IF($C10=1,"",IF($C10=2,"全社朝礼",VLOOKUP($E10+2,TBL!$E$2:$F$120,2,FALSE)))) -> りんくう常滑 生産管理G1 | H10: =IF($C10=7,"",IF($C10=1,"",IF($C10=2,"全社朝礼",VLOOKUP($E10+3,TBL!$E$2:$F$120,2,FALSE)))) -> りんくう常滑 生産管理G2 | I10: =IF($C10=7,"",IF($C10=1,"",IF($C10=2,"全社朝礼",VLOOKUP($E10+4,TBL!$E$2:$F$120,2,FALSE)))) -> 営業戦略T | M10: 2 | N10: 刈谷 製造&品管 | O10: =COUNTIF($F$4:$F$34,$N10) -> 2 | P10: =COUNTIF($G$4:$G$34,$N10) -> 2 | Q10: =COUNTIF($H$4:$H$34,$N10) -> 2 | R10: =COUNTIF($I$4:$I$34,$N10) -> 1 | S10: =SUM(O10:R10) -> 7
A11: =A10+1 -> 45024 | B11: =VLOOKUP($C11,TBL!$B$2:$C$8,2,FALSE) -> 土 | C11: =WEEKDAY(A11) -> 7 | D11: =5-IF(C11=1,5,IF(C11=7,5,IF(C11=2,5,0))) -> 0 | E11: =E10+D11 -> 23 | F11: =IF($C11=7,"",IF($C11=1,"",IF($C11=2,"全社朝礼",VLOOKUP($E11,TBL!$E$2:$F$120,2,FALSE)))) | G11: =IF($C11=7,"",IF($C11=1,"",IF($C11=2,"全社朝礼",VLOOKUP($E11+2,TBL!$E$2:$F$120,2,FALSE)))) | H11: =IF($C11=7,"",IF($C11=1,"",IF($C11=2,"全社朝礼",VLOOKUP($E11+3,TBL!$E$2:$F$120,2,FALSE)))) | I11: =IF($C11=7,"",IF($C11=1,"",IF($C11=2,"全社朝礼",VLOOKUP($E11+4,TBL!$E$2:$F$120,2,FALSE)))) | M11: 3 | N11: 知立 管理G | O11: =COUNTIF($F$4:$F$34,$N11) -> 1 | P11: =COUNTIF($G$4:$G$34,$N11) -> 2 | Q11: =COUNTIF($H$4:$H$34,$N11) -> 2 | R11: =COUNTIF($I$4:$I$34,$N11) -> 2 | S11: =SUM(O11:R11) -> 7
A12: =A11+1 -> 45025 | B12: =VLOOKUP($C12,TBL!$B$2:$C$8,2,FALSE) -> 日 | C12: =WEEKDAY(A12) -> 1 | D12: =5-IF(C12=1,5,IF(C12=7,5,IF(C12=2,5,0))) -> 0 | E12: =E11+D12 -> 23 | F12: =IF($C12=7,"",IF($C12=1,"",IF($C12=2,"全社朝礼",VLOOKUP($E12,TBL!$E$2:$F$120,2,FALSE)))) | G12: =IF($C12=7,"",IF($C12=1,"",IF($C12=2,"全社朝礼",VLOOKUP($E12+2,TBL!$E$2:$F$120,2,FALSE)))) | H12: =IF($C12=7,"",IF($C12=1,"",IF($C12=2,"全社朝礼",VLOOKUP($E12+3,TBL!$E$2:$F$120,2,FALSE)))) | I12: =IF($C12=7,"",IF($C12=1,"",IF($C12=2,"全社朝礼",VLOOKUP($E12+4,TBL!$E$2:$F$120,2,FALSE)))) | M12: 4 | N12: 知立 生産管理G | O12: =COUNTIF($F$4:$F$34,$N12) -> 2 | P12: =COUNTIF($G$4:$G$34,$N12) -> 2 | Q12: =COUNTIF($H$4:$H$34,$N12) -> 2 | R12: =COUNTIF($I$4:$I$34,$N12) -> 2 | S12: =SUM(O12:R12) -> 8
A13: =A12+1 -> 45026 | B13: =VLOOKUP($C13,TBL!$B$2:$C$8,2,FALSE) -> 月 | C13: =WEEKDAY(A13) -> 2 | D13: =5-IF(C13=1,5,IF(C13=7,5,IF(C13=2,5,0))) -> 0 | E13: =E12+D13 -> 23 | F13: =IF($C13=7,"",IF($C13=1,"",IF($C13=2,"全社朝礼",VLOOKUP($E13,TBL!$E$2:$F$120,2,FALSE)))) -> 全社朝礼 | G13: =IF($C13=7,"",IF($C13=1,"",IF($C13=2,"全社朝礼",VLOOKUP($E13+2,TBL!$E$2:$F$120,2,FALSE)))) -> 全社朝礼 | H13: =IF($C13=7,"",IF($C13=1,"",IF($C13=2,"全社朝礼",VLOOKUP($E13+3,TBL!$E$2:$F$120,2,FALSE)))) -> 全社朝礼 | I13: =IF($C13=7,"",IF($C13=1,"",IF($C13=2,"全社朝礼",VLOOKUP($E13+4,TBL!$E$2:$F$120,2,FALSE)))) -> 全社朝礼 | J13: 片山祐一 | M13: 5 | N13: 島根 生産管理G | O13: =COUNTIF($F$4:$F$34,$N13) -> 2 | P13: =COUNTIF($G$4:$G$34,$N13) -> 1 | Q13: =COUNTIF($H$4:$H$34,$N13) -> 2 | R13: =COUNTIF($I$4:$I$34,$N13) -> 2 | S13: =SUM(O13:R13) -> 7
A14: =A13+1 -> 45027 | B14: =VLOOKUP($C14,TBL!$B$2:$C$8,2,FALSE) -> 火 | C14: =WEEKDAY(A14) -> 3 | D14: =5-IF(C14=1,5,IF(C14=7,5,IF(C14=2,5,0))) -> 5 | E14: =E13+D14 -> 28 | F14: =IF($C14=7,"",IF($C14=1,"",IF($C14=2,"全社朝礼",VLOOKUP($E14,TBL!$E$2:$F$120,2,FALSE)))) -> 刈谷 生産管理G | G14: =IF($C14=7,"",IF($C14=1,"",IF($C14=2,"全社朝礼",VLOOKUP($E14+2,TBL!$E$2:$F$120,2,FALSE)))) -> 知立 管理G | H14: =IF($C14=7,"",IF($C14=1,"",IF($C14=2,"全社朝礼",VLOOKUP($E14+3,TBL!$E$2:$F$120,2,FALSE)))) -> 知立 生産管理G | I14: =IF($C14=7,"",IF($C14=1,"",IF($C14=2,"全社朝礼",VLOOKUP($E14+4,TBL!$E$2:$F$120,2,FALSE)))) -> 島根 生産管理G | M14: 6 | N14: りんくう常滑 製造&品管 | O14: =COUNTIF($F$4:$F$34,$N14) -> 2 | P14: =COUNTIF($G$4:$G$34,$N14) -> 2 | Q14: =COUNTIF($H$4:$H$34,$N14) -> 1 | R14: =COUNTIF($I$4:$I$34,$N14) -> 2 | S14: =SUM(O14:R14) -> 7
A15: =A14+1 -> 45028 | B15: =VLOOKUP($C15,TBL!$B$2:$C$8,2,FALSE) -> 水 | C15: =WEEKDAY(A15) -> 4 | D15: =5-IF(C15=1,5,IF(C15=7,5,IF(C15=2,5,0))) -> 5 | E15: =E14+D15 -> 33 | F15: =IF($C15=7,"",IF($C15=1,"",IF($C15=2,"全社朝礼",VLOOKUP($E15,TBL!$E$2:$F$120,2,FALSE)))) -> りんくう常滑 製造&品管 | G15: =IF($C15=7,"",IF($C15=1,"",IF($C15=2,"全社朝礼",VLOOKUP($E15+2,TBL!$E$2:$F$120,2,FALSE)))) -> りんくう常滑 生産管理G2 | H15: =IF($C15=7,"",IF($C15=1,"",IF($C15=2,"全社朝礼",VLOOKUP($E15+3,TBL!$E$2:$F$120,2,FALSE)))) -> 営業戦略T | I15: =IF($C15=7,"",IF($C15=1,"",IF($C15=2,"全社朝礼",VLOOKUP($E15+4,TBL!$E$2:$F$120,2,FALSE)))) -> 刈谷 生産管理G | M15: 7 | N15: りんくう常滑 生産管理G1 | O15: =COUNTIF($F$4:$F$34,$N15) -> 1 | P15: =COUNTIF($G$4:$G$34,$N15) -> 2 | Q15: =COUNTIF($H$4:$H$34,$N15) -> 2 | R15: =COUNTIF($I$4:$I$34,$N15) -> 1 | S15: =SUM(O15:R15) -> 6
A16: =A15+1 -> 45029 | B16: =VLOOKUP($C16,TBL!$B$2:$C$8,2,FALSE) -> 木 | C16: =WEEKDAY(A16) -> 5 | D16: =5-IF(C16=1,5,IF(C16=7,5,IF(C16=2,5,0))) -> 5 | E16: =E15+D16 -> 38 | F16: =IF($C16=7,"",IF($C16=1,"",IF($C16=2,"全社朝礼",VLOOKUP($E16,TBL!$E$2:$F$120,2,FALSE)))) -> 刈谷 製造&品管 | G16: =IF($C16=7,"",IF($C16=1,"",IF($C16=2,"全社朝礼",VLOOKUP($E16+2,TBL!$E$2:$F$120,2,FALSE)))) -> 知立 生産管理G | H16: =IF($C16=7,"",IF($C16=1,"",IF($C16=2,"全社朝礼",VLOOKUP($E16+3,TBL!$E$2:$F$120,2,FALSE)))) -> 島根 生産管理G | I16: =IF($C16=7,"",IF($C16=1,"",IF($C16=2,"全社朝礼",VLOOKUP($E16+4,TBL!$E$2:$F$120,2,FALSE)))) -> りんくう常滑 製造&品管 | M16: 8 | N16: りんくう常滑 生産管理G2 | O16: =COUNTIF($F$4:$F$34,$N16) -> 2 | P16: =COUNTIF($G$4:$G$34,$N16) -> 2 | Q16: =COUNTIF($H$4:$H$34,$N16) -> 2 | R16: =COUNTIF($I$4:$I$34,$N16) -> 2 | S16: =SUM(O16:R16) -> 8
A17: =A16+1 -> 45030 | B17: =VLOOKUP($C17,TBL!$B$2:$C$8,2,FALSE) -> 金 | C17: =WEEKDAY(A17) -> 6 | D17: =5-IF(C17=1,5,IF(C17=7,5,IF(C17=2,5,0))) -> 5 | E17: =E16+D17 -> 43 | F17: =IF($C17=7,"",IF($C17=1,"",IF($C17=2,"全社朝礼",VLOOKUP($E17,TBL!$E$2:$F$120,2,FALSE)))) -> りんくう常滑 生産管理G1 | G17: =IF($C17=7,"",IF($C17=1,"",IF($C17=2,"全社朝礼",VLOOKUP($E17+2,TBL!$E$2:$F$120,2,FALSE)))) -> 営業戦略T | H17: =IF($C17=7,"",IF($C17=1,"",IF($C17=2,"全社朝礼",VLOOKUP($E17+3,TBL!$E$2:$F$120,2,FALSE)))) -> 刈谷 生産管理G | I17: =IF($C17=7,"",IF($C17=1,"",IF($C17=2,"全社朝礼",VLOOKUP($E17+4,TBL!$E$2:$F$120,2,FALSE)))) -> 刈谷 製造&品管 | M17: 9 | N17: 営業戦略T | O17: =COUNTIF($F$4:$F$34,$N17) -> 2 | P17: =COUNTIF($G$4:$G$34,$N17) -> 1 | Q17: =COUNTIF($H$4:$H$34,$N17) -> 2 | R17: =COUNTIF($I$4:$I$34,$N17) -> 2 | S17: =SUM(O17:R17) -> 7
A18: =A17+1 -> 45031 | B18: =VLOOKUP($C18,TBL!$B$2:$C$8,2,FALSE) -> 土 | C18: =WEEKDAY(A18) -> 7 | D18: =5-IF(C18=1,5,IF(C18=7,5,IF(C18=2,5,0))) -> 0 | E18: =E17+D18 -> 43 | F18: =IF($C18=7,"",IF($C18=1,"",IF($C18=2,"全社朝礼",VLOOKUP($E18,TBL!$E$2:$F$120,2,FALSE)))) | G18: =IF($C18=7,"",IF($C18=1,"",IF($C18=2,"全社朝礼",VLOOKUP($E18+2,TBL!$E$2:$F$120,2,FALSE)))) | H18: =IF($C18=7,"",IF($C18=1,"",IF($C18=2,"全社朝礼",VLOOKUP($E18+3,TBL!$E$2:$F$120,2,FALSE)))) | I18: =IF($C18=7,"",IF($C18=1,"",IF($C18=2,"全社朝礼",VLOOKUP($E18+4,TBL!$E$2:$F$120,2,FALSE)))) | O18: =SUM(O9:O15) -> 12 | P18: =SUM(P9:P15) -> 13 | Q18: =SUM(Q9:Q15) -> 12 | R18: =SUM(R9:R15) -> 12
A19: =A18+1 -> 45032 | B19: =VLOOKUP($C19,TBL!$B$2:$C$8,2,FALSE) -> 日 | C19: =WEEKDAY(A19) -> 1 | D19: =5-IF(C19=1,5,IF(C19=7,5,IF(C19=2,5,0))) -> 0 | E19: =E18+D19 -> 43 | F19: =IF($C19=7,"",IF($C19=1,"",IF($C19=2,"全社朝礼",VLOOKUP($E19,TBL!$E$2:$F$120,2,FALSE)))) | G19: =IF($C19=7,"",IF($C19=1,"",IF($C19=2,"全社朝礼",VLOOKUP($E19+2,TBL!$E$2:$F$120,2,FALSE)))) | H19: =IF($C19=7,"",IF($C19=1,"",IF($C19=2,"全社朝礼",VLOOKUP($E19+3,TBL!$E$2:$F$120,2,FALSE)))) | I19: =IF($C19=7,"",IF($C19=1,"",IF($C19=2,"全社朝礼",VLOOKUP($E19+4,TBL!$E$2:$F$120,2,FALSE))))
A20: =A19+1 -> 45033 | B20: =VLOOKUP($C20,TBL!$B$2:$C$8,2,FALSE) -> 月 | C20: =WEEKDAY(A20) -> 2 | D20: =5-IF(C20=1,5,IF(C20=7,5,IF(C20=2,5,0))) -> 0 | E20: =E19+D20 -> 43 | F20: =IF($C20=7,"",IF($C20=1,"",IF($C20=2,"全社朝礼",VLOOKUP($E20,TBL!$E$2:$F$120,2,FALSE)))) -> 全社朝礼 | G20: =IF($C20=7,"",IF($C20=1,"",IF($C20=2,"全社朝礼",VLOOKUP($E20+2,TBL!$E$2:$F$120,2,FALSE)))) -> 全社朝礼 | H20: =IF($C20=7,"",IF($C20=1,"",IF($C20=2,"全社朝礼",VLOOKUP($E20+3,TBL!$E$2:$F$120,2,FALSE)))) -> 全社朝礼 | I20: =IF($C20=7,"",IF($C20=1,"",IF($C20=2,"全社朝礼",VLOOKUP($E20+4,TBL!$E$2:$F$120,2,FALSE)))) -> 全社朝礼 | J20: 江崎千沙 | N20: リーダー スピーチ
A21: =A20+1 -> 45034 | B21: =VLOOKUP($C21,TBL!$B$2:$C$8,2,FALSE) -> 火 | C21: =WEEKDAY(A21) -> 3 | D21: =5-IF(C21=1,5,IF(C21=7,5,IF(C21=2,5,0))) -> 5 | E21: =E20+D21 -> 48 | F21: =IF($C21=7,"",IF($C21=1,"",IF($C21=2,"全社朝礼",VLOOKUP($E21,TBL!$E$2:$F$120,2,FALSE)))) -> 知立 管理G | G21: =IF($C21=7,"",IF($C21=1,"",IF($C21=2,"全社朝礼",VLOOKUP($E21+2,TBL!$E$2:$F$120,2,FALSE)))) -> 島根 生産管理G | H21: =IF($C21=7,"",IF($C21=1,"",IF($C21=2,"全社朝礼",VLOOKUP($E21+3,TBL!$E$2:$F$120,2,FALSE)))) -> りんくう常滑 製造&品管 | I21: =IF($C21=7,"",IF($C21=1,"",IF($C21=2,"全社朝礼",VLOOKUP($E21+4,TBL!$E$2:$F$120,2,FALSE)))) -> りんくう常滑 生産管理G1 | N21: 杉江陽子
A22: =A21+1 -> 45035 | B22: =VLOOKUP($C22,TBL!$B$2:$C$8,2,FALSE) -> 水 | C22: =WEEKDAY(A22) -> 4 | D22: =5-IF(C22=1,5,IF(C22=7,5,IF(C22=2,5,0))) -> 5 | E22: =E21+D22 -> 53 | F22: =IF($C22=7,"",IF($C22=1,"",IF($C22=2,"全社朝礼",VLOOKUP($E22,TBL!$E$2:$F$120,2,FALSE)))) -> りんくう常滑 生産管理G2 | G22: =IF($C22=7,"",IF($C22=1,"",IF($C22=2,"全社朝礼",VLOOKUP($E22+2,TBL!$E$2:$F$120,2,FALSE)))) -> 刈谷 生産管理G | H22: =IF($C22=7,"",IF($C22=1,"",IF($C22=2,"全社朝礼",VLOOKUP($E22+3,TBL!$E$2:$F$120,2,FALSE)))) -> 刈谷 製造&品管 | I22: =IF($C22=7,"",IF($C22=1,"",IF($C22=2,"全社朝礼",VLOOKUP($E22+4,TBL!$E$2:$F$120,2,FALSE)))) -> 知立 管理G | N22: 片山祐一
A23: =A22+1 -> 45036 | B23: =VLOOKUP($C23,TBL!$B$2:$C$8,2,FALSE) -> 木 | C23: =WEEKDAY(A23) -> 5 | D23: =5-IF(C23=1,5,IF(C23=7,5,IF(C23=2,5,0))) -> 5 | E23: =E22+D23 -> 58 | F23: =IF($C23=7,"",IF($C23=1,"",IF($C23=2,"全社朝礼",VLOOKUP($E23,TBL!$E$2:$F$120,2,FALSE)))) -> 知立 生産管理G | G23: =IF($C23=7,"",IF($C23=1,"",IF($C23=2,"全社朝礼",VLOOKUP($E23+2,TBL!$E$2:$F$120,2,FALSE)))) -> りんくう常滑 製造&品管 | H23: =IF($C23=7,"",IF($C23=1,"",IF($C23=2,"全社朝礼",VLOOKUP($E23+3,TBL!$E$2:$F$120,2,FALSE)))) -> りんくう常滑 生産管理G1 | I23: =IF($C23=7,"",IF($C23=1,"",IF($C23=2,"全社朝礼",VLOOKUP($E23+4,TBL!$E$2:$F$120,2,FALSE)))) -> りんくう常滑 生産管理G2 | N23: 江崎千沙
A24: =A23+1 -> 45037 | B24: =VLOOKUP($C24,TBL!$B$2:$C$8,2,FALSE) -> 金 | C24: =WEEKDAY(A24) -> 6 | D24: =5-IF(C24=1,5,IF(C24=7,5,IF(C24=2,5,0))) -> 5 | E24: =E23+D24 -> 63 | F24: =IF($C24=7,"",IF($C24=1,"",IF($C24=2,"全社朝礼",VLOOKUP($E24,TBL!$E$2:$F$120,2,FALSE)))) -> 営業戦略T | G24: =IF($C24=7,"",IF($C24=1,"",IF($C24=2,"全社朝礼",VLOOKUP($E24+2,TBL!$E$2:$F$120,2,FALSE)))) -> 刈谷 製造&品管 | H24: =IF($C24=7,"",IF($C24=1,"",IF($C24=2,"全社朝礼",VLOOKUP($E24+3,TBL!$E$2:$F$120,2,FALSE)))) -> 知立 管理G | I24: =IF($C24=7,"",IF($C24=1,"",IF($C24=2,"全社朝礼",VLOOKUP($E24+4,TBL!$E$2:$F$120,2,FALSE)))) -> 知立 生産管理G | N24: 石井美玲子
A25: =A24+1 -> 45038 | B25: =VLOOKUP($C25,TBL!$B$2:$C$8,2,FALSE) -> 土 | C25: =WEEKDAY(A25) -> 7 | D25: =5-IF(C25=1,5,IF(C25=7,5,IF(C25=2,5,0))) -> 0 | E25: =E24+D25 -> 63 | F25: =IF($C25=7,"",IF($C25=1,"",IF($C25=2,"全社朝礼",VLOOKUP($E25,TBL!$E$2:$F$120,2,FALSE)))) | G25: =IF($C25=7,"",IF($C25=1,"",IF($C25=2,"全社朝礼",VLOOKUP($E25+2,TBL!$E$2:$F$120,2,FALSE)))) | H25: =IF($C25=7,"",IF($C25=1,"",IF($C25=2,"全社朝礼",VLOOKUP($E25+3,TBL!$E$2:$F$120,2,FALSE)))) | I25: =IF($C25=7,"",IF($C25=1,"",IF($C25=2,"全社朝礼",VLOOKUP($E25+4,TBL!$E$2:$F$120,2,FALSE)))) | N25: 澤邉香穂
A26: =A25+1 -> 45039 | B26: =VLOOKUP($C26,TBL!$B$2:$C$8,2,FALSE) -> 日 | C26: =WEEKDAY(A26) -> 1 | D26: =5-IF(C26=1,5,IF(C26=7,5,IF(C26=2,5,0))) -> 0 | E26: =E25+D26 -> 63 | F26: =IF($C26=7,"",IF($C26=1,"",IF($C26=2,"全社朝礼",VLOOKUP($E26,TBL!$E$2:$F$120,2,FALSE)))) | G26: =IF($C26=7,"",IF($C26=1,"",IF($C26=2,"全社朝礼",VLOOKUP($E26+2,TBL!$E$2:$F$120,2,FALSE)))) | H26: =IF($C26=7,"",IF($C26=1,"",IF($C26=2,"全社朝礼",VLOOKUP($E26+3,TBL!$E$2:$F$120,2,FALSE)))) | I26: =IF($C26=7,"",IF($C26=1,"",IF($C26=2,"全社朝礼",VLOOKUP($E26+4,TBL!$E$2:$F$120,2,FALSE)))) | N26: 三井文乃
A27: =A26+1 -> 45040 | B27: =VLOOKUP($C27,TBL!$B$2:$C$8,2,FALSE) -> 月 | C27: =WEEKDAY(A27) -> 2 | D27: =5-IF(C27=1,5,IF(C27=7,5,IF(C27=2,5,0))) -> 0 | E27: =E26+D27 -> 63 | F27: =IF($C27=7,"",IF($C27=1,"",IF($C27=2,"全社朝礼",VLOOKUP($E27,TBL!$E$2:$F$120,2,FALSE)))) -> 全社朝礼 | G27: =IF($C27=7,"",IF($C27=1,"",IF($C27=2,"全社朝礼",VLOOKUP($E27+2,TBL!$E$2:$F$120,2,FALSE)))) -> 全社朝礼 | H27: =IF($C27=7,"",IF($C27=1,"",IF($C27=2,"全社朝礼",VLOOKUP($E27+3,TBL!$E$2:$F$120,2,FALSE)))) -> 全社朝礼 | I27: =IF($C27=7,"",IF($C27=1,"",IF($C27=2,"全社朝礼",VLOOKUP($E27+4,TBL!$E$2:$F$120,2,FALSE)))) -> 全社朝礼 | J27: 石井美玲子 | N27: 籾山陽平
A28: =A27+1 -> 45041 | B28: =VLOOKUP($C28,TBL!$B$2:$C$8,2,FALSE) -> 火 | C28: =WEEKDAY(A28) -> 3 | D28: =5-IF(C28=1,5,IF(C28=7,5,IF(C28=2,5,0))) -> 5 | E28: =E27+D28 -> 68 | F28: =IF($C28=7,"",IF($C28=1,"",IF($C28=2,"全社朝礼",VLOOKUP($E28,TBL!$E$2:$F$120,2,FALSE)))) -> 島根 生産管理G | G28: =IF($C28=7,"",IF($C28=1,"",IF($C28=2,"全社朝礼",VLOOKUP($E28+2,TBL!$E$2:$F$120,2,FALSE)))) -> りんくう常滑 生産管理G1 | H28: =IF($C28=7,"",IF($C28=1,"",IF($C28=2,"全社朝礼",VLOOKUP($E28+3,TBL!$E$2:$F$120,2,FALSE)))) -> りんくう常滑 生産管理G2 | I28: =IF($C28=7,"",IF($C28=1,"",IF($C28=2,"全社朝礼",VLOOKUP($E28+4,TBL!$E$2:$F$120,2,FALSE)))) -> 営業戦略T | N28: 中野訓子
A29: =A28+1 -> 45042 | B29: =VLOOKUP($C29,TBL!$B$2:$C$8,2,FALSE) -> 水 | C29: =WEEKDAY(A29) -> 4 | D29: =5-IF(C29=1,5,IF(C29=7,5,IF(C29=2,5,0))) -> 5 | E29: =E28+D29 -> 73 | F29: =IF($C29=7,"",IF($C29=1,"",IF($C29=2,"全社朝礼",VLOOKUP($E29,TBL!$E$2:$F$120,2,FALSE)))) -> 刈谷 生産管理G | G29: =IF($C29=7,"",IF($C29=1,"",IF($C29=2,"全社朝礼",VLOOKUP($E29+2,TBL!$E$2:$F$120,2,FALSE)))) -> 知立 管理G | H29: =IF($C29=7,"",IF($C29=1,"",IF($C29=2,"全社朝礼",VLOOKUP($E29+3,TBL!$E$2:$F$120,2,FALSE)))) -> 知立 生産管理G | I29: =IF($C29=7,"",IF($C29=1,"",IF($C29=2,"全社朝礼",VLOOKUP($E29+4,TBL!$E$2:$F$120,2,FALSE)))) -> 島根 生産管理G | N29: 矢田祥章
A30: =A29+1 -> 45043 | B30: =VLOOKUP($C30,TBL!$B$2:$C$8,2,FALSE) -> 木 | C30: =WEEKDAY(A30) -> 5 | D30: =5-IF(C30=1,5,IF(C30=7,5,IF(C30=2,5,0))) -> 5 | E30: =E29+D30 -> 78 | F30: =IF($C30=7,"",IF($C30=1,"",IF($C30=2,"全社朝礼",VLOOKUP($E30,TBL!$E$2:$F$120,2,FALSE)))) -> りんくう常滑 製造&品管 | G30: =IF($C30=7,"",IF($C30=1,"",IF($C30=2,"全社朝礼",VLOOKUP($E30+2,TBL!$E$2:$F$120,2,FALSE)))) -> りんくう常滑 生産管理G2 | H30: =IF($C30=7,"",IF($C30=1,"",IF($C30=2,"全社朝礼",VLOOKUP($E30+3,TBL!$E$2:$F$120,2,FALSE)))) -> 営業戦略T | I30: =IF($C30=7,"",IF($C30=1,"",IF($C30=2,"全社朝礼",VLOOKUP($E30+4,TBL!$E$2:$F$120,2,FALSE)))) -> 刈谷 生産管理G | N30: 石川満
A31: =A30+1 -> 45044 | B31: =VLOOKUP($C31,TBL!$B$2:$C$8,2,FALSE) -> 金 | C31: =WEEKDAY(A31) -> 6 | D31: =5-IF(C31=1,5,IF(C31=7,5,IF(C31=2,5,0))) -> 5 | E31: =E30+D31 -> 83 | F31: =IF($C31=7,"",IF($C31=1,"",IF($C31=2,"全社朝礼",VLOOKUP($E31,TBL!$E$2:$F$120,2,FALSE)))) -> 刈谷 製造&品管 | G31: =IF($C31=7,"",IF($C31=1,"",IF($C31=2,"全社朝礼",VLOOKUP($E31+2,TBL!$E$2:$F$120,2,FALSE)))) -> 知立 生産管理G | H31: =IF($C31=7,"",IF($C31=1,"",IF($C31=2,"全社朝礼",VLOOKUP($E31+3,TBL!$E$2:$F$120,2,FALSE)))) -> 島根 生産管理G | I31: =IF($C31=7,"",IF($C31=1,"",IF($C31=2,"全社朝礼",VLOOKUP($E31+4,TBL!$E$2:$F$120,2,FALSE)))) -> りんくう常滑 製造&品管
A32: =IF(A31="","",IF(MONTH(A31)=MONTH(A31+1),A31+1,"")) -> 45045 | B32: =IF($C32="","",VLOOKUP($C32,TBL!$B$2:$C$8,2,FALSE)) -> 土 | C32: =IF(A32="","",IF(A32="","",WEEKDAY(A32))) -> 7 | D32: =5-IF(C32=1,5,IF(C32=7,5,IF(C32=2,5,0))) -> 0 | E32: =E31+D32 -> 83 | F32: =IF($C32=7,"",IF($C32=1,"",IF($C32=2,"全社朝礼",VLOOKUP($E32,TBL!$E$2:$F$120,2,FALSE)))) | G32: =IF($C32=7,"",IF($C32=1,"",IF($C32=2,"全社朝礼",VLOOKUP($E32+2,TBL!$E$2:$F$120,2,FALSE)))) | H32: =IF($C32=7,"",IF($C32=1,"",IF($C32=2,"全社朝礼",VLOOKUP($E32+3,TBL!$E$2:$F$120,2,FALSE)))) | I32: =IF($C32=7,"",IF($C32=1,"",IF($C32=2,"全社朝礼",VLOOKUP($E32+4,TBL!$E$2:$F$120,2,FALSE))))
A33: =IF(A32="","",IF(MONTH(A32)=MONTH(A32+1),A32+1,"")) -> 45046 | B33: =IF($C33="","",VLOOKUP($C33,TBL!$B$2:$C$8,2,FALSE)) -> 日 | C33: =IF(A33="","",IF(A33="","",WEEKDAY(A33))) -> 1 | D33: =5-IF(C33=1,5,IF(C33=7,5,IF(C33=2,5,0))) -> 0 | E33: =E32+D33 -> 83 | F33: =IF($C33=7,"",IF($C33=1,"",IF($C33=2,"全社朝礼",VLOOKUP($E33,TBL!$E$2:$F$120,2,FALSE)))) | G33: =IF($C33=7,"",IF($C33=1,"",IF($C33=2,"全社朝礼",VLOOKUP($E33+2,TBL!$E$2:$F$120,2,FALSE)))) | H33: =IF($C33=7,"",IF($C33=1,"",IF($C33=2,"全社朝礼",VLOOKUP($E33+3,TBL!$E$2:$F$120,2,FALSE)))) | I33: =IF($C33=7,"",IF($C33=1,"",IF($C33=2,"全社朝礼",VLOOKUP($E33+4,TBL!$E$2:$F$120,2,FALSE))))
A34: =IF(A33="","",IF(MONTH(A33)=MONTH(A33+1),A33+1,"")) | B34: =IF($C34="","",VLOOKUP($C34,TBL!$B$2:$C$8,2,FALSE)) | C34: =IF(A34="","",IF(A34="","",WEEKDAY(A34))) | D34: =5-IF(C34=1,5,IF(C34=7,5,IF(C34=2,5,0))) -> 5 | E34: =E33+D34 -> 88

Sheet TBL
B1: 曜日テーブル | F1: 参加テーブル | G1: 拠点マスタ
B2: 1 | C2: 日 | E2: 1 | F2: 刈谷 生産管理G | G2: 刈谷 生産管理G
B3: 2 | C3: 月 | E3: 2 | F3: 刈谷 製造&品管 | G3: 刈谷 製造&品管
B4: 3 | C4: 火 | E4: 3 | F4: 知立 管理G | G4: 知立 管理G
B5: 4 | C5: 水 | E5: 4 | F5: 知立 生産管理G | G5: 知立 生産管理G
B6: 5 | C6: 木 | E6: 5 | F6: 島根 生産管理G | G6: 島根 生産管理G
B7: 6 | C7: 金 | E7: 6 | F7: りんくう常滑 製造&品管 | G7: りんくう常滑 製造&品管
B8: 7 | C8: 土 | E8: 7 | F8: りんくう常滑 生産管理G1 | G8: りんくう常滑 生産管理G1
E9: 8 | F9: りんくう常滑 生産管理G2 | G9: りんくう常滑 生産管理G2
E10: 9 | F10: 営業戦略T | G10: 営業戦略T
E11: 10 | F11: 刈谷 生産管理G
E12: 11 | F12: 刈谷 製造&品管
E13: 12 | F13: 知立 管理G
E14: 13 | F14: 知立 生産管理G
E15: 14 | F15: 島根 生産管理G
E16: 15 | F16: りんくう常滑 製造&品管
E17: 16 | F17: りんくう常滑 生産管理G1
E18: 17 | F18: りんくう常滑 生産管理G2
E19: 18 | F19: 営業戦略T
E20: 19 | F20: 刈谷 生産管理G
E21: 20 | F21: 刈谷 製造&品管
E22: 21 | F22: 知立 管理G
... E127: 126 | F127: 営業戦略T
