Workbook
Name E16鈴木好男: #REF!
Name ドロップ: #REF!
Name 嶋﨑: #REF!

Sheet 入力シート
A1: 44864
B12: =F40 -> 102982
A14: 品名・形式 | C14: 数量 | D14: 単位 | E14: 単価 | F14: 金額 | G14: 備考
C15: 1 | E15: 100 | F15: =IFERROR(IF(AND(C15="",E15=""),"",(C15*E15)),"") -> 100
C16: 2 | E16: 200 | F16: =IFERROR(IF(AND(C16="",E16=""),"",(C16*E16)),"") -> 400
C17: 3 | E17: 400 | F17: =IFERROR(IF(AND(C17="",E17=""),"",(C17*E17)),"") -> 1200
A18: 《小計》 | E18: =IFERROR(VLOOKUP(A18,[1]器具名ドロップダウン用!A:D,4,FALSE),"") | F18: =IFERROR(IF(AND(C18="",E18=""),"",(C18*E18)),"")
E19: =IFERROR(VLOOKUP(A19,[1]器具名ドロップダウン用!A:D,4,FALSE),"") | F19: =IFERROR(IF(AND(C19="",E19=""),"",(C19*E19)),"")
C20: 1 | E20: 500 | F20: =IFERROR(IF(AND(C20="",E20=""),"",(C20*E20)),"") -> 500
C21: 2 | E21: 6000 | F21: =IFERROR(IF(AND(C21="",E21=""),"",(C21*E21)),"") -> 12000
C22: 5 | E22: 480 | F22: =IFERROR(IF(AND(C22="",E22=""),"",(C22*E22)),"") -> 2400
C23: 1 | E23: 120 | F23: =IFERROR(IF(AND(C23="",E23=""),"",(C23*E23)),"") -> 120
A24: 《小計》 | E24: =IFERROR(VLOOKUP(A24,[1]器具名ドロップダウン用!A:D,4,FALSE),"") | F24: =IFERROR(IF(AND(C24="",E24=""),"",(C24*E24)),"")
E25: =IFERROR(VLOOKUP(A25,[1]器具名ドロップダウン用!A:D,4,FALSE),"") | F25: =IFERROR(IF(AND(C25="",E25=""),"",(C25*E25)),"")
C26: 2 | E26: 300 | F26: =IFERROR(IF(AND(C26="",E26=""),"",(C26*E26)),"") -> 600
C27: 4 | E27: 5500 | F27: =IFERROR(IF(AND(C27="",E27=""),"",(C27*E27)),"") -> 22000
C28: 3 | E28: 600 | F28: =IFERROR(IF(AND(C28="",E28=""),"",(C28*E28)),"") -> 1800
A29: 《小計》 | E29: =IFERROR(VLOOKUP(A29,[1]器具名ドロップダウン用!A:D,4,FALSE),"") | F29: =IFERROR(IF(AND(C29="",E29=""),"",(C29*E29)),"")
E30: =IFERROR(VLOOKUP(A30,[1]器具名ドロップダウン用!A:D,4,FALSE),"") | F30: =IFERROR(IF(AND(C30="",E30=""),"",(C30*E30)),"")
C31: 500 | E31: 100 | F31: =IFERROR(IF(AND(C31="",E31=""),"",(C31*E31)),"") -> 50000
C32: 50 | E32: 50 | F32: =IFERROR(IF(AND(C32="",E32=""),"",(C32*E32)),"") -> 2500
A33: 《小計》 | E33: =IFERROR(VLOOKUP(A33,[1]器具名ドロップダウン用!A:D,4,FALSE),"") | F33: =IFERROR(IF(AND(C33="",E33=""),"",(C33*E33)),"")
E34: =IFERROR(VLOOKUP(A34,[1]器具名ドロップダウン用!A:D,4,FALSE),"") | F34: =IFERROR(IF(AND(C34="",E34=""),"",(C34*E34)),"")
E35: =IFERROR(VLOOKUP(A35,[1]器具名ドロップダウン用!A:D,4,FALSE),"") | F35: =IFERROR(IF(AND(C35="",E35=""),"",(C35*E35)),"")
E36: =IFERROR(VLOOKUP(A36,[1]器具名ドロップダウン用!A:D,4,FALSE),"") | F36: =IFERROR(IF(AND(C36="",E36=""),"",(C36*E36)),"")
E37: =IFERROR(VLOOKUP(A37,[1]器具名ドロップダウン用!A:D,4,FALSE),"") | F37: =IFERROR(IF(AND(C37="",E37=""),"",(C37*E37)),"")
A38: 小計 | F38: =SUM(F15:F37) -> 93620
A39: 消費税 | B39: 0.1 | F39: =ROUNDDOWN(F38*0.1,0) -> 9362
A40: 合計 | F40: =SUM(F38:F39) -> 102982
A42: 備考
