Workbook

Sheet Due date
A1: Due date of FY21 submission
D3: Due date of Unit Report | F3: Due date of BT-Package | H3: Due date of CEO Report | J3: Reference: Stravis-Link
H4: [BUS/BEU/KMJ/BCN/BHK/BSA/BAU/BIN]
C5: Reporting Period | D5: Due date of Unit Report | F5: Due date of BT-Package | H5: Due date of CEO Report | J5: Due date of Stravis-Link
B6: 1st Month | C6: April, 2021 | D6: May 6, 2021 (Japan: May 11, 2021) | F6: May 10, 2021 (Japan: May 12, 2021) | H6: 44330 | J6: May 10, 2021 （Japan: May 12, 2021)
B7: 2nd Month | C7: May, 2021 | D7: 44351 | F7: 44354 | H7: 44358 | J7: June 7, 2021
B8: 3rd Month | C8: Jun, 2021 | D8: July 6, 2021 (US: July 7, 2021) | F8: 44385 | H8: July 13, 2021 (US: July 14, 2021) | J8: July 8, 2021
B9: 4th Month | C9: July, 2021 | D9: 44413 | F9: 44414 | H9: August 13, 2021 (Japan: August 16, 2021) | J9: August 6, 2021 （Japan: August 16, 2021)
B10: 5th Month | C10: August, 2021 | D10: September 6, 2021 (US: September 7, 2021) | F10: September 7, 2021 (US: September 8, 2021) | H10: September 10, 2021 (US: September 13, 2021) | J10: September 7, 2021 (US: September 8, 2021)
B11: 6th Month | C11: September, 2021 | D11: 44475 | F11: 44477 | H11: October 13, 2021 (US: October 14, 2021) | J11: October 8, 2021
B12: 7th Month | C12: October, 2021 | D12: November 4, 2021 (Japan: November 5, 2021) | F12: 44508 | H12: November 11, 2021 (US: November 12, 2021) | J12: November 8, 2021
B13: 8th Month | C13: November, 2021 | D13: 44536 | F13: 44537 | H13: 44540 | J13: December 7, 2021
B14: 9th Month | C14: December, 2021 | D14: January 6, 2022 (Japan: January 7, 2022) | F14: January 10, 2022 (Japan: January 11, 2022) | H14: 44575 | J14: January 10, 2022 （Japan: January 11, 2022)
B15: 10th Month | C15: January, 2022 | D15: 44596 | F15: 44599 | H15: February 10, 2022 (US: February 11, 2022) | J15: February 7, 2022
B16: 11th Month | C16: February, 2022 | D16: 44624 | F16: 44627 | H16: 44630 | J16: March 7, 2022
B17: 12th Month | C17: March, 2022 | D17: April 6, 2022 (US: April 7, 2022) | F17: April 11, 2022 (US: April 13, 2022) | H17: April 14, 2022 (US: TBD) | J17: TBD
B20: [BBR Only]
C21: Reporting Period | D21: Due date of Unit Report | F21: Due date of BT-Package | J21: Due date of Stravis-Link
B22: 1st Month | C22: Apr, 2020 | D22: May 3, 2021 | F22: May 3, 2021 | J22: May 3, 2021
B23: 2nd Month | C23: May, 2020 | D23: June 1, 2021 | F23: June 1, 2021 | J23: June 1, 2021
B24: 3rd Month | C24: Jun, 2020 | D24: July 1, 2021 | F24: July 1, 2021 | J24: July 1, 2021
B25: 4th Month | C25: Jul, 2020 | D25: August 2, 2021 | F25: August 2, 2021 | J25: August 2, 2021
B26: 5th Month | C26: Aug, 2020 | D26: September 1, 2021 | F26: September 1, 2021 | J26: September 1, 2021
B27: 6th Month | C27: Sep, 2020 | D27: October 1, 2021 | F27: October 1, 2021 | J27: October 1, 2021
B28: 7th Month | C28: Oct, 2020 | D28: November 1, 2021 | F28: November 1, 2021 | J28: November 1, 2021
B29: 8th Month | C29: Nov, 2020 | D29: December 1, 2021 | F29: December 1, 2021 | J29: December 1, 2021
B30: 9th Month | C30: Dec, 2020 | D30: January 4, 2021 | F30: January 4, 2021 | J30: January 4, 2021
B31: 10th Month | C31: Jan, 2021 | D31: February 1, 2022 | F31: February 1, 2022 | J31: February 1, 2022
B32: 11th Month | C32: Feb, 2021 | D32: March 1, 2022 | F32: March 1, 2022 | J32: March 1, 2022
B33: 12th Month | C33: Mar, 2021 | D33: Apr 1, 2022 | F33: Apr 1, 2022 | J33: Apr 1, 2022

Sheet PL,HC,INV
AL1: 'OP'! | AO1: 'Previous'! | AT1: =AL1 -> 'OP'! | AW1: =AO1 -> 'Previous'! | BB1: =AL1 -> 'OP'! | BE1: =AO1 -> 'Previous'!
AK2: =VLOOKUP($AK$7,Work1!$F$6:$I$17,2,0) -> Q | AL2: =VLOOKUP($AK$7,Work1!$F$6:$I$17,3,0) -> Q | AO2: =VLOOKUP($AK$7,Work1!$F$6:$I$17,4,0) -> P | AS2: =VLOOKUP($AK$7,Work1!$K$6:$Q$17,2,0) -> Q | AT2: =VLOOKUP($AK$7,Work1!$K$6:$Q$17,3,0) -> Q | AW2: =VLOOKUP($AK$7,Work1!$K$6:$Q$17,4,0) -> P | BA2: =VLOOKUP($AK$7,Work1!$K$6:$Q$17,5,0) -> Q | BB2: =VLOOKUP($AK$7,Work1!$K$6:$Q$17,6,0) -> Q | BE2: =VLOOKUP($AK$7,Work1!$K$6:$Q$17,7,0) -> P
AK3: =AK2 -> Q | AL3: =AL2 -> Q | AO3: =AO2 -> P | AS3: =VLOOKUP($AK$7,Work1!$K$22:$Q$33,2,0) -> Q | AT3: =VLOOKUP($AK$7,Work1!$K$22:$Q$33,3,0) -> Q | AW3: =VLOOKUP($AK$7,Work1!$K$22:$Q$33,4,0) -> P | BA3: =VLOOKUP($AK$7,Work1!$K$22:$Q$33,5,0) -> Q | BB3: =VLOOKUP($AK$7,Work1!$K$22:$Q$33,6,0) -> Q | BE3: =VLOOKUP($AK$7,Work1!$K$22:$Q$33,7,0) -> P
A4: Prev | C4: OP | F4: FY2021 Monthly Actual ver1.0 | P4: BIN | Q4: (Unit:1000LC) | AK4: vs OP / vs FY20 | AO4: Please copy&paste "OP" sheet and "Previous" sheet as they are
D6: RF | I6: =VLOOKUP(P4,Work1!C6:D32,2,0) -> K_INR | L6: (Unit:1000LC) | P6: Input fields | AK6: Select period (1-12)
P7: Input fields, but not affect PL | AK7: 1 | AL7: ex. Apr ->1, Feb ->2 ,,,Mar ->12 *BBR: Jan ->1, Feb ->2 ,,,Dec ->12
D8: RF | E8: 1 | F8: 1. P/L (1) - Overview
D9: RF | E9: 1 | G9: 1-1. P/L Statement | AK9: single month | AS9: Quarter (QTD) | BA9: Annual Year (YTD)
D10: RF | E10: 1 | Q10: =IF($P$4="BBR",Work1!D2,Work1!D3) -> 43922 | R10: =DATE(YEAR(Q10),MONTH(Q10)+1,DAY(Q10)) -> 43952 | S10: =DATE(YEAR(R10),MONTH(R10)+1,DAY(R10)) -> 43983 | T10: =DATE(YEAR(S10),MONTH(S10)+1,DAY(S10)) -> 44013 | U10: =DATE(YEAR(T10),MONTH(T10)+1,DAY(T10)) -> 44044 | V10: =DATE(YEAR(U10),MONTH(U10)+1,DAY(U10)) -> 44075 | W10: =DATE(YEAR(V10),MONTH(V10)+1,DAY(V10)) -> 44105 | X10: =DATE(YEAR(W10),MONTH(W10)+1,DAY(W10)) -> 44136 | Y10: =DATE(YEAR(X10),MONTH(X10)+1,DAY(X10)) -> 44166 | ... AB10: =DATE(YEAR(AA10),MONTH(AA10)+1,DAY(AA10)) -> 44256 | AC10: Q1 | AD10: Q2 | AE10: Q3 | AF10: Q4 | AG10: 1st H | AH10: 2nd H | AI10: Yr. | AK10: Result | AL10: OP | AM10: vs OP | AN10: % | AO10: FY20 | AP10: vs FY20 | AQ10: % | AS10: Result | AT10: OP | AU10: vs OP | AV10: % | AW10: FY20 | AX10: vs FY20 | AY10: % | BA10: Result | BB10: OP | BC10: vs OP | BD10: % | BE10: FY20 | BF10: vs FY20 | BG10: %
A11: 11 | B11: 1 | C11: =ROW() -> 11 | D11: RF | E11: 1 | I11: Net Sales | Q11: =Q76+Q326+Q127+Q181+Q263 -> 536747 | R11: =R76+R326+R127+R181+R263 -> 239742 | S11: =S76+S326+S127+S181+S263 -> 492039 | T11: =T76+T326+T127+T181+T263 -> 513291 | U11: =U76+U326+U127+U181+U263 -> 587099 | V11: =V76+V326+V127+V181+V263 -> 739620 | W11: =W76+W326+W127+W181+W263 -> 620462 | X11: =X76+X326+X127+X181+X263 -> 584851 | ... AB11: =AB76+AB326+AB127+AB181+AB263 -> 770388 | AC11: =SUM(Q11,R11,S11) -> 1268528 | AD11: =SUM(T11,U11,V11) -> 1840010 | AE11: =SUM(W11,X11,Y11) -> 1932059 | AF11: =SUM(Z11,AA11,AB11) -> 1939949 | AG11: =AC11+AD11 -> 3108538 | AH11: =AF11+AE11 -> 3872008 | AI11: =AG11+AH11 -> 6980546 | AK11: =SUM((INDIRECT(AK$2&(ROW())):INDIRECT(AK$3&(ROW())))) -> 536747 | AL11: =SUM(INDIRECT(AL$1&AL$2&$C11):INDIRECT(AL$1&AL$3&$C11)) -> 479840.45 | AM11: =AK11-AL11 -> 56906.548 | AN11: =IFERROR(AK11/AL11,0) -> 1.1185947 | AO11: =SUM(INDIRECT(AO$1&AO$2&$A11):INDIRECT(AO$1&AO$3&$A11))+SUM(INDIRECT(AO$1&AO$2&$B11):INDIRECT(AO$1&AO$3&$B11)) -> 18167 | AP11: =AK11-AO11 -> 518580 | AQ11: =IFERROR(AK11/AO11,0) -> 29.545164 | AS11: =SUM((INDIRECT(AS$2&(ROW())):INDIRECT(AS$3&(ROW())))) -> 536747 | AT11: =SUM(INDIRECT(AT$1&AT$2&$C11):INDIRECT(AT$1&AT$3&$C11)) -> 479840.45 | AU11: =AS11-AT11 -> 56906.548 | AV11: =IFERROR(AS11/AT11,0) -> 1.1185947 | AW11: =SUM(INDIRECT(AW$1&AW$2&$A11):INDIRECT(AW$1&AW$3&$A11))+SUM(INDIRECT(AW$1&AW$2&$B11):INDIRECT(AW$1&AW$3&$B11)) -> 18167 | AX11: =AS11-AW11 -> 518580 | AY11: =IFERROR(AS11/AW11,0) -> 29.545164 | BA11: =SUM((INDIRECT(BA$2&(ROW())):INDIRECT(BA$3&(ROW())))) -> 536747 | BB11: =SUM(INDIRECT(BB$1&BB$2&$C11):INDIRECT(BB$1&BB$3&$C11)) -> 479840.45 | BC11: =BA11-BB11 -> 56906.548 | BD11: =IFERROR(BA11/BB11,0) -> 1.1185947 | BE11: =SUM(INDIRECT(BE$1&BE$2&$A11):INDIRECT(BE$1&BE$3&$A11))+SUM(INDIRECT(BE$1&BE$2&$B11):INDIRECT(BE$1&BE$3&$B11)) -> 18167 | BF11: =BA11-BE11 -> 518580 | BG11: =IFERROR(BA11/BE11,0) -> 29.545164
A12: 12 | B12: 1 | C12: =ROW() -> 12 | D12: RF | E12: 1 | I12: BT Consolidated Sales | Q12: =Q80+Q332+Q132+Q196+Q273 -> 536747 | R12: =R80+R332+R132+R196+R273 -> 239742 | S12: =S80+S332+S132+S196+S273 -> 492039 | T12: =T80+T332+T132+T196+T273 -> 513291 | U12: =U80+U332+U132+U196+U273 -> 587099 | V12: =V80+V332+V132+V196+V273 -> 739620 | W12: =W80+W332+W132+W196+W273 -> 620462 | X12: =X80+X332+X132+X196+X273 -> 584851 | ... AB12: =AB80+AB332+AB132+AB196+AB273 -> 770388 | AC12: =SUM(Q12,R12,S12) -> 1268528 | AD12: =SUM(T12,U12,V12) -> 1840010 | AE12: =SUM(W12,X12,Y12) -> 1932059 | AF12: =SUM(Z12,AA12,AB12) -> 1939949 | AG12: =AC12+AD12 -> 3108538 | AH12: =AF12+AE12 -> 3872008 | AI12: =AG12+AH12 -> 6980546 | AK12: =SUM((INDIRECT(AK$2&(ROW())):INDIRECT(AK$3&(ROW())))) -> 536747 | AL12: =SUM(INDIRECT(AL$1&AL$2&$C12):INDIRECT(AL$1&AL$3&$C12)) -> 479840.45 | AM12: =AK12-AL12 -> 56906.548 | AN12: =IFERROR(AK12/AL12,0) -> 1.1185947 | AO12: =SUM(INDIRECT(AO$1&AO$2&$A12):INDIRECT(AO$1&AO$3&$A12))+SUM(INDIRECT(AO$1&AO$2&$B12):INDIRECT(AO$1&AO$3&$B12)) -> 18167 | AP12: =AK12-AO12 -> 518580 | AQ12: =IFERROR(AK12/AO12,0) -> 29.545164 | AS12: =SUM((INDIRECT(AS$2&(ROW())):INDIRECT(AS$3&(ROW())))) -> 536747 | AT12: =SUM(INDIRECT(AT$1&AT$2&$C12):INDIRECT(AT$1&AT$3&$C12)) -> 479840.45 | AU12: =AS12-AT12 -> 56906.548 | AV12: =IFERROR(AS12/AT12,0) -> 1.1185947 | AW12: =SUM(INDIRECT(AW$1&AW$2&$A12):INDIRECT(AW$1&AW$3&$A12))+SUM(INDIRECT(AW$1&AW$2&$B12):INDIRECT(AW$1&AW$3&$B12)) -> 18167 | AX12: =AS12-AW12 -> 518580 | AY12: =IFERROR(AS12/AW12,0) -> 29.545164 | BA12: =SUM((INDIRECT(BA$2&(ROW())):INDIRECT(BA$3&(ROW())))) -> 536747 | BB12: =SUM(INDIRECT(BB$1&BB$2&$C12):INDIRECT(BB$1&BB$3&$C12)) -> 479840.45 | BC12: =BA12-BB12 -> 56906.548 | BD12: =IFERROR(BA12/BB12,0) -> 1.1185947 | BE12: =SUM(INDIRECT(BE$1&BE$2&$A12):INDIRECT(BE$1&BE$3&$A12))+SUM(INDIRECT(BE$1&BE$2&$B12):INDIRECT(BE$1&BE$3&$B12)) -> 18167 | BF12: =BA12-BE12 -> 518580 | BG12: =IFERROR(BA12/BE12,0) -> 29.545164
A13: 13 | B13: 1 | C13: =ROW() -> 13 | D13: RF | E13: 1 | I13: Cost of Sales | Q13: =Q11-Q14 -> 351610 | R13: =R11-R14 -> 158983 | S13: =S11-S14 -> 324705 | T13: =T11-T14 -> 325864 | U13: =U11-U14 -> 366967 | V13: =V11-V14 -> 463586 | W13: =W11-W14 -> 409160 | X13: =X11-X14 -> 358087 | ... AB13: =AB11-AB14 -> 510625 | AC13: =SUM(Q13,R13,S13) -> 835298 | AD13: =SUM(T13,U13,V13) -> 1156417 | AE13: =SUM(W13,X13,Y13) -> 1279344 | AF13: =SUM(Z13,AA13,AB13) -> 1288337 | AG13: =AC13+AD13 -> 1991715 | AH13: =AF13+AE13 -> 2567681 | AI13: =AG13+AH13 -> 4559396 | AK13: =SUM((INDIRECT(AK$2&(ROW())):INDIRECT(AK$3&(ROW())))) -> 351610 | AL13: =SUM(INDIRECT(AL$1&AL$2&$C13):INDIRECT(AL$1&AL$3&$C13)) -> 306301.83 | AM13: =AK13-AL13 -> 45308.174 | AN13: =IFERROR(AK13/AL13,0) -> 1.14792 | AO13: =SUM(INDIRECT(AO$1&AO$2&$A13):INDIRECT(AO$1&AO$3&$A13))+SUM(INDIRECT(AO$1&AO$2&$B13):INDIRECT(AO$1&AO$3&$B13)) -> 27530 | AP13: =AK13-AO13 -> 324080 | AQ13: =IFERROR(AK13/AO13,0) -> 12.771885 | AS13: =SUM((INDIRECT(AS$2&(ROW())):INDIRECT(AS$3&(ROW())))) -> 351610 | AT13: =SUM(INDIRECT(AT$1&AT$2&$C13):INDIRECT(AT$1&AT$3&$C13)) -> 306301.83 | AU13: =AS13-AT13 -> 45308.174 | AV13: =IFERROR(AS13/AT13,0) -> 1.14792 | AW13: =SUM(INDIRECT(AW$1&AW$2&$A13):INDIRECT(AW$1&AW$3&$A13))+SUM(INDIRECT(AW$1&AW$2&$B13):INDIRECT(AW$1&AW$3&$B13)) -> 27530 | AX13: =AS13-AW13 -> 324080 | AY13: =IFERROR(AS13/AW13,0) -> 12.771885 | BA13: =SUM((INDIRECT(BA$2&(ROW())):INDIRECT(BA$3&(ROW())))) -> 351610 | BB13: =SUM(INDIRECT(BB$1&BB$2&$C13):INDIRECT(BB$1&BB$3&$C13)) -> 306301.83 | BC13: =BA13-BB13 -> 45308.174 | BD13: =IFERROR(BA13/BB13,0) -> 1.14792 | BE13: =SUM(INDIRECT(BE$1&BE$2&$A13):INDIRECT(BE$1&BE$3&$A13))+SUM(INDIRECT(BE$1&BE$2&$B13):INDIRECT(BE$1&BE$3&$B13)) -> 27530 | BF13: =BA13-BE13 -> 324080 | BG13: =IFERROR(BA13/BE13,0) -> 12.771885
A14: 14 | B14: 1 | C14: =ROW() -> 14 | D14: RF | E14: 1 | I14: Gross Profit | Q14: =Q97+Q338+Q149+Q211+Q283 -> 185137 | R14: =R97+R338+R149+R211+R283 -> 80759 | S14: =S97+S338+S149+S211+S283 -> 167334 | T14: =T97+T338+T149+T211+T283 -> 187427 | U14: =U97+U338+U149+U211+U283 -> 220132 | V14: =V97+V338+V149+V211+V283 -> 276034 | W14: =W97+W338+W149+W211+W283 -> 211302 | X14: =X97+X338+X149+X211+X283 -> 226764 | ... AB14: =AB97+AB338+AB149+AB211+AB283 -> 259763 | AC14: =SUM(Q14,R14,S14) -> 433230 | AD14: =SUM(T14,U14,V14) -> 683593 | AE14: =SUM(W14,X14,Y14) -> 652715 | AF14: =SUM(Z14,AA14,AB14) -> 651612 | AG14: =AC14+AD14 -> 1116823 | AH14: =AF14+AE14 -> 1304327 | AI14: =AG14+AH14 -> 2421150 | AK14: =SUM((INDIRECT(AK$2&(ROW())):INDIRECT(AK$3&(ROW())))) -> 185137 | AL14: =SUM(INDIRECT(AL$1&AL$2&$C14):INDIRECT(AL$1&AL$3&$C14)) -> 173538.63 | AM14: =AK14-AL14 -> 11598.374 | AN14: =IFERROR(AK14/AL14,0) -> 1.0668345 | AO14: =SUM(INDIRECT(AO$1&AO$2&$A14):INDIRECT(AO$1&AO$3&$A14))+SUM(INDIRECT(AO$1&AO$2&$B14):INDIRECT(AO$1&AO$3&$B14)) -> -9363 | AP14: =AK14-AO14 -> 194500 | AQ14: =IFERROR(AK14/AO14,0) -> -19.773256 | AS14: =SUM((INDIRECT(AS$2&(ROW())):INDIRECT(AS$3&(ROW())))) -> 185137 | AT14: =SUM(INDIRECT(AT$1&AT$2&$C14):INDIRECT(AT$1&AT$3&$C14)) -> 173538.63 | AU14: =AS14-AT14 -> 11598.374 | AV14: =IFERROR(AS14/AT14,0) -> 1.0668345 | AW14: =SUM(INDIRECT(AW$1&AW$2&$A14):INDIRECT(AW$1&AW$3&$A14))+SUM(INDIRECT(AW$1&AW$2&$B14):INDIRECT(AW$1&AW$3&$B14)) -> -9363 | AX14: =AS14-AW14 -> 194500 | AY14: =IFERROR(AS14/AW14,0) -> -19.773256 | BA14: =SUM((INDIRECT(BA$2&(ROW())):INDIRECT(BA$3&(ROW())))) -> 185137 | BB14: =SUM(INDIRECT(BB$1&BB$2&$C14):INDIRECT(BB$1&BB$3&$C14)) -> 173538.63 | BC14: =BA14-BB14 -> 11598.374 | BD14: =IFERROR(BA14/BB14,0) -> 1.0668345 | BE14: =SUM(INDIRECT(BE$1&BE$2&$A14):INDIRECT(BE$1&BE$3&$A14))+SUM(INDIRECT(BE$1&BE$2&$B14):INDIRECT(BE$1&BE$3&$B14)) -> -9363 | BF14: =BA14-BE14 -> 194500 | BG14: =IFERROR(BA14/BE14,0) -> -19.773256
A15: 15 | B15: 1 | C15: =ROW() -> 15 | D15: RF | E15: 1 | P15: (%) | Q15: =IFERROR(Q14/Q11,0) -> 0.34492414 | R15: =IFERROR(R14/R11,0) -> 0.33685796 | S15: =IFERROR(S14/S11,0) -> 0.3400828 | T15: =IFERROR(T14/T11,0) -> 0.36514765 | U15: =IFERROR(U14/U11,0) -> 0.37494869 | V15: =IFERROR(V14/V11,0) -> 0.37321057 | W15: =IFERROR(W14/W11,0) -> 0.34055591 | X15: =IFERROR(X14/X11,0) -> 0.38772952 | ... AI15: =IFERROR(AI14/AI11,0) -> 0.3468425 | AK15: =IFERROR(AK14/AK11,0) -> 0.34492414 | AL15: =IFERROR(AL14/AL11,0) -> 0.36165902 | AM15: =AK15-AL15 -> -0.016734872 | AO15: =IFERROR(AO14/AO11,0) -> -0.51538504 | AP15: =AK15-AO15 -> 0.86030918 | AS15: =IFERROR(AS14/AS11,0) -> 0.34492414 | AT15: =IFERROR(AT14/AT11,0) -> 0.36165902 | AU15: =AS15-AT15 -> -0.016734872 | AW15: =IFERROR(AW14/AW11,0) -> -0.51538504 | AX15: =AS15-AW15 -> 0.86030918 | BA15: =IFERROR(BA14/BA11,0) -> 0.34492414 | BB15: =IFERROR(BB14/BB11,0) -> 0.36165902 | BC15: =BA15-BB15 -> -0.016734872 | BE15: =IFERROR(BE14/BE11,0) -> -0.51538504 | BF15: =BA15-BE15 -> 0.86030918
A16: 16 | B16: 1 | C16: =ROW() -> 16 | D16: RF | E16: 1 | I16: SGA Expenses | Q16: =Q18+Q19+Q20 -> 141775 | R16: =R18+R19+R20 -> 111625 | S16: =S18+S19+S20 -> 115986 | T16: =T18+T19+T20 -> 122634 | U16: =U18+U19+U20 -> 137947 | V16: =V18+V19+V20 -> 141326 | W16: =W18+W19+W20 -> 164361 | X16: =X18+X19+X20 -> 168833 | ... AB16: =AB18+AB19+AB20 -> 200181.89 | AC16: =SUM(Q16,R16,S16) -> 369386 | AD16: =SUM(T16,U16,V16) -> 401907 | AE16: =SUM(W16,X16,Y16) -> 474642 | AF16: =SUM(Z16,AA16,AB16) -> 427094.89 | AG16: =AC16+AD16 -> 771293 | AH16: =AF16+AE16 -> 901736.89 | AI16: =AG16+AH16 -> 1673029.9 | AK16: =SUM((INDIRECT(AK$2&(ROW())):INDIRECT(AK$3&(ROW())))) -> 141775 | AL16: =SUM(INDIRECT(AL$1&AL$2&$C16):INDIRECT(AL$1&AL$3&$C16)) -> 129408.25 | AM16: =AK16-AL16 -> 12366.752 | AN16: =IFERROR(AK16/AL16,0) -> 1.0955639 | AO16: =SUM(INDIRECT(AO$1&AO$2&$A16):INDIRECT(AO$1&AO$3&$A16))+SUM(INDIRECT(AO$1&AO$2&$B16):INDIRECT(AO$1&AO$3&$B16)) -> 103432 | AP16: =AK16-AO16 -> 38343 | AQ16: =IFERROR(AK16/AO16,0) -> 1.3707073 | AS16: =SUM((INDIRECT(AS$2&(ROW())):INDIRECT(AS$3&(ROW())))) -> 141775 | AT16: =SUM(INDIRECT(AT$1&AT$2&$C16):INDIRECT(AT$1&AT$3&$C16)) -> 129408.25 | AU16: =AS16-AT16 -> 12366.752 | AV16: =IFERROR(AS16/AT16,0) -> 1.0955639 | AW16: =SUM(INDIRECT(AW$1&AW$2&$A16):INDIRECT(AW$1&AW$3&$A16))+SUM(INDIRECT(AW$1&AW$2&$B16):INDIRECT(AW$1&AW$3&$B16)) -> 103432 | AX16: =AS16-AW16 -> 38343 | AY16: =IFERROR(AS16/AW16,0) -> 1.3707073 | BA16: =SUM((INDIRECT(BA$2&(ROW())):INDIRECT(BA$3&(ROW())))) -> 141775 | BB16: =SUM(INDIRECT(BB$1&BB$2&$C16):INDIRECT(BB$1&BB$3&$C16)) -> 129408.25 | BC16: =BA16-BB16 -> 12366.752 | BD16: =IFERROR(BA16/BB16,0) -> 1.0955639 | BE16: =SUM(INDIRECT(BE$1&BE$2&$A16):INDIRECT(BE$1&BE$3&$A16))+SUM(INDIRECT(BE$1&BE$2&$B16):INDIRECT(BE$1&BE$3&$B16)) -> 103432 | BF16: =BA16-BE16 -> 38343 | BG16: =IFERROR(BA16/BE16,0) -> 1.3707073
A17: 17 | B17: 1 | C17: =ROW() -> 17 | D17: RF | E17: 1 | P17: (%) | Q17: =IFERROR(Q16/Q11,0) -> 0.26413748 | R17: =IFERROR(R16/R11,0) -> 0.46560469 | S17: =IFERROR(S16/S11,0) -> 0.23572522 | T17: =IFERROR(T16/T11,0) -> 0.23891711 | U17: =IFERROR(U16/U11,0) -> 0.23496378 | V17: =IFERROR(V16/V11,0) -> 0.1910792 | W17: =IFERROR(W16/W11,0) -> 0.26490099 | X17: =IFERROR(X16/X11,0) -> 0.28867695 | ... AI17: =IFERROR(AI16/AI11,0) -> 0.23967035 | AK17: =INDIRECT(AK$2&ROW()) -> 0.26413748 | AL17: =IFERROR(AL16/AL11,0) -> 0.26969016 | AM17: =AK17-AL17 -> -0.0055526791 | AO17: =IFERROR(AO16/AO11,0) -> 5.6934001 | AP17: =AK17-AO17 -> -5.4292626 | AS17: =INDIRECT(AS$2&ROW()) -> 0.26413748 | AT17: =IFERROR(AT16/AT11,0) -> 0.26969016 | AU17: =AS17-AT17 -> -0.0055526791 | AW17: =IFERROR(AW16/AW11,0) -> 5.6934001 | AX17: =AS17-AW17 -> -5.4292626 | BA17: =IFERROR(BA16/BA11,0) -> 0.26413748 | BB17: =IFERROR(BB16/BB11,0) -> 0.26969016 | BC17: =BA17-BB17 -> -0.0055526791 | BE17: =IFERROR(BE16/BE11,0) -> 5.6934001 | BF17: =BA17-BE17 -> -5.4292626
A18: 18 | B18: 1 | C18: =ROW() -> 18 | D18: RF | E18: 1 | J18: Variable Expenses | Q18: =Q106+Q160+Q242+Q305+Q351 -> 36517 | R18: =R106+R160+R242+R305+R351 -> 22343 | S18: =S106+S160+S242+S305+S351 -> 30041 | T18: =T106+T160+T242+T305+T351 -> 28927 | U18: =U106+U160+U242+U305+U351 -> 38067 | V18: =V106+V160+V242+V305+V351 -> 44153 | W18: =W106+W160+W242+W305+W351 -> 42185 | X18: =X106+X160+X242+X305+X351 -> 39310 | ... AB18: =AB106+AB160+AB242+AB305+AB351 -> 38451 | AC18: =SUM(Q18,R18,S18) -> 88901 | AD18: =SUM(T18,U18,V18) -> 111147 | AE18: =SUM(W18,X18,Y18) -> 126741 | AF18: =SUM(Z18,AA18,AB18) -> 81376 | AG18: =AC18+AD18 -> 200048 | AH18: =AF18+AE18 -> 208117 | AI18: =AG18+AH18 -> 408165 | AK18: =SUM((INDIRECT(AK$2&(ROW())):INDIRECT(AK$3&(ROW())))) -> 36517 | AL18: =SUM(INDIRECT(AL$1&AL$2&$C18):INDIRECT(AL$1&AL$3&$C18)) -> 31156.287 | AM18: =AK18-AL18 -> 5360.7125 | AN18: =IFERROR(AK18/AL18,0) -> 1.1720588 | AO18: =SUM(INDIRECT(AO$1&AO$2&$A18):INDIRECT(AO$1&AO$3&$A18))+SUM(INDIRECT(AO$1&AO$2&$B18):INDIRECT(AO$1&AO$3&$B18)) -> 13639 | AP18: =AK18-AO18 -> 22878 | AQ18: =IFERROR(AK18/AO18,0) -> 2.6773957 | AS18: =SUM((INDIRECT(AS$2&(ROW())):INDIRECT(AS$3&(ROW())))) -> 36517 | AT18: =SUM(INDIRECT(AT$1&AT$2&$C18):INDIRECT(AT$1&AT$3&$C18)) -> 31156.287 | AU18: =AS18-AT18 -> 5360.7125 | AV18: =IFERROR(AS18/AT18,0) -> 1.1720588 | AW18: =SUM(INDIRECT(AW$1&AW$2&$A18):INDIRECT(AW$1&AW$3&$A18))+SUM(INDIRECT(AW$1&AW$2&$B18):INDIRECT(AW$1&AW$3&$B18)) -> 13639 | AX18: =AS18-AW18 -> 22878 | AY18: =IFERROR(AS18/AW18,0) -> 2.6773957 | BA18: =SUM((INDIRECT(BA$2&(ROW())):INDIRECT(BA$3&(ROW())))) -> 36517 | BB18: =SUM(INDIRECT(BB$1&BB$2&$C18):INDIRECT(BB$1&BB$3&$C18)) -> 31156.287 | BC18: =BA18-BB18 -> 5360.7125 | BD18: =IFERROR(BA18/BB18,0) -> 1.1720588 | BE18: =SUM(INDIRECT(BE$1&BE$2&$A18):INDIRECT(BE$1&BE$3&$A18))+SUM(INDIRECT(BE$1&BE$2&$B18):INDIRECT(BE$1&BE$3&$B18)) -> 13639 | BF18: =BA18-BE18 -> 22878 | BG18: =IFERROR(BA18/BE18,0) -> 2.6773957
A19: 19 | B19: 1 | C19: =ROW() -> 19 | D19: RF | E19: 1 | J19: Wages & Salaries | Q19: =Q107+Q161+Q243+Q306+Q352 -> 54783 | R19: =R107+R161+R243+R306+R352 -> 51883 | S19: =S107+S161+S243+S306+S352 -> 53004 | T19: =T107+T161+T243+T306+T352 -> 52192 | U19: =U107+U161+U243+U306+U352 -> 52718 | V19: =V107+V161+V243+V306+V352 -> 49191 | W19: =W107+W161+W243+W306+W352 -> 48510 | X19: =X107+X161+X243+X306+X352 -> 46540 | ... AB19: =AB107+AB161+AB243+AB306+AB352 -> 68403.893 | AC19: =SUM(Q19,R19,S19) -> 159670 | AD19: =SUM(T19,U19,V19) -> 154101 | AE19: =SUM(W19,X19,Y19) -> 145073 | AF19: =SUM(Z19,AA19,AB19) -> 193083.89 | AG19: =AC19+AD19 -> 313771 | AH19: =AF19+AE19 -> 338156.89 | AI19: =AG19+AH19 -> 651927.89 | AK19: =SUM((INDIRECT(AK$2&(ROW())):INDIRECT(AK$3&(ROW())))) -> 54783 | AL19: =SUM(INDIRECT(AL$1&AL$2&$C19):INDIRECT(AL$1&AL$3&$C19)) -> 47432.432 | AM19: =AK19-AL19 -> 7350.5681 | AN19: =IFERROR(AK19/AL19,0) -> 1.1549692 | AO19: =SUM(INDIRECT(AO$1&AO$2&$A19):INDIRECT(AO$1&AO$3&$A19))+SUM(INDIRECT(AO$1&AO$2&$B19):INDIRECT(AO$1&AO$3&$B19)) -> 54778 | AP19: =AK19-AO19 -> 5 | AQ19: =IFERROR(AK19/AO19,0) -> 1.0000913 | AS19: =SUM((INDIRECT(AS$2&(ROW())):INDIRECT(AS$3&(ROW())))) -> 54783 | AT19: =SUM(INDIRECT(AT$1&AT$2&$C19):INDIRECT(AT$1&AT$3&$C19)) -> 47432.432 | AU19: =AS19-AT19 -> 7350.5681 | AV19: =IFERROR(AS19/AT19,0) -> 1.1549692 | AW19: =SUM(INDIRECT(AW$1&AW$2&$A19):INDIRECT(AW$1&AW$3&$A19))+SUM(INDIRECT(AW$1&AW$2&$B19):INDIRECT(AW$1&AW$3&$B19)) -> 54778 | AX19: =AS19-AW19 -> 5 | AY19: =IFERROR(AS19/AW19,0) -> 1.0000913 | BA19: =SUM((INDIRECT(BA$2&(ROW())):INDIRECT(BA$3&(ROW())))) -> 54783 | BB19: =SUM(INDIRECT(BB$1&BB$2&$C19):INDIRECT(BB$1&BB$3&$C19)) -> 47432.432 | BC19: =BA19-BB19 -> 7350.5681 | BD19: =IFERROR(BA19/BB19,0) -> 1.1549692 | BE19: =SUM(INDIRECT(BE$1&BE$2&$A19):INDIRECT(BE$1&BE$3&$A19))+SUM(INDIRECT(BE$1&BE$2&$B19):INDIRECT(BE$1&BE$3&$B19)) -> 54778 | BF19: =BA19-BE19 -> 5 | BG19: =IFERROR(BA19/BE19,0) -> 1.0000913
A20: 20 | B20: 1 | C20: =ROW() -> 20 | D20: RF | E20: 1 | J20: Fixed Expenses | Q20: =Q108+Q162+Q244+Q307+Q357 -> 50475 | R20: =R108+R162+R244+R307+R357 -> 37399 | S20: =S108+S162+S244+S307+S357 -> 32941 | T20: =T108+T162+T244+T307+T357 -> 41515 | U20: =U108+U162+U244+U307+U357 -> 47162 | V20: =V108+V162+V244+V307+V357 -> 47982 | W20: =W108+W162+W244+W307+W357 -> 73666 | X20: =X108+X162+X244+X307+X357 -> 82983 | ... AB20: =AB108+AB162+AB244+AB307+AB357 -> 93327 | AC20: =SUM(Q20,R20,S20) -> 120815 | AD20: =SUM(T20,U20,V20) -> 136659 | AE20: =SUM(W20,X20,Y20) -> 202828 | AF20: =SUM(Z20,AA20,AB20) -> 152635 | AG20: =AC20+AD20 -> 257474 | AH20: =AF20+AE20 -> 355463 | AI20: =AG20+AH20 -> 612937 | AK20: =SUM((INDIRECT(AK$2&(ROW())):INDIRECT(AK$3&(ROW())))) -> 50475 | AL20: =SUM(INDIRECT(AL$1&AL$2&$C20):INDIRECT(AL$1&AL$3&$C20)) -> 50819.529 | AM20: =AK20-AL20 -> -344.52866 | AN20: =IFERROR(AK20/AL20,0) -> 0.99322055 | AO20: =SUM(INDIRECT(AO$1&AO$2&$A20):INDIRECT(AO$1&AO$3&$A20))+SUM(INDIRECT(AO$1&AO$2&$B20):INDIRECT(AO$1&AO$3&$B20)) -> 35015 | AP20: =AK20-AO20 -> 15460 | AQ20: =IFERROR(AK20/AO20,0) -> 1.4415251 | AS20: =SUM((INDIRECT(AS$2&(ROW())):INDIRECT(AS$3&(ROW())))) -> 50475 | AT20: =SUM(INDIRECT(AT$1&AT$2&$C20):INDIRECT(AT$1&AT$3&$C20)) -> 50819.529 | AU20: =AS20-AT20 -> -344.52866 | AV20: =IFERROR(AS20/AT20,0) -> 0.99322055 | AW20: =SUM(INDIRECT(AW$1&AW$2&$A20):INDIRECT(AW$1&AW$3&$A20))+SUM(INDIRECT(AW$1&AW$2&$B20):INDIRECT(AW$1&AW$3&$B20)) -> 35015 | AX20: =AS20-AW20 -> 15460 | AY20: =IFERROR(AS20/AW20,0) -> 1.4415251 | BA20: =SUM((INDIRECT(BA$2&(ROW())):INDIRECT(BA$3&(ROW())))) -> 50475 | BB20: =SUM(INDIRECT(BB$1&BB$2&$C20):INDIRECT(BB$1&BB$3&$C20)) -> 50819.529 | BC20: =BA20-BB20 -> -344.52866 | BD20: =IFERROR(BA20/BB20,0) -> 0.99322055 | BE20: =SUM(INDIRECT(BE$1&BE$2&$A20):INDIRECT(BE$1&BE$3&$A20))+SUM(INDIRECT(BE$1&BE$2&$B20):INDIRECT(BE$1&BE$3&$B20)) -> 35015 | BF20: =BA20-BE20 -> 15460 | BG20: =IFERROR(BA20/BE20,0) -> 1.4415251
A21: 21 | B21: 1 | C21: =ROW() -> 21 | D21: RF | E21: 1 | I21: Business Contribution Profit | Q21: =Q14-Q16 -> 43362 | R21: =R14-R16 -> -30866 | S21: =S14-S16 -> 51348 | T21: =T14-T16 -> 64793 | U21: =U14-U16 -> 82185 | V21: =V14-V16 -> 134708 | W21: =W14-W16 -> 46941 | X21: =X14-X16 -> 57931 | ... AB21: =AB14-AB16 -> 59581.107 | AC21: =SUM(Q21,R21,S21) -> 63844 | AD21: =SUM(T21,U21,V21) -> 281686 | AE21: =SUM(W21,X21,Y21) -> 178073 | AF21: =SUM(Z21,AA21,AB21) -> 224517.11 | AG21: =AC21+AD21 -> 345530 | AH21: =AF21+AE21 -> 402590.11 | AI21: =AG21+AH21 -> 748120.11 | AK21: =SUM((INDIRECT(AK$2&(ROW())):INDIRECT(AK$3&(ROW())))) -> 43362 | AL21: =SUM(INDIRECT(AL$1&AL$2&$C21):INDIRECT(AL$1&AL$3&$C21)) -> 44130.378 | AM21: =AK21-AL21 -> -768.37846 | AN21: =IFERROR(AK21/AL21,0) -> 0.98258845 | AO21: =SUM(INDIRECT(AO$1&AO$2&$A21):INDIRECT(AO$1&AO$3&$A21))+SUM(INDIRECT(AO$1&AO$2&$B21):INDIRECT(AO$1&AO$3&$B21)) -> -112795 | AP21: =AK21-AO21 -> 156157 | AQ21: =IFERROR(AK21/AO21,0) -> -0.38443193 | AS21: =SUM((INDIRECT(AS$2&(ROW())):INDIRECT(AS$3&(ROW())))) -> 43362 | AT21: =SUM(INDIRECT(AT$1&AT$2&$C21):INDIRECT(AT$1&AT$3&$C21)) -> 44130.378 | AU21: =AS21-AT21 -> -768.37846 | AV21: =IFERROR(AS21/AT21,0) -> 0.98258845 | AW21: =SUM(INDIRECT(AW$1&AW$2&$A21):INDIRECT(AW$1&AW$3&$A21))+SUM(INDIRECT(AW$1&AW$2&$B21):INDIRECT(AW$1&AW$3&$B21)) -> -112795 | AX21: =AS21-AW21 -> 156157 | AY21: =IFERROR(AS21/AW21,0) -> -0.38443193 | BA21: =SUM((INDIRECT(BA$2&(ROW())):INDIRECT(BA$3&(ROW())))) -> 43362 | BB21: =SUM(INDIRECT(BB$1&BB$2&$C21):INDIRECT(BB$1&BB$3&$C21)) -> 44130.378 | BC21: =BA21-BB21 -> -768.37846 | BD21: =IFERROR(BA21/BB21,0) -> 0.98258845 | BE21: =SUM(INDIRECT(BE$1&BE$2&$A21):INDIRECT(BE$1&BE$3&$A21))+SUM(INDIRECT(BE$1&BE$2&$B21):INDIRECT(BE$1&BE$3&$B21)) -> -112795 | BF21: =BA21-BE21 -> 156157 | BG21: =IFERROR(BA21/BE21,0) -> -0.38443193
A22: 22 | B22: 1 | C22: =ROW() -> 22 | D22: RF | E22: 1 | P22: (%) | Q22: =IFERROR(Q21/Q11,0) -> 0.080786665 | R22: =IFERROR(R21/R11,0) -> -0.12874674 | S22: =IFERROR(S21/S11,0) -> 0.10435758 | T22: =IFERROR(T21/T11,0) -> 0.12623054 | U22: =IFERROR(U21/U11,0) -> 0.13998491 | V22: =IFERROR(V21/V11,0) -> 0.18213136 | W22: =IFERROR(W21/W11,0) -> 0.075654915 | X22: =IFERROR(X21/X11,0) -> 0.099052579 | ... AI22: =IFERROR(AI21/AI11,0) -> 0.10717215 | AK22: =IFERROR(AK21/AK11,0) -> 0.080786665 | AL22: =IFERROR(AL21/AL11,0) -> 0.091968858 | AM22: =AK22-AL22 -> -0.011182193 | AO22: =IFERROR(AO21/AO11,0) -> -6.2087852 | AP22: =AK22-AO22 -> 6.2895718 | AS22: =IFERROR(AS21/AS11,0) -> 0.080786665 | AT22: =IFERROR(AT21/AT11,0) -> 0.091968858 | AU22: =AS22-AT22 -> -0.011182193 | AW22: =IFERROR(AW21/AW11,0) -> -6.2087852 | AX22: =AS22-AW22 -> 6.2895718 | BA22: =IFERROR(BA21/BA11,0) -> 0.080786665 | BB22: =IFERROR(BB21/BB11,0) -> 0.091968858 | BC22: =BA22-BB22 -> -0.011182193 | BE22: =IFERROR(BE21/BE11,0) -> -6.2087852 | BF22: =BA22-BE22 -> 6.2895718
A23: 23 | B23: 1 | C23: =ROW() -> 23 | D23: RF | E23: 1 | I23: Other Income | Q23: =Q111+Q360+Q165+Q247+Q310 -> 456 | R23: =R111+R360+R165+R247+R310 -> 0 | S23: =S111+S360+S165+S247+S310 -> 5968 | T23: =T111+T360+T165+T247+T310 -> 1984 | U23: =U111+U360+U165+U247+U310 -> 1595 | V23: =V111+V360+V165+V247+V310 -> 0 | W23: =W111+W360+W165+W247+W310 -> 623 | X23: =X111+X360+X165+X247+X310 -> 269 | ... AB23: =AB111+AB360+AB165+AB247+AB310 -> 36050 | AC23: =SUM(Q23,R23,S23) -> 6424 | AD23: =SUM(T23,U23,V23) -> 3579 | AE23: =SUM(W23,X23,Y23) -> 7171 | AF23: =SUM(Z23,AA23,AB23) -> 36450 | AG23: =AC23+AD23 -> 10003 | AH23: =AF23+AE23 -> 43621 | AI23: =AG23+AH23 -> 53624 | AK23: =SUM((INDIRECT(AK$2&(ROW())):INDIRECT(AK$3&(ROW())))) -> 456 | AL23: =SUM(INDIRECT(AL$1&AL$2&$C23):INDIRECT(AL$1&AL$3&$C23)) -> 0 | AM23: =AK23-AL23 -> 456 | AN23: =IFERROR(AK23/AL23,0) -> 0 | AO23: =SUM(INDIRECT(AO$1&AO$2&$A23):INDIRECT(AO$1&AO$3&$A23))+SUM(INDIRECT(AO$1&AO$2&$B23):INDIRECT(AO$1&AO$3&$B23)) -> 125 | AP23: =AK23-AO23 -> 331 | AQ23: =IFERROR(AK23/AO23,0) -> 3.648 | AS23: =SUM((INDIRECT(AS$2&(ROW())):INDIRECT(AS$3&(ROW())))) -> 456 | AT23: =SUM(INDIRECT(AT$1&AT$2&$C23):INDIRECT(AT$1&AT$3&$C23)) -> 0 | AU23: =AS23-AT23 -> 456 | AV23: =IFERROR(AS23/AT23,0) -> 0 | AW23: =SUM(INDIRECT(AW$1&AW$2&$A23):INDIRECT(AW$1&AW$3&$A23))+SUM(INDIRECT(AW$1&AW$2&$B23):INDIRECT(AW$1&AW$3&$B23)) -> 125 | AX23: =AS23-AW23 -> 331 | AY23: =IFERROR(AS23/AW23,0) -> 3.648 | BA23: =SUM((INDIRECT(BA$2&(ROW())):INDIRECT(BA$3&(ROW())))) -> 456 | BB23: =SUM(INDIRECT(BB$1&BB$2&$C23):INDIRECT(BB$1&BB$3&$C23)) -> 0 | BC23: =BA23-BB23 -> 456 | BD23: =IFERROR(BA23/BB23,0) -> 0 | BE23: =SUM(INDIRECT(BE$1&BE$2&$A23):INDIRECT(BE$1&BE$3&$A23))+SUM(INDIRECT(BE$1&BE$2&$B23):INDIRECT(BE$1&BE$3&$B23)) -> 125 | BF23: =BA23-BE23 -> 331 | BG23: =IFERROR(BA23/BE23,0) -> 3.648
A24: 24 | B24: 1 | C24: =ROW() -> 24 | D24: RF | E24: 1 | I24: Other Expenses | Q24: =Q112+Q361+Q166+Q248+Q311 -> 0 | R24: =R112+R361+R166+R248+R311 -> 0 | S24: =S112+S361+S166+S248+S311 -> 0 | T24: =T112+T361+T166+T248+T311 -> 635 | U24: =U112+U361+U166+U248+U311 -> 0 | V24: =V112+V361+V166+V248+V311 -> 422 | W24: =W112+W361+W166+W248+W311 -> 0 | X24: =X112+X361+X166+X248+X311 -> 0 | ... AB24: =AB112+AB361+AB166+AB248+AB311 -> 0 | AC24: =SUM(Q24,R24,S24) -> 0 | AD24: =SUM(T24,U24,V24) -> 1057 | AE24: =SUM(W24,X24,Y24) -> 0 | AF24: =SUM(Z24,AA24,AB24) -> 0 | AG24: =AC24+AD24 -> 1057 | AH24: =AF24+AE24 -> 0 | AI24: =AG24+AH24 -> 1057 | AK24: =SUM((INDIRECT(AK$2&(ROW())):INDIRECT(AK$3&(ROW())))) -> 0 | AL24: =SUM(INDIRECT(AL$1&AL$2&$C24):INDIRECT(AL$1&AL$3&$C24)) -> 0 | AM24: =AK24-AL24 -> 0 | AN24: =IFERROR(AK24/AL24,0) -> 0 | AO24: =SUM(INDIRECT(AO$1&AO$2&$A24):INDIRECT(AO$1&AO$3&$A24))+SUM(INDIRECT(AO$1&AO$2&$B24):INDIRECT(AO$1&AO$3&$B24)) -> 0 | AP24: =AK24-AO24 -> 0 | AQ24: =IFERROR(AK24/AO24,0) -> 0 | AS24: =SUM((INDIRECT(AS$2&(ROW())):INDIRECT(AS$3&(ROW())))) -> 0 | AT24: =SUM(INDIRECT(AT$1&AT$2&$C24):INDIRECT(AT$1&AT$3&$C24)) -> 0 | AU24: =AS24-AT24 -> 0 | AV24: =IFERROR(AS24/AT24,0) -> 0 | AW24: =SUM(INDIRECT(AW$1&AW$2&$A24):INDIRECT(AW$1&AW$3&$A24))+SUM(INDIRECT(AW$1&AW$2&$B24):INDIRECT(AW$1&AW$3&$B24)) -> 0 | AX24: =AS24-AW24 -> 0 | AY24: =IFERROR(AS24/AW24,0) -> 0 | BA24: =SUM((INDIRECT(BA$2&(ROW())):INDIRECT(BA$3&(ROW())))) -> 0 | BB24: =SUM(INDIRECT(BB$1&BB$2&$C24):INDIRECT(BB$1&BB$3&$C24)) -> 0 | BC24: =BA24-BB24 -> 0 | BD24: =IFERROR(BA24/BB24,0) -> 0 | BE24: =SUM(INDIRECT(BE$1&BE$2&$A24):INDIRECT(BE$1&BE$3&$A24))+SUM(INDIRECT(BE$1&BE$2&$B24):INDIRECT(BE$1&BE$3&$B24)) -> 0 | BF24: =BA24-BE24 -> 0 | BG24: =IFERROR(BA24/BE24,0) -> 0
A25: 25 | B25: 1 | C25: =ROW() -> 25 | D25: RF | E25: 1 | I25: Operating Profit | Q25: =Q21+Q23-Q24 -> 43818 | R25: =R21+R23-R24 -> -30866 | S25: =S21+S23-S24 -> 57316 | T25: =T21+T23-T24 -> 66142 | U25: =U21+U23-U24 -> 83780 | V25: =V21+V23-V24 -> 134286 | W25: =W21+W23-W24 -> 47564 | X25: =X21+X23-X24 -> 58200 | ... AB25: =AB21+AB23-AB24 -> 95631.107 | AC25: =SUM(Q25,R25,S25) -> 70268 | AD25: =SUM(T25,U25,V25) -> 284208 | AE25: =SUM(W25,X25,Y25) -> 185244 | AF25: =SUM(Z25,AA25,AB25) -> 260967.11 | AG25: =AC25+AD25 -> 354476 | AH25: =AF25+AE25 -> 446211.11 | AI25: =AG25+AH25 -> 800687.11 | AK25: =SUM((INDIRECT(AK$2&(ROW())):INDIRECT(AK$3&(ROW())))) -> 43818 | AL25: =SUM(INDIRECT(AL$1&AL$2&$C25):INDIRECT(AL$1&AL$3&$C25)) -> 44130.378 | AM25: =AK25-AL25 -> -312.37846 | AN25: =IFERROR(AK25/AL25,0) -> 0.99292146 | AO25: =SUM(INDIRECT(AO$1&AO$2&$A25):INDIRECT(AO$1&AO$3&$A25))+SUM(INDIRECT(AO$1&AO$2&$B25):INDIRECT(AO$1&AO$3&$B25)) -> -112670 | AP25: =AK25-AO25 -> 156488 | AQ25: =IFERROR(AK25/AO25,0) -> -0.38890565 | AS25: =SUM((INDIRECT(AS$2&(ROW())):INDIRECT(AS$3&(ROW())))) -> 43818 | AT25: =SUM(INDIRECT(AT$1&AT$2&$C25):INDIRECT(AT$1&AT$3&$C25)) -> 44130.378 | AU25: =AS25-AT25 -> -312.37846 | AV25: =IFERROR(AS25/AT25,0) -> 0.99292146 | AW25: =SUM(INDIRECT(AW$1&AW$2&$A25):INDIRECT(AW$1&AW$3&$A25))+SUM(INDIRECT(AW$1&AW$2&$B25):INDIRECT(AW$1&AW$3&$B25)) -> -112670 | AX25: =AS25-AW25 -> 156488 | AY25: =IFERROR(AS25/AW25,0) -> -0.38890565 | BA25: =SUM((INDIRECT(BA$2&(ROW())):INDIRECT(BA$3&(ROW())))) -> 43818 | BB25: =SUM(INDIRECT(BB$1&BB$2&$C25):INDIRECT(BB$1&BB$3&$C25)) -> 44130.378 | BC25: =BA25-BB25 -> -312.37846 | BD25: =IFERROR(BA25/BB25,0) -> 0.99292146 | BE25: =SUM(INDIRECT(BE$1&BE$2&$A25):INDIRECT(BE$1&BE$3&$A25))+SUM(INDIRECT(BE$1&BE$2&$B25):INDIRECT(BE$1&BE$3&$B25)) -> -112670 | BF25: =BA25-BE25 -> 156488 | BG25: =IFERROR(BA25/BE25,0) -> -0.38890565
A26: 26 | B26: 1 | C26: =ROW() -> 26 | D26: RF | E26: 1 | P26: (%) | Q26: =IFERROR(Q25/Q11,0) -> 0.081636227 | R26: =IFERROR(R25/R11,0) -> -0.12874674 | S26: =IFERROR(S25/S11,0) -> 0.1164867 | T26: =IFERROR(T25/T11,0) -> 0.12885868 | U26: =IFERROR(U25/U11,0) -> 0.14270166 | V26: =IFERROR(V25/V11,0) -> 0.1815608 | W26: =IFERROR(W25/W11,0) -> 0.076659006 | X26: =IFERROR(X25/X11,0) -> 0.099512525 | ... AI26: =IFERROR(AI25/AI11,0) -> 0.11470265 | AK26: =IFERROR(AK25/AK11,0) -> 0.081636227 | AL26: =IFERROR(AL25/AL11,0) -> 0.091968858 | AM26: =AK26-AL26 -> -0.010332631 | AO26: =IFERROR(AO25/AO11,0) -> -6.2019046 | AP26: =AK26-AO26 -> 6.2835408 | AS26: =IFERROR(AS25/AS11,0) -> 0.081636227 | AT26: =IFERROR(AT25/AT11,0) -> 0.091968858 | AU26: =AS26-AT26 -> -0.010332631 | AW26: =IFERROR(AW25/AW11,0) -> -6.2019046 | AX26: =AS26-AW26 -> 6.2835408 | BA26: =IFERROR(BA25/BA11,0) -> 0.081636227 | BB26: =IFERROR(BB25/BB11,0) -> 0.091968858 | BC26: =BA26-BB26 -> -0.010332631 | BE26: =IFERROR(BE25/BE11,0) -> -6.2019046 | BF26: =BA26-BE26 -> 6.2835408
A27: 27 | B27: 1 | C27: =ROW() -> 27 | D27: RF | E27: 1 | I27: Financial Income (Expenses), net | Q27: =Q28-Q29 -> 8155 | R27: =R28-R29 -> 7355 | S27: =S28-S29 -> 4689 | T27: =T28-T29 -> 5517 | U27: =U28-U29 -> 6745 | V27: =V28-V29 -> 2755 | W27: =W28-W29 -> 6483 | X27: =X28-X29 -> 8053 | ... AB27: =AB28-AB29 -> 8237 | AC27: =SUM(Q27,R27,S27) -> 20199 | AD27: =SUM(T27,U27,V27) -> 15017 | AE27: =SUM(W27,X27,Y27) -> 21010 | AF27: =SUM(Z27,AA27,AB27) -> 27439 | AG27: =AC27+AD27 -> 35216 | AH27: =AF27+AE27 -> 48449 | AI27: =AG27+AH27 -> 83665 | AK27: =SUM((INDIRECT(AK$2&(ROW())):INDIRECT(AK$3&(ROW())))) -> 8155 | AL27: =SUM(INDIRECT(AL$1&AL$2&$C27):INDIRECT(AL$1&AL$3&$C27)) -> 0 | AM27: =AK27-AL27 -> 8155 | AN27: =IFERROR(AK27/AL27,0) -> 0 | AO27: =SUM(INDIRECT(AO$1&AO$2&$A27):INDIRECT(AO$1&AO$3&$A27))+SUM(INDIRECT(AO$1&AO$2&$B27):INDIRECT(AO$1&AO$3&$B27)) -> 9974 | AP27: =AK27-AO27 -> -1819 | AQ27: =IFERROR(AK27/AO27,0) -> 0.81762583 | AS27: =SUM((INDIRECT(AS$2&(ROW())):INDIRECT(AS$3&(ROW())))) -> 8155 | AT27: =SUM(INDIRECT(AT$1&AT$2&$C27):INDIRECT(AT$1&AT$3&$C27)) -> 0 | AU27: =AS27-AT27 -> 8155 | AV27: =IFERROR(AS27/AT27,0) -> 0 | AW27: =SUM(INDIRECT(AW$1&AW$2&$A27):INDIRECT(AW$1&AW$3&$A27))+SUM(INDIRECT(AW$1&AW$2&$B27):INDIRECT(AW$1&AW$3&$B27)) -> 9974 | AX27: =AS27-AW27 -> -1819 | AY27: =IFERROR(AS27/AW27,0) -> 0.81762583 | BA27: =SUM((INDIRECT(BA$2&(ROW())):INDIRECT(BA$3&(ROW())))) -> 8155 | BB27: =SUM(INDIRECT(BB$1&BB$2&$C27):INDIRECT(BB$1&BB$3&$C27)) -> 0 | BC27: =BA27-BB27 -> 8155 | BD27: =IFERROR(BA27/BB27,0) -> 0 | BE27: =SUM(INDIRECT(BE$1&BE$2&$A27):INDIRECT(BE$1&BE$3&$A27))+SUM(INDIRECT(BE$1&BE$2&$B27):INDIRECT(BE$1&BE$3&$B27)) -> 9974 | BF27: =BA27-BE27 -> -1819 | BG27: =IFERROR(BA27/BE27,0) -> 0.81762583
A28: 28 | B28: 1 | C28: =ROW() -> 28 | D28: RF | E28: 1 | J28: Financial Income | Q28: 8381 | R28: 7503 | S28: 7373 | T28: 6027 | U28: 6745 | V28: =41030-SUM(Q28:U28) -> 5001 | W28: 6713 | X28: 8053 | Y28: 8971 | Z28: 10229 | AA28: 8973 | AB28: =10022+502 -> 10524 | AC28: =SUM(Q28,R28,S28) -> 23257 | AD28: =SUM(T28,U28,V28) -> 17773 | AE28: =SUM(W28,X28,Y28) -> 23737 | AF28: =SUM(Z28,AA28,AB28) -> 29726 | AG28: =AC28+AD28 -> 41030 | AH28: =AF28+AE28 -> 53463 | AI28: =AG28+AH28 -> 94493 | AK28: =SUM((INDIRECT(AK$2&(ROW())):INDIRECT(AK$3&(ROW())))) -> 8381 | AL28: =SUM(INDIRECT(AL$1&AL$2&$C28):INDIRECT(AL$1&AL$3&$C28)) -> 0 | AM28: =AK28-AL28 -> 8381 | AN28: =IFERROR(AK28/AL28,0) -> 0 | AO28: =SUM(INDIRECT(AO$1&AO$2&$A28):INDIRECT(AO$1&AO$3&$A28))+SUM(INDIRECT(AO$1&AO$2&$B28):INDIRECT(AO$1&AO$3&$B28)) -> 9974 | AP28: =AK28-AO28 -> -1593 | AQ28: =IFERROR(AK28/AO28,0) -> 0.84028474 | AS28: =SUM((INDIRECT(AS$2&(ROW())):INDIRECT(AS$3&(ROW())))) -> 8381 | AT28: =SUM(INDIRECT(AT$1&AT$2&$C28):INDIRECT(AT$1&AT$3&$C28)) -> 0 | AU28: =AS28-AT28 -> 8381 | AV28: =IFERROR(AS28/AT28,0) -> 0 | AW28: =SUM(INDIRECT(AW$1&AW$2&$A28):INDIRECT(AW$1&AW$3&$A28))+SUM(INDIRECT(AW$1&AW$2&$B28):INDIRECT(AW$1&AW$3&$B28)) -> 9974 | AX28: =AS28-AW28 -> -1593 | AY28: =IFERROR(AS28/AW28,0) -> 0.84028474 | BA28: =SUM((INDIRECT(BA$2&(ROW())):INDIRECT(BA$3&(ROW())))) -> 8381 | BB28: =SUM(INDIRECT(BB$1&BB$2&$C28):INDIRECT(BB$1&BB$3&$C28)) -> 0 | BC28: =BA28-BB28 -> 8381 | BD28: =IFERROR(BA28/BB28,0) -> 0 | BE28: =SUM(INDIRECT(BE$1&BE$2&$A28):INDIRECT(BE$1&BE$3&$A28))+SUM(INDIRECT(BE$1&BE$2&$B28):INDIRECT(BE$1&BE$3&$B28)) -> 9974 | BF28: =BA28-BE28 -> -1593 | BG28: =IFERROR(BA28/BE28,0) -> 0.84028474
A29: 29 | B29: 1 | C29: =ROW() -> 29 | D29: RF | E29: 1 | J29: Financial Expenses | Q29: 226 | R29: 148 | S29: 2684 | T29: 510 | U29: 0 | V29: =5814-SUM(Q29:U29) -> 2246 | W29: 230 | X29: 0 | Y29: 2497 | AB29: 2287 | AC29: =SUM(Q29,R29,S29) -> 3058 | AD29: =SUM(T29,U29,V29) -> 2756 | AE29: =SUM(W29,X29,Y29) -> 2727 | AF29: =SUM(Z29,AA29,AB29) -> 2287 | AG29: =AC29+AD29 -> 5814 | AH29: =AF29+AE29 -> 5014 | AI29: =AG29+AH29 -> 10828 | AK29: =SUM((INDIRECT(AK$2&(ROW())):INDIRECT(AK$3&(ROW())))) -> 226 | AL29: =SUM(INDIRECT(AL$1&AL$2&$C29):INDIRECT(AL$1&AL$3&$C29)) -> 0 | AM29: =AK29-AL29 -> 226 | AN29: =IFERROR(AK29/AL29,0) -> 0 | AO29: =SUM(INDIRECT(AO$1&AO$2&$A29):INDIRECT(AO$1&AO$3&$A29))+SUM(INDIRECT(AO$1&AO$2&$B29):INDIRECT(AO$1&AO$3&$B29)) -> 0 | AP29: =AK29-AO29 -> 226 | AQ29: =IFERROR(AK29/AO29,0) -> 0 | AS29: =SUM((INDIRECT(AS$2&(ROW())):INDIRECT(AS$3&(ROW())))) -> 226 | AT29: =SUM(INDIRECT(AT$1&AT$2&$C29):INDIRECT(AT$1&AT$3&$C29)) -> 0 | AU29: =AS29-AT29 -> 226 | AV29: =IFERROR(AS29/AT29,0) -> 0 | AW29: =SUM(INDIRECT(AW$1&AW$2&$A29):INDIRECT(AW$1&AW$3&$A29))+SUM(INDIRECT(AW$1&AW$2&$B29):INDIRECT(AW$1&AW$3&$B29)) -> 0 | AX29: =AS29-AW29 -> 226 | AY29: =IFERROR(AS29/AW29,0) -> 0 | BA29: =SUM((INDIRECT(BA$2&(ROW())):INDIRECT(BA$3&(ROW())))) -> 226 | BB29: =SUM(INDIRECT(BB$1&BB$2&$C29):INDIRECT(BB$1&BB$3&$C29)) -> 0 | BC29: =BA29-BB29 -> 226 | BD29: =IFERROR(BA29/BB29,0) -> 0 | BE29: =SUM(INDIRECT(BE$1&BE$2&$A29):INDIRECT(BE$1&BE$3&$A29))+SUM(INDIRECT(BE$1&BE$2&$B29):INDIRECT(BE$1&BE$3&$B29)) -> 0 | BF29: =BA29-BE29 -> 226 | BG29: =IFERROR(BA29/BE29,0) -> 0
A30: 30 | B30: 1 | C30: =ROW() -> 30 | D30: RF | E30: 1 | I30: Profit before Taxes | Q30: =Q25+Q27 -> 51973 | R30: =R25+R27 -> -23511 | S30: =S25+S27 -> 62005 | T30: =T25+T27 -> 71659 | U30: =U25+U27 -> 90525 | V30: =V25+V27 -> 137041 | W30: =W25+W27 -> 54047 | X30: =X25+X27 -> 66253 | ... AB30: =AB25+AB27 -> 103868.11 | AC30: =SUM(Q30,R30,S30) -> 90467 | AD30: =SUM(T30,U30,V30) -> 299225 | AE30: =SUM(W30,X30,Y30) -> 206254 | AF30: =SUM(Z30,AA30,AB30) -> 288406.11 | AG30: =AC30+AD30 -> 389692 | AH30: =AF30+AE30 -> 494660.11 | AI30: =AG30+AH30 -> 884352.11 | AK30: =SUM((INDIRECT(AK$2&(ROW())):INDIRECT(AK$3&(ROW())))) -> 51973 | AL30: =SUM(INDIRECT(AL$1&AL$2&$C30):INDIRECT(AL$1&AL$3&$C30)) -> 44130.378 | AM30: =AK30-AL30 -> 7842.6215 | AN30: =IFERROR(AK30/AL30,0) -> 1.1777148 | AO30: =SUM(INDIRECT(AO$1&AO$2&$A30):INDIRECT(AO$1&AO$3&$A30))+SUM(INDIRECT(AO$1&AO$2&$B30):INDIRECT(AO$1&AO$3&$B30)) -> -102696 | AP30: =AK30-AO30 -> 154669 | AQ30: =IFERROR(AK30/AO30,0) -> -0.50608592 | AS30: =SUM((INDIRECT(AS$2&(ROW())):INDIRECT(AS$3&(ROW())))) -> 51973 | AT30: =SUM(INDIRECT(AT$1&AT$2&$C30):INDIRECT(AT$1&AT$3&$C30)) -> 44130.378 | AU30: =AS30-AT30 -> 7842.6215 | AV30: =IFERROR(AS30/AT30,0) -> 1.1777148 | AW30: =SUM(INDIRECT(AW$1&AW$2&$A30):INDIRECT(AW$1&AW$3&$A30))+SUM(INDIRECT(AW$1&AW$2&$B30):INDIRECT(AW$1&AW$3&$B30)) -> -102696 | AX30: =AS30-AW30 -> 154669 | AY30: =IFERROR(AS30/AW30,0) -> -0.50608592 | BA30: =SUM((INDIRECT(BA$2&(ROW())):INDIRECT(BA$3&(ROW())))) -> 51973 | BB30: =SUM(INDIRECT(BB$1&BB$2&$C30):INDIRECT(BB$1&BB$3&$C30)) -> 44130.378 | BC30: =BA30-BB30 -> 7842.6215 | BD30: =IFERROR(BA30/BB30,0) -> 1.1777148 | BE30: =SUM(INDIRECT(BE$1&BE$2&$A30):INDIRECT(BE$1&BE$3&$A30))+SUM(INDIRECT(BE$1&BE$2&$B30):INDIRECT(BE$1&BE$3&$B30)) -> -102696 | BF30: =BA30-BE30 -> 154669 | BG30: =IFERROR(BA30/BE30,0) -> -0.50608592
A31: 31 | B31: 1 | C31: =ROW() -> 31 | D31: RF | E31: 1 | I31: Tax Expenses & Others | Q31: =Q30*25.168% -> 13080.565 | R31: =R30*25.168% -> -5917.2485 | S31: =S30*25.168% -> 15605.418 | T31: =T30*25.168% -> 18035.137 | U31: =U30*25.168% -> 22783.332 | V31: =V30*25.168% -> 34490.479 | W31: =W30*25.168% -> 13602.549 | X31: =X30*25.168% -> 16674.555 | ... AB31: =AB30*25.168% -> 26141.525 | AC31: =SUM(Q31,R31,S31) -> 22768.735 | AD31: =SUM(T31,U31,V31) -> 75308.948 | AE31: =SUM(W31,X31,Y31) -> 51910.007 | AF31: =SUM(Z31,AA31,AB31) -> 72586.049 | AG31: =AC31+AD31 -> 98077.683 | AH31: =AF31+AE31 -> 124496.06 | AI31: =AG31+AH31 -> 222573.74 | AK31: =SUM((INDIRECT(AK$2&(ROW())):INDIRECT(AK$3&(ROW())))) -> 13080.565 | AL31: =SUM(INDIRECT(AL$1&AL$2&$C31):INDIRECT(AL$1&AL$3&$C31)) -> 0 | AM31: =AK31-AL31 -> 13080.565 | AN31: =IFERROR(AK31/AL31,0) -> 0 | AO31: =SUM(INDIRECT(AO$1&AO$2&$A31):INDIRECT(AO$1&AO$3&$A31))+SUM(INDIRECT(AO$1&AO$2&$B31):INDIRECT(AO$1&AO$3&$B31)) -> -25848.583 | AP31: =AK31-AO31 -> 38929.148 | AQ31: =IFERROR(AK31/AO31,0) -> -0.50604571 | AS31: =SUM((INDIRECT(AS$2&(ROW())):INDIRECT(AS$3&(ROW())))) -> 13080.565 | AT31: =SUM(INDIRECT(AT$1&AT$2&$C31):INDIRECT(AT$1&AT$3&$C31)) -> 0 | AU31: =AS31-AT31 -> 13080.565 | AV31: =IFERROR(AS31/AT31,0) -> 0 | AW31: =SUM(INDIRECT(AW$1&AW$2&$A31):INDIRECT(AW$1&AW$3&$A31))+SUM(INDIRECT(AW$1&AW$2&$B31):INDIRECT(AW$1&AW$3&$B31)) -> -25848.583 | AX31: =AS31-AW31 -> 38929.148 | AY31: =IFERROR(AS31/AW31,0) -> -0.50604571 | BA31: =SUM((INDIRECT(BA$2&(ROW())):INDIRECT(BA$3&(ROW())))) -> 13080.565 | BB31: =SUM(INDIRECT(BB$1&BB$2&$C31):INDIRECT(BB$1&BB$3&$C31)) -> 0 | BC31: =BA31-BB31 -> 13080.565 | BD31: =IFERROR(BA31/BB31,0) -> 0 | BE31: =SUM(INDIRECT(BE$1&BE$2&$A31):INDIRECT(BE$1&BE$3&$A31))+SUM(INDIRECT(BE$1&BE$2&$B31):INDIRECT(BE$1&BE$3&$B31)) -> -25848.583 | BF31: =BA31-BE31 -> 38929.148 | BG31: =IFERROR(BA31/BE31,0) -> -0.50604571
A32: 32 | B32: 1 | C32: =ROW() -> 32 | D32: RF | E32: 1 | I32: Net Profit | Q32: =Q30-Q31 -> 38892.435 | R32: =R30-R31 -> -17593.752 | S32: =S30-S31 -> 46399.582 | T32: =T30-T31 -> 53623.863 | U32: =U30-U31 -> 67741.668 | V32: =V30-V31 -> 102550.52 | W32: =W30-W31 -> 40444.451 | X32: =X30-X31 -> 49578.445 | ... AB32: =AB30-AB31 -> 77726.582 | AC32: =SUM(Q32,R32,S32) -> 67698.265 | AD32: =SUM(T32,U32,V32) -> 223916.05 | AE32: =SUM(W32,X32,Y32) -> 154343.99 | AF32: =SUM(Z32,AA32,AB32) -> 215820.06 | AG32: =AC32+AD32 -> 291614.32 | AH32: =AF32+AE32 -> 370164.05 | AI32: =AG32+AH32 -> 661778.37 | AK32: =SUM((INDIRECT(AK$2&(ROW())):INDIRECT(AK$3&(ROW())))) -> 38892.435 | AL32: =SUM(INDIRECT(AL$1&AL$2&$C32):INDIRECT(AL$1&AL$3&$C32)) -> 44130.378 | AM32: =AK32-AL32 -> -5237.9431 | AN32: =IFERROR(AK32/AL32,0) -> 0.88130754 | AO32: =SUM(INDIRECT(AO$1&AO$2&$A32):INDIRECT(AO$1&AO$3&$A32))+SUM(INDIRECT(AO$1&AO$2&$B32):INDIRECT(AO$1&AO$3&$B32)) -> -76847.417 | AP32: =AK32-AO32 -> 115739.85 | AQ32: =IFERROR(AK32/AO32,0) -> -0.50609945 | AS32: =SUM((INDIRECT(AS$2&(ROW())):INDIRECT(AS$3&(ROW())))) -> 38892.435 | AT32: =SUM(INDIRECT(AT$1&AT$2&$C32):INDIRECT(AT$1&AT$3&$C32)) -> 44130.378 | AU32: =AS32-AT32 -> -5237.9431 | AV32: =IFERROR(AS32/AT32,0) -> 0.88130754 | AW32: =SUM(INDIRECT(AW$1&AW$2&$A32):INDIRECT(AW$1&AW$3&$A32))+SUM(INDIRECT(AW$1&AW$2&$B32):INDIRECT(AW$1&AW$3&$B32)) -> -76847.417 | AX32: =AS32-AW32 -> 115739.85 | AY32: =IFERROR(AS32/AW32,0) -> -0.50609945 | BA32: =SUM((INDIRECT(BA$2&(ROW())):INDIRECT(BA$3&(ROW())))) -> 38892.435 | BB32: =SUM(INDIRECT(BB$1&BB$2&$C32):INDIRECT(BB$1&BB$3&$C32)) -> 44130.378 | BC32: =BA32-BB32 -> -5237.9431 | BD32: =IFERROR(BA32/BB32,0) -> 0.88130754 | BE32: =SUM(INDIRECT(BE$1&BE$2&$A32):INDIRECT(BE$1&BE$3&$A32))+SUM(INDIRECT(BE$1&BE$2&$B32):INDIRECT(BE$1&BE$3&$B32)) -> -76847.417 | BF32: =BA32-BE32 -> 115739.85 | BG32: =IFERROR(BA32/BE32,0) -> -0.50609945
A33: 33 | B33: 1 | C33: =ROW() -> 33 | D33: RF | E33: 1 | P33: (%) | Q33: =IFERROR(Q32/Q11,0) -> 0.07245953 | R33: =IFERROR(R32/R11,0) -> -0.073386188 | S33: =IFERROR(S32/S11,0) -> 0.094300618 | T33: =IFERROR(T32/T11,0) -> 0.10447069 | U33: =IFERROR(U32/U11,0) -> 0.11538372 | V33: =IFERROR(V32/V11,0) -> 0.13865299 | W33: =IFERROR(W32/W11,0) -> 0.065184413 | X33: =IFERROR(X32/X11,0) -> 0.08477107 | ... AI33: =IFERROR(AI32/AI11,0) -> 0.094803239 | AK33: =IFERROR(AK32/AK11,0) -> 0.07245953 | AL33: =IFERROR(AL32/AL11,0) -> 0.091968858 | AM33: =AK33-AL33 -> -0.019509328 | AO33: =IFERROR(AO32/AO11,0) -> -4.2300554 | AP33: =AK33-AO33 -> 4.3025149 | AS33: =IFERROR(AS32/AS11,0) -> 0.07245953 | AT33: =IFERROR(AT32/AT11,0) -> 0.091968858 | AU33: =AS33-AT33 -> -0.019509328 | AW33: =IFERROR(AW32/AW11,0) -> -4.2300554 | AX33: =AS33-AW33 -> 4.3025149 | BA33: =IFERROR(BA32/BA11,0) -> 0.07245953 | BB33: =IFERROR(BB32/BB11,0) -> 0.091968858 | BC33: =BA33-BB33 -> -0.019509328 | BE33: =IFERROR(BE32/BE11,0) -> -4.2300554 | BF33: =BA33-BE33 -> 4.3025149
A34: 34 | B34: 1 | C34: =ROW() -> 34 | E34: 1
A35: 35 | B35: 1 | C35: =ROW() -> 35 | E35: 1
A36: 36 | B36: 1 | C36: =ROW() -> 36 | E36: 1 | G36: 1-2.SGA Expenses Details
A37: 37 | B37: 1 | C37: =ROW() -> 37 | E37: 1 | I37: Variable Expenses | Q37: =SUM(Q38:Q40) -> 36517 | R37: =SUM(R38:R40) -> 22342 | S37: =SUM(S38:S40) -> 30041 | T37: =SUM(T38:T40) -> 28927 | U37: =SUM(U38:U40) -> 38068 | V37: =SUM(V38:V40) -> 44154 | W37: =SUM(W38:W40) -> 42184 | X37: =SUM(X38:X40) -> 39310 | ... AI37: =SUM(AI38:AI40) -> 408165 | AK37: =SUM((INDIRECT(AK$2&(ROW())):INDIRECT(AK$3&(ROW())))) -> 36517 | AL37: =SUM(INDIRECT(AL$1&AL$2&$C37):INDIRECT(AL$1&AL$3&$C37)) -> 31156.288 | AM37: =AK37-AL37 -> 5360.7117 | AN37: =IFERROR(AK37/AL37,0) -> 1.1720587 | AO37: =SUM(INDIRECT(AO$1&AO$2&$A37):INDIRECT(AO$1&AO$3&$A37))+SUM(INDIRECT(AO$1&AO$2&$B37):INDIRECT(AO$1&AO$3&$B37)) -> 13639 | AP37: =AK37-AO37 -> 22878 | AQ37: =IFERROR(AK37/AO37,0) -> 2.6773957 | AS37: =SUM((INDIRECT(AS$2&(ROW())):INDIRECT(AS$3&(ROW())))) -> 36517 | AT37: =SUM(INDIRECT(AT$1&AT$2&$C37):INDIRECT(AT$1&AT$3&$C37)) -> 31156.288 | AU37: =AS37-AT37 -> 5360.7117 | AV37: =IFERROR(AS37/AT37,0) -> 1.1720587 | AW37: =SUM(INDIRECT(AW$1&AW$2&$A37):INDIRECT(AW$1&AW$3&$A37))+SUM(INDIRECT(AW$1&AW$2&$B37):INDIRECT(AW$1&AW$3&$B37)) -> 13639 | AX37: =AS37-AW37 -> 22878 | AY37: =IFERROR(AS37/AW37,0) -> 2.6773957 | BA37: =SUM((INDIRECT(BA$2&(ROW())):INDIRECT(BA$3&(ROW())))) -> 36517 | BB37: =SUM(INDIRECT(BB$1&BB$2&$C37):INDIRECT(BB$1&BB$3&$C37)) -> 31156.288 | BC37: =BA37-BB37 -> 5360.7117 | BD37: =IFERROR(BA37/BB37,0) -> 1.1720587 | BE37: =SUM(INDIRECT(BE$1&BE$2&$A37):INDIRECT(BE$1&BE$3&$A37))+SUM(INDIRECT(BE$1&BE$2&$B37):INDIRECT(BE$1&BE$3&$B37)) -> 13639 | BF37: =BA37-BE37 -> 22878 | BG37: =IFERROR(BA37/BE37,0) -> 2.6773957
A38: 38 | B38: 1 | C38: =ROW() -> 38 | E38: 1 | J38: Selling Expenses | Q38: 12616 | R38: 2209 | S38: 7895 | T38: 3180 | U38: 9234 | V38: 13126 | W38: 12724 | X38: 11711 | Y38: 9810 | Z38: 4062 | AA38: -22968 | AB38: 153 | AC38: =SUM(Q38,R38,S38) -> 22720 | AD38: =SUM(T38,U38,V38) -> 25540 | AE38: =SUM(W38,X38,Y38) -> 34245 | AF38: =SUM(Z38,AA38,AB38) -> -18753 | AG38: =AC38+AD38 -> 48260 | AH38: =AF38+AE38 -> 15492 | AI38: =AG38+AH38 -> 63752 | AK38: =SUM((INDIRECT(AK$2&(ROW())):INDIRECT(AK$3&(ROW())))) -> 12616 | AL38: =SUM(INDIRECT(AL$1&AL$2&$C38):INDIRECT(AL$1&AL$3&$C38)) -> 8627.8343 | AM38: =AK38-AL38 -> 3988.1657 | AN38: =IFERROR(AK38/AL38,0) -> 1.4622441 | AO38: =SUM(INDIRECT(AO$1&AO$2&$A38):INDIRECT(AO$1&AO$3&$A38))+SUM(INDIRECT(AO$1&AO$2&$B38):INDIRECT(AO$1&AO$3&$B38)) -> 2586 | AP38: =AK38-AO38 -> 10030 | AQ38: =IFERROR(AK38/AO38,0) -> 4.878577 | AS38: =SUM((INDIRECT(AS$2&(ROW())):INDIRECT(AS$3&(ROW())))) -> 12616 | AT38: =SUM(INDIRECT(AT$1&AT$2&$C38):INDIRECT(AT$1&AT$3&$C38)) -> 8627.8343 | AU38: =AS38-AT38 -> 3988.1657 | AV38: =IFERROR(AS38/AT38,0) -> 1.4622441 | AW38: =SUM(INDIRECT(AW$1&AW$2&$A38):INDIRECT(AW$1&AW$3&$A38))+SUM(INDIRECT(AW$1&AW$2&$B38):INDIRECT(AW$1&AW$3&$B38)) -> 2586 | AX38: =AS38-AW38 -> 10030 | AY38: =IFERROR(AS38/AW38,0) -> 4.878577 | BA38: =SUM((INDIRECT(BA$2&(ROW())):INDIRECT(BA$3&(ROW())))) -> 12616 | BB38: =SUM(INDIRECT(BB$1&BB$2&$C38):INDIRECT(BB$1&BB$3&$C38)) -> 8627.8343 | BC38: =BA38-BB38 -> 3988.1657 | BD38: =IFERROR(BA38/BB38,0) -> 1.4622441 | BE38: =SUM(INDIRECT(BE$1&BE$2&$A38):INDIRECT(BE$1&BE$3&$A38))+SUM(INDIRECT(BE$1&BE$2&$B38):INDIRECT(BE$1&BE$3&$B38)) -> 2586 | BF38: =BA38-BE38 -> 10030 | BG38: =IFERROR(BA38/BE38,0) -> 4.878577
A39: 39 | B39: 1 | C39: =ROW() -> 39 | E39: 1 | J39: Adverting Expenses | Q39: 361 | R39: 278 | S39: 814 | T39: 434 | U39: 585 | V39: 3222 | W39: 700 | X39: 347 | Y39: 4299 | Z39: 850 | AA39: 180 | AB39: 935 | AC39: =SUM(Q39,R39,S39) -> 1453 | AD39: =SUM(T39,U39,V39) -> 4241 | AE39: =SUM(W39,X39,Y39) -> 5346 | AF39: =SUM(Z39,AA39,AB39) -> 1965 | AG39: =AC39+AD39 -> 5694 | AH39: =AF39+AE39 -> 7311 | AI39: =AG39+AH39 -> 13005 | AK39: =SUM((INDIRECT(AK$2&(ROW())):INDIRECT(AK$3&(ROW())))) -> 361 | AL39: =SUM(INDIRECT(AL$1&AL$2&$C39):INDIRECT(AL$1&AL$3&$C39)) -> 1415.474 | AM39: =AK39-AL39 -> -1054.474 | AN39: =IFERROR(AK39/AL39,0) -> 0.25503824 | AO39: =SUM(INDIRECT(AO$1&AO$2&$A39):INDIRECT(AO$1&AO$3&$A39))+SUM(INDIRECT(AO$1&AO$2&$B39):INDIRECT(AO$1&AO$3&$B39)) -> 305 | AP39: =AK39-AO39 -> 56 | AQ39: =IFERROR(AK39/AO39,0) -> 1.1836066 | AS39: =SUM((INDIRECT(AS$2&(ROW())):INDIRECT(AS$3&(ROW())))) -> 361 | AT39: =SUM(INDIRECT(AT$1&AT$2&$C39):INDIRECT(AT$1&AT$3&$C39)) -> 1415.474 | AU39: =AS39-AT39 -> -1054.474 | AV39: =IFERROR(AS39/AT39,0) -> 0.25503824 | AW39: =SUM(INDIRECT(AW$1&AW$2&$A39):INDIRECT(AW$1&AW$3&$A39))+SUM(INDIRECT(AW$1&AW$2&$B39):INDIRECT(AW$1&AW$3&$B39)) -> 305 | AX39: =AS39-AW39 -> 56 | AY39: =IFERROR(AS39/AW39,0) -> 1.1836066 | BA39: =SUM((INDIRECT(BA$2&(ROW())):INDIRECT(BA$3&(ROW())))) -> 361 | BB39: =SUM(INDIRECT(BB$1&BB$2&$C39):INDIRECT(BB$1&BB$3&$C39)) -> 1415.474 | BC39: =BA39-BB39 -> -1054.474 | BD39: =IFERROR(BA39/BB39,0) -> 0.25503824 | BE39: =SUM(INDIRECT(BE$1&BE$2&$A39):INDIRECT(BE$1&BE$3&$A39))+SUM(INDIRECT(BE$1&BE$2&$B39):INDIRECT(BE$1&BE$3&$B39)) -> 305 | BF39: =BA39-BE39 -> 56 | BG39: =IFERROR(BA39/BE39,0) -> 1.1836066
A40: 40 | B40: 1 | C40: =ROW() -> 40 | E40: 1 | J40: Logistics Expense | Q40: 23540 | R40: 19855 | S40: 21332 | T40: 25313 | U40: 28249 | V40: 27806 | W40: 28760 | X40: 27252 | Y40: 31136 | Z40: 31313 | AA40: 29488 | AB40: 37364 | AC40: =SUM(Q40,R40,S40) -> 64727 | AD40: =SUM(T40,U40,V40) -> 81368 | AE40: =SUM(W40,X40,Y40) -> 87148 | AF40: =SUM(Z40,AA40,AB40) -> 98165 | AG40: =AC40+AD40 -> 146095 | AH40: =AF40+AE40 -> 185313 | AI40: =AG40+AH40 -> 331408 | AK40: =SUM((INDIRECT(AK$2&(ROW())):INDIRECT(AK$3&(ROW())))) -> 23540 | AL40: =SUM(INDIRECT(AL$1&AL$2&$C40):INDIRECT(AL$1&AL$3&$C40)) -> 21112.98 | AM40: =AK40-AL40 -> 2427.0201 | AN40: =IFERROR(AK40/AL40,0) -> 1.1149539 | AO40: =SUM(INDIRECT(AO$1&AO$2&$A40):INDIRECT(AO$1&AO$3&$A40))+SUM(INDIRECT(AO$1&AO$2&$B40):INDIRECT(AO$1&AO$3&$B40)) -> 10748 | AP40: =AK40-AO40 -> 12792 | AQ40: =IFERROR(AK40/AO40,0) -> 2.1901749 | AS40: =SUM((INDIRECT(AS$2&(ROW())):INDIRECT(AS$3&(ROW())))) -> 23540 | AT40: =SUM(INDIRECT(AT$1&AT$2&$C40):INDIRECT(AT$1&AT$3&$C40)) -> 21112.98 | AU40: =AS40-AT40 -> 2427.0201 | AV40: =IFERROR(AS40/AT40,0) -> 1.1149539 | AW40: =SUM(INDIRECT(AW$1&AW$2&$A40):INDIRECT(AW$1&AW$3&$A40))+SUM(INDIRECT(AW$1&AW$2&$B40):INDIRECT(AW$1&AW$3&$B40)) -> 10748 | AX40: =AS40-AW40 -> 12792 | AY40: =IFERROR(AS40/AW40,0) -> 2.1901749 | BA40: =SUM((INDIRECT(BA$2&(ROW())):INDIRECT(BA$3&(ROW())))) -> 23540 | BB40: =SUM(INDIRECT(BB$1&BB$2&$C40):INDIRECT(BB$1&BB$3&$C40)) -> 21112.98 | BC40: =BA40-BB40 -> 2427.0201 | BD40: =IFERROR(BA40/BB40,0) -> 1.1149539 | BE40: =SUM(INDIRECT(BE$1&BE$2&$A40):INDIRECT(BE$1&BE$3&$A40))+SUM(INDIRECT(BE$1&BE$2&$B40):INDIRECT(BE$1&BE$3&$B40)) -> 10748 | BF40: =BA40-BE40 -> 12792 | BG40: =IFERROR(BA40/BE40,0) -> 2.1901749
A41: 41 | B41: 1 | C41: =ROW() -> 41 | E41: 1 | I41: Wages & Salaries | Q41: =SUM(Q42:Q44) -> 55361 | R41: =SUM(R42:R44) -> 52440 | S41: =SUM(S42:S44) -> 53582 | T41: =SUM(T42:T44) -> 52765 | U41: =SUM(U42:U44) -> 53433 | V41: =SUM(V42:V44) -> 49685 | W41: =SUM(W42:W44) -> 49844 | X41: =SUM(X42:X44) -> 47290 | ... AI41: =SUM(AI42:AI44) -> 660760 | AK41: =SUM((INDIRECT(AK$2&(ROW())):INDIRECT(AK$3&(ROW())))) -> 55361 | AL41: =SUM(INDIRECT(AL$1&AL$2&$C41):INDIRECT(AL$1&AL$3&$C41)) -> 47596.427 | AM41: =AK41-AL41 -> 7764.5726 | AN41: =IFERROR(AK41/AL41,0) -> 1.1631335 | AO41: =SUM(INDIRECT(AO$1&AO$2&$A41):INDIRECT(AO$1&AO$3&$A41))+SUM(INDIRECT(AO$1&AO$2&$B41):INDIRECT(AO$1&AO$3&$B41)) -> 54777 | AP41: =AK41-AO41 -> 584 | AQ41: =IFERROR(AK41/AO41,0) -> 1.0106614 | AS41: =SUM((INDIRECT(AS$2&(ROW())):INDIRECT(AS$3&(ROW())))) -> 55361 | AT41: =SUM(INDIRECT(AT$1&AT$2&$C41):INDIRECT(AT$1&AT$3&$C41)) -> 47596.427 | AU41: =AS41-AT41 -> 7764.5726 | AV41: =IFERROR(AS41/AT41,0) -> 1.1631335 | AW41: =SUM(INDIRECT(AW$1&AW$2&$A41):INDIRECT(AW$1&AW$3&$A41))+SUM(INDIRECT(AW$1&AW$2&$B41):INDIRECT(AW$1&AW$3&$B41)) -> 54777 | AX41: =AS41-AW41 -> 584 | AY41: =IFERROR(AS41/AW41,0) -> 1.0106614 | BA41: =SUM((INDIRECT(BA$2&(ROW())):INDIRECT(BA$3&(ROW())))) -> 55361 | BB41: =SUM(INDIRECT(BB$1&BB$2&$C41):INDIRECT(BB$1&BB$3&$C41)) -> 47596.427 | BC41: =BA41-BB41 -> 7764.5726 | BD41: =IFERROR(BA41/BB41,0) -> 1.1631335 | BE41: =SUM(INDIRECT(BE$1&BE$2&$A41):INDIRECT(BE$1&BE$3&$A41))+SUM(INDIRECT(BE$1&BE$2&$B41):INDIRECT(BE$1&BE$3&$B41)) -> 54777 | BF41: =BA41-BE41 -> 584 | BG41: =IFERROR(BA41/BE41,0) -> 1.0106614
...

Sheet Purchase
A2: ='PL,HC,INV'!F4 -> FY2021 Monthly Actual ver1.0 | H2: Input fields
B4: Detail of Purchase | G4: Not include Incidental Cost
B5: KMJ/BUS/BEU Stand Alone/BAU/BCN/BHK/BSA/BME/BIN/BBR ONLY
B7: (Unit: 1,000 Local currency) | H7: ='PL,HC,INV'!Q10 -> 43922 | I7: ='PL,HC,INV'!R10 -> 43952 | J7: ='PL,HC,INV'!S10 -> 43983 | K7: ='PL,HC,INV'!T10 -> 44013 | L7: ='PL,HC,INV'!U10 -> 44044 | M7: ='PL,HC,INV'!V10 -> 44075 | N7: ='PL,HC,INV'!W10 -> 44105 | O7: ='PL,HC,INV'!X10 -> 44136 | ... Z7: ='PL,HC,INV'!AI10 -> Yr.
B8: Total Purchase amount (①+②+③+④) | H8: =SUM(H10,H34,H35,H36) -> 509337.66 | I8: =SUM(I10,I34,I35,I36) -> 364047.46 | J8: =SUM(J10,J34,J35,J36) -> 397299.29 | K8: =SUM(K10,K34,K35,K36) -> 203605.06 | L8: =SUM(L10,L34,L35,L36) -> 275588.72 | M8: =SUM(M10,M34,M35,M36) -> 255679.67 | N8: =SUM(N10,N34,N35,N36) -> 251464.96 | O8: =SUM(O10,O34,O35,O36) -> 325534.65 | ... S8: =SUM(S10,S34,S35,S36) -> 254138.21 | T8: =SUM(H8:J8) -> 1270684.4 | U8: =SUM(K8:M8) -> 734873.44 | V8: =SUM(N8:P8) -> 951147.03 | W8: =SUM(Q8:S8) -> 908611.08 | X8: =SUM(T8:U8) -> 2005557.8 | Y8: =SUM(V8:W8) -> 1859758.1 | Z8: =SUM(X8:Y8) -> 3865316
C9: Total BT-Gr Purchase amount（①+②+③） | H9: =H10+H34+H35 -> 503140.98 | I9: =I10+I34+I35 -> 362842.43 | J9: =J10+J34+J35 -> 394429.46 | K9: =K10+K34+K35 -> 201972.37 | L9: =L10+L34+L35 -> 268192.81 | M9: =M10+M34+M35 -> 253562.02 | N9: =N10+N34+N35 -> 243111.44 | O9: =O10+O34+O35 -> 316812.76 | ... S9: =S10+S34+S35 -> 248004.83 | T9: =SUM(H9:J9) -> 1260412.9 | U9: =SUM(K9:M9) -> 723727.2 | V9: =SUM(N9:P9) -> 930796.25 | W9: =SUM(Q9:S9) -> 897399.52 | X9: =SUM(T9:U9) -> 1984140.1 | Y9: =SUM(V9:W9) -> 1828195.8 | Z9: =SUM(X9:Y9) -> 3812335.8
D10: ①Supplier = BT | H10: =H11+H20+H29+H32+H33 -> 500112.91 | I10: =I11+I20+I29+I32+I33 -> 309095.38 | J10: =J11+J20+J29+J32+J33 -> 391333.46 | K10: =K11+K20+K29+K32+K33 -> 198486.31 | L10: =L11+L20+L29+L32+L33 -> 266219.19 | M10: =M11+M20+M29+M32+M33 -> 235787.81 | N10: =N11+N20+N29+N32+N33 -> 236622.05 | O10: =O11+O20+O29+O32+O33 -> 303116.65 | ... Z10: =Z11+Z20+Z29+Z32+Z33 -> 3640795.7
D11: (1) Office | H11: =H12+H16 -> 190783.83 | I11: =I12+I16 -> 95463.801 | J11: =J12+J16 -> 108056.88 | K11: =K12+K16 -> 23361.028 | L11: =L12+L16 -> 76744.272 | M11: =M12+M16 -> 84288.61 | N11: =N12+N16 -> 47302.799 | O11: =O12+O16 -> 124095.68 | ... Z11: =Z12+Z16 -> 1130331.9
E12: RR | H12: =SUM(H13:H15) -> 186802.67 | I12: =SUM(I13:I15) -> 91433.53 | J12: =SUM(J13:J15) -> 103861.3 | K12: =SUM(K13:K15) -> 22984.581 | L12: =SUM(L13:L15) -> 73822.921 | M12: =SUM(M13:M15) -> 79047.61 | N12: =SUM(N13:N15) -> 41946.12 | O12: =SUM(O13:O15) -> 121042.75 | ... Z12: =SUM(Z13:Z15) -> 1080196.4
F13: Machine | H13: 141768.2 | I13: 60352.273 | J13: 88582.426 | K13: 15467.618 | L13: 30019.145 | M13: 48671.071 | N13: 30984.55 | O13: 84899.458 | P13: 68986.165 | Q13: 34253.479 | R13: 111704.86 | S13: 13495.458 | T13: =SUM(H13:J13) -> 290702.9 | U13: =SUM(K13:M13) -> 94157.834 | V13: =SUM(N13:P13) -> 184870.17 | W13: =SUM(Q13:S13) -> 159453.8 | X13: =SUM(T13:U13) -> 384860.73 | Y13: =SUM(V13:W13) -> 344323.97 | Z13: =SUM(X13:Y13) -> 729184.71
F14: Option | H14: 1590.4 | I14: 1880.429 | J14: 329.999 | K14: 5670.419 | L14: 5820.38 | M14: 2199.065 | N14: 4586.07 | O14: 10233.762 | P14: 15438.944 | Q14: 8786.732 | R14: 17375.331 | S14: 4291.615 | T14: =SUM(H14:J14) -> 3800.828 | U14: =SUM(K14:M14) -> 13689.864 | V14: =SUM(N14:P14) -> 30258.776 | W14: =SUM(Q14:S14) -> 30453.678 | X14: =SUM(T14:U14) -> 17490.692 | Y14: =SUM(V14:W14) -> 60712.454 | Z14: =SUM(X14:Y14) -> 78203.146
F15: Supplies | H15: 43444.072 | I15: 29200.828 | J15: 14948.874 | K15: 1846.544 | L15: 37983.396 | M15: 28177.474 | N15: 6375.5 | O15: 25909.526 | P15: 23945.775 | Q15: 22051.099 | R15: 22029.094 | S15: 16896.387 | T15: =SUM(H15:J15) -> 87593.774 | U15: =SUM(K15:M15) -> 68007.414 | V15: =SUM(N15:P15) -> 56230.801 | W15: =SUM(Q15:S15) -> 60976.58 | X15: =SUM(T15:U15) -> 155601.19 | Y15: =SUM(V15:W15) -> 117207.38 | Z15: =SUM(X15:Y15) -> 272808.57
E16: Non-RR | H16: =SUM(H17:H19) -> 3981.1533 | I16: =SUM(I17:I19) -> 4030.2705 | J16: =SUM(J17:J19) -> 4195.5783 | K16: =SUM(K17:K19) -> 376.44676 | L16: =SUM(L17:L19) -> 2921.3507 | M16: =SUM(M17:M19) -> 5241 | N16: =SUM(N17:N19) -> 5356.6788 | O16: =SUM(O17:O19) -> 3052.9371 | ... Z16: =SUM(Z17:Z19) -> 50135.453
F17: Others | T17: =SUM(H17:J17) -> 0 | U17: =SUM(K17:M17) -> 0 | V17: =SUM(N17:P17) -> 0 | W17: =SUM(Q17:S17) -> 0 | X17: =SUM(T17:U17) -> 0 | Y17: =SUM(V17:W17) -> 0 | Z17: =SUM(X17:Y17) -> 0
F18: BT Support/Discount | T18: =SUM(H18:J18) -> 0 | U18: =SUM(K18:M18) -> 0 | V18: =SUM(N18:P18) -> 0 | W18: =SUM(Q18:S18) -> 0 | X18: =SUM(T18:U18) -> 0 | Y18: =SUM(V18:W18) -> 0 | Z18: =SUM(X18:Y18) -> 0
F19: Parts | H19: 3981.1533 | I19: 4030.2705 | J19: 4195.5783 | K19: 376.44676 | L19: 2921.3507 | M19: 5241 | N19: 5356.6788 | O19: 3052.9371 | P19: 9314.9581 | Q19: 3279.0545 | R19: 4354.1793 | S19: 4031.8457 | T19: =SUM(H19:J19) -> 12207.002 | U19: =SUM(K19:M19) -> 8538.7975 | V19: =SUM(N19:P19) -> 17724.574 | W19: =SUM(Q19:S19) -> 11665.08 | X19: =SUM(T19:U19) -> 20745.8 | Y19: =SUM(V19:W19) -> 29389.654 | Z19: =SUM(X19:Y19) -> 50135.453
D20: (2) PP | H20: =H21+H25 -> 308348.65 | I20: =I21+I25 -> 213167.14 | J20: =J21+J25 -> 282244.73 | K20: =K21+K25 -> 168952.47 | L20: =L21+L25 -> 188541.87 | M20: =M21+M25 -> 133820.87 | N20: =N21+N25 -> 178255.41 | O20: =O21+O25 -> 178316.38 | ... Z20: =Z21+Z25 -> 2462227.1
E21: RR | H21: =SUM(H22:H24) -> 262707.85 | I21: =SUM(I22:I24) -> 174830.78 | J21: =SUM(J22:J24) -> 253408.08 | K21: =SUM(K22:K24) -> 167774.13 | L21: =SUM(L22:L24) -> 165227.89 | M21: =SUM(M22:M24) -> 91848.77 | N21: =SUM(N22:N24) -> 145105.56 | O21: =SUM(O22:O24) -> 164017.31 | ... Z21: =SUM(Z22:Z24) -> 2074023.9
F22: Machine | H22: 82025.222 | I22: 49854.921 | J22: 69201.162 | K22: 35118.738 | L22: 49202.187 | M22: 16173.477 | N22: 9876.422 | O22: 44972.397 | P22: 38822.858 | Q22: 13022.898 | R22: 41940.779 | S22: 53002.715 | T22: =SUM(H22:J22) -> 201081.3 | U22: =SUM(K22:M22) -> 100494.4 | V22: =SUM(N22:P22) -> 93671.677 | W22: =SUM(Q22:S22) -> 107966.39 | X22: =SUM(T22:U22) -> 301575.71 | Y22: =SUM(V22:W22) -> 201638.07 | Z22: =SUM(X22:Y22) -> 503213.78
F23: Option | H23: 1536.201 | I23: 6107.285 | J23: 3154.997 | K23: 10150.774 | L23: 11085.712 | M23: 6277.505 | N23: 4833.341 | O23: 20716.88 | P23: 20541.057 | Q23: 5993.557 | R23: 24824.152 | S23: 5813.945 | T23: =SUM(H23:J23) -> 10798.483 | U23: =SUM(K23:M23) -> 27513.991 | V23: =SUM(N23:P23) -> 46091.278 | W23: =SUM(Q23:S23) -> 36631.654 | X23: =SUM(T23:U23) -> 38312.474 | Y23: =SUM(V23:W23) -> 82722.932 | Z23: =SUM(X23:Y23) -> 121035.41
