Workbook

Sheet 送料入力
B1: 0.1-1.0 | C1: 1.1-2.0 | D1: 2.1-3.0 | E1: 3.1-4.0 | F1: 4.1-5.0 | G1: 5.1-6.0 | H1: 7.1-8.0 | I1: 8.1-9.0 | J1: 9.1-10.0 | K1: 10.1-11.0 | L1: 11.1-12.0 | M1: 12.1-13.0 | N1: 13.1-14.0 | O1: 14.1-15.0 | P1: 15.1-16.0 | Q1: 16.1-17.0 | R1: 17.1-18.0 | S1: 18.1-19.0 | T1: 19.1-20.0 | U1: 20.1-25.0 | V1: 25.1-30.0 | W1: 30.1-35.0 | X1: 35.1-40.0 | Y1: 40.1-45.0 | Z1: 45.1-50.0 | AA1: 50.1-55.0 | AB1: 55.1-60.0 | AC1: 60.1-65.0
A2: America
A3: Canada
A4: Mexico
A5: Vietnam
A6: Thailand
A7: Singapore
A8: Philippines
A9: Malaysia
A10: Israel
A11: Indonesia
A12: Hong Kong
A13: China
... A41: Australia

Sheet 送料計算
B1: 0.1-1.0 | C1: 1.1-2.0 | D1: 2.1-3.0 | E1: 3.1-4.0 | F1: 4.1-5.0 | G1: 5.1-6.0 | H1: 7.1-8.0 | I1: 8.1-9.0 | J1: 9.1-10.0 | K1: 10.1-11.0 | L1: 11.1-12.0 | M1: 12.1-13.0 | N1: 13.1-14.0 | O1: 14.1-15.0 | P1: 15.1-16.0 | Q1: 16.1-17.0 | R1: 17.1-18.0 | S1: 18.1-19.0 | T1: 19.1-20.0 | U1: 20.1-25.0 | V1: 25.1-30.0 | W1: 30.1-35.0 | X1: 35.1-40.0 | Y1: 40.1-45.0 | Z1: 45.1-50.0 | AA1: 50.1-55.0 | AB1: 55.1-60.0 | AC1: 60.1-65.0
A2: America | B2: =送料入力!B2 -> 0 | C2: =送料入力!C2 -> 0 | D2: =送料入力!D2 -> 0 | E2: =送料入力!E2 -> 0 | F2: =送料入力!F2 -> 0 | G2: =送料入力!G2 -> 0 | H2: =送料入力!H2 -> 0 | I2: =送料入力!I2 -> 0 | ... T2: =送料入力!T2 -> 0
A3: Canada | B3: =IF(送料入力!B$2:B3<>"",送料入力!B3-送料入力!B$2,"") | C3: =IF(送料入力!C$2:C3<>"",送料入力!C3-送料入力!C$2,"") | D3: =IF(送料入力!D$2:D3<>"",送料入力!D3-送料入力!D$2,"") | E3: =IF(送料入力!E$2:E3<>"",送料入力!E3-送料入力!E$2,"") | F3: =IF(送料入力!F$2:F3<>"",送料入力!F3-送料入力!F$2,"") | G3: =IF(送料入力!G$2:G3<>"",送料入力!G3-送料入力!G$2,"") | H3: =IF(送料入力!H$2:H3<>"",送料入力!H3-送料入力!H$2,"") | I3: =IF(送料入力!I$2:I3<>"",送料入力!I3-送料入力!I$2,"") | ... AC3: =IF(送料入力!AC$2:AC3<>"",送料入力!AC3-送料入力!AC$2,"")
A4: Mexico | B4: =IF(送料入力!B$2:B4<>"",送料入力!B4-送料入力!B$2,"") | C4: =IF(送料入力!C$2:C4<>"",送料入力!C4-送料入力!C$2,"") | D4: =IF(送料入力!D$2:D4<>"",送料入力!D4-送料入力!D$2,"") | E4: =IF(送料入力!E$2:E4<>"",送料入力!E4-送料入力!E$2,"") | F4: =IF(送料入力!F$2:F4<>"",送料入力!F4-送料入力!F$2,"") | G4: =IF(送料入力!G$2:G4<>"",送料入力!G4-送料入力!G$2,"") | H4: =IF(送料入力!H$2:H4<>"",送料入力!H4-送料入力!H$2,"") | I4: =IF(送料入力!I$2:I4<>"",送料入力!I4-送料入力!I$2,"") | ... AC4: =IF(送料入力!AC$2:AC4<>"",送料入力!AC4-送料入力!AC$2,"")
A5: Vietnam | B5: =IF(送料入力!B$2:B5<>"",送料入力!B5-送料入力!B$2,"") | C5: =IF(送料入力!C$2:C5<>"",送料入力!C5-送料入力!C$2,"") | D5: =IF(送料入力!D$2:D5<>"",送料入力!D5-送料入力!D$2,"") | E5: =IF(送料入力!E$2:E5<>"",送料入力!E5-送料入力!E$2,"") | F5: =IF(送料入力!F$2:F5<>"",送料入力!F5-送料入力!F$2,"") | G5: =IF(送料入力!G$2:G5<>"",送料入力!G5-送料入力!G$2,"") | H5: =IF(送料入力!H$2:H5<>"",送料入力!H5-送料入力!H$2,"") | I5: =IF(送料入力!I$2:I5<>"",送料入力!I5-送料入力!I$2,"") | ... AC5: =IF(送料入力!AC$2:AC5<>"",送料入力!AC5-送料入力!AC$2,"")
A6: Thailand | B6: =IF(送料入力!B$2:B6<>"",送料入力!B6-送料入力!B$2,"") | C6: =IF(送料入力!C$2:C6<>"",送料入力!C6-送料入力!C$2,"") | D6: =IF(送料入力!D$2:D6<>"",送料入力!D6-送料入力!D$2,"") | E6: =IF(送料入力!E$2:E6<>"",送料入力!E6-送料入力!E$2,"") | F6: =IF(送料入力!F$2:F6<>"",送料入力!F6-送料入力!F$2,"") | G6: =IF(送料入力!G$2:G6<>"",送料入力!G6-送料入力!G$2,"") | H6: =IF(送料入力!H$2:H6<>"",送料入力!H6-送料入力!H$2,"") | I6: =IF(送料入力!I$2:I6<>"",送料入力!I6-送料入力!I$2,"") | ... AC6: =IF(送料入力!AC$2:AC6<>"",送料入力!AC6-送料入力!AC$2,"")
A7: Singapore | B7: =IF(送料入力!B$2:B7<>"",送料入力!B7-送料入力!B$2,"") | C7: =IF(送料入力!C$2:C7<>"",送料入力!C7-送料入力!C$2,"") | D7: =IF(送料入力!D$2:D7<>"",送料入力!D7-送料入力!D$2,"") | E7: =IF(送料入力!E$2:E7<>"",送料入力!E7-送料入力!E$2,"") | F7: =IF(送料入力!F$2:F7<>"",送料入力!F7-送料入力!F$2,"") | G7: =IF(送料入力!G$2:G7<>"",送料入力!G7-送料入力!G$2,"") | H7: =IF(送料入力!H$2:H7<>"",送料入力!H7-送料入力!H$2,"") | I7: =IF(送料入力!I$2:I7<>"",送料入力!I7-送料入力!I$2,"") | ... AC7: =IF(送料入力!AC$2:AC7<>"",送料入力!AC7-送料入力!AC$2,"")
A8: Philippines | B8: =IF(送料入力!B$2:B8<>"",送料入力!B8-送料入力!B$2,"") | C8: =IF(送料入力!C$2:C8<>"",送料入力!C8-送料入力!C$2,"") | D8: =IF(送料入力!D$2:D8<>"",送料入力!D8-送料入力!D$2,"") | E8: =IF(送料入力!E$2:E8<>"",送料入力!E8-送料入力!E$2,"") | F8: =IF(送料入力!F$2:F8<>"",送料入力!F8-送料入力!F$2,"") | G8: =IF(送料入力!G$2:G8<>"",送料入力!G8-送料入力!G$2,"") | H8: =IF(送料入力!H$2:H8<>"",送料入力!H8-送料入力!H$2,"") | I8: =IF(送料入力!I$2:I8<>"",送料入力!I8-送料入力!I$2,"") | ... AC8: =IF(送料入力!AC$2:AC8<>"",送料入力!AC8-送料入力!AC$2,"")
A9: Malaysia | B9: =IF(送料入力!B$2:B9<>"",送料入力!B9-送料入力!B$2,"") | C9: =IF(送料入力!C$2:C9<>"",送料入力!C9-送料入力!C$2,"") | D9: =IF(送料入力!D$2:D9<>"",送料入力!D9-送料入力!D$2,"") | E9: =IF(送料入力!E$2:E9<>"",送料入力!E9-送料入力!E$2,"") | F9: =IF(送料入力!F$2:F9<>"",送料入力!F9-送料入力!F$2,"") | G9: =IF(送料入力!G$2:G9<>"",送料入力!G9-送料入力!G$2,"") | H9: =IF(送料入力!H$2:H9<>"",送料入力!H9-送料入力!H$2,"") | I9: =IF(送料入力!I$2:I9<>"",送料入力!I9-送料入力!I$2,"") | ... AC9: =IF(送料入力!AC$2:AC9<>"",送料入力!AC9-送料入力!AC$2,"")
A10: Israel | B10: =IF(送料入力!B$2:B10<>"",送料入力!B10-送料入力!B$2,"") | C10: =IF(送料入力!C$2:C10<>"",送料入力!C10-送料入力!C$2,"") | D10: =IF(送料入力!D$2:D10<>"",送料入力!D10-送料入力!D$2,"") | E10: =IF(送料入力!E$2:E10<>"",送料入力!E10-送料入力!E$2,"") | F10: =IF(送料入力!F$2:F10<>"",送料入力!F10-送料入力!F$2,"") | G10: =IF(送料入力!G$2:G10<>"",送料入力!G10-送料入力!G$2,"") | H10: =IF(送料入力!H$2:H10<>"",送料入力!H10-送料入力!H$2,"") | I10: =IF(送料入力!I$2:I10<>"",送料入力!I10-送料入力!I$2,"") | ... AC10: =IF(送料入力!AC$2:AC10<>"",送料入力!AC10-送料入力!AC$2,"")
A11: Indonesia | B11: =IF(送料入力!B$2:B11<>"",送料入力!B11-送料入力!B$2,"") | C11: =IF(送料入力!C$2:C11<>"",送料入力!C11-送料入力!C$2,"") | D11: =IF(送料入力!D$2:D11<>"",送料入力!D11-送料入力!D$2,"") | E11: =IF(送料入力!E$2:E11<>"",送料入力!E11-送料入力!E$2,"") | F11: =IF(送料入力!F$2:F11<>"",送料入力!F11-送料入力!F$2,"") | G11: =IF(送料入力!G$2:G11<>"",送料入力!G11-送料入力!G$2,"") | H11: =IF(送料入力!H$2:H11<>"",送料入力!H11-送料入力!H$2,"") | I11: =IF(送料入力!I$2:I11<>"",送料入力!I11-送料入力!I$2,"") | ... AC11: =IF(送料入力!AC$2:AC11<>"",送料入力!AC11-送料入力!AC$2,"")
A12: Hong Kong | B12: =IF(送料入力!B$2:B12<>"",送料入力!B12-送料入力!B$2,"") | C12: =IF(送料入力!C$2:C12<>"",送料入力!C12-送料入力!C$2,"") | D12: =IF(送料入力!D$2:D12<>"",送料入力!D12-送料入力!D$2,"") | E12: =IF(送料入力!E$2:E12<>"",送料入力!E12-送料入力!E$2,"") | F12: =IF(送料入力!F$2:F12<>"",送料入力!F12-送料入力!F$2,"") | G12: =IF(送料入力!G$2:G12<>"",送料入力!G12-送料入力!G$2,"") | H12: =IF(送料入力!H$2:H12<>"",送料入力!H12-送料入力!H$2,"") | I12: =IF(送料入力!I$2:I12<>"",送料入力!I12-送料入力!I$2,"") | ... AC12: =IF(送料入力!AC$2:AC12<>"",送料入力!AC12-送料入力!AC$2,"")
A13: China | B13: =IF(送料入力!B$2:B13<>"",送料入力!B13-送料入力!B$2,"") | C13: =IF(送料入力!C$2:C13<>"",送料入力!C13-送料入力!C$2,"") | D13: =IF(送料入力!D$2:D13<>"",送料入力!D13-送料入力!D$2,"") | E13: =IF(送料入力!E$2:E13<>"",送料入力!E13-送料入力!E$2,"") | F13: =IF(送料入力!F$2:F13<>"",送料入力!F13-送料入力!F$2,"") | G13: =IF(送料入力!G$2:G13<>"",送料入力!G13-送料入力!G$2,"") | H13: =IF(送料入力!H$2:H13<>"",送料入力!H13-送料入力!H$2,"") | I13: =IF(送料入力!I$2:I13<>"",送料入力!I13-送料入力!I$2,"") | ... AC13: =IF(送料入力!AC$2:AC13<>"",送料入力!AC13-送料入力!AC$2,"")
A14: Taiwan | B14: =IF(送料入力!B$2:B14<>"",送料入力!B14-送料入力!B$2,"") | C14: =IF(送料入力!C$2:C14<>"",送料入力!C14-送料入力!C$2,"") | D14: =IF(送料入力!D$2:D14<>"",送料入力!D14-送料入力!D$2,"") | E14: =IF(送料入力!E$2:E14<>"",送料入力!E14-送料入力!E$2,"") | F14: =IF(送料入力!F$2:F14<>"",送料入力!F14-送料入力!F$2,"") | G14: =IF(送料入力!G$2:G14<>"",送料入力!G14-送料入力!G$2,"") | H14: =IF(送料入力!H$2:H14<>"",送料入力!H14-送料入力!H$2,"") | I14: =IF(送料入力!I$2:I14<>"",送料入力!I14-送料入力!I$2,"") | ... AC14: =IF(送料入力!AC$2:AC14<>"",送料入力!AC14-送料入力!AC$2,"")
... A41: Australia | B41: =IF(送料入力!B$2:B41<>"",送料入力!B41-送料入力!B$2,"") | C41: =IF(送料入力!C$2:C41<>"",送料入力!C41-送料入力!C$2,"") | D41: =IF(送料入力!D$2:D41<>"",送料入力!D41-送料入力!D$2,"") | E41: =IF(送料入力!E$2:E41<>"",送料入力!E41-送料入力!E$2,"") | F41: =IF(送料入力!F$2:F41<>"",送料入力!F41-送料入力!F$2,"") | G41: =IF(送料入力!G$2:G41<>"",送料入力!G41-送料入力!G$2,"") | H41: =IF(送料入力!H$2:H41<>"",送料入力!H41-送料入力!H$2,"") | I41: =IF(送料入力!I$2:I41<>"",送料入力!I41-送料入力!I$2,"") | ... AC41: =IF(送料入力!AC$2:AC41<>"",送料入力!AC41-送料入力!AC$2,"")
B42: =IF(送料入力!B$2:B42<>"",送料入力!B42-送料入力!B$2,"") | C42: =IF(送料入力!C$2:C42<>"",送料入力!C42-送料入力!C$2,"") | D42: =IF(送料入力!D$2:D42<>"",送料入力!D42-送料入力!D$2,"") | E42: =IF(送料入力!E$2:E42<>"",送料入力!E42-送料入力!E$2,"") | F42: =IF(送料入力!F$2:F42<>"",送料入力!F42-送料入力!F$2,"") | G42: =IF(送料入力!G$2:G42<>"",送料入力!G42-送料入力!G$2,"") | H42: =IF(送料入力!H$2:H42<>"",送料入力!H42-送料入力!H$2,"") | I42: =IF(送料入力!I$2:I42<>"",送料入力!I42-送料入力!I$2,"") | ... V42: =IF(送料入力!V$2:V42<>"",送料入力!V42-送料入力!V$2,"")
B43: =IF(送料入力!B$2:B43<>"",送料入力!B43-送料入力!B$2,"") | C43: =IF(送料入力!C$2:C43<>"",送料入力!C43-送料入力!C$2,"") | D43: =IF(送料入力!D$2:D43<>"",送料入力!D43-送料入力!D$2,"") | E43: =IF(送料入力!E$2:E43<>"",送料入力!E43-送料入力!E$2,"") | F43: =IF(送料入力!F$2:F43<>"",送料入力!F43-送料入力!F$2,"") | G43: =IF(送料入力!G$2:G43<>"",送料入力!G43-送料入力!G$2,"") | H43: =IF(送料入力!H$2:H43<>"",送料入力!H43-送料入力!H$2,"") | I43: =IF(送料入力!I$2:I43<>"",送料入力!I43-送料入力!I$2,"") | ... V43: =IF(送料入力!V$2:V43<>"",送料入力!V43-送料入力!V$2,"")
B44: =IF(送料入力!B$2:B44<>"",送料入力!B44-送料入力!B$2,"") | C44: =IF(送料入力!C$2:C44<>"",送料入力!C44-送料入力!C$2,"") | D44: =IF(送料入力!D$2:D44<>"",送料入力!D44-送料入力!D$2,"") | E44: =IF(送料入力!E$2:E44<>"",送料入力!E44-送料入力!E$2,"") | F44: =IF(送料入力!F$2:F44<>"",送料入力!F44-送料入力!F$2,"") | G44: =IF(送料入力!G$2:G44<>"",送料入力!G44-送料入力!G$2,"") | H44: =IF(送料入力!H$2:H44<>"",送料入力!H44-送料入力!H$2,"") | I44: =IF(送料入力!I$2:I44<>"",送料入力!I44-送料入力!I$2,"") | ... V44: =IF(送料入力!V$2:V44<>"",送料入力!V44-送料入力!V$2,"")
B45: =IF(送料入力!B$2:B45<>"",送料入力!B45-送料入力!B$2,"") | C45: =IF(送料入力!C$2:C45<>"",送料入力!C45-送料入力!C$2,"") | D45: =IF(送料入力!D$2:D45<>"",送料入力!D45-送料入力!D$2,"") | E45: =IF(送料入力!E$2:E45<>"",送料入力!E45-送料入力!E$2,"") | F45: =IF(送料入力!F$2:F45<>"",送料入力!F45-送料入力!F$2,"") | G45: =IF(送料入力!G$2:G45<>"",送料入力!G45-送料入力!G$2,"") | H45: =IF(送料入力!H$2:H45<>"",送料入力!H45-送料入力!H$2,"") | I45: =IF(送料入力!I$2:I45<>"",送料入力!I45-送料入力!I$2,"") | ... V45: =IF(送料入力!V$2:V45<>"",送料入力!V45-送料入力!V$2,"")
B46: =IF(送料入力!B$2:B46<>"",送料入力!B46-送料入力!B$2,"") | C46: =IF(送料入力!C$2:C46<>"",送料入力!C46-送料入力!C$2,"") | D46: =IF(送料入力!D$2:D46<>"",送料入力!D46-送料入力!D$2,"") | E46: =IF(送料入力!E$2:E46<>"",送料入力!E46-送料入力!E$2,"") | F46: =IF(送料入力!F$2:F46<>"",送料入力!F46-送料入力!F$2,"") | G46: =IF(送料入力!G$2:G46<>"",送料入力!G46-送料入力!G$2,"") | H46: =IF(送料入力!H$2:H46<>"",送料入力!H46-送料入力!H$2,"") | I46: =IF(送料入力!I$2:I46<>"",送料入力!I46-送料入力!I$2,"") | ... V46: =IF(送料入力!V$2:V46<>"",送料入力!V46-送料入力!V$2,"")

Sheet 発送除外国
A1: APO/FPO, US Protectorates, Bahrain, Iraq, Jordan, Kuwait, Lebanon, Oman, Qatar, Saudi Arabia, Turkey, United Arab Emirates, Yemen, South America, Brunei Darussalam, Cambodia, Laos, Macau, Afghanistan, Armenia, Azerbaijan Republic, Bangladesh, Bhutan, Georgia, India, Japan, Kazakhstan, Kyrgyzstan, Maldives, Mongolia, Nepal, Pakistan, Sri Lanka, Tajikistan, Turkmenistan, Uzbekistan, Albania, Andorra, Belarus, Bosnia and Herzegovina, Bulgaria, Croatia, Republic of, Cyprus, Estonia, Gibraltar, Guernsey, Hungary, Iceland, Jersey, Latvia, Lithuania, Macedonia, Moldova, Montenegro, Romania, Russian Federation, San Marino, Serbia, Slovenia, Svalbard and Jan Mayen, Ukraine, Vatican City State, Africa, Central America and Caribbean, Bermuda, Greenland, Saint Pierre and Miquelon, American Samoa, Cook Islands, Fiji, French Polynesia, Guam, Kiribati, Marshall Islands, Micronesia, Nauru, New Caledonia, Niue, Palau, Papua New Guinea, Solomon Islands, Tonga, Tuvalu, Vanuatu, Wallis and Futuna, Western Samoa,Argentina,Bolivia,Brazil,Chile,Colombia,Ecuador,Falkland Islands (Islas Malvinas),French Guiana,Guyana,Paraguay,Peru,Suriname,Uruguay,Venezuela
A2: 南米地域South America[ Hide all countries ] に関して
A3: 南米地域は、発送はできるのですが関税によりバイヤーが受け取りを拒否する方が多い印象です。
A4: 拒否されると、返送時の送料負担、場合によっては関税をこちらが負担する事もあり得ます。
A5: 僕は発送除外にしていますが、商品をお送りする前に事前にバイヤーに関税がいくらかかるか確認し合意が得れば発送してもいいかと思います。
