Workbook

Sheet 仕入れ値一覧（宅配便） (2)
A1: 仕入れ値一覧 | J1: 宅配便に入力すると自動的に業務便にも同じ内容が入る。業務便無しの場合はグレーになる | Q1: サンプル半額の場合は半額の数値が自動で入る
E2: 宅配便 | J2: 業務便 | O2: サンプル
A3: Bカート商品ID | B3: JANコード | C3: 商品名 | D3: 特記事項 | E3: ケース入数 | F3: ケース単価 | G3: １個単価 | H3: 混載グループ | I3: 混載条件 | J3: ケース入数 | K3: ケース単価 | L3: １個単価 | M3: 混載グループ | N3: 混載条件 | O3: 入数 | P3: 1個単価 | Q3: 切上げ単価 | R3: セット詳細・備考

Sheet 見積り概要入力
A1: 見積り概要入力
A2: メーカー番号 | D2: メーカー名 | L2: は入力または選択が必要な項目です（埋まっていなくてもエラーなどにはならない）
A3: メーカーカテゴリ番号
A4: 更新日 | D4: 更新内容詳細
A6: 宅配便 見積り概要 | K6: 選択肢項目 | L6: 備考 | M6: 他のセル・シートに反映
A7: 項目 | B7: プルダウン選択 | E7: 備考 | R7: 宅配便、業務便で同じ内容を入れる項目はまとめたい、または同じ内容が入る
A8: 宅配便有無 | K8: あり,なし | L8: 「なし」を選択すると以後の宅配便の項目がすべてグレーになる | M8: 中部・下部フリースペースのB2
A9: 見積もり種類 | K9: 送料込み見積もり,送料別見積もり,その他 | R9: 例えば
A10: 仕入値種類 | K10: 全国一律,地域別金額 | M10: 「地域別金額」を選択すると仕入れ値一覧（宅配便）の地域別仕入単価のセルの色が緑に変わる | R10: 見積もり種類
A11: 追加送料 | K11: あり,なし,一部地域のみあり | R11: 仕入値種類
A12: 送料の追加単位 | K12: １ケースごと,１ロットごと,一律(数量無関係),その他,ロット割れ不足分1ケースごと,ロット割れ不足分1ロットごと | R12: 追加送料
A13: 送料無料ラインの有無 | K13: あり,なし,一部地域のみあり | R13: 送料の追加単位
A14: リードタイム | K14: 自由記入欄 | M14: 中部・下部フリースペースのD6 | R14: 送料無料ラインの有無
A15: 土日祝の扱い | K15: (土日祝を除く),(土日祝を含む) | M15: 中部・下部フリースペースのD7
A16: 納品不可曜日 複数ある場合は、で区切る | K16: 自由記入欄。複数ある場合は、で区切る | M16: 中部・下部フリースペースのD8 | R16: 宅配便とサンプルで同じ項目はまとめたい、または同じ内容が入る
A17: 納品不可地域 複数ある場合は、で区切る | K17: 自由記入欄。複数ある場合は、で区切る | M17: 中部・下部フリースペースのD9 このシート＞サンプル＞納品不可地域（B46）
A18: 特記事項など | K18: 自由記入欄
A20: 業務便 見積り概要
A21: 項目 | B21: プルダウン選択 | E21: 備考
A22: 業務便有無 | K22: あり,なし | L22: 「なし」を選択すると以後の宅配便の項目がすべてグレーになる | M22: 中部・下部フリースペースのD2
A23: 業務便単価 | K23: 宅配便と同じ,宅配便と異なる | M23: 「宅配便と異なる」を選択した場合、仕入れ値一覧(業務便）の「仕入単価」のセルがクリーム色になる
A24: 業務便入数 | K24: 宅配便と同じ,宅配便と異なる | M24: 「宅配便と異なる」を選択した場合、仕入れ値一覧(業務便）の「ケース入数 (合計数計算)」のセルがクリーム色になる
A25: 見積もり種類 | K25: 送料込み見積もり,送料別見積もり,その他
A26: 仕入値種類 | K26: 全国一律,地域別金額
A27: 追加送料 | K27: あり,なし,一部地域のみあり
A28: 送料の追加単位 | K28: １ケースごと,１ロットごと,一律(数量無関係),その他,ロット割れ不足分1ケースごと,ロット割れ不足分1ロットごと
A29: 送料無料ラインの有無 | K29: あり,なし,一部地域のみあり
A30: リードタイム | K30: 自由記入欄 | M30: 中部・下部フリースペースのD12
A31: 土日祝の扱い | K31: (土日祝を除く),(土日祝を含む) | M31: 中部・下部フリースペースのD13
A32: 納品不可曜日 複数ある場合は、で区切る | K32: 自由記入欄。複数ある場合は、で区切る | M32: 中部・下部フリースペースのD14
A33: 納品不可地域 複数ある場合は、で区切る | K33: 自由記入欄。複数ある場合は、で区切る | M33: 中部・下部フリースペースのD15
A34: 特記事項など | K34: 自由記入欄
A36: サンプル 見積り概要
A37: 項目 | B37: プルダウン選択 | E37: 備考
A38: サンプル有無 | K38: あり,なし | L38: 「なし」を選択すると以後のサンプルの項目がすべてグレーになる | M38: 中部・下部フリースペースのF2
A39: 商品代 | K39: 無料,有償 | L39: 「無料」を選択すると以後の宅配便の項目がすべてグレーになる | M39: 中部・下部フリースペースのD18に選択内容がそのまま入る
A40: 送料種類 | K40: 無料,有料 | L40: 「無料」を選択すると送料詳細欄はグレーになる | M40: 中部・下部フリースペースのD19に「無料」と入る
A41: 送料詳細 | K41: 自由記入欄 | M41: 中部・下部フリースペースのD19に記載内容がそのまま入る
A42: サンプル規格 | K42: 現品１個単位,現品ひとまとめ単位,別規格,サンプルセット提供
A43: サンプル規定 | K43: 自由記入欄 | M43: 中部・下部フリースペースのD18の「有償※」または「無料※」の後に記載内容がそのまま入る
...

Sheet 見積り貼り付けシート
A1: 商品代・送料の見積りを貼り付ける

Sheet 基本仕入値入力
A1: 基本仕入値入力
D2: 入数情報 | F2: 適用単価
A3: 番号 | B3: JANコード | C3: 商品名 | D3: 入数 （内訳詳細） | E3: 入数 (合計数計算) | F3: 仕入単価 | G3: 仕入ケース単価 | H3: 基本単価
A4: 1 | D4: 12×2 | E4: 24 | G4: =E4*H4 -> 0
A5: 2 | D5: 20 | E5: 20 | G5: =E5*H5 -> 0
A6: 3 | G6: =E6*H6 -> 0
A7: 4 | G7: =E7*H7 -> 0
A8: 5 | G8: =E8*H8 -> 0
A9: 6 | G9: =E9*H9 -> 0
A10: 7 | G10: =E10*H10 -> 0
A11: 8 | G11: =E11*H11 -> 0
A12: 9 | G12: =E12*H12 -> 0
A13: 10 | G13: =E13*H13 -> 0
A14: 11 | G14: =E14*H14 -> 0
A15: 12 | G15: =E15*H15 -> 0
A16: 13 | G16: =E16*H16 -> 0
A17: 14 | G17: =E17*H17 -> 0
... A63: 60 | G63: =E63*H63 -> 0
A64: 61 | E64: =D64&"" | G64: =E64*H64 -> #VALUE!
A65: 62 | E65: =D65&"" | G65: =E65*H65 -> #VALUE!
A66: 63 | E66: =D66&"" | G66: =E66*H66 -> #VALUE!
A67: 64 | E67: =D67&"" | G67: =E67*H67 -> #VALUE!
A68: 65 | E68: =D68&"" | G68: =E68*H68 -> #VALUE!
A69: 66 | E69: =D69&"" | G69: =E69*H69 -> #VALUE!
A70: 67 | E70: =D70&"" | G70: =E70*H70 -> #VALUE!
A71: 68 | E71: =D71&"" | G71: =E71*H71 -> #VALUE!
A72: 69 | E72: =D72&"" | G72: =E72*H72 -> #VALUE!
A73: 70 | E73: =D73&"" | G73: =E73*H73 -> #VALUE!
A74: 71 | E74: =D74&"" | G74: =E74*H74 -> #VALUE!
A75: 72 | E75: =D75&"" | G75: =E75*H75 -> #VALUE!
... A150: 147 | E150: =D150&"" | G150: =E150*H150 -> #VALUE!

Sheet 設定（宅配便1）
A1: 設定（宅配便1）
D2: 入数情報 | H2: 混載情報 | M2: セット名詳細 | O2: 適用単価 | R2: 地域別仕入単価
A3: 番号 | B3: JANコード | C3: 商品名 | D3: 入数 （内訳詳細） | E3: 入数 (合計数計算) | F3: 単位 | G3: 注文単位 | H3: グループ番号 | I3: 種類選択 | J3: 数 | K3: 単位 | L3: 選択 | M3: セット名種類 | N3: セット名追加情報 | O3: 仕入単価 | P3: 仕入ケース単価 | Q3: 基本単価 | R3: 関東 | S3: 北海道 | T3: 北東北 | U3: 南東北 | V3: 信越 | W3: 北陸 | X3: 中部 | Y3: 関西 | Z3: 中国 | AA3: 四国 | AB3: 九州 | AC3: 沖縄
A4: 1 | D4: 12×2 | E4: 24 | F4: 袋 | G4: 24袋(12袋×2箱) | M4: 【冷凍販売用】 | P4: =E4*Q4 -> 0 | R4: =$Q4&"" | S4: =$Q4&"" | T4: =$Q4&"" | U4: =$Q4&"" | V4: =$Q4&"" | W4: =$Q4&"" | X4: =$Q4&"" | Y4: =$Q4&"" | ... AC4: =$Q4&""
A5: 2 | D5: 20 | E5: 20 | F5: 箱 | G5: 20箱 | N5: ※混載1～3ケース | P5: =E5*Q5 -> 0 | R5: =$Q5&"" | S5: =$Q5&"" | T5: =$Q5&"" | U5: =$Q5&"" | V5: =$Q5&"" | W5: =$Q5&"" | X5: =$Q5&"" | Y5: =$Q5&"" | ... AC5: =$Q5&""
A6: 3 | P6: =E6*Q6 -> 0 | R6: =$Q6&"" | S6: =$Q6&"" | T6: =$Q6&"" | U6: =$Q6&"" | V6: =$Q6&"" | W6: =$Q6&"" | X6: =$Q6&"" | Y6: =$Q6&"" | ... AC6: =$Q6&""
A7: 4 | P7: =E7*Q7 -> 0 | R7: =$Q7&"" | S7: =$Q7&"" | T7: =$Q7&"" | U7: =$Q7&"" | V7: =$Q7&"" | W7: =$Q7&"" | X7: =$Q7&"" | Y7: =$Q7&"" | ... AC7: =$Q7&""
A8: 5 | P8: =E8*Q8 -> 0 | R8: =$Q8&"" | S8: =$Q8&"" | T8: =$Q8&"" | U8: =$Q8&"" | V8: =$Q8&"" | W8: =$Q8&"" | X8: =$Q8&"" | Y8: =$Q8&"" | ... AC8: =$Q8&""
A9: 6 | P9: =E9*Q9 -> 0 | R9: =$Q9&"" | S9: =$Q9&"" | T9: =$Q9&"" | U9: =$Q9&"" | V9: =$Q9&"" | W9: =$Q9&"" | X9: =$Q9&"" | Y9: =$Q9&"" | ... AC9: =$Q9&""
A10: 7 | P10: =E10*Q10 -> 0 | R10: =$Q10&"" | S10: =$Q10&"" | T10: =$Q10&"" | U10: =$Q10&"" | V10: =$Q10&"" | W10: =$Q10&"" | X10: =$Q10&"" | Y10: =$Q10&"" | ... AC10: =$Q10&""
A11: 8 | P11: =E11*Q11 -> 0 | R11: =$Q11&"" | S11: =$Q11&"" | T11: =$Q11&"" | U11: =$Q11&"" | V11: =$Q11&"" | W11: =$Q11&"" | X11: =$Q11&"" | Y11: =$Q11&"" | ... AC11: =$Q11&""
A12: 9 | P12: =E12*Q12 -> 0 | R12: =$Q12&"" | S12: =$Q12&"" | T12: =$Q12&"" | U12: =$Q12&"" | V12: =$Q12&"" | W12: =$Q12&"" | X12: =$Q12&"" | Y12: =$Q12&"" | ... AC12: =$Q12&""
A13: 10 | P13: =E13*Q13 -> 0 | R13: =$Q13&"" | S13: =$Q13&"" | T13: =$Q13&"" | U13: =$Q13&"" | V13: =$Q13&"" | W13: =$Q13&"" | X13: =$Q13&"" | Y13: =$Q13&"" | ... AC13: =$Q13&""
A14: 11 | P14: =E14*Q14 -> 0 | R14: =$Q14&"" | S14: =$Q14&"" | T14: =$Q14&"" | U14: =$Q14&"" | V14: =$Q14&"" | W14: =$Q14&"" | X14: =$Q14&"" | Y14: =$Q14&"" | ... AC14: =$Q14&""
A15: 12 | P15: =E15*Q15 -> 0 | R15: =$Q15&"" | S15: =$Q15&"" | T15: =$Q15&"" | U15: =$Q15&"" | V15: =$Q15&"" | W15: =$Q15&"" | X15: =$Q15&"" | Y15: =$Q15&"" | ... AC15: =$Q15&""
A16: 13 | P16: =E16*Q16 -> 0 | R16: =$Q16&"" | S16: =$Q16&"" | T16: =$Q16&"" | U16: =$Q16&"" | V16: =$Q16&"" | W16: =$Q16&"" | X16: =$Q16&"" | Y16: =$Q16&"" | ... AC16: =$Q16&""
A17: 14 | P17: =E17*Q17 -> 0 | R17: =$Q17&"" | S17: =$Q17&"" | T17: =$Q17&"" | U17: =$Q17&"" | V17: =$Q17&"" | W17: =$Q17&"" | X17: =$Q17&"" | Y17: =$Q17&"" | ... AC17: =$Q17&""
... A63: 60 | P63: =E63*Q63 -> 0 | R63: =$Q63&"" | S63: =$Q63&"" | T63: =$Q63&"" | U63: =$Q63&"" | V63: =$Q63&"" | W63: =$Q63&"" | X63: =$Q63&"" | Y63: =$Q63&"" | ... AC63: =$Q63&""
A64: 61 | E64: =D64&"" | P64: =E64*Q64 -> #VALUE! | R64: =$Q64&"" | S64: =$Q64&"" | T64: =$Q64&"" | U64: =$Q64&"" | V64: =$Q64&"" | W64: =$Q64&"" | X64: =$Q64&"" | Y64: =$Q64&"" | ... AC64: =$Q64&""
A65: 62 | E65: =D65&"" | P65: =E65*Q65 -> #VALUE! | R65: =$Q65&"" | S65: =$Q65&"" | T65: =$Q65&"" | U65: =$Q65&"" | V65: =$Q65&"" | W65: =$Q65&"" | X65: =$Q65&"" | Y65: =$Q65&"" | ... AC65: =$Q65&""
A66: 63 | E66: =D66&"" | P66: =E66*Q66 -> #VALUE! | R66: =$Q66&"" | S66: =$Q66&"" | T66: =$Q66&"" | U66: =$Q66&"" | V66: =$Q66&"" | W66: =$Q66&"" | X66: =$Q66&"" | Y66: =$Q66&"" | ... AC66: =$Q66&""
A67: 64 | E67: =D67&"" | P67: =E67*Q67 -> #VALUE! | R67: =$Q67&"" | S67: =$Q67&"" | T67: =$Q67&"" | U67: =$Q67&"" | V67: =$Q67&"" | W67: =$Q67&"" | X67: =$Q67&"" | Y67: =$Q67&"" | ... AC67: =$Q67&""
A68: 65 | E68: =D68&"" | P68: =E68*Q68 -> #VALUE! | R68: =$Q68&"" | S68: =$Q68&"" | T68: =$Q68&"" | U68: =$Q68&"" | V68: =$Q68&"" | W68: =$Q68&"" | X68: =$Q68&"" | Y68: =$Q68&"" | ... AC68: =$Q68&""
A69: 66 | E69: =D69&"" | P69: =E69*Q69 -> #VALUE! | R69: =$Q69&"" | S69: =$Q69&"" | T69: =$Q69&"" | U69: =$Q69&"" | V69: =$Q69&"" | W69: =$Q69&"" | X69: =$Q69&"" | Y69: =$Q69&"" | ... AC69: =$Q69&""
A70: 67 | E70: =D70&"" | P70: =E70*Q70 -> #VALUE! | R70: =$Q70&"" | S70: =$Q70&"" | T70: =$Q70&"" | U70: =$Q70&"" | V70: =$Q70&"" | W70: =$Q70&"" | X70: =$Q70&"" | Y70: =$Q70&"" | ... AC70: =$Q70&""
A71: 68 | E71: =D71&"" | P71: =E71*Q71 -> #VALUE! | R71: =$Q71&"" | S71: =$Q71&"" | T71: =$Q71&"" | U71: =$Q71&"" | V71: =$Q71&"" | W71: =$Q71&"" | X71: =$Q71&"" | Y71: =$Q71&"" | ... AC71: =$Q71&""
A72: 69 | E72: =D72&"" | P72: =E72*Q72 -> #VALUE! | R72: =$Q72&"" | S72: =$Q72&"" | T72: =$Q72&"" | U72: =$Q72&"" | V72: =$Q72&"" | W72: =$Q72&"" | X72: =$Q72&"" | Y72: =$Q72&"" | ... AC72: =$Q72&""
A73: 70 | E73: =D73&"" | P73: =E73*Q73 -> #VALUE! | R73: =$Q73&"" | S73: =$Q73&"" | T73: =$Q73&"" | U73: =$Q73&"" | V73: =$Q73&"" | W73: =$Q73&"" | X73: =$Q73&"" | Y73: =$Q73&"" | ... AC73: =$Q73&""
A74: 71 | E74: =D74&"" | P74: =E74*Q74 -> #VALUE! | R74: =$Q74&"" | S74: =$Q74&"" | T74: =$Q74&"" | U74: =$Q74&"" | V74: =$Q74&"" | W74: =$Q74&"" | X74: =$Q74&"" | Y74: =$Q74&"" | ... AC74: =$Q74&""
A75: 72 | E75: =D75&"" | P75: =E75*Q75 -> #VALUE! | R75: =$Q75&"" | S75: =$Q75&"" | T75: =$Q75&"" | U75: =$Q75&"" | V75: =$Q75&"" | W75: =$Q75&"" | X75: =$Q75&"" | Y75: =$Q75&"" | ... AC75: =$Q75&""
... A150: 147 | E150: =D150&"" | P150: =E150*Q150 -> #VALUE! | R150: =$Q150&"" | S150: =$Q150&"" | T150: =$Q150&"" | U150: =$Q150&"" | V150: =$Q150&"" | W150: =$Q150&"" | X150: =$Q150&"" | Y150: =$Q150&"" | ... AC150: =$Q150&""

Sheet 宅配便　仮計算
A1: 宅配便仮計算（基本単価で計算）
C2: 基本原価率 | D2: 0.85 | E2: 入数情報 | F2: 混載情報 | G2: 卸単価計算 | O2: 粗利計算（卸単価計算） | R2: 粗利計算（送料込卸単価計算）
A3: JANコード | B3: 商品名 | C3: 特記事項 | D3: 原価率 | E3: 入数 (合計数計算) | F3: 数 | G3: 仕入単価 | H3: 関東送料 | I3: 送料込 仕入単価 | J3: 卸単価 | K3: 切上げ卸単価 | L3: ケース卸単価 | M3: 送料込卸単価 | N3: 切上げ 送料込卸単価 | O3: 想定売価 | P3: 店舗粗利額 | Q3: 粗利率 | R3: 想定売価 | S3: 店舗粗利額 | T3: 粗利率
D4: =$D$2 -> 0.85 | E4: 100 | F4: 1 | G4: 100 | H4: 1000 | I4: =(G4*E4+H4/F4)/E4 -> 110 | J4: =G4/D4 -> 117.64706 | K4: =_xlfn.CEILING.MATH(J4) -> 118 | L4: =E4*K4 -> 11800 | M4: =I4/D4 -> 129.41176 | N4: =_xlfn.CEILING.MATH(M4) -> 130 | P4: =O4-K4 -> -118 | Q4: #DIV/0! | S4: =R4-N4 -> -130 | T4: #DIV/0!
D5: =$D$2 -> 0.85 | J5: =G5/D5 -> 0 | K5: =_xlfn.CEILING.MATH(J5) -> 0 | L5: =E5*K5 -> 0 | M5: =I5/D5 -> 0 | N5: =_xlfn.CEILING.MATH(M5) -> 0 | P5: =O5-K5 -> 0 | Q5: #DIV/0! | S5: =R5-N5 -> 0 | T5: #DIV/0!
D6: =$D$2 -> 0.85 | J6: =G6/D6 -> 0 | K6: =_xlfn.CEILING.MATH(J6) -> 0 | L6: =E6*K6 -> 0 | M6: =I6/D6 -> 0 | N6: =_xlfn.CEILING.MATH(M6) -> 0 | P6: =O6-K6 -> 0 | Q6: #DIV/0! | S6: =R6-N6 -> 0 | T6: #DIV/0!
D7: =$D$2 -> 0.85 | J7: =G7/D7 -> 0 | K7: =_xlfn.CEILING.MATH(J7) -> 0 | L7: =E7*K7 -> 0 | M7: =I7/D7 -> 0 | N7: =_xlfn.CEILING.MATH(M7) -> 0 | P7: =O7-K7 -> 0 | Q7: #DIV/0! | S7: =R7-N7 -> 0 | T7: #DIV/0!
D8: =$D$2 -> 0.85 | J8: =G8/D8 -> 0 | K8: =_xlfn.CEILING.MATH(J8) -> 0 | L8: =E8*K8 -> 0 | M8: =I8/D8 -> 0 | N8: =_xlfn.CEILING.MATH(M8) -> 0 | P8: =O8-K8 -> 0 | Q8: #DIV/0! | S8: =R8-N8 -> 0 | T8: #DIV/0!
D9: =$D$2 -> 0.85 | J9: =G9/D9 -> 0 | K9: =_xlfn.CEILING.MATH(J9) -> 0 | L9: =E9*K9 -> 0 | M9: =I9/D9 -> 0 | N9: =_xlfn.CEILING.MATH(M9) -> 0 | P9: =O9-K9 -> 0 | Q9: #DIV/0! | S9: =R9-N9 -> 0 | T9: #DIV/0!
D10: =$D$2 -> 0.85 | J10: =G10/D10 -> 0 | K10: =_xlfn.CEILING.MATH(J10) -> 0 | L10: =E10*K10 -> 0 | M10: =I10/D10 -> 0 | N10: =_xlfn.CEILING.MATH(M10) -> 0 | P10: =O10-K10 -> 0 | Q10: #DIV/0! | S10: =R10-N10 -> 0 | T10: #DIV/0!
D11: =$D$2 -> 0.85 | J11: =G11/D11 -> 0 | K11: =_xlfn.CEILING.MATH(J11) -> 0 | L11: =E11*K11 -> 0 | M11: =I11/D11 -> 0 | N11: =_xlfn.CEILING.MATH(M11) -> 0 | P11: =O11-K11 -> 0 | Q11: #DIV/0! | S11: =R11-N11 -> 0 | T11: #DIV/0!
D12: =$D$2 -> 0.85 | J12: =G12/D12 -> 0 | K12: =_xlfn.CEILING.MATH(J12) -> 0 | L12: =E12*K12 -> 0 | M12: =I12/D12 -> 0 | N12: =_xlfn.CEILING.MATH(M12) -> 0 | P12: =O12-K12 -> 0 | Q12: #DIV/0! | S12: =R12-N12 -> 0 | T12: #DIV/0!
D13: =$D$2 -> 0.85 | J13: =G13/D13 -> 0 | K13: =_xlfn.CEILING.MATH(J13) -> 0 | L13: =E13*K13 -> 0 | M13: =I13/D13 -> 0 | N13: =_xlfn.CEILING.MATH(M13) -> 0 | P13: =O13-K13 -> 0 | Q13: #DIV/0! | S13: =R13-N13 -> 0 | T13: #DIV/0!
D14: =$D$2 -> 0.85 | J14: =G14/D14 -> 0 | K14: =_xlfn.CEILING.MATH(J14) -> 0 | L14: =E14*K14 -> 0 | M14: =I14/D14 -> 0 | N14: =_xlfn.CEILING.MATH(M14) -> 0 | P14: =O14-K14 -> 0 | Q14: #DIV/0! | S14: =R14-N14 -> 0 | T14: #DIV/0!
D15: =$D$2 -> 0.85 | J15: =G15/D15 -> 0 | K15: =_xlfn.CEILING.MATH(J15) -> 0 | L15: =E15*K15 -> 0 | M15: =I15/D15 -> 0 | N15: =_xlfn.CEILING.MATH(M15) -> 0 | P15: =O15-K15 -> 0 | Q15: #DIV/0! | S15: =R15-N15 -> 0 | T15: #DIV/0!
D16: =$D$2 -> 0.85 | J16: =G16/D16 -> 0 | K16: =_xlfn.CEILING.MATH(J16) -> 0 | L16: =E16*K16 -> 0 | M16: =I16/D16 -> 0 | N16: =_xlfn.CEILING.MATH(M16) -> 0 | P16: =O16-K16 -> 0 | Q16: #DIV/0! | S16: =R16-N16 -> 0 | T16: #DIV/0!
... D150: =$D$2 -> 0.85 | J150: =G150/D150 -> 0 | K150: =_xlfn.CEILING.MATH(J150) -> 0 | L150: =E150*K150 -> 0 | M150: =I150/D150 -> 0 | N150: =_xlfn.CEILING.MATH(M150) -> 0 | P150: =O150-K150 -> 0 | Q150: #DIV/0! | S150: =R150-N150 -> 0 | T150: #DIV/0!

Sheet 設定（宅配便2）
A1: 設定（宅配便1）
D2: 入数情報 | H2: 混載情報 | M2: セット名詳細 | O2: 適用単価 | R2: 地域別仕入単価
A3: 番号 | B3: JANコード | C3: 商品名 | D3: 入数 （内訳詳細） | E3: 入数 (合計数計算) | F3: 単位 | G3: 注文単位 | H3: グループ番号 | I3: 種類選択 | J3: 数 | K3: 単位 | L3: 選択 | M3: セット名種類 | N3: セット名追加情報 | O3: 仕入単価 | P3: 仕入ケース単価 | Q3: 基本単価 | R3: 関東 | S3: 北海道 | T3: 北東北 | U3: 南東北 | V3: 信越 | W3: 北陸 | X3: 中部 | Y3: 関西 | Z3: 中国 | AA3: 四国 | AB3: 九州 | AC3: 沖縄
A4: 1 | D4: 12×2 | E4: 24 | F4: 袋 | G4: 24袋(12袋×2箱) | M4: 【冷凍販売用】 | P4: =E4*Q4 -> 0 | R4: =$Q4&"" | S4: =$Q4&"" | T4: =$Q4&"" | U4: =$Q4&"" | V4: =$Q4&"" | W4: =$Q4&"" | X4: =$Q4&"" | Y4: =$Q4&"" | ... AC4: =$Q4&""
A5: 2 | D5: 20 | E5: 20 | F5: 箱 | G5: 20箱 | N5: ※混載1～3ケース | P5: =E5*Q5 -> 0 | R5: =$Q5&"" | S5: =$Q5&"" | T5: =$Q5&"" | U5: =$Q5&"" | V5: =$Q5&"" | W5: =$Q5&"" | X5: =$Q5&"" | Y5: =$Q5&"" | ... AC5: =$Q5&""
A6: 3 | P6: =E6*Q6 -> 0 | R6: =$Q6&"" | S6: =$Q6&"" | T6: =$Q6&"" | U6: =$Q6&"" | V6: =$Q6&"" | W6: =$Q6&"" | X6: =$Q6&"" | Y6: =$Q6&"" | ... AC6: =$Q6&""
A7: 4 | P7: =E7*Q7 -> 0 | R7: =$Q7&"" | S7: =$Q7&"" | T7: =$Q7&"" | U7: =$Q7&"" | V7: =$Q7&"" | W7: =$Q7&"" | X7: =$Q7&"" | Y7: =$Q7&"" | ... AC7: =$Q7&""
A8: 5 | P8: =E8*Q8 -> 0 | R8: =$Q8&"" | S8: =$Q8&"" | T8: =$Q8&"" | U8: =$Q8&"" | V8: =$Q8&"" | W8: =$Q8&"" | X8: =$Q8&"" | Y8: =$Q8&"" | ... AC8: =$Q8&""
A9: 6 | P9: =E9*Q9 -> 0 | R9: =$Q9&"" | S9: =$Q9&"" | T9: =$Q9&"" | U9: =$Q9&"" | V9: =$Q9&"" | W9: =$Q9&"" | X9: =$Q9&"" | Y9: =$Q9&"" | ... AC9: =$Q9&""
A10: 7 | P10: =E10*Q10 -> 0 | R10: =$Q10&"" | S10: =$Q10&"" | T10: =$Q10&"" | U10: =$Q10&"" | V10: =$Q10&"" | W10: =$Q10&"" | X10: =$Q10&"" | Y10: =$Q10&"" | ... AC10: =$Q10&""
A11: 8 | P11: =E11*Q11 -> 0 | R11: =$Q11&"" | S11: =$Q11&"" | T11: =$Q11&"" | U11: =$Q11&"" | V11: =$Q11&"" | W11: =$Q11&"" | X11: =$Q11&"" | Y11: =$Q11&"" | ... AC11: =$Q11&""
A12: 9 | P12: =E12*Q12 -> 0 | R12: =$Q12&"" | S12: =$Q12&"" | T12: =$Q12&"" | U12: =$Q12&"" | V12: =$Q12&"" | W12: =$Q12&"" | X12: =$Q12&"" | Y12: =$Q12&"" | ... AC12: =$Q12&""
A13: 10 | P13: =E13*Q13 -> 0 | R13: =$Q13&"" | S13: =$Q13&"" | T13: =$Q13&"" | U13: =$Q13&"" | V13: =$Q13&"" | W13: =$Q13&"" | X13: =$Q13&"" | Y13: =$Q13&"" | ... AC13: =$Q13&""
A14: 11 | P14: =E14*Q14 -> 0 | R14: =$Q14&"" | S14: =$Q14&"" | T14: =$Q14&"" | U14: =$Q14&"" | V14: =$Q14&"" | W14: =$Q14&"" | X14: =$Q14&"" | Y14: =$Q14&"" | ... AC14: =$Q14&""
A15: 12 | P15: =E15*Q15 -> 0 | R15: =$Q15&"" | S15: =$Q15&"" | T15: =$Q15&"" | U15: =$Q15&"" | V15: =$Q15&"" | W15: =$Q15&"" | X15: =$Q15&"" | Y15: =$Q15&"" | ... AC15: =$Q15&""
A16: 13 | P16: =E16*Q16 -> 0 | R16: =$Q16&"" | S16: =$Q16&"" | T16: =$Q16&"" | U16: =$Q16&"" | V16: =$Q16&"" | W16: =$Q16&"" | X16: =$Q16&"" | Y16: =$Q16&"" | ... AC16: =$Q16&""
A17: 14 | P17: =E17*Q17 -> 0 | R17: =$Q17&"" | S17: =$Q17&"" | T17: =$Q17&"" | U17: =$Q17&"" | V17: =$Q17&"" | W17: =$Q17&"" | X17: =$Q17&"" | Y17: =$Q17&"" | ... AC17: =$Q17&""
... A63: 60 | P63: =E63*Q63 -> 0 | R63: =$Q63&"" | S63: =$Q63&"" | T63: =$Q63&"" | U63: =$Q63&"" | V63: =$Q63&"" | W63: =$Q63&"" | X63: =$Q63&"" | Y63: =$Q63&"" | ... AC63: =$Q63&""
A64: 61 | E64: =D64&"" | P64: =E64*Q64 -> #VALUE! | R64: =$Q64&"" | S64: =$Q64&"" | T64: =$Q64&"" | U64: =$Q64&"" | V64: =$Q64&"" | W64: =$Q64&"" | X64: =$Q64&"" | Y64: =$Q64&"" | ... AC64: =$Q64&""
A65: 62 | E65: =D65&"" | P65: =E65*Q65 -> #VALUE! | R65: =$Q65&"" | S65: =$Q65&"" | T65: =$Q65&"" | U65: =$Q65&"" | V65: =$Q65&"" | W65: =$Q65&"" | X65: =$Q65&"" | Y65: =$Q65&"" | ... AC65: =$Q65&""
A66: 63 | E66: =D66&"" | P66: =E66*Q66 -> #VALUE! | R66: =$Q66&"" | S66: =$Q66&"" | T66: =$Q66&"" | U66: =$Q66&"" | V66: =$Q66&"" | W66: =$Q66&"" | X66: =$Q66&"" | Y66: =$Q66&"" | ... AC66: =$Q66&""
A67: 64 | E67: =D67&"" | P67: =E67*Q67 -> #VALUE! | R67: =$Q67&"" | S67: =$Q67&"" | T67: =$Q67&"" | U67: =$Q67&"" | V67: =$Q67&"" | W67: =$Q67&"" | X67: =$Q67&"" | Y67: =$Q67&"" | ... AC67: =$Q67&""
A68: 65 | E68: =D68&"" | P68: =E68*Q68 -> #VALUE! | R68: =$Q68&"" | S68: =$Q68&"" | T68: =$Q68&"" | U68: =$Q68&"" | V68: =$Q68&"" | W68: =$Q68&"" | X68: =$Q68&"" | Y68: =$Q68&"" | ... AC68: =$Q68&""
A69: 66 | E69: =D69&"" | P69: =E69*Q69 -> #VALUE! | R69: =$Q69&"" | S69: =$Q69&"" | T69: =$Q69&"" | U69: =$Q69&"" | V69: =$Q69&"" | W69: =$Q69&"" | X69: =$Q69&"" | Y69: =$Q69&"" | ... AC69: =$Q69&""
A70: 67 | E70: =D70&"" | P70: =E70*Q70 -> #VALUE! | R70: =$Q70&"" | S70: =$Q70&"" | T70: =$Q70&"" | U70: =$Q70&"" | V70: =$Q70&"" | W70: =$Q70&"" | X70: =$Q70&"" | Y70: =$Q70&"" | ... AC70: =$Q70&""
A71: 68 | E71: =D71&"" | P71: =E71*Q71 -> #VALUE! | R71: =$Q71&"" | S71: =$Q71&"" | T71: =$Q71&"" | U71: =$Q71&"" | V71: =$Q71&"" | W71: =$Q71&"" | X71: =$Q71&"" | Y71: =$Q71&"" | ... AC71: =$Q71&""
A72: 69 | E72: =D72&"" | P72: =E72*Q72 -> #VALUE! | R72: =$Q72&"" | S72: =$Q72&"" | T72: =$Q72&"" | U72: =$Q72&"" | V72: =$Q72&"" | W72: =$Q72&"" | X72: =$Q72&"" | Y72: =$Q72&"" | ... AC72: =$Q72&""
A73: 70 | E73: =D73&"" | P73: =E73*Q73 -> #VALUE! | R73: =$Q73&"" | S73: =$Q73&"" | T73: =$Q73&"" | U73: =$Q73&"" | V73: =$Q73&"" | W73: =$Q73&"" | X73: =$Q73&"" | Y73: =$Q73&"" | ... AC73: =$Q73&""
A74: 71 | E74: =D74&"" | P74: =E74*Q74 -> #VALUE! | R74: =$Q74&"" | S74: =$Q74&"" | T74: =$Q74&"" | U74: =$Q74&"" | V74: =$Q74&"" | W74: =$Q74&"" | X74: =$Q74&"" | Y74: =$Q74&"" | ... AC74: =$Q74&""
A75: 72 | E75: =D75&"" | P75: =E75*Q75 -> #VALUE! | R75: =$Q75&"" | S75: =$Q75&"" | T75: =$Q75&"" | U75: =$Q75&"" | V75: =$Q75&"" | W75: =$Q75&"" | X75: =$Q75&"" | Y75: =$Q75&"" | ... AC75: =$Q75&""
... A150: 147 | E150: =D150&"" | P150: =E150*Q150 -> #VALUE! | R150: =$Q150&"" | S150: =$Q150&"" | T150: =$Q150&"" | U150: =$Q150&"" | V150: =$Q150&"" | W150: =$Q150&"" | X150: =$Q150&"" | Y150: =$Q150&"" | ... AC150: =$Q150&""

Sheet 設定（業務便1）
A1: 設定（業務便2）
D2: 入数情報 | H2: 混載情報 | M2: セット名詳細 | O2: 適用単価 | R2: 地域別仕入単価
A3: 番号 | B3: JANコード | C3: 商品名 | D3: 入数 （内訳詳細） | E3: 入数 (合計数計算) | F3: 単位 | G3: 注文単位 | H3: グループ番号 | I3: 種類選択 | J3: 数 | K3: 単位 | L3: 選択 | M3: セット名種類 | N3: セット名追加情報 | O3: 仕入単価 | P3: 仕入ケース単価 | Q3: 基本単価 | R3: 関東 | S3: 北海道 | T3: 北東北 | U3: 南東北 | V3: 信越 | W3: 北陸 | X3: 中部 | Y3: 関西 | Z3: 中国 | AA3: 四国 | AB3: 九州 | AC3: 沖縄
A4: 1 | D4: 12×2 | E4: 24 | F4: 袋 | G4: 24袋(12袋×2箱) | M4: 【冷凍販売用】 | P4: =E4*Q4 -> 0 | R4: =$Q4&"" | S4: =$Q4&"" | T4: =$Q4&"" | U4: =$Q4&"" | V4: =$Q4&"" | W4: =$Q4&"" | X4: =$Q4&"" | Y4: =$Q4&"" | ... AC4: =$Q4&""
A5: 2 | D5: 20 | E5: 20 | F5: 箱 | G5: 20箱 | N5: ※混載1～3ケース | P5: =E5*Q5 -> 0 | R5: =$Q5&"" | S5: =$Q5&"" | T5: =$Q5&"" | U5: =$Q5&"" | V5: =$Q5&"" | W5: =$Q5&"" | X5: =$Q5&"" | Y5: =$Q5&"" | ... AC5: =$Q5&""
A6: 3 | P6: =E6*Q6 -> 0 | R6: =$Q6&"" | S6: =$Q6&"" | T6: =$Q6&"" | U6: =$Q6&"" | V6: =$Q6&"" | W6: =$Q6&"" | X6: =$Q6&"" | Y6: =$Q6&"" | ... AC6: =$Q6&""
A7: 4 | P7: =E7*Q7 -> 0 | R7: =$Q7&"" | S7: =$Q7&"" | T7: =$Q7&"" | U7: =$Q7&"" | V7: =$Q7&"" | W7: =$Q7&"" | X7: =$Q7&"" | Y7: =$Q7&"" | ... AC7: =$Q7&""
A8: 5 | P8: =E8*Q8 -> 0 | R8: =$Q8&"" | S8: =$Q8&"" | T8: =$Q8&"" | U8: =$Q8&"" | V8: =$Q8&"" | W8: =$Q8&"" | X8: =$Q8&"" | Y8: =$Q8&"" | ... AC8: =$Q8&""
A9: 6 | P9: =E9*Q9 -> 0 | R9: =$Q9&"" | S9: =$Q9&"" | T9: =$Q9&"" | U9: =$Q9&"" | V9: =$Q9&"" | W9: =$Q9&"" | X9: =$Q9&"" | Y9: =$Q9&"" | ... AC9: =$Q9&""
A10: 7 | P10: =E10*Q10 -> 0 | R10: =$Q10&"" | S10: =$Q10&"" | T10: =$Q10&"" | U10: =$Q10&"" | V10: =$Q10&"" | W10: =$Q10&"" | X10: =$Q10&"" | Y10: =$Q10&"" | ... AC10: =$Q10&""
A11: 8 | P11: =E11*Q11 -> 0 | R11: =$Q11&"" | S11: =$Q11&"" | T11: =$Q11&"" | U11: =$Q11&"" | V11: =$Q11&"" | W11: =$Q11&"" | X11: =$Q11&"" | Y11: =$Q11&"" | ... AC11: =$Q11&""
A12: 9 | P12: =E12*Q12 -> 0 | R12: =$Q12&"" | S12: =$Q12&"" | T12: =$Q12&"" | U12: =$Q12&"" | V12: =$Q12&"" | W12: =$Q12&"" | X12: =$Q12&"" | Y12: =$Q12&"" | ... AC12: =$Q12&""
A13: 10 | P13: =E13*Q13 -> 0 | R13: =$Q13&"" | S13: =$Q13&"" | T13: =$Q13&"" | U13: =$Q13&"" | V13: =$Q13&"" | W13: =$Q13&"" | X13: =$Q13&"" | Y13: =$Q13&"" | ... AC13: =$Q13&""
A14: 11 | P14: =E14*Q14 -> 0 | R14: =$Q14&"" | S14: =$Q14&"" | T14: =$Q14&"" | U14: =$Q14&"" | V14: =$Q14&"" | W14: =$Q14&"" | X14: =$Q14&"" | Y14: =$Q14&"" | ... AC14: =$Q14&""
A15: 12 | P15: =E15*Q15 -> 0 | R15: =$Q15&"" | S15: =$Q15&"" | T15: =$Q15&"" | U15: =$Q15&"" | V15: =$Q15&"" | W15: =$Q15&"" | X15: =$Q15&"" | Y15: =$Q15&"" | ... AC15: =$Q15&""
A16: 13 | P16: =E16*Q16 -> 0 | R16: =$Q16&"" | S16: =$Q16&"" | T16: =$Q16&"" | U16: =$Q16&"" | V16: =$Q16&"" | W16: =$Q16&"" | X16: =$Q16&"" | Y16: =$Q16&"" | ... AC16: =$Q16&""
A17: 14 | P17: =E17*Q17 -> 0 | R17: =$Q17&"" | S17: =$Q17&"" | T17: =$Q17&"" | U17: =$Q17&"" | V17: =$Q17&"" | W17: =$Q17&"" | X17: =$Q17&"" | Y17: =$Q17&"" | ... AC17: =$Q17&""
... A63: 60 | P63: =E63*Q63 -> 0 | R63: =$Q63&"" | S63: =$Q63&"" | T63: =$Q63&"" | U63: =$Q63&"" | V63: =$Q63&"" | W63: =$Q63&"" | X63: =$Q63&"" | Y63: =$Q63&"" | ... AC63: =$Q63&""
A64: 61 | E64: =D64&"" | P64: =E64*Q64 -> #VALUE! | R64: =$Q64&"" | S64: =$Q64&"" | T64: =$Q64&"" | U64: =$Q64&"" | V64: =$Q64&"" | W64: =$Q64&"" | X64: =$Q64&"" | Y64: =$Q64&"" | ... AC64: =$Q64&""
A65: 62 | E65: =D65&"" | P65: =E65*Q65 -> #VALUE! | R65: =$Q65&"" | S65: =$Q65&"" | T65: =$Q65&"" | U65: =$Q65&"" | V65: =$Q65&"" | W65: =$Q65&"" | X65: =$Q65&"" | Y65: =$Q65&"" | ... AC65: =$Q65&""
A66: 63 | E66: =D66&"" | P66: =E66*Q66 -> #VALUE! | R66: =$Q66&"" | S66: =$Q66&"" | T66: =$Q66&"" | U66: =$Q66&"" | V66: =$Q66&"" | W66: =$Q66&"" | X66: =$Q66&"" | Y66: =$Q66&"" | ... AC66: =$Q66&""
A67: 64 | E67: =D67&"" | P67: =E67*Q67 -> #VALUE! | R67: =$Q67&"" | S67: =$Q67&"" | T67: =$Q67&"" | U67: =$Q67&"" | V67: =$Q67&"" | W67: =$Q67&"" | X67: =$Q67&"" | Y67: =$Q67&"" | ... AC67: =$Q67&""
A68: 65 | E68: =D68&"" | P68: =E68*Q68 -> #VALUE! | R68: =$Q68&"" | S68: =$Q68&"" | T68: =$Q68&"" | U68: =$Q68&"" | V68: =$Q68&"" | W68: =$Q68&"" | X68: =$Q68&"" | Y68: =$Q68&"" | ... AC68: =$Q68&""
A69: 66 | E69: =D69&"" | P69: =E69*Q69 -> #VALUE! | R69: =$Q69&"" | S69: =$Q69&"" | T69: =$Q69&"" | U69: =$Q69&"" | V69: =$Q69&"" | W69: =$Q69&"" | X69: =$Q69&"" | Y69: =$Q69&"" | ... AC69: =$Q69&""
A70: 67 | E70: =D70&"" | P70: =E70*Q70 -> #VALUE! | R70: =$Q70&"" | S70: =$Q70&"" | T70: =$Q70&"" | U70: =$Q70&"" | V70: =$Q70&"" | W70: =$Q70&"" | X70: =$Q70&"" | Y70: =$Q70&"" | ... AC70: =$Q70&""
A71: 68 | E71: =D71&"" | P71: =E71*Q71 -> #VALUE! | R71: =$Q71&"" | S71: =$Q71&"" | T71: =$Q71&"" | U71: =$Q71&"" | V71: =$Q71&"" | W71: =$Q71&"" | X71: =$Q71&"" | Y71: =$Q71&"" | ... AC71: =$Q71&""
A72: 69 | E72: =D72&"" | P72: =E72*Q72 -> #VALUE! | R72: =$Q72&"" | S72: =$Q72&"" | T72: =$Q72&"" | U72: =$Q72&"" | V72: =$Q72&"" | W72: =$Q72&"" | X72: =$Q72&"" | Y72: =$Q72&"" | ... AC72: =$Q72&""
A73: 70 | E73: =D73&"" | P73: =E73*Q73 -> #VALUE! | R73: =$Q73&"" | S73: =$Q73&"" | T73: =$Q73&"" | U73: =$Q73&"" | V73: =$Q73&"" | W73: =$Q73&"" | X73: =$Q73&"" | Y73: =$Q73&"" | ... AC73: =$Q73&""
A74: 71 | E74: =D74&"" | P74: =E74*Q74 -> #VALUE! | R74: =$Q74&"" | S74: =$Q74&"" | T74: =$Q74&"" | U74: =$Q74&"" | V74: =$Q74&"" | W74: =$Q74&"" | X74: =$Q74&"" | Y74: =$Q74&"" | ... AC74: =$Q74&""
A75: 72 | E75: =D75&"" | P75: =E75*Q75 -> #VALUE! | R75: =$Q75&"" | S75: =$Q75&"" | T75: =$Q75&"" | U75: =$Q75&"" | V75: =$Q75&"" | W75: =$Q75&"" | X75: =$Q75&"" | Y75: =$Q75&"" | ... AC75: =$Q75&""
... A150: 147 | E150: =D150&"" | P150: =E150*Q150 -> #VALUE! | R150: =$Q150&"" | S150: =$Q150&"" | T150: =$Q150&"" | U150: =$Q150&"" | V150: =$Q150&"" | W150: =$Q150&"" | X150: =$Q150&"" | Y150: =$Q150&"" | ... AC150: =$Q150&""

Sheet 設定（業務便2）
A1: 設定（業務便1）
D2: 入数情報 | H2: 混載情報 | M2: セット名詳細 | O2: 適用単価 | R2: 地域別仕入単価
A3: 番号 | B3: JANコード | C3: 商品名 | D3: 入数 （内訳詳細） | E3: 入数 (合計数計算) | F3: 単位 | G3: 注文単位 | H3: グループ番号 | I3: 種類選択 | J3: 数 | K3: 単位 | L3: 選択 | M3: セット名種類 | N3: セット名追加情報 | O3: 仕入単価 | P3: 仕入ケース単価 | Q3: 基本単価 | R3: 関東 | S3: 北海道 | T3: 北東北 | U3: 南東北 | V3: 信越 | W3: 北陸 | X3: 中部 | Y3: 関西 | Z3: 中国 | AA3: 四国 | AB3: 九州 | AC3: 沖縄
A4: 1 | D4: 12×2 | E4: 24 | F4: 袋 | G4: 24袋(12袋×2箱) | M4: 【冷凍販売用】 | P4: =E4*Q4 -> 0 | R4: =$Q4&"" | S4: =$Q4&"" | T4: =$Q4&"" | U4: =$Q4&"" | V4: =$Q4&"" | W4: =$Q4&"" | X4: =$Q4&"" | Y4: =$Q4&"" | ... AC4: =$Q4&""
A5: 2 | D5: 20 | E5: 20 | F5: 箱 | G5: 20箱 | N5: ※混載1～3ケース | P5: =E5*Q5 -> 0 | R5: =$Q5&"" | S5: =$Q5&"" | T5: =$Q5&"" | U5: =$Q5&"" | V5: =$Q5&"" | W5: =$Q5&"" | X5: =$Q5&"" | Y5: =$Q5&"" | ... AC5: =$Q5&""
A6: 3 | P6: =E6*Q6 -> 0 | R6: =$Q6&"" | S6: =$Q6&"" | T6: =$Q6&"" | U6: =$Q6&"" | V6: =$Q6&"" | W6: =$Q6&"" | X6: =$Q6&"" | Y6: =$Q6&"" | ... AC6: =$Q6&""
A7: 4 | P7: =E7*Q7 -> 0 | R7: =$Q7&"" | S7: =$Q7&"" | T7: =$Q7&"" | U7: =$Q7&"" | V7: =$Q7&"" | W7: =$Q7&"" | X7: =$Q7&"" | Y7: =$Q7&"" | ... AC7: =$Q7&""
A8: 5 | P8: =E8*Q8 -> 0 | R8: =$Q8&"" | S8: =$Q8&"" | T8: =$Q8&"" | U8: =$Q8&"" | V8: =$Q8&"" | W8: =$Q8&"" | X8: =$Q8&"" | Y8: =$Q8&"" | ... AC8: =$Q8&""
A9: 6 | P9: =E9*Q9 -> 0 | R9: =$Q9&"" | S9: =$Q9&"" | T9: =$Q9&"" | U9: =$Q9&"" | V9: =$Q9&"" | W9: =$Q9&"" | X9: =$Q9&"" | Y9: =$Q9&"" | ... AC9: =$Q9&""
A10: 7 | P10: =E10*Q10 -> 0 | R10: =$Q10&"" | S10: =$Q10&"" | T10: =$Q10&"" | U10: =$Q10&"" | V10: =$Q10&"" | W10: =$Q10&"" | X10: =$Q10&"" | Y10: =$Q10&"" | ... AC10: =$Q10&""
A11: 8 | P11: =E11*Q11 -> 0 | R11: =$Q11&"" | S11: =$Q11&"" | T11: =$Q11&"" | U11: =$Q11&"" | V11: =$Q11&"" | W11: =$Q11&"" | X11: =$Q11&"" | Y11: =$Q11&"" | ... AC11: =$Q11&""
A12: 9 | P12: =E12*Q12 -> 0 | R12: =$Q12&"" | S12: =$Q12&"" | T12: =$Q12&"" | U12: =$Q12&"" | V12: =$Q12&"" | W12: =$Q12&"" | X12: =$Q12&"" | Y12: =$Q12&"" | ... AC12: =$Q12&""
A13: 10 | P13: =E13*Q13 -> 0 | R13: =$Q13&"" | S13: =$Q13&"" | T13: =$Q13&"" | U13: =$Q13&"" | V13: =$Q13&"" | W13: =$Q13&"" | X13: =$Q13&"" | Y13: =$Q13&"" | ... AC13: =$Q13&""
A14: 11 | P14: =E14*Q14 -> 0 | R14: =$Q14&"" | S14: =$Q14&"" | T14: =$Q14&"" | U14: =$Q14&"" | V14: =$Q14&"" | W14: =$Q14&"" | X14: =$Q14&"" | Y14: =$Q14&"" | ... AC14: =$Q14&""
A15: 12 | P15: =E15*Q15 -> 0 | R15: =$Q15&"" | S15: =$Q15&"" | T15: =$Q15&"" | U15: =$Q15&"" | V15: =$Q15&"" | W15: =$Q15&"" | X15: =$Q15&"" | Y15: =$Q15&"" | ... AC15: =$Q15&""
A16: 13 | P16: =E16*Q16 -> 0 | R16: =$Q16&"" | S16: =$Q16&"" | T16: =$Q16&"" | U16: =$Q16&"" | V16: =$Q16&"" | W16: =$Q16&"" | X16: =$Q16&"" | Y16: =$Q16&"" | ... AC16: =$Q16&""
A17: 14 | P17: =E17*Q17 -> 0 | R17: =$Q17&"" | S17: =$Q17&"" | T17: =$Q17&"" | U17: =$Q17&"" | V17: =$Q17&"" | W17: =$Q17&"" | X17: =$Q17&"" | Y17: =$Q17&"" | ... AC17: =$Q17&""
... A63: 60 | P63: =E63*Q63 -> 0 | R63: =$Q63&"" | S63: =$Q63&"" | T63: =$Q63&"" | U63: =$Q63&"" | V63: =$Q63&"" | W63: =$Q63&"" | X63: =$Q63&"" | Y63: =$Q63&"" | ... AC63: =$Q63&""
A64: 61 | E64: =D64&"" | P64: =E64*Q64 -> #VALUE! | R64: =$Q64&"" | S64: =$Q64&"" | T64: =$Q64&"" | U64: =$Q64&"" | V64: =$Q64&"" | W64: =$Q64&"" | X64: =$Q64&"" | Y64: =$Q64&"" | ... AC64: =$Q64&""
A65: 62 | E65: =D65&"" | P65: =E65*Q65 -> #VALUE! | R65: =$Q65&"" | S65: =$Q65&"" | T65: =$Q65&"" | U65: =$Q65&"" | V65: =$Q65&"" | W65: =$Q65&"" | X65: =$Q65&"" | Y65: =$Q65&"" | ... AC65: =$Q65&""
A66: 63 | E66: =D66&"" | P66: =E66*Q66 -> #VALUE! | R66: =$Q66&"" | S66: =$Q66&"" | T66: =$Q66&"" | U66: =$Q66&"" | V66: =$Q66&"" | W66: =$Q66&"" | X66: =$Q66&"" | Y66: =$Q66&"" | ... AC66: =$Q66&""
A67: 64 | E67: =D67&"" | P67: =E67*Q67 -> #VALUE! | R67: =$Q67&"" | S67: =$Q67&"" | T67: =$Q67&"" | U67: =$Q67&"" | V67: =$Q67&"" | W67: =$Q67&"" | X67: =$Q67&"" | Y67: =$Q67&"" | ... AC67: =$Q67&""
A68: 65 | E68: =D68&"" | P68: =E68*Q68 -> #VALUE! | R68: =$Q68&"" | S68: =$Q68&"" | T68: =$Q68&"" | U68: =$Q68&"" | V68: =$Q68&"" | W68: =$Q68&"" | X68: =$Q68&"" | Y68: =$Q68&"" | ... AC68: =$Q68&""
A69: 66 | E69: =D69&"" | P69: =E69*Q69 -> #VALUE! | R69: =$Q69&"" | S69: =$Q69&"" | T69: =$Q69&"" | U69: =$Q69&"" | V69: =$Q69&"" | W69: =$Q69&"" | X69: =$Q69&"" | Y69: =$Q69&"" | ... AC69: =$Q69&""
A70: 67 | E70: =D70&"" | P70: =E70*Q70 -> #VALUE! | R70: =$Q70&"" | S70: =$Q70&"" | T70: =$Q70&"" | U70: =$Q70&"" | V70: =$Q70&"" | W70: =$Q70&"" | X70: =$Q70&"" | Y70: =$Q70&"" | ... AC70: =$Q70&""
A71: 68 | E71: =D71&"" | P71: =E71*Q71 -> #VALUE! | R71: =$Q71&"" | S71: =$Q71&"" | T71: =$Q71&"" | U71: =$Q71&"" | V71: =$Q71&"" | W71: =$Q71&"" | X71: =$Q71&"" | Y71: =$Q71&"" | ... AC71: =$Q71&""
A72: 69 | E72: =D72&"" | P72: =E72*Q72 -> #VALUE! | R72: =$Q72&"" | S72: =$Q72&"" | T72: =$Q72&"" | U72: =$Q72&"" | V72: =$Q72&"" | W72: =$Q72&"" | X72: =$Q72&"" | Y72: =$Q72&"" | ... AC72: =$Q72&""
A73: 70 | E73: =D73&"" | P73: =E73*Q73 -> #VALUE! | R73: =$Q73&"" | S73: =$Q73&"" | T73: =$Q73&"" | U73: =$Q73&"" | V73: =$Q73&"" | W73: =$Q73&"" | X73: =$Q73&"" | Y73: =$Q73&"" | ... AC73: =$Q73&""
A74: 71 | E74: =D74&"" | P74: =E74*Q74 -> #VALUE! | R74: =$Q74&"" | S74: =$Q74&"" | T74: =$Q74&"" | U74: =$Q74&"" | V74: =$Q74&"" | W74: =$Q74&"" | X74: =$Q74&"" | Y74: =$Q74&"" | ... AC74: =$Q74&""
A75: 72 | E75: =D75&"" | P75: =E75*Q75 -> #VALUE! | R75: =$Q75&"" | S75: =$Q75&"" | T75: =$Q75&"" | U75: =$Q75&"" | V75: =$Q75&"" | W75: =$Q75&"" | X75: =$Q75&"" | Y75: =$Q75&"" | ... AC75: =$Q75&""
... A150: 147 | E150: =D150&"" | P150: =E150*Q150 -> #VALUE! | R150: =$Q150&"" | S150: =$Q150&"" | T150: =$Q150&"" | U150: =$Q150&"" | V150: =$Q150&"" | W150: =$Q150&"" | X150: =$Q150&"" | Y150: =$Q150&"" | ... AC150: =$Q150&""

Sheet サンプル仕入値入力
A1: サンプル仕入値入力
D2: 入数情報 | F2: サンプルグループ | H2: サンプル単価種類 | J2: 商品半額 | K2: 地域別仕入単価
A3: 番号 | B3: JANコード | C3: 商品名 | D3: 入数 （内訳詳細） | E3: 入数 (合計数計算) | F3: グループ番号 | G3: 詳細 | H3: 宅配便 仕入単価 | I3: サンプル 仕入単価 | J3: 切上げ単価 | K3: 関東 | L3: 北海道 | M3: 北東北 | N3: 南東北 | O3: 信越 | P3: 北陸 | Q3: 中部 | R3: 関西 | S3: 中国 | T3: 四国 | U3: 九州 | V3: 沖縄
A4: 1 | D4: 1 | E4: 1 | G4: 冷凍品
A5: 2 | D5: 5×2 | E5: 10
A6: 3
A7: 4
A8: 5
A9: 6
A10: 7
A11: 8
A12: 9
A13: 10
A14: 11
A15: 12
A16: 13
A17: 14
... A63: 60
A64: 61 | E64: =D64&""
A65: 62 | E65: =D65&""
A66: 63 | E66: =D66&""
A67: 64 | E67: =D67&""
A68: 65 | E68: =D68&""
A69: 66 | E69: =D69&""
A70: 67 | E70: =D70&""
A71: 68 | E71: =D71&""
A72: 69 | E72: =D72&""
A73: 70 | E73: =D73&""
A74: 71 | E74: =D74&""
A75: 72 | E75: =D75&""
... A150: 147 | E150: =D150&""

Sheet イレギュラーサンプル仕入値入力
A1: イレギュラーサンプル仕入値入力
E2: 入数情報 | G2: サンプルグループ | I2: 適用単価 | L2: 地域別仕入単価
A3: 番号 | B3: JANコード | C3: 商品名 | D3: 備考（セット内容・規格など） | E3: 入数 （内訳詳細） | F3: 入数 (合計数計算) | G3: グループ番号 | H3: 詳細 | I3: 仕入単価 | J3: 仕入ケース単価 | K3: 基本単価 | L3: 関東 | M3: 北海道 | N3: 北東北 | O3: 南東北 | P3: 信越 | Q3: 北陸 | R3: 中部 | S3: 関西 | T3: 中国 | U3: 四国 | V3: 九州 | W3: 沖縄
A4: 1 | D4: 桜塩、桜ジュレ、桜花の３点セット | E4: 1 | F4: 1 | H4: 冷凍品 | J4: =F4*K4 -> 0 | L4: =$K4&"" | M4: =$K4&"" | N4: =$K4&"" | O4: =$K4&"" | P4: =$K4&"" | Q4: =$K4&"" | R4: =$K4&"" | S4: =$K4&"" | ... W4: =$K4&""
A5: 2 | D5: 100ｇ小瓶入り | J5: =F5*K5 -> 0 | L5: =$K5&"" | M5: =$K5&"" | N5: =$K5&"" | O5: =$K5&"" | P5: =$K5&"" | Q5: =$K5&"" | R5: =$K5&"" | S5: =$K5&"" | ... W5: =$K5&""
A6: 3 | J6: =F6*K6 -> 0 | L6: =$K6&"" | M6: =$K6&"" | N6: =$K6&"" | O6: =$K6&"" | P6: =$K6&"" | Q6: =$K6&"" | R6: =$K6&"" | S6: =$K6&"" | ... W6: =$K6&""
A7: 4 | J7: =F7*K7 -> 0 | L7: =$K7&"" | M7: =$K7&"" | N7: =$K7&"" | O7: =$K7&"" | P7: =$K7&"" | Q7: =$K7&"" | R7: =$K7&"" | S7: =$K7&"" | ... W7: =$K7&""
A8: 5 | J8: =F8*K8 -> 0 | L8: =$K8&"" | M8: =$K8&"" | N8: =$K8&"" | O8: =$K8&"" | P8: =$K8&"" | Q8: =$K8&"" | R8: =$K8&"" | S8: =$K8&"" | ... W8: =$K8&""
A9: 6 | J9: =F9*K9 -> 0 | L9: =$K9&"" | M9: =$K9&"" | N9: =$K9&"" | O9: =$K9&"" | P9: =$K9&"" | Q9: =$K9&"" | R9: =$K9&"" | S9: =$K9&"" | ... W9: =$K9&""
A10: 7 | J10: =F10*K10 -> 0 | L10: =$K10&"" | M10: =$K10&"" | N10: =$K10&"" | O10: =$K10&"" | P10: =$K10&"" | Q10: =$K10&"" | R10: =$K10&"" | S10: =$K10&"" | ... W10: =$K10&""
A11: 8 | J11: =F11*K11 -> 0 | L11: =$K11&"" | M11: =$K11&"" | N11: =$K11&"" | O11: =$K11&"" | P11: =$K11&"" | Q11: =$K11&"" | R11: =$K11&"" | S11: =$K11&"" | ... W11: =$K11&""
A12: 9 | J12: =F12*K12 -> 0 | L12: =$K12&"" | M12: =$K12&"" | N12: =$K12&"" | O12: =$K12&"" | P12: =$K12&"" | Q12: =$K12&"" | R12: =$K12&"" | S12: =$K12&"" | ... W12: =$K12&""
A13: 10 | J13: =F13*K13 -> 0 | L13: =$K13&"" | M13: =$K13&"" | N13: =$K13&"" | O13: =$K13&"" | P13: =$K13&"" | Q13: =$K13&"" | R13: =$K13&"" | S13: =$K13&"" | ... W13: =$K13&""
A14: 11 | J14: =F14*K14 -> 0 | L14: =$K14&"" | M14: =$K14&"" | N14: =$K14&"" | O14: =$K14&"" | P14: =$K14&"" | Q14: =$K14&"" | R14: =$K14&"" | S14: =$K14&"" | ... W14: =$K14&""
A15: 12 | J15: =F15*K15 -> 0 | L15: =$K15&"" | M15: =$K15&"" | N15: =$K15&"" | O15: =$K15&"" | P15: =$K15&"" | Q15: =$K15&"" | R15: =$K15&"" | S15: =$K15&"" | ... W15: =$K15&""
A16: 13 | J16: =F16*K16 -> 0 | L16: =$K16&"" | M16: =$K16&"" | N16: =$K16&"" | O16: =$K16&"" | P16: =$K16&"" | Q16: =$K16&"" | R16: =$K16&"" | S16: =$K16&"" | ... W16: =$K16&""
A17: 14 | J17: =F17*K17 -> 0 | L17: =$K17&"" | M17: =$K17&"" | N17: =$K17&"" | O17: =$K17&"" | P17: =$K17&"" | Q17: =$K17&"" | R17: =$K17&"" | S17: =$K17&"" | ... W17: =$K17&""
... A63: 60 | J63: =F63*K63 -> 0 | L63: =$K63&"" | M63: =$K63&"" | N63: =$K63&"" | O63: =$K63&"" | P63: =$K63&"" | Q63: =$K63&"" | R63: =$K63&"" | S63: =$K63&"" | ... W63: =$K63&""
A64: 61 | F64: =E64&"" | J64: =F64*K64 -> #VALUE! | L64: =$K64&"" | M64: =$K64&"" | N64: =$K64&"" | O64: =$K64&"" | P64: =$K64&"" | Q64: =$K64&"" | R64: =$K64&"" | S64: =$K64&"" | ... W64: =$K64&""
A65: 62 | F65: =E65&"" | J65: =F65*K65 -> #VALUE! | L65: =$K65&"" | M65: =$K65&"" | N65: =$K65&"" | O65: =$K65&"" | P65: =$K65&"" | Q65: =$K65&"" | R65: =$K65&"" | S65: =$K65&"" | ... W65: =$K65&""
A66: 63 | F66: =E66&"" | J66: =F66*K66 -> #VALUE! | L66: =$K66&"" | M66: =$K66&"" | N66: =$K66&"" | O66: =$K66&"" | P66: =$K66&"" | Q66: =$K66&"" | R66: =$K66&"" | S66: =$K66&"" | ... W66: =$K66&""
A67: 64 | F67: =E67&"" | J67: =F67*K67 -> #VALUE! | L67: =$K67&"" | M67: =$K67&"" | N67: =$K67&"" | O67: =$K67&"" | P67: =$K67&"" | Q67: =$K67&"" | R67: =$K67&"" | S67: =$K67&"" | ... W67: =$K67&""
A68: 65 | F68: =E68&"" | J68: =F68*K68 -> #VALUE! | L68: =$K68&"" | M68: =$K68&"" | N68: =$K68&"" | O68: =$K68&"" | P68: =$K68&"" | Q68: =$K68&"" | R68: =$K68&"" | S68: =$K68&"" | ... W68: =$K68&""
A69: 66 | F69: =E69&"" | J69: =F69*K69 -> #VALUE! | L69: =$K69&"" | M69: =$K69&"" | N69: =$K69&"" | O69: =$K69&"" | P69: =$K69&"" | Q69: =$K69&"" | R69: =$K69&"" | S69: =$K69&"" | ... W69: =$K69&""
A70: 67 | F70: =E70&"" | J70: =F70*K70 -> #VALUE! | L70: =$K70&"" | M70: =$K70&"" | N70: =$K70&"" | O70: =$K70&"" | P70: =$K70&"" | Q70: =$K70&"" | R70: =$K70&"" | S70: =$K70&"" | ... W70: =$K70&""
A71: 68 | F71: =E71&"" | J71: =F71*K71 -> #VALUE! | L71: =$K71&"" | M71: =$K71&"" | N71: =$K71&"" | O71: =$K71&"" | P71: =$K71&"" | Q71: =$K71&"" | R71: =$K71&"" | S71: =$K71&"" | ... W71: =$K71&""
A72: 69 | F72: =E72&"" | J72: =F72*K72 -> #VALUE! | L72: =$K72&"" | M72: =$K72&"" | N72: =$K72&"" | O72: =$K72&"" | P72: =$K72&"" | Q72: =$K72&"" | R72: =$K72&"" | S72: =$K72&"" | ... W72: =$K72&""
A73: 70 | F73: =E73&"" | J73: =F73*K73 -> #VALUE! | L73: =$K73&"" | M73: =$K73&"" | N73: =$K73&"" | O73: =$K73&"" | P73: =$K73&"" | Q73: =$K73&"" | R73: =$K73&"" | S73: =$K73&"" | ... W73: =$K73&""
A74: 71 | F74: =E74&"" | J74: =F74*K74 -> #VALUE! | L74: =$K74&"" | M74: =$K74&"" | N74: =$K74&"" | O74: =$K74&"" | P74: =$K74&"" | Q74: =$K74&"" | R74: =$K74&"" | S74: =$K74&"" | ... W74: =$K74&""
A75: 72 | F75: =E75&"" | J75: =F75*K75 -> #VALUE! | L75: =$K75&"" | M75: =$K75&"" | N75: =$K75&"" | O75: =$K75&"" | P75: =$K75&"" | Q75: =$K75&"" | R75: =$K75&"" | S75: =$K75&"" | ... W75: =$K75&""
... A150: 147 | F150: =E150&"" | J150: =F150*K150 -> #VALUE! | L150: =$K150&"" | M150: =$K150&"" | N150: =$K150&"" | O150: =$K150&"" | P150: =$K150&"" | Q150: =$K150&"" | R150: =$K150&"" | S150: =$K150&"" | ... W150: =$K150&""

Sheet イレギュラー送料設定
A1: イレギュラー送料設定
A2: メーカー請求送料が12の納品地域別になっていない場合の送料設定を検討する
A4: CSV順 | B4: 宅配エリア | C4: 都道府県名 | D4: 送料 | H4: 関東 | I4: 北海道 | J4: 北東北 | K4: 南東北 | L4: 信越 | M4: 北陸 | N4: 中部 | O4: 関西 | P4: 中国 | Q4: 四国 | R4: 九州 | S4: 沖縄
A5: 1 | B5: 北海道 | C5: 北海道 | G5: 設定送料
A6: 2 | B6: 北東北 | C6: 青森県
A7: 3 | B7: 北東北 | C7: 岩手県
A8: 4 | B8: 南東北 | C8: 宮城県
A9: 5 | B9: 北東北 | C9: 秋田県
A10: 6 | B10: 南東北 | C10: 山形県
A11: 7 | B11: 南東北 | C11: 福島県
A12: 8 | B12: 関東 | C12: 茨城県
A13: 9 | B13: 関東 | C13: 栃木県
A14: 10 | B14: 関東 | C14: 群馬県
A15: 11 | B15: 関東 | C15: 埼玉県
A16: 12 | B16: 関東 | C16: 千葉県
A17: 13 | B17: 関東 | C17: 東京都
... A51: 47 | B51: 沖縄 | C51: 沖縄県

Sheet 請求送料一覧
A1: 請求送料一覧
A3: 宅配便送料
A4: 番号 | B4: 備考 | C4: 関東 | D4: 北海道 | E4: 北東北 | F4: 南東北 | G4: 信越 | H4: 北陸 | I4: 中部 | J4: 関西 | K4: 中国 | L4: 四国 | M4: 九州 | N4: 沖縄
A5: ①
A6: ②
A7: ③
A8: ④
A9: ⑤
A10: ⑥
A11: ⑦
A12: ⑧
A13: ⑨
A14: ⑩
A16: 業務便送料
A17: 番号 | B17: 備考 | C17: 関東 | D17: 北海道 | E17: 北東北 | F17: 南東北 | G17: 信越 | H17: 北陸 | I17: 中部 | J17: 関西 | K17: 中国 | L17: 四国 | M17: 九州 | N17: 沖縄
A18: 業①
A19: 業②
A20: 業③
A21: 業④
A22: 業⑤
A23: 業⑥
A24: 業⑦
A25: 業⑧
A26: 業⑨
A27: 業⑩
A29: サンプル送料
A30: 番号 | B30: 備考 | C30: 関東 | D30: 北海道 | E30: 北東北 | F30: 南東北 | G30: 信越 | H30: 北陸 | I30: 中部 | J30: 関西 | K30: 中国 | L30: 四国 | M30: 九州 | N30: 沖縄
A31: サン①
A32: サン②
A33: サン③
A34: サン④
A35: サン⑤
A36: サン⑥
A37: サン⑦
A38: サン⑧
A39: サン⑨
A40: サン⑩

Sheet 送料込計算用送料一覧
A1: 送料込計算用送料一覧
A3: 宅配便送料
A4: 番号 | B4: 備考 | C4: 関東 | D4: 北海道 | E4: 北東北 | F4: 南東北 | G4: 信越 | H4: 北陸 | I4: 中部 | J4: 関西 | K4: 中国 | L4: 四国 | M4: 九州 | N4: 沖縄
A16: 業務便送料
A17: 番号 | B17: 備考 | C17: 関東 | D17: 北海道 | E17: 北東北 | F17: 南東北 | G17: 信越 | H17: 北陸 | I17: 中部 | J17: 関西 | K17: 中国 | L17: 四国 | M17: 九州 | N17: 沖縄
A29: サンプル送料
A30: 番号 | B30: 備考 | C30: 関東 | D30: 北海道 | E30: 北東北 | F30: 南東北 | G30: 信越 | H30: 北陸 | I30: 中部 | J30: 関西 | K30: 中国 | L30: 四国 | M30: 九州 | N30: 沖縄

Sheet 卸送料計算（送料別の場合）
A1: 卸送料計算（送料別の場合）
A3: 宅配便送料
A4: 番号 | B4: 原価率 | C4: 備考 | E4: 関東 | F4: 北海道 | G4: 北東北 | H4: 南東北 | I4: 信越 | J4: 北陸 | K4: 中部 | L4: 関西 | M4: 中国 | N4: 四国 | O4: 九州 | P4: 沖縄
B5: ='宅配便 仮計算'!$D$2 -> 0.85 | D5: 実際の請求送料
D6: 卸送料計算 | E6: =E5/$B$5 -> 0 | F6: =F5/$B$5 -> 0 | G6: =G5/$B$5 -> 0 | H6: =H5/$B$5 -> 0 | I6: =I5/$B$5 -> 0 | J6: =J5/$B$5 -> 0 | K6: =K5/$B$5 -> 0 | L6: =L5/$B$5 -> 0 | ... P6: =P5/$B$5 -> 0
D7: 切り上げ送料 | E7: =ROUND(E6,-1) -> 0 | F7: =ROUND(F6,-1) -> 0 | G7: =ROUND(G6,-1) -> 0 | H7: =ROUND(H6,-1) -> 0 | I7: =ROUND(I6,-1) -> 0 | J7: =ROUND(J6,-1) -> 0 | K7: =ROUND(K6,-1) -> 0 | L7: =ROUND(L6,-1) -> 0 | ... P7: =ROUND(P6,-1) -> 0
B8: ='宅配便 仮計算'!$D$2 -> 0.85 | D8: 実際の請求送料
D9: 卸送料計算 | E9: =E8/$B$5 -> 0 | F9: =F8/$B$5 -> 0 | G9: =G8/$B$5 -> 0 | H9: =H8/$B$5 -> 0 | I9: =I8/$B$5 -> 0 | J9: =J8/$B$5 -> 0 | K9: =K8/$B$5 -> 0 | L9: =L8/$B$5 -> 0 | ... P9: =P8/$B$5 -> 0
D10: 切り上げ送料 | E10: =ROUND(E9,-1) -> 0 | F10: =ROUND(F9,-1) -> 0 | G10: =ROUND(G9,-1) -> 0 | H10: =ROUND(H9,-1) -> 0 | I10: =ROUND(I9,-1) -> 0 | J10: =ROUND(J9,-1) -> 0 | K10: =ROUND(K9,-1) -> 0 | L10: =ROUND(L9,-1) -> 0 | ... P10: =ROUND(P9,-1) -> 0
B11: ='宅配便 仮計算'!$D$2 -> 0.85 | D11: 実際の請求送料
D12: 卸送料計算 | E12: =E11/$B$5 -> 0 | F12: =F11/$B$5 -> 0 | G12: =G11/$B$5 -> 0 | H12: =H11/$B$5 -> 0 | I12: =I11/$B$5 -> 0 | J12: =J11/$B$5 -> 0 | K12: =K11/$B$5 -> 0 | L12: =L11/$B$5 -> 0 | ... P12: =P11/$B$5 -> 0
D13: 切り上げ送料 | E13: =ROUND(E12,-1) -> 0 | F13: =ROUND(F12,-1) -> 0 | G13: =ROUND(G12,-1) -> 0 | H13: =ROUND(H12,-1) -> 0 | I13: =ROUND(I12,-1) -> 0 | J13: =ROUND(J12,-1) -> 0 | K13: =ROUND(K12,-1) -> 0 | L13: =ROUND(L12,-1) -> 0 | ... P13: =ROUND(P12,-1) -> 0
B14: ='宅配便 仮計算'!$D$2 -> 0.85 | D14: 実際の請求送料
D15: 卸送料計算 | E15: =E14/$B$5 -> 0 | F15: =F14/$B$5 -> 0 | G15: =G14/$B$5 -> 0 | H15: =H14/$B$5 -> 0 | I15: =I14/$B$5 -> 0 | J15: =J14/$B$5 -> 0 | K15: =K14/$B$5 -> 0 | L15: =L14/$B$5 -> 0 | ... P15: =P14/$B$5 -> 0
D16: 切り上げ送料 | E16: =ROUND(E15,-1) -> 0 | F16: =ROUND(F15,-1) -> 0 | G16: =ROUND(G15,-1) -> 0 | H16: =ROUND(H15,-1) -> 0 | I16: =ROUND(I15,-1) -> 0 | J16: =ROUND(J15,-1) -> 0 | K16: =ROUND(K15,-1) -> 0 | L16: =ROUND(L15,-1) -> 0 | ... P16: =ROUND(P15,-1) -> 0
B17: ='宅配便 仮計算'!$D$2 -> 0.85 | D17: 実際の請求送料
D18: 卸送料計算 | E18: =E17/$B$5 -> 0 | F18: =F17/$B$5 -> 0 | G18: =G17/$B$5 -> 0 | H18: =H17/$B$5 -> 0 | I18: =I17/$B$5 -> 0 | J18: =J17/$B$5 -> 0 | K18: =K17/$B$5 -> 0 | L18: =L17/$B$5 -> 0 | ... P18: =P17/$B$5 -> 0
D19: 切り上げ送料 | E19: =ROUND(E18,-1) -> 0 | F19: =ROUND(F18,-1) -> 0 | G19: =ROUND(G18,-1) -> 0 | H19: =ROUND(H18,-1) -> 0 | I19: =ROUND(I18,-1) -> 0 | J19: =ROUND(J18,-1) -> 0 | K19: =ROUND(K18,-1) -> 0 | L19: =ROUND(L18,-1) -> 0 | ... P19: =ROUND(P18,-1) -> 0
B20: ='宅配便 仮計算'!$D$2 -> 0.85 | D20: 実際の請求送料
D21: 卸送料計算 | E21: =E20/$B$5 -> 0 | F21: =F20/$B$5 -> 0 | G21: =G20/$B$5 -> 0 | H21: =H20/$B$5 -> 0 | I21: =I20/$B$5 -> 0 | J21: =J20/$B$5 -> 0 | K21: =K20/$B$5 -> 0 | L21: =L20/$B$5 -> 0 | ... P21: =P20/$B$5 -> 0
D22: 切り上げ送料 | E22: =ROUND(E21,-1) -> 0 | F22: =ROUND(F21,-1) -> 0 | G22: =ROUND(G21,-1) -> 0 | H22: =ROUND(H21,-1) -> 0 | I22: =ROUND(I21,-1) -> 0 | J22: =ROUND(J21,-1) -> 0 | K22: =ROUND(K21,-1) -> 0 | L22: =ROUND(L21,-1) -> 0 | ... P22: =ROUND(P21,-1) -> 0
B23: ='宅配便 仮計算'!$D$2 -> 0.85 | D23: 実際の請求送料
D24: 卸送料計算 | E24: =E23/$B$5 -> 0 | F24: =F23/$B$5 -> 0 | G24: =G23/$B$5 -> 0 | H24: =H23/$B$5 -> 0 | I24: =I23/$B$5 -> 0 | J24: =J23/$B$5 -> 0 | K24: =K23/$B$5 -> 0 | L24: =L23/$B$5 -> 0 | ... P24: =P23/$B$5 -> 0
D25: 切り上げ送料 | E25: =ROUND(E24,-1) -> 0 | F25: =ROUND(F24,-1) -> 0 | G25: =ROUND(G24,-1) -> 0 | H25: =ROUND(H24,-1) -> 0 | I25: =ROUND(I24,-1) -> 0 | J25: =ROUND(J24,-1) -> 0 | K25: =ROUND(K24,-1) -> 0 | L25: =ROUND(L24,-1) -> 0 | ... P25: =ROUND(P24,-1) -> 0
B26: ='宅配便 仮計算'!$D$2 -> 0.85 | D26: 実際の請求送料
D27: 卸送料計算 | E27: =E26/$B$5 -> 0 | F27: =F26/$B$5 -> 0 | G27: =G26/$B$5 -> 0 | H27: =H26/$B$5 -> 0 | I27: =I26/$B$5 -> 0 | J27: =J26/$B$5 -> 0 | K27: =K26/$B$5 -> 0 | L27: =L26/$B$5 -> 0 | ... P27: =P26/$B$5 -> 0
D28: 切り上げ送料 | E28: =ROUND(E27,-1) -> 0 | F28: =ROUND(F27,-1) -> 0 | G28: =ROUND(G27,-1) -> 0 | H28: =ROUND(H27,-1) -> 0 | I28: =ROUND(I27,-1) -> 0 | J28: =ROUND(J27,-1) -> 0 | K28: =ROUND(K27,-1) -> 0 | L28: =ROUND(L27,-1) -> 0 | ... P28: =ROUND(P27,-1) -> 0
B29: ='宅配便 仮計算'!$D$2 -> 0.85 | D29: 実際の請求送料
D30: 卸送料計算 | E30: =E29/$B$5 -> 0 | F30: =F29/$B$5 -> 0 | G30: =G29/$B$5 -> 0 | H30: =H29/$B$5 -> 0 | I30: =I29/$B$5 -> 0 | J30: =J29/$B$5 -> 0 | K30: =K29/$B$5 -> 0 | L30: =L29/$B$5 -> 0 | ... P30: =P29/$B$5 -> 0
D31: 切り上げ送料 | E31: =ROUND(E30,-1) -> 0 | F31: =ROUND(F30,-1) -> 0 | G31: =ROUND(G30,-1) -> 0 | H31: =ROUND(H30,-1) -> 0 | I31: =ROUND(I30,-1) -> 0 | J31: =ROUND(J30,-1) -> 0 | K31: =ROUND(K30,-1) -> 0 | L31: =ROUND(L30,-1) -> 0 | ... P31: =ROUND(P30,-1) -> 0
B32: ='宅配便 仮計算'!$D$2 -> 0.85 | D32: 実際の請求送料
D33: 卸送料計算 | E33: =E32/$B$5 -> 0 | F33: =F32/$B$5 -> 0 | G33: =G32/$B$5 -> 0 | H33: =H32/$B$5 -> 0 | I33: =I32/$B$5 -> 0 | J33: =J32/$B$5 -> 0 | K33: =K32/$B$5 -> 0 | L33: =L32/$B$5 -> 0 | ... P33: =P32/$B$5 -> 0
D34: 切り上げ送料 | E34: =ROUND(E33,-1) -> 0 | F34: =ROUND(F33,-1) -> 0 | G34: =ROUND(G33,-1) -> 0 | H34: =ROUND(H33,-1) -> 0 | I34: =ROUND(I33,-1) -> 0 | J34: =ROUND(J33,-1) -> 0 | K34: =ROUND(K33,-1) -> 0 | L34: =ROUND(L33,-1) -> 0 | ... P34: =ROUND(P33,-1) -> 0
A36: 業務便送料
A37: 番号 | B37: 原価率 | C37: 備考 | E37: 関東 | F37: 北海道 | G37: 北東北 | H37: 南東北 | I37: 信越 | J37: 北陸 | K37: 中部 | L37: 関西 | M37: 中国 | N37: 四国 | O37: 九州 | P37: 沖縄
B38: ='宅配便 仮計算'!$D$2 -> 0.85 | D38: 実際の請求送料
D39: 卸送料計算 | E39: =E38/$B$5 -> 0 | F39: =F38/$B$5 -> 0 | G39: =G38/$B$5 -> 0 | H39: =H38/$B$5 -> 0 | I39: =I38/$B$5 -> 0 | J39: =J38/$B$5 -> 0 | K39: =K38/$B$5 -> 0 | L39: =L38/$B$5 -> 0 | ... P39: =P38/$B$5 -> 0
D40: 切り上げ送料 | E40: =ROUND(E39,-1) -> 0 | F40: =ROUND(F39,-1) -> 0 | G40: =ROUND(G39,-1) -> 0 | H40: =ROUND(H39,-1) -> 0 | I40: =ROUND(I39,-1) -> 0 | J40: =ROUND(J39,-1) -> 0 | K40: =ROUND(K39,-1) -> 0 | L40: =ROUND(L39,-1) -> 0 | ... P40: =ROUND(P39,-1) -> 0
B41: ='宅配便 仮計算'!$D$2 -> 0.85 | D41: 実際の請求送料
D42: 卸送料計算 | E42: =E41/$B$5 -> 0 | F42: =F41/$B$5 -> 0 | G42: =G41/$B$5 -> 0 | H42: =H41/$B$5 -> 0 | I42: =I41/$B$5 -> 0 | J42: =J41/$B$5 -> 0 | K42: =K41/$B$5 -> 0 | L42: =L41/$B$5 -> 0 | ... P42: =P41/$B$5 -> 0
...

Sheet 配送グループ設定
A1: 配送グループ設定 | D1: メーカー番号
A3: 宅配便の配送グループ
A4: グループ番号 | B4: 便の種類 | C4: セット情報 | D4: 適用送料 | E4: 混載条件 | F4: 混載グループ名 | G4: 配送グループ名 | H4: 配送グループID
A5: 1 | B5: 宅配便 | C5: (送料込) | E5: 1ケース以上 | F5: ※ゼリー・ようかん4個入
A6: 2 | B6: 宅配便 | E6: 混載4ボール単位 | F6: ※ポップコーン | G6: 129 宅配便(送料込)※混載4ボール単位※ポップコーン
A7: 3 | B7: 宅配便
A8: 4 | B8: 宅配便
A9: 5 | B9: 宅配便
A10: 6 | B10: 宅配便
A11: 7 | B11: 宅配便
A12: 8 | B12: 宅配便
A13: 9 | B13: 宅配便
A14: 10 | B14: 宅配便
A16: 業務便配送グループ
A17: グループ番号 | B17: 便の種類 | C17: セット情報 | D17: 適用送料 | E17: 混載条件 | F17: 混載グループ名 | G17: 配送グループ名 | H17: 配送グループID
A18: 業1 | B18: 業務便 | C18: (送料別) | E18: 1ケース以上 | F18: ※ゼリー・ようかん4個入
A19: 業2 | B19: 業務便 | E19: 混載4ボール単位 | F19: ※ポップコーン | G19: 129 業務便(送料込)※混載4袋単位※ゼリー・ようかん4個入
A20: 業3 | B20: 業務便
A21: 業4 | B21: 業務便
A22: 業5 | B22: 業務便
A23: 業6 | B23: 業務便
A24: 業7 | B24: 業務便
A25: 業8 | B25: 業務便
A26: 業9 | B26: 業務便
A27: 業10 | B27: 業務便
A29: サンプル配送グループ
A30: グループ番号 | B30: 送料 | C30: 商品代 | D30: 適用送料 | E30: サンプル規定 | F30: 混載グループ名 | G30: 配送グループ名 | H30: 配送グループID
A31: サンプル1 | B31: 無料 | C31: 無料 | E31: ※1種類1個※1社1回まで | G31: 129 サンプル(送料:無料、商品代:無料）
A32: サンプル2 | B32: 有料 | C32: 有償
A33: サンプル3
A34: サンプル4
A35: サンプル5
A36: サンプル6
A37: サンプル7
A38: サンプル8
A39: サンプル9
A40: サンプル10

Sheet 中部・下部フリースペース作成
A1: 中部・下部フリースペース作成
A2: 宅配便 | C2: 業務便 | E2: サンプル | G2: サブカテゴリID
A3: 配送グループ番号 | C3: 配送グループ番号 | E3: 配送グループ番号
A5: 分類 | B5: テーブルナンバー | E5: 4
A6: 宅配便 | B6: 宅配便リードタイム日付 地域で加算する場合記載例 0日、地域＋1日
B7: (土日祝を除く)or(土日祝を含む)
B8: 納品不可曜日 「なし」／「日、祝」「土、日」
B9: 納品不可地域 「なし」／「沖縄」「北海道」 | E9: =見積り概要入力!B17&""
B10: 配送ロット | E10: 1ケース以上
B11: 送料表示 送料別の場合、最初の行は改行して「・」をつける。<br> | E11: <br>・5～9ケース715円 <br>・混載10ケース以上無料
A12: 業務便 | B12: 業務便リードタイム日付 地域で加算する場合記載例 0日、地域＋1日
B13: (土日祝を除く)or(土日祝を含む)
B14: 納品不可曜日 「なし」／「日、祝」「土、日」
B15: 納品不可地域 「なし」／「沖縄」「北海道」
B16: 配送ロット | E16: 1ケース以上
B17: 送料表示 送料別の場合、最初の行は改行して「・」をつける。<br> | E17: <br>・5～9ケース715円 <br>・混載10ケース以上無料
A18: サンプル | B18: サンプル商品代 無料、有償 条件がある場合※をつけて入力
B19: サンプル送料 無料、着払い(税込)950円、一律金額を入力、地域別の金額を【】で繋いで入力する | E19: 着払い(税込)950円
A20: 混載バナー | B20: 混載バナー上部 業務便の場合、混載5ケース以上のご注文となります。 | E20: 業務便の場合、混載5ケース以上のご注文となります。 | J20: 手動入力
B21: 混載可能なカテゴリ番号
A22: メーカーリンク | B22: メーカーカテゴリ番号 | E22: 60
B23: メーカー番号 | E23: 1

Sheet 計算（宅配便1）
A1: 計算(宅配便1)
D2: セット名詳細 | F2: ='宅配便 仮計算'!D2 -> 0.85 | G2: 入数情報 | H2: 混載情報 | J2: セット情報 | K2: 送料情報 | L2: 地域別卸値計算
A3: 番号 | B3: JANコード | C3: 商品名 | D3: セット名種類 | E3: セット名追加情報 | F3: 原価率 | G3: 入数 (合計数計算) | H3: グループ番号 | I3: 数 | J3: 種類 | K3: 適用送料 | L3: 関東 仕入単価 | M3: 関東送料 | N3: 送料込み 仕入単価 | O3: 卸単価計算 | P3: 切り上げ 卸値単価 | Q3: 関東 卸ケース単価 | R3: 北海道 仕入単価 | S3: 北海道 送料 | T3: 送料込み 仕入単価 | U3: 卸単価計算 | V3: 切り上げ 卸値単価 | W3: 北海道 卸ケース単価 | X3: 北東北 仕入単価 | Y3: 北東北 送料 | Z3: 送料込み 仕入単価 | AA3: 卸単価計算 | AB3: 切り上げ 卸値単価 | AC3: 北東北 卸ケース単価 | AD3: 南東北 仕入単価 | AE3: 南東北 送料 | AF3: 送料込み 仕入単価 | AG3: 卸単価計算 | AH3: 切り上げ 卸値単価 | AI3: 南東北 卸ケース単価 | AJ3: 信越 仕入単価 | AK3: 信越送料 | AL3: 送料込み 仕入単価 | AM3: 卸単価計算 | AN3: 切り上げ 卸値単価 | AO3: 信越 卸ケース単価 | AP3: 北陸 仕入単価 | AQ3: 北陸送料 | AR3: 送料込み 仕入単価 | AS3: 卸単価計算 | AT3: 切り上げ 卸値単価 | AU3: 北陸 卸ケース単価 | AV3: 中部 仕入単価 | AW3: 中部送料 | AX3: 送料込み 仕入単価 | AY3: 卸単価計算 | AZ3: 切り上げ 卸値単価 | BA3: 中部 卸ケース単価 | BB3: 関西 仕入単価 | BC3: 関西送料 | BD3: 送料込み 仕入単価 | BE3: 卸単価計算 | BF3: 切り上げ 卸値単価 | BG3: 関西 卸ケース単価 | BH3: 中国 仕入単価 | BI3: 中国送料 | BJ3: 送料込み 仕入単価 | BK3: 卸単価計算 | BL3: 切り上げ 卸値単価 | BM3: 中国 卸ケース単価 | BN3: 四国 仕入単価 | BO3: 四国送料 | BP3: 送料込み 仕入単価 | BQ3: 卸単価計算 | BR3: 切り上げ 卸値単価 | BS3: 四国 卸ケース単価 | BT3: 九州 仕入単価 | BU3: 九州送料 | BV3: 送料込み 仕入単価 | BW3: 卸単価計算 | BX3: 切り上げ 卸値単価 | BY3: 九州 卸ケース単価 | BZ3: 沖縄 仕入単価 | CA3: 沖縄送料 | CB3: 送料込み 仕入単価 | CC3: 卸単価計算 | CD3: 切り上げ 卸値単価 | CE3: 沖縄 卸ケース単価
A4: 1 | D4: 【冷凍販売用】 | F4: =$F$2 -> 0.85 | G4: 100 | H4: 1 | I4: 1 | J4: (送料込) | K4: ① | N4: =(L4*$G4+M4/$I4)/$G4 -> 0 | O4: =N4/$F4 -> 0 | P4: =_xlfn.CEILING.MATH(O4) -> 0 | Q4: =P4*G4 -> 0 | T4: =(R4*$G4+S4/$I4)/$G4 -> 0 | U4: =T4/$F4 -> 0 | V4: =_xlfn.CEILING.MATH(U4) -> 0 | W4: =V4*M4 -> 0 | Z4: =(X4*$G4+Y4/$I4)/$G4 -> 0 | AA4: =Z4/$F4 -> 0 | AB4: =_xlfn.CEILING.MATH(AA4) -> 0 | AC4: =AB4*S4 -> 0 | AF4: =(AD4*$G4+AE4/$I4)/$G4 -> 0 | AG4: =AF4/$F4 -> 0 | AH4: =_xlfn.CEILING.MATH(AG4) -> 0 | AI4: =AH4*Y4 -> 0 | AL4: =(AJ4*$G4+AK4/$I4)/$G4 -> 0 | AM4: =AL4/$F4 -> 0 | AN4: =_xlfn.CEILING.MATH(AM4) -> 0 | AO4: =AN4*AE4 -> 0 | AR4: =(AP4*$G4+AQ4/$I4)/$G4 -> 0 | AS4: =AR4/$F4 -> 0 | AT4: =_xlfn.CEILING.MATH(AS4) -> 0 | AU4: =AT4*AK4 -> 0 | AX4: =(AV4*$G4+AW4/$I4)/$G4 -> 0 | AY4: =AX4/$F4 -> 0 | AZ4: =_xlfn.CEILING.MATH(AY4) -> 0 | BA4: =AZ4*AQ4 -> 0 | BD4: =(BB4*$G4+BC4/$I4)/$G4 -> 0 | BE4: =BD4/$F4 -> 0 | BF4: =_xlfn.CEILING.MATH(BE4) -> 0 | BG4: =BF4*AW4 -> 0 | BJ4: =(BH4*$G4+BI4/$I4)/$G4 -> 0 | BK4: =BJ4/$F4 -> 0 | BL4: =_xlfn.CEILING.MATH(BK4) -> 0 | BM4: =BL4*BC4 -> 0 | BP4: =(BN4*$G4+BO4/$I4)/$G4 -> 0 | BQ4: =BP4/$F4 -> 0 | BR4: =_xlfn.CEILING.MATH(BQ4) -> 0 | BS4: =BR4*BI4 -> 0 | BV4: =(BT4*$G4+BU4/$I4)/$G4 -> 0 | BW4: =BV4/$F4 -> 0 | BX4: =_xlfn.CEILING.MATH(BW4) -> 0 | BY4: =BX4*BO4 -> 0 | CB4: =(BZ4*$G4+CA4/$I4)/$G4 -> 0 | CC4: =CB4/$F4 -> 0 | CD4: =_xlfn.CEILING.MATH(CC4) -> 0 | CE4: =CD4*BU4 -> 0
A5: 2 | E5: ※混載1～3ケース | F5: =$F$2 -> 0.85 | N5: =(L5*$G5+M5/$I5)/$G5 -> #DIV/0! | O5: =N5/$F5 -> #DIV/0! | P5: =_xlfn.CEILING.MATH(O5) -> #DIV/0! | Q5: =P5*G5 -> #DIV/0! | T5: =(R5*$G5+S5/$I5)/$G5 -> #DIV/0! | U5: =T5/$F5 -> #DIV/0! | V5: =_xlfn.CEILING.MATH(U5) -> #DIV/0! | W5: =V5*M5 -> #DIV/0! | Z5: =(X5*$G5+Y5/$I5)/$G5 -> #DIV/0! | AA5: =Z5/$F5 -> #DIV/0! | AB5: =_xlfn.CEILING.MATH(AA5) -> #DIV/0! | AC5: =AB5*S5 -> #DIV/0! | AF5: =(AD5*$G5+AE5/$I5)/$G5 -> #DIV/0! | AG5: =AF5/$F5 -> #DIV/0! | AH5: =_xlfn.CEILING.MATH(AG5) -> #DIV/0! | AI5: =AH5*Y5 -> #DIV/0! | AL5: =(AJ5*$G5+AK5/$I5)/$G5 -> #DIV/0! | AM5: =AL5/$F5 -> #DIV/0! | AN5: =_xlfn.CEILING.MATH(AM5) -> #DIV/0! | AO5: =AN5*AE5 -> #DIV/0! | AR5: =(AP5*$G5+AQ5/$I5)/$G5 -> #DIV/0! | AS5: =AR5/$F5 -> #DIV/0! | AT5: =_xlfn.CEILING.MATH(AS5) -> #DIV/0! | AU5: =AT5*AK5 -> #DIV/0! | AX5: =(AV5*$G5+AW5/$I5)/$G5 -> #DIV/0! | AY5: =AX5/$F5 -> #DIV/0! | AZ5: =_xlfn.CEILING.MATH(AY5) -> #DIV/0! | BA5: =AZ5*AQ5 -> #DIV/0! | BD5: =(BB5*$G5+BC5/$I5)/$G5 -> #DIV/0! | BE5: =BD5/$F5 -> #DIV/0! | BF5: =_xlfn.CEILING.MATH(BE5) -> #DIV/0! | BG5: =BF5*AW5 -> #DIV/0! | BJ5: =(BH5*$G5+BI5/$I5)/$G5 -> #DIV/0! | BK5: =BJ5/$F5 -> #DIV/0! | BL5: =_xlfn.CEILING.MATH(BK5) -> #DIV/0! | BM5: =BL5*BC5 -> #DIV/0! | BP5: =(BN5*$G5+BO5/$I5)/$G5 -> #DIV/0! | BQ5: =BP5/$F5 -> #DIV/0! | BR5: =_xlfn.CEILING.MATH(BQ5) -> #DIV/0! | BS5: =BR5*BI5 -> #DIV/0! | BV5: =(BT5*$G5+BU5/$I5)/$G5 -> #DIV/0! | BW5: =BV5/$F5 -> #DIV/0! | BX5: =_xlfn.CEILING.MATH(BW5) -> #DIV/0! | BY5: =BX5*BO5 -> #DIV/0! | CB5: =(BZ5*$G5+CA5/$I5)/$G5 -> #DIV/0! | CC5: =CB5/$F5 -> #DIV/0! | CD5: =_xlfn.CEILING.MATH(CC5) -> #DIV/0! | CE5: =CD5*BU5 -> #DIV/0!
A6: 3 | F6: =$F$2 -> 0.85 | N6: =(L6*$G6+M6/$I6)/$G6 -> #DIV/0! | O6: =N6/$F6 -> #DIV/0! | P6: =_xlfn.CEILING.MATH(O6) -> #DIV/0! | Q6: =P6*G6 -> #DIV/0! | T6: =(R6*$G6+S6/$I6)/$G6 -> #DIV/0! | U6: =T6/$F6 -> #DIV/0! | V6: =_xlfn.CEILING.MATH(U6) -> #DIV/0! | W6: =V6*M6 -> #DIV/0! | Z6: =(X6*$G6+Y6/$I6)/$G6 -> #DIV/0! | AA6: =Z6/$F6 -> #DIV/0! | AB6: =_xlfn.CEILING.MATH(AA6) -> #DIV/0! | AC6: =AB6*S6 -> #DIV/0! | AF6: =(AD6*$G6+AE6/$I6)/$G6 -> #DIV/0! | AG6: =AF6/$F6 -> #DIV/0! | AH6: =_xlfn.CEILING.MATH(AG6) -> #DIV/0! | AI6: =AH6*Y6 -> #DIV/0! | AL6: =(AJ6*$G6+AK6/$I6)/$G6 -> #DIV/0! | AM6: =AL6/$F6 -> #DIV/0! | AN6: =_xlfn.CEILING.MATH(AM6) -> #DIV/0! | AO6: =AN6*AE6 -> #DIV/0! | AR6: =(AP6*$G6+AQ6/$I6)/$G6 -> #DIV/0! | AS6: =AR6/$F6 -> #DIV/0! | AT6: =_xlfn.CEILING.MATH(AS6) -> #DIV/0! | AU6: =AT6*AK6 -> #DIV/0! | AX6: =(AV6*$G6+AW6/$I6)/$G6 -> #DIV/0! | AY6: =AX6/$F6 -> #DIV/0! | AZ6: =_xlfn.CEILING.MATH(AY6) -> #DIV/0! | BA6: =AZ6*AQ6 -> #DIV/0! | BD6: =(BB6*$G6+BC6/$I6)/$G6 -> #DIV/0! | BE6: =BD6/$F6 -> #DIV/0! | BF6: =_xlfn.CEILING.MATH(BE6) -> #DIV/0! | BG6: =BF6*AW6 -> #DIV/0! | BJ6: =(BH6*$G6+BI6/$I6)/$G6 -> #DIV/0! | BK6: =BJ6/$F6 -> #DIV/0! | BL6: =_xlfn.CEILING.MATH(BK6) -> #DIV/0! | BM6: =BL6*BC6 -> #DIV/0! | BP6: =(BN6*$G6+BO6/$I6)/$G6 -> #DIV/0! | BQ6: =BP6/$F6 -> #DIV/0! | BR6: =_xlfn.CEILING.MATH(BQ6) -> #DIV/0! | BS6: =BR6*BI6 -> #DIV/0! | BV6: =(BT6*$G6+BU6/$I6)/$G6 -> #DIV/0! | BW6: =BV6/$F6 -> #DIV/0! | BX6: =_xlfn.CEILING.MATH(BW6) -> #DIV/0! | BY6: =BX6*BO6 -> #DIV/0! | CB6: =(BZ6*$G6+CA6/$I6)/$G6 -> #DIV/0! | CC6: =CB6/$F6 -> #DIV/0! | CD6: =_xlfn.CEILING.MATH(CC6) -> #DIV/0! | CE6: =CD6*BU6 -> #DIV/0!
A7: 4 | F7: =$F$2 -> 0.85 | N7: =(L7*$G7+M7/$I7)/$G7 -> #DIV/0! | O7: =N7/$F7 -> #DIV/0! | P7: =_xlfn.CEILING.MATH(O7) -> #DIV/0! | Q7: =P7*G7 -> #DIV/0! | T7: =(R7*$G7+S7/$I7)/$G7 -> #DIV/0! | U7: =T7/$F7 -> #DIV/0! | V7: =_xlfn.CEILING.MATH(U7) -> #DIV/0! | W7: =V7*M7 -> #DIV/0! | Z7: =(X7*$G7+Y7/$I7)/$G7 -> #DIV/0! | AA7: =Z7/$F7 -> #DIV/0! | AB7: =_xlfn.CEILING.MATH(AA7) -> #DIV/0! | AC7: =AB7*S7 -> #DIV/0! | AF7: =(AD7*$G7+AE7/$I7)/$G7 -> #DIV/0! | AG7: =AF7/$F7 -> #DIV/0! | AH7: =_xlfn.CEILING.MATH(AG7) -> #DIV/0! | AI7: =AH7*Y7 -> #DIV/0! | AL7: =(AJ7*$G7+AK7/$I7)/$G7 -> #DIV/0! | AM7: =AL7/$F7 -> #DIV/0! | AN7: =_xlfn.CEILING.MATH(AM7) -> #DIV/0! | AO7: =AN7*AE7 -> #DIV/0! | AR7: =(AP7*$G7+AQ7/$I7)/$G7 -> #DIV/0! | AS7: =AR7/$F7 -> #DIV/0! | AT7: =_xlfn.CEILING.MATH(AS7) -> #DIV/0! | AU7: =AT7*AK7 -> #DIV/0! | AX7: =(AV7*$G7+AW7/$I7)/$G7 -> #DIV/0! | AY7: =AX7/$F7 -> #DIV/0! | AZ7: =_xlfn.CEILING.MATH(AY7) -> #DIV/0! | BA7: =AZ7*AQ7 -> #DIV/0! | BD7: =(BB7*$G7+BC7/$I7)/$G7 -> #DIV/0! | BE7: =BD7/$F7 -> #DIV/0! | BF7: =_xlfn.CEILING.MATH(BE7) -> #DIV/0! | BG7: =BF7*AW7 -> #DIV/0! | BJ7: =(BH7*$G7+BI7/$I7)/$G7 -> #DIV/0! | BK7: =BJ7/$F7 -> #DIV/0! | BL7: =_xlfn.CEILING.MATH(BK7) -> #DIV/0! | BM7: =BL7*BC7 -> #DIV/0! | BP7: =(BN7*$G7+BO7/$I7)/$G7 -> #DIV/0! | BQ7: =BP7/$F7 -> #DIV/0! | BR7: =_xlfn.CEILING.MATH(BQ7) -> #DIV/0! | BS7: =BR7*BI7 -> #DIV/0! | BV7: =(BT7*$G7+BU7/$I7)/$G7 -> #DIV/0! | BW7: =BV7/$F7 -> #DIV/0! | BX7: =_xlfn.CEILING.MATH(BW7) -> #DIV/0! | BY7: =BX7*BO7 -> #DIV/0! | CB7: =(BZ7*$G7+CA7/$I7)/$G7 -> #DIV/0! | CC7: =CB7/$F7 -> #DIV/0! | CD7: =_xlfn.CEILING.MATH(CC7) -> #DIV/0! | CE7: =CD7*BU7 -> #DIV/0!
A8: 5 | F8: =$F$2 -> 0.85 | N8: =(L8*$G8+M8/$I8)/$G8 -> #DIV/0! | O8: =N8/$F8 -> #DIV/0! | P8: =_xlfn.CEILING.MATH(O8) -> #DIV/0! | Q8: =P8*G8 -> #DIV/0! | T8: =(R8*$G8+S8/$I8)/$G8 -> #DIV/0! | U8: =T8/$F8 -> #DIV/0! | V8: =_xlfn.CEILING.MATH(U8) -> #DIV/0! | W8: =V8*M8 -> #DIV/0! | Z8: =(X8*$G8+Y8/$I8)/$G8 -> #DIV/0! | AA8: =Z8/$F8 -> #DIV/0! | AB8: =_xlfn.CEILING.MATH(AA8) -> #DIV/0! | AC8: =AB8*S8 -> #DIV/0! | AF8: =(AD8*$G8+AE8/$I8)/$G8 -> #DIV/0! | AG8: =AF8/$F8 -> #DIV/0! | AH8: =_xlfn.CEILING.MATH(AG8) -> #DIV/0! | AI8: =AH8*Y8 -> #DIV/0! | AL8: =(AJ8*$G8+AK8/$I8)/$G8 -> #DIV/0! | AM8: =AL8/$F8 -> #DIV/0! | AN8: =_xlfn.CEILING.MATH(AM8) -> #DIV/0! | AO8: =AN8*AE8 -> #DIV/0! | AR8: =(AP8*$G8+AQ8/$I8)/$G8 -> #DIV/0! | AS8: =AR8/$F8 -> #DIV/0! | AT8: =_xlfn.CEILING.MATH(AS8) -> #DIV/0! | AU8: =AT8*AK8 -> #DIV/0! | AX8: =(AV8*$G8+AW8/$I8)/$G8 -> #DIV/0! | AY8: =AX8/$F8 -> #DIV/0! | AZ8: =_xlfn.CEILING.MATH(AY8) -> #DIV/0! | BA8: =AZ8*AQ8 -> #DIV/0! | BD8: =(BB8*$G8+BC8/$I8)/$G8 -> #DIV/0! | BE8: =BD8/$F8 -> #DIV/0! | BF8: =_xlfn.CEILING.MATH(BE8) -> #DIV/0! | BG8: =BF8*AW8 -> #DIV/0! | BJ8: =(BH8*$G8+BI8/$I8)/$G8 -> #DIV/0! | BK8: =BJ8/$F8 -> #DIV/0! | BL8: =_xlfn.CEILING.MATH(BK8) -> #DIV/0! | BM8: =BL8*BC8 -> #DIV/0! | BP8: =(BN8*$G8+BO8/$I8)/$G8 -> #DIV/0! | BQ8: =BP8/$F8 -> #DIV/0! | BR8: =_xlfn.CEILING.MATH(BQ8) -> #DIV/0! | BS8: =BR8*BI8 -> #DIV/0! | BV8: =(BT8*$G8+BU8/$I8)/$G8 -> #DIV/0! | BW8: =BV8/$F8 -> #DIV/0! | BX8: =_xlfn.CEILING.MATH(BW8) -> #DIV/0! | BY8: =BX8*BO8 -> #DIV/0! | CB8: =(BZ8*$G8+CA8/$I8)/$G8 -> #DIV/0! | CC8: =CB8/$F8 -> #DIV/0! | CD8: =_xlfn.CEILING.MATH(CC8) -> #DIV/0! | CE8: =CD8*BU8 -> #DIV/0!
A9: 6 | F9: =$F$2 -> 0.85 | N9: =(L9*$G9+M9/$I9)/$G9 -> #DIV/0! | O9: =N9/$F9 -> #DIV/0! | P9: =_xlfn.CEILING.MATH(O9) -> #DIV/0! | Q9: =P9*G9 -> #DIV/0! | T9: =(R9*$G9+S9/$I9)/$G9 -> #DIV/0! | U9: =T9/$F9 -> #DIV/0! | V9: =_xlfn.CEILING.MATH(U9) -> #DIV/0! | W9: =V9*M9 -> #DIV/0! | Z9: =(X9*$G9+Y9/$I9)/$G9 -> #DIV/0! | AA9: =Z9/$F9 -> #DIV/0! | AB9: =_xlfn.CEILING.MATH(AA9) -> #DIV/0! | AC9: =AB9*S9 -> #DIV/0! | AF9: =(AD9*$G9+AE9/$I9)/$G9 -> #DIV/0! | AG9: =AF9/$F9 -> #DIV/0! | AH9: =_xlfn.CEILING.MATH(AG9) -> #DIV/0! | AI9: =AH9*Y9 -> #DIV/0! | AL9: =(AJ9*$G9+AK9/$I9)/$G9 -> #DIV/0! | AM9: =AL9/$F9 -> #DIV/0! | AN9: =_xlfn.CEILING.MATH(AM9) -> #DIV/0! | AO9: =AN9*AE9 -> #DIV/0! | AR9: =(AP9*$G9+AQ9/$I9)/$G9 -> #DIV/0! | AS9: =AR9/$F9 -> #DIV/0! | AT9: =_xlfn.CEILING.MATH(AS9) -> #DIV/0! | AU9: =AT9*AK9 -> #DIV/0! | AX9: =(AV9*$G9+AW9/$I9)/$G9 -> #DIV/0! | AY9: =AX9/$F9 -> #DIV/0! | AZ9: =_xlfn.CEILING.MATH(AY9) -> #DIV/0! | BA9: =AZ9*AQ9 -> #DIV/0! | BD9: =(BB9*$G9+BC9/$I9)/$G9 -> #DIV/0! | BE9: =BD9/$F9 -> #DIV/0! | BF9: =_xlfn.CEILING.MATH(BE9) -> #DIV/0! | BG9: =BF9*AW9 -> #DIV/0! | BJ9: =(BH9*$G9+BI9/$I9)/$G9 -> #DIV/0! | BK9: =BJ9/$F9 -> #DIV/0! | BL9: =_xlfn.CEILING.MATH(BK9) -> #DIV/0! | BM9: =BL9*BC9 -> #DIV/0! | BP9: =(BN9*$G9+BO9/$I9)/$G9 -> #DIV/0! | BQ9: =BP9/$F9 -> #DIV/0! | BR9: =_xlfn.CEILING.MATH(BQ9) -> #DIV/0! | BS9: =BR9*BI9 -> #DIV/0! | BV9: =(BT9*$G9+BU9/$I9)/$G9 -> #DIV/0! | BW9: =BV9/$F9 -> #DIV/0! | BX9: =_xlfn.CEILING.MATH(BW9) -> #DIV/0! | BY9: =BX9*BO9 -> #DIV/0! | CB9: =(BZ9*$G9+CA9/$I9)/$G9 -> #DIV/0! | CC9: =CB9/$F9 -> #DIV/0! | CD9: =_xlfn.CEILING.MATH(CC9) -> #DIV/0! | CE9: =CD9*BU9 -> #DIV/0!
A10: 7 | F10: =$F$2 -> 0.85 | N10: =(L10*$G10+M10/$I10)/$G10 -> #DIV/0! | O10: =N10/$F10 -> #DIV/0! | P10: =_xlfn.CEILING.MATH(O10) -> #DIV/0! | Q10: =P10*G10 -> #DIV/0! | T10: =(R10*$G10+S10/$I10)/$G10 -> #DIV/0! | U10: =T10/$F10 -> #DIV/0! | V10: =_xlfn.CEILING.MATH(U10) -> #DIV/0! | W10: =V10*M10 -> #DIV/0! | Z10: =(X10*$G10+Y10/$I10)/$G10 -> #DIV/0! | AA10: =Z10/$F10 -> #DIV/0! | AB10: =_xlfn.CEILING.MATH(AA10) -> #DIV/0! | AC10: =AB10*S10 -> #DIV/0! | AF10: =(AD10*$G10+AE10/$I10)/$G10 -> #DIV/0! | AG10: =AF10/$F10 -> #DIV/0! | AH10: =_xlfn.CEILING.MATH(AG10) -> #DIV/0! | AI10: =AH10*Y10 -> #DIV/0! | AL10: =(AJ10*$G10+AK10/$I10)/$G10 -> #DIV/0! | AM10: =AL10/$F10 -> #DIV/0! | AN10: =_xlfn.CEILING.MATH(AM10) -> #DIV/0! | AO10: =AN10*AE10 -> #DIV/0! | AR10: =(AP10*$G10+AQ10/$I10)/$G10 -> #DIV/0! | AS10: =AR10/$F10 -> #DIV/0! | AT10: =_xlfn.CEILING.MATH(AS10) -> #DIV/0! | AU10: =AT10*AK10 -> #DIV/0! | AX10: =(AV10*$G10+AW10/$I10)/$G10 -> #DIV/0! | AY10: =AX10/$F10 -> #DIV/0! | AZ10: =_xlfn.CEILING.MATH(AY10) -> #DIV/0! | BA10: =AZ10*AQ10 -> #DIV/0! | BD10: =(BB10*$G10+BC10/$I10)/$G10 -> #DIV/0! | BE10: =BD10/$F10 -> #DIV/0! | BF10: =_xlfn.CEILING.MATH(BE10) -> #DIV/0! | BG10: =BF10*AW10 -> #DIV/0! | BJ10: =(BH10*$G10+BI10/$I10)/$G10 -> #DIV/0! | BK10: =BJ10/$F10 -> #DIV/0! | BL10: =_xlfn.CEILING.MATH(BK10) -> #DIV/0! | BM10: =BL10*BC10 -> #DIV/0! | BP10: =(BN10*$G10+BO10/$I10)/$G10 -> #DIV/0! | BQ10: =BP10/$F10 -> #DIV/0! | BR10: =_xlfn.CEILING.MATH(BQ10) -> #DIV/0! | BS10: =BR10*BI10 -> #DIV/0! | BV10: =(BT10*$G10+BU10/$I10)/$G10 -> #DIV/0! | BW10: =BV10/$F10 -> #DIV/0! | BX10: =_xlfn.CEILING.MATH(BW10) -> #DIV/0! | BY10: =BX10*BO10 -> #DIV/0! | CB10: =(BZ10*$G10+CA10/$I10)/$G10 -> #DIV/0! | CC10: =CB10/$F10 -> #DIV/0! | CD10: =_xlfn.CEILING.MATH(CC10) -> #DIV/0! | CE10: =CD10*BU10 -> #DIV/0!
