Workbook

Sheet MF
A1: 取引No | B1: 取引日 | C1: 勘定科目 | D1: 補助科目 | E1: 取引先 | F1: 税区分 | G1: インボイス | H1: 相手勘定科目 | I1: 相手補助科目 | J1: 相手取引先 | K1: 相手税区分 | L1: 相手インボイス | M1: 摘要 | N1: 借方金額 | O1: 貸方金額 | P1: 残高 | Q1: メモ | R1: タグ | S1: クレカ一致
A2: 154 | B2: 45078 | C2: 未払金 | D2: MSｶｰﾄﾞ | H2: 旅費交通費 | I2: ETC料金 | K2: 課仕 10% | N2: 0 | O2: 370 | P2: 1336257 | S2: =IFERROR(INDEX(クレカ!A:A, MATCH(1, (クレカ!A:A = MF!B2) * (クレカ!B:B = MF!O2), 0)), "未一致") -> 未一致
A3: 155 | B3: 45078 | C3: 未払金 | D3: MSｶｰﾄﾞ | H3: 旅費交通費 | I3: ETC料金 | K3: 課仕 10% | N3: 0 | O3: 650 | P3: 1336907 | S3: =IFERROR(INDEX(クレカ!A:A, MATCH(1, (クレカ!A:A = MF!B3) * (クレカ!B:B = MF!O3), 0)), "未一致") -> 未一致
A4: 156 | B4: 45078 | C4: 未払金 | D4: MSｶｰﾄﾞ | H4: 旅費交通費 | I4: ETC料金 | K4: 課仕 10% | N4: 0 | O4: 1060 | P4: 1337967 | S4: =IFERROR(INDEX(クレカ!A:A, MATCH(1, (クレカ!A:A = MF!B4) * (クレカ!B:B = MF!O4), 0)), "未一致") -> 未一致
A5: 163 | B5: 45079 | C5: 未払金 | D5: MSｶｰﾄﾞ | H5: 福利厚生費 | I5: その他 | K5: 課仕 10% | N5: 0 | O5: 6664 | P5: 1344631 | S5: =IFERROR(INDEX(クレカ!A:A, MATCH(1, (クレカ!A:A = MF!B5) * (クレカ!B:B = MF!O5), 0)), "未一致") -> 未一致
A6: 166 | B6: 45079 | C6: 未払金 | D6: MSｶｰﾄﾞ | H6: 旅費交通費 | I6: ETC料金 | K6: 課仕 10% | N6: 0 | O6: 1020 | P6: 1345651 | S6: =IFERROR(INDEX(クレカ!A:A, MATCH(1, (クレカ!A:A = MF!B6) * (クレカ!B:B = MF!O6), 0)), "未一致") -> 未一致
A7: 167 | B7: 45079 | C7: 未払金 | D7: MSｶｰﾄﾞ | H7: 旅費交通費 | I7: ETC料金 | K7: 課仕 10% | N7: 0 | O7: 1320 | P7: 1346971 | S7: =IFERROR(INDEX(クレカ!A:A, MATCH(1, (クレカ!A:A = MF!B7) * (クレカ!B:B = MF!O7), 0)), "未一致") -> 未一致
A8: 168 | B8: 45080 | C8: 未払金 | D8: MSｶｰﾄﾞ | H8: 消耗品費 | I8: その他 | K8: 課仕 10% | N8: 0 | O8: 2060 | P8: 1349031 | S8: =IFERROR(INDEX(クレカ!A:A, MATCH(1, (クレカ!A:A = MF!B8) * (クレカ!B:B = MF!O8), 0)), "未一致") -> 未一致
A9: 177 | B9: 45082 | C9: 未払金 | D9: MSｶｰﾄﾞ | H9: 水道光熱費 | K9: 課仕 10% | N9: 0 | O9: 3103 | P9: 1352134 | S9: =IFERROR(INDEX(クレカ!A:A, MATCH(1, (クレカ!A:A = MF!B9) * (クレカ!B:B = MF!O9), 0)), "未一致") -> 未一致
A10: 178 | B10: 45082 | C10: 未払金 | D10: MSｶｰﾄﾞ | H10: 水道光熱費 | K10: 課仕 10% | N10: 0 | O10: 7540 | P10: 1359674 | S10: =IFERROR(INDEX(クレカ!A:A, MATCH(1, (クレカ!A:A = MF!B10) * (クレカ!B:B = MF!O10), 0)), "未一致") -> 未一致
A11: 179 | B11: 45082 | C11: 未払金 | D11: MSｶｰﾄﾞ | H11: 福利厚生費 | I11: その他 | K11: 課仕 10% | N11: 0 | O11: 4400 | P11: 1364074 | S11: =IFERROR(INDEX(クレカ!A:A, MATCH(1, (クレカ!A:A = MF!B11) * (クレカ!B:B = MF!O11), 0)), "未一致") -> 未一致
A12: 186 | B12: 45082 | C12: 未払金 | D12: MSｶｰﾄﾞ | H12: 旅費交通費 | I12: ETC料金 | K12: 課仕 10% | N12: 0 | O12: 370 | P12: 1364444 | S12: =IFERROR(INDEX(クレカ!A:A, MATCH(1, (クレカ!A:A = MF!B12) * (クレカ!B:B = MF!O12), 0)), "未一致") -> 未一致
A13: 187 | B13: 45082 | C13: 未払金 | D13: MSｶｰﾄﾞ | H13: 旅費交通費 | I13: ETC料金 | K13: 課仕 10% | N13: 0 | O13: 370 | P13: 1364814 | S13: =IFERROR(INDEX(クレカ!A:A, MATCH(1, (クレカ!A:A = MF!B13) * (クレカ!B:B = MF!O13), 0)), "未一致") -> 未一致
A14: 190 | B14: 45083 | C14: 未払金 | D14: MSｶｰﾄﾞ | H14: 福利厚生費 | I14: その他 | K14: 課仕 10% | N14: 0 | O14: 1728 | P14: 1366542 | S14: =IFERROR(INDEX(クレカ!A:A, MATCH(1, (クレカ!A:A = MF!B14) * (クレカ!B:B = MF!O14), 0)), "未一致") -> 未一致
A15: 191 | B15: 45083 | C15: 未払金 | D15: MSｶｰﾄﾞ | H15: 旅費交通費 | I15: 駐車料金 | K15: 課仕 10% | N15: 0 | O15: 1540 | P15: 1368082 | S15: =IFERROR(INDEX(クレカ!A:A, MATCH(1, (クレカ!A:A = MF!B15) * (クレカ!B:B = MF!O15), 0)), "未一致") -> 未一致
A16: 192 | B16: 45083 | C16: 未払金 | D16: MSｶｰﾄﾞ | H16: 消耗品費 | I16: その他 | K16: 課仕 10% | N16: 0 | O16: 14061 | P16: 1382143 | S16: =IFERROR(INDEX(クレカ!A:A, MATCH(1, (クレカ!A:A = MF!B16) * (クレカ!B:B = MF!O16), 0)), "未一致") -> 未一致
A17: 193 | B17: 45083 | C17: 未払金 | D17: MSｶｰﾄﾞ | H17: 消耗品費 | I17: その他 | K17: 課仕 10% | N17: 0 | O17: 1287 | P17: 1383430 | S17: =IFERROR(INDEX(クレカ!A:A, MATCH(1, (クレカ!A:A = MF!B17) * (クレカ!B:B = MF!O17), 0)), "未一致") -> 未一致
A18: 194 | B18: 45083 | C18: 未払金 | D18: MSｶｰﾄﾞ | H18: 福利厚生費 | I18: その他 | K18: 課仕 10% | N18: 0 | O18: 4554 | P18: 1387984 | S18: =IFERROR(INDEX(クレカ!A:A, MATCH(1, (クレカ!A:A = MF!B18) * (クレカ!B:B = MF!O18), 0)), "未一致") -> 未一致
A19: 195 | B19: 45083 | C19: 未払金 | D19: MSｶｰﾄﾞ | H19: 旅費交通費 | I19: 出張費 | K19: 課仕 10% | N19: 0 | O19: 14320 | P19: 1402304 | S19: =IFERROR(INDEX(クレカ!A:A, MATCH(1, (クレカ!A:A = MF!B19) * (クレカ!B:B = MF!O19), 0)), "未一致") -> 未一致
A20: 196 | B20: 45083 | C20: 未払金 | D20: MSｶｰﾄﾞ | H20: 旅費交通費 | I20: 出張費 | K20: 課仕 10% | N20: 0 | O20: 14320 | P20: 1416624 | S20: =IFERROR(INDEX(クレカ!A:A, MATCH(1, (クレカ!A:A = MF!B20) * (クレカ!B:B = MF!O20), 0)), "未一致") -> 未一致
A21: 206 | B21: 45083 | C21: 未払金 | D21: MSｶｰﾄﾞ | H21: 旅費交通費 | I21: ETC料金 | K21: 課仕 10% | N21: 0 | O21: 370 | P21: 1416994 | S21: =IFERROR(INDEX(クレカ!A:A, MATCH(1, (クレカ!A:A = MF!B21) * (クレカ!B:B = MF!O21), 0)), "未一致") -> 未一致
A22: 207 | B22: 45083 | C22: 未払金 | D22: MSｶｰﾄﾞ | H22: 旅費交通費 | I22: ETC料金 | K22: 課仕 10% | N22: 0 | O22: 420 | P22: 1417414 | S22: =IFERROR(INDEX(クレカ!A:A, MATCH(1, (クレカ!A:A = MF!B22) * (クレカ!B:B = MF!O22), 0)), "未一致") -> 未一致
... A40: 265 | B40: 45086 | C40: 未払金 | D40: MSｶｰﾄﾞ | H40: 旅費交通費 | I40: ETC料金 | K40: 課仕 10% | N40: 0 | O40: 370 | P40: 1457949 | S40: =IFERROR(INDEX(クレカ!A:A, MATCH(1, (クレカ!A:A = MF!B40) * (クレカ!B:B = MF!O40), 0)), "未一致") -> 未一致
A41: 266 | B41: 45087 | C41: 未払金 | D41: MSｶｰﾄﾞ | H41: 会議費 | K41: 課仕 10% | N41: 0 | O41: 4537 | P41: 1462486 | S41: =IFERROR(INDEX(クレカ!A:A, MATCH(1, (クレカ!A:A = MF!B41) * (クレカ!B:B = MF!O41), 0)), "未一致") -> 未一致
A42: 269 | B42: 45088 | C42: 未払金 | D42: MSｶｰﾄﾞ | H42: 消耗品費 | I42: その他 | K42: 課仕 10% | N42: 0 | O42: 3990 | P42: 1466476 | S42: =IFERROR(INDEX(クレカ!A:A, MATCH(1, (クレカ!A:A = MF!B42) * (クレカ!B:B = MF!O42), 0)), "未一致") -> 未一致
A43: 270 | B43: 45088 | C43: 未払金 | D43: MSｶｰﾄﾞ | H43: 消耗品費 | I43: その他 | K43: 課仕 10% | N43: 0 | O43: 18200 | P43: 1484676 | S43: =IFERROR(INDEX(クレカ!A:A, MATCH(1, (クレカ!A:A = MF!B43) * (クレカ!B:B = MF!O43), 0)), "未一致") -> 未一致
A44: 271 | B44: 45088 | C44: 未払金 | D44: MSｶｰﾄﾞ | H44: 消耗品費 | I44: その他 | K44: 課仕 10% | N44: 0 | O44: 18002 | P44: 1502678 | S44: =IFERROR(INDEX(クレカ!A:A, MATCH(1, (クレカ!A:A = MF!B44) * (クレカ!B:B = MF!O44), 0)), "未一致") -> 未一致
A45: 272 | B45: 45088 | C45: 未払金 | D45: MSｶｰﾄﾞ | H45: 消耗品費 | I45: その他 | K45: 課仕 10% | N45: 0 | O45: 5208 | P45: 1507886 | S45: =IFERROR(INDEX(クレカ!A:A, MATCH(1, (クレカ!A:A = MF!B45) * (クレカ!B:B = MF!O45), 0)), "未一致") -> 未一致
A46: 275 | B46: 45089 | C46: 未払金 | D46: MSｶｰﾄﾞ | H46: 普通預金 | I46: 紀陽銀行北花田支店(858)普通0338427 | N46: 379873 | O46: 0 | P46: 1128013 | S46: =IFERROR(INDEX(クレカ!A:A, MATCH(1, (クレカ!A:A = MF!B46) * (クレカ!B:B = MF!O46), 0)), "未一致") -> 未一致
A47: 279 | B47: 45089 | C47: 未払金 | D47: MSｶｰﾄﾞ | H47: 会議費 | K47: 課仕 10% | N47: 0 | O47: 6000 | P47: 1134013 | S47: =IFERROR(INDEX(クレカ!A:A, MATCH(1, (クレカ!A:A = MF!B47) * (クレカ!B:B = MF!O47), 0)), "未一致") -> 未一致
A48: 280 | B48: 45089 | C48: 未払金 | D48: MSｶｰﾄﾞ | H48: 旅費交通費 | I48: 駐車料金 | K48: 課仕 10% | N48: 0 | O48: 1500 | P48: 1135513 | S48: =IFERROR(INDEX(クレカ!A:A, MATCH(1, (クレカ!A:A = MF!B48) * (クレカ!B:B = MF!O48), 0)), "未一致") -> 未一致
A49: 294 | B49: 45089 | C49: 未払金 | D49: MSｶｰﾄﾞ | H49: 旅費交通費 | I49: ETC料金 | K49: 課仕 10% | N49: 0 | O49: 370 | P49: 1135883 | S49: =IFERROR(INDEX(クレカ!A:A, MATCH(1, (クレカ!A:A = MF!B49) * (クレカ!B:B = MF!O49), 0)), "未一致") -> 未一致
A50: 295 | B50: 45089 | C50: 未払金 | D50: MSｶｰﾄﾞ | H50: 旅費交通費 | I50: ETC料金 | K50: 課仕 10% | N50: 0 | O50: 840 | P50: 1136723 | S50: =IFERROR(INDEX(クレカ!A:A, MATCH(1, (クレカ!A:A = MF!B50) * (クレカ!B:B = MF!O50), 0)), "未一致") -> 未一致
A51: 296 | B51: 45089 | C51: 未払金 | D51: MSｶｰﾄﾞ | H51: 旅費交通費 | I51: ETC料金 | K51: 課仕 10% | N51: 0 | O51: 840 | P51: 1137563 | S51: =IFERROR(INDEX(クレカ!A:A, MATCH(1, (クレカ!A:A = MF!B51) * (クレカ!B:B = MF!O51), 0)), "未一致") -> 未一致
A52: 297 | B52: 45090 | C52: 未払金 | D52: MSｶｰﾄﾞ | H52: 会議費 | K52: 課仕 10% | N52: 0 | O52: 2200 | P52: 1139763 | S52: =IFERROR(INDEX(クレカ!A:A, MATCH(1, (クレカ!A:A = MF!B52) * (クレカ!B:B = MF!O52), 0)), "未一致") -> 未一致
A53: 306 | B53: 45090 | C53: 未払金 | D53: MSｶｰﾄﾞ | H53: 旅費交通費 | I53: ETC料金 | K53: 課仕 10% | N53: 0 | O53: 370 | P53: 1140133 | S53: =IFERROR(INDEX(クレカ!A:A, MATCH(1, (クレカ!A:A = MF!B53) * (クレカ!B:B = MF!O53), 0)), "未一致") -> 未一致
A54: 307 | B54: 45090 | C54: 未払金 | D54: MSｶｰﾄﾞ | H54: 旅費交通費 | I54: ETC料金 | K54: 課仕 10% | N54: 0 | O54: 760 | P54: 1140893 | S54: =IFERROR(INDEX(クレカ!A:A, MATCH(1, (クレカ!A:A = MF!B54) * (クレカ!B:B = MF!O54), 0)), "未一致") -> 未一致
A55: 308 | B55: 45090 | C55: 未払金 | D55: MSｶｰﾄﾞ | H55: 旅費交通費 | I55: ETC料金 | K55: 課仕 10% | N55: 0 | O55: 750 | P55: 1141643 | S55: =IFERROR(INDEX(クレカ!A:A, MATCH(1, (クレカ!A:A = MF!B55) * (クレカ!B:B = MF!O55), 0)), "未一致") -> 未一致
A56: 309 | B56: 45090 | C56: 未払金 | D56: MSｶｰﾄﾞ | H56: 旅費交通費 | I56: ETC料金 | K56: 課仕 10% | N56: 0 | O56: 1320 | P56: 1142963 | S56: =IFERROR(INDEX(クレカ!A:A, MATCH(1, (クレカ!A:A = MF!B56) * (クレカ!B:B = MF!O56), 0)), "未一致") -> 未一致
A57: 310 | B57: 45090 | C57: 未払金 | D57: MSｶｰﾄﾞ | H57: 旅費交通費 | I57: ETC料金 | K57: 課仕 10% | N57: 0 | O57: 300 | P57: 1143263 | S57: =IFERROR(INDEX(クレカ!A:A, MATCH(1, (クレカ!A:A = MF!B57) * (クレカ!B:B = MF!O57), 0)), "未一致") -> 未一致
...

Sheet クレカ
A1: 45079 | B1: 6664
A2: 45080 | B2: -2060
A3: 45082 | B3: 3103
A4: 45082 | B4: 7540
A5: 45082 | B5: 4400
A6: 45083 | B6: 1728
A7: 45083 | B7: 1540
A8: 45083 | B8: 14061
A9: 45083 | B9: 1287
A10: 45083 | B10: 4554
A11: 45083 | B11: 14320
A12: 45083 | B12: 14320
... A431: 45169 | B431: 10307
