Workbook

Sheet MF
A1: 取引No | B1: 取引日 | C1: 勘定科目 | D1: 補助科目 | E1: 取引先 | F1: 税区分 | G1: インボイス | H1: 相手勘定科目 | I1: 相手補助科目 | J1: 相手取引先 | K1: 相手税区分 | L1: 相手インボイス | M1: 摘要 | N1: 借方金額 | O1: 貸方金額 | P1: 残高 | Q1: メモ | R1: タグ | S1: クレカ一致
A2: 154 | B2: 45078 | C2: 未払金 | D2: MSｶｰﾄﾞ | H2: 旅費交通費 | I2: ETC料金 | K2: 課仕 10% | N2: 0 | O2: 370 | P2: 1336257 | S2: =IFERROR(INDEX(クレカ!A:A, MATCH(1, (クレカ!A:A = MF!B2) * (クレカ!B:B = MF!O2), 0)), "未一致") -> 未一致
A3: 155 | B3: 45078 | C3: 未払金 | D3: MSｶｰﾄﾞ | H3: 旅費交通費 | I3: ETC料金 | K3: 課仕 10% | N3: 0 | O3: 650 | P3: 1336907 | S3: =IFERROR(INDEX(クレカ!A:A, MATCH(1, (クレカ!A:A = MF!B3) * (クレカ!B:B = MF!O3), 0)), "未一致") -> 未一致
A4: 156 | B4: 45078 | C4: 未払金 | D4: MSｶｰﾄﾞ | H4: 旅費交通費 | I4: ETC料金 | K4: 課仕 10% | N4: 0 | O4: 1060 | P4: 1337967 | S4: =IFERROR(INDEX(クレカ!A:A, MATCH(1, (クレカ!A:A = MF!B4) * (クレカ!B:B = MF!O4), 0)), "未一致") -> 未一致
A5: 163 | B5: 45079 | C5: 未払金 | D5: MSｶｰﾄﾞ | H5: 福利厚生費 | I5: その他 | K5: 課仕 10% | N5: 0 | O5: 6664 | P5: 1344631 | S5: =IFERROR(INDEX(クレカ!A:A, MATCH(1, (クレカ!A:A = MF!B5) * (クレカ!B:B = MF!O5), 0)), "未一致") -> 未一致
A6: 166 | B6: 45079 | C6: 未払金 | D6: MSｶｰﾄﾞ | H6: 旅費交通費 | I6: ETC料金 | K6: 課仕 10% | N6: 0 | O6: 1020 | P6: 1345651 | S6: =IFERROR(INDEX(クレカ!A:A, MATCH(1, (クレカ!A:A = MF!B6) * (クレカ!B:B = MF!O6), 0)), "未一致") -> 未一致
A7: 167 | B7: 45079 | C7: 未払金 | D7: MSｶｰﾄﾞ | H7: 旅費交通費 | I7: ETC料金 | K7: 課仕 10% | N7: 0 | O7: 1320 | P7: 1346971 | S7: =IFERROR(INDEX(クレカ!A:A, MATCH(1, (クレカ!A:A = MF!B7) * (クレカ!B:B = MF!O7), 0)), "未一致") -> 未一致
A8: 168 | B8: 45080 | C8: 未払金 | D8: MSｶｰﾄﾞ | H8: 消耗品費 | I8: その他 | K8: 課仕 10% | N8: 0 | O8: 2060 | P8: 1349031 | S8: =IFERROR(INDEX(クレカ!A:A, MATCH(1, (クレカ!A:A = MF!B8) * (クレカ!B:B = MF!O8), 0)), "未一致") -> 未一致
A9: 177 | B9: 45082 | C9: 未払金 | D9: MSｶｰﾄﾞ | H9: 水道光熱費 | K9: 課仕 10% | N9: 0 | O9: 3103 | P9: 1352134 | S9: =IFERROR(INDEX(クレカ!A:A, MATCH(1, (クレカ!A:A = MF!B9) * (クレカ!B:B = MF!O9), 0)), "未一致") -> 未一致
A10: 178 | B10: 45082 | C10: 未払金 | D10: MSｶｰﾄﾞ | H10: 水道光熱費 | K10: 課仕 10% | N10: 0 | O10: 7540 | P10: 1359674 | S10: =IFERROR(INDEX(クレカ!A:A, MATCH(1, (クレカ!A:A = MF!B10) * (クレカ!B:B = MF!O10), 0)), "未一致") -> 未一致
A11: 179 | B11: 45082 | C11: 未払金 | D11: MSｶｰﾄﾞ | H11: 福利厚生費 | I11: その他 | K11: 課仕 10% | N11: 0 | O11: 4400 | P11: 1364074 | S11: =IFERROR(INDEX(クレカ!A:A, MATCH(1, (クレカ!A:A = MF!B11) * (クレカ!B:B = MF!O11), 0)), "未一致") -> 未一致
A12: 186 | B12: 45082 | C12: 未払金 | D12: MSｶｰﾄﾞ | H12: 旅費交通費 | I12: ETC料金 | K12: 課仕 10% | N12: 0 | O12: 370 | P12: 1364444 | S12: =IFERROR(INDEX(クレカ!A:A, MATCH(1, (クレカ!A:A = MF!B12) * (クレカ!B:B = MF!O12), 0)), "未一致") -> 未一致
A13: 187 | B13: 45082 | C13: 未払金 | D13: MSｶｰﾄﾞ | H13: 旅費交通費 | I13: ETC料金 | K13: 課仕 10% | N13: 0 | O13: 370 | P13: 1364814 | S13: =IFERROR(INDEX(クレカ!A:A, MATCH(1, (クレカ!A:A = MF!B13) * (クレカ!B:B = MF!O13), 0)), "未一致") -> 未一致
A14: 190 | B14: 45083 | C14: 未払金 | D14: MSｶｰﾄﾞ | H14: 福利厚生費 | I14: その他 | K14: 課仕 10% | N14: 0 | O14: 1728 | P14: 1366542 | S14: =IFERROR(INDEX(クレカ!A:A, MATCH(1, (クレカ!A:A = MF!B14) * (クレカ!B:B = MF!O14), 0)), "未一致") -> 未一致
A15: 191 | B15: 45083 | C15: 未払金 | D15: MSｶｰﾄﾞ | H15: 旅費交通費 | I15: 駐車料金 | K15: 課仕 10% | N15: 0 | O15: 1540 | P15: 1368082 | S15: =IFERROR(INDEX(クレカ!A:A, MATCH(1, (クレカ!A:A = MF!B15) * (クレカ!B:B = MF!O15), 0)), "未一致") -> 未一致
A16: 192 | B16: 45083 | C16: 未払金 | D16: MSｶｰﾄﾞ | H16: 消耗品費 | I16: その他 | K16: 課仕 10% | N16: 0 | O16: 14061 | P16: 1382143 | S16: =IFERROR(INDEX(クレカ!A:A, MATCH(1, (クレカ!A:A = MF!B16) * (クレカ!B:B = MF!O16), 0)), "未一致") -> 未一致
A17: 193 | B17: 45083 | C17: 未払金 | D17: MSｶｰﾄﾞ | H17: 消耗品費 | I17: その他 | K17: 課仕 10% | N17: 0 | O17: 1287 | P17: 1383430 | S17: =IFERROR(INDEX(クレカ!A:A, MATCH(1, (クレカ!A:A = MF!B17) * (クレカ!B:B = MF!O17), 0)), "未一致") -> 未一致
A18: 194 | B18: 45083 | C18: 未払金 | D18: MSｶｰﾄﾞ | H18: 福利厚生費 | I18: その他 | K18: 課仕 10% | N18: 0 | O18: 4554 | P18: 1387984 | S18: =IFERROR(INDEX(クレカ!A:A, MATCH(1, (クレカ!A:A = MF!B18) * (クレカ!B:B = MF!O18), 0)), "未一致") -> 未一致
A19: 195 | B19: 45083 | C19: 未払金 | D19: MSｶｰﾄﾞ | H19: 旅費交通費 | I19: 出張費 | K19: 課仕 10% | N19: 0 | O19: 14320 | P19: 1402304 | S19: =IFERROR(INDEX(クレカ!A:A, MATCH(1, (クレカ!A:A = MF!B19) * (クレカ!B:B = MF!O19), 0)), "未一致") -> 未一致
A20: 196 | B20: 45083 | C20: 未払金 | D20: MSｶｰﾄﾞ | H20: 旅費交通費 | I20: 出張費 | K20: 課仕 10% | N20: 0 | O20: 14320 | P20: 1416624 | S20: =IFERROR(INDEX(クレカ!A:A, MATCH(1, (クレカ!A:A = MF!B20) * (クレカ!B:B = MF!O20), 0)), "未一致") -> 未一致
A21: 206 | B21: 45083 | C21: 未払金 | D21: MSｶｰﾄﾞ | H21: 旅費交通費 | I21: ETC料金 | K21: 課仕 10% | N21: 0 | O21: 370 | P21: 1416994 | S21: =IFERROR(INDEX(クレカ!A:A, MATCH(1, (クレカ!A:A = MF!B21) * (クレカ!B:B = MF!O21), 0)), "未一致") -> 未一致
A22: 207 | B22: 45083 | C22: 未払金 | D22: MSｶｰﾄﾞ | H22: 旅費交通費 | I22: ETC料金 | K22: 課仕 10% | N22: 0 | O22: 420 | P22: 1417414 | S22: =IFERROR(INDEX(クレカ!A:A, MATCH(1, (クレカ!A:A = MF!B22) * (クレカ!B:B = MF!O22), 0)), "未一致") -> 未一致
... A40: 265 | B40: 45086 | C40: 未払金 | D40: MSｶｰﾄﾞ | H40: 旅費交通費 | I40: ETC料金 | K40: 課仕 10% | N40: 0 | O40: 370 | P40: 1457949 | S40: =IFERROR(INDEX(クレカ!A:A, MATCH(1, (クレカ!A:A = MF!B40) * (クレカ!B:B = MF!O40), 0)), "未一致") -> 未一致
A41: 266 | B41: 45087 | C41: 未払金 | D41: MSｶｰﾄﾞ | H41: 会議費 | K41: 課仕 10% | N41: 0 | O41: 4537 | P41: 1462486 | S41: =IFERROR(INDEX(クレカ!A:A, MATCH(1, (クレカ!A:A = MF!B41) * (クレカ!B:B = MF!O41), 0)), "未一致") -> 未一致
A42: 269 | B42: 45088 | C42: 未払金 | D42: MSｶｰﾄﾞ | H42: 消耗品費 | I42: その他 | K42: 課仕 10% | N42: 0 | O42: 3990 | P42: 1466476 | S42: =IFERROR(INDEX(クレカ!A:A, MATCH(1, (クレカ!A:A = MF!B42) * (クレカ!B:B = MF!O42), 0)), "未一致") -> 未一致
A43: 270 | B43: 45088 | C43: 未払金 | D43: MSｶｰﾄﾞ | H43: 消耗品費 | I43: その他 | K43: 課仕 10% | N43: 0 | O43: 18200 | P43: 1484676 | S43: =IFERROR(INDEX(クレカ!A:A, MATCH(1, (クレカ!A:A = MF!B43) * (クレカ!B:B = MF!O43), 0)), "未一致") -> 未一致
A44: 271 | B44: 45088 | C44: 未払金 | D44: MSｶｰﾄﾞ | H44: 消耗品費 | I44: その他 | K44: 課仕 10% | N44: 0 | O44: 18002 | P44: 1502678 | S44: =IFERROR(INDEX(クレカ!A:A, MATCH(1, (クレカ!A:A = MF!B44) * (クレカ!B:B = MF!O44), 0)), "未一致") -> 未一致
A45: 272 | B45: 45088 | C45: 未払金 | D45: MSｶｰﾄﾞ | H45: 消耗品費 | I45: その他 | K45: 課仕 10% | N45: 0 | O45: 5208 | P45: 1507886 | S45: =IFERROR(INDEX(クレカ!A:A, MATCH(1, (クレカ!A:A = MF!B45) * (クレカ!B:B = MF!O45), 0)), "未一致") -> 未一致
A46: 275 | B46: 45089 | C46: 未払金 | D46: MSｶｰﾄﾞ | H46: 普通預金 | I46: 紀陽銀行北花田支店(858)普通0338427 | N46: 379873 | O46: 0 | P46: 1128013 | S46: =IFERROR(INDEX(クレカ!A:A, MATCH(1, (クレカ!A:A = MF!B46) * (クレカ!B:B = MF!O46), 0)), "未一致") -> 未一致
A47: 279 | B47: 45089 | C47: 未払金 | D47: MSｶｰﾄﾞ | H47: 会議費 | K47: 課仕 10% | N47: 0 | O47: 6000 | P47: 1134013 | S47: =IFERROR(INDEX(クレカ!A:A, MATCH(1, (クレカ!A:A = MF!B47) * (クレカ!B:B = MF!O47), 0)), "未一致") -> 未一致
A48: 280 | B48: 45089 | C48: 未払金 | D48: MSｶｰﾄﾞ | H48: 旅費交通費 | I48: 駐車料金 | K48: 課仕 10% | N48: 0 | O48: 1500 | P48: 1135513 | S48: =IFERROR(INDEX(クレカ!A:A, MATCH(1, (クレカ!A:A = MF!B48) * (クレカ!B:B = MF!O48), 0)), "未一致") -> 未一致
A49: 294 | B49: 45089 | C49: 未払金 | D49: MSｶｰﾄﾞ | H49: 旅費交通費 | I49: ETC料金 | K49: 課仕 10% | N49: 0 | O49: 370 | P49: 1135883 | S49: =IFERROR(INDEX(クレカ!A:A, MATCH(1, (クレカ!A:A = MF!B49) * (クレカ!B:B = MF!O49), 0)), "未一致") -> 未一致
A50: 295 | B50: 45089 | C50: 未払金 | D50: MSｶｰﾄﾞ | H50: 旅費交通費 | I50: ETC料金 | K50: 課仕 10% | N50: 0 | O50: 840 | P50: 1136723 | S50: =IFERROR(INDEX(クレカ!A:A, MATCH(1, (クレカ!A:A = MF!B50) * (クレカ!B:B = MF!O50), 0)), "未一致") -> 未一致
A51: 296 | B51: 45089 | C51: 未払金 | D51: MSｶｰﾄﾞ | H51: 旅費交通費 | I51: ETC料金 | K51: 課仕 10% | N51: 0 | O51: 840 | P51: 1137563 | S51: =IFERROR(INDEX(クレカ!A:A, MATCH(1, (クレカ!A:A = MF!B51) * (クレカ!B:B = MF!O51), 0)), "未一致") -> 未一致
A52: 297 | B52: 45090 | C52: 未払金 | D52: MSｶｰﾄﾞ | H52: 会議費 | K52: 課仕 10% | N52: 0 | O52: 2200 | P52: 1139763 | S52: =IFERROR(INDEX(クレカ!A:A, MATCH(1, (クレカ!A:A = MF!B52) * (クレカ!B:B = MF!O52), 0)), "未一致") -> 未一致
A53: 306 | B53: 45090 | C53: 未払金 | D53: MSｶｰﾄﾞ | H53: 旅費交通費 | I53: ETC料金 | K53: 課仕 10% | N53: 0 | O53: 370 | P53: 1140133 | S53: =IFERROR(INDEX(クレカ!A:A, MATCH(1, (クレカ!A:A = MF!B53) * (クレカ!B:B = MF!O53), 0)), "未一致") -> 未一致
A54: 307 | B54: 45090 | C54: 未払金 | D54: MSｶｰﾄﾞ | H54: 旅費交通費 | I54: ETC料金 | K54: 課仕 10% | N54: 0 | O54: 760 | P54: 1140893 | S54: =IFERROR(INDEX(クレカ!A:A, MATCH(1, (クレカ!A:A = MF!B54) * (クレカ!B:B = MF!O54), 0)), "未一致") -> 未一致
A55: 308 | B55: 45090 | C55: 未払金 | D55: MSｶｰﾄﾞ | H55: 旅費交通費 | I55: ETC料金 | K55: 課仕 10% | N55: 0 | O55: 750 | P55: 1141643 | S55: =IFERROR(INDEX(クレカ!A:A, MATCH(1, (クレカ!A:A = MF!B55) * (クレカ!B:B = MF!O55), 0)), "未一致") -> 未一致
A56: 309 | B56: 45090 | C56: 未払金 | D56: MSｶｰﾄﾞ | H56: 旅費交通費 | I56: ETC料金 | K56: 課仕 10% | N56: 0 | O56: 1320 | P56: 1142963 | S56: =IFERROR(INDEX(クレカ!A:A, MATCH(1, (クレカ!A:A = MF!B56) * (クレカ!B:B = MF!O56), 0)), "未一致") -> 未一致
A57: 310 | B57: 45090 | C57: 未払金 | D57: MSｶｰﾄﾞ | H57: 旅費交通費 | I57: ETC料金 | K57: 課仕 10% | N57: 0 | O57: 300 | P57: 1143263 | S57: =IFERROR(INDEX(クレカ!A:A, MATCH(1, (クレカ!A:A = MF!B57) * (クレカ!B:B = MF!O57), 0)), "未一致") -> 未一致
A58: 311 | B58: 45090 | C58: 未払金 | D58: MSｶｰﾄﾞ | H58: 旅費交通費 | I58: ETC料金 | K58: 課仕 10% | N58: 0 | O58: 1100 | P58: 1144363 | S58: =IFERROR(INDEX(クレカ!A:A, MATCH(1, (クレカ!A:A = MF!B58) * (クレカ!B:B = MF!O58), 0)), "未一致") -> 未一致
A59: 312 | B59: 45090 | C59: 未払金 | D59: MSｶｰﾄﾞ | H59: 旅費交通費 | I59: ETC料金 | K59: 課仕 10% | N59: 0 | O59: 670 | P59: 1145033 | S59: =IFERROR(INDEX(クレカ!A:A, MATCH(1, (クレカ!A:A = MF!B59) * (クレカ!B:B = MF!O59), 0)), "未一致") -> 未一致
A60: 313 | B60: 45091 | C60: 未払金 | D60: MSｶｰﾄﾞ | H60: 旅費交通費 | I60: 駐車料金 | K60: 課仕 10% | N60: 0 | O60: 600 | P60: 1145633 | S60: =IFERROR(INDEX(クレカ!A:A, MATCH(1, (クレカ!A:A = MF!B60) * (クレカ!B:B = MF!O60), 0)), "未一致") -> 未一致
A61: 314 | B61: 45091 | C61: 未払金 | D61: MSｶｰﾄﾞ | H61: 旅費交通費 | I61: 駐車料金 | K61: 課仕 10% | N61: 0 | O61: 600 | P61: 1146233 | S61: =IFERROR(INDEX(クレカ!A:A, MATCH(1, (クレカ!A:A = MF!B61) * (クレカ!B:B = MF!O61), 0)), "未一致") -> 未一致
A62: 329 | B62: 45091 | C62: 未払金 | D62: MSｶｰﾄﾞ | H62: 旅費交通費 | I62: ETC料金 | K62: 課仕 10% | N62: 0 | O62: 520 | P62: 1146753 | S62: =IFERROR(INDEX(クレカ!A:A, MATCH(1, (クレカ!A:A = MF!B62) * (クレカ!B:B = MF!O62), 0)), "未一致") -> 未一致
A63: 330 | B63: 45091 | C63: 未払金 | D63: MSｶｰﾄﾞ | H63: 旅費交通費 | I63: ETC料金 | K63: 課仕 10% | N63: 0 | O63: 2560 | P63: 1149313 | S63: =IFERROR(INDEX(クレカ!A:A, MATCH(1, (クレカ!A:A = MF!B63) * (クレカ!B:B = MF!O63), 0)), "未一致") -> 未一致
A64: 331 | B64: 45091 | C64: 未払金 | D64: MSｶｰﾄﾞ | H64: 旅費交通費 | I64: ETC料金 | K64: 課仕 10% | N64: 0 | O64: 270 | P64: 1149583 | S64: =IFERROR(INDEX(クレカ!A:A, MATCH(1, (クレカ!A:A = MF!B64) * (クレカ!B:B = MF!O64), 0)), "未一致") -> 未一致
... A81: 393 | B81: 45095 | C81: 未払金 | D81: MSｶｰﾄﾞ | H81: 車両費 | I81: ｶﾞｿﾘﾝ代 | K81: 課仕 10% | N81: 0 | O81: 5899 | P81: 1329030 | S81: =IFERROR(INDEX(クレカ!A:A, MATCH(1, (クレカ!A:A = MF!B81) * (クレカ!B:B = MF!O81), 0)), "未一致") -> 未一致
A82: 394 | B82: 45095 | C82: 未払金 | D82: MSｶｰﾄﾞ | H82: 事務用品費 | K82: 課仕 10% | N82: 0 | O82: 8873 | P82: 1337903 | S82: =IFERROR(INDEX(クレカ!A:A, MATCH(1, (クレカ!A:A = MF!B82) * (クレカ!B:B = MF!O82), 0)), "未一致") -> 未一致
A83: 395 | B83: 45095 | C83: 未払金 | D83: MSｶｰﾄﾞ | H83: 消耗品費 | I83: その他 | K83: 課仕 10% | N83: 0 | O83: 2178 | P83: 1340081 | S83: =IFERROR(INDEX(クレカ!A:A, MATCH(1, (クレカ!A:A = MF!B83) * (クレカ!B:B = MF!O83), 0)), "未一致") -> 未一致
A84: 403 | B84: 45096 | C84: 未払金 | D84: MSｶｰﾄﾞ | H84: 旅費交通費 | I84: 駐車料金 | K84: 課仕 10% | N84: 0 | O84: 200 | P84: 1340281 | S84: =IFERROR(INDEX(クレカ!A:A, MATCH(1, (クレカ!A:A = MF!B84) * (クレカ!B:B = MF!O84), 0)), "未一致") -> 未一致
A85: 404 | B85: 45096 | C85: 未払金 | D85: MSｶｰﾄﾞ | H85: 消耗品費 | I85: その他 | K85: 課仕 10% | N85: 0 | O85: 19481 | P85: 1359762 | S85: =IFERROR(INDEX(クレカ!A:A, MATCH(1, (クレカ!A:A = MF!B85) * (クレカ!B:B = MF!O85), 0)), "未一致") -> 未一致
A86: 405 | B86: 45096 | C86: 未払金 | D86: MSｶｰﾄﾞ | H86: 旅費交通費 | I86: ETC料金 | K86: 課仕 10% | N86: 0 | O86: 370 | P86: 1360132 | S86: =IFERROR(INDEX(クレカ!A:A, MATCH(1, (クレカ!A:A = MF!B86) * (クレカ!B:B = MF!O86), 0)), "未一致") -> 未一致
A87: 406 | B87: 45096 | C87: 未払金 | D87: MSｶｰﾄﾞ | H87: 旅費交通費 | I87: ETC料金 | K87: 課仕 10% | N87: 0 | O87: 760 | P87: 1360892 | S87: =IFERROR(INDEX(クレカ!A:A, MATCH(1, (クレカ!A:A = MF!B87) * (クレカ!B:B = MF!O87), 0)), "未一致") -> 未一致
A88: 407 | B88: 45096 | C88: 未払金 | D88: MSｶｰﾄﾞ | H88: 旅費交通費 | I88: ETC料金 | K88: 課仕 10% | N88: 0 | O88: 470 | P88: 1361362 | S88: =IFERROR(INDEX(クレカ!A:A, MATCH(1, (クレカ!A:A = MF!B88) * (クレカ!B:B = MF!O88), 0)), "未一致") -> 未一致
A89: 408 | B89: 45096 | C89: 未払金 | D89: MSｶｰﾄﾞ | H89: 旅費交通費 | I89: ETC料金 | K89: 課仕 10% | N89: 0 | O89: 370 | P89: 1361732 | S89: =IFERROR(INDEX(クレカ!A:A, MATCH(1, (クレカ!A:A = MF!B89) * (クレカ!B:B = MF!O89), 0)), "未一致") -> 未一致
A90: 409 | B90: 45096 | C90: 未払金 | D90: MSｶｰﾄﾞ | H90: 旅費交通費 | I90: ETC料金 | K90: 課仕 10% | N90: 0 | O90: 300 | P90: 1362032 | S90: =IFERROR(INDEX(クレカ!A:A, MATCH(1, (クレカ!A:A = MF!B90) * (クレカ!B:B = MF!O90), 0)), "未一致") -> 未一致
A91: 410 | B91: 45096 | C91: 未払金 | D91: MSｶｰﾄﾞ | H91: 旅費交通費 | I91: ETC料金 | K91: 課仕 10% | N91: 0 | O91: 630 | P91: 1362662 | S91: =IFERROR(INDEX(クレカ!A:A, MATCH(1, (クレカ!A:A = MF!B91) * (クレカ!B:B = MF!O91), 0)), "未一致") -> 未一致
A92: 451 | B92: 45097 | C92: 未払金 | D92: MSｶｰﾄﾞ | H92: 事務用品費 | K92: 課仕 10% | N92: 0 | O92: 1129 | P92: 1363791 | S92: =IFERROR(INDEX(クレカ!A:A, MATCH(1, (クレカ!A:A = MF!B92) * (クレカ!B:B = MF!O92), 0)), "未一致") -> 未一致
A93: 452 | B93: 45097 | C93: 未払金 | D93: MSｶｰﾄﾞ | H93: 事務用品費 | K93: 課仕 10% | N93: 0 | O93: 3573 | P93: 1367364 | S93: =IFERROR(INDEX(クレカ!A:A, MATCH(1, (クレカ!A:A = MF!B93) * (クレカ!B:B = MF!O93), 0)), "未一致") -> 未一致
A94: 453 | B94: 45097 | C94: 未払金 | D94: MSｶｰﾄﾞ | H94: 消耗品費 | I94: その他 | K94: 課仕 10% | N94: 0 | O94: 5480 | P94: 1372844 | S94: =IFERROR(INDEX(クレカ!A:A, MATCH(1, (クレカ!A:A = MF!B94) * (クレカ!B:B = MF!O94), 0)), "未一致") -> 未一致
A95: 454 | B95: 45097 | C95: 未払金 | D95: MSｶｰﾄﾞ | H95: 旅費交通費 | I95: 駐車料金 | K95: 課仕 10% | N95: 0 | O95: 300 | P95: 1373144 | S95: =IFERROR(INDEX(クレカ!A:A, MATCH(1, (クレカ!A:A = MF!B95) * (クレカ!B:B = MF!O95), 0)), "未一致") -> 未一致
A96: 455 | B96: 45097 | C96: 未払金 | D96: MSｶｰﾄﾞ | H96: 旅費交通費 | I96: ETC料金 | K96: 課仕 10% | N96: 0 | O96: 370 | P96: 1373514 | S96: =IFERROR(INDEX(クレカ!A:A, MATCH(1, (クレカ!A:A = MF!B96) * (クレカ!B:B = MF!O96), 0)), "未一致") -> 未一致
A97: 468 | B97: 45098 | C97: 未払金 | D97: MSｶｰﾄﾞ | H97: 旅費交通費 | I97: 駐車料金 | K97: 課仕 10% | N97: 0 | O97: 800 | P97: 1374314 | S97: =IFERROR(INDEX(クレカ!A:A, MATCH(1, (クレカ!A:A = MF!B97) * (クレカ!B:B = MF!O97), 0)), "未一致") -> 未一致
A98: 469 | B98: 45098 | C98: 未払金 | D98: MSｶｰﾄﾞ | H98: 消耗品費 | I98: その他 | K98: 課仕 10% | N98: 0 | O98: 29990 | P98: 1404304 | S98: =IFERROR(INDEX(クレカ!A:A, MATCH(1, (クレカ!A:A = MF!B98) * (クレカ!B:B = MF!O98), 0)), "未一致") -> 未一致
A99: 470 | B99: 45098 | C99: 未払金 | D99: MSｶｰﾄﾞ | H99: 旅費交通費 | I99: ETC料金 | K99: 課仕 10% | N99: 0 | O99: 410 | P99: 1404714 | S99: =IFERROR(INDEX(クレカ!A:A, MATCH(1, (クレカ!A:A = MF!B99) * (クレカ!B:B = MF!O99), 0)), "未一致") -> 未一致
A100: 471 | B100: 45098 | C100: 未払金 | D100: MSｶｰﾄﾞ | H100: 旅費交通費 | I100: ETC料金 | K100: 課仕 10% | N100: 0 | O100: 580 | P100: 1405294 | S100: =IFERROR(INDEX(クレカ!A:A, MATCH(1, (クレカ!A:A = MF!B100) * (クレカ!B:B = MF!O100), 0)), "未一致") -> 未一致
A101: 472 | B101: 45098 | C101: 未払金 | D101: MSｶｰﾄﾞ | H101: 旅費交通費 | I101: ETC料金 | K101: 課仕 10% | N101: 0 | O101: 580 | P101: 1405874 | S101: =IFERROR(INDEX(クレカ!A:A, MATCH(1, (クレカ!A:A = MF!B101) * (クレカ!B:B = MF!O101), 0)), "未一致") -> 未一致
A102: 473 | B102: 45098 | C102: 未払金 | D102: MSｶｰﾄﾞ | H102: 旅費交通費 | I102: ETC料金 | K102: 課仕 10% | N102: 0 | O102: 470 | P102: 1406344 | S102: =IFERROR(INDEX(クレカ!A:A, MATCH(1, (クレカ!A:A = MF!B102) * (クレカ!B:B = MF!O102), 0)), "未一致") -> 未一致
A103: 474 | B103: 45098 | C103: 未払金 | D103: MSｶｰﾄﾞ | H103: 旅費交通費 | I103: ETC料金 | K103: 課仕 10% | N103: 0 | O103: 410 | P103: 1406754 | S103: =IFERROR(INDEX(クレカ!A:A, MATCH(1, (クレカ!A:A = MF!B103) * (クレカ!B:B = MF!O103), 0)), "未一致") -> 未一致
A104: 475 | B104: 45098 | C104: 未払金 | D104: MSｶｰﾄﾞ | H104: 旅費交通費 | I104: ETC料金 | K104: 課仕 10% | N104: 0 | O104: 470 | P104: 1407224 | S104: =IFERROR(INDEX(クレカ!A:A, MATCH(1, (クレカ!A:A = MF!B104) * (クレカ!B:B = MF!O104), 0)), "未一致") -> 未一致
A105: 476 | B105: 45098 | C105: 未払金 | D105: MSｶｰﾄﾞ | H105: 旅費交通費 | I105: ETC料金 | K105: 課仕 10% | N105: 0 | O105: 370 | P105: 1407594 | S105: =IFERROR(INDEX(クレカ!A:A, MATCH(1, (クレカ!A:A = MF!B105) * (クレカ!B:B = MF!O105), 0)), "未一致") -> 未一致
A106: 482 | B106: 45099 | C106: 未払金 | D106: MSｶｰﾄﾞ | H106: 諸口 | N106: 0 | O106: 100550 | P106: 1508144 | S106: =IFERROR(INDEX(クレカ!A:A, MATCH(1, (クレカ!A:A = MF!B106) * (クレカ!B:B = MF!O106), 0)), "未一致") -> 未一致
A107: 483 | B107: 45099 | C107: 未払金 | D107: MSｶｰﾄﾞ | H107: 旅費交通費 | I107: 駐車料金 | K107: 課仕 10% | N107: 0 | O107: 800 | P107: 1508944 | S107: =IFERROR(INDEX(クレカ!A:A, MATCH(1, (クレカ!A:A = MF!B107) * (クレカ!B:B = MF!O107), 0)), "未一致") -> 未一致
A108: 484 | B108: 45099 | C108: 未払金 | D108: MSｶｰﾄﾞ | H108: 旅費交通費 | I108: ETC料金 | K108: 課仕 10% | N108: 0 | O108: 390 | P108: 1509334 | S108: =IFERROR(INDEX(クレカ!A:A, MATCH(1, (クレカ!A:A = MF!B108) * (クレカ!B:B = MF!O108), 0)), "未一致") -> 未一致
A109: 485 | B109: 45099 | C109: 未払金 | D109: MSｶｰﾄﾞ | H109: 旅費交通費 | I109: ETC料金 | K109: 課仕 10% | N109: 0 | O109: 370 | P109: 1509704 | S109: =IFERROR(INDEX(クレカ!A:A, MATCH(1, (クレカ!A:A = MF!B109) * (クレカ!B:B = MF!O109), 0)), "未一致") -> 未一致
A110: 486 | B110: 45099 | C110: 未払金 | D110: MSｶｰﾄﾞ | H110: 旅費交通費 | I110: ETC料金 | K110: 課仕 10% | N110: 0 | O110: 390 | P110: 1510094 | S110: =IFERROR(INDEX(クレカ!A:A, MATCH(1, (クレカ!A:A = MF!B110) * (クレカ!B:B = MF!O110), 0)), "未一致") -> 未一致
A111: 487 | B111: 45099 | C111: 未払金 | D111: MSｶｰﾄﾞ | H111: 旅費交通費 | I111: ETC料金 | K111: 課仕 10% | N111: 0 | O111: 470 | P111: 1510564 | S111: =IFERROR(INDEX(クレカ!A:A, MATCH(1, (クレカ!A:A = MF!B111) * (クレカ!B:B = MF!O111), 0)), "未一致") -> 未一致
A112: 488 | B112: 45099 | C112: 未払金 | D112: MSｶｰﾄﾞ | H112: 旅費交通費 | I112: ETC料金 | K112: 課仕 10% | N112: 0 | O112: 470 | P112: 1511034 | S112: =IFERROR(INDEX(クレカ!A:A, MATCH(1, (クレカ!A:A = MF!B112) * (クレカ!B:B = MF!O112), 0)), "未一致") -> 未一致
A113: 489 | B113: 45099 | C113: 未払金 | D113: MSｶｰﾄﾞ | H113: 旅費交通費 | I113: ETC料金 | K113: 課仕 10% | N113: 0 | O113: 370 | P113: 1511404 | S113: =IFERROR(INDEX(クレカ!A:A, MATCH(1, (クレカ!A:A = MF!B113) * (クレカ!B:B = MF!O113), 0)), "未一致") -> 未一致
A114: 490 | B114: 45099 | C114: 未払金 | D114: MSｶｰﾄﾞ | H114: 旅費交通費 | I114: ETC料金 | K114: 課仕 10% | N114: 0 | O114: 730 | P114: 1512134 | S114: =IFERROR(INDEX(クレカ!A:A, MATCH(1, (クレカ!A:A = MF!B114) * (クレカ!B:B = MF!O114), 0)), "未一致") -> 未一致
A115: 491 | B115: 45099 | C115: 未払金 | D115: MSｶｰﾄﾞ | H115: 旅費交通費 | I115: ETC料金 | K115: 課仕 10% | N115: 0 | O115: 870 | P115: 1513004 | S115: =IFERROR(INDEX(クレカ!A:A, MATCH(1, (クレカ!A:A = MF!B115) * (クレカ!B:B = MF!O115), 0)), "未一致") -> 未一致
A116: 499 | B116: 45100 | C116: 未払金 | D116: MSｶｰﾄﾞ | H116: 福利厚生費 | I116: その他 | K116: 課仕 (軽)8% | N116: 0 | O116: 6424 | P116: 1519428 | S116: =IFERROR(INDEX(クレカ!A:A, MATCH(1, (クレカ!A:A = MF!B116) * (クレカ!B:B = MF!O116), 0)), "未一致") -> 未一致
A117: 500 | B117: 45100 | C117: 未払金 | D117: MSｶｰﾄﾞ | H117: 車両費 | I117: ｶﾞｿﾘﾝ代 | K117: 課仕 10% | N117: 0 | O117: 4689 | P117: 1524117 | S117: =IFERROR(INDEX(クレカ!A:A, MATCH(1, (クレカ!A:A = MF!B117) * (クレカ!B:B = MF!O117), 0)), "未一致") -> 未一致
A118: 501 | B118: 45100 | C118: 未払金 | D118: MSｶｰﾄﾞ | H118: 旅費交通費 | I118: ETC料金 | K118: 課仕 10% | N118: 0 | O118: 370 | P118: 1524487 | S118: =IFERROR(INDEX(クレカ!A:A, MATCH(1, (クレカ!A:A = MF!B118) * (クレカ!B:B = MF!O118), 0)), "未一致") -> 未一致
... A122: 518 | B122: 45101 | C122: 未払金 | D122: MSｶｰﾄﾞ | H122: 消耗品費 | I122: 検査関連 | K122: 課仕 10% | N122: 0 | O122: 1078 | P122: 1528435 | S122: =IFERROR(INDEX(クレカ!A:A, MATCH(1, (クレカ!A:A = MF!B122) * (クレカ!B:B = MF!O122), 0)), "未一致") -> 未一致
A123: 519 | B123: 45101 | C123: 未払金 | D123: MSｶｰﾄﾞ | H123: 交際費 | K123: 課仕 10% | N123: 0 | O123: 22404 | P123: 1550839 | S123: =IFERROR(INDEX(クレカ!A:A, MATCH(1, (クレカ!A:A = MF!B123) * (クレカ!B:B = MF!O123), 0)), "未一致") -> 未一致
A124: 520 | B124: 45101 | C124: 未払金 | D124: MSｶｰﾄﾞ | H124: 事務用品費 | K124: 課仕 (軽)8% | N124: 0 | O124: 10682 | P124: 1561521 | S124: =IFERROR(INDEX(クレカ!A:A, MATCH(1, (クレカ!A:A = MF!B124) * (クレカ!B:B = MF!O124), 0)), "未一致") -> 未一致
A125: 521 | B125: 45101 | C125: 未払金 | D125: MSｶｰﾄﾞ | H125: 旅費交通費 | I125: ETC料金 | K125: 課仕 10% | N125: 0 | O125: 360 | P125: 1561881 | S125: =IFERROR(INDEX(クレカ!A:A, MATCH(1, (クレカ!A:A = MF!B125) * (クレカ!B:B = MF!O125), 0)), "未一致") -> 未一致
A126: 522 | B126: 45101 | C126: 未払金 | D126: MSｶｰﾄﾞ | H126: 旅費交通費 | I126: ETC料金 | K126: 課仕 10% | N126: 0 | O126: 370 | P126: 1562251 | S126: =IFERROR(INDEX(クレカ!A:A, MATCH(1, (クレカ!A:A = MF!B126) * (クレカ!B:B = MF!O126), 0)), "未一致") -> 未一致
A127: 523 | B127: 45101 | C127: 未払金 | D127: MSｶｰﾄﾞ | H127: 旅費交通費 | I127: ETC料金 | K127: 課仕 10% | N127: 0 | O127: 420 | P127: 1562671 | S127: =IFERROR(INDEX(クレカ!A:A, MATCH(1, (クレカ!A:A = MF!B127) * (クレカ!B:B = MF!O127), 0)), "未一致") -> 未一致
A128: 524 | B128: 45101 | C128: 未払金 | D128: MSｶｰﾄﾞ | H128: 旅費交通費 | I128: ETC料金 | K128: 課仕 10% | N128: 0 | O128: 300 | P128: 1562971 | S128: =IFERROR(INDEX(クレカ!A:A, MATCH(1, (クレカ!A:A = MF!B128) * (クレカ!B:B = MF!O128), 0)), "未一致") -> 未一致
A129: 525 | B129: 45101 | C129: 未払金 | D129: MSｶｰﾄﾞ | H129: 旅費交通費 | I129: ETC料金 | K129: 課仕 10% | N129: 0 | O129: 420 | P129: 1563391 | S129: =IFERROR(INDEX(クレカ!A:A, MATCH(1, (クレカ!A:A = MF!B129) * (クレカ!B:B = MF!O129), 0)), "未一致") -> 未一致
A130: 530 | B130: 45102 | C130: 未払金 | D130: MSｶｰﾄﾞ | H130: 事務用品費 | K130: 課仕 10% | N130: 0 | O130: 682 | P130: 1564073 | S130: =IFERROR(INDEX(クレカ!A:A, MATCH(1, (クレカ!A:A = MF!B130) * (クレカ!B:B = MF!O130), 0)), "未一致") -> 未一致
A131: 539 | B131: 45103 | C131: 未払金 | D131: MSｶｰﾄﾞ | H131: 旅費交通費 | I131: 駐車料金 | K131: 課仕 10% | N131: 0 | O131: 1500 | P131: 1565573 | S131: =IFERROR(INDEX(クレカ!A:A, MATCH(1, (クレカ!A:A = MF!B131) * (クレカ!B:B = MF!O131), 0)), "未一致") -> 未一致
A132: 540 | B132: 45103 | C132: 未払金 | D132: MSｶｰﾄﾞ | H132: 旅費交通費 | I132: ETC料金 | K132: 課仕 10% | N132: 0 | O132: 370 | P132: 1565943 | S132: =IFERROR(INDEX(クレカ!A:A, MATCH(1, (クレカ!A:A = MF!B132) * (クレカ!B:B = MF!O132), 0)), "未一致") -> 未一致
A133: 541 | B133: 45103 | C133: 未払金 | D133: MSｶｰﾄﾞ | H133: 旅費交通費 | I133: ETC料金 | K133: 課仕 10% | N133: 0 | O133: 370 | P133: 1566313 | S133: =IFERROR(INDEX(クレカ!A:A, MATCH(1, (クレカ!A:A = MF!B133) * (クレカ!B:B = MF!O133), 0)), "未一致") -> 未一致
A134: 542 | B134: 45103 | C134: 未払金 | D134: MSｶｰﾄﾞ | H134: 旅費交通費 | I134: ETC料金 | K134: 課仕 10% | N134: 0 | O134: 370 | P134: 1566683 | S134: =IFERROR(INDEX(クレカ!A:A, MATCH(1, (クレカ!A:A = MF!B134) * (クレカ!B:B = MF!O134), 0)), "未一致") -> 未一致
A135: 543 | B135: 45103 | C135: 未払金 | D135: MSｶｰﾄﾞ | H135: 旅費交通費 | I135: ETC料金 | K135: 課仕 10% | N135: 0 | O135: 370 | P135: 1567053 | S135: =IFERROR(INDEX(クレカ!A:A, MATCH(1, (クレカ!A:A = MF!B135) * (クレカ!B:B = MF!O135), 0)), "未一致") -> 未一致
A136: 544 | B136: 45103 | C136: 未払金 | D136: MSｶｰﾄﾞ | H136: 旅費交通費 | I136: ETC料金 | K136: 課仕 10% | N136: 0 | O136: 930 | P136: 1567983 | S136: =IFERROR(INDEX(クレカ!A:A, MATCH(1, (クレカ!A:A = MF!B136) * (クレカ!B:B = MF!O136), 0)), "未一致") -> 未一致
...

Sheet クレカ
A1: 45079 | B1: 6664
A2: 45080 | B2: -2060
A3: 45082 | B3: 3103
A4: 45082 | B4: 7540
A5: 45082 | B5: 4400
A6: 45083 | B6: 1728
A7: 45083 | B7: 1540
A8: 45083 | B8: 14061
A9: 45083 | B9: 1287
A10: 45083 | B10: 4554
A11: 45083 | B11: 14320
A12: 45083 | B12: 14320
... A431: 45169 | B431: 10307
