Workbook
Name AP: 予算!$P$2:$P$193
Name calc1: 予算!$J$2:$J$193
Name D: 見積D!$F$2:$F$2030
Name DNP: 予算!$N$2:$N$193
Name EC: 予算!$M$2:$M$193
Name EU13_: 実績!$J$2:$J$147
Name LABEU: 予算!$T$2:$T$193
Name LAB業者: 予算!$U$2:$U$193
Name recno: 予算!$A$2:$A$193
Name SP: 予算!$Q$2:$Q$193
Name TB: 予算!$R$2:$R$193
Name その他: 予算!$S$2:$S$193
Name ナンバー13D: 実績D!$T$2:$T$932
Name ナンバーD: 見積D!$O$2:$O$2030
Name ラボ13: 実績!$Q$2:$Q$147
Name ラボ13D: 実績D!$Q$2:$Q$932
Name ラボ見積: 見積!$J$2:$J$490
Name ラボ見積D: 見積D!$M$2:$M$2030
Name リピート判別13: 実績!$P$2:$P$147
Name リピート判別13D: 実績D!$N$2:$N$932
Name 案件状況: 見積!$F$2:$F$490
Name 案件状況13: 実績!$F$2:$F$147
Name 案件状況13D: 実績D!$F$2:$F$932
Name 開始時間: 行動!$A$2:$A$137
Name 活動目的: 行動!$D$2:$D$137
Name 期中内13: 実績!$S$2:$S$147
Name 期中内13D: 実績D!$P$2:$P$932
Name 期中内見積: 見積!$L$2:$L$490
Name 期中内見積D: 見積D!$K$2:$K$2030
Name 繰返し_1: 見積!$A$2:$P$2
Name 繰返し_2: 予算!$A$2:$W$2
Name 繰返し_3: 実績!$A$2:$U$2
Name 繰返し_4: 行動!$A$2:$I$2
Name 繰返し_5: 見積D!$A$2:$O$2
Name 繰返し_6: 実績D!$A$2:$T$2
Name 繰返し_7: 顧客!$A$2:$F$2
Name 月: 見積!$O$2:$O$490
Name 月13: 実績!$U$2:$U$147
Name 月行動: 行動!$I$2:$I$137
Name 件数行動: 行動!$F$2:$F$137
Name 見積額: 見積!$C$2:$C$490
Name 見積額13: 実績!$E$2:$E$147
Name 見積額13D: 実績D!$E$2:$E$932
Name 見積額D: 見積D!$C$2:$C$2030
Name 見積数: 見積!$D$2:$D$490
Name 見積数13: 実績!$H$2:$H$147
Name 見積数13D: 実績D!$H$2:$H$932
Name 見積数D: 見積D!$D$2:$D$2030
Name 顧客側担当者No: 顧客!$E$2:$E$1387
Name 顧客担当者名: 見積!$H$2:$H$490
Name 顧客担当者名13: 実績!$L$2:$L$147
Name 顧客担当者名13D: 実績D!$J$2:$J$932
Name 顧客担当者名D: 見積D!$H$2:$H$2030
Name 顧客名: 顧客!$B$2:$B$1387
Name 顧客名13: 実績!$I$2:$I$147
Name 顧客名13D: 実績D!$I$2:$I$932
Name 顧客名見積: 見積!$M$2:$M$490
Name 顧客名見積D: 見積D!$L$2:$L$2030
Name 顧客名行動: 行動!$E$2:$E$137
Name 工事日: 見積!$E$2:$E$490

Sheet 1課合計
A1: 方針会議資料案（Ver1.00） | I1: 【1課】 | O1: 対象日： | R1: 45596 | V1: 対象MTG名： | Z1: 【営業方針会議】
A13: ■個人実績
G14: 合計 | L14: 10月 | Q14: 11月 | V14: 12月 | AA14: 1Q小計 | AF14: 1月 | AK14: 2月 | AP14: 3月 | AU14: 2Q小計 | AZ14: 4月 | BE14: 5月 | BJ14: 6月 | BO14: 3Q小計 | BT14: 7月 | BY14: 8月 | CD14: 9月 | CI14: 4Q小計
G15: 実績 | J15: 比率 | L15: 実績 | O15: 比率 | Q15: 実績 | T15: 比率 | V15: 実績 | Y15: 比率 | AA15: 実績 | AD15: 比率 | AF15: 実績 | AI15: 比率 | AK15: 実績 | AN15: 比率 | AP15: 実績 | AS15: 比率 | AU15: 実績 | AX15: 比率 | AZ15: 実績 | BC15: 比率 | BE15: 実績 | BH15: 比率 | BJ15: 実績 | BM15: 比率 | BO15: 実績 | BR15: 比率 | BT15: 実績 | BW15: 比率 | BY15: 実績 | CB15: 比率 | CD15: 実績 | CG15: 比率 | CI15: 実績 | CL15: 比率
A16: 行動数目標 | G16: =A!G16+B!G16+'C'!G16+D!G16 -> 0 | L16: =A!L16+B!L16+'C'!L16+D!L16 -> 0 | Q16: =A!Q16+B!Q16+'C'!Q16+D!Q16 -> 0 | V16: =A!V16+B!V16+'C'!V16+D!V16 -> 0 | AA16: =A!AA16+B!AA16+'C'!AA16+D!AA16 -> 0 | AF16: =A!AF16+B!AF16+'C'!AF16+D!AF16 -> 0 | AK16: =A!AK16+B!AK16+'C'!AK16+D!AK16 -> 0 | AP16: =A!AP16+B!AP16+'C'!AP16+D!AP16 -> 0 | AU16: =A!AU16+B!AU16+'C'!AU16+D!AU16 -> 0 | AZ16: =A!AZ16+B!AZ16+'C'!AZ16+D!AZ16 -> 0 | BE16: =A!BE16+B!BE16+'C'!BE16+D!BE16 -> 0 | BJ16: =A!BJ16+B!BJ16+'C'!BJ16+D!BJ16 -> 0 | BO16: =A!BO16+B!BO16+'C'!BO16+D!BO16 -> 0 | BT16: =A!BT16+B!BT16+'C'!BT16+D!BT16 -> 0 | BY16: =A!BY16+B!BY16+'C'!BY16+D!BY16 -> 0 | CD16: =A!CD16+B!CD16+'C'!CD16+D!CD16 -> 0 | CI16: =A!CI16+B!CI16+'C'!CI16+D!CI16 -> 0
A17: 行動数 | G17: =A!G17+B!G17+'C'!G17+D!G17 -> 0 | J17: =G17/G16 -> #DIV/0! | L17: =A!L17+B!L17+'C'!L17+D!L17 -> 0 | O17: =L17/L16 -> #DIV/0! | Q17: =A!Q17+B!Q17+'C'!Q17+D!Q17 -> 0 | T17: =Q17/Q16 -> #DIV/0! | V17: =A!V17+B!V17+'C'!V17+D!V17 -> 0 | Y17: =V17/V16 -> #DIV/0! | AA17: =A!AA17+B!AA17+'C'!AA17+D!AA17 -> 0 | AD17: =AA17/AA16 -> #DIV/0! | AF17: =A!AF17+B!AF17+'C'!AF17+D!AF17 -> 0 | AI17: =AF17/AF16 -> #DIV/0! | AK17: =A!AK17+B!AK17+'C'!AK17+D!AK17 -> 0 | AN17: =AK17/AK16 -> #DIV/0! | AP17: =A!AP17+B!AP17+'C'!AP17+D!AP17 -> 0 | AS17: =AP17/AP16 -> #DIV/0! | AU17: =A!AU17+B!AU17+'C'!AU17+D!AU17 -> 0 | AX17: =AU17/AU16 -> #DIV/0! | AZ17: =A!AZ17+B!AZ17+'C'!AZ17+D!AZ17 -> 0 | BC17: =AZ17/AZ16 -> #DIV/0! | BE17: =A!BE17+B!BE17+'C'!BE17+D!BE17 -> 0 | BH17: =BE17/BE16 -> #DIV/0! | BJ17: =A!BJ17+B!BJ17+'C'!BJ17+D!BJ17 -> 0 | BM17: =BJ17/BJ16 -> #DIV/0! | BO17: =A!BO17+B!BO17+'C'!BO17+D!BO17 -> 0 | BR17: =BO17/BO16 -> #DIV/0! | BT17: =A!BT17+B!BT17+'C'!BT17+D!BT17 -> 0 | BW17: =BT17/BT16 -> #DIV/0! | BY17: =A!BY17+B!BY17+'C'!BY17+D!BY17 -> 0 | CB17: =BY17/BY16 -> #DIV/0! | CD17: =A!CD17+B!CD17+'C'!CD17+D!CD17 -> 0 | CG17: =CD17/CD16 -> #DIV/0! | CI17: =A!CI17+B!CI17+'C'!CI17+D!CI17 -> 0 | CL17: =CI17/CI16 -> #DIV/0!
A18: 見積数目標 | G18: =A!G18+B!G18+'C'!G18+D!G18 -> 0 | L18: =A!L18+B!L18+'C'!L18+D!L18 -> 0 | Q18: =A!Q18+B!Q18+'C'!Q18+D!Q18 -> 0 | V18: =A!V18+B!V18+'C'!V18+D!V18 -> 0 | AA18: =A!AA18+B!AA18+'C'!AA18+D!AA18 -> 0 | AF18: =A!AF18+B!AF18+'C'!AF18+D!AF18 -> 0 | AK18: =A!AK18+B!AK18+'C'!AK18+D!AK18 -> 0 | AP18: =A!AP18+B!AP18+'C'!AP18+D!AP18 -> 0 | AU18: =A!AU18+B!AU18+'C'!AU18+D!AU18 -> 0 | AZ18: =A!AZ18+B!AZ18+'C'!AZ18+D!AZ18 -> 0 | BE18: =A!BE18+B!BE18+'C'!BE18+D!BE18 -> 0 | BJ18: =A!BJ18+B!BJ18+'C'!BJ18+D!BJ18 -> 0 | BO18: =A!BO18+B!BO18+'C'!BO18+D!BO18 -> 0 | BT18: =A!BT18+B!BT18+'C'!BT18+D!BT18 -> 0 | BY18: =A!BY18+B!BY18+'C'!BY18+D!BY18 -> 0 | CD18: =A!CD18+B!CD18+'C'!CD18+D!CD18 -> 0 | CI18: =A!CI18+B!CI18+'C'!CI18+D!CI18 -> 0
A19: 見積数 | G19: =A!G19+B!G19+'C'!G19+D!G19 -> 0 | J19: =G19/G18 -> #DIV/0! | L19: =A!L19+B!L19+'C'!L19+D!L19 -> 0 | O19: =L19/L18 -> #DIV/0! | Q19: =A!Q19+B!Q19+'C'!Q19+D!Q19 -> 0 | T19: =Q19/Q18 -> #DIV/0! | V19: =A!V19+B!V19+'C'!V19+D!V19 -> 0 | Y19: =V19/V18 -> #DIV/0! | AA19: =A!AA19+B!AA19+'C'!AA19+D!AA19 -> 0 | AD19: =AA19/AA18 -> #DIV/0! | AF19: =A!AF19+B!AF19+'C'!AF19+D!AF19 -> 0 | AI19: =AF19/AF18 -> #DIV/0! | AK19: =A!AK19+B!AK19+'C'!AK19+D!AK19 -> 0 | AN19: =AK19/AK18 -> #DIV/0! | AP19: =A!AP19+B!AP19+'C'!AP19+D!AP19 -> 0 | AS19: =AP19/AP18 -> #DIV/0! | AU19: =A!AU19+B!AU19+'C'!AU19+D!AU19 -> 0 | AX19: =AU19/AU18 -> #DIV/0! | AZ19: =A!AZ19+B!AZ19+'C'!AZ19+D!AZ19 -> 0 | BC19: =AZ19/AZ18 -> #DIV/0! | BE19: =A!BE19+B!BE19+'C'!BE19+D!BE19 -> 0 | BH19: =BE19/BE18 -> #DIV/0! | BJ19: =A!BJ19+B!BJ19+'C'!BJ19+D!BJ19 -> 0 | BM19: =BJ19/BJ18 -> #DIV/0! | BO19: =A!BO19+B!BO19+'C'!BO19+D!BO19 -> 0 | BR19: =BO19/BO18 -> #DIV/0! | BT19: =A!BT19+B!BT19+'C'!BT19+D!BT19 -> 0 | BW19: =BT19/BT18 -> #DIV/0! | BY19: =A!BY19+B!BY19+'C'!BY19+D!BY19 -> 0 | CB19: =BY19/BY18 -> #DIV/0! | CD19: =A!CD19+B!CD19+'C'!CD19+D!CD19 -> 0 | CG19: =CD19/CD18 -> #DIV/0! | CI19: =A!CI19+B!CI19+'C'!CI19+D!CI19 -> 0 | CL19: =CI19/CI18 -> #DIV/0!
A20: 売上目標 | G20: =A!G20+B!G20+'C'!G20+D!G20 -> 0 | L20: =A!L20+B!L20+'C'!L20+D!L20 -> 0 | Q20: =A!Q20+B!Q20+'C'!Q20+D!Q20 -> 0 | V20: =A!V20+B!V20+'C'!V20+D!V20 -> 0 | AA20: =A!AA20+B!AA20+'C'!AA20+D!AA20 -> 0 | AF20: =A!AF20+B!AF20+'C'!AF20+D!AF20 -> 0 | AK20: =A!AK20+B!AK20+'C'!AK20+D!AK20 -> 0 | AP20: =A!AP20+B!AP20+'C'!AP20+D!AP20 -> 0 | AU20: =A!AU20+B!AU20+'C'!AU20+D!AU20 -> 0 | AZ20: =A!AZ20+B!AZ20+'C'!AZ20+D!AZ20 -> 0 | BE20: =A!BE20+B!BE20+'C'!BE20+D!BE20 -> 0 | BJ20: =A!BJ20+B!BJ20+'C'!BJ20+D!BJ20 -> 0 | BO20: =A!BO20+B!BO20+'C'!BO20+D!BO20 -> 0 | BT20: =A!BT20+B!BT20+'C'!BT20+D!BT20 -> 0 | BY20: =A!BY20+B!BY20+'C'!BY20+D!BY20 -> 0 | CD20: =A!CD20+B!CD20+'C'!CD20+D!CD20 -> 0 | CI20: =A!CI20+B!CI20+'C'!CI20+D!CI20 -> 0
A21: AP | G21: =A!G21+B!G21+'C'!G21+D!G21 -> 0 | L21: =A!L21+B!L21+'C'!L21+D!L21 -> 0 | Q21: =A!Q21+B!Q21+'C'!Q21+D!Q21 -> 0 | V21: =A!V21+B!V21+'C'!V21+D!V21 -> 0 | AA21: =A!AA21+B!AA21+'C'!AA21+D!AA21 -> 0 | AF21: =A!AF21+B!AF21+'C'!AF21+D!AF21 -> 0 | AK21: =A!AK21+B!AK21+'C'!AK21+D!AK21 -> 0 | AP21: =A!AP21+B!AP21+'C'!AP21+D!AP21 -> 0 | AU21: =A!AU21+B!AU21+'C'!AU21+D!AU21 -> 0 | AZ21: =A!AZ21+B!AZ21+'C'!AZ21+D!AZ21 -> 0 | BE21: =A!BE21+B!BE21+'C'!BE21+D!BE21 -> 0 | BJ21: =A!BJ21+B!BJ21+'C'!BJ21+D!BJ21 -> 0 | BO21: =A!BO21+B!BO21+'C'!BO21+D!BO21 -> 0 | BT21: =A!BT21+B!BT21+'C'!BT21+D!BT21 -> 0 | BY21: =A!BY21+B!BY21+'C'!BY21+D!BY21 -> 0 | CD21: =A!CD21+B!CD21+'C'!CD21+D!CD21 -> 0 | CI21: =A!CI21+B!CI21+'C'!CI21+D!CI21 -> 0
A22: SP | G22: =A!G22+B!G22+'C'!G22+D!G22 -> 0 | L22: =A!L22+B!L22+'C'!L22+D!L22 -> 0 | Q22: =A!Q22+B!Q22+'C'!Q22+D!Q22 -> 0 | V22: =A!V22+B!V22+'C'!V22+D!V22 -> 0 | AA22: =A!AA22+B!AA22+'C'!AA22+D!AA22 -> 0 | AF22: =A!AF22+B!AF22+'C'!AF22+D!AF22 -> 0 | AK22: =A!AK22+B!AK22+'C'!AK22+D!AK22 -> 0 | AP22: =A!AP22+B!AP22+'C'!AP22+D!AP22 -> 0 | AU22: =A!AU22+B!AU22+'C'!AU22+D!AU22 -> 0 | AZ22: =A!AZ22+B!AZ22+'C'!AZ22+D!AZ22 -> 0 | BE22: =A!BE22+B!BE22+'C'!BE22+D!BE22 -> 0 | BJ22: =A!BJ22+B!BJ22+'C'!BJ22+D!BJ22 -> 0 | BO22: =A!BO22+B!BO22+'C'!BO22+D!BO22 -> 0 | BT22: =A!BT22+B!BT22+'C'!BT22+D!BT22 -> 0 | BY22: =A!BY22+B!BY22+'C'!BY22+D!BY22 -> 0 | CD22: =A!CD22+B!CD22+'C'!CD22+D!CD22 -> 0 | CI22: =A!CI22+B!CI22+'C'!CI22+D!CI22 -> 0
A23: TB | G23: =A!G23+B!G23+'C'!G23+D!G23 -> 0 | L23: =A!L23+B!L23+'C'!L23+D!L23 -> 0 | Q23: =A!Q23+B!Q23+'C'!Q23+D!Q23 -> 0 | V23: =A!V23+B!V23+'C'!V23+D!V23 -> 0 | AA23: =A!AA23+B!AA23+'C'!AA23+D!AA23 -> 0 | AF23: =A!AF23+B!AF23+'C'!AF23+D!AF23 -> 0 | AK23: =A!AK23+B!AK23+'C'!AK23+D!AK23 -> 0 | AP23: =A!AP23+B!AP23+'C'!AP23+D!AP23 -> 0 | AU23: =A!AU23+B!AU23+'C'!AU23+D!AU23 -> 0 | AZ23: =A!AZ23+B!AZ23+'C'!AZ23+D!AZ23 -> 0 | BE23: =A!BE23+B!BE23+'C'!BE23+D!BE23 -> 0 | BJ23: =A!BJ23+B!BJ23+'C'!BJ23+D!BJ23 -> 0 | BO23: =A!BO23+B!BO23+'C'!BO23+D!BO23 -> 0 | BT23: =A!BT23+B!BT23+'C'!BT23+D!BT23 -> 0 | BY23: =A!BY23+B!BY23+'C'!BY23+D!BY23 -> 0 | CD23: =A!CD23+B!CD23+'C'!CD23+D!CD23 -> 0 | CI23: =A!CI23+B!CI23+'C'!CI23+D!CI23 -> 0
A24: その他 | G24: =A!G24+B!G24+'C'!G24+D!G24 -> 0 | L24: =A!L24+B!L24+'C'!L24+D!L24 -> 0 | Q24: =A!Q24+B!Q24+'C'!Q24+D!Q24 -> 0 | V24: =A!V24+B!V24+'C'!V24+D!V24 -> 0 | AA24: =A!AA24+B!AA24+'C'!AA24+D!AA24 -> 0 | AF24: =A!AF24+B!AF24+'C'!AF24+D!AF24 -> 0 | AK24: =A!AK24+B!AK24+'C'!AK24+D!AK24 -> 0 | AP24: =A!AP24+B!AP24+'C'!AP24+D!AP24 -> 0 | AU24: =A!AU24+B!AU24+'C'!AU24+D!AU24 -> 0 | AZ24: =A!AZ24+B!AZ24+'C'!AZ24+D!AZ24 -> 0 | BE24: =A!BE24+B!BE24+'C'!BE24+D!BE24 -> 0 | BJ24: =A!BJ24+B!BJ24+'C'!BJ24+D!BJ24 -> 0 | BO24: =A!BO24+B!BO24+'C'!BO24+D!BO24 -> 0 | BT24: =A!BT24+B!BT24+'C'!BT24+D!BT24 -> 0 | BY24: =A!BY24+B!BY24+'C'!BY24+D!BY24 -> 0 | CD24: =A!CD24+B!CD24+'C'!CD24+D!CD24 -> 0 | CI24: =A!CI24+B!CI24+'C'!CI24+D!CI24 -> 0
A25: 売上実績 | G25: =A!G25+B!G25+'C'!G25+D!G25 -> 0 | J25: =G25/G20 -> #DIV/0! | L25: =A!L25+B!L25+'C'!L25+D!L25 -> 0 | O25: =L25/L20 -> #DIV/0! | Q25: =A!Q25+B!Q25+'C'!Q25+D!Q25 -> 0 | T25: =Q25/Q20 -> #DIV/0! | V25: =A!V25+B!V25+'C'!V25+D!V25 -> 0 | Y25: =V25/V20 -> #DIV/0! | AA25: =A!AA25+B!AA25+'C'!AA25+D!AA25 -> 0 | AD25: =AA25/AA20 -> #DIV/0! | AF25: =A!AF25+B!AF25+'C'!AF25+D!AF25 -> 0 | AI25: =AF25/AF20 -> #DIV/0! | AK25: =A!AK25+B!AK25+'C'!AK25+D!AK25 -> 0 | AN25: =AK25/AK20 -> #DIV/0! | AP25: =A!AP25+B!AP25+'C'!AP25+D!AP25 -> 0 | AS25: =AP25/AP20 -> #DIV/0! | AU25: =A!AU25+B!AU25+'C'!AU25+D!AU25 -> 0 | AX25: =AU25/AU20 -> #DIV/0! | AZ25: =A!AZ25+B!AZ25+'C'!AZ25+D!AZ25 -> 0 | BC25: =AZ25/AZ20 -> #DIV/0! | BE25: =A!BE25+B!BE25+'C'!BE25+D!BE25 -> 0 | BH25: =BE25/BE20 -> #DIV/0! | BJ25: =A!BJ25+B!BJ25+'C'!BJ25+D!BJ25 -> 0 | BM25: =BJ25/BJ20 -> #DIV/0! | BO25: =A!BO25+B!BO25+'C'!BO25+D!BO25 -> 0 | BR25: =BO25/BO20 -> #DIV/0! | BT25: =A!BT25+B!BT25+'C'!BT25+D!BT25 -> 0 | BW25: =BT25/BT20 -> #DIV/0! | BY25: =A!BY25+B!BY25+'C'!BY25+D!BY25 -> 0 | CB25: =BY25/BY20 -> #DIV/0! | CD25: =A!CD25+B!CD25+'C'!CD25+D!CD25 -> 0 | CG25: =CD25/CD20 -> #DIV/0! | CI25: =A!CI25+B!CI25+'C'!CI25+D!CI25 -> 0 | CL25: =CI25/CI20 -> #DIV/0!
A26: AP | G26: =A!G26+B!G26+'C'!G26+D!G26 -> 0 | J26: =G26/G21 -> #DIV/0! | L26: =A!L26+B!L26+'C'!L26+D!L26 -> 0 | O26: =L26/L21 -> #DIV/0! | Q26: =A!Q26+B!Q26+'C'!Q26+D!Q26 -> 0 | T26: =Q26/Q21 -> #DIV/0! | V26: =A!V26+B!V26+'C'!V26+D!V26 -> 0 | Y26: =V26/V21 -> #DIV/0! | AA26: =A!AA26+B!AA26+'C'!AA26+D!AA26 -> 0 | AD26: =AA26/AA21 -> #DIV/0! | AF26: =A!AF26+B!AF26+'C'!AF26+D!AF26 -> 0 | AI26: =AF26/AF21 -> #DIV/0! | AK26: =A!AK26+B!AK26+'C'!AK26+D!AK26 -> 0 | AN26: =AK26/AK21 -> #DIV/0! | AP26: =A!AP26+B!AP26+'C'!AP26+D!AP26 -> 0 | AS26: =AP26/AP21 -> #DIV/0! | AU26: =A!AU26+B!AU26+'C'!AU26+D!AU26 -> 0 | AX26: =AU26/AU21 -> #DIV/0! | AZ26: =A!AZ26+B!AZ26+'C'!AZ26+D!AZ26 -> 0 | BC26: =AZ26/AZ21 -> #DIV/0! | BE26: =A!BE26+B!BE26+'C'!BE26+D!BE26 -> 0 | BH26: =BE26/BE21 -> #DIV/0! | BJ26: =A!BJ26+B!BJ26+'C'!BJ26+D!BJ26 -> 0 | BM26: =BJ26/BJ21 -> #DIV/0! | BO26: =A!BO26+B!BO26+'C'!BO26+D!BO26 -> 0 | BR26: =BO26/BO21 -> #DIV/0! | BT26: =A!BT26+B!BT26+'C'!BT26+D!BT26 -> 0 | BW26: =BT26/BT21 -> #DIV/0! | BY26: =A!BY26+B!BY26+'C'!BY26+D!BY26 -> 0 | CB26: =BY26/BY21 -> #DIV/0! | CD26: =A!CD26+B!CD26+'C'!CD26+D!CD26 -> 0 | CG26: =CD26/CD21 -> #DIV/0! | CI26: =A!CI26+B!CI26+'C'!CI26+D!CI26 -> 0 | CL26: =CI26/CI21 -> #DIV/0!
A27: SP | G27: =A!G27+B!G27+'C'!G27+D!G27 -> 0 | J27: =G27/G22 -> #DIV/0! | L27: =A!L27+B!L27+'C'!L27+D!L27 -> 0 | O27: =L27/L22 -> #DIV/0! | Q27: =A!Q27+B!Q27+'C'!Q27+D!Q27 -> 0 | T27: =Q27/Q22 -> #DIV/0! | V27: =A!V27+B!V27+'C'!V27+D!V27 -> 0 | Y27: =V27/V22 -> #DIV/0! | AA27: =A!AA27+B!AA27+'C'!AA27+D!AA27 -> 0 | AD27: =AA27/AA22 -> #DIV/0! | AF27: =A!AF27+B!AF27+'C'!AF27+D!AF27 -> 0 | AI27: =AF27/AF22 -> #DIV/0! | AK27: =A!AK27+B!AK27+'C'!AK27+D!AK27 -> 0 | AN27: =AK27/AK22 -> #DIV/0! | AP27: =A!AP27+B!AP27+'C'!AP27+D!AP27 -> 0 | AS27: =AP27/AP22 -> #DIV/0! | AU27: =A!AU27+B!AU27+'C'!AU27+D!AU27 -> 0 | AX27: =AU27/AU22 -> #DIV/0! | AZ27: =A!AZ27+B!AZ27+'C'!AZ27+D!AZ27 -> 0 | BC27: =AZ27/AZ22 -> #DIV/0! | BE27: =A!BE27+B!BE27+'C'!BE27+D!BE27 -> 0 | BH27: =BE27/BE22 -> #DIV/0! | BJ27: =A!BJ27+B!BJ27+'C'!BJ27+D!BJ27 -> 0 | BM27: =BJ27/BJ22 -> #DIV/0! | BO27: =A!BO27+B!BO27+'C'!BO27+D!BO27 -> 0 | BR27: =BO27/BO22 -> #DIV/0! | BT27: =A!BT27+B!BT27+'C'!BT27+D!BT27 -> 0 | BW27: =BT27/BT22 -> #DIV/0! | BY27: =A!BY27+B!BY27+'C'!BY27+D!BY27 -> 0 | CB27: =BY27/BY22 -> #DIV/0! | CD27: =A!CD27+B!CD27+'C'!CD27+D!CD27 -> 0 | CG27: =CD27/CD22 -> #DIV/0! | CI27: =A!CI27+B!CI27+'C'!CI27+D!CI27 -> 0 | CL27: =CI27/CI22 -> #DIV/0!
A28: TB | G28: =A!G28+B!G28+'C'!G28+D!G28 -> 0 | J28: =G28/G23 -> #DIV/0! | L28: =A!L28+B!L28+'C'!L28+D!L28 -> 0 | O28: =L28/L23 -> #DIV/0! | Q28: =A!Q28+B!Q28+'C'!Q28+D!Q28 -> 0 | T28: =Q28/Q23 -> #DIV/0! | V28: =A!V28+B!V28+'C'!V28+D!V28 -> 0 | Y28: =V28/V23 -> #DIV/0! | AA28: =A!AA28+B!AA28+'C'!AA28+D!AA28 -> 0 | AD28: =AA28/AA23 -> #DIV/0! | AF28: =A!AF28+B!AF28+'C'!AF28+D!AF28 -> 0 | AI28: =AF28/AF23 -> #DIV/0! | AK28: =A!AK28+B!AK28+'C'!AK28+D!AK28 -> 0 | AN28: =AK28/AK23 -> #DIV/0! | AP28: =A!AP28+B!AP28+'C'!AP28+D!AP28 -> 0 | AS28: =AP28/AP23 -> #DIV/0! | AU28: =A!AU28+B!AU28+'C'!AU28+D!AU28 -> 0 | AX28: =AU28/AU23 -> #DIV/0! | AZ28: =A!AZ28+B!AZ28+'C'!AZ28+D!AZ28 -> 0 | BC28: =AZ28/AZ23 -> #DIV/0! | BE28: =A!BE28+B!BE28+'C'!BE28+D!BE28 -> 0 | BH28: =BE28/BE23 -> #DIV/0! | BJ28: =A!BJ28+B!BJ28+'C'!BJ28+D!BJ28 -> 0 | BM28: =BJ28/BJ23 -> #DIV/0! | BO28: =A!BO28+B!BO28+'C'!BO28+D!BO28 -> 0 | BR28: =BO28/BO23 -> #DIV/0! | BT28: =A!BT28+B!BT28+'C'!BT28+D!BT28 -> 0 | BW28: =BT28/BT23 -> #DIV/0! | BY28: =A!BY28+B!BY28+'C'!BY28+D!BY28 -> 0 | CB28: =BY28/BY23 -> #DIV/0! | CD28: =A!CD28+B!CD28+'C'!CD28+D!CD28 -> 0 | CG28: =CD28/CD23 -> #DIV/0! | CI28: =A!CI28+B!CI28+'C'!CI28+D!CI28 -> 0 | CL28: =CI28/CI23 -> #DIV/0!
A29: その他 | G29: =A!G29+B!G29+'C'!G29+D!G29 -> 0 | J29: =G29/G24 -> #DIV/0! | L29: =A!L29+B!L29+'C'!L29+D!L29 -> 0 | O29: =L29/L24 -> #DIV/0! | Q29: =A!Q29+B!Q29+'C'!Q29+D!Q29 -> 0 | T29: =Q29/Q24 -> #DIV/0! | V29: =A!V29+B!V29+'C'!V29+D!V29 -> 0 | Y29: =V29/V24 -> #DIV/0! | AA29: =A!AA29+B!AA29+'C'!AA29+D!AA29 -> 0 | AD29: =AA29/AA24 -> #DIV/0! | AF29: =A!AF29+B!AF29+'C'!AF29+D!AF29 -> 0 | AI29: =AF29/AF24 -> #DIV/0! | AK29: =A!AK29+B!AK29+'C'!AK29+D!AK29 -> 0 | AN29: =AK29/AK24 -> #DIV/0! | AP29: =A!AP29+B!AP29+'C'!AP29+D!AP29 -> 0 | AS29: =AP29/AP24 -> #DIV/0! | AU29: =A!AU29+B!AU29+'C'!AU29+D!AU29 -> 0 | AX29: =AU29/AU24 -> #DIV/0! | AZ29: =A!AZ29+B!AZ29+'C'!AZ29+D!AZ29 -> 0 | BC29: =AZ29/AZ24 -> #DIV/0! | BE29: =A!BE29+B!BE29+'C'!BE29+D!BE29 -> 0 | BH29: =BE29/BE24 -> #DIV/0! | BJ29: =A!BJ29+B!BJ29+'C'!BJ29+D!BJ29 -> 0 | BM29: =BJ29/BJ24 -> #DIV/0! | BO29: =A!BO29+B!BO29+'C'!BO29+D!BO29 -> 0 | BR29: =BO29/BO24 -> #DIV/0! | BT29: =A!BT29+B!BT29+'C'!BT29+D!BT29 -> 0 | BW29: =BT29/BT24 -> #DIV/0! | BY29: =A!BY29+B!BY29+'C'!BY29+D!BY29 -> 0 | CB29: =BY29/BY24 -> #DIV/0! | CD29: =A!CD29+B!CD29+'C'!CD29+D!CD29 -> 0 | CG29: =CD29/CD24 -> #DIV/0! | CI29: =A!CI29+B!CI29+'C'!CI29+D!CI29 -> 0 | CL29: =CI29/CI24 -> #DIV/0!
A30: 受注件数 | G30: =A!G30+B!G30+'C'!G30+D!G30 -> 0 | L30: =A!L30+B!L30+'C'!L30+D!L30 -> 0 | Q30: =A!Q30+B!Q30+'C'!Q30+D!Q30 -> 0 | V30: =A!V30+B!V30+'C'!V30+D!V30 -> 0 | AA30: =A!AA30+B!AA30+'C'!AA30+D!AA30 -> 0 | AF30: =A!AF30+B!AF30+'C'!AF30+D!AF30 -> 0 | AK30: =A!AK30+B!AK30+'C'!AK30+D!AK30 -> 0 | AP30: =A!AP30+B!AP30+'C'!AP30+D!AP30 -> 0 | AU30: =A!AU30+B!AU30+'C'!AU30+D!AU30 -> 0 | AZ30: =A!AZ30+B!AZ30+'C'!AZ30+D!AZ30 -> 0 | BE30: =A!BE30+B!BE30+'C'!BE30+D!BE30 -> 0 | BJ30: =A!BJ30+B!BJ30+'C'!BJ30+D!BJ30 -> 0 | BO30: =A!BO30+B!BO30+'C'!BO30+D!BO30 -> 0 | BT30: =A!BT30+B!BT30+'C'!BT30+D!BT30 -> 0 | BY30: =A!BY30+B!BY30+'C'!BY30+D!BY30 -> 0 | CD30: =A!CD30+B!CD30+'C'!CD30+D!CD30 -> 0 | CI30: =A!CI30+B!CI30+'C'!CI30+D!CI30 -> 0
A31: 受注率 | G31: =G30/G19 -> #DIV/0! | L31: =L30/L19 -> #DIV/0! | Q31: =Q30/Q19 -> #DIV/0! | V31: =V30/V19 -> #DIV/0! | AA31: =AA30/AA19 -> #DIV/0! | AF31: =AF30/AF19 -> #DIV/0! | AK31: =AK30/AK19 -> #DIV/0! | AP31: =AP30/AP19 -> #DIV/0! | AU31: =AU30/AU19 -> #DIV/0! | AZ31: =AZ30/AZ19 -> #DIV/0! | BE31: =BE30/BE19 -> #DIV/0! | BJ31: =BJ30/BJ19 -> #DIV/0! | BO31: =BO30/BO19 -> #DIV/0! | BT31: =BT30/BT19 -> #DIV/0! | BY31: =BY30/BY19 -> #DIV/0! | CD31: =CD30/CD19 -> #DIV/0! | CI31: =CI30/CI19 -> #DIV/0!
A32: 受注単価 | G32: =G25/G30 -> #DIV/0! | L32: =L25/L30 -> #DIV/0! | Q32: =Q25/Q30 -> #DIV/0! | V32: =V25/V30 -> #DIV/0! | AA32: =AA25/AA30 -> #DIV/0! | AF32: =AF25/AF30 -> #DIV/0! | AK32: =AK25/AK30 -> #DIV/0! | AP32: =AP25/AP30 -> #DIV/0! | AU32: =AU25/AU30 -> #DIV/0! | AZ32: =AZ25/AZ30 -> #DIV/0! | BE32: =BE25/BE30 -> #DIV/0! | BJ32: =BJ25/BJ30 -> #DIV/0! | BO32: =BO25/BO30 -> #DIV/0! | BT32: =BT25/BT30 -> #DIV/0! | BY32: =BY25/BY30 -> #DIV/0! | CD32: =CD25/CD30 -> #DIV/0! | CI32: =CI25/CI30 -> #DIV/0!
A33: 販利目標 | G33: =A!G33+B!G33+'C'!G33+D!G33 -> 0 | L33: =A!L33+B!L33+'C'!L33+D!L33 -> 0 | Q33: =A!Q33+B!Q33+'C'!Q33+D!Q33 -> 0 | V33: =A!V33+B!V33+'C'!V33+D!V33 -> 0 | AA33: =A!AA33+B!AA33+'C'!AA33+D!AA33 -> 0 | AF33: =A!AF33+B!AF33+'C'!AF33+D!AF33 -> 0 | AK33: =A!AK33+B!AK33+'C'!AK33+D!AK33 -> 0 | AP33: =A!AP33+B!AP33+'C'!AP33+D!AP33 -> 0 | AU33: =A!AU33+B!AU33+'C'!AU33+D!AU33 -> 0 | AZ33: =A!AZ33+B!AZ33+'C'!AZ33+D!AZ33 -> 0 | BE33: =A!BE33+B!BE33+'C'!BE33+D!BE33 -> 0 | BJ33: =A!BJ33+B!BJ33+'C'!BJ33+D!BJ33 -> 0 | BO33: =A!BO33+B!BO33+'C'!BO33+D!BO33 -> 0 | BT33: =A!BT33+B!BT33+'C'!BT33+D!BT33 -> 0 | BY33: =A!BY33+B!BY33+'C'!BY33+D!BY33 -> 0 | CD33: =A!CD33+B!CD33+'C'!CD33+D!CD33 -> 0 | CI33: =A!CI33+B!CI33+'C'!CI33+D!CI33 -> 0
A34: 販利率目標 | G34: =G33/G20 -> #DIV/0! | L34: =L33/L20 -> #DIV/0! | Q34: =Q33/Q20 -> #DIV/0! | V34: =V33/V20 -> #DIV/0! | AA34: =AA33/AA20 -> #DIV/0! | AF34: =AF33/AF20 -> #DIV/0! | AK34: =AK33/AK20 -> #DIV/0! | AP34: =AP33/AP20 -> #DIV/0! | AU34: =AU33/AU20 -> #DIV/0! | AZ34: =AZ33/AZ20 -> #DIV/0! | BE34: =BE33/BE20 -> #DIV/0! | BJ34: =BJ33/BJ20 -> #DIV/0! | BO34: =BO33/BO20 -> #DIV/0! | BT34: =BT33/BT20 -> #DIV/0! | BY34: =BY33/BY20 -> #DIV/0! | CD34: =CD33/CD20 -> #DIV/0! | CI34: =CI33/CI20 -> #DIV/0!
A35: 販利（予算） | G35: =A!G35+B!G35+'C'!G35 -> 0 | J35: =G35/G33 -> #DIV/0! | L35: =A!L35+B!L35+'C'!L35 -> 0 | O35: =L35/L33 -> #DIV/0! | Q35: =A!Q35+B!Q35+'C'!Q35 -> 0 | T35: =Q35/Q33 -> #DIV/0! | V35: =A!V35+B!V35+'C'!V35 -> 0 | Y35: =V35/V33 -> #DIV/0! | AA35: =A!AA35+B!AA35+'C'!AA35 -> 0 | AD35: =AA35/AA33 -> #DIV/0! | AF35: =A!AF35+B!AF35+'C'!AF35 -> 0 | AI35: =AF35/AF33 -> #DIV/0! | AK35: =A!AK35+B!AK35+'C'!AK35 -> 0 | AN35: =AK35/AK33 -> #DIV/0! | AP35: =A!AP35+B!AP35+'C'!AP35 -> 0 | AS35: =AP35/AP33 -> #DIV/0! | AU35: =A!AU35+B!AU35+'C'!AU35 -> 0 | AX35: =AU35/AU33 -> #DIV/0! | AZ35: =A!AZ35+B!AZ35+'C'!AZ35 -> 0 | BC35: =AZ35/AZ33 -> #DIV/0! | BE35: =A!BE35+B!BE35+'C'!BE35 -> 0 | BH35: =BE35/BE33 -> #DIV/0! | BJ35: =A!BJ35+B!BJ35+'C'!BJ35 -> 0 | BM35: =BJ35/BJ33 -> #DIV/0! | BO35: =A!BO35+B!BO35+'C'!BO35 -> 0 | BR35: =BO35/BO33 -> #DIV/0! | BT35: =A!BT35+B!BT35+'C'!BT35 -> 0 | BW35: =BT35/BT33 -> #DIV/0! | BY35: =A!BY35+B!BY35+'C'!BY35 -> 0 | CB35: =BY35/BY33 -> #DIV/0! | CD35: =A!CD35+B!CD35+'C'!CD35 -> 0 | CG35: =CD35/CD33 -> #DIV/0! | CI35: =A!CI35+B!CI35+'C'!CI35 -> 0 | CL35: =CI35/CI33 -> #DIV/0!
A36: 販利率（予算） | G36: =G35/G25 -> #DIV/0! | L36: =L35/L25 -> #DIV/0! | Q36: =Q35/Q25 -> #DIV/0! | V36: =V35/V25 -> #DIV/0! | AA36: =AA35/AA25 -> #DIV/0! | AF36: =AF35/AF25 -> #DIV/0! | AK36: =AK35/AK25 -> #DIV/0! | AP36: =AP35/AP25 -> #DIV/0! | AU36: =AU35/AU25 -> #DIV/0! | AZ36: =AZ35/AZ25 -> #DIV/0! | BE36: =BE35/BE25 -> #DIV/0! | BJ36: =BJ35/BJ25 -> #DIV/0! | BO36: =BO35/BO25 -> #DIV/0! | BT36: =BT35/BT25 -> #DIV/0! | BY36: =BY35/BY25 -> #DIV/0! | CD36: =CD35/CD25 -> #DIV/0! | CI36: =CI35/CI25 -> #DIV/0!
A37: AP | G37: =AA37+AU37+BO37+CI37 -> 0 | J37: =G37/G26 -> #DIV/0! | L37: =AF37+AZ37+BT37+CN37 -> 0 | O37: =L37/L26 -> #DIV/0! | Q37: =AK37+BE37+BY37+CS37 -> 0 | T37: =Q37/Q26 -> #DIV/0! | V37: =AP37+BJ37+CD37+CX37 -> 0 | Y37: =V37/V26 -> #DIV/0! | AA37: =AU37+BO37+CI37+DC37 -> 0 | AD37: =AA37/AA26 -> #DIV/0! | AF37: =AZ37+BT37+CN37+DH37 -> 0 | AI37: =AF37/AF26 -> #DIV/0! | AK37: =BE37+BY37+CS37+DM37 -> 0 | AN37: =AK37/AK26 -> #DIV/0! | AP37: =BJ37+CD37+CX37+DR37 -> 0 | AS37: =AP37/AP26 -> #DIV/0! | AU37: =BO37+CI37+DC37+DW37 -> 0 | AX37: =AU37/AU26 -> #DIV/0! | AZ37: =BT37+CN37+DH37+EB37 -> 0 | BC37: =AZ37/AZ26 -> #DIV/0! | BE37: =BY37+CS37+DM37+EG37 -> 0 | BH37: =BE37/BE26 -> #DIV/0! | BJ37: =CD37+CX37+DR37+EL37 -> 0 | BM37: =BJ37/BJ26 -> #DIV/0! | BO37: =CI37+DC37+DW37+EQ37 -> 0 | BR37: =BO37/BO26 -> #DIV/0! | BT37: =CN37+DH37+EB37+EV37 -> 0 | BW37: =BT37/BT26 -> #DIV/0! | BY37: =CS37+DM37+EG37+FA37 -> 0 | CB37: =BY37/BY26 -> #DIV/0! | CD37: =CX37+DR37+EL37+FF37 -> 0 | CG37: =CD37/CD26 -> #DIV/0! | CI37: =DC37+DW37+EQ37+FK37 -> 0 | CL37: =CI37/CI26 -> #DIV/0!
A38: SP | G38: =AA38+AU38+BO38+CI38 -> 0 | J38: =G38/G27 -> #DIV/0! | L38: =AF38+AZ38+BT38+CN38 -> 0 | O38: =L38/L27 -> #DIV/0! | Q38: =AK38+BE38+BY38+CS38 -> 0 | T38: =Q38/Q27 -> #DIV/0! | V38: =AP38+BJ38+CD38+CX38 -> 0 | Y38: =V38/V27 -> #DIV/0! | AA38: =AU38+BO38+CI38+DC38 -> 0 | AD38: =AA38/AA27 -> #DIV/0! | AF38: =AZ38+BT38+CN38+DH38 -> 0 | AI38: =AF38/AF27 -> #DIV/0! | AK38: =BE38+BY38+CS38+DM38 -> 0 | AN38: =AK38/AK27 -> #DIV/0! | AP38: =BJ38+CD38+CX38+DR38 -> 0 | AS38: =AP38/AP27 -> #DIV/0! | AU38: =BO38+CI38+DC38+DW38 -> 0 | AX38: =AU38/AU27 -> #DIV/0! | AZ38: =BT38+CN38+DH38+EB38 -> 0 | BC38: =AZ38/AZ27 -> #DIV/0! | BE38: =BY38+CS38+DM38+EG38 -> 0 | BH38: =BE38/BE27 -> #DIV/0! | BJ38: =CD38+CX38+DR38+EL38 -> 0 | BM38: =BJ38/BJ27 -> #DIV/0! | BO38: =CI38+DC38+DW38+EQ38 -> 0 | BR38: =BO38/BO27 -> #DIV/0! | BT38: =CN38+DH38+EB38+EV38 -> 0 | BW38: =BT38/BT27 -> #DIV/0! | BY38: =CS38+DM38+EG38+FA38 -> 0 | CB38: =BY38/BY27 -> #DIV/0! | CD38: =CX38+DR38+EL38+FF38 -> 0 | CG38: =CD38/CD27 -> #DIV/0! | CI38: =DC38+DW38+EQ38+FK38 -> 0 | CL38: =CI38/CI27 -> #DIV/0!
A39: TB | G39: =AA39+AU39+BO39+CI39 -> 0 | J39: =G39/G28 -> #DIV/0! | L39: =AF39+AZ39+BT39+CN39 -> 0 | O39: =L39/L28 -> #DIV/0! | Q39: =AK39+BE39+BY39+CS39 -> 0 | T39: =Q39/Q28 -> #DIV/0! | V39: =AP39+BJ39+CD39+CX39 -> 0 | Y39: =V39/V28 -> #DIV/0! | AA39: =AU39+BO39+CI39+DC39 -> 0 | AD39: =AA39/AA28 -> #DIV/0! | AF39: =AZ39+BT39+CN39+DH39 -> 0 | AI39: =AF39/AF28 -> #DIV/0! | AK39: =BE39+BY39+CS39+DM39 -> 0 | AN39: =AK39/AK28 -> #DIV/0! | AP39: =BJ39+CD39+CX39+DR39 -> 0 | AS39: =AP39/AP28 -> #DIV/0! | AU39: =BO39+CI39+DC39+DW39 -> 0 | AX39: =AU39/AU28 -> #DIV/0! | AZ39: =BT39+CN39+DH39+EB39 -> 0 | BC39: =AZ39/AZ28 -> #DIV/0! | BE39: =BY39+CS39+DM39+EG39 -> 0 | BH39: =BE39/BE28 -> #DIV/0! | BJ39: =CD39+CX39+DR39+EL39 -> 0 | BM39: =BJ39/BJ28 -> #DIV/0! | BO39: =CI39+DC39+DW39+EQ39 -> 0 | BR39: =BO39/BO28 -> #DIV/0! | BT39: =CN39+DH39+EB39+EV39 -> 0 | BW39: =BT39/BT28 -> #DIV/0! | BY39: =CS39+DM39+EG39+FA39 -> 0 | CB39: =BY39/BY28 -> #DIV/0! | CD39: =CX39+DR39+EL39+FF39 -> 0 | CG39: =CD39/CD28 -> #DIV/0! | CI39: =DC39+DW39+EQ39+FK39 -> 0 | CL39: =CI39/CI28 -> #DIV/0!
A40: その他 | G40: =AA40+AU40+BO40+CI40 -> 0 | J40: =G40/G29 -> #DIV/0! | L40: =AF40+AZ40+BT40+CN40 -> 0 | O40: =L40/L29 -> #DIV/0! | Q40: =AK40+BE40+BY40+CS40 -> 0 | T40: =Q40/Q29 -> #DIV/0! | V40: =AP40+BJ40+CD40+CX40 -> 0 | Y40: =V40/V29 -> #DIV/0! | AA40: =AU40+BO40+CI40+DC40 -> 0 | AD40: =AA40/AA29 -> #DIV/0! | AF40: =AZ40+BT40+CN40+DH40 -> 0 | AI40: =AF40/AF29 -> #DIV/0! | AK40: =BE40+BY40+CS40+DM40 -> 0 | AN40: =AK40/AK29 -> #DIV/0! | AP40: =BJ40+CD40+CX40+DR40 -> 0 | AS40: =AP40/AP29 -> #DIV/0! | AU40: =BO40+CI40+DC40+DW40 -> 0 | AX40: =AU40/AU29 -> #DIV/0! | AZ40: =BT40+CN40+DH40+EB40 -> 0 | BC40: =AZ40/AZ29 -> #DIV/0! | BE40: =BY40+CS40+DM40+EG40 -> 0 | BH40: =BE40/BE29 -> #DIV/0! | BJ40: =CD40+CX40+DR40+EL40 -> 0 | BM40: =BJ40/BJ29 -> #DIV/0! | BO40: =CI40+DC40+DW40+EQ40 -> 0 | BR40: =BO40/BO29 -> #DIV/0! | BT40: =CN40+DH40+EB40+EV40 -> 0 | BW40: =BT40/BT29 -> #DIV/0! | BY40: =CS40+DM40+EG40+FA40 -> 0 | CB40: =BY40/BY29 -> #DIV/0! | CD40: =CX40+DR40+EL40+FF40 -> 0 | CG40: =CD40/CD29 -> #DIV/0! | CI40: =DC40+DW40+EQ40+FK40 -> 0 | CL40: =CI40/CI29 -> #DIV/0!
A41: 販利（実行） | G41: =A!G41+B!G41+'C'!G41+D!G41 -> 0 | J41: =G41/G33 -> #DIV/0! | L41: =A!L41+B!L41+'C'!L41+D!L41 -> 0 | O41: =L41/L33 -> #DIV/0! | Q41: =A!Q41+B!Q41+'C'!Q41+D!Q41 -> 0 | T41: =Q41/Q33 -> #DIV/0! | V41: =A!V41+B!V41+'C'!V41+D!V41 -> 0 | Y41: =V41/V33 -> #DIV/0! | AA41: =A!AA41+B!AA41+'C'!AA41+D!AA41 -> 0 | AD41: =AA41/AA33 -> #DIV/0! | AF41: =A!AF41+B!AF41+'C'!AF41+D!AF41 -> 0 | AI41: =AF41/AF33 -> #DIV/0! | AK41: =A!AK41+B!AK41+'C'!AK41+D!AK41 -> 0 | AN41: =AK41/AK33 -> #DIV/0! | AP41: =A!AP41+B!AP41+'C'!AP41+D!AP41 -> 0 | AS41: =AP41/AP33 -> #DIV/0! | AU41: =A!AU41+B!AU41+'C'!AU41+D!AU41 -> 0 | AX41: =AU41/AU33 -> #DIV/0! | AZ41: =A!AZ41+B!AZ41+'C'!AZ41+D!AZ41 -> 0 | BC41: =AZ41/AZ33 -> #DIV/0! | BE41: =A!BE41+B!BE41+'C'!BE41+D!BE41 -> 0 | BH41: =BE41/BE33 -> #DIV/0! | BJ41: =A!BJ41+B!BJ41+'C'!BJ41+D!BJ41 -> 0 | BM41: =BJ41/BJ33 -> #DIV/0! | BO41: =A!BO41+B!BO41+'C'!BO41+D!BO41 -> 0 | BR41: =BO41/BO33 -> #DIV/0! | BT41: =A!BT41+B!BT41+'C'!BT41+D!BT41 -> 0 | BW41: =BT41/BT33 -> #DIV/0! | BY41: =A!BY41+B!BY41+'C'!BY41+D!BY41 -> 0 | CB41: =BY41/BY33 -> #DIV/0! | CD41: =A!CD41+B!CD41+'C'!CD41+D!CD41 -> 0 | CG41: =CD41/CD33 -> #DIV/0! | CI41: =A!CI41+B!CI41+'C'!CI41+D!CI41 -> 0 | CL41: =CI41/CI33 -> #DIV/0!
A42: 販利率（実行） | G42: =G41/G25 -> #DIV/0! | L42: =L41/L25 -> #DIV/0! | Q42: =Q41/Q25 -> #DIV/0! | V42: =V41/V25 -> #DIV/0! | AA42: =AA41/AA25 -> #DIV/0! | AF42: =AF41/AF25 -> #DIV/0! | AK42: =AK41/AK25 -> #DIV/0! | AP42: =AP41/AP25 -> #DIV/0! | AU42: =AU41/AU25 -> #DIV/0! | AZ42: =AZ41/AZ25 -> #DIV/0! | BE42: =BE41/BE25 -> #DIV/0! | BJ42: =BJ41/BJ25 -> #DIV/0! | BO42: =BO41/BO25 -> #DIV/0! | BT42: =BT41/BT25 -> #DIV/0! | BY42: =BY41/BY25 -> #DIV/0! | CD42: =CD41/CD25 -> #DIV/0! | CI42: =CI41/CI25 -> #DIV/0!
A43: AP | G43: =A!G43+B!G43+'C'!G43+D!G43 -> 0 | J43: =G43/G26 -> #DIV/0! | L43: =A!L43+B!L43+'C'!L43+D!L43 -> 0 | O43: =L43/L26 -> #DIV/0! | Q43: =A!Q43+B!Q43+'C'!Q43+D!Q43 -> 0 | T43: =Q43/Q26 -> #DIV/0! | V43: =A!V43+B!V43+'C'!V43+D!V43 -> 0 | Y43: =V43/V26 -> #DIV/0! | AA43: =A!AA43+B!AA43+'C'!AA43+D!AA43 -> 0 | AD43: =AA43/AA26 -> #DIV/0! | AF43: =A!AF43+B!AF43+'C'!AF43+D!AF43 -> 0 | AI43: =AF43/AF26 -> #DIV/0! | AK43: =A!AK43+B!AK43+'C'!AK43+D!AK43 -> 0 | AN43: =AK43/AK26 -> #DIV/0! | AP43: =A!AP43+B!AP43+'C'!AP43+D!AP43 -> 0 | AS43: =AP43/AP26 -> #DIV/0! | AU43: =A!AU43+B!AU43+'C'!AU43+D!AU43 -> 0 | AX43: =AU43/AU26 -> #DIV/0! | AZ43: =A!AZ43+B!AZ43+'C'!AZ43+D!AZ43 -> 0 | BC43: =AZ43/AZ26 -> #DIV/0! | BE43: =A!BE43+B!BE43+'C'!BE43+D!BE43 -> 0 | BH43: =BE43/BE26 -> #DIV/0! | BJ43: =A!BJ43+B!BJ43+'C'!BJ43+D!BJ43 -> 0 | BM43: =BJ43/BJ26 -> #DIV/0! | BO43: =A!BO43+B!BO43+'C'!BO43+D!BO43 -> 0 | BR43: =BO43/BO26 -> #DIV/0! | BT43: =A!BT43+B!BT43+'C'!BT43+D!BT43 -> 0 | BW43: =BT43/BT26 -> #DIV/0! | BY43: =A!BY43+B!BY43+'C'!BY43+D!BY43 -> 0 | CB43: =BY43/BY26 -> #DIV/0! | CD43: =A!CD43+B!CD43+'C'!CD43+D!CD43 -> 0 | CG43: =CD43/CD26 -> #DIV/0! | CI43: =A!CI43+B!CI43+'C'!CI43+D!CI43 -> 0 | CL43: =CI43/CI26 -> #DIV/0!
A44: SP | G44: =A!G44+B!G44+'C'!G44+D!G44 -> 0 | J44: =G44/G27 -> #DIV/0! | L44: =A!L44+B!L44+'C'!L44+D!L44 -> 0 | O44: =L44/L27 -> #DIV/0! | Q44: =A!Q44+B!Q44+'C'!Q44+D!Q44 -> 0 | T44: =Q44/Q27 -> #DIV/0! | V44: =A!V44+B!V44+'C'!V44+D!V44 -> 0 | Y44: =V44/V27 -> #DIV/0! | AA44: =A!AA44+B!AA44+'C'!AA44+D!AA44 -> 0 | AD44: =AA44/AA27 -> #DIV/0! | AF44: =A!AF44+B!AF44+'C'!AF44+D!AF44 -> 0 | AI44: =AF44/AF27 -> #DIV/0! | AK44: =A!AK44+B!AK44+'C'!AK44+D!AK44 -> 0 | AN44: =AK44/AK27 -> #DIV/0! | AP44: =A!AP44+B!AP44+'C'!AP44+D!AP44 -> 0 | AS44: =AP44/AP27 -> #DIV/0! | AU44: =A!AU44+B!AU44+'C'!AU44+D!AU44 -> 0 | AX44: =AU44/AU27 -> #DIV/0! | AZ44: =A!AZ44+B!AZ44+'C'!AZ44+D!AZ44 -> 0 | BC44: =AZ44/AZ27 -> #DIV/0! | BE44: =A!BE44+B!BE44+'C'!BE44+D!BE44 -> 0 | BH44: =BE44/BE27 -> #DIV/0! | BJ44: =A!BJ44+B!BJ44+'C'!BJ44+D!BJ44 -> 0 | BM44: =BJ44/BJ27 -> #DIV/0! | BO44: =A!BO44+B!BO44+'C'!BO44+D!BO44 -> 0 | BR44: =BO44/BO27 -> #DIV/0! | BT44: =A!BT44+B!BT44+'C'!BT44+D!BT44 -> 0 | BW44: =BT44/BT27 -> #DIV/0! | BY44: =A!BY44+B!BY44+'C'!BY44+D!BY44 -> 0 | CB44: =BY44/BY27 -> #DIV/0! | CD44: =A!CD44+B!CD44+'C'!CD44+D!CD44 -> 0 | CG44: =CD44/CD27 -> #DIV/0! | CI44: =A!CI44+B!CI44+'C'!CI44+D!CI44 -> 0 | CL44: =CI44/CI27 -> #DIV/0!
A45: TB | G45: =A!G45+B!G45+'C'!G45+D!G45 -> 0 | J45: =G45/G28 -> #DIV/0! | L45: =A!L45+B!L45+'C'!L45+D!L45 -> 0 | O45: =L45/L28 -> #DIV/0! | Q45: =A!Q45+B!Q45+'C'!Q45+D!Q45 -> 0 | T45: =Q45/Q28 -> #DIV/0! | V45: =A!V45+B!V45+'C'!V45+D!V45 -> 0 | Y45: =V45/V28 -> #DIV/0! | AA45: =A!AA45+B!AA45+'C'!AA45+D!AA45 -> 0 | AD45: =AA45/AA28 -> #DIV/0! | AF45: =A!AF45+B!AF45+'C'!AF45+D!AF45 -> 0 | AI45: =AF45/AF28 -> #DIV/0! | AK45: =A!AK45+B!AK45+'C'!AK45+D!AK45 -> 0 | AN45: =AK45/AK28 -> #DIV/0! | AP45: =A!AP45+B!AP45+'C'!AP45+D!AP45 -> 0 | AS45: =AP45/AP28 -> #DIV/0! | AU45: =A!AU45+B!AU45+'C'!AU45+D!AU45 -> 0 | AX45: =AU45/AU28 -> #DIV/0! | AZ45: =A!AZ45+B!AZ45+'C'!AZ45+D!AZ45 -> 0 | BC45: =AZ45/AZ28 -> #DIV/0! | BE45: =A!BE45+B!BE45+'C'!BE45+D!BE45 -> 0 | BH45: =BE45/BE28 -> #DIV/0! | BJ45: =A!BJ45+B!BJ45+'C'!BJ45+D!BJ45 -> 0 | BM45: =BJ45/BJ28 -> #DIV/0! | BO45: =A!BO45+B!BO45+'C'!BO45+D!BO45 -> 0 | BR45: =BO45/BO28 -> #DIV/0! | BT45: =A!BT45+B!BT45+'C'!BT45+D!BT45 -> 0 | BW45: =BT45/BT28 -> #DIV/0! | BY45: =A!BY45+B!BY45+'C'!BY45+D!BY45 -> 0 | CB45: =BY45/BY28 -> #DIV/0! | CD45: =A!CD45+B!CD45+'C'!CD45+D!CD45 -> 0 | CG45: =CD45/CD28 -> #DIV/0! | CI45: =A!CI45+B!CI45+'C'!CI45+D!CI45 -> 0 | CL45: =CI45/CI28 -> #DIV/0!
A46: その他 | G46: =A!G46+B!G46+'C'!G46+D!G46 -> 0 | J46: =G46/G29 -> #DIV/0! | L46: =A!L46+B!L46+'C'!L46+D!L46 -> 0 | O46: =L46/L29 -> #DIV/0! | Q46: =A!Q46+B!Q46+'C'!Q46+D!Q46 -> 0 | T46: =Q46/Q29 -> #DIV/0! | V46: =A!V46+B!V46+'C'!V46+D!V46 -> 0 | Y46: =V46/V29 -> #DIV/0! | AA46: =A!AA46+B!AA46+'C'!AA46+D!AA46 -> 0 | AD46: =AA46/AA29 -> #DIV/0! | AF46: =A!AF46+B!AF46+'C'!AF46+D!AF46 -> 0 | AI46: =AF46/AF29 -> #DIV/0! | AK46: =A!AK46+B!AK46+'C'!AK46+D!AK46 -> 0 | AN46: =AK46/AK29 -> #DIV/0! | AP46: =A!AP46+B!AP46+'C'!AP46+D!AP46 -> 0 | AS46: =AP46/AP29 -> #DIV/0! | AU46: =A!AU46+B!AU46+'C'!AU46+D!AU46 -> 0 | AX46: =AU46/AU29 -> #DIV/0! | AZ46: =A!AZ46+B!AZ46+'C'!AZ46+D!AZ46 -> 0 | BC46: =AZ46/AZ29 -> #DIV/0! | BE46: =A!BE46+B!BE46+'C'!BE46+D!BE46 -> 0 | BH46: =BE46/BE29 -> #DIV/0! | BJ46: =A!BJ46+B!BJ46+'C'!BJ46+D!BJ46 -> 0 | BM46: =BJ46/BJ29 -> #DIV/0! | BO46: =A!BO46+B!BO46+'C'!BO46+D!BO46 -> 0 | BR46: =BO46/BO29 -> #DIV/0! | BT46: =A!BT46+B!BT46+'C'!BT46+D!BT46 -> 0 | BW46: =BT46/BT29 -> #DIV/0! | BY46: =A!BY46+B!BY46+'C'!BY46+D!BY46 -> 0 | CB46: =BY46/BY29 -> #DIV/0! | CD46: =A!CD46+B!CD46+'C'!CD46+D!CD46 -> 0 | CG46: =CD46/CD29 -> #DIV/0! | CI46: =A!CI46+B!CI46+'C'!CI46+D!CI46 -> 0 | CL46: =CI46/CI29 -> #DIV/0!
A47: 販利（予実差異） | G47: =A!G47+B!G47+'C'!G47 -> 0 | L47: =A!L47+B!L47+'C'!L47 -> 0 | Q47: =A!Q47+B!Q47+'C'!Q47 -> 0 | V47: =A!V47+B!V47+'C'!V47 -> 0 | AA47: =A!AA47+B!AA47+'C'!AA47 -> 0 | AF47: =A!AF47+B!AF47+'C'!AF47 -> 0 | AK47: =A!AK47+B!AK47+'C'!AK47 -> 0 | AP47: =A!AP47+B!AP47+'C'!AP47 -> 0 | AU47: =A!AU47+B!AU47+'C'!AU47 -> 0 | AZ47: =A!AZ47+B!AZ47+'C'!AZ47 -> 0 | BE47: =A!BE47+B!BE47+'C'!BE47 -> 0 | BJ47: =A!BJ47+B!BJ47+'C'!BJ47 -> 0 | BO47: =A!BO47+B!BO47+'C'!BO47 -> 0 | BT47: =A!BT47+B!BT47+'C'!BT47 -> 0 | BY47: =A!BY47+B!BY47+'C'!BY47 -> 0 | CD47: =A!CD47+B!CD47+'C'!CD47 -> 0 | CI47: =A!CI47+B!CI47+'C'!CI47 -> 0
G48: ※1：A確定+B確定+見込C | Q48: ※2：A確定+B確定 | Y48: ※3と※4：A確定
A50: 【次々月予測用フォーム】 | AF50: 【次月予測用フォーム】 | BQ50: 【当月予測用フォーム】
A51: 〇合計〇 | AF51: 〇合計〇 | BQ51: 〇合計〇
A52: 対象月 | G52: 予測値 | L52: A | O52: B | R52: C | U52: 合計 | X52: 予算 | AA52: 達成率 | AC52: 必要 見積数 | AF52: 対象月 | AL52: A | AO52: B | AR52: A+B | AU52: 予算 | AX52: 達成率 | BA52: C | BD52: A+B+C | BG52: 予算 | BJ52: 達成率 | BQ52: 対象月 | BW52: A | BZ52: B | CC52: A+B | CF52: 予算 | CI52: 達成率
...

Sheet A
A1: 方針会議資料案（Ver1.00） | I1: 担当者 | K1: A | O1: 対象日： | R1: ='1課合計'!R1 -> 45596 | V1: 対象MTG名： | Z1: ='1課合計'!Z1 -> 【営業方針会議】
A13: ■個人実績
G14: 合計 | L14: 10月 | Q14: 11月 | V14: 12月 | AA14: 1Q小計 | AF14: 1月 | AK14: 2月 | AP14: 3月 | AU14: 2Q小計 | AZ14: 4月 | BE14: 5月 | BJ14: 6月 | BO14: 3Q小計 | BT14: 7月 | BY14: 8月 | CD14: 9月 | CI14: 4Q小計
G15: 実績 | J15: 比率 | L15: 実績 | O15: 比率 | Q15: 実績 | T15: 比率 | V15: 実績 | Y15: 比率 | AA15: 実績 | AD15: 比率 | AF15: 実績 | AI15: 比率 | AK15: 実績 | AN15: 比率 | AP15: 実績 | AS15: 比率 | AU15: 実績 | AX15: 比率 | AZ15: 実績 | BC15: 比率 | BE15: 実績 | BH15: 比率 | BJ15: 実績 | BM15: 比率 | BO15: 実績 | BR15: 比率 | BT15: 実績 | BW15: 比率 | BY15: 実績 | CB15: 比率 | CD15: 実績 | CG15: 比率 | CI15: 実績 | CL15: 比率
A16: 行動数目標 | G16: =AA16+AU16+BO16+CI16 -> 0 | L16: =SUMIFS(予算!目標営業数,予算!対象ユーザー名,A!$K$1,予算!予算月,A!L$14) -> 0 | Q16: =SUMIFS(予算!目標営業数,予算!対象ユーザー名,A!$K$1,予算!予算月,A!Q$14) -> 0 | V16: =SUMIFS(予算!目標営業数,予算!対象ユーザー名,A!$K$1,予算!予算月,A!V$14) -> 0 | AA16: =L16+Q16+V16 -> 0 | AF16: =SUMIFS(予算!目標営業数,予算!対象ユーザー名,A!$K$1,予算!予算月,A!AF$14) -> 0 | AK16: =SUMIFS(予算!目標営業数,予算!対象ユーザー名,A!$K$1,予算!予算月,A!AK$14) -> 0 | AP16: =SUMIFS(予算!目標営業数,予算!対象ユーザー名,A!$K$1,予算!予算月,A!AP$14) -> 0 | AU16: =AF16+AK16+AP16 -> 0 | AZ16: =SUMIFS(予算!目標営業数,予算!対象ユーザー名,A!$K$1,予算!予算月,A!AZ$14) -> 0 | BE16: =SUMIFS(予算!目標営業数,予算!対象ユーザー名,A!$K$1,予算!予算月,A!BE$14) -> 0 | BJ16: =SUMIFS(予算!目標営業数,予算!対象ユーザー名,A!$K$1,予算!予算月,A!BJ$14) -> 0 | BO16: =AZ16+BE16+BJ16 -> 0 | BT16: =SUMIFS(予算!目標営業数,予算!対象ユーザー名,A!$K$1,予算!予算月,A!BT$14) -> 0 | BY16: =SUMIFS(予算!目標営業数,予算!対象ユーザー名,A!$K$1,予算!予算月,A!BY$14) -> 0 | CD16: =SUMIFS(予算!目標営業数,予算!対象ユーザー名,A!$K$1,予算!予算月,A!CD$14) -> 0 | CI16: =BT16+BY16+CD16 -> 0
A17: 行動数 | G17: =AA17+AU17+BO17+CI17 -> 0 | J17: =G17/G16 -> #DIV/0! | L17: =SUMIFS(行動!件数行動,行動!対象者名,A!$K$1,行動!月行動,A!L$14) -> 0 | O17: =L17/L16 -> #DIV/0! | Q17: =SUMIFS(行動!件数行動,行動!対象者名,A!$K$1,行動!月行動,A!Q$14) -> 0 | T17: =Q17/Q16 -> #DIV/0! | V17: =SUMIFS(行動!件数行動,行動!対象者名,A!$K$1,行動!月行動,A!V$14) -> 0 | Y17: =V17/V16 -> #DIV/0! | AA17: =L17+Q17+V17 -> 0 | AD17: =AA17/AA16 -> #DIV/0! | AF17: =SUMIFS(行動!件数行動,行動!対象者名,A!$K$1,行動!月行動,A!AF$14) -> 0 | AI17: =AF17/AF16 -> #DIV/0! | AK17: =SUMIFS(行動!件数行動,行動!対象者名,A!$K$1,行動!月行動,A!AK$14) -> 0 | AN17: =AK17/AK16 -> #DIV/0! | AP17: =SUMIFS(行動!件数行動,行動!対象者名,A!$K$1,行動!月行動,A!AP$14) -> 0 | AS17: =AP17/AP16 -> #DIV/0! | AU17: =AF17+AK17+AP17 -> 0 | AX17: =AU17/AU16 -> #DIV/0! | AZ17: =SUMIFS(行動!件数行動,行動!対象者名,A!$K$1,行動!月行動,A!AZ$14) -> 0 | BC17: =AZ17/AZ16 -> #DIV/0! | BE17: =SUMIFS(行動!件数行動,行動!対象者名,A!$K$1,行動!月行動,A!BE$14) -> 0 | BH17: =BE17/BE16 -> #DIV/0! | BJ17: =SUMIFS(行動!件数行動,行動!対象者名,A!$K$1,行動!月行動,A!BJ$14) -> 0 | BM17: =BJ17/BJ16 -> #DIV/0! | BO17: =AZ17+BE17+BJ17 -> 0 | BR17: =BO17/BO16 -> #DIV/0! | BT17: =SUMIFS(行動!件数行動,行動!対象者名,A!$K$1,行動!月行動,A!BT$14) -> 0 | BW17: =BT17/BT16 -> #DIV/0! | BY17: =SUMIFS(行動!件数行動,行動!対象者名,A!$K$1,行動!月行動,A!BY$14) -> 0 | CB17: =BY17/BY16 -> #DIV/0! | CD17: =SUMIFS(行動!件数行動,行動!対象者名,A!$K$1,行動!月行動,A!CD$14) -> 0 | CG17: =CD17/CD16 -> #DIV/0! | CI17: =BT17+BY17+CD17 -> 0 | CL17: =CI17/CI16 -> #DIV/0!
A18: 見積数目標 | G18: =AA18+AU18+BO18+CI18 -> 0 | L18: =SUMIFS(予算!目標見積数,予算!対象ユーザー名,A!$K$1,予算!予算月,A!L$14) -> 0 | Q18: =SUMIFS(予算!目標見積数,予算!対象ユーザー名,A!$K$1,予算!予算月,A!Q$14) -> 0 | V18: =SUMIFS(予算!目標見積数,予算!対象ユーザー名,A!$K$1,予算!予算月,A!V$14) -> 0 | AA18: =L18+Q18+V18 -> 0 | AF18: =SUMIFS(予算!目標見積数,予算!対象ユーザー名,A!$K$1,予算!予算月,A!AF$14) -> 0 | AK18: =SUMIFS(予算!目標見積数,予算!対象ユーザー名,A!$K$1,予算!予算月,A!AK$14) -> 0 | AP18: =SUMIFS(予算!目標見積数,予算!対象ユーザー名,A!$K$1,予算!予算月,A!AP$14) -> 0 | AU18: =AF18+AK18+AP18 -> 0 | AZ18: =SUMIFS(予算!目標見積数,予算!対象ユーザー名,A!$K$1,予算!予算月,A!AZ$14) -> 0 | BE18: =SUMIFS(予算!目標見積数,予算!対象ユーザー名,A!$K$1,予算!予算月,A!BE$14) -> 0 | BJ18: =SUMIFS(予算!目標見積数,予算!対象ユーザー名,A!$K$1,予算!予算月,A!BJ$14) -> 0 | BO18: =AZ18+BE18+BJ18 -> 0 | BT18: =SUMIFS(予算!目標見積数,予算!対象ユーザー名,A!$K$1,予算!予算月,A!BT$14) -> 0 | BY18: =SUMIFS(予算!目標見積数,予算!対象ユーザー名,A!$K$1,予算!予算月,A!BY$14) -> 0 | CD18: =SUMIFS(予算!目標見積数,予算!対象ユーザー名,A!$K$1,予算!予算月,A!CD$14) -> 0 | CI18: =BT18+BY18+CD18 -> 0
A19: 見積数 | G19: =AA19+AU19+BO19+CI19 -> 0 | J19: =G19/G18 -> #DIV/0! | L19: =SUMIFS(見積!見積数,見積!報告者名,A!$K$1,見積!月,L$14) -> 0 | O19: =L19/L18 -> #DIV/0! | Q19: =SUMIFS(見積!見積数,見積!報告者名,A!$K$1,見積!月,Q$14) -> 0 | T19: =Q19/Q18 -> #DIV/0! | V19: =SUMIFS(見積!見積数,見積!報告者名,A!$K$1,見積!月,V$14) -> 0 | Y19: =V19/V18 -> #DIV/0! | AA19: =L19+Q19+V19 -> 0 | AD19: =AA19/AA18 -> #DIV/0! | AF19: =SUMIFS(見積!見積数,見積!報告者名,A!$K$1,見積!月,AF$14) -> 0 | AI19: =AF19/AF18 -> #DIV/0! | AK19: =SUMIFS(見積!見積数,見積!報告者名,A!$K$1,見積!月,AK$14) -> 0 | AN19: =AK19/AK18 -> #DIV/0! | AP19: =SUMIFS(見積!見積数,見積!報告者名,A!$K$1,見積!月,AP$14) -> 0 | AS19: =AP19/AP18 -> #DIV/0! | AU19: =AF19+AK19+AP19 -> 0 | AX19: =AU19/AU18 -> #DIV/0! | AZ19: =SUMIFS(見積!見積数,見積!報告者名,A!$K$1,見積!月,AZ$14) -> 0 | BC19: =AZ19/AZ18 -> #DIV/0! | BE19: =SUMIFS(見積!見積数,見積!報告者名,A!$K$1,見積!月,BE$14) -> 0 | BH19: =BE19/BE18 -> #DIV/0! | BJ19: =SUMIFS(見積!見積数,見積!報告者名,A!$K$1,見積!月,BJ$14) -> 0 | BM19: =BJ19/BJ18 -> #DIV/0! | BO19: =AZ19+BE19+BJ19 -> 0 | BR19: =BO19/BO18 -> #DIV/0! | BT19: =SUMIFS(見積!見積数,見積!報告者名,A!$K$1,見積!月,BT$14) -> 0 | BW19: =BT19/BT18 -> #DIV/0! | BY19: =SUMIFS(見積!見積数,見積!報告者名,A!$K$1,見積!月,BY$14,見積!年,"2025") -> 0 | CB19: =BY19/BY18 -> #DIV/0! | CD19: =SUMIFS(見積!見積数,見積!報告者名,A!$K$1,見積!月,CD$14,見積!年,"2025") -> 0 | CG19: =CD19/CD18 -> #DIV/0! | CI19: =BT19+BY19+CD19 -> 0 | CL19: =CI19/CI18 -> #DIV/0!
A20: 売上目標 | G20: =AA20+AU20+BO20+CI20 -> 0 | L20: =SUMIFS(予算!目標金額,予算!対象ユーザー名,A!$K$1,予算!予算月,A!L$14) -> 0 | Q20: =SUMIFS(予算!目標金額,予算!対象ユーザー名,A!$K$1,予算!予算月,A!Q$14) -> 0 | V20: =SUMIFS(予算!目標金額,予算!対象ユーザー名,A!$K$1,予算!予算月,A!V$14) -> 0 | AA20: =L20+Q20+V20 -> 0 | AF20: =SUMIFS(予算!目標金額,予算!対象ユーザー名,A!$K$1,予算!予算月,A!AF$14) -> 0 | AK20: =SUMIFS(予算!目標金額,予算!対象ユーザー名,A!$K$1,予算!予算月,A!AK$14) -> 0 | AP20: =SUMIFS(予算!目標金額,予算!対象ユーザー名,A!$K$1,予算!予算月,A!AP$14) -> 0 | AU20: =AF20+AK20+AP20 -> 0 | AZ20: =SUMIFS(予算!目標金額,予算!対象ユーザー名,A!$K$1,予算!予算月,A!AZ$14) -> 0 | BE20: =SUMIFS(予算!目標金額,予算!対象ユーザー名,A!$K$1,予算!予算月,A!BE$14) -> 0 | BJ20: =SUMIFS(予算!目標金額,予算!対象ユーザー名,A!$K$1,予算!予算月,A!BJ$14) -> 0 | BO20: =AZ20+BE20+BJ20 -> 0 | BT20: =SUMIFS(予算!目標金額,予算!対象ユーザー名,A!$K$1,予算!予算月,A!BT$14) -> 0 | BY20: =SUMIFS(予算!目標金額,予算!対象ユーザー名,A!$K$1,予算!予算月,A!BY$14) -> 0 | CD20: =SUMIFS(予算!目標金額,予算!対象ユーザー名,A!$K$1,予算!予算月,A!CD$14) -> 0 | CI20: =BT20+BY20+CD20 -> 0
A21: AP | G21: =AA21+AU21+BO21+CI21 -> 0 | L21: =SUMIFS(予算!AP,予算!予算月,L$14,予算!対象ユーザー名,$K$1) -> 0 | Q21: =SUMIFS(予算!AP,予算!予算月,Q$14,予算!対象ユーザー名,$K$1) -> 0 | V21: =SUMIFS(予算!AP,予算!予算月,V$14,予算!対象ユーザー名,$K$1) -> 0 | AA21: =L21+Q21+V21 -> 0 | AF21: =SUMIFS(予算!AP,予算!予算月,AF$14,予算!対象ユーザー名,$K$1) -> 0 | AK21: =SUMIFS(予算!AP,予算!予算月,AK$14,予算!対象ユーザー名,$K$1) -> 0 | AP21: =SUMIFS(予算!AP,予算!予算月,AP$14,予算!対象ユーザー名,$K$1) -> 0 | AU21: =AF21+AK21+AP21 -> 0 | AZ21: =SUMIFS(予算!AP,予算!予算月,AZ$14,予算!対象ユーザー名,$K$1) -> 0 | BE21: =SUMIFS(予算!AP,予算!予算月,BE$14,予算!対象ユーザー名,$K$1) -> 0 | BJ21: =SUMIFS(予算!AP,予算!予算月,BJ$14,予算!対象ユーザー名,$K$1) -> 0 | BO21: =AZ21+BE21+BJ21 -> 0 | BT21: =SUMIFS(予算!AP,予算!予算月,BT$14,予算!対象ユーザー名,$K$1) -> 0 | BY21: =SUMIFS(予算!AP,予算!予算月,BY$14,予算!対象ユーザー名,$K$1) -> 0 | CD21: =SUMIFS(予算!AP,予算!予算月,CD$14,予算!対象ユーザー名,$K$1) -> 0 | CI21: =BT21+BY21+CD21 -> 0
A22: SP | G22: =AA22+AU22+BO22+CI22 -> 0 | L22: =SUMIFS(予算!SP,予算!予算月,L$14,予算!対象ユーザー名,$K$1) -> 0 | Q22: =SUMIFS(予算!SP,予算!予算月,Q$14,予算!対象ユーザー名,$K$1) -> 0 | V22: =SUMIFS(予算!SP,予算!予算月,V$14,予算!対象ユーザー名,$K$1) -> 0 | AA22: =L22+Q22+V22 -> 0 | AF22: =SUMIFS(予算!SP,予算!予算月,AF$14,予算!対象ユーザー名,$K$1) -> 0 | AK22: =SUMIFS(予算!SP,予算!予算月,AK$14,予算!対象ユーザー名,$K$1) -> 0 | AP22: =SUMIFS(予算!SP,予算!予算月,AP$14,予算!対象ユーザー名,$K$1) -> 0 | AU22: =AF22+AK22+AP22 -> 0 | AZ22: =SUMIFS(予算!SP,予算!予算月,AZ$14,予算!対象ユーザー名,$K$1) -> 0 | BE22: =SUMIFS(予算!SP,予算!予算月,BE$14,予算!対象ユーザー名,$K$1) -> 0 | BJ22: =SUMIFS(予算!SP,予算!予算月,BJ$14,予算!対象ユーザー名,$K$1) -> 0 | BO22: =AZ22+BE22+BJ22 -> 0 | BT22: =SUMIFS(予算!SP,予算!予算月,BT$14,予算!対象ユーザー名,$K$1) -> 0 | BY22: =SUMIFS(予算!SP,予算!予算月,BY$14,予算!対象ユーザー名,$K$1) -> 0 | CD22: =SUMIFS(予算!SP,予算!予算月,CD$14,予算!対象ユーザー名,$K$1) -> 0 | CI22: =BT22+BY22+CD22 -> 0
A23: TB | G23: =AA23+AU23+BO23+CI23 -> 0 | L23: =SUMIFS(予算!TB,予算!予算月,L$14,予算!対象ユーザー名,$K$1) -> 0 | Q23: =SUMIFS(予算!TB,予算!予算月,Q$14,予算!対象ユーザー名,$K$1) -> 0 | V23: =SUMIFS(予算!TB,予算!予算月,V$14,予算!対象ユーザー名,$K$1) -> 0 | AA23: =L23+Q23+V23 -> 0 | AF23: =SUMIFS(予算!TB,予算!予算月,AF$14,予算!対象ユーザー名,$K$1) -> 0 | AK23: =SUMIFS(予算!TB,予算!予算月,AK$14,予算!対象ユーザー名,$K$1) -> 0 | AP23: =SUMIFS(予算!TB,予算!予算月,AP$14,予算!対象ユーザー名,$K$1) -> 0 | AU23: =AF23+AK23+AP23 -> 0 | AZ23: =SUMIFS(予算!TB,予算!予算月,AZ$14,予算!対象ユーザー名,$K$1) -> 0 | BE23: =SUMIFS(予算!TB,予算!予算月,BE$14,予算!対象ユーザー名,$K$1) -> 0 | BJ23: =SUMIFS(予算!TB,予算!予算月,BJ$14,予算!対象ユーザー名,$K$1) -> 0 | BO23: =AZ23+BE23+BJ23 -> 0 | BT23: =SUMIFS(予算!TB,予算!予算月,BT$14,予算!対象ユーザー名,$K$1) -> 0 | BY23: =SUMIFS(予算!TB,予算!予算月,BY$14,予算!対象ユーザー名,$K$1) -> 0 | CD23: =SUMIFS(予算!TB,予算!予算月,CD$14,予算!対象ユーザー名,$K$1) -> 0 | CI23: =BT23+BY23+CD23 -> 0
A24: その他 | G24: =AA24+AU24+BO24+CI24 -> 0 | L24: =L20-L21-L22-L23 -> 0 | Q24: =Q20-Q21-Q22-Q23 -> 0 | V24: =V20-V21-V22-V23 -> 0 | AA24: =L24+Q24+V24 -> 0 | AF24: =AF20-AF21-AF22-AF23 -> 0 | AK24: =AK20-AK21-AK22-AK23 -> 0 | AP24: =AP20-AP21-AP22-AP23 -> 0 | AU24: =AF24+AK24+AP24 -> 0 | AZ24: =AZ20-AZ21-AZ22-AZ23 -> 0 | BE24: =BE20-BE21-BE22-BE23 -> 0 | BJ24: =BJ20-BJ21-BJ22-BJ23 -> 0 | BO24: =AZ24+BE24+BJ24 -> 0 | BT24: =BT20-BT21-BT22-BT23 -> 0 | BY24: =BY20-BY21-BY22-BY23 -> 0 | CD24: =CD20-CD21-CD22-CD23 -> 0 | CI24: =BT24+BY24+CD24 -> 0
A25: 売上実績 | G25: =AA25+AU25+BO25+CI25 -> 0 | J25: =G25/G20 -> #DIV/0! | L25: =SUMIFS(実績!見積額13,実績!月13,A!L$14,実績!報告者名13,A!$K$1) -> 0 | O25: =L25/L20 -> #DIV/0! | Q25: =SUMIFS(実績!見積額13,実績!月13,A!Q$14,実績!報告者名13,A!$K$1) -> 0 | T25: =Q25/Q20 -> #DIV/0! | V25: =SUMIFS(実績!見積額13,実績!月13,A!V$14,実績!報告者名13,A!$K$1) -> 0 | Y25: =V25/V20 -> #DIV/0! | AA25: =L25+Q25+V25 -> 0 | AD25: =AA25/AA20 -> #DIV/0! | AF25: =SUMIFS(実績!見積額13,実績!月13,A!AF$14,実績!報告者名13,A!$K$1) -> 0 | AI25: =AF25/AF20 -> #DIV/0! | AK25: =SUMIFS(実績!見積額13,実績!月13,A!AK$14,実績!報告者名13,A!$K$1) -> 0 | AN25: =AK25/AK20 -> #DIV/0! | AP25: =SUMIFS(実績!見積額13,実績!月13,A!AP$14,実績!報告者名13,A!$K$1) -> 0 | AS25: =AP25/AP20 -> #DIV/0! | AU25: =AF25+AK25+AP25 -> 0 | AX25: =AU25/AU20 -> #DIV/0! | AZ25: =SUMIFS(実績!見積額13,実績!月13,A!AZ$14,実績!報告者名13,A!$K$1) -> 0 | BC25: =AZ25/AZ20 -> #DIV/0! | BE25: =SUMIFS(実績!見積額13,実績!月13,A!BE$14,実績!報告者名13,A!$K$1) -> 0 | BH25: =BE25/BE20 -> #DIV/0! | BJ25: =SUMIFS(実績!見積額13,実績!月13,A!BJ$14,実績!報告者名13,A!$K$1) -> 0 | BM25: =BJ25/BJ20 -> #DIV/0! | BO25: =AZ25+BE25+BJ25 -> 0 | BR25: =BO25/BO20 -> #DIV/0! | BT25: =SUMIFS(実績!見積額13,実績!月13,A!BT$14,実績!報告者名13,A!$K$1) -> 0 | BW25: =BT25/BT20 -> #DIV/0! | BY25: =SUMIFS(実績!見積額13,実績!月13,A!BY$14,実績!報告者名13,A!$K$1) -> 0 | CB25: =BY25/BY20 -> #DIV/0! | CD25: =SUMIFS(実績!見積額13,実績!月13,A!CD$14,実績!報告者名13,A!$K$1) -> 0 | CG25: =CD25/CD20 -> #DIV/0! | CI25: =BT25+BY25+CD25 -> 0 | CL25: =CI25/CI20 -> #DIV/0!
A26: AP | G26: =AA26+AU26+BO26+CI26 -> 0 | J26: =G26/G21 -> #DIV/0! | L26: =SUMIFS(実績!見積額13,実績!月13,A!L$14,実績!報告者名13,A!$K$1,実績!工種13,$A26) -> 0 | O26: =L26/L21 -> #DIV/0! | Q26: =SUMIFS(実績!見積額13,実績!月13,A!Q$14,実績!報告者名13,A!$K$1,実績!工種13,$A26) -> 0 | T26: =Q26/Q21 -> #DIV/0! | V26: =SUMIFS(実績!見積額13,実績!月13,A!V$14,実績!報告者名13,A!$K$1,実績!工種13,$A26) -> 0 | Y26: =V26/V21 -> #DIV/0! | AA26: =L26+Q26+V26 -> 0 | AD26: =AA26/AA21 -> #DIV/0! | AF26: =SUMIFS(実績!見積額13,実績!月13,A!AF$14,実績!報告者名13,A!$K$1,実績!工種13,$A26) -> 0 | AI26: =AF26/AF21 -> #DIV/0! | AK26: =SUMIFS(実績!見積額13,実績!月13,A!AK$14,実績!報告者名13,A!$K$1,実績!工種13,$A26) -> 0 | AN26: =AK26/AK21 -> #DIV/0! | AP26: =SUMIFS(実績!見積額13,実績!月13,A!AP$14,実績!報告者名13,A!$K$1,実績!工種13,$A26) -> 0 | AS26: =AP26/AP21 -> #DIV/0! | AU26: =AF26+AK26+AP26 -> 0 | AX26: =AU26/AU21 -> #DIV/0! | AZ26: =SUMIFS(実績!見積額13,実績!月13,A!AZ$14,実績!報告者名13,A!$K$1,実績!工種13,$A26) -> 0 | BC26: =AZ26/AZ21 -> #DIV/0! | BE26: =SUMIFS(実績!見積額13,実績!月13,A!BE$14,実績!報告者名13,A!$K$1,実績!工種13,$A26) -> 0 | BH26: =BE26/BE21 -> #DIV/0! | BJ26: =SUMIFS(実績!見積額13,実績!月13,A!BJ$14,実績!報告者名13,A!$K$1,実績!工種13,$A26) -> 0 | BM26: =BJ26/BJ21 -> #DIV/0! | BO26: =AZ26+BE26+BJ26 -> 0 | BR26: =BO26/BO21 -> #DIV/0! | BT26: =SUMIFS(実績!見積額13,実績!月13,A!BT$14,実績!報告者名13,A!$K$1,実績!工種13,$A26) -> 0 | BW26: =BT26/BT21 -> #DIV/0! | BY26: =SUMIFS(実績!見積額13,実績!月13,A!BY$14,実績!報告者名13,A!$K$1,実績!工種13,$A26) -> 0 | CB26: =BY26/BY21 -> #DIV/0! | CD26: =SUMIFS(実績!見積額13,実績!月13,A!CD$14,実績!報告者名13,A!$K$1,実績!工種13,$A26) -> 0 | CG26: =CD26/CD21 -> #DIV/0! | CI26: =BT26+BY26+CD26 -> 0 | CL26: =CI26/CI21 -> #DIV/0!
A27: SP | G27: =AA27+AU27+BO27+CI27 -> 0 | J27: =G27/G22 -> #DIV/0! | L27: =SUMIFS(実績!見積額13,実績!月13,A!L$14,実績!報告者名13,A!$K$1,実績!工種13,$A27) -> 0 | O27: =L27/L22 -> #DIV/0! | Q27: =SUMIFS(実績!見積額13,実績!月13,A!Q$14,実績!報告者名13,A!$K$1,実績!工種13,$A27) -> 0 | T27: =Q27/Q22 -> #DIV/0! | V27: =SUMIFS(実績!見積額13,実績!月13,A!V$14,実績!報告者名13,A!$K$1,実績!工種13,$A27) -> 0 | Y27: =V27/V22 -> #DIV/0! | AA27: =L27+Q27+V27 -> 0 | AD27: =AA27/AA22 -> #DIV/0! | AF27: =SUMIFS(実績!見積額13,実績!月13,A!AF$14,実績!報告者名13,A!$K$1,実績!工種13,$A27) -> 0 | AI27: =AF27/AF22 -> #DIV/0! | AK27: =SUMIFS(実績!見積額13,実績!月13,A!AK$14,実績!報告者名13,A!$K$1,実績!工種13,$A27) -> 0 | AN27: =AK27/AK22 -> #DIV/0! | AP27: =SUMIFS(実績!見積額13,実績!月13,A!AP$14,実績!報告者名13,A!$K$1,実績!工種13,$A27) -> 0 | AS27: =AP27/AP22 -> #DIV/0! | AU27: =AF27+AK27+AP27 -> 0 | AX27: =AU27/AU22 -> #DIV/0! | AZ27: =SUMIFS(実績!見積額13,実績!月13,A!AZ$14,実績!報告者名13,A!$K$1,実績!工種13,$A27) -> 0 | BC27: =AZ27/AZ22 -> #DIV/0! | BE27: =SUMIFS(実績!見積額13,実績!月13,A!BE$14,実績!報告者名13,A!$K$1,実績!工種13,$A27) -> 0 | BH27: =BE27/BE22 -> #DIV/0! | BJ27: =SUMIFS(実績!見積額13,実績!月13,A!BJ$14,実績!報告者名13,A!$K$1,実績!工種13,$A27) -> 0 | BM27: =BJ27/BJ22 -> #DIV/0! | BO27: =AZ27+BE27+BJ27 -> 0 | BR27: =BO27/BO22 -> #DIV/0! | BT27: =SUMIFS(実績!見積額13,実績!月13,A!BT$14,実績!報告者名13,A!$K$1,実績!工種13,$A27) -> 0 | BW27: =BT27/BT22 -> #DIV/0! | BY27: =SUMIFS(実績!見積額13,実績!月13,A!BY$14,実績!報告者名13,A!$K$1,実績!工種13,$A27) -> 0 | CB27: =BY27/BY22 -> #DIV/0! | CD27: =SUMIFS(実績!見積額13,実績!月13,A!CD$14,実績!報告者名13,A!$K$1,実績!工種13,$A27) -> 0 | CG27: =CD27/CD22 -> #DIV/0! | CI27: =BT27+BY27+CD27 -> 0 | CL27: =CI27/CI22 -> #DIV/0!
A28: TB | G28: =AA28+AU28+BO28+CI28 -> 0 | J28: =G28/G23 -> #DIV/0! | L28: =SUMIFS(実績!見積額13,実績!月13,A!L$14,実績!報告者名13,A!$K$1,実績!工種13,$A28) -> 0 | O28: =L28/L23 -> #DIV/0! | Q28: =SUMIFS(実績!見積額13,実績!月13,A!Q$14,実績!報告者名13,A!$K$1,実績!工種13,$A28) -> 0 | T28: =Q28/Q23 -> #DIV/0! | V28: =SUMIFS(実績!見積額13,実績!月13,A!V$14,実績!報告者名13,A!$K$1,実績!工種13,$A28) -> 0 | Y28: =V28/V23 -> #DIV/0! | AA28: =L28+Q28+V28 -> 0 | AD28: =AA28/AA23 -> #DIV/0! | AF28: =SUMIFS(実績!見積額13,実績!月13,A!AF$14,実績!報告者名13,A!$K$1,実績!工種13,$A28) -> 0 | AI28: =AF28/AF23 -> #DIV/0! | AK28: =SUMIFS(実績!見積額13,実績!月13,A!AK$14,実績!報告者名13,A!$K$1,実績!工種13,$A28) -> 0 | AN28: =AK28/AK23 -> #DIV/0! | AP28: =SUMIFS(実績!見積額13,実績!月13,A!AP$14,実績!報告者名13,A!$K$1,実績!工種13,$A28) -> 0 | AS28: =AP28/AP23 -> #DIV/0! | AU28: =AF28+AK28+AP28 -> 0 | AX28: =AU28/AU23 -> #DIV/0! | AZ28: =SUMIFS(実績!見積額13,実績!月13,A!AZ$14,実績!報告者名13,A!$K$1,実績!工種13,$A28) -> 0 | BC28: =AZ28/AZ23 -> #DIV/0! | BE28: =SUMIFS(実績!見積額13,実績!月13,A!BE$14,実績!報告者名13,A!$K$1,実績!工種13,$A28) -> 0 | BH28: =BE28/BE23 -> #DIV/0! | BJ28: =SUMIFS(実績!見積額13,実績!月13,A!BJ$14,実績!報告者名13,A!$K$1,実績!工種13,$A28) -> 0 | BM28: =BJ28/BJ23 -> #DIV/0! | BO28: =AZ28+BE28+BJ28 -> 0 | BR28: =BO28/BO23 -> #DIV/0! | BT28: =SUMIFS(実績!見積額13,実績!月13,A!BT$14,実績!報告者名13,A!$K$1,実績!工種13,$A28) -> 0 | BW28: =BT28/BT23 -> #DIV/0! | BY28: =SUMIFS(実績!見積額13,実績!月13,A!BY$14,実績!報告者名13,A!$K$1,実績!工種13,$A28) -> 0 | CB28: =BY28/BY23 -> #DIV/0! | CD28: =SUMIFS(実績!見積額13,実績!月13,A!CD$14,実績!報告者名13,A!$K$1,実績!工種13,$A28) -> 0 | CG28: =CD28/CD23 -> #DIV/0! | CI28: =BT28+BY28+CD28 -> 0 | CL28: =CI28/CI23 -> #DIV/0!
A29: その他 | G29: =AA29+AU29+BO29+CI29 -> 0 | J29: =G29/G24 -> #DIV/0! | L29: =L25-L26-L27-L28 -> 0 | O29: =L29/L24 -> #DIV/0! | Q29: =Q25-Q26-Q27-Q28 -> 0 | T29: =Q29/Q24 -> #DIV/0! | V29: =V25-V26-V27-V28 -> 0 | Y29: =V29/V24 -> #DIV/0! | AA29: =L29+Q29+V29 -> 0 | AD29: =AA29/AA24 -> #DIV/0! | AF29: =AF25-AF26-AF27-AF28 -> 0 | AI29: =AF29/AF24 -> #DIV/0! | AK29: =AK25-AK26-AK27-AK28 -> 0 | AN29: =AK29/AK24 -> #DIV/0! | AP29: =AP25-AP26-AP27-AP28 -> 0 | AS29: =AP29/AP24 -> #DIV/0! | AU29: =AF29+AK29+AP29 -> 0 | AX29: =AU29/AU24 -> #DIV/0! | AZ29: =AZ25-AZ26-AZ27-AZ28 -> 0 | BC29: =AZ29/AZ24 -> #DIV/0! | BE29: =BE25-BE26-BE27-BE28 -> 0 | BH29: =BE29/BE24 -> #DIV/0! | BJ29: =BJ25-BJ26-BJ27-BJ28 -> 0 | BM29: =BJ29/BJ24 -> #DIV/0! | BO29: =AZ29+BE29+BJ29 -> 0 | BR29: =BO29/BO24 -> #DIV/0! | BT29: =BT25-BT26-BT27-BT28 -> 0 | BW29: =BT29/BT24 -> #DIV/0! | BY29: =BY25-BY26-BY27-BY28 -> 0 | CB29: =BY29/BY24 -> #DIV/0! | CD29: =CD25-CD26-CD27-CD28 -> 0 | CG29: =CD29/CD24 -> #DIV/0! | CI29: =BT29+BY29+CD29 -> 0 | CL29: =CI29/CI24 -> #DIV/0!
A30: 受注件数 | G30: =AA30+AU30+BO30+CI30 -> 0 | L30: =COUNTIFS(実績!月13,A!L$14,実績!報告者名13,A!$K$1) -> 0 | Q30: =COUNTIFS(実績!月13,A!Q$14,実績!報告者名13,A!$K$1) -> 0 | V30: =COUNTIFS(実績!月13,A!V$14,実績!報告者名13,A!$K$1) -> 0 | AA30: =L30+Q30+V30 -> 0 | AF30: =COUNTIFS(実績!月13,A!AF$14,実績!報告者名13,A!$K$1) -> 0 | AK30: =COUNTIFS(実績!月13,A!AK$14,実績!報告者名13,A!$K$1) -> 0 | AP30: =COUNTIFS(実績!月13,A!AP$14,実績!報告者名13,A!$K$1) -> 0 | AU30: =AF30+AK30+AP30 -> 0 | AZ30: =COUNTIFS(実績!月13,A!AZ$14,実績!報告者名13,A!$K$1) -> 0 | BE30: =COUNTIFS(実績!月13,A!BE$14,実績!報告者名13,A!$K$1) -> 0 | BJ30: =COUNTIFS(実績!月13,A!BJ$14,実績!報告者名13,A!$K$1) -> 0 | BO30: =AZ30+BE30+BJ30 -> 0 | BT30: =COUNTIFS(実績!月13,A!BT$14,実績!報告者名13,A!$K$1) -> 0 | BY30: =COUNTIFS(実績!月13,A!BY$14,実績!報告者名13,A!$K$1) -> 0 | CD30: =COUNTIFS(実績!月13,A!CD$14,実績!報告者名13,A!$K$1) -> 0 | CI30: =BT30+BY30+CD30 -> 0
A31: 受注率 | G31: =G30/G19 -> #DIV/0! | L31: =L30/L19 -> #DIV/0! | Q31: =Q30/Q19 -> #DIV/0! | V31: =V30/V19 -> #DIV/0! | AA31: =AA30/AA19 -> #DIV/0! | AF31: =AF30/AF19 -> #DIV/0! | AK31: =AK30/AK19 -> #DIV/0! | AP31: =AP30/AP19 -> #DIV/0! | AU31: =AU30/AU19 -> #DIV/0! | AZ31: =AZ30/AZ19 -> #DIV/0! | BE31: =BE30/BE19 -> #DIV/0! | BJ31: =BJ30/BJ19 -> #DIV/0! | BO31: =BO30/BO19 -> #DIV/0! | BT31: =BT30/BT19 -> #DIV/0! | BY31: =BY30/BY19 -> #DIV/0! | CD31: =CD30/CD19 -> #DIV/0! | CI31: =CI30/CI19 -> #DIV/0!
A32: 受注単価 | G32: =G25/G30 -> #DIV/0! | L32: =L25/L30 -> #DIV/0! | Q32: =Q25/Q30 -> #DIV/0! | V32: =V25/V30 -> #DIV/0! | AA32: =AA25/AA30 -> #DIV/0! | AF32: =AF25/AF30 -> #DIV/0! | AK32: =AK25/AK30 -> #DIV/0! | AP32: =AP25/AP30 -> #DIV/0! | AU32: =AU25/AU30 -> #DIV/0! | AZ32: =AZ25/AZ30 -> #DIV/0! | BE32: =BE25/BE30 -> #DIV/0! | BJ32: =BJ25/BJ30 -> #DIV/0! | BO32: =BO25/BO30 -> #DIV/0! | BT32: =BT25/BT30 -> #DIV/0! | BY32: =BY25/BY30 -> #DIV/0! | CD32: =CD25/CD30 -> #DIV/0! | CI32: =CI25/CI30 -> #DIV/0!
A33: 販利目標 | G33: =AA33+AU33+BO33+CI33 -> 0 | L33: =SUMIFS(予算!利益予算,予算!対象ユーザー名,A!$K$1,予算!予算月,A!L$14) -> 0 | Q33: =SUMIFS(予算!利益予算,予算!対象ユーザー名,A!$K$1,予算!予算月,A!Q$14) -> 0 | V33: =SUMIFS(予算!利益予算,予算!対象ユーザー名,A!$K$1,予算!予算月,A!V$14) -> 0 | AA33: =L33+Q33+V33 -> 0 | AF33: =SUMIFS(予算!利益予算,予算!対象ユーザー名,A!$K$1,予算!予算月,A!AF$14) -> 0 | AK33: =SUMIFS(予算!利益予算,予算!対象ユーザー名,A!$K$1,予算!予算月,A!AK$14) -> 0 | AP33: =SUMIFS(予算!利益予算,予算!対象ユーザー名,A!$K$1,予算!予算月,A!AP$14) -> 0 | AU33: =AF33+AK33+AP33 -> 0 | AZ33: =SUMIFS(予算!利益予算,予算!対象ユーザー名,A!$K$1,予算!予算月,A!AZ$14) -> 0 | BE33: =SUMIFS(予算!利益予算,予算!対象ユーザー名,A!$K$1,予算!予算月,A!BE$14) -> 0 | BJ33: =SUMIFS(予算!利益予算,予算!対象ユーザー名,A!$K$1,予算!予算月,A!BJ$14) -> 0 | BO33: =AZ33+BE33+BJ33 -> 0 | BT33: =SUMIFS(予算!利益予算,予算!対象ユーザー名,A!$K$1,予算!予算月,A!BT$14) -> 0 | BY33: =SUMIFS(予算!利益予算,予算!対象ユーザー名,A!$K$1,予算!予算月,A!BY$14) -> 0 | CD33: =SUMIFS(予算!利益予算,予算!対象ユーザー名,A!$K$1,予算!予算月,A!CD$14) -> 0 | CI33: =BT33+BY33+CD33 -> 0
A34: 販利率目標 | G34: =G33/G20 -> #DIV/0! | L34: =L33/L20 -> #DIV/0! | Q34: =Q33/Q20 -> #DIV/0! | V34: =V33/V20 -> #DIV/0! | AA34: =AA33/AA20 -> #DIV/0! | AF34: =AF33/AF20 -> #DIV/0! | AK34: =AK33/AK20 -> #DIV/0! | AP34: =AP33/AP20 -> #DIV/0! | AU34: =AU33/AU20 -> #DIV/0! | AZ34: =AZ33/AZ20 -> #DIV/0! | BE34: =BE33/BE20 -> #DIV/0! | BJ34: =BJ33/BJ20 -> #DIV/0! | BO34: =BO33/BO20 -> #DIV/0! | BT34: =BT33/BT20 -> #DIV/0! | BY34: =BY33/BY20 -> #DIV/0! | CD34: =CD33/CD20 -> #DIV/0! | CI34: =CI33/CI20 -> #DIV/0!
A35: 販利（予算） | G35: =AA35+AU35+BO35+CI35 -> 0 | J35: =G35/G25 -> #DIV/0! | L35: =SUMIFS(実績!想定販利13,実績!月13,A!L$14,実績!報告者名13,A!$K$1) -> 0 | O35: =L35/L25 -> #DIV/0! | Q35: =SUMIFS(実績!想定販利13,実績!月13,A!Q$14,実績!報告者名13,A!$K$1) -> 0 | T35: =Q35/Q25 -> #DIV/0! | V35: =SUMIFS(実績!想定販利13,実績!月13,A!V$14,実績!報告者名13,A!$K$1) -> 0 | Y35: =V35/V25 -> #DIV/0! | AA35: =L35+Q35+V35 -> 0 | AD35: =AA35/AA25 -> #DIV/0! | AF35: =SUMIFS(実績!想定販利13,実績!月13,A!AF$14,実績!報告者名13,A!$K$1) -> 0 | AI35: =AF35/AF25 -> #DIV/0! | AK35: =SUMIFS(実績!想定販利13,実績!月13,A!AK$14,実績!報告者名13,A!$K$1) -> 0 | AN35: =AK35/AK25 -> #DIV/0! | AP35: =SUMIFS(実績!想定販利13,実績!月13,A!AP$14,実績!報告者名13,A!$K$1) -> 0 | AS35: =AP35/AP25 -> #DIV/0! | AU35: =AF35+AK35+AP35 -> 0 | AX35: =AU35/AU25 -> #DIV/0! | AZ35: =SUMIFS(実績!想定販利13,実績!月13,A!AZ$14,実績!報告者名13,A!$K$1) -> 0 | BC35: =AZ35/AZ25 -> #DIV/0! | BE35: =SUMIFS(実績!想定販利13,実績!月13,A!BE$14,実績!報告者名13,A!$K$1) -> 0 | BH35: =BE35/BE25 -> #DIV/0! | BJ35: =SUMIFS(実績!想定販利13,実績!月13,A!BJ$14,実績!報告者名13,A!$K$1) -> 0 | BM35: =BJ35/BJ25 -> #DIV/0! | BO35: =AZ35+BE35+BJ35 -> 0 | BR35: =BO35/BO25 -> #DIV/0! | BT35: =SUMIFS(実績!想定販利13,実績!月13,A!BT$14,実績!報告者名13,A!$K$1) -> 0 | BW35: =BT35/BT25 -> #DIV/0! | BY35: =SUMIFS(実績!想定販利13,実績!月13,A!BY$14,実績!報告者名13,A!$K$1) -> 0 | CB35: =BY35/BY25 -> #DIV/0! | CD35: =SUMIFS(実績!想定販利13,実績!月13,A!CD$14,実績!報告者名13,A!$K$1) -> 0 | CG35: =CD35/CD25 -> #DIV/0! | CI35: =BT35+BY35+CD35 -> 0 | CL35: =CI35/CI25 -> #DIV/0!
A36: 販利率（予算） | G36: =G35/G25 -> #DIV/0! | L36: =L35/L25 -> #DIV/0! | Q36: =Q35/Q25 -> #DIV/0! | V36: =V35/V25 -> #DIV/0! | AA36: =AA35/AA25 -> #DIV/0! | AF36: =AF35/AF25 -> #DIV/0! | AK36: =AK35/AK25 -> #DIV/0! | AP36: =AP35/AP25 -> #DIV/0! | AU36: =AU35/AU25 -> #DIV/0! | AZ36: =AZ35/AZ25 -> #DIV/0! | BE36: =BE35/BE25 -> #DIV/0! | BJ36: =BJ35/BJ25 -> #DIV/0! | BO36: =BO35/BO25 -> #DIV/0! | BT36: =BT35/BT25 -> #DIV/0! | BY36: =BY35/BY25 -> #DIV/0! | CD36: =CD35/CD25 -> #DIV/0! | CI36: =CI35/CI25 -> #DIV/0!
A37: AP | G37: =AA37+AU37+BO37+CI37 -> 0 | J37: =G37/G26 -> #DIV/0! | L37: =SUMIFS(実績!想定販利13,実績!月13,L$14,実績!報告者名13,$K$1,実績!工種13,$A37) -> 0 | O37: =L37/L26 -> #DIV/0! | Q37: =SUMIFS(実績!想定販利13,実績!月13,Q$14,実績!報告者名13,$K$1,実績!工種13,$A37) -> 0 | T37: =Q37/Q26 -> #DIV/0! | V37: =SUMIFS(実績!想定販利13,実績!月13,V$14,実績!報告者名13,$K$1,実績!工種13,$A37) -> 0 | Y37: =V37/V26 -> #DIV/0! | AA37: =L37+Q37+V37 -> 0 | AD37: =AA37/AA26 -> #DIV/0! | AF37: =SUMIFS(実績!想定販利13,実績!月13,AF$14,実績!報告者名13,$K$1,実績!工種13,$A37) -> 0 | AI37: =AF37/AF26 -> #DIV/0! | AK37: =SUMIFS(実績!想定販利13,実績!月13,AK$14,実績!報告者名13,$K$1,実績!工種13,$A37) -> 0 | AN37: =AK37/AK26 -> #DIV/0! | AP37: =SUMIFS(実績!想定販利13,実績!月13,AP$14,実績!報告者名13,$K$1,実績!工種13,$A37) -> 0 | AS37: =AP37/AP26 -> #DIV/0! | AU37: =AF37+AK37+AP37 -> 0 | AX37: =AU37/AU26 -> #DIV/0! | AZ37: =SUMIFS(実績!想定販利13,実績!月13,AZ$14,実績!報告者名13,$K$1,実績!工種13,$A37) -> 0 | BC37: =AZ37/AZ26 -> #DIV/0! | BE37: =SUMIFS(実績!想定販利13,実績!月13,BE$14,実績!報告者名13,$K$1,実績!工種13,$A37) -> 0 | BH37: =BE37/BE26 -> #DIV/0! | BJ37: =SUMIFS(実績!想定販利13,実績!月13,BJ$14,実績!報告者名13,$K$1,実績!工種13,$A37) -> 0 | BM37: =BJ37/BJ26 -> #DIV/0! | BO37: =AZ37+BE37+BJ37 -> 0 | BR37: =BO37/BO26 -> #DIV/0! | BT37: =SUMIFS(実績!想定販利13,実績!月13,BT$14,実績!報告者名13,$K$1,実績!工種13,$A37) -> 0 | BW37: =BT37/BT26 -> #DIV/0! | BY37: =SUMIFS(実績!想定販利13,実績!月13,BY$14,実績!報告者名13,$K$1,実績!工種13,$A37) -> 0 | CB37: =BY37/BY26 -> #DIV/0! | CD37: =SUMIFS(実績!想定販利13,実績!月13,CD$14,実績!報告者名13,$K$1,実績!工種13,$A37) -> 0 | CG37: =CD37/CD26 -> #DIV/0! | CI37: =BT37+BY37+CD37 -> 0 | CL37: =CI37/CI26 -> #DIV/0!
A38: SP | G38: =AA38+AU38+BO38+CI38 -> 0 | J38: =G38/G27 -> #DIV/0! | L38: =SUMIFS(実績!想定販利13,実績!月13,L$14,実績!報告者名13,$K$1,実績!工種13,$A38) -> 0 | O38: =L38/L27 -> #DIV/0! | Q38: =SUMIFS(実績!想定販利13,実績!月13,Q$14,実績!報告者名13,$K$1,実績!工種13,$A38) -> 0 | T38: =Q38/Q27 -> #DIV/0! | V38: =SUMIFS(実績!想定販利13,実績!月13,V$14,実績!報告者名13,$K$1,実績!工種13,$A38) -> 0 | Y38: =V38/V27 -> #DIV/0! | AA38: =L38+Q38+V38 -> 0 | AD38: =AA38/AA27 -> #DIV/0! | AF38: =SUMIFS(実績!想定販利13,実績!月13,AF$14,実績!報告者名13,$K$1,実績!工種13,$A38) -> 0 | AI38: =AF38/AF27 -> #DIV/0! | AK38: =SUMIFS(実績!想定販利13,実績!月13,AK$14,実績!報告者名13,$K$1,実績!工種13,$A38) -> 0 | AN38: =AK38/AK27 -> #DIV/0! | AP38: =SUMIFS(実績!想定販利13,実績!月13,AP$14,実績!報告者名13,$K$1,実績!工種13,$A38) -> 0 | AS38: =AP38/AP27 -> #DIV/0! | AU38: =AF38+AK38+AP38 -> 0 | AX38: =AU38/AU27 -> #DIV/0! | AZ38: =SUMIFS(実績!想定販利13,実績!月13,AZ$14,実績!報告者名13,$K$1,実績!工種13,$A38) -> 0 | BC38: =AZ38/AZ27 -> #DIV/0! | BE38: =SUMIFS(実績!想定販利13,実績!月13,BE$14,実績!報告者名13,$K$1,実績!工種13,$A38) -> 0 | BH38: =BE38/BE27 -> #DIV/0! | BJ38: =SUMIFS(実績!想定販利13,実績!月13,BJ$14,実績!報告者名13,$K$1,実績!工種13,$A38) -> 0 | BM38: =BJ38/BJ27 -> #DIV/0! | BO38: =AZ38+BE38+BJ38 -> 0 | BR38: =BO38/BO27 -> #DIV/0! | BT38: =SUMIFS(実績!想定販利13,実績!月13,BT$14,実績!報告者名13,$K$1,実績!工種13,$A38) -> 0 | BW38: =BT38/BT27 -> #DIV/0! | BY38: =SUMIFS(実績!想定販利13,実績!月13,BY$14,実績!報告者名13,$K$1,実績!工種13,$A38) -> 0 | CB38: =BY38/BY27 -> #DIV/0! | CD38: =SUMIFS(実績!想定販利13,実績!月13,CD$14,実績!報告者名13,$K$1,実績!工種13,$A38) -> 0 | CG38: =CD38/CD27 -> #DIV/0! | CI38: =BT38+BY38+CD38 -> 0 | CL38: =CI38/CI27 -> #DIV/0!
A39: TB | G39: =AA39+AU39+BO39+CI39 -> 0 | J39: =G39/G28 -> #DIV/0! | L39: =SUMIFS(実績!想定販利13,実績!月13,L$14,実績!報告者名13,$K$1,実績!工種13,$A39) -> 0 | O39: =L39/L28 -> #DIV/0! | Q39: =SUMIFS(実績!想定販利13,実績!月13,Q$14,実績!報告者名13,$K$1,実績!工種13,$A39) -> 0 | T39: =Q39/Q28 -> #DIV/0! | V39: =SUMIFS(実績!想定販利13,実績!月13,V$14,実績!報告者名13,$K$1,実績!工種13,$A39) -> 0 | Y39: =V39/V28 -> #DIV/0! | AA39: =L39+Q39+V39 -> 0 | AD39: =AA39/AA28 -> #DIV/0! | AF39: =SUMIFS(実績!想定販利13,実績!月13,AF$14,実績!報告者名13,$K$1,実績!工種13,$A39) -> 0 | AI39: =AF39/AF28 -> #DIV/0! | AK39: =SUMIFS(実績!想定販利13,実績!月13,AK$14,実績!報告者名13,$K$1,実績!工種13,$A39) -> 0 | AN39: =AK39/AK28 -> #DIV/0! | AP39: =SUMIFS(実績!想定販利13,実績!月13,AP$14,実績!報告者名13,$K$1,実績!工種13,$A39) -> 0 | AS39: =AP39/AP28 -> #DIV/0! | AU39: =AF39+AK39+AP39 -> 0 | AX39: =AU39/AU28 -> #DIV/0! | AZ39: =SUMIFS(実績!想定販利13,実績!月13,AZ$14,実績!報告者名13,$K$1,実績!工種13,$A39) -> 0 | BC39: =AZ39/AZ28 -> #DIV/0! | BE39: =SUMIFS(実績!想定販利13,実績!月13,BE$14,実績!報告者名13,$K$1,実績!工種13,$A39) -> 0 | BH39: =BE39/BE28 -> #DIV/0! | BJ39: =SUMIFS(実績!想定販利13,実績!月13,BJ$14,実績!報告者名13,$K$1,実績!工種13,$A39) -> 0 | BM39: =BJ39/BJ28 -> #DIV/0! | BO39: =AZ39+BE39+BJ39 -> 0 | BR39: =BO39/BO28 -> #DIV/0! | BT39: =SUMIFS(実績!想定販利13,実績!月13,BT$14,実績!報告者名13,$K$1,実績!工種13,$A39) -> 0 | BW39: =BT39/BT28 -> #DIV/0! | BY39: =SUMIFS(実績!想定販利13,実績!月13,BY$14,実績!報告者名13,$K$1,実績!工種13,$A39) -> 0 | CB39: =BY39/BY28 -> #DIV/0! | CD39: =SUMIFS(実績!想定販利13,実績!月13,CD$14,実績!報告者名13,$K$1,実績!工種13,$A39) -> 0 | CG39: =CD39/CD28 -> #DIV/0! | CI39: =BT39+BY39+CD39 -> 0 | CL39: =CI39/CI28 -> #DIV/0!
A40: その他 | G40: =AA40+AU40+BO40+CI40 -> 0 | J40: =G40/G29 -> #DIV/0! | L40: =L35-L37-L38-L39 -> 0 | O40: =L40/L29 -> #DIV/0! | Q40: =Q35-Q37-Q38-Q39 -> 0 | T40: =Q40/Q29 -> #DIV/0! | V40: =V35-V37-V38-V39 -> 0 | Y40: =V40/V29 -> #DIV/0! | AA40: =L40+Q40+V40 -> 0 | AD40: =AA40/AA29 -> #DIV/0! | AF40: =AF35-AF37-AF38-AF39 -> 0 | AI40: =AF40/AF29 -> #DIV/0! | AK40: =AK35-AK37-AK38-AK39 -> 0 | AN40: =AK40/AK29 -> #DIV/0! | AP40: =AP35-AP37-AP38-AP39 -> 0 | AS40: =AP40/AP29 -> #DIV/0! | AU40: =AF40+AK40+AP40 -> 0 | AX40: =AU40/AU29 -> #DIV/0! | AZ40: =AZ35-AZ37-AZ38-AZ39 -> 0 | BC40: =AZ40/AZ29 -> #DIV/0! | BE40: =BE35-BE37-BE38-BE39 -> 0 | BH40: =BE40/BE29 -> #DIV/0! | BJ40: =BJ35-BJ37-BJ38-BJ39 -> 0 | BM40: =BJ40/BJ29 -> #DIV/0! | BO40: =AZ40+BE40+BJ40 -> 0 | BR40: =BO40/BO29 -> #DIV/0! | BT40: =BT35-BT37-BT38-BT39 -> 0 | BW40: =BT40/BT29 -> #DIV/0! | BY40: =BY35-BY37-BY38-BY39 -> 0 | CB40: =BY40/BY29 -> #DIV/0! | CD40: =CD35-CD37-CD38-CD39 -> 0 | CG40: =CD40/CD29 -> #DIV/0! | CI40: =BT40+BY40+CD40 -> 0 | CL40: =CI40/CI29 -> #DIV/0!
