Workbook

Sheet ローラー
A1: お仕事No. | B1: 雇用形態 | C1: 派遣会社 | D1: 作業所名 | E1: 応募資格 | F1: URL | G1: 作業内容 | H1: 都道府県 | I1: 市区町村 | J1: 勤務形態 | K1: 月収例 | L1: 内訳 | M1: 残業手当 （日総・高木はH表記） | N1: 深夜手当 （日総は休出記載H表記） | O1: シフト | P1: 休日 | Q1: 長期休暇 | R1: 年間休日 | S1: 勤務時間備考 | T1: 法定内残業 (月平均※あくまで見込みとなります) | U1: 法定外残業 (月平均※あくまで見込みとなります) | V1: 開始 | W1: 終了 | X1: 公共交通機関での通勤 | Y1: 通勤手段 （車通勤可の場合は●・否は×の表記有） | Z1: 最寄駅 | AA1: 最寄駅からの距離 | AB1: その他 | AC1: PRポイント | AD1: 日払い制度 | AE1: 入寮可否 | AF1: 寮費負担 | AG1: 家族入寮 | AH1: 引っ越し費用 | AI1: カップル就業 | AJ1: 左記同ｼﾌﾄ | AK1: 寮費キャンペーンに関する備考 | AL1: 入社祝い金 | AM1: 入社祝金に関する備考 | AN1: その他キャンペーン | AO1: タトゥー | AP1: 外国籍 | AQ1: ﾌﾞﾙｰ・ｱﾙﾃｯｸ・新日本 枠 | AR1: 性別 | AS1: 年齢下限 | AT1: 年齢上限 （DPT・ｱﾙﾃｯｸ男） | AU1: 業務経験 | AV1: 職種経験 | AW1: 備考 | AX1: 性別 | AY1: 年齢下限 | AZ1: 年齢上限 （DPT・ｱﾙﾃｯｸ女） | BA1: 業務経験 | BB1: 職種経験 | BC1: 備考 | BD1: 口頭確認 | BE1: 経験ありの上限年齢 | BF1: 左記必要資格 | BG1: 男枠 | BH1: 女枠
A2: お仕事No. | B2: 雇用形態 | C2: N_一般案件 | D2: 現場名 | E2: 応募資格 | G2: 仕事内容詳細 | H2: 勤務地詳細 | J2: 勤務時間 | K2: 月収 | L2: 内訳 | P2: 休日 | Y2: 車通勤 | Z2: 最寄駅（駅） | AA2: 最寄駅（交通手段） | AC2: アピール | AE2: 外国籍可否 | AI2: カップル就業相談可 ※単身就業カップル入寮不可 | AP2: 家族寮相談可否 家族寮あり・事業所相談の記載がある場合は事前相談不要で面接時に相談 | AR2: 性別 | AS2: 年齢下限 | AT2: ※注意：年齢上限 ■年齢について ①本人年齢49歳までであれば、案件一覧の年齢上限に対して2歳オーバーまで相談不要 ②案件一覧の年齢上限に対して3歳オーバーは事前相談必要 ③本人年齢50歳以上54歳以下の場合は、事前相談必要（案件一覧の年齢上限に対し3歳オーバーまで） ④本人年齢55歳以上の場合相談不可 | BD2: 給与支払日
A3: 1A008 | B3: 派遣 | C3: N_一般案件 | D3: 函館エヌ・デー・ケー | E3: 経験不問 | G3: 携帯電話から情報を電波に乗せ正確に発信する役割（電波周波数を制御する機能）の水晶発信器・水晶振動子と、正確に受信する役割（電波周波数と選択する機能）の水晶フィルタ・SAWフィルタを製造・検査します。クリーンルーム内作業がメインとなります。 | H3: 北海道函館市鈴蘭丘町3-63 函館臨空工業団地 | J3: 8：00～16：50/20：00～翌4：50（交替制） | K3: 270000円以上可 | L3: 160Ｈ＋残業1500円×40Ｈ＋深夜300円×60Ｈ | P3: 4勤2休※職場カレンダーによる | Y3: ● | Z3: 函館駅 | AA3: 車25分 | AC3: 週払いOK！ワンルーム寮完備！男女ともに活躍中！有名製品に使われる精密部品の製造です！クリーンルーム内でのお仕事で、重量物も無く、簡単な作業から始めるので未経験の方でも安心です！マイカー通勤歓迎！広い駐車場があります！当社エリア社員登用制度あり！ | AE3: 外国籍NG | AI3: × | AP3: 事業所相談 | AR3: 男女 | AS3: 18 | AT3: 44 | BD3: 20日
A4: 1A045 | B4: 派遣 | C4: N_一般案件 | D4: 住鉱国富電子 | E4: 経験不問 | G4: 半導体（ウエハー）の製造オペレーター（機械による加工・研磨、及びそれらに関連する業務）。 | H4: 北海道岩内郡共和町国富351-1 | J4: 8：30～17：30/20：30～翌5：30（2交替） | K4: 282000円以上可 | L4: 168Ｈ＋残業1775円×15Ｈ＋深夜355円×50Ｈ | P4: 5勤2休※職場カレンダーによる | Y4: ● | Z4: 小沢駅 | AA4: 車5分 | AC4: 週払いOK！当社エリア社員登用制度あり！入社6ヶ月経過後に昇給あり、その後も一定期間毎に昇給します！寮完備（寮費・電気・ガス・水道合わせて5000円～10000円程度）！寮～工場間は徒歩3分内で通勤楽々です！幅広い年代の男性が活躍中！未経験者大歓迎♪長期勤務できる方大歓迎♪ | AE4: 外国籍NG | AI4: × | AP4: 家族寮なし | AR4: 男性 | AS4: 18 | AT4: 49 | BD4: 20日
A5: 1A151 | B5: 派遣 | C5: N_一般案件 | D5: 日本高圧コンクリート 栗山工場 | E5: 経験不問 | G5: コンクリート製造に関する補助作業・検査・加工など。 | H5: 北海道夕張郡栗山町錦4丁目3 | J5: 8：00～16：45（日勤） | K5: 197000円以上可 | L5: 月給190000円＋残業1520円×5Ｈ | P5: 土日休み※職場カレンダーによる | Y5: ● | Z5: 栗山駅 | AA5: 徒歩3分 | AC5: 当社エリア社員登用制度あり！入寮OK！寮費15000円（規定有）！寮から職場まで徒歩通勤可能です！人気の日勤・土日休み！未経験大歓迎♪幅広い年代の男性が多数活躍中！先輩方も近くにいるので初めてのお仕事でも安心です♪ | AE5: 外国籍NG | AI5: × | AP5: 家族寮なし | AR5: 男性 | AS5: 18 | AT5: 45 | BD5: 10日
A6: 1A296 | B6: 派遣 | C6: N_一般案件 | D6: いすゞエンジン製造北海道 | E6: 経験不問 | G6: エンジン部品の加工（エンジンへの各種部品の取付け・機械に部品をセットして加工を行うオペレーター・製品に不良が無いかの目視検査など）、鋳造（機械に部品をセットして鋳造を行うオペレーター・製品のバリなどを取り除き仕上げる作業・製品に不良が無いかの目視検査など）、再生作業（工具を使用してエンジンの分解・分解した部品の機械による研磨作業・製品の洗浄作業・製品の再塗装・エンジンの再組立作業・不具合等の検査・各種部品を部品棚から集めるピッキング作業）など。主に3つの工程（その他の可能性もあり）に配属、工程の中には部署が複数あります。 | H6: 北海道苫小牧市柏原1-4 | J6: ①7：00～15：45②18：30～翌3：15※①②2交替または①日勤（選択不可）※勤務時間帯は配属部署により異なります | K6: 295000円以上可 | L6: 月給200000円＋残業1538円×35Ｈ＋休出1538円×16Ｈ＋深夜308円×55Ｈ | P6: 5勤2休・4勤2休※配属部署による | Y6: ● | Z6: 沼ノ端駅 | AA6: 車10分 | AC6: 6月入社特典最大15万円（規定有）！寮費無料（規定有）！ミニボーナス年6回支給（規定有）！昇給・当社エリア社員登用制度あり！週払いOK！慰労金3ヶ月毎に5万円支給（規定有）！幅広い年代の男女が多数活躍中！月給制のためGW・お盆・年末年始など連休の増える時期も変動少なく安定収入！沼ノ端駅周辺に寮あり（送迎あり・車持込みOK）！スーパー・コンビニ・飲食店もあり生活には困りません！家族寮も相談OK♪札幌までJR一本で移動できてアクセスも良好です！エンジン、エンジン部品の製造業務です！マシンオペレーター・組立・鋳造・リビルト・検査などの部署に配属されます。日研スタッフ多数活躍中♪配属前に当社の技能センターで研修があり、未経験でも安心してスタートできます！安全に働くための座学研修や、配属先の作業内容に合わせた実技研修を行っています！ | AE6: 外国籍NG | AI6: × | AP6: 家族寮あり | AR6: 男女 | AS6: 18 | AT6: 40 | BD6: 20日
A7: 1A403 | B7: 派遣 | C7: N_一般案件 | D7: ニチレイフーズ 森工場 | E7: 経験不問 | G7: 冷凍食品の製造・加工、原料の搬送、製品の搬送・積込、その他製造に係る付随業務。 | H7: 北海道茅部郡森町字港町34 | J7: 3：30～12：00/15：45～翌0：00（交替制） | K7: 192000円以上可 | L7: 154.25Ｈ＋残業1380円×10Ｈ＋深夜276円×30Ｈ | P7: 日曜日、他※職場カレンダーによる | Y7: ● | Z7: 東森駅 | AA7: 徒歩10分 | AC7: 寮費無料（規定有）のワンルーム寮完備！週払いOK！主にマシンオペレーター業務で重量物はありません！事前に工場見学できるので安心です♪幅広い年代の男女活躍中！ | AE7: 外国籍NG | AI7: × | AP7: 事業所相談 | AR7: 男女 | AS7: 18 | AT7: 49 | BD7: 20日
A8: 2A013 | B8: 派遣 | C8: N_一般案件 | D8: ＴＤＫエレクトロニクスファクトリーズ 鶴岡東工場 | E8: 経験不問 | G8: 小さな電子部品のマシンオペレーター及び外観検査など。クリーンルーム内作業の配属もあります。 | H8: 山形県鶴岡市宝田1丁目14-38 | J8: ①8：30～20：40②20：30～翌8：40③8：30～17：00※①②2交替、③日勤は入社初日及び研修期間 | K8: 265000円以上可 | L8: 月給230000円＋休出1855円×10.34Ｈ＋深夜371円×45Ｈ | P8: 3勤3休※職場カレンダーによる | Y8: ● | Z8: 鶴岡駅 | AA8: 徒歩12分 | AC8: 寮費無料（規定有）！週払いOK！安定の月給制！軽作業！未経験の方でも出来る作業です！月半分はお休みでしっかり稼げる職場です！幅広い年代の男女が多数活躍しています！ | AE8: 外国籍NG | AI8: × | AP8: 家族寮なし | AR8: 男女 | AS8: 18 | AT8: 49 | BD8: 15日
A9: 2A014 | B9: 派遣 | C9: N_一般案件 | D9: ＴＤＫエレクトロニクスファクトリーズ 鶴岡東工場 | E9: 経験不問 | G9: 小さな電子部品のマシンオペレーター及び外観検査など。クリーンルーム内作業の配属もあります。 | H9: 山形県鶴岡市宝田1丁目14-38 | J9: ①8：30～20：40②20：30～翌8：40③8：30～17：00※①②2交替、③日勤は入社初日及び研修期間 | K9: 268000円以上可 | L9: 155Ｈ＋休出1875円×12.34Ｈ＋深夜375円×35Ｈ | P9: 3勤3休※職場カレンダーによる | Y9: ● | Z9: 鶴岡駅 | AA9: 徒歩12分 | AC9: 寮費無料（規定有）！週払いOK！高時給！軽作業！未経験の方でも出来る作業です！月半分はお休みでしっかり稼げる職場です！幅広い年代の男女が多数活躍しています！ | AE9: 外国籍NG | AI9: × | AP9: 家族寮なし | AR9: 男女 | AS9: 18 | AT9: 49 | BD9: 15日
A10: 2A074 | B10: 派遣 | C10: N_一般案件 | D10: ＩＪＴＴ 北上工場 | E10: 経験不問 | G10: 鉄製品製造に伴う溶解作業・注湯作業・加工・仕上げ。 | H10: 岩手県奥州市前沢古城字生姥沢105-10 | J10: 8：00～17：00/19：05～翌4：05（2交替）※他勤務帯もあり | K10: 252000円以上可 | L10: 160Ｈ＋残業1500円×20Ｈ＋休出1500円×8Ｈ＋深夜300円×60Ｈ | P10: 土日休み | Y10: ● | Z10: 陸中折居駅 | AA10: 車10分 | AC10: 【週払いOK】車持ち込みの方は寮の準備もOK！当社正社員登用制度もあり！男性活躍中の職場です！GW・夏季・冬期休暇もあります！ | AE10: 外国籍NG | AI10: × | AP10: 家族寮なし | AR10: 男性 | AS10: 18 | AT10: 40 | BD10: 20日
A11: 2A109 | B11: 派遣 | C11: N_一般案件 | D11: 岩手村田製作所 久慈工場 | E11: 経験不問 | G11: スマートフォンやテレビ・パソコンなどに組み込まれる水晶振動子の製造。人工水晶と言われる部品の機械加工や検査などになります。 | H11: 岩手県久慈市寺里28-38-35 | J11: ①8：30～17：00②8：30～18：45③20：30～翌6：45※入社1週間ほどは①日勤、以降は②③2交替 | K11: 302000円以上可 | L11: 162Ｈ＋残業1625円×36Ｈ＋休出1625円×9Ｈ＋深夜325円×56.25Ｈ | P11: 4勤2休※シフト制 | Y11: ● | Z11: 久慈駅 | AA11: 車10分 | AC11: 週払いOK！未経験の方も大歓迎♪半年毎に50円の昇給あり、最大時給1500円！車持込できる方は寮費無料（規定有）のアパートをご用意します！給与天引きで仕出し弁当の注文も可能！ | AE11: 外国籍NG | AI11: × | AP11: 家族寮なし | AR11: 男女 | AS11: 18 | AT11: 45 | BD11: 15日
A12: 2A306 | B12: 派遣 | C12: N_一般案件 | D12: アルプスアルパイン 平工場 | E12: 経験不問 | G12: クリーンルーム内での小型電子パネルの組立マシンオペレーター・検査。 | H12: 福島県いわき市好間町小谷作字作畑39-1 | J12: 8：20～17：00/16：40～翌1：10/0：50～8：45（3交替） | K12: 243000円以上可 | L12: 155Ｈ＋残業1625円×5Ｈ＋休出1625円×10Ｈ＋深夜325円×55Ｈ | P12: 土日休み※職場カレンダーによる | Y12: ● | Z12: いわき駅 | AA12: 車15分 | AC12: 【週払いOK】クリーンルームでのお仕事なので快適な環境です♪販売・事務など異業種から転職したスタッフが多く活躍しているアットホームな雰囲気の職場です！入寮の方はワンルーム寮完備！寮は生活に必要な家電など完備しています。周辺にはスーパー・コンビニがあり、車がなくても便利な場所で新生活スタートしませんか？残業も少なく、大型連休もありプライベートも充実！ | AE12: 外国籍NG | AI12: × | AP12: 通勤のみ | AR12: 男女 | AS12: 18 | AT12: 39 | BD12: 10日
A13: 2A760 | B13: 派遣 | C13: N_一般案件 | D13: 福島ニチアス | E13: 経験不問 | G13: 成形機という機械を使用したフッ素樹脂製品の加工・目視検査、拡大鏡検査など。3cm～30cm程度の小ぶりな製品を製造しています。 | H13: 福島県相馬郡新地町大字福田字北原275-1 | J13: 8：00～17：00/16：00～翌1：00/1：00～10：00（3交替）※他時間帯有り | K13: 237000円以上可 | L13: 160Ｈ＋残業1688円×5Ｈ＋深夜338円×40Ｈ | P13: 土日祝休み※職場カレンダーによる | Y13: ● | Z13: 坂元駅 | AA13: 車10分 | AC13: 寮費無料（規定有）のワンルーム寮完備！週払いOK！車通勤可能な方大歓迎！20代～40代の未経験者が多数活躍中！新しいキレイな工場です！空調完備で快適な作業環境！土日祝休み！ | AE13: 外国籍NG | AI13: × | AP13: 家族寮なし | AR13: 男性 | AS13: 20 | AT13: 45 | BD13: 20日
A14: 3A035 | B14: 派遣 | C14: N_一般案件 | D14: 吉野工業所 真岡工場 | E14: 経験不問 | G14: シャンプー等のボトルの検査です。ラインで流れてくる製品を手で取り、細かい傷や凹み等の外観を目視で検査します。クリーンルーム内での立ち作業です。 | H14: 栃木県真岡市松山町21-3 | J14: 7：00～15：15/15：00～23：15/23：00～翌7：15（3交替） | K14: 247000円以上可 | L14: 157.5Ｈ＋残業1625円×20Ｈ＋深夜325円×30Ｈ | P14: 土日休み※職場カレンダーによる | Y14: ● | Z14: 真岡駅 | AA14: 車10分 | AC14: 週払いOK！通勤交通費支給！入寮希望の方は快適なワンルームを寮費無料（規定有）でご案内します！幅広い年齢の男女スタッフが多数活躍中！シャンプー入れ物等のプラスチック製品を扱うクリーンルーム内での軽作業です！ | AE14: 外国籍NG | AI14: × | AP14: 事業所相談 | AR14: 男女 | AS14: 18 | AT14: 49 | BD14: 20日
... A156: NS0649 | B156: 正社員（無期雇用派遣） | C156: N_一般案件 | D156: 信越半導体 白河工場 | E156: 経験不問 | G156: 半導体製造装置の部品解体・清掃・測定・運搬業務。 | H156: 福島県西白河郡西郷村大字小田倉字大平150 | J156: 8：00～16：10/16：00～翌0：10/0：00～8：10（3交替） | K156: 248000円以上可 | L156: 月給220000円＋残業1786円×10Ｈ＋深夜358円×30Ｈ | P156: 4勤2休※職場カレンダーによる | Y156: ● | Z156: 新白河駅 | AA156: 車7分 | AC156: 当社の正社員として取引先企業で勤務するお仕事（無期雇用派遣）になります。入社前に3日間の研修があるので製造未経験者でも安心です♪自宅からマイカー通勤OK！入寮も可能です。今なら格安寮費13500円（規定有）で新生活スタートできます！大手半導体工場ですが、配属はツナギを着て機械を清掃するなどのお仕事なのでクリーンルームが苦手な方でも大丈夫です。職場は常に24℃に調整されているので快適な環境です。休み時間はメニュー豊富な食堂が利用可能です。安くて美味しいとスタッフの皆さんにも好評です♪固定月給なので安定した生活を手に入れるチャンスです！ | AE156: 外国籍NG | AI156: × | AP156: 家族寮なし | AR156: 男性 | AS156: 18 | AT156: 45 | BD156: 20日
A157: お仕事No. | B157: 雇用形態 | C157: N_通勤案件 | D157: 現場名 | E157: 応募資格 | G157: 送迎 | H157: 勤務地詳細 | J157: 勤務時間 | K157: 月収 | L157: 内訳 | P157: 休日 | Y157: 車通勤 | Z157: 最寄駅（駅） | AA157: 最寄駅（交通手段） | AC157: アピール | AI157: カップル就業相談可 | AP157: 外国籍可否 | AR157: 男女 | AS157: 年齢下限 | AT157: 年齢上限 | BD157: 給与支払日
A158: 1A016 | B158: 派遣 | C158: N_通勤案件 | D158: ワイディープラスチックス | E158: 経験不問 | G158: × | H158: 北海道北広島市共栄54-15 | J158: 8：00～16：00/16：00～翌0：00/0：00～8：00（3交替） | K158: 219000円以上可 | L158: 155.27Ｈ＋残業1625円×5Ｈ＋深夜325円×30Ｈ | P158: 4勤1休、他※職場カレンダーによる | Y158: ● | Z158: 北広島駅 | AA158: 車10分 | AC158: 週払いOK！当社エリア社員登用制度あり！20代～40代の男性が多数活躍中！長期勤務できる方歓迎♪ | AI158: × | AP158: 外国籍NG | AR158: 男性 | AS158: 20 | AT158: 45 | BD158: 20日
A159: 1A032 | B159: 派遣 | C159: N_通勤案件 | D159: カルビー 帯広工場 | E159: 経験不問 | G159: × | H159: 北海道帯広市別府町零号31-4 | J159: ①6：15～14：55②13：15～21：55③21：45～翌6：25④8：30～17：00※①②③3交替または固定勤務 | K159: 187000円以上可 | L159: 150Ｈ＋残業1450円×5Ｈ+深夜290円×20Ｈ | P159: 土日休み※職場カレンダーによる | Y159: ● | Z159: 帯広駅 | AA159: 車20分 | AC159: 新生活スタート応援！長期勤務できる方歓迎！3交替か固定勤務が選べて土日休み！週払いOK！未経験者歓迎！男女ともに多数活躍中の職場です！マイカー通勤OK！食堂あり！ラーメン、十勝名物の豚丼や、日替わり定食が270円で人気です！当社エリア社員登用制度あり！着替え手当290円/日あり（規定有）！ | AI159: × | AP159: 外国籍NG | AR159: 男女 | AS159: 18 | AT159: 59 | BD159: 当月末
A160: 1A061 | B160: 派遣 | C160: N_通勤案件 | D160: 北海道丸大食品 北海道工場 | E160: 経験不問 | G160: × | H160: 北海道岩見沢市栗沢町由良2-3 | J160: 8：00～17：00（日勤） | K160: 201000円以上可 | L160: 167.36Ｈ＋残業1400円×10Ｈ | P160: 水曜・日曜、他※職場カレンダーによる | Y160: ● | Z160: 志文駅 | AA160: 車5分 | AC160: 当社エリア社員登用制度あり！未経験大歓迎♪通勤交通費支給！調理が好きな方やモクモク作業が好きな方必見！人気の日勤＆食品製造のお仕事です！幅広い年代の男女が活躍中！ | AI160: × | AP160: 外国籍NG | AR160: 男女 | AS160: 18 | AT160: 55 | BD160: 10日
A161: 1A086 | B161: 派遣 | C161: N_通勤案件 | D161: 日本ハム惣菜 北海道工場 | E161: 経験不問 | G161: ● | H161: 北海道江別市工栄町11番地5 | J161: ①8：00～17：00②17：00～翌2：00※①日勤または②夜勤の固定勤務（選択可） | K161: 215000円以上可 | L161: 160Ｈ＋残業1563円×10Ｈ | P161: 土日祝休み※職場カレンダーによる | Y161: ● | Z161: 江別駅 | AA161: 車9分 | AC161: 週払いOK！当社エリア社員登用制度あり！幅広い年代の男女が活躍中！人気の土日祝休み！日勤・夜勤選択可能！未経験者大歓迎！クリーンルーム内作業なので、空調などの環境は整っています♪マイカー通勤できる方大歓迎♪ | AI161: × | AP161: 外国籍NG | AR161: 男女 | AS161: 18 | AT161: 50 | BD161: 当月末
A162: 1A134 | B162: 派遣 | C162: N_通勤案件 | D162: 愛知時計電機 北海道工場 | E162: 経験不問 | G162: × | H162: 北海道札幌市西区発寒11条12丁目2-52 | J162: 8：30～17：15（日勤） | K162: 201000円以上可 | L162: 月給190000円＋残業1473円×8Ｈ | P162: 土日休み※職場カレンダーによる | Y162: ● | Z162: 発寒駅 | AA162: 徒歩8分 | AC162: 当社エリア社員登用制度あり！20代～40代の男性が多数活躍中！マイカー、公共交通機関のどちらでも通勤OK！日勤・土日休みで働きやすい職場です♪ | AI162: × | AP162: 外国籍NG | AR162: 男性 | AS162: 18 | AT162: 40 | BD162: 20日
A163: 2A051 | B163: 派遣 | C163: N_通勤案件 | D163: 階上キユーピー | E163: 経験不問 | G163: × | H163: 青森県三戸郡階上町角柄折字新沼館9-159 | J163: ①5：00～13：30②13：30～22：00※①または②の固定勤務（選択可） | K163: 181000円以上可 | L163: 157.5Ｈ | P163: 土日休み※職場カレンダーによる | Y163: ● | Z163: 金浜駅 | AA163: 車10分 | AC163: 【週払いOK】年末までの期間限定のお仕事です！深夜を含まない固定勤務で土日休み！幅広い年齢層の男女が活躍している職場です！マイカー通勤OK！ | AI163: × | AP163: 外国籍NG | AR163: 男女 | AS163: 18 | AT163: 48 | BD163: 20日
A164: 2A055 | B164: 派遣 | C164: N_通勤案件 | D164: キユーピータマゴ 青森工場 | E164: 経験不問 | G164: × | H164: 青森県三戸郡階上町大字道仏字石渡窪1-11 | J164: 8：30～17：00（日勤） | K164: 196000円以上可 | L164: 165Ｈ＋残業1438円×5Ｈ | P164: シフト制※平日1日と日曜日休み | Y164: ● | Z164: 階上駅 | AA164: 車10分 | AC164: 20代～50代の女性活躍中！制服の貸与はもちろん、制服のクリーニングは工場側で行います！通勤交通費支給！未経験から始められます！ | AI164: × | AP164: 外国籍NG | AR164: 女性 | AS164: 18 | AT164: 55 | BD164: 20日
A165: 2A061 | B165: 派遣 | C165: N_通勤案件 | D165: 白銀鉄建工業 | E165: 要床上式クレーン・玉掛・アーク溶接・ガス溶接免許 | G165: × | H165: 青森県八戸市大久保大山45-1 | J165: 8：00～17：15（日勤） | K165: 258000円以上可 | L165: 173.8Ｈ＋残業1463円×22Ｈ＋休出1463円×15.5Ｈ | P165: 第2・4土曜日、日祝休み | Y165: ● | Z165: 種差海岸駅 | AA165: 車6分 | AC165: 【週払いOK】持っている資格を活かせる大チャンス！長期勤務可能な職場です♪ | AI165: × | AP165: 外国籍NG | AR165: 男性 | AS165: 18 | AT165: 45 | BD165: 20日
A166: 2A102 | B166: 派遣 | C166: N_通勤案件 | D166: エルナー | E166: 経験不問 | G166: × | H166: 青森県黒石市追子野木1-349-1 | J166: 8：30～16：55/16：30～翌0：55/0：30～8：55（3交替） | K166: 190000円以上可 | L166: 163.24Ｈ＋深夜275円×40Ｈ | P166: 5勤2休※シフト制 | Y166: ● | Z166: 田舎館駅 | AA166: 車10分 | AC166: 週払いOK！地元黒石で工場のお仕事しませんか？未経験の方でも大丈夫です！残業はほぼありません！無料駐車場あり！ | AI166: × | AP166: 外国籍NG | AR166: 男性 | AS166: 18 | AT166: 45 | BD166: 当月末
A167: 2A107 | B167: 派遣 | C167: N_通勤案件 | D167: ジェイテック | E167: パソコン入力できる方※高卒以上 | G167: ● | H167: 青森県上北郡六ヶ所村大字尾駮字弥栄平1番地108 | J167: ①7：45～16：35②15：45～翌0：35③8：30～17：20※研修期間中は③日勤、その後は①②2交替 | K167: 256000円以上可 | L167: 167.2272Ｈ＋残業1750円×7.84Ｈ＋深夜350円×25.83Ｈ | P167: 土日休み※7：45～16：35のみ6勤1休 | Y167: × | Z167: - | AA167: - | AC167: デスクワーク未経験でもパソコンの操作（入力や画像の取り込み、メールの送受信など）ができればOK！食堂もあり、格安で食べられます！通勤は基本送迎バスのみになります！バスは八戸市・三沢市・おいらせ町・野辺地町・十和田市・東北町・むつ市・六ヶ所村内から出ています。 | AI167: × | AP167: 外国籍NG | AR167: 女性 | AS167: 18 | AT167: 39 | BD167: 20日
A168: 2A112 | B168: 派遣 | C168: N_通勤案件 | D168: 秋田青木精機 本社工場 | E168: 経験不問 | G168: × | H168: 秋田県北秋田市上杉字金沢417-2 | J168: ①8：30～17：30②17：30～翌2：30③20：30～翌5：30※①②または①③の2交替、他勤務時間あり | K168: 292000円以上可 | L168: 160Ｈ＋残業1850円×20Ｈ＋深夜370円×50Ｈ | P168: 土日休み | Y168: ● | Z168: 鷹ノ巣駅 | AA168: 車5分 | AC168: 週払いOK！北秋田市で高時給のお仕事！未経験の方も大歓迎！男性活躍中の職場です！土日休みでGW・夏季・年末年始に長期休暇あり！ | AI168: × | AP168: 外国籍NG | AR168: 男性 | AS168: 18 | AT168: 45 | BD168: 10日
A169: 2A160 | B169: 派遣 | C169: N_通勤案件 | D169: エプソンアトミックス 本社 | E169: 経験不問 | G169: × | H169: 青森県八戸市大字河原木字海岸4-44 | J169: 8：30～16：45/16：30～翌0：45/0：30～8：45（3交替） | K169: 225000円以上可 | L169: 165Ｈ＋残業1550円×5Ｈ＋深夜310円×42Ｈ | P169: シフト制※職場カレンダーによる | Y169: ● | Z169: 本八戸駅 | AA169: 車15分 | AC169: 【週払いOK】地元八戸で働きませんか？入社後にはしっかり研修もあります♪作業の習熟に応じてフォークリフト免許の資格取得支援制度や昇給制度もあります♪長期勤務可能な職場です！ | AI169: × | AP169: 外国籍NG | AR169: 男性 | AS169: 18 | AT169: 40 | BD169: 20日
... A198: 4A545 | B198: 派遣 | C198: N_通勤案件 | D198: 東京ボード工業 埼玉工場（フォーク） | E198: 要フォークリフト免許 | G198: × | H198: 埼玉県八潮市浮塚100番地 | J198: 8：00～17：00（日勤） | K198: 252000円以上可 | L198: 168Ｈ | P198: 日曜日、ほか平日1日 | Y198: ● | Z198: 八潮駅 | AA198: 徒歩20分 | AC198: 週払いOK！高時給でガッチリ稼げます！配属前に職場見学を実施しているので安心です！男性が多数活躍中！フォークリフトの経験を活かしませんか！ | AI198: × | AP198: 外国籍NG | AR198: 男性 | AS198: 18 | AT198: 65 | BD198: 20日
A199: 4A580 | B199: 派遣 | C199: N_通勤案件 | D199: グリコマニュファクチャリングジャパン 北本工場 | E199: 経験不問 | G199: × | H199: 埼玉県北本市中丸9-55 | J199: 21：50～翌6：05（夜勤） | K199: 270000円以上可 | L199: 152.25Ｈ＋残業1625円×5Ｈ＋休出1625円×14.5Ｈ＋深夜325円×126Ｈ | P199: 土日休み※職場カレンダーによる | Y199: ● | Z199: 北本駅 | AA199: 車10分 | AC199: ★12月末までの期間限定★夜勤専属！大手食品メーカーでのお仕事です♪未経験の方でも大歓迎！男女ともに幅広い年代が活躍中！マイカー通勤OK！最寄駅の北本駅から自転車の無料貸出もあります！工場内に飲料・パン・おにぎり・カップ麺などの自販機あり！お弁当の持参もOKです（冷蔵庫・電子レンジあり）！工場見学ができるので作業内容が不安な方も安心です！ | AI199: ● | AP199: 外国籍OK | AR199: 男女 | AS199: 18 | AT199: 60（20240615） | BD199: 20日
A200: 4A601 | B200: 派遣 | C200: N_通勤案件 | D200: 大光 浦安センター | E200: 要フォークリフト免許（リーチフォーク実務経験者） | G200: ● | H200: 千葉県浦安市港78 | J200: ①5：00～14：00②15：00～翌0：00※他勤務シフト多数あり、時差出勤あり | K200: 287000円以上可 | L200: 170.5Ｈ＋残業1725円×30Ｈ | P200: 週2日（シフト制） | Y200: ● | Z200: 新浦安駅 | AA200: 車10分 | AC200: ★週払いOK★通勤交通費全額支給！リーチフォークの実務経験があればOK！経験を活かして長期安定で働けるお仕事です！20代～50代の幅広い年代が活躍中！ | AI200: × | AP200: 外国籍OK | AR200: 男性 | AS200: 18 | AT200: 55 | BD200: 20日
A201: 4A642 | B201: 派遣 | C201: N_通勤案件 | D201: ケイパック 本社 | E201: 経験不問 | G201: × | H201: 茨城県猿島郡五霞町大字元栗橋351 | J201: ①8：30～17：30②11：45～20：45③13：00～22：00※いずれかの固定勤務 | K201: 243000円以上可 | L201: 162Ｈ＋残業1625円×20Ｈ | P201: 土日祝休み※職場カレンダーによる | Y201: ● | Z201: 南栗橋駅 | AA201: 徒歩20分 | AC201: 50代活躍中！未経験スタートで幅広い年代が活躍している職場です！大手企業内でキレイな環境でのお仕事です！コンビニ等に置いてある小袋タイプのドレッシングを作ります。クリーンルーム内での軽作業です！長期勤務可能！定食が300円で食べられる食堂あり！他にもマッサージ機があるスペースや無料ドリンクなどの設備が整っています！通勤交通費支給！土日祝休みでプライベートも充実できます！ | AI201: × | AP201: 外国籍OK | AR201: 男女 | AS201: 18 | AT201: 55 | BD201: 当月末
A202: 4A679 | B202: 派遣 | C202: N_通勤案件 | D202: ＭＯＬＤＩＮＯ 成田工場 | E202: 経験不問 | G202: ● | H202: 千葉県成田市新泉13-2 | J202: 8：30～17：15/20：30～翌5：15（2交替） | K202: 247000円以上可 | L202: 158Ｈ＋残業1688円×10Ｈ＋深夜338円×50Ｈ | P202: 4勤2休 | Y202: ● | Z202: 成田駅 | AA202: 車20分 | AC202: 成田空港近く！成田駅より送迎バスあり楽々通勤！もちろんマイカー通勤もOK！未経験者でも大歓迎です♪ | AI202: × | AP202: 外国籍OK | AR202: 男性 | AS202: 18 | AT202: 55 | BD202: 20日
A203: 4A782 | B203: 派遣 | C203: N_通勤案件 | D203: 伊藤喜オールスチール | E203: 経験不問 | G203: ● | H203: 千葉県野田市尾崎2289 | J203: 8：25～17：15（日勤） | K203: 273000円以上可 | L203: 160Ｈ＋残業1750円×20Ｈ＋休出1750円×8Ｈ | P203: 土日休み | Y203: ● | Z203: 川間駅 | AA203: 送迎バス15分 | AC203: ★週払いOK★通勤交通費全額支給★人気の日勤・土日休みでプライベートが充実！時給1400円！川間駅より送迎バスあり！マイカー通勤もOK！♪単純作業なので未経験の方でも大歓迎です！ | AI203: × | AP203: 外国籍OK | AR203: 男性 | AS203: 18 | AT203: 45 | BD203: 20日
A204: 4A906 | B204: 派遣 | C204: N_通勤案件 | D204: 高輪ヂーゼル 岩槻事業所 | E204: 経験不問 | G204: ● | H204: 埼玉県さいたま市岩槻区3-7-13 | J204: 8：45～17：30（日勤） | K204: 240000円以上可 | L204: 160Ｈ＋残業1688円×10Ｈ＋休出1688円×8Ｈ | P204: 土日祝休み※職場カレンダーによる | Y204: × | Z204: 東岩槻駅 | AA204: 送迎バス10分 | AC204: ★週払いOK★人気の日勤・土日祝休み！東岩槻駅より送迎バスで10分！ | AI204: × | AP204: 外国籍OK | AR204: 男性 | AS204: 18 | AT204: 50 | BD204: 20日
A205: 4A1040 | B205: 派遣 | C205: N_通勤案件 | D205: ＲＧコンテナー 埼玉工場 | E205: 経験不問 | G205: × | H205: 埼玉県川口市八幡木2-32-1 | J205: 8：30～17：30/22：30～翌7：30（2交替） | K205: 276000円以上可 | L205: 168Ｈ＋残業1725円×15Ｈ＋深夜345円×55Ｈ | P205: 土日休み※職場カレンダーによる | Y205: × | Z205: 川口駅 | AA205: バス20分 | AC205: ★週払いOK★通勤交通費全額支給！入社前に職場見学を実施するので未経験の方でも安心です！男性が多数活躍中！難しい操作等なしのアシスタント業務なので安心♪ | AI205: × | AP205: 外国籍NG | AR205: 男性 | AS205: 18 | AT205: 45 | BD205: 20日
A206: 4A1168 | B206: 派遣 | C206: N_通勤案件 | D206: ＪＡＬエアテック 貨物事業部 | E206: 経験不問 | G206: × | H206: 千葉県成田市取香593-1 | J206: 8：00～16：40（日勤） | K206: 214000円以上可 | L206: 153.4Ｈ | P206: 土日休み | Y206: ● | Z206: 東成田駅 | AA206: 車10分 | AC206: ★週払いOK★通勤交通費全額支給★人気の日勤・土日休みでプライベートが充実！職場はアットホームで未経験でも丁寧な指導で安心！大手航空関連企業で就業できます！マイカー通勤OK！ | AI206: × | AP206: 外国籍NG | AR206: 男性 | AS206: 18 | AT206: 49 | BD206: 20日
A207: 4A1584 | B207: 派遣 | C207: N_通勤案件 | D207: 東京ボード工業 本社（フォーク） | E207: 要フォークリフト免許 | G207: × | H207: 東京都江東区新木場2丁目11番1号 | J207: 8：00～17：00/20：00～翌5：00（2交替） | K207: 349000円以上可 | L207: 168Ｈ＋残業1875円×40Ｈ＋深夜375円×60Ｈ | P207: 4勤2休 | Y207: × | Z207: 新木場駅 | AA207: 徒歩15分 | AC207: ★週払いOK★通勤交通費全額支給★月収30万円以上可！フォークリフトの実務経験が浅くてもご相談ください。フォークリフトを練習する機会もあります！ライン作業はありませんので、製造未経験の方にもはじめやすいお仕事です！20代～40代の男性活躍中！ | AI207: × | AP207: 外国籍NG | AR207: 男性 | AS207: 18 | AT207: 45 | BD207: 20日
A208: 4A1585 | B208: 派遣 | C208: N_通勤案件 | D208: 東京ボード工業 本社 | E208: 経験不問 | G208: × | H208: 東京都江東区新木場2丁目11番1号 | J208: 8：00～17：00/20：00～翌5：00（2交替） | K208: 326000円以上可 | L208: 168Ｈ＋残業1750円×40Ｈ＋深夜350円×60Ｈ | P208: 4勤2休 | Y208: × | Z208: 新木場駅 | AA208: 徒歩15分 | AC208: ★週払いOK★通勤交通費全額支給★月収30万円以上可！残業が多めで稼げます！ライン作業はありませんので、製造未経験の方にも始めやすいお仕事です！電車通勤も可能！20代～40代の男性活躍中！ | AI208: × | AP208: 外国籍NG | AR208: 男性 | AS208: 18 | AT208: 45 | BD208: 20日
A209: 4A1900 | B209: 派遣 | C209: N_通勤案件 | D209: 日鉄機能材製造 | E209: 経験不問 | G209: × | H209: 千葉県木更津市築地1 | J209: 7：00～15：00/15：00～23：00/23：00～翌7：00（3交替） | K209: 251000円以上可 | L209: 152.25Ｈ＋残業1750円×10Ｈ＋休出1750円×8Ｈ＋深夜350円×20Ｈ | P209: 5勤2休・5勤1休の組合せシフト | Y209: ● | Z209: 君津駅 | AA209: 車15分 | AC209: ★週払いOK★通勤交通費全額支給★軽作業なのに時給1400円！残業ほぼなくプライベートも充実！空調完備の快適環境！長期安定した勤務が可能です！20代～30代の男性活躍中！マイカー通勤OK！ | AI209: × | AP209: 外国籍NG | AR209: 男性 | AS209: 18 | AT209: 35 | BD209: 20日
...

Sheet map1
A1: 求人NO | B1: 勤務地 | C1: 派遣会社 | D1: 工場名 | E1: 勤務時間、形態 | F1: 性別 | G1: 月収例 | H1: 入寮 | I1: 寮費値段 | J1: 年齢 | K1: 男性 | L1: 女性 | M1: NMS総支給
A2: =ローラー!A2 -> お仕事No. | B2: =ローラー!H2 -> 勤務地詳細 | C2: =ローラー!C2 -> N_一般案件 | D2: =ローラー!D2 -> 現場名 | E2: =ローラー!J2 -> 勤務時間 | F2: =ローラー!AR2 -> 性別 | G2: =ローラー!K2 -> 月収 | H2: =ローラー!AE2 -> 外国籍可否 | I2: =ローラー!AF2 -> 0 | J2: =ローラー!AT2 -> ※注意：年齢上限 ■年齢について ①本人年齢49歳までであれば、案件一覧の年齢上限に対して2歳オーバーまで相談不要 ②案件一覧の年齢上限に対して3歳オーバーは事前相談必要 ③本人年齢50歳以上54歳以下の場合は、事前相談必要（案件一覧の年齢上限に対し3歳オーバーまで） ④本人年齢55歳以上の場合相談不可 | K2: =ローラー!BG2 -> 0 | L2: =ローラー!BH2 -> 0 | M2: ? | N2: =ローラー!G2 -> 仕事内容詳細
A3: =ローラー!A3 -> 1A008 | B3: =ローラー!H3 -> 北海道函館市鈴蘭丘町3-63 函館臨空工業団地 | C3: =ローラー!C3 -> N_一般案件 | D3: =ローラー!D3 -> 函館エヌ・デー・ケー | E3: =ローラー!J3 -> 8：00～16：50/20：00～翌4：50（交替制） | F3: =ローラー!AR3 -> 男女 | G3: =ローラー!K3 -> 270000円以上可 | H3: =ローラー!AE3 -> 外国籍NG | I3: =ローラー!AF3 -> 0 | J3: =ローラー!AT3 -> 44 | K3: =ローラー!BG3 -> 0 | L3: =ローラー!BH3 -> 0 | M3: ? | N3: =ローラー!G3 -> 携帯電話から情報を電波に乗せ正確に発信する役割（電波周波数を制御する機能）の水晶発信器・水晶振動子と、正確に受信する役割（電波周波数と選択する機能）の水晶フィルタ・SAWフィルタを製造・検査します。クリーンルーム内作業がメインとなります。
A4: =ローラー!A4 -> 1A045 | B4: =ローラー!H4 -> 北海道岩内郡共和町国富351-1 | C4: =ローラー!C4 -> N_一般案件 | D4: =ローラー!D4 -> 住鉱国富電子 | E4: =ローラー!J4 -> 8：30～17：30/20：30～翌5：30（2交替） | F4: =ローラー!AR4 -> 男性 | G4: =ローラー!K4 -> 282000円以上可 | H4: =ローラー!AE4 -> 外国籍NG | I4: =ローラー!AF4 -> 0 | J4: =ローラー!AT4 -> 49 | K4: =ローラー!BG4 -> 0 | L4: =ローラー!BH4 -> 0 | M4: ? | N4: =ローラー!G4 -> 半導体（ウエハー）の製造オペレーター（機械による加工・研磨、及びそれらに関連する業務）。
A5: =ローラー!A5 -> 1A151 | B5: =ローラー!H5 -> 北海道夕張郡栗山町錦4丁目3 | C5: =ローラー!C5 -> N_一般案件 | D5: =ローラー!D5 -> 日本高圧コンクリート 栗山工場 | E5: =ローラー!J5 -> 8：00～16：45（日勤） | F5: =ローラー!AR5 -> 男性 | G5: =ローラー!K5 -> 197000円以上可 | H5: =ローラー!AE5 -> 外国籍NG | I5: =ローラー!AF5 -> 0 | J5: =ローラー!AT5 -> 45 | K5: =ローラー!BG5 -> 0 | L5: =ローラー!BH5 -> 0 | M5: ? | N5: =ローラー!G5 -> コンクリート製造に関する補助作業・検査・加工など。
A6: =ローラー!A6 -> 1A296 | B6: =ローラー!H6 -> 北海道苫小牧市柏原1-4 | C6: =ローラー!C6 -> N_一般案件 | D6: =ローラー!D6 -> いすゞエンジン製造北海道 | E6: =ローラー!J6 -> ①7：00～15：45②18：30～翌3：15※①②2交替または①日勤（選択不可）※勤務時間帯は配属部署により異なります | F6: =ローラー!AR6 -> 男女 | G6: =ローラー!K6 -> 295000円以上可 | H6: =ローラー!AE6 -> 外国籍NG | I6: =ローラー!AF6 -> 0 | J6: =ローラー!AT6 -> 40 | K6: =ローラー!BG6 -> 0 | L6: =ローラー!BH6 -> 0 | M6: ? | N6: =ローラー!G6 -> エンジン部品の加工（エンジンへの各種部品の取付け・機械に部品をセットして加工を行うオペレーター・製品に不良が無いかの目視検査など）、鋳造（機械に部品をセットして鋳造を行うオペレーター・製品のバリなどを取り除き仕上げる作業・製品に不良が無いかの目視検査など）、再生作業（工具を使用してエンジンの分解・分解した部品の機械による研磨作業・製品の洗浄作業・製品の再塗装・エンジンの再組立作業・不具合等の検査・各種部品を部品棚から集めるピッキング作業）など。主に3つの工程（その他の可能性もあり）に配属、工程の中には部署が複数あります。
A7: =ローラー!A7 -> 1A403 | B7: =ローラー!H7 -> 北海道茅部郡森町字港町34 | C7: =ローラー!C7 -> N_一般案件 | D7: =ローラー!D7 -> ニチレイフーズ 森工場 | E7: =ローラー!J7 -> 3：30～12：00/15：45～翌0：00（交替制） | F7: =ローラー!AR7 -> 男女 | G7: =ローラー!K7 -> 192000円以上可 | H7: =ローラー!AE7 -> 外国籍NG | I7: =ローラー!AF7 -> 0 | J7: =ローラー!AT7 -> 49 | K7: =ローラー!BG7 -> 0 | L7: =ローラー!BH7 -> 0 | M7: ? | N7: =ローラー!G7 -> 冷凍食品の製造・加工、原料の搬送、製品の搬送・積込、その他製造に係る付随業務。
A8: =ローラー!A8 -> 2A013 | B8: =ローラー!H8 -> 山形県鶴岡市宝田1丁目14-38 | C8: =ローラー!C8 -> N_一般案件 | D8: =ローラー!D8 -> ＴＤＫエレクトロニクスファクトリーズ 鶴岡東工場 | E8: =ローラー!J8 -> ①8：30～20：40②20：30～翌8：40③8：30～17：00※①②2交替、③日勤は入社初日及び研修期間 | F8: =ローラー!AR8 -> 男女 | G8: =ローラー!K8 -> 265000円以上可 | H8: =ローラー!AE8 -> 外国籍NG | I8: =ローラー!AF8 -> 0 | J8: =ローラー!AT8 -> 49 | K8: =ローラー!BG8 -> 0 | L8: =ローラー!BH8 -> 0 | M8: ? | N8: =ローラー!G8 -> 小さな電子部品のマシンオペレーター及び外観検査など。クリーンルーム内作業の配属もあります。
A9: =ローラー!A9 -> 2A014 | B9: =ローラー!H9 -> 山形県鶴岡市宝田1丁目14-38 | C9: =ローラー!C9 -> N_一般案件 | D9: =ローラー!D9 -> ＴＤＫエレクトロニクスファクトリーズ 鶴岡東工場 | E9: =ローラー!J9 -> ①8：30～20：40②20：30～翌8：40③8：30～17：00※①②2交替、③日勤は入社初日及び研修期間 | F9: =ローラー!AR9 -> 男女 | G9: =ローラー!K9 -> 268000円以上可 | H9: =ローラー!AE9 -> 外国籍NG | I9: =ローラー!AF9 -> 0 | J9: =ローラー!AT9 -> 49 | K9: =ローラー!BG9 -> 0 | L9: =ローラー!BH9 -> 0 | M9: ? | N9: =ローラー!G9 -> 小さな電子部品のマシンオペレーター及び外観検査など。クリーンルーム内作業の配属もあります。
A10: =ローラー!A10 -> 2A074 | B10: =ローラー!H10 -> 岩手県奥州市前沢古城字生姥沢105-10 | C10: =ローラー!C10 -> N_一般案件 | D10: =ローラー!D10 -> ＩＪＴＴ 北上工場 | E10: =ローラー!J10 -> 8：00～17：00/19：05～翌4：05（2交替）※他勤務帯もあり | F10: =ローラー!AR10 -> 男性 | G10: =ローラー!K10 -> 252000円以上可 | H10: =ローラー!AE10 -> 外国籍NG | I10: =ローラー!AF10 -> 0 | J10: =ローラー!AT10 -> 40 | K10: =ローラー!BG10 -> 0 | L10: =ローラー!BH10 -> 0 | M10: ? | N10: =ローラー!G10 -> 鉄製品製造に伴う溶解作業・注湯作業・加工・仕上げ。
A11: =ローラー!A11 -> 2A109 | B11: =ローラー!H11 -> 岩手県久慈市寺里28-38-35 | C11: =ローラー!C11 -> N_一般案件 | D11: =ローラー!D11 -> 岩手村田製作所 久慈工場 | E11: =ローラー!J11 -> ①8：30～17：00②8：30～18：45③20：30～翌6：45※入社1週間ほどは①日勤、以降は②③2交替 | F11: =ローラー!AR11 -> 男女 | G11: =ローラー!K11 -> 302000円以上可 | H11: =ローラー!AE11 -> 外国籍NG | I11: =ローラー!AF11 -> 0 | J11: =ローラー!AT11 -> 45 | K11: =ローラー!BG11 -> 0 | L11: =ローラー!BH11 -> 0 | M11: ? | N11: =ローラー!G11 -> スマートフォンやテレビ・パソコンなどに組み込まれる水晶振動子の製造。人工水晶と言われる部品の機械加工や検査などになります。
A12: =ローラー!A12 -> 2A306 | B12: =ローラー!H12 -> 福島県いわき市好間町小谷作字作畑39-1 | C12: =ローラー!C12 -> N_一般案件 | D12: =ローラー!D12 -> アルプスアルパイン 平工場 | E12: =ローラー!J12 -> 8：20～17：00/16：40～翌1：10/0：50～8：45（3交替） | F12: =ローラー!AR12 -> 男女 | G12: =ローラー!K12 -> 243000円以上可 | H12: =ローラー!AE12 -> 外国籍NG | I12: =ローラー!AF12 -> 0 | J12: =ローラー!AT12 -> 39 | K12: =ローラー!BG12 -> 0 | L12: =ローラー!BH12 -> 0 | M12: ? | N12: =ローラー!G12 -> クリーンルーム内での小型電子パネルの組立マシンオペレーター・検査。
A13: =ローラー!A13 -> 2A760 | B13: =ローラー!H13 -> 福島県相馬郡新地町大字福田字北原275-1 | C13: =ローラー!C13 -> N_一般案件 | D13: =ローラー!D13 -> 福島ニチアス | E13: =ローラー!J13 -> 8：00～17：00/16：00～翌1：00/1：00～10：00（3交替）※他時間帯有り | F13: =ローラー!AR13 -> 男性 | G13: =ローラー!K13 -> 237000円以上可 | H13: =ローラー!AE13 -> 外国籍NG | I13: =ローラー!AF13 -> 0 | J13: =ローラー!AT13 -> 45 | K13: =ローラー!BG13 -> 0 | L13: =ローラー!BH13 -> 0 | M13: ? | N13: =ローラー!G13 -> 成形機という機械を使用したフッ素樹脂製品の加工・目視検査、拡大鏡検査など。3cm～30cm程度の小ぶりな製品を製造しています。
... A1999: =ローラー!A1999 -> 11302-02 | B1999: =ローラー!H1999 -> 徳島県板野郡松茂町豊久139番地32 | C1999: =ローラー!C1999 -> 【当月】アウトソーシング | D1999: =ローラー!D1999 -> パナソニックエナジー徳島 | E1999: =ローラー!J1999 -> 2交替 | F1999: =ローラー!AR1999 -> 男性のみ | G1999: =ローラー!K1999 -> 25万円程度 | H1999: =ローラー!AE1999 -> 個室寮 | I1999: =ローラー!AF1999 -> 無料 | J1999: =ローラー!AT1999 -> 40代迄 | K1999: =ローラー!BG1999 -> 0 | L1999: =ローラー!BH1999 -> 0 | M1999: ? | N1999: =ローラー!G1999 -> リチウムイオン電池の製造装置の操作・メンテナンス、電極部材の加工装置の操作・部材供給、次工程への電池（材料）の供給、製品の検査、作業数量等の書類記入・端末入力

Sheet map2
A1: 求人NO | B1: 勤務地 | C1: 派遣会社 | D1: 工場名 | E1: 勤務時間、形態 | F1: 性別 | G1: 月収例 | H1: 入寮 | I1: 寮費値段 | J1: 年齢 | K1: 男性 | L1: 女性 | M1: NMS総支給
A2: =ローラー!A2000 -> 12202-01 | B2: =ローラー!H2000 -> 愛媛県四国中央市三島紙屋町5番1号 | C2: =ローラー!C2000 -> 【当月】アウトソーシング | D2: =ローラー!D2000 -> エリエールペーパーテクノロジー | E2: =ローラー!J2000 -> 3勤1休（③③③休②②②休①①①休） | F2: =ローラー!AR2000 -> 男性のみ | G2: =ローラー!K2000 -> 25万円程度 | H2: =ローラー!AE2000 -> 集合寮 | I2: =ローラー!AF2000 -> 無料(企業寮・風呂･ﾄｲﾚ・洗濯機・乾燥機・電子ﾚﾝｼﾞは共有） | J2: =ローラー!AT2000 -> 40代迄 | K2: =ローラー!BG2000 -> 0 | L2: =ローラー!BH2000 -> 0 | M2: ? | N2: =ローラー!G2000 -> トイレットペーパー・ティッシュペーパー・キッチンペーパーなどの紙製品の機械オペレーター
A3: =ローラー!A2001 -> 0267-05 | B3: =ローラー!H2001 -> 広島県安佐北区安佐町大字久地3723-1 | C3: =ローラー!C2001 -> 【当月】アウトソーシング | D3: =ローラー!D2001 -> 西川ゴム 安佐工場(加工機のオペレーター) | E3: =ローラー!J2001 -> 2交替 | F3: =ローラー!AR2001 -> 男性のみ | G3: =ローラー!K2001 -> 27万円程度 | H3: =ローラー!AE2001 -> 個室寮 | I3: =ローラー!AF2001 -> - | J3: =ローラー!AT2001 -> 40歳迄 | K3: =ローラー!BG2001 -> 0 | L3: =ローラー!BH2001 -> 0 | M3: ? | N3: =ローラー!G2001 -> 自動車用ゴム製品を加工する機械のオペレーター ※機械に自動車用ゴム（ウェザーストリップ）をセットし、加工や成形する作業となります
A4: =ローラー!A2002 -> 0267-06 | B4: =ローラー!H2002 -> 広島県安佐北区安佐町大字久地3723-1 | C4: =ローラー!C2002 -> 【当月】アウトソーシング | D4: =ローラー!D2002 -> 西川ゴム 安佐工場(検査・仕上げ作業) | E4: =ローラー!J2002 -> 2交替 | F4: =ローラー!AR2002 -> 男性のみ | G4: =ローラー!K2002 -> 27万円程度 | H4: =ローラー!AE2002 -> 寮対応無 | I4: =ローラー!AF2002 -> - | J4: =ローラー!AT2002 -> 40歳迄 | K4: =ローラー!BG2002 -> 0 | L4: =ローラー!BH2002 -> 0 | M4: ? | N4: =ローラー!G2002 -> 自動車のドア・トランクなどに用いるウェザーストリップ（ゴム製の枠）製造 仕上げ工程（成型後の製品）バリ取り・クリップ取付・テープ貼りなど
A5: =ローラー!A2003 -> 11366-01 | B5: =ローラー!H2003 -> 広島県三原市沼田西町小原10200番地39 | C5: =ローラー!C2003 -> 【当月】アウトソーシング | D5: =ローラー!D2003 -> 西川ゴム工業 三原 | E5: =ローラー!J2003 -> 2交替 | F5: =ローラー!AR2003 -> 男性のみ | G5: =ローラー!K2003 -> 27万円程度 | H5: =ローラー!AE2003 -> 個室寮 | I5: =ローラー!AF2003 -> 実費 | J5: =ローラー!AT2003 -> 40歳迄 | K5: =ローラー!BG2003 -> 0 | L5: =ローラー!BH2003 -> 0 | M5: ? | N5: =ローラー!G2003 -> 自動車ゴム製品の仕上作業（ウェザーストリップ）※ドア、トランクなどの防水・防音用のｺﾞﾑ枠です。 ※機械にゴム製品をセットし、製品の仕上がりをチェックしていただく作業となります バリ取り、クリップ取付、テープ貼りなど
A6: =ローラー!A2004 -> 3377-02 | B6: =ローラー!H2004 -> 広島県呉市郷原町4010－1 | C6: =ローラー!C2004 -> 【当月】アウトソーシング | D6: =ローラー!D2004 -> ディスコ | E6: =ローラー!J2004 -> 日勤 （配属先により一部異なる勤務） | F6: =ローラー!AR2004 -> 男女可 （業務内容により異なる） ①男女不問 ②男女不問 ③男女不問 ④女性のみ ⑤男性のみ ⑥女性のみ | G6: =ローラー!K2004 -> 32万円程度 | H6: =ローラー!AE2004 -> 個室寮 | I6: =ローラー!AF2004 -> 無料 | J6: =ローラー!AT2004 -> 49歳迄（50代は経験により相談可） | K6: =ローラー!BG2004 -> 0 | L6: =ローラー!BH2004 -> 0 | M6: ? | N6: =ローラー!G2004 -> ASSY部品組立･装置一式組立･配線接続･装置調整 ①倉庫作業（フォーク資格必須）←充足 ②製造装置組立（組立経験必須）←充足 ③アルミフレーム生産業務←充足 ④電装生産業務←充足 ⑤機械加工（加工経験必須）←募集中 ⑥グラインディングホイール製造 （※就業時間異なる8:00～16:45）←充足
A7: =ローラー!A2005 -> 4793-02 | B7: =ローラー!H2005 -> 山口県山口市大字上小鯖2401番地 | C7: =ローラー!C2005 -> 【当月】アウトソーシング | D7: =ローラー!D2005 -> 南条装備工業 | E7: =ローラー!J2005 -> 2交替 | F7: =ローラー!AR2005 -> 男性のみ | G7: =ローラー!K2005 -> 28万円程度 | H7: =ローラー!AE2005 -> 個室寮 | I7: =ローラー!AF2005 -> 無料 ※車で40分程度かかります。 | J7: =ローラー!AT2005 -> 40代迄 | K7: =ローラー!BG2005 -> 0 | L7: =ローラー!BH2005 -> 0 | M7: ? | N7: =ローラー!G2005 -> ドアトリムの加工製造工程 マツダ車メインのドアトリムの部品の加工、検査等の業務となり 簡単な組み付け作業やマシンＯＰの業務を中心に行います。
A8: =ローラー!A2006 -> 3698-01 | B8: =ローラー!H2006 -> 山口県山口市朝田作田口1285 | C8: =ローラー!C2006 -> 【当月】アウトソーシング | D8: =ローラー!D2006 -> パナソニック インダストリアルソリューションズ山口 | E8: =ローラー!J2006 -> 4勤2休 ①②3班2交代制 | F8: =ローラー!AR2006 -> 男性のみ | G8: =ローラー!K2006 -> 32万円程度 | H8: =ローラー!AE2006 -> 個室寮 | I8: =ローラー!AF2006 -> 無料 | J8: =ローラー!AT2006 -> 40歳迄（40代後半相談可） | K8: =ローラー!BG2006 -> 0 | L8: =ローラー!BH2006 -> 0 | M8: ? | N8: =ローラー!G2006 -> 造装置のオペレーターおよび付随する業務材料供給や出来上がった製品の運搬 6/4～今回募集「運搬」のみになります（かなり歩き回ります）
A9: =ローラー!A2007 -> 1791-02 | B9: =ローラー!H2007 -> 山口県防府市浜方534-7 | C9: =ローラー!C2007 -> 【当月】アウトソーシング | D9: =ローラー!D2007 -> ダイキョーニシカワ中関 相談次第ですが、1週間以上前に入寮でも相談出来ます！ | E9: =ローラー!J2007 -> 2交替 ※入社後、習熟期間（約1ヶ月）日勤の可能性あり | F9: =ローラー!AR2007 -> 男女可 | G9: =ローラー!K2007 -> 29万円程度 | H9: =ローラー!AE2007 -> 個室寮 | I9: =ローラー!AF2007 -> 無料 | J9: =ローラー!AT2007 -> 18歳～49歳迄 （20代女性身長160㎝以上、40代前半男性が好ましい） | K9: =ローラー!BG2007 -> 0 | L9: =ローラー!BH2007 -> 0 | M9: ? | N9: =ローラー!G2007 -> 自動車内外装部品成形･組立・塗装・検査
A10: =ローラー!A2008 -> 12090-01 | B10: =ローラー!H2008 -> 山口県山口市佐山3-13 | C10: =ローラー!C2008 -> 【当月】アウトソーシング | D10: =ローラー!D2008 -> ヒロタニ | E10: =ローラー!J2008 -> 2交替 | F10: =ローラー!AR2008 -> 男性のみ | G10: =ローラー!K2008 -> 33万円程度 | H10: =ローラー!AE2008 -> 個室寮 | I10: =ローラー!AF2008 -> 無料 | J10: =ローラー!AT2008 -> 35歳迄 | K10: =ローラー!BG2008 -> 0 | L10: =ローラー!BH2008 -> 0 | M10: ? | N10: =ローラー!G2008 -> 自動車部品の製造 部品プレス成型・部品取り付け・検査業務
A11: =ローラー!A2009 -> 5167-01 | B11: =ローラー!H2009 -> 山口県下松市大字東豊井794 | C11: =ローラー!C2009 -> 【当月】アウトソーシング | D11: =ローラー!D2009 -> くまさんメディクス | E11: =ローラー!J2009 -> 日勤 | F11: =ローラー!AR2009 -> 男性のみ | G11: =ローラー!K2009 -> 26万円程度 | H11: =ローラー!AE2009 -> 個室寮 | I11: =ローラー!AF2009 -> 無料 | J11: =ローラー!AT2009 -> 40歳迄 | K11: =ローラー!BG2009 -> 0 | L11: =ローラー!BH2009 -> 0 | M11: ? | N11: =ローラー!G2009 -> 半導体製造装置の部品組立及び検査
A12: =ローラー!A2010 -> 50076-01 | B12: =ローラー!H2010 -> 福岡県京都郡苅田町新浜町1番地 | C12: =ローラー!C2010 -> 【当月】アウトソーシング | D12: =ローラー!D2010 -> 錦陵⼯業 | E12: =ローラー!J2010 -> 2交替 基本①と②の組み合わせの2交替、⽣産ラインによって③と④の組み合わせの場合有 | F12: =ローラー!AR2010 -> 男性のみ | G12: =ローラー!K2010 -> 28万円程度 | H12: =ローラー!AE2010 -> 個室寮 | I12: =ローラー!AF2010 -> 5割補助 | J12: =ローラー!AT2010 -> ・年齢39歳迄 ※35歳以上で製造未経験の方は都度お伺い | K12: =ローラー!BG2010 -> 0 | L12: =ローラー!BH2010 -> 0 | M12: ? | N12: =ローラー!G2010 -> ⾃動⾞部品（シート）製造
A13: =ローラー!A2011 -> 2125-01 | B13: =ローラー!H2011 -> 福岡県朝倉市平塚261-1 | C13: =ローラー!C2011 -> 【当月】アウトソーシング | D13: =ローラー!D2011 -> 明石機械工業 福岡工場 | E13: =ローラー!J2011 -> 2交替 | F13: =ローラー!AR2011 -> 男性のみ | G13: =ローラー!K2011 -> 28.9万円程度 | H13: =ローラー!AE2011 -> 個室寮 | I13: =ローラー!AF2011 -> 無料 | J13: =ローラー!AT2011 -> 39歳以下(40・41歳は1年以上の製造経験必須※出来れば直近) | K13: =ローラー!BG2011 -> 0 | L13: =ローラー!BH2011 -> 0 | M13: ? | N13: =ローラー!G2011 -> 駆動部品のミッションやステアリングの加⼯・組付の作業及び運搬
... A2002: =ローラー!A4000 -> 0 | B2002: =ローラー!H4000 -> 0 | C2002: =ローラー!C4000 -> 0 | D2002: =ローラー!D4000 -> 0 | E2002: =ローラー!J4000 -> 0 | F2002: =ローラー!AR4000 -> 0 | G2002: =ローラー!K4000 -> 0 | H2002: =ローラー!AE4000 -> 0 | I2002: =ローラー!AF4000 -> 0 | J2002: =ローラー!AT4000 -> 0 | K2002: =ローラー!BG4000 -> 0 | L2002: =ローラー!BH4000 -> 0 | M2002: ? | N2002: =ローラー!G4000 -> 0
