Workbook

Sheet 20220115
A1: お客様管理番号 半角英数字50文字 | B1: 送り状種類 半角数字1文字 0 : 発払い 2 : コレクト 3 : ＤＭ便 4 : タイム 5 : 着払い 7 : ネコポス 8 : 宅急便コンパクト 9 : 宅急便コンパクトコレクト (※宅急便_必須項目) (※ＤＭ便_必須項目) (※ネコポス_必須項目) | C1: クール区分 半角数字1文字 0または空白 : 通常 1 : クール冷凍 2 : クール冷蔵 | D1: 伝票番号 半角数字12文字 ※B2クラウドにて付与 | E1: 出荷予定日 半角10文字 ｢YYYY/MM/DD｣で入力してください。 (※宅急便_必須項目) (※ＤＭ便_必須項目) (※ネコポス_必須項目) | F1: お届け予定日 半角10文字 ｢YYYY/MM/DD｣で入力してください。 ※入力なしの場合、印字されません。 ※「最短日」と入力可 | G1: 配達時間帯 半角4文字 タイム、ＤＭ便以外 空白 : 指定なし 0812 : 午前中 1416 : 14～16時 1618 : 16～18時 1820 : 18～20時 1921 : 19～21時 タイム 0010 : 午前10時まで 0017 : 午後5時まで | H1: お届け先コード 半角英数字20文字 | I1: お届け先電話番号 半角数字15文字ハイフン含む (※宅急便_必須項目) (※ＤＭ便_必須項目) (※ネコポス_必須項目) | J1: お届け先電話番号枝番 半角数字2文字 | K1: お届け先郵便番号 半角数字8文字 ハイフンなし7文字も可 (※宅急便_必須項目) (※ＤＭ便_必須項目) (※ネコポス_必須項目) | L1: お届け先住所 全角/半角 都道府県（４文字） 市区郡町村（１２文字） 町・番地（１６文字） (※宅急便_必須項目) (※ＤＭ便_必須項目) (※ネコポス_必須項目) | M1: お届け先アパートマンション名 全角/半角 16文字/32文字 | N1: お届け先会社・部門１ 全角/半角 25文字/50文字 | O1: お届け先会社・部門２ 全角/半角 25文字/50文字 | P1: お届け先名 全角/半角 16文字/32文字 (※宅急便_必須項目) (※ＤＭ便_必須項目) (※ネコポス_必須項目) | Q1: お届け先名(ｶﾅ) 半角カタカナ 50文字 | R1: 敬称 全角/半角 2文字/4文字 ＤＭ便の場合に指定可能 【入力例】 様・御中・殿・行・係・宛・先生・なし | S1: ご依頼主コード 半角英数字 20文字 | T1: ご依頼主電話番号 半角数字15文字ハイフン含む (※宅急便_必須項目) (※ネコポス_必須項目) | U1: ご依頼主電話番号枝番 半角数字 2文字 | V1: ご依頼主郵便番号 半角数字8文字 ハイフンなし半角7文字も可 (※宅急便_必須項目) (※ネコポス_必須項目) | W1: ご依頼主住所 全角/半角32文字/64文字 都道府県（４文字） 市区郡町村（１２文字） 町・番地（１６文字） (※宅急便_必須項目) (※ネコポス_必須項目) | X1: ご依頼主アパートマンション 全角/半角 16文字/32文字 | Y1: ご依頼主名 全角/半角 16文字/32文字 (※宅急便_必須項目) (※ネコポス_必須項目) | Z1: ご依頼主名(ｶﾅ) 半角カタカナ 50文字 | AA1: 品名コード１ 半角英数字 30文字 | AB1: 品名１ 全角/半角 25文字/50文字 (※宅急便_必須項目) (※ネコポス_必須項目) | AC1: 品名コード２ 半角英数字 30文字 | AD1: 品名２ 全角/半角 25文字/50文字 | AE1: 荷扱い１ 全角/半角 10文字/20文字 | AF1: 荷扱い２ 全角/半角 10文字/20文字 | AG1: 記事 全角/半角 22文字/44文字 | AH1: ｺﾚｸﾄ代金引換額（税込) 半角数字 7文字 ※コレクトの場合は必須 300,000円以下 1円以上 ※但し、宅急便コンパクトコレクトの場合は 30,000円以下 1円以上 | AI1: 内消費税額等 半角数字 7文字 ※コレクトの場合は必須 ※コレクト代金引換額（税込)以下 | AJ1: 止置き 半角数字 1文字 0 : 利用しない 1 : 利用する | AK1: 営業所コード 半角数字 6文字 ※止置きを利用する場合は必須 | AL1: 発行枚数 半角数字 2文字 ※発払いのみ指定可能 | AM1: 個数口表示フラグ 半角数字 1文字 1 : 印字する 2 : 印字しない 3 : 枠と口数を印字する ※宅急便コンパクト、宅急便コンパクトコレクトは対象外 | AN1: 請求先顧客コード 半角数字12文字 (※宅急便_必須項目) (※ネコポス_必須項目) | AO1: 請求先分類コード 空白または半角数字3文字 | AP1: 運賃管理番号 半角数字2文字 (※宅急便_必須項目) (※ネコポス_必須項目) | AQ1: クロネコwebコレクトデータ登録 半角数字 1文字 0 : 無し 1 : 有り | AR1: クロネコwebコレクト加盟店番号 半角英数字 9文字 ※クロネコwebコレクトデータ有りの場合は必須 | AS1: クロネコwebコレクト申込受付番号１ 半角英数字 23文字 ※クロネコwebコレクトデータ有りの場合は必須 | AT1: クロネコwebコレクト申込受付番号２ 半角英数字 23文字 | AU1: クロネコwebコレクト申込受付番号３ 半角英数字 23文字 | AV1: お届け予定ｅメール利用区分 半角数字 1文字 0 : 利用しない 1 : 利用する | AW1: お届け予定ｅメールe-mailアドレス 半角英数字＆記号 60文字 ※お届け予定eメールを利用する場合は必須 | AX1: 入力機種 半角数字 1文字 1 : ＰＣ 2 : 携帯電話 ※お届け予定eメールを利用する場合は必須 | AY1: お届け予定ｅメールメッセージ 全角 74文字 ※お届け予定eメールを利用する場合は必須 | AZ1: お届け完了ｅメール利用区分 半角数字 1文字 0 : 利用しない 1 : 利用する | BA1: お届け完了ｅメールe-mailアドレス 半角英数字 60文字 ※お届け完了eメールを利用する場合は必須 | BB1: お届け完了ｅメールメッセージ 全角 159文字 ※お届け完了eメールを利用する場合は必須 | BC1: クロネコ収納代行利用区分 半角数字１文字 | BD1: 予備 半角数字１文字 | BE1: 収納代行請求金額(税込) 半角数字７文字 | BF1: 収納代行内消費税額等 半角数字７文字 | BG1: 収納代行請求先郵便番号 半角数字＆ハイフン8文字 | BH1: 収納代行請求先住所 全角/半角 32文字/64文字 都道府県（４文字） 市区郡町村（１２文字） 町・番地（１６文字）" | BI1: 収納代行請求先住所（アパートマンション名） 全角/半角 16文字/32文字 | BJ1: 収納代行請求先会社・部門名１ 全角/半角 25文字/50文字 | BK1: 収納代行請求先会社・部門名２ 全角/半角 25文字/50文字 | BL1: 収納代行請求先名(漢字) 全角/半角 16文字/32文字 | BM1: 収納代行請求先名(カナ) 半角カタカナ50文字 | BN1: 収納代行問合せ先名(漢字) 全角/半角 16文字/32文字 | BO1: 収納代行問合せ先郵便番号 半角数字＆ハイフン8文字 | BP1: 収納代行問合せ先住所 全角/半角 32文字/64文字 都道府県（４文字） 市区郡町村（１２文字） 町・番地（１６文字） | BQ1: 収納代行問合せ先住所（アパートマンション名） 全角/半角 16文字/32文字 | BR1: 収納代行問合せ先電話番号 半角数字＆ハイフン15文字 | BS1: 収納代行管理番号 半角英数字20文字 | BT1: 収納代行品名 全角/半角 25文字/50文字 | BU1: 収納代行備考 全角/半角 14文字/28文字 | BV1: 複数口くくりキー 半角英数字20文字 ※「出荷予定個数」が2以上で「個数口枠の印字」で 「3 : 枠と口数を印字する」を選択し、且つ「複数口くくりキー」が空白の場合は、送り状発行時に「B2」という文言を自動補完する。 | BW1: 検索キータイトル1 全角/半角 10文字/20文字 | BX1: 検索キー1 半角英数字 20文字 | BY1: 検索キータイトル2 全角/半角 10文字/20文字 | BZ1: 検索キー2 半角英数字 20文字 | CA1: 検索キータイトル3 全角/半角 10文字/20文字 | CB1: 検索キー3 半角英数字 20文字 | CC1: 検索キータイトル4 全角/半角 10文字/20文字 | CD1: 検索キー4 半角英数字 20文字 | CE1: 検索キータイトル5 ※入力時は不要。出力時に自動反映。 ※「ユーザーID」という文言を送り状発行時に固定で自動補完する。 | CF1: 検索キー5 ※入力時は不要。出力時に自動反映。 ※送り状発行時のユーザーIDを固定で自動補完する。 | CG1: 予備 | CH1: 予備 | CI1: 投函予定メール利用区分 半角数字 1文字 0 : 利用しない 1 : 利用する PC宛て 2 : 利用する モバイル宛て | CJ1: 投函予定メールe-mailアドレス 半角英数字＆記号 60文字 | CK1: 投函予定メールメッセージ 全角/半角 74文字/148文字 ※半角カタカナ及び半角スペースは使えません。 | CL1: 投函完了メール（お届け先宛）利用区分 半角数字 1文字 0 : 利用しない 1 : 利用する PC宛て 2 : 利用する モバイル宛て | CM1: 投函完了メール（お届け先宛）e-mailアドレス 半角英数字＆記号 60文字 | CN1: 投函完了メール（お届け先宛）メールメッセージ 全角/半角 159文字/318文字 ※半角カタカナ及び半角スペースは使えません。 | CO1: 投函完了メール（ご依頼主宛）利用区分 半角数字 1文字 0 : 利用しない 1 : 利用する PC宛て 2 : 利用する モバイル宛て | CP1: 投函完了メール（ご依頼主宛）e-mailアドレス 半角英数字＆記号 60文字 | CQ1: 投函完了メール（ご依頼主宛）メールメッセージ 全角/半角 159文字/318文字 ※半角カタカナ及び半角スペースは使えません。
B2: 7 | E2: 44925 | I2: =IF(貼り付け用!J2>0,"0"&貼り付け用!J2,"") | K2: =貼り付け用!W2 -> 500000 | L2: =貼り付け用!V2&貼り付け用!R2&貼り付け用!S2&貼り付け用!T2&貼り付け用!U2 -> 大阪府大阪区市ココナラ町1丁目27-14128 | P2: =貼り付け用!Q2 -> ココナラ | T2: 050-5875-5919 | V2: 556-0022 | W2: 大阪府大阪市浪速区塩草2-5-6 | Y2: TKストア | AB2: UR3 | AD2: =貼り付け用!M2 -> 1 | AN2: 090362808270 | AP2: 01
I98: =IF(貼り付け用!J114>0,"0"&貼り付け用!J114,"") | K98: =貼り付け用!W114 -> 0 | L98: =貼り付け用!V114&貼り付け用!R114&貼り付け用!S114&貼り付け用!T114&貼り付け用!U114 | P98: =貼り付け用!Q114 -> 0 | AB98: =貼り付け用!L114 -> 0 | AD98: =貼り付け用!M114 -> 0
I99: =IF(貼り付け用!J115>0,"0"&貼り付け用!J115,"") | K99: =貼り付け用!W115 -> 0 | L99: =貼り付け用!V115&貼り付け用!R115&貼り付け用!S115&貼り付け用!T115&貼り付け用!U115 | P99: =貼り付け用!Q115 -> 0 | AB99: =貼り付け用!L115 -> 0 | AD99: =貼り付け用!M115 -> 0
I100: =IF(貼り付け用!J116>0,"0"&貼り付け用!J116,"") | K100: =貼り付け用!W116 -> 0 | L100: =貼り付け用!V116&貼り付け用!R116&貼り付け用!S116&貼り付け用!T116&貼り付け用!U116 | P100: =貼り付け用!Q116 -> 0 | AB100: =貼り付け用!L116 -> 0 | AD100: =貼り付け用!M116 -> 0
I101: =IF(貼り付け用!J117>0,"0"&貼り付け用!J117,"") | K101: =貼り付け用!W117 -> 0 | L101: =貼り付け用!V117&貼り付け用!R117&貼り付け用!S117&貼り付け用!T117&貼り付け用!U117 | P101: =貼り付け用!Q117 -> 0 | AB101: =貼り付け用!L117 -> 0 | AD101: =貼り付け用!M117 -> 0
I102: =IF(貼り付け用!J118>0,"0"&貼り付け用!J118,"") | K102: =貼り付け用!W118 -> 0 | L102: =貼り付け用!V118&貼り付け用!R118&貼り付け用!S118&貼り付け用!T118&貼り付け用!U118 | P102: =貼り付け用!Q118 -> 0 | AB102: =貼り付け用!L118 -> 0 | AD102: =貼り付け用!M118 -> 0
I103: =IF(貼り付け用!J119>0,"0"&貼り付け用!J119,"") | K103: =貼り付け用!W119 -> 0 | L103: =貼り付け用!V119&貼り付け用!R119&貼り付け用!S119&貼り付け用!T119&貼り付け用!U119 | P103: =貼り付け用!Q119 -> 0 | AB103: =貼り付け用!L119 -> 0 | AD103: =貼り付け用!M119 -> 0
I104: =IF(貼り付け用!J120>0,"0"&貼り付け用!J120,"") | K104: =貼り付け用!W120 -> 0 | L104: =貼り付け用!V120&貼り付け用!R120&貼り付け用!S120&貼り付け用!T120&貼り付け用!U120 | P104: =貼り付け用!Q120 -> 0 | AB104: =貼り付け用!L120 -> 0 | AD104: =貼り付け用!M120 -> 0
I105: =IF(貼り付け用!J121>0,"0"&貼り付け用!J121,"") | K105: =貼り付け用!W121 -> 0 | L105: =貼り付け用!V121&貼り付け用!R121&貼り付け用!S121&貼り付け用!T121&貼り付け用!U121 | P105: =貼り付け用!Q121 -> 0 | AB105: =貼り付け用!L121 -> 0 | AD105: =貼り付け用!M121 -> 0
I106: =IF(貼り付け用!J122>0,"0"&貼り付け用!J122,"") | K106: =貼り付け用!W122 -> 0 | L106: =貼り付け用!V122&貼り付け用!R122&貼り付け用!S122&貼り付け用!T122&貼り付け用!U122 | P106: =貼り付け用!Q122 -> 0 | AB106: =貼り付け用!L122 -> 0 | AD106: =貼り付け用!M122 -> 0
I107: =IF(貼り付け用!J123>0,"0"&貼り付け用!J123,"") | K107: =貼り付け用!W123 -> 0 | L107: =貼り付け用!V123&貼り付け用!R123&貼り付け用!S123&貼り付け用!T123&貼り付け用!U123 | P107: =貼り付け用!Q123 -> 0 | AB107: =貼り付け用!L123 -> 0 | AD107: =貼り付け用!M123 -> 0
I108: =IF(貼り付け用!J124>0,"0"&貼り付け用!J124,"") | K108: =貼り付け用!W124 -> 0 | L108: =貼り付け用!V124&貼り付け用!R124&貼り付け用!S124&貼り付け用!T124&貼り付け用!U124 | P108: =貼り付け用!Q124 -> 0 | AB108: =貼り付け用!L124 -> 0 | AD108: =貼り付け用!M124 -> 0
I109: =IF(貼り付け用!J125>0,"0"&貼り付け用!J125,"") | K109: =貼り付け用!W125 -> 0 | L109: =貼り付け用!V125&貼り付け用!R125&貼り付け用!S125&貼り付け用!T125&貼り付け用!U125 | P109: =貼り付け用!Q125 -> 0 | AB109: =貼り付け用!L125 -> 0 | AD109: =貼り付け用!M125 -> 0
... I984: =IF(貼り付け用!J1000>0,"0"&貼り付け用!J1000,"") | K984: =貼り付け用!W1000 -> 0 | L984: =貼り付け用!V1000&貼り付け用!R1000&貼り付け用!S1000&貼り付け用!T1000&貼り付け用!U1000 | P984: =貼り付け用!Q1000 -> 0 | AB984: =貼り付け用!L1000 -> 0 | AD984: =貼り付け用!M1000 -> 0

Sheet 貼り付け用
A1: order-id | B1: order-item-id | C1: purchase-date | D1: payments-date | E1: reporting-date | F1: promise-date | G1: days-past-promise | H1: buyer-email | I1: buyer-name | J1: buyer-phone-number | K1: sku | L1: product-name | M1: quantity-purchased | N1: quantity-shipped | O1: quantity-to-ship | P1: ship-service-level | Q1: recipient-name | R1: ship-address-1 | S1: ship-address-2 | T1: ship-address-3 | U1: ship-city | V1: ship-state | W1: ship-postal-code | X1: ship-country
M2: 1 | N2: 0 | O2: 1 | P2: Standard | Q2: ココナラ | R2: 大阪区市ココナラ町 | S2: 1丁目27-14128 | V2: 大阪府 | W2: 500000 | X2: JP
